{"text_format":"1","workbook":"xlsx","n_sheets":38,"sheets":["Cover","Version control","Model map","Index","Named ranges","CDCM timebands","CIRP_Instructions","CIRP_User control","Table 1 - Detailed","Table 1 - Delta from previous","Table 2 - Sensitivities","CIRP_Inputs by customer type","CIRP_Inputs by network level","CIRP_General inputs","Fixed inputs","Inputs by customer type","Inputs by network level","General inputs","Standing charge factors","Load & loss characteristics","Customer contributions","Volume adjustments","Pseudo-load coefficients","System peak demand","Service model assets","Unit costs","Initial unit rates","Service model charges","Unit rate charges","Capacity charges","Reactive power charges","Fixed charges","SoLR & bad debt adders","Revenue matching","Rounding","Net revenue summary","Tariff summary","Typical bills"],"not_rendered":{"charts":0,"images":3,"macros":1,"external_links":0,"defined_names":88,"comments":0,"pivot_tables":0},"unopened":[],"bounds":{"document_bytes":16777216,"sheet_cells":100000,"rows_first":2000,"rows_last":500,"rows_between":2000,"halvings":0,"cell_chars":16384,"cell_head_chars":4096},"cells_cut":0,"cells_raw":0,"read":"whole","date_system":"1900"}

{"sheet":"Cover","index":0,"n_rows":49,"n_cols":4,"rows_kept":49,"cut":false,"hidden":false,"merged":[]}
[]
[null,null,null,"Cost Information Review Pack (CIRP)"]
[]
[null,null,null,"Release for 2027/28 charge setting"]
[]
[null,{"$f":"'Version control'!F7","v":"Model date:"},null,{"$f":"'Version control'!H7","v":"2025-11-06"}]
[]
[null,{"$f":"'Version control'!F9","v":"Development stage:"},null,{"$f":"'Version control'!H9","v":"Release for charge setting"}]
[]
[null,{"$f":"'Version control'!F11","v":"Model number:"},null,{"$f":"'Version control'!H11","v":1}]
[]
[null,{"$f":"'Version control'!F13","v":"DCUSA text version:"},null,{"$f":"'Version control'!H13","v":"Attachment A_DCUSA Charging Methodologies Pre-Release for 2027-28 (shared on 08/10/2025)"}]
[]
[null,{"$f":"'Version control'!F15","v":"DCUSA text schedule:"},null,{"$f":"'Version control'!H15","v":"Schedules 16 & 20"}]
[]
[null,"DISCLAIMER",null,"Neither the authors nor Cambridge Economic Policy Associates/TNEI accept or assume any responsibility or duty of care to any third party."]
[null,null,null,"© All rights reserved by Cambridge Economic Policy Associates Ltd (CEPA) and TNEI Services Ltd (TNEI)."]
[]
[null,"Latest published charges:",null,"2027/28"]
[]
[null,"CIRP submission date:",null,"2026-01-01"]
[]
[null,"DNO name:",null,"SP Distribution"]
[]
[null,"Data version:",null,"V1"]
[]
[null,"Notes:"]
[]
[null,"Key:"]
[null,"Format",null,"Description"]
[null,null,null,"Cell intentionally blank"]
[null,"Value",null,"Hardcoded input"]
[null,"Value",null,"User input"]
[null,"Value",null,"Model output"]
[null,"Value",null,"Calculation"]
[null,"Value",null,"Value from another worksheet"]
[null,"Value",null,"Value used on another worksheet"]
[null,"Value",null,"Issue identified in a check"]
[null,"Text",null,"Label"]
[null,"Text",null,"Annotation"]
[null,"Text",null,"Column heading"]
[null,"Text",null,"Level 1 heading"]
[null,"Text",null,"Level 2 heading"]
[null,"Text",null,"Level 3 and 4 heading"]
[null,"Sheet tab colour",null,"Information sheet"]
[null,"Sheet tab colour",null,"User control sheet"]
[null,"Sheet tab colour",null,"Input sheet"]
[null,"Sheet tab colour",null,"Calculation sheet"]
[null,"Sheet tab colour",null,"Output sheet"]

{"sheet":"Version control","index":1,"n_rows":73,"n_cols":12,"rows_kept":73,"cut":false,"hidden":false,"merged":[]}
[{"$f":"MID(CELL(\"filename\",A1),FIND(\"]\",CELL(\"filename\",A1))+1,255)","v":"Version control"}]
[{"$f":"Cover!D23 & \" - \" & TEXT(CIRP_submission_date, \"mmm\") & \"-\" & RIGHT(YEAR(CIRP_submission_date), 2) & \" - \" & Cover!D25","v":"SP Distribution - Jan-26 - V1"}]
[{"$f":"Cover!D2&\" - \"&Cover!D8&\" v\"&Cover!D10&\" - \"&Cover!D19","v":"Cost Information Review Pack (CIRP) - Release for charge setting v1 - 2027/28"}]
[{"$f":"J56 & IF(J56 = 1, \" issue\", \" issues\") &\" identified in checks on this sheet\"","v":"0 issues identified in checks on this sheet"}]
[null,"Model version"]
[]
[null,null,null,null,null,"Model date:",null,{"$f":"LOOKUP(2,1/(F20:F22<>\"\"),F20:F22)","v":"2025-11-06"}]
[]
[null,null,null,null,null,"Development stage:",null,{"$f":"LOOKUP(2,1/(G20:G22<>\"\"),G20:G22)","v":"Release for charge setting"}]
[]
[null,null,null,null,null,"Model number:",null,{"$f":"LOOKUP(2,1/(H20:H22<>\"\"),H20:H22)","v":1}]
[]
[null,null,null,null,null,"DCUSA text version:",null,{"$f":"LOOKUP(2,1/(I20:I22<>\"\"),I20:I22)","v":"Attachment A_DCUSA Charging Methodologies Pre-Release for 2027-28 (shared on 08/10/2025)"}]
[]
[null,null,null,null,null,"DCUSA text schedule:",null,{"$f":"LOOKUP(2,1/(J20:J22<>\"\"),J20:J22)","v":"Schedules 16 & 20"}]
[]
[null,"Version log"]
[]
[null,null,null,null,null,"Model date","Development stage","Model number","DCUSA text version","DCUSA text schedule","Author","Description of changes"]
[null,null,null,null,null,"2025-11-06","Release for charge setting",1,"Attachment A_DCUSA Charging Methodologies Pre-Release for 2027-28 (shared on 08/10/2025)","Schedules 16 & 20","CEPA-TNEI","Introduction of the \"Cost information reporting pack\" (CIRP) to replace previous requirement for DNOs to publish \"Cost Information Template\" (CIT) and \"Annual Review Pack\" (ARP) separately. "]
[]
[]
[null,"Model checks"]
[]
[null,null,null,null,"Issues identified by in-built model checks, by sheet"]
[null,null,null,null,null,"Table 1 - Detailed",null,"Cost information tables","number of issues",{"$f":"'Table 1 - Detailed'!H121","v":0}]
[null,null,null,null,null,"Table 1 - Delta from previous",null,"Cost information tables","number of issues",{"$f":"'Table 1 - Delta from previous'!H123","v":0}]
[null,null,null,null,null,"Table 2 - Sensitivities",null,"Cost information tables","number of issues",{"$f":"'Table 2 - Sensitivities'!H128","v":0}]
[null,null,null,null,null,{"$f":"\"CIRP_\"&F33","v":"CIRP_Inputs by customer type"},null,"Input 501","number of issues",{"$f":"'CIRP_Inputs by customer type'!$H$1994","v":0}]
[null,null,null,null,null,{"$f":"\"CIRP_\"&F34","v":"CIRP_Inputs by network level"},null,"Input 502","number of issues",{"$f":"'CIRP_Inputs by network level'!$H$218","v":0}]
[null,null,null,null,null,{"$f":"\"CIRP_\"&F35","v":"CIRP_General inputs"},null,"Input 503","number of issues",{"$f":"'CIRP_General inputs'!$H$123","v":0}]
[null,null,null,null,null,"Fixed inputs",null,"Input 504","number of issues",{"$f":"'Fixed inputs'!H201","v":0}]
[null,null,null,null,null,"Inputs by customer type",null,"Section 501","number of issues",{"$f":"'Inputs by customer type'!H216","v":0}]
[null,null,null,null,null,"Inputs by network level",null,"Section 502","number of issues",{"$f":"'General inputs'!H122","v":0}]
[null,null,null,null,null,"General inputs",null,"Section 503","number of issues",{"$f":"'General inputs'!H122","v":0}]
[null,null,null,null,null,"Standing Charge Factors",null,"Section 504","number of issues",{"$f":"'Standing charge factors'!H58","v":0}]
[null,null,null,null,null,"Load & loss characteristics",null,"Section 505","number of issues",{"$f":"'Load & loss characteristics'!H183","v":0}]
[null,null,null,null,null,"Customer contributions",null,"Section 506","number of issues",{"$f":"'Customer contributions'!H70","v":0}]
[null,null,null,null,null,"Volume adjustments",null,"Section 507","number of issues",{"$f":"'Volume adjustments'!H693","v":0}]
[null,null,null,null,null,"Pseudo-load coefficients",null,"Section 508","number of issues",{"$f":"'Pseudo-load coefficients'!H306","v":0}]
[null,null,null,null,null,"System peak demand",null,"Section 509","number of issues",{"$f":"'System peak demand'!H281","v":0}]
[null,null,null,null,null,"Service model assets",null,"Section 510","number of issues",{"$f":"'Service model assets'!H38","v":0}]
[null,null,null,null,null,"Unit costs",null,"Section 511","number of issues",{"$f":"'Unit costs'!H131","v":0}]
[null,null,null,null,null,"Initial unit rates",null,"Section 512","number of issues",{"$f":"'Initial unit rates'!H241","v":0}]
[null,null,null,null,null,"Service model charges",null,"Section 513","number of issues",{"$f":"'Service model charges'!H48","v":0}]
[null,null,null,null,null,"Unit rate charges",null,"Section 514","number of issues",{"$f":"'Unit rate charges'!H223","v":0}]
[null,null,null,null,null,"Capacity charges",null,"Section 515","number of issues",{"$f":"'Capacity charges'!H295","v":0}]
[null,null,null,null,null,"Reactive power charges",null,"Section 516","number of issues",{"$f":"'Reactive power charges'!H254","v":0}]
[null,null,null,null,null,"Fixed charges",null,"Section 517","number of issues",{"$f":"'Fixed charges'!H165","v":0}]
[null,null,null,null,null,"SoLR & bad debt adders",null,"Section 518","number of issues",{"$f":"'SoLR & bad debt adders'!H66","v":0}]
[null,null,null,null,null,"Revenue matching",null,"Section 519","number of issues",{"$f":"'Revenue matching'!H432","v":0}]
[null,null,null,null,null,"Rounding",null,"Section 520","number of issues",{"$f":"Rounding!H178","v":0}]
[null,null,null,null,null,"Net revenue summary",null,"Section 521","number of issues",{"$f":"'Net revenue summary'!H146","v":0}]
[null,null,null,null,null,"Tariff summary",null,"Output 501","number of issues",{"$f":"'Tariff summary'!H442","v":0}]
[null,null,null,null,null,"Typical bills",null,"Output 502","number of issues",{"$f":"'Typical bills'!H126","v":0}]
[null,null,null,null,null,"Total",null,null,"number of issues",{"$f":"IFERROR(SUM(J29:J55), 1)","v":0}]
[]
[null,"Version log lists"]
[]
[null,null,null,null,null,"Development stages"]
[null,null,null,null,null,"Working draft"]
[null,null,null,null,null,"Interim release"]
[null,null,null,null,null,"Pre-release"]
[null,null,null,null,null,"Release for charge setting"]
[]
[]
[]
[]
[]
[]
[null,null,null,null,null,"…"]
[]
[null,"End of sheet"]

{"sheet":"Model map","index":2,"n_rows":64,"n_cols":2,"rows_kept":64,"cut":false,"hidden":false,"merged":[]}
[{"$f":"MID(CELL(\"filename\",A1),FIND(\"]\",CELL(\"filename\",A1))+1,255)","v":"Model map"}]
[{"$f":"Cover!D23 & \" - \" & TEXT(CIRP_submission_date, \"mmm\") & \"-\" & RIGHT(YEAR(CIRP_submission_date), 2) & \" - \" & Cover!D25","v":"SP Distribution - Jan-26 - V1"}]
[{"$f":"Cover!D2&\" - \"&Cover!D8&\" v\"&Cover!D10&\" - \"&Cover!D19","v":"Cost Information Review Pack (CIRP) - Release for charge setting v1 - 2027/28"}]
[]
[null,"Model map"]
[]
[]
[]
[]
[]
[]
[]
[]
[]
[]
[]
[]
[]
[]
[]
[]
[]
[]
[]
[]
[]
[]
[]
[]
[]
[]
[]
[]
[]
[]
[]
[]
[]
[]
[]
[]
[]
[]
[]
[]
[]
[]
[]
[]
[]
[]
[]
[]
[]
[]
[]
[]
[]
[]
[]
[]
[]
[]
[null,"End of sheet"]

{"sheet":"Index","index":3,"n_rows":287,"n_cols":7,"rows_kept":287,"cut":false,"hidden":false,"merged":[]}
[{"$f":"MID(CELL(\"filename\",A1),FIND(\"]\",CELL(\"filename\",A1))+1,255)","v":"Index"}]
[{"$f":"Cover!D23 & \" - \" & TEXT(CIRP_submission_date, \"mmm\") & \"-\" & RIGHT(YEAR(CIRP_submission_date), 2) & \" - \" & Cover!D25","v":"SP Distribution - Jan-26 - V1"}]
[{"$f":"Cover!D2&\" - \"&Cover!D8&\" v\"&Cover!D10&\" - \"&Cover!D19","v":"Cost Information Review Pack (CIRP) - Release for charge setting v1 - 2027/28"}]
[]
[null,"Description"]
[]
[null,null,"This sheet contains links to each sheet of the model and the main sections within them."]
[null,null,"It also contains links to more granular sections within the sheets for inputs, calculations and outputs."]
[]
[null,"Index of sheets and main sections"]
[]
[null,null,"The following table provides links to all the sheets within this model and the main sections within them."]
[]
[null,null,null,null,null,"Sheet","Section"]
[null,null,null,null,null,"Cover"]
[null,null,null,null,null,"Version control",{"$f":"'Version control'!$B$5","v":"Model version"}]
[null,null,null,null,null,"",{"$f":"'Version control'!$B$17","v":"Version log"}]
[null,null,null,null,null,"",{"$f":"'Version control'!$B$23","v":"Model checks"}]
[null,null,null,null,null,"",{"$f":"'Version control'!$B$58","v":"Version log lists"}]
[null,null,null,null,null,"Model map",{"$f":"'Model map'!$B$5","v":"Model map"}]
[null,null,null,null,null,"Named ranges",{"$f":"'Named ranges'!$B$5","v":"List of named ranges"}]
[null,null,null,null,null,"CDCM timebands",{"$f":"'CDCM timebands'!$B$12","v":"CDCM timebands"}]
[null,null,null,null,null,"CIRP_Instructions",{"$f":"CIRP_Instructions!$B$9","v":"Commentary"}]
[null,null,null,null,null,"CIRP_User control",{"$f":"'CIRP_User control'!$B$12","v":"User interface"}]
[null,null,null,null,null,"Table 1 - Detailed",{"$f":"'Table 1 - Detailed'!$B$14","v":"Table 1 - Detailed"}]
[null,null,null,null,null,"Table 1 - Delta from previous",{"$f":"'Table 1 - Delta from previous'!$B$16","v":"Table 1 - Delta from previous"}]
[null,null,null,null,null,"Table 2 - Sensitivities",{"$f":"'Table 2 - Sensitivities'!$B$13","v":"Table 2 - Sensitivities"}]
[null,null,null,null,null,"",{"$f":"'Table 2 - Sensitivities'!$B$101","v":"Summary of Table 2 - Sensitivities"}]
[null,null,null,null,null,"CIRP_Inputs by customer type",{"$f":"'CIRP_Inputs by customer type'!$B$14","v":"Load characteristics"}]
[null,null,null,null,null,"",{"$f":"'CIRP_Inputs by customer type'!$B$56","v":"Volumes"}]
[null,null,null,null,null,"",{"$f":"'CIRP_Inputs by customer type'!$B$1998","v":"Non-Domestic Aggregated (Related MPAN) distribution by bands"}]
[null,null,null,null,null,"",{"$f":"'CIRP_Inputs by customer type'!$B$2072","v":"Service model asset values"}]
[null,null,null,null,null,"CIRP_Inputs by network level",{"$f":"'CIRP_Inputs by network level'!$B$14","v":"Inputs by network level"}]
[null,null,null,null,null,"CIRP_General inputs",{"$f":"'CIRP_General inputs'!$B$14","v":"General inputs"}]
[null,null,null,null,null,"Fixed inputs",{"$f":"'Fixed inputs'!$B$11","v":"Fixed inputs"}]
[null,null,null,null,null,"Inputs by customer type",{"$f":"'Inputs by customer type'!$B$14","v":"Inputs by customer type"}]
[null,null,null,null,null,"Inputs by network level",{"$f":"'Inputs by network level'!$B$14","v":"Inputs by network level"}]
[null,null,null,null,null,"General inputs",{"$f":"'General inputs'!$B$14","v":"General inputs"}]
[null,null,null,null,null,"Standing charge factors",{"$f":"'Standing charge factors'!$B$17","v":"Adjustments to standing charges"}]
[null,null,null,null,null,"Load & loss characteristics",{"$f":"'Load & loss characteristics'!$B$13","v":"Load and loss characteristics"}]
[null,null,null,null,null,"",{"$f":"'Load & loss characteristics'!$B$31","v":"User loss factor adjustments"}]
[null,null,null,null,null,"Customer contributions",{"$f":"'Customer contributions'!$B$12","v":"Customer contributions"}]
[null,null,null,null,null,"Volume adjustments",{"$f":"'Volume adjustments'!$B$13","v":"LDNO discounts"}]
[null,null,null,null,null,"",{"$f":"'Volume adjustments'!$B$51","v":"Volume discounting"}]
[null,null,null,null,null,"",{"$f":"'Volume adjustments'!$B$310","v":"Volume discounting for revenue matching"}]
[null,null,null,null,null,"Pseudo-load coefficients",{"$f":"'Pseudo-load coefficients'!$B$13","v":"Step 1: Ratio of coincidence to load factor assuming units evenly spread within time bands, and peak falls in Red period"}]
[null,null,null,null,null,"",{"$f":"'Pseudo-load coefficients'!$B$56","v":"Step 2: Calculate correction factor"}]
[null,null,null,null,null,"",{"$f":"'Pseudo-load coefficients'!$B$95","v":"Step 3: Ratio of coincidence factor (to network asset peak) to load factor, given peaking probabilities, multiplied by correction factor"}]
[null,null,null,null,null,"",{"$f":"'Pseudo-load coefficients'!$B$261","v":"Step 4: Results of Step 3"}]
[null,null,null,null,null,"System peak demand",{"$f":"'System peak demand'!$B$16","v":"Common inputs for chargeable load calculations"}]
[null,null,null,null,null,"",{"$f":"'System peak demand'!$B$63","v":"Load at system peak charged to unit rates"}]
[null,null,null,null,null,"",{"$f":"'System peak demand'!$B$179","v":"Load at system peak charged to standing charges"}]
[null,null,null,null,null,"",{"$f":"'System peak demand'!$B$262","v":"System peak based on chargeable load"}]
[null,null,null,null,null,"Service model assets",{"$f":"'Service model assets'!$B$12","v":"Service model notional asset values"}]
[null,null,null,null,null,"Unit costs",{"$f":"'Unit costs'!$B$15","v":"500MW model costs"}]
[null,null,null,null,null,"",{"$f":"'Unit costs'!$B$58","v":"Allocation of other costs"}]
[null,null,null,null,null,"",{"$f":"'Unit costs'!$B$102","v":"Outputs"}]
[null,null,null,null,null,"Initial unit rates",{"$f":"'Initial unit rates'!$B$11","v":"Inputs for yardstick and unit rate calculations"}]
[null,null,null,null,null,"",{"$f":"'Initial unit rates'!$B$116","v":"Calculation of yardstick & unit rate charges"}]
[null,null,null,null,null,"Service model charges",{"$f":"'Service model charges'!$B$13","v":"Inputs to service model charge calculation"}]
[null,null,null,null,null,"",{"$f":"'Service model charges'!$B$29","v":"Allocation of service model costs"}]
[null,null,null,null,null,"Unit rate charges",{"$f":"'Unit rate charges'!$B$15","v":"Inputs to unit rate charge calculations"}]
[null,null,null,null,null,"",{"$f":"'Unit rate charges'!$B$122","v":"Application of standing charges to unit rates"}]
[null,null,null,null,null,"Capacity charges",{"$f":"'Capacity charges'!$B$17","v":"Inputs to capacity charge calculations"}]
[null,null,null,null,null,"",{"$f":"'Capacity charges'!$B$125","v":"Calculation of capacity charges"}]
[null,null,null,null,null,"",{"$f":"'Capacity charges'!$B$249","v":"Capacity charges (and elements allocated to fixed charges)"}]
[null,null,null,null,null,"Reactive power charges",{"$f":"'Reactive power charges'!$B$13","v":"Inputs to reactive power charge calculations"}]
[null,null,null,null,null,"",{"$f":"'Reactive power charges'!$B$150","v":"Calculation of yardstick charges for generation"}]
[null,null,null,null,null,"",{"$f":"'Reactive power charges'!$B$185","v":"Calculation of reactive power charges"}]
[null,null,null,null,null,"Fixed charges",{"$f":"'Fixed charges'!$B$14","v":"Inputs to fixed charge calculations"}]
[null,null,null,null,null,"",{"$f":"'Fixed charges'!$B$65","v":"Calculation of fixed charges"}]
[null,null,null,null,null,"SoLR & bad debt adders",{"$f":"'SoLR & bad debt adders'!$B$12","v":"Fixed tariff adjustments"}]
[null,null,null,null,null,"Revenue matching",{"$f":"'Revenue matching'!$B$13","v":"Pre-matching net revenue calculations"}]
[null,null,null,null,null,"",{"$f":"'Revenue matching'!$B$86","v":"Residual charge calculation"}]
[null,null,null,null,null,"",{"$f":"'Revenue matching'!$B$209","v":"Adjustments for negative fixed charges"}]
[null,null,null,null,null,"",{"$f":"'Revenue matching'!$B$407","v":"Final adders"}]
[null,null,null,null,null,"Rounding",{"$f":"Rounding!$B$12","v":"Inputs"}]
[null,null,null,null,null,"",{"$f":"Rounding!$B$103","v":"Rounding of tariff forecast"}]
[null,null,null,null,null,"Net revenue summary",{"$f":"'Net revenue summary'!$B$11","v":"Inputs to net revenue summary calculation"}]
[null,null,null,null,null,"",{"$f":"'Net revenue summary'!$B$90","v":"Typical bills"}]
[null,null,null,null,null,"Tariff summary",{"$f":"'Tariff summary'!$B$13","v":"Disclaimer"}]
[null,null,null,null,null,"",{"$f":"'Tariff summary'!$B$22","v":"Tariff summary"}]
[null,null,null,null,null,"Typical bills",{"$f":"'Typical bills'!$B$13","v":"Disclaimer"}]
[null,null,null,null,null,"",{"$f":"'Typical bills'!$B$18","v":"Typical bills"}]
[]
[null,"Index of inputs, calculation sections and outputs"]
[]
[null,null,"The following table provides links to each input, calculation and output section. Each has a unique identifier for ease of reference."]
[]
[null,null,null,null,null,"Sheet","Section"]
[null,null,null,null,null,"CDCM timebands",{"$f":"'CDCM timebands'!$C$14","v":"Distribution time bands"}]
[null,null,null,null,null,"",{"$f":"'CDCM timebands'!$C$26","v":"Special distribution time bands"}]
[null,null,null,null,null,"CIRP_User control",{"$f":"'CIRP_User control'!$C$14","v":"CIRP submission date"}]
[null,null,null,null,null,"",{"$f":"'CIRP_User control'!$C$34","v":"Macro to run all years"}]
[null,null,null,null,null,"",{"$f":"'CIRP_User control'!$C$47","v":"Macros to hide or unhide sheets"}]
[null,null,null,null,null,"Table 2 - Sensitivities",{"$f":"'Table 2 - Sensitivities'!$C$15","v":"Part A - Impact of Variances in Calculated Revenue (£m 20/21 prices) in future years"}]
[null,null,null,null,null,"",{"$f":"'Table 2 - Sensitivities'!$C$66","v":"Part B - Impact of Variances in Calculated Revenue (%) in future years"}]
[null,null,null,null,null,"",{"$f":"'Table 2 - Sensitivities'!$C$86","v":"Part C - Impact of Variances in Recovered Revenue (%) in future years"}]
[null,null,null,null,null,"CIRP_Inputs by customer type",{"$f":"'CIRP_Inputs by customer type'!$C$16","v":"Input 501-A: Load factor"}]
[null,null,null,null,null,"",{"$f":"'CIRP_Inputs by customer type'!$C$36","v":"Input 501-B: Coincidence factor"}]
[null,null,null,null,null,"",{"$f":"'CIRP_Inputs by customer type'!$C$58","v":"Input 501-C: All-the-way volumes - No residual"}]
[null,null,null,null,null,"",{"$f":"'CIRP_Inputs by customer type'!$C$186","v":"Input 501-D: All-the-way volumes - Residual Band 1"}]
[null,null,null,null,null,"",{"$f":"'CIRP_Inputs by customer type'!$C$314","v":"Input 501-E: All-the-way volumes - Residual Band 2"}]
[null,null,null,null,null,"",{"$f":"'CIRP_Inputs by customer type'!$C$442","v":"Input 501-F: All-the-way volumes - Residual Band 3"}]
[null,null,null,null,null,"",{"$f":"'CIRP_Inputs by customer type'!$C$570","v":"Input 501-G: All-the-way volumes - Residual Band 4"}]
[null,null,null,null,null,"",{"$f":"'CIRP_Inputs by customer type'!$C$698","v":"Input 501-H: LDNO LV volumes - No residual"}]
[null,null,null,null,null,"",{"$f":"'CIRP_Inputs by customer type'!$C$826","v":"Input 501-I: LDNO LV volumes - Residual band 1"}]
[null,null,null,null,null,"",{"$f":"'CIRP_Inputs by customer type'!$C$954","v":"Input 501-J: LDNO LV volumes - Residual band 2"}]
[null,null,null,null,null,"",{"$f":"'CIRP_Inputs by customer type'!$C$1082","v":"Input 501-K: LDNO LV volumes - Residual band 3"}]
[null,null,null,null,null,"",{"$f":"'CIRP_Inputs by customer type'!$C$1210","v":"Input 501-L: LDNO LV volumes - Residual band 4"}]
[null,null,null,null,null,"",{"$f":"'CIRP_Inputs by customer type'!$C$1338","v":"Input 501-M: LDNO HV volumes - No residual"}]
[null,null,null,null,null,"",{"$f":"'CIRP_Inputs by customer type'!$C$1466","v":"Input 501-N: LDNO HV volumes - Residual band 1"}]
[null,null,null,null,null,"",{"$f":"'CIRP_Inputs by customer type'!$C$1594","v":"Input 501-O: LDNO HV volumes - Residual band 2"}]
[null,null,null,null,null,"",{"$f":"'CIRP_Inputs by customer type'!$C$1722","v":"Input 501-P: LDNO HV volumes - Residual band 3"}]
[null,null,null,null,null,"",{"$f":"'CIRP_Inputs by customer type'!$C$1850","v":"Input 501-Q: LDNO HV volumes - Residual band 4"}]
[null,null,null,null,null,"",{"$f":"'CIRP_Inputs by customer type'!$C$1978","v":"Input 501-R: 'Designated Property' MPANs with EDCM-level LDNO boundaries"}]
[null,null,null,null,null,"",{"$f":"'CIRP_Inputs by customer type'!$C$2003","v":"Input 501-S: All the way non-domestic aggregated (related MPAN) distribution by bands"}]
[null,null,null,null,null,"",{"$f":"'CIRP_Inputs by customer type'!$C$2026","v":"Input 501-T: LDNO LV non-domestic aggregated (related MPAN) distribution by bands"}]
[null,null,null,null,null,"",{"$f":"'CIRP_Inputs by customer type'!$C$2049","v":"Input 501-U: LDNO HV non-domestic aggregated (related MPAN) distribution by bands"}]
[null,null,null,null,null,"",{"$f":"'CIRP_Inputs by customer type'!$C$2076","v":"Input 501-V: LV customer service model asset values"}]
[null,null,null,null,null,"",{"$f":"'CIRP_Inputs by customer type'!$C$2096","v":"Input 501-W: HV customer service model asset values"}]
[null,null,null,null,null,"",{"$f":"'CIRP_Inputs by customer type'!$C$2116","v":"Input 501-X: LV UMS customer service model asset values"}]
[null,null,null,null,null,"CIRP_Inputs by network level",{"$f":"'CIRP_Inputs by network level'!$C$16","v":"Input 502-A: Diversity allowance between top and bottom of network level"}]
[null,null,null,null,null,"",{"$f":"'CIRP_Inputs by network level'!$C$30","v":"Input 502-B: Proportion of EHV/HV load going through 132kV/HV direct transformation"}]
[null,null,null,null,null,"",{"$f":"'CIRP_Inputs by network level'!$C$44","v":"Input 502-C: Loss adjustment factors to transmission"}]
[null,null,null,null,null,"",{"$f":"'CIRP_Inputs by network level'!$C$58","v":"Input 502-D: Average kVAr by kVA, by network level"}]
[null,null,null,null,null,"",{"$f":"'CIRP_Inputs by network level'!$C$72","v":"Input 502-E: Customer contributions under current connection charging policy"}]
[null,null,null,null,null,"",{"$f":"'CIRP_Inputs by network level'!$C$120","v":"Input 502-F: Gross asset cost by network level"}]
[null,null,null,null,null,"",{"$f":"'CIRP_Inputs by network level'!$C$134","v":"Input 502-G: Peaking probabilities, by timeband & network level"}]
[null,null,null,null,null,"CIRP_General inputs",{"$f":"'CIRP_General inputs'!$C$16","v":"Input 503-A: Split of hours by distribution timeband"}]
[null,null,null,null,null,"",{"$f":"'CIRP_General inputs'!$C$28","v":"Input 503-B: Embedded network (LDNO) discount percentages"}]
[null,null,null,null,null,"",{"$f":"'CIRP_General inputs'!$C$38","v":"Input 503-C: CDCM target revenue"}]
[null,null,null,null,null,"",{"$f":"'CIRP_General inputs'!$C$97","v":"Input 503-D: Financial and general assumptions"}]
[null,null,null,null,null,"",{"$f":"'CIRP_General inputs'!$C$102","v":"Input 503-E: Transmission exit charges"}]
[null,null,null,null,null,"",{"$f":"'CIRP_General inputs'!$C$106","v":0}]
[null,null,null,null,null,"Fixed inputs",{"$f":"'Fixed inputs'!$C$13","v":"Input 504-A: Conversions and time"}]
[null,null,null,null,null,"",{"$f":"'Fixed inputs'!$C$25","v":"Input 504-B: Input 101-B: Rounding"}]
[null,null,null,null,null,"",{"$f":"'Fixed inputs'!$C$38","v":"Input 504-C: Financial and general assumptions"}]
[null,null,null,null,null,"",{"$f":"'Fixed inputs'!$C$48","v":"Input 504-D: Mappings"}]
[null,null,null,null,null,"",{"$f":"'Fixed inputs'!$C$89","v":"Input 504-E: Standing charge factors"}]
[null,null,null,null,null,"",{"$f":"'Fixed inputs'!$C$104","v":"Input 504-F: Flags"}]
[null,null,null,null,null,"",{"$f":"'Fixed inputs'!$C$146","v":"Input 504-G: Identifiers for customer groupings"}]
[null,null,null,null,null,"",{"$f":"'Fixed inputs'!$C$156","v":"Input 504-H: Decimal places for error checks"}]
[null,null,null,null,null,"",{"$f":"'Fixed inputs'!$C$160","v":"Input 504-I: Map of applicable MPANs"}]
[null,null,null,null,null,"",{"$f":"'Fixed inputs'!$C$166","v":"Input 504-J: Revenue matching inputs"}]
[null,null,null,null,null,"Inputs by customer type",{"$f":"'Inputs by customer type'!$C$16","v":"Section 501-A: Load characteristics"}]
[null,null,null,null,null,"",{"$f":"'Inputs by customer type'!$C$21","v":"Section 501-B: Volume forecasts for the charging year"}]
[null,null,null,null,null,"",{"$f":"'Inputs by customer type'!$C$166","v":"Section 501-C: Non-Domestic Aggregated (Related MPAN) distribution by bands"}]
[null,null,null,null,null,"",{"$f":"'Inputs by customer type'!$C$186","v":"Section 501-D: Service model asset values"}]
[null,null,null,null,null,"Inputs by network level",{"$f":"'Inputs by network level'!$C$16","v":"Section 502-A: Network and load inputs"}]
[null,null,null,null,null,"",{"$f":"'Inputs by network level'!$C$26","v":"Section 502-B: Customer contributions under current connection charging policy"}]
[null,null,null,null,null,"",{"$f":"'Inputs by network level'!$C$34","v":"Section 502-C: DRM asset costs"}]
[null,null,null,null,null,"",{"$f":"'Inputs by network level'!$C$38","v":"Section 502-D: Peaking probabilities by network level"}]
[null,null,null,null,null,"General inputs",{"$f":"'General inputs'!$C$16","v":"Section 503-A: Inputs by distribution timeband"}]
[null,null,null,null,null,"",{"$f":"'General inputs'!$C$28","v":"Section 503-B: LDNO discount inputs"}]
[null,null,null,null,null,"",{"$f":"'General inputs'!$C$38","v":"Section 503-C: CDCM target revenue"}]
[null,null,null,null,null,"",{"$f":"'General inputs'!$C$97","v":"Section 503-D: Financial and general assumptions"}]
[null,null,null,null,null,"",{"$f":"'General inputs'!$C$103","v":"Section 503-E: Transmission exit charges"}]
[null,null,null,null,null,"",{"$f":"'General inputs'!$C$107","v":"Section 503-F: Other expenditure"}]
[null,null,null,null,null,"Standing charge factors",{"$f":"'Standing charge factors'!$C$19","v":"Section 504-A: Adjustments to standing charges"}]
[null,null,null,null,null,"Load & loss characteristics",{"$f":"'Load & loss characteristics'!$C$17","v":"Section 505-A: Load characteristics"}]
[null,null,null,null,null,"",{"$f":"'Load & loss characteristics'!$C$25","v":"Section 505-B: Loss adjustment factors"}]
[null,null,null,null,null,"",{"$f":"'Load & loss characteristics'!$C$35","v":"Section 505-C: Proportion of relevant load going through 132kV/HV direct transformation"}]
[null,null,null,null,null,"",{"$f":"'Load & loss characteristics'!$C$40","v":"Section 505-D: Network use factors"}]
[null,null,null,null,null,"",{"$f":"'Load & loss characteristics'!$C$121","v":"Section 505-E: User loss factors"}]
[null,null,null,null,null,"Customer contributions",{"$f":"'Customer contributions'!$C$16","v":"Section 506-A: Network use factors"}]
[null,null,null,null,null,"",{"$f":"'Customer contributions'!$C$38","v":"Section 506-B: Customer contributions"}]
[null,null,null,null,null,"Volume adjustments",{"$f":"'Volume adjustments'!$C$15","v":"Section 507-A: LDNO discounts"}]
[null,null,null,null,null,"",{"$f":"'Volume adjustments'!$C$53","v":"Section 507-B: Aggregation of volumes"}]
[null,null,null,null,null,"",{"$f":"'Volume adjustments'!$C$225","v":"Section 507-C: Volume discounting"}]
[null,null,null,null,null,"",{"$f":"'Volume adjustments'!$C$332","v":"Section 507-D: No residual volume discounting"}]
[null,null,null,null,null,"",{"$f":"'Volume adjustments'!$C$361","v":"Section 507-E: Residual band 1 volume discounting"}]
[null,null,null,null,null,"",{"$f":"'Volume adjustments'!$C$390","v":"Section 507-F: Residual band 2 volume discounting"}]
[null,null,null,null,null,"",{"$f":"'Volume adjustments'!$C$419","v":"Section 507-G: Residual band 3 volume discounting"}]
[null,null,null,null,null,"",{"$f":"'Volume adjustments'!$C$448","v":"Section 507-H: Residual band 4 volume discounting"}]
[null,null,null,null,null,"",{"$f":"'Volume adjustments'!$C$477","v":"Section 507-I: Discounted volumes by residual band"}]
[null,null,null,null,null,"",{"$f":"'Volume adjustments'!$C$523","v":"Section 507-J: Volumes by residual band"}]
[null,null,null,null,null,"",{"$f":"'Volume adjustments'!$C$657","v":"Section 507-K: Non-domestic aggregated (related MPAN) distribution across bands"}]
[null,null,null,null,null,"Pseudo-load coefficients",{"$f":"'Pseudo-load coefficients'!$C$18","v":"Section 508-A: Flags and hours in timebands"}]
[null,null,null,null,null,"",{"$f":"'Pseudo-load coefficients'!$C$28","v":"Section 508-B: Average load by timeband"}]
[null,null,null,null,null,"",{"$f":"'Pseudo-load coefficients'!$C$36","v":"Section 508-C: Aggregated groups for pseudo-load coefficients"}]
[null,null,null,null,null,"",{"$f":"'Pseudo-load coefficients'!$C$52","v":"Section 508-D: Ratio of coincidence to load factor assuming units evenly spread within time bands, and peak falls in Red period"}]
[null,null,null,null,null,"",{"$f":"'Pseudo-load coefficients'!$C$60","v":"Section 508-E: Load characteristics for all customers"}]
[null,null,null,null,null,"",{"$f":"'Pseudo-load coefficients'!$C$65","v":"Section 508-F: Aggregated load characteristics for grouped customers"}]
[null,null,null,null,null,"",{"$f":"'Pseudo-load coefficients'!$C$87","v":"Section 508-G: Calculation of correction factor"}]
[null,null,null,null,null,"",{"$f":"'Pseudo-load coefficients'!$C$100","v":"Section 508-H: Peaking probabilities, by network level"}]
[null,null,null,null,null,"",{"$f":"'Pseudo-load coefficients'!$C$174","v":"Section 508-I: Peaking probabilities, by network level and customer type"}]
[null,null,null,null,null,"",{"$f":"'Pseudo-load coefficients'!$C$221","v":"Section 508-J: Ratio of coincidence factor to load factor, based on uniform distribution in timebands and peaking probabilities"}]
[null,null,null,null,null,"",{"$f":"'Pseudo-load coefficients'!$C$265","v":"Section 508-K: Load coefficient"}]
[null,null,null,null,null,"",{"$f":"'Pseudo-load coefficients'!$C$269","v":"Section 508-L: Pseudo load coefficients, by unit rate"}]
[null,null,null,null,null,"System peak demand",{"$f":"'System peak demand'!$C$18","v":"Section 509-A: Common inputs for chargeable load calculations"}]
[null,null,null,null,null,"",{"$f":"'System peak demand'!$C$67","v":"Section 509-B: System peak load, by unit rate"}]
[null,null,null,null,null,"",{"$f":"'System peak demand'!$C$138","v":"Section 509-C: System peak load, all unit rates"}]
[null,null,null,null,null,"",{"$f":"'System peak demand'!$C$164","v":"Section 509-D: Unit rate contributions to chargeable peak load"}]
[null,null,null,null,null,"",{"$f":"'System peak demand'!$C$184","v":"Section 509-E: Adjustment of import and exceeded capacity"}]
[null,null,null,null,null,"",{"$f":"'System peak demand'!$C$194","v":"Section 509-F: Calculation of LV circuit diversity factor"}]
[null,null,null,null,null,"",{"$f":"'System peak demand'!$C$236","v":"Section 509-G: Import/exceeded capacity contribution to system peak"}]
[null,null,null,null,null,"",{"$f":"'System peak demand'!$C$249","v":"Section 509-H: Estimated capacity contribution to system peak"}]
[null,null,null,null,null,"",{"$f":"'System peak demand'!$C$266","v":"Section 509-I: System peak based on chargeable load"}]
[null,null,null,null,null,"Service model assets",{"$f":"'Service model assets'!$C$14","v":"Section 510-A: Service model notional asset values"}]
[null,null,null,null,null,"Unit costs",{"$f":"'Unit costs'!$C$19","v":"Section 511-A: Financial data"}]
[null,null,null,null,null,"",{"$f":"'Unit costs'!$C$27","v":"Section 511-B: Diversity and loss adjustment factors"}]
[null,null,null,null,null,"",{"$f":"'Unit costs'!$C$35","v":"Section 511-C: Maximum demand"}]
[null,null,null,null,null,"",{"$f":"'Unit costs'!$C$42","v":"Section 511-D: Rerouting matrix"}]
[null,null,null,null,null,"",{"$f":"'Unit costs'!$C$50","v":"Section 511-E: Annuitised cost of assets"}]
[null,null,null,null,null,"",{"$f":"'Unit costs'!$C$62","v":"Section 511-F: System simultaneous peak load based on chargeable units"}]
[null,null,null,null,null,"",{"$f":"'Unit costs'!$C$69","v":"Section 511-G: Notional asset values, by network level"}]
[null,null,null,null,null,"",{"$f":"'Unit costs'!$C$80","v":"Section 511-H: Other operating costs"}]
[null,null,null,null,null,"",{"$f":"'Unit costs'!$C$92","v":"Section 511-I: Other operating costs by network level"}]
[null,null,null,null,null,"",{"$f":"'Unit costs'!$C$104","v":"Section 511-J: Notional asset values by network level"}]
[null,null,null,null,null,"",{"$f":"'Unit costs'!$C$110","v":"Section 511-K: Unit costs"}]
[null,null,null,null,null,"",{"$f":"'Unit costs'!$C$117","v":"Section 511-L: Values used for allocating costs to service models"}]
[null,null,null,null,null,"Initial unit rates",{"$f":"'Initial unit rates'!$C$13","v":"Section 512-A: Inputs for yardstick and unit rate calculations"}]
[null,null,null,null,null,"",{"$f":"'Initial unit rates'!$C$118","v":"Section 512-B: Yardstick charges"}]
[null,null,null,null,null,"",{"$f":"'Initial unit rates'!$C$146","v":"Section 512-C: Unit rate 1"}]
[null,null,null,null,null,"",{"$f":"'Initial unit rates'!$C$175","v":"Section 512-D: Unit rate 2"}]
[null,null,null,null,null,"",{"$f":"'Initial unit rates'!$C$204","v":"Section 512-E: Unit rate 3"}]
[null,null,null,null,null,"Service model charges",{"$f":"'Service model charges'!$C$17","v":"Section 513-A: Inputs to service model charge calculation"}]
[null,null,null,null,null,"",{"$f":"'Service model charges'!$C$33","v":"Section 513-B: Calculation of other operating expenditure per £ of notional asset value"}]
[null,null,null,null,null,"",{"$f":"'Service model charges'!$C$37","v":"Section 513-C: Calculation of service model charges"}]
[null,null,null,null,null,"Unit rate charges",{"$f":"'Unit rate charges'!$C$19","v":"Section 514-A: Initial unit rate 1"}]
[null,null,null,null,null,"",{"$f":"'Unit rate charges'!$C$49","v":"Section 514-B: Initial unit rate 2"}]
[null,null,null,null,null,"",{"$f":"'Unit rate charges'!$C$79","v":"Section 514-C: Initial unit rate 3"}]
[null,null,null,null,null,"",{"$f":"'Unit rate charges'!$C$109","v":"Section 514-D: Standing charge factors"}]
[null,null,null,null,null,"",{"$f":"'Unit rate charges'!$C$124","v":"Section 514-E: Contributions to unit rate 1 p/kWh by network level (taking account of standing charges)"}]
[null,null,null,null,null,"",{"$f":"'Unit rate charges'!$C$154","v":"Section 514-F: Contributions to unit rate 2 p/kWh by network level (taking account of standing charges)"}]
[null,null,null,null,null,"",{"$f":"'Unit rate charges'!$C$184","v":"Section 514-G: Contributions to unit rate 3 p/kWh by network level (taking account of standing charges)"}]
[null,null,null,null,null,"",{"$f":"'Unit rate charges'!$C$214","v":"Section 514-H: Unit rates, post application of standing charges"}]
[null,null,null,null,null,"Capacity charges",{"$f":"'Capacity charges'!$C$19","v":"Section 515-A: Inputs to capacity charge calculations"}]
[null,null,null,null,null,"",{"$f":"'Capacity charges'!$C$129","v":"Section 515-B: Capacity-based charge elements (to be split between capacity & fixed charges)"}]
[null,null,null,null,null,"",{"$f":"'Capacity charges'!$C$159","v":"Section 515-C: Exceeded capacity-based charge elements"}]
[null,null,null,null,null,"",{"$f":"'Capacity charges'!$C$189","v":"Section 515-D: Capacity charges for eligible customers, by network level"}]
[null,null,null,null,null,"",{"$f":"'Capacity charges'!$C$219","v":"Section 515-E: Exceeded capacity charges for eligible customers, by network level"}]
[null,null,null,null,null,"",{"$f":"'Capacity charges'!$C$254","v":"Section 515-F: Capacity and exceeded capacity charges"}]
[null,null,null,null,null,"",{"$f":"'Capacity charges'!$C$259","v":"Section 515-G: Capacity elements allocated to fixed charges"}]
[null,null,null,null,null,"Reactive power charges",{"$f":"'Reactive power charges'!$C$17","v":"Section 516-A: Inputs to reactive power charge calculations"}]
[null,null,null,null,null,"",{"$f":"'Reactive power charges'!$C$120","v":"Section 516-B: Yardstick charge (demand)"}]
[null,null,null,null,null,"",{"$f":"'Reactive power charges'!$C$155","v":"Section 516-C: Yardstick charge used for generation"}]
[null,null,null,null,null,"",{"$f":"'Reactive power charges'!$C$190","v":"Section 516-D: Reactive power charges, all customer categories"}]
[null,null,null,null,null,"",{"$f":"'Reactive power charges'!$C$220","v":"Section 516-E: Reactive power charges for applicable customers"}]
[null,null,null,null,null,"Fixed charges",{"$f":"'Fixed charges'!$C$16","v":"Section 517-A: Volumes (discounted MPANs & maximum load)"}]
[null,null,null,null,null,"",{"$f":"'Fixed charges'!$C$22","v":"Section 517-B: Capacity elements allocated to fixed charges"}]
[null,null,null,null,null,"",{"$f":"'Fixed charges'!$C$52","v":"Section 517-C: Service model costs allocated to fixed charges"}]
[null,null,null,null,null,"",{"$f":"'Fixed charges'!$C$58","v":"Section 517-D: Flags"}]
[null,null,null,null,null,"",{"$f":"'Fixed charges'!$C$67","v":"Section 517-E: Revenue allocated to fixed charges"}]
[null,null,null,null,null,"",{"$f":"'Fixed charges'!$C$97","v":"Section 517-F: Revenue allocated to fixed charges, by aggregation group"}]
[null,null,null,null,null,"",{"$f":"'Fixed charges'!$C$127","v":"Section 517-G: Fixed charges, by network level"}]
[null,null,null,null,null,"",{"$f":"'Fixed charges'!$C$159","v":"Section 517-H: Aggregated fixed charges"}]
[null,null,null,null,null,"SoLR & bad debt adders",{"$f":"'SoLR & bad debt adders'!$C$16","v":"Section 518-A: Inputs for fixed tariff adjustments"}]
[null,null,null,null,null,"",{"$f":"'SoLR & bad debt adders'!$C$33","v":"Section 518-B: Calculation of fixed tariff adjustments"}]
[null,null,null,null,null,"",{"$f":"'SoLR & bad debt adders'!$C$48","v":"Section 518-C: Calculation of fixed charge adder revenue"}]
[null,null,null,null,null,"Revenue matching",{"$f":"'Revenue matching'!$C$15","v":"Section 519-A: Inputs to revenue matching"}]
[null,null,null,null,null,"",{"$f":"'Revenue matching'!$C$69","v":"Section 519-B: Net revenue before matching"}]
[null,null,null,null,null,"",{"$f":"'Revenue matching'!$C$88","v":"Section 519-C: Grouping of residual bands where a band has insufficient customers"}]
[null,null,null,null,null,"",{"$f":"'Revenue matching'!$C$151","v":"Section 519-D: Calculating MPANs for matching"}]
[null,null,null,null,null,"",{"$f":"'Revenue matching'!$C$159","v":"Section 519-E: Calculating unit volumes for matching"}]
[null,null,null,null,null,"",{"$f":"'Revenue matching'!$C$176","v":"Section 519-F: Allocating revenue to tariffs"}]
[null,null,null,null,null,"",{"$f":"'Revenue matching'!$C$192","v":"Section 519-G: Calculating the residual fixed charge"}]
[null,null,null,null,null,"",{"$f":"'Revenue matching'!$C$200","v":"Section 519-H: Calculating the initial residual unit rate"}]
[null,null,null,null,null,"",{"$f":"'Revenue matching'!$C$213","v":"Section 519-I: Floor on negative residual fixed charges"}]
[null,null,null,null,null,"",{"$f":"'Revenue matching'!$C$232","v":"Section 519-J: Ranking unit rate volumes and tariffs"}]
[null,null,null,null,null,"",{"$f":"'Revenue matching'!$C$286","v":"Section 519-K: Revenue matching for three timebands"}]
[null,null,null,null,null,"",{"$f":"'Revenue matching'!$C$313","v":"Section 519-L: Revenue matching for two timebands"}]
[null,null,null,null,null,"",{"$f":"'Revenue matching'!$C$345","v":"Section 519-M: Revenue matching for one timeband"}]
[null,null,null,null,null,"",{"$f":"'Revenue matching'!$C$377","v":"Section 519-N: Revenue matching adders by timeband"}]
[null,null,null,null,null,"",{"$f":"'Revenue matching'!$C$409","v":"Section 519-O: Final adders"}]
[null,null,null,null,null,"Rounding",{"$f":"Rounding!$C$16","v":"Section 520-A: Pre-match, pre-rounding tariff forecast"}]
[null,null,null,null,null,"",{"$f":"Rounding!$C$28","v":"Section 520-B: Adders for revenue-matching"}]
[null,null,null,null,null,"",{"$f":"Rounding!$C$40","v":"Section 520-C: Adder to fixed charge for allocated pass-through costs"}]
[null,null,null,null,null,"",{"$f":"Rounding!$C$52","v":"Section 520-D: LDNO discounts"}]
[null,null,null,null,null,"",{"$f":"Rounding!$C$92","v":"Section 520-E: Decimal places for rounding"}]
[null,null,null,null,null,"",{"$f":"Rounding!$C$107","v":"Section 520-F: Tariff forecast, post-revenue matching"}]
[null,null,null,null,null,"",{"$f":"Rounding!$C$118","v":"Section 520-G: Tariff forecast, post-adders & discounting"}]
[null,null,null,null,null,"",{"$f":"Rounding!$C$147","v":"Section 520-H: Tariff forecast, post-rounding"}]
[null,null,null,null,null,"Net revenue summary",{"$f":"'Net revenue summary'!$C$13","v":"Section 521-A: Volume forecasts"}]
[null,null,null,null,null,"",{"$f":"'Net revenue summary'!$C$52","v":"Section 521-B: Tariff forecast"}]
[null,null,null,null,null,"",{"$f":"'Net revenue summary'!$C$81","v":"Section 521-C: Net revenue components"}]
[null,null,null,null,null,"",{"$f":"'Net revenue summary'!$C$92","v":"Section 521-D: Net revenue by tariff"}]
[null,null,null,null,null,"",{"$f":"'Net revenue summary'!$C$124","v":"Section 521-E: Net revenue summary (for information only)"}]
[null,null,null,null,null,"",{"$f":"'Net revenue summary'!$C$138","v":"Section 521-F: Typical bills"}]
[null,null,null,null,null,"Tariff summary",{"$f":"'Tariff summary'!$C$24","v":"Output 501-A: Live tariff results (2027/28)"}]
[null,null,null,null,null,"",{"$f":"'Tariff summary'!$C$128","v":"Output 501-B: Tariff results for charging year 2027/28"}]
[null,null,null,null,null,"",{"$f":"'Tariff summary'!$C$232","v":"Output 501-C: Tariff results for charging year 2028/29"}]
[null,null,null,null,null,"",{"$f":"'Tariff summary'!$C$336","v":"Output 501-D: Tariff results for charging year 2029/30"}]
[null,null,null,null,null,"Typical bills",{"$f":"'Typical bills'!$C$20","v":"Output 502-A: Typical bill results"}]
[]
[null,"End of sheet"]

{"sheet":"Named ranges","index":4,"n_rows":33,"n_cols":8,"rows_kept":33,"cut":false,"hidden":true,"merged":[]}
[{"$f":"MID(CELL(\"filename\",A1),FIND(\"]\",CELL(\"filename\",A1))+1,255)","v":"Named ranges"}]
[{"$f":"Cover!D23 & \" - \" & TEXT(CIRP_submission_date, \"mmm\") & \"-\" & RIGHT(YEAR(CIRP_submission_date), 2) & \" - \" & Cover!D25","v":"SP Distribution - Jan-26 - V1"}]
[{"$f":"Cover!D2&\" - \"&Cover!D8&\" v\"&Cover!D10&\" - \"&Cover!D19","v":"Cost Information Review Pack (CIRP) - Release for charge setting v1 - 2027/28"}]
[]
[null,"List of named ranges"]
[]
[null,null,null,null,null,"charging_year","Year for which charges are being calculated","Cover"]
[null,null,null,null,null,"charging_year_selected","Charging year currently selected for ARP","CIRP_User control"]
[null,null,null,null,null,"charging_year_selected_index","Index for selected charging year","CIRP_User control"]
[null,null,null,null,null,"check_decimals","Number of decimal places of precision for in-built model checks","Fixed inputs"]
[null,null,null,null,null,"days_in_year","Days in the charging year","General inputs"]
[null,null,null,null,null,"DNO_name","Name of DNO","Cover"]
[null,null,null,null,null,"hours_in_day","Hours per day","Fixed inputs"]
[null,null,null,null,null,"hours_in_year","Hours in the charging year","General inputs"]
[null,null,null,null,null,"hundred","Equal to 100","Fixed inputs"]
[null,null,null,null,null,"live_results_bills","Typical bills for selected charging year","Typical bills"]
[null,null,null,null,null,"live_results_tariffs","Tariffs for selected charging year","Tariff summary"]
[null,null,null,null,null,"PowerFactor","Power factor, equal to 0.95","Fixed inputs"]
[null,null,null,null,null,"results_4_bills","Typical bills for current charging year","Typical bills"]
[null,null,null,null,null,"results_4_tariffs","Tariffs for current charging year","Tariff summary"]
[null,null,null,null,null,"results_5_bills","Typical bills for current charging year + 1","Typical bills"]
[null,null,null,null,null,"results_5_tariffs","Tariffs for current charging year + 1","Tariff summary"]
[null,null,null,null,null,"results_6_bills","Typical bills for current charging year + 2","Typical bills"]
[null,null,null,null,null,"results_6_tariffs","Tariffs for current charging year + 2","Tariff summary"]
[null,null,null,null,null,"Historic","Year label","Fixed inputs"]
[null,null,null,null,null,"Current","Year label","Fixed inputs"]
[null,null,null,null,null,"Published","Year label","Fixed inputs"]
[null,null,null,null,null,"Forecast","Year label","Fixed inputs"]
[null,null,null,null,null,"ten","Equal to 10","Fixed inputs"]
[null,null,null,null,null,"thousand","Equal to 1,000","Fixed inputs"]
[null,null,null,null,null,"million","Equal to 1,000,000","Fixed inputs"]
[]
[null,"End of sheet"]

{"sheet":"CDCM timebands","index":5,"n_rows":43,"n_cols":12,"rows_kept":43,"cut":false,"hidden":false,"merged":[]}
[{"$f":"MID(CELL(\"filename\",A1),FIND(\"]\",CELL(\"filename\",A1))+1,255)","v":"CDCM timebands"}]
[{"$f":"Cover!D23 & \" - \" & TEXT(CIRP_submission_date, \"mmm\") & \"-\" & RIGHT(YEAR(CIRP_submission_date), 2) & \" - \" & Cover!D25","v":"SP Distribution - Jan-26 - V1"}]
[{"$f":"Cover!D2&\" - \"&Cover!D8&\" v\"&Cover!D10&\" - \"&Cover!D19","v":"Cost Information Review Pack (CIRP) - Release for charge setting v1 - 2027/28"}]
[]
[null,"Click here to return to model map",null,null,null,null,"Units","Constants",null,{"$f":"TRANSPOSE('CIRP_User control'!G30:G32)","v":"2027/28"},"2028/29","2029/30"]
[]
[null,"Description"]
[]
[null,null,"This sheet sets out the expected timebands that the DNO plans to use for each of the three years covered by the "]
[null,null,"CIRP, as required by DCUSA Schedule 20, Paragraph 2.2 (g)."]
[]
[null,"CDCM timebands"]
[]
[null,null,"Distribution time bands"]
[]
[null,null,null,null,"Weekdays (including bank holidays)"]
[null,null,null,null,null,"Red","time of day",null,null,"16:30 - 19:30","16:30 - 19:30","16:30 - 19:30"]
[null,null,null,null,null,"Amber","time of day",null,null,"08:00 - 16:30\n19:30 - 22:30","08:00 - 16:30\n19:30 - 22:30","08:00 - 16:30\n19:30 - 22:30"]
[null,null,null,null,null,"Green","time of day",null,null,"00:00 - 08:00\n22:30 - 00:00","00:00 - 08:00\n22:30 - 00:00","00:00 - 08:00\n22:30 - 00:00"]
[]
[null,null,null,null,"Weekends"]
[null,null,null,null,null,"Red","time of day"]
[null,null,null,null,null,"Amber","time of day",null,null,"16:00 - 20:00","16:00 - 20:00","16:00 - 20:00"]
[null,null,null,null,null,"Green","time of day",null,null,"00:00 - 16:00\n20:00 - 00:00","00:00 - 16:00\n20:00 - 00:00","00:00 - 16:00\n20:00 - 00:00"]
[]
[null,null,"Special distribution time bands"]
[]
[null,null,null,null,"Weekdays (including bank holidays) Nov to Feb"]
[null,null,null,null,null,"Black","time of day",null,null,"16:30 - 19:30","16:30 - 19:30","16:30 - 19:30"]
[null,null,null,null,null,"Yellow","time of day",null,null,"08:00 - 16:30\n19:30 - 22:30","08:00 - 16:30\n19:30 - 22:30","08:00 - 16:30\n19:30 - 22:30"]
[null,null,null,null,null,"Green","time of day",null,null,"00:00 - 08:00\n22:30 - 00:00","00:00 - 08:00\n22:30 - 00:00","00:00 - 08:00\n22:30 - 00:00"]
[]
[null,null,null,null,"Weekdays (including bank holidays) Mar to Oct"]
[null,null,null,null,null,"Black","time of day"]
[null,null,null,null,null,"Yellow","time of day",null,null,"08:00 - 22:30","08:00 - 22:30","08:00 - 22:30"]
[null,null,null,null,null,"Green","time of day",null,null,"00:00 - 08:00\n22:30 - 00:00","00:00 - 08:00\n22:30 - 00:00","00:00 - 08:00\n22:30 - 00:00"]
[]
[null,null,null,null,"Weekends"]
[null,null,null,null,null,"Black","time of day"]
[null,null,null,null,null,"Yellow","time of day",null,null,"16:00 - 20:00","16:00 - 20:00","16:00 - 20:00"]
[null,null,null,null,null,"Green","time of day",null,null,"00:00 - 16:00\n20:00 - 00:00","00:00 - 16:00\n20:00 - 00:00","00:00 - 16:00\n20:00 - 00:00"]
[]
[null,"End of sheet"]

{"sheet":"CIRP_Instructions","index":6,"n_rows":23,"n_cols":9,"rows_kept":23,"cut":false,"hidden":false,"merged":[]}
[{"$f":"MID(CELL(\"filename\",A1),FIND(\"]\",CELL(\"filename\",A1))+1,255)","v":"CIRP_Instructions"}]
[{"$f":"Cover!D23 & \" - \" & TEXT(CIRP_submission_date, \"mmm\") & \"-\" & RIGHT(YEAR(CIRP_submission_date), 2) & \" - \" & Cover!D25","v":"SP Distribution - Jan-26 - V1"}]
[{"$f":"Cover!D2&\" - \"&Cover!D8&\" v\"&Cover!D10&\" - \"&Cover!D19","v":"Cost Information Review Pack (CIRP) - Release for charge setting v1 - 2027/28"}]
[]
[null,"Description"]
[]
[null,null,"This sheet contains gives instructions to DNOs when completing the Cost Information Review Pack (CIRP) and to other users wishing to explore its results."]
[]
[null,"Commentary"]
[]
[null,null,null,null,null,"Sheet","Cells","Party","Instructions"]
[null,null,null,null,null,"Cover","D19","DNO","Input latest charging year for which charges have been published."]
[null,null,null,null,null,null,"D21","DNO","Input date of Cost Information submission."]
[null,null,null,null,null,null,"D23","DNO","Input DNO name."]
[null,null,null,null,null,"Table 1 - Detailed","Columns K:P","DNO","Enter detailed allowed revenue from the latest Price Control Financial Model (PCFM) or equivalent forecast."]
[null,null,null,null,null,"Table 1 - Delta From Previous","Columns K:P","DNO","Enter detailed allowed revenue from the previous Cost Information forecast.\nWhen incrementing by one year for the first forecast of each regulatory year, the final column (t+4) will be blank, as no previous forecast was prepared for this year."]
[null,null,null,null,null,"Table 2 - Sensitivities","K22:P22","DNO","Confirm the years for which actual charges have been published by entering \"Y\" or \"N\" - allowing the model to override sensitivities for published years."]
[null,null,null,null,null,null,"F29:F38; K29:P38","DNO","Enter sensitivities for any known potential updates to the Calculated Revenue (e.g. reopeners), which have not been included in the values in Table 1. \nMay be left blank if no potential updates are known.\nEnter a description of the potential change in column F and the potential change in calculated revenue (in 2020/21 prices) in columns K:P."]
[null,null,null,null,null,null,"K72:P72","DNO/Suppliers","Enter change in inflation % to see the impact of this change on allowed revenue in the year and on prior year correction and allowed revenue in subsequent years."]
[null,null,null,null,null,null,"K91:P91","DNO/Suppliers","Enter % change in recovered revenue to see the impact of this change on prior year correction and recovered revenue in subsequent years."]
[null,null,null,null,null,"CIRP_General inputs; CIRP_Inputs by customer type; CIRP_Inputs by network level","Columns L:Q ","DNO","For regulatory years for which tariffs are already published, populate all inputs, including those for allowed revenue, with those used in the CDCM at the time that the tariffs were set. This will mean there is a difference between the allowed revenue in 'Table 1 - Detailed', which is the latest available information from the PCFM or equivalent forecast, and the allowed revenue in 'CIRP_General inputs', which was the value when tariffs were set."]
[]
[null,"End of sheet"]

{"sheet":"CIRP_User control","index":7,"n_rows":68,"n_cols":8,"rows_kept":68,"cut":false,"hidden":false,"merged":[]}
[{"$f":"MID(CELL(\"filename\",A1),FIND(\"]\",CELL(\"filename\",A1))+1,255)","v":"CIRP_User control"}]
[{"$f":"Cover!D23 & \" - \" & TEXT(CIRP_submission_date, \"mmm\") & \"-\" & RIGHT(YEAR(CIRP_submission_date), 2) & \" - \" & Cover!D25","v":"SP Distribution - Jan-26 - V1"}]
[{"$f":"Cover!D2&\" - \"&Cover!D8&\" v\"&Cover!D10&\" - \"&Cover!D19","v":"Cost Information Review Pack (CIRP) - Release for charge setting v1 - 2027/28"}]
[]
[null,"Description"]
[]
[null,null,"This sheet contains a user interface for the CIRP, where DNOs should input the CIRP publication date to determine the "]
[null,null,"\"current regulatory year\"; and where users can update multi-year tariff calculations for defined charging years "]
[null,null,"by pressing the \"Run all years\" macro button. "]
[null,null,"DNOs are responsible for ensuring that CIRP inputs match published CDCM model inputs for historic, current, or published years."]
[]
[null,"User interface"]
[]
[null,null,"CIRP submission date"]
[]
[null,null,"DNOs should define the CIRP submission date in the 'CIRP submission date\" cell. The model then automatically defines "]
[null,null,"the charging year labels with reference to the \"current\" regulatory year in which the submission date falls."]
[null,null,"DNOs are responsible for ensuring that CIRP inputs match the charging year labels suggested by their submission date. "]
[]
[null,null,null,"CIRP submission date",null,null,{"$f":"CIRP_submission_date","v":"2026-01-01"}]
[]
[null,null,null,"Current regulatory year (year \"t\") at CIRP publication date",null,null,{"$f":"IF(MONTH(G20) < 4, YEAR(G20) - 1 & \"/\" & YEAR(G20) - 2000, YEAR(G20) & \"/\" & YEAR(G20) + 1 - 2000)","v":"2025/26"}]
[]
[null,null,null,"Most recent year for which charges have been published",null,null,{"$f":"charging_year","v":"2027/28"}]
[]
[null,null,null,"Definition of charging years"]
[null,null,null,null,"t-1",null,{"$f":"LEFT(G28,4) - 1 & \"/\" & RIGHT(G28,2) - 1","v":"2024/25"},{"$f":"IF(LEFT(G27, 4) < LEFT($G$22, 4), historic, \"\") &\nIF(G27 = $G$22, current, \"\") &\nIF(LEFT(G27, 4) > LEFT($G$24, 4), forecast, \"\") &\nIF(AND(LEFT(G27, 4) > LEFT($G$22, 4), LEFT(G27, 4) <= LEFT($G$24, 4)), published, \"\")","v":"Historic"}]
[null,null,null,null,"t","(current regulatory year)",{"$f":"$G$22","v":"2025/26"},"Current"]
[null,null,null,null,"t+1",null,{"$f":"LEFT(G28,4) + 1 & \"/\" & RIGHT(G28,2) + 1","v":"2026/27"},"Published"]
[null,null,null,null,"t+2",null,"2027/28","Published"]
[null,null,null,null,"t+3",null,"2028/29","Forecast"]
[null,null,null,null,"t+4",null,{"$f":"LEFT(G31,4) + 1 & \"/\" & RIGHT(G31,2) + 1","v":"2029/30"},"Forecast"]
[]
[null,null,"Macro to run all years"]
[]
[null,null,"Users can press the \"Run all years\" macro button to update multi-year results on the 'Tariff summary' and 'Typical bills' sheets."]
[null,null,"Users can select which year of input data is pulled into the model using the dropdown list in the 'Year selection' cell."]
[]
[null,null,null,"Year selection",null,null,"2027/28"]
[]
[null,null,null,"Year selection (index)",null,null,{"$f":"MATCH(G39,G27:G32)","v":4},{"$f":"INDEX(H27:H32,MATCH($G$39,$G$27:$G$32,0))","v":"Published"}]
[]
[]
[]
[]
[]
[null,null,"Macros to hide or unhide sheets"]
[]
[null,null,"Users can hide and unhide input / calculations / named range and timeband sheets by pressing the macro buttons below. "]
[]
[]
[]
[]
[]
[]
[]
[]
[]
[]
[]
[]
[]
[]
[]
[]
[]
[]
[null,"End of sheet"]

{"sheet":"Table 1 - Detailed","index":8,"n_rows":123,"n_cols":18,"rows_kept":123,"cut":false,"hidden":false,"merged":[]}
[{"$f":"MID(CELL(\"filename\",A1),FIND(\"]\",CELL(\"filename\",A1))+1,255)","v":"Table 1 - Detailed"}]
[{"$f":"Cover!D23 & \" - \" & TEXT(CIRP_submission_date, \"mmm\") & \"-\" & RIGHT(YEAR(CIRP_submission_date), 2) & \" - \" & Cover!D25","v":"SP Distribution - Jan-26 - V1"}]
[{"$f":"Cover!D2&\" - \"&Cover!D8&\" v\"&Cover!D10&\" - \"&Cover!D19","v":"Cost Information Review Pack (CIRP) - Release for charge setting v1 - 2027/28"}]
[{"$f":"H121 & IF(H121 = 1, \" issue\", \" issues\") &\" identified in checks on this sheet\"","v":"0 issues identified in checks on this sheet"},null,null,null,null,null,null,null,null,{"$f":"\"Latest forecast (\" & TEXT('CIRP_User control'!G20, \"MMM-YY\") & \") >>\"","v":"Latest forecast (Jan-26) >>"}]
[null,null,null,null,null,null,null,null,null,null,{"$f":"TRANSPOSE('CIRP_User control'!G27:G32)","v":"2024/25"},"2025/26","2026/27","2027/28","2028/29","2029/30"]
[null,"Click here to return to model map",null,null,null,null,"Units","Constants",null,null,{"$f":"TRANSPOSE('CIRP_User control'!E27:E32)","v":"t-1"},"t","t+1","t+2","t+3","t+4",null,"Formula Description"]
[null,null,null,null,null,null,null,null,null,null,{"$f":"TRANSPOSE('CIRP_User control'!$H$27:$H$32)","v":"Historic"},"Current","Published","Published","Forecast","Forecast"]
[null,"Description"]
[]
[null,null,"This sheet contains cost information Table 1 in the form required by Schedule 20, paragraph 2.2(a)."]
[null,null,"Table 1 gives greater detail on the calculation of the DNO's Allowed Revenues."]
[null,null,"DNOs are responsible for ensuring that CIRP inputs match published CDCM model inputs for historic, current, or published years."]
[]
[null,"Table 1 - Detailed"]
[]
[null,null,null,null,null,"Allowed load related capex","£m 20/21 prices",null,null,null,24.631857147411846,21.960113678980118,21.758462381056706,22.617794734099331,22.617794734099331,22.617794734099331,null,"FM1_A1"]
[null,null,null,null,null,"Allowed non-load related capex - asset replacement","£m 20/21 prices",null,null,null,73.963619744470606,66.965767197100703,69.062501270950349,67.809430400105654,67.809430400105654,67.809430400105654,null,"FM1_A2"]
[null,null,null,null,null,"Allowed non-load related capex - other","£m 20/21 prices",null,null,null,34.686396449831904,31.619333926380673,32.142847090510848,29.47652202777827,29.47652202777827,29.47652202777827,null,"FM1_A3"]
[null,null,null,null,null,"Allowed faults","£m 20/21 prices",null,null,null,24.017920010814088,23.785213296291982,23.618642378415334,23.391138842364491,23.391138842364491,23.391138842364491,null,"FM1_A4"]
[null,null,null,null,null,"Allowed tree cutting","£m 20/21 prices",null,null,null,3.7094841360151025,3.6972764076724078,3.7951360986319251,3.6381849454867505,3.6381849454867505,3.6381849454867505,null,"FM1_A5"]
[null,null,null,null,null,"Allowed 100% 'revenue pool' expenditure","£m 20/21 prices",null,null,null,15.44397132738248,15.219298441839326,14.804031078161294,14.60910178454176,14.60910178454176,14.60910178454176,null,"FM1_A6"]
[null,null,null,null,null,"Allowed controllable opex","£m 20/21 prices",null,null,null,87.007978103789426,86.408127529275049,82.717670179813808,81.746719743163993,81.746719743163993,81.746719743163993,null,"FM1_A7"]
[null,null,null,null,null,"Total RIIO-2 capitalisation rate allocation 1 allowances","£m 20/21 prices",null,null,null,{"$f":"SUM(K16:K22)","v":263.46122691971544},249.65513047754027,247.89929047754026,243.28889247754026,243.28889247754026,243.28889247754026,null,"FM1_A = FM1_A1 + FM1_A2 + FM1_A3 + FM1_A4 + FM1_A5 + FM1_A6 + FM1_A7"]
[null,null,null,null,null,"Actual load related capex","£m 20/21 prices","ALCt",null,null,15.579650402661066,16.432369984722207,21.296862946633006,29.36767140788028,29.36767140788028,29.36767140788028,null,"FM1_B1"]
[null,null,null,null,null,"Actual non-load related capex - asset replacement","£m 20/21 prices","ANCAt",null,null,76.438580658507917,80.819104464764479,63.904824534846199,53.524458982191916,53.524458982191916,53.524458982191916,null,"FM1_B2"]
[null,null,null,null,null,"Actual non-load related capex - other","£m 20/21 prices","ANCOt",null,null,29.539302882342923,28.29726300653217,32.235833929111479,29.11910412505943,29.11910412505943,29.11910412505943,null,"FM1_B3"]
[null,null,null,null,null,"Actual faults","£m 20/21 prices","AFAt",null,null,29.37336217382099,23.968266934420384,23.817107270928545,23.615532175399203,23.615532175399203,23.615532175399203,null,"FM1_B4"]
[null,null,null,null,null,"Actual tree cutting","£m 20/21 prices","ATCt",null,null,6.1282418038414797,3.9415675227154185,3.9472145737929156,3.9502466302869239,3.9502466302869239,3.9502466302869239,null,"FM1_B5"]
[null,null,null,null,null,"Actual 100% ‘revenue pool’ expenditure","£m 20/21 prices","ARPt",null,null,13.064714582301995,18.174938098241526,17.324673414570764,17.549235675543112,17.549235675543112,17.549235675543112,null,"FM1_B6"]
[null,null,null,null,null,"Actual controllable opex","£m 20/21 prices","ACOt",null,null,99.638480514271393,111.74184577802872,103.25745746324677,100.4098535490651,100.4098535490651,100.4098535490651,null,"FM1_B7"]
[null,null,null,null,null,"Total actual expenditure in capitalisation rate allocation 1","£m 20/21 prices",null,null,null,{"$f":"SUM(K24:K30)","v":269.76233301774778},{"$f":"SUM(L24:L30)","v":283.37535578942493},265.78397413312968,257.53610254542599,257.53610254542599,257.53610254542599,null,"FM1_B = FM1_B1 + FM1_B2 + FM1_B3 + FM1_B4 + FM1_B5 + FM1_B6 + FM1_B7"]
[null,null,null,null,null,"RIIO-2 Funding Adjustment Rate (often referred to as 'sharing factor')","%","SF",null,null,0.5,0.5,0.5,0.5,0.5,0.5,null,"SF"]
[null,null,null,null,null,"Post-TIM totex Allocation 1","£m 20/21 prices",null,null,null,{"$f":"IF(K31 > 0, (K31 - K23) * K32 + K23, K23)","v":266.61177996873164},{"$f":"IF(L31 > 0, (L31 - L23) * L32 + L23, L23)","v":266.51524313348261},256.841632305335,250.41249751148314,250.41249751148314,250.41249751148314,null,"FM1.1 = (FM1_B - FM1_A) x SF + FM1_A     if FM1_B > 0\nFM1.1 = FM1_A                         otherwise"]
[null,null,null,null,null,"RIIO-2 allocation 1 Capitalisation rate","%",null,null,null,0.7,0.7,0.7,0.7,0.7,0.7,null,"CR1"]
[null,null,null,null,"Fast Pot Allocation 1",null,"£m 20/21 prices",null,null,null,{"$f":"(1 - K34) * K33","v":79.983533990619506},{"$f":"(1 - L34) * L33","v":79.954572940044798},77.052489691600513,75.123749253444956,75.123749253444956,75.123749253444956,null,"FM1 = (1 - CR1) x FM1.1"]
[null,null,null,null,null,"Allowed load related capex","£m 20/21 prices",null,null,null,18.313977738329672,50.287318539584547,50.979583324491003,52.8285650368205,52.8285650368205,52.8285650368205,null,"FM2_A1"]
[null,null,null,null,null,"Allowed non-load related capex - asset replacement","£m 20/21 prices",null,null,null,9.7427448940612802,16.743826532446771,23.00545151209359,25.401979140057012,25.401979140057012,25.401979140057012,null,"FM2_A2"]
[null,null,null,null,null,"Allowed non-load related capex - other","£m 20/21 prices",null,null,null,14.48,7.19,12.875,24.535,24.535,24.535,null,"FM2_A3"]
[null,null,null,null,null,"Allowed faults","£m 20/21 prices",null,null,null,11.58330067041874,2.661845,2.308405,2.3415400000000002,2.3415400000000002,2.3415400000000002,null,"FM2_A4"]
[null,null,null,null,null,"Allowed tree cutting","£m 20/21 prices",null,null,null,0,0,0,0,0,0,null,"FM2_A5"]
[null,null,null,null,null,"Allowed 100% 'revenue pool' expenditure","£m 20/21 prices",null,null,null,0,0,0,0,0,0,null,"FM2_A6"]
[null,null,null,null,null,"Allowed controllable opex","£m 20/21 prices",null,null,null,4.9750908266335694,8.4380014112151223,8.1680014112151227,8.8141778151237968,8.8141778151237968,8.8141778151237968,null,"FM2_A7"]
[null,null,null,null,null,"Total RIIO-2 capitalisation rate allocation 2 allowances","£m 20/21 prices",null,null,null,{"$f":"SUM(K36:K42)","v":59.095114129443253},{"$f":"SUM(L36:L42)","v":85.320991483246445},97.336441247799712,113.92126199200131,113.92126199200131,113.92126199200131,null,"FM2_A = FM2_A1 + FM2_A2 + FM2_A3 + FM2_A4 + FM2_A5 + FM2_A6 + FM2_A7"]
[null,null,null,null,null,"Actual load related capex","£m 20/21 prices","ALCUt",null,null,32.419644532321904,57.533940403947732,57.533940403947732,59.136194621825609,59.136194621825609,59.136194621825609,null,"FM2_B1"]
[null,null,null,null,null,"Actual non-load related capex - asset replacement","£m 20/21 prices","ANCAUt",null,null,13.241743911065871,16.921389521173417,23.107999811505177,25.460868262491388,25.460868262491388,25.460868262491388,null,"FM2_B2"]
[null,null,null,null,null,"Actual non-load related capex - other","£m 20/21 prices","ANCOUt",null,null,7.4275819720431215,14.622217240151381,31.232217240151382,33.012217240151379,33.012217240151379,33.012217240151379,null,"FM2_B3"]
[null,null,null,null,null,"Actual faults","£m 20/21 prices","AFAUt",null,null,8.0709906704187411,0,0,0,0,0,null,"FM2_B4"]
[null,null,null,null,null,"Actual tree cutting","£m 20/21 prices","ATCUt",null,null,0,0,0,0,0,0,null,"FM2_B5"]
[null,null,null,null,null,"Actual 100% ‘revenue pool’ expenditure","£m 20/21 prices","ARPUt",null,null,0,0,0,0,0,0,null,"FM2_B6"]
[null,null,null,null,null,"Actual controllable opex","£m 20/21 prices","ACOUt",null,null,0,0,0,0,0,0,null,"FM2_B7"]
[null,null,null,null,null,"Total actual expenditure in capitalisation rate allocation 2","£m 20/21 prices",null,null,null,{"$f":"SUM(K44:K50)","v":61.159961085849645},{"$f":"SUM(L44:L50)","v":89.077547165272534},111.87415745560429,117.60928012446837,117.60928012446837,117.60928012446837,null,"FM2_B = FM2_B1 + FM2_B2 + FM2_B3 + FM2_B4 + FM2_B5 + FM2_B6 + FM2_B7"]
[null,null,null,null,null,"RIIO-2 Funding Adjustment Rate (often referred to as 'sharing factor')","%","SF",null,null,{"$f":"K32","v":0.5},{"$f":"L32","v":0.5},0.5,0.5,0.5,0.5,null,"SF"]
[null,null,null,null,null,"Post-TIM totex Allocation 2","£m 20/21 prices",null,null,null,{"$f":"IF(K51 > 0, (K51 - K43) * K52 + K43, K43)","v":60.127537607646445},{"$f":"IF(L51 > 0, (L51 - L43) * L52 + L43, L43)","v":87.19926932425949},104.605299351702,115.76527105823484,115.76527105823484,115.76527105823484,null,"FM2.1 = (FM2_B - FM2_A) x SF + FM2_A     if FM2_B > 0\nFM2.1 = FM2_A                         otherwise"]
[null,null,null,null,null,"RIIO-2 allocation 2 Capitalisation rate","%",null,null,null,0.85,0.85,0.85,0.85,0.85,0.85,null,"CR2"]
[null,null,null,null,"Fast Pot Allocation 2",null,"£m 20/21 prices",null,null,null,{"$f":"(1 - K54) * K53","v":9.0191306411469689},{"$f":"(1 - L54) * L53","v":13.079890398638925},15.690794902755302,17.364790658735231,17.364790658735231,17.364790658735231,null,"FM2 = (1 - CR2) x FM2.1"]
[null,null,null,"Fast money",null,null,"£m 20/21 prices","FMt",null,null,{"$f":"K35 + K55","v":89.002664631766478},{"$f":"L35 + L55","v":93.034463338683722},92.743284594355814,92.488539912180187,92.488539912180187,92.488539912180187,null,"FM = FM1 + FM2"]
[null,null,null,null,"Post-vesting pre-RIIO depreciation",null,"£m 20/21 prices",null,null,null,115.67009193435675,74.518245928097429,68.607745619893763,61.918691903120958,61.918691903120958,61.918691903120958,null,"DPN1"]
[null,null,null,null,"RIIO-1 depreciation",null,"£m 20/21 prices",null,null,null,46.718667249807694,46.718667249807694,46.718667249807694,46.718667249807694,46.718667249807694,46.718667249807694,null,"DPN2"]
[null,null,null,null,"RIIO-2 depreciation",null,"£m 20/21 prices",null,null,null,4.4903153921713423,9.7733521242738242,15.566242104697345,21.537434261645814,21.537434261645814,21.537434261645814,null,"DPN3"]
[null,null,null,"Depreciation",null,null,"£m 20/21 prices","DPNt",null,null,{"$f":"K57 + K58 + K59","v":166.87907457633577},{"$f":"L57 + L58 + L59","v":131.01026530217894},130.89265497439879,130.17479341457448,130.17479341457448,130.17479341457448,null,"DPN = DPN1 + DPN2 + DPN3"]
[null,null,null,null,"Vanilla WACC",null,"annual real %",null,null,null,4.1370183200000001E-2,4.09301584E-2,4.1868818000000002E-2,4.1308793199999999E-2,4.1308793199999999E-2,4.1308793199999999E-2,null,"RTN1"]
[null,null,null,null,"Single year discount factor",null,"scalar",null,null,null,{"$f":"1 / (1 + K61)","v":0.96027331695548013},0.9606792462782392,0.95981373347906451,0.96032992953698604,0.96032992953698604,0.96032992953698604,null,"RTN2"]
[null,null,null,null,"Closing RAV",null,"£m 20/21 prices",null,null,null,2066.6502534003771,2196.3200372172564,2334.131029305539,2477.6454645485023,2477.6454645485023,2477.6454645485023,null,"RTN3"]
[null,null,null,null,"Opening RAV (after transfers)",null,"£m 20/21 prices",null,null,null,1995.7926750321012,2066.6502534003771,2196.3200372172564,2334.131029305539,2334.131029305539,2334.131029305539,null,"RTN4"]
[null,null,null,null,"Discounted closing RAV",null,"£m 20/21 prices",null,null,null,{"$f":"K62 * K63","v":1984.5490938196635},{"$f":"L62 * L63","v":2109.9590779396681},2240.3310176670811,2379.3570943874961,2379.3570943874961,2379.3570943874961,null,"RTN5"]
[null,null,null,null,"NPV-neutral RAV return base",null,"£m 20/21 prices",null,null,null,{"$f":"AVERAGE(K64:K65)","v":1990.1708844258824},2088.3046656700226,2218.325527442169,2356.7440618465175,2356.7440618465175,2356.7440618465175,null,"RTN6"]
[null,null,null,"Return",null,null,"£m 20/21 prices","RTNt",null,null,{"$f":"K66 * K61","v":82.333734088004775},{"$f":"L66 * L61","v":85.474640753333063},92.878667773230191,97.354253076145795,97.354253076145795,97.354253076145795,null,"RTN = RTN1 + RTN2 + RTN3 + RTN4 + RTN5 + RTN6"]
[null,null,null,null,"Licence Fee Payments",null,"£m 20/21 prices","LFt",null,null,2.0938496933435586,2.2903562410999618,2.4681083129086803,2.6530185011980367,2.6530185011980367,2.6530185011980367,null,"PT1"]
[null,null,null,null,"Prescribed Rates",null,"£m 20/21 prices","RBt",null,null,30.557878036508615,29.851648112312503,31.752770329363916,31.715960291527441,31.715960291527441,31.715960291527441,null,"PT2"]
[null,null,null,null,"Pass-through Transmission Connection Point Charges",null,"£m 20/21 prices","TBt",null,null,22.427187906174453,23.356219423681853,23.30170328778857,23.243261487706626,23.243261487706626,23.243261487706626,null,"PT3"]
[null,null,null,null,"Smart Meter Communication Licensee Costs",null,"£m 20/21 prices","SMCt",null,null,1.748834170505932,2.2561863173216885,2.3559712047963859,14.621030922413503,14.621030922413503,14.621030922413503,null,"PT4"]
[null,null,null,null,"Smart Meter Information Technology Costs",null,"£m 20/21 prices","SMITt",null,null,1.1279691388708,1.5277685223039756,1.5277685223039756,1.5277685223039756,1.5277685223039756,1.5277685223039756,null,"PT5"]
[null,null,null,null,"Ring Fence Costs",null,"£m 20/21 prices","RFt",null,null,0,0,0,0,0,0,null,"PT6"]
[null,null,null,null,"Supplier of Last Resort Net Costs",null,"£m 20/21 prices","SLRt",null,null,0.44379427331895704,-0.51997411265006177,-2.445119335319422,0,0,0,null,"PT7"]
[null,null,null,null,"Valid Bad Debt Claims",null,"£m 20/21 prices","IBDAt",null,null,0.11622045067797707,0,0,0,0,0,null,"PT8"]
[null,null,null,null,"Pension Scheme Established Deficit repair expenditure",null,"£m 20/21 prices","EDEt",null,null,-5.75,-5.75,-5.75,-5.7448273360144393,-5.7448273360144393,-5.7448273360144393,null,"PT9"]
[null,null,null,null,"Failed Supplier Recovered Costs",null,"£m 20/21 prices","SRCt",null,null,0,0,0,0,0,0,null,"PT10"]
[null,null,null,null,"Shetland Variable Energy Costs (SSEH only)",null,"£m 20/21 prices","SECt",null,null,0,0,0,0,0,0,null,"PT11"]
[null,null,null,null,"Assistance for high-cost distributors adjustment (SSEH only)",null,"£m 20/21 prices","HBt",null,null,0,0,0,0,0,0,null,"PT12"]
[null,null,null,"Pass-through",null,null,"£m 20/21 prices","PTt",null,null,{"$f":"SUM(K68:K76, K78) - K77 - K79","v":52.765733669400298},{"$f":"SUM(L68:L76, L78) - L77 - L79","v":53.012204504069928},53.211202321842094,68.016212389135134,68.016212389135134,68.016212389135134,null,"PT = PT1 + PT2 + PT3 + PT4 + PT5 + PT6 + PT7 + PT8 + PT9 - PT10 + PT11 - PT12"]
[null,null,"Base Revenue",null,null,null,"£m 20/21 prices",null,null,null,{"$f":"K56 + K60 + K67 + K80","v":390.98120696550728},{"$f":"L56 + L60 + L67 + L80","v":362.53157389826566},369.72580966382691,388.03379879203561,388.03379879203561,388.03379879203561,null,"A = FM + DPN + RTN + PT"]
[null,null,null,"Return Adjustment (note: this row is not active. It will be linked to ReturnAdj for closeout)",null,null,"£m 20/21 prices","RTNAt",null,null,0,0,0,0,0,0,null,"RTNA"]
[null,null,null,"Equity issuance costs",null,null,"£m 20/21 prices","EICt",null,null,0,0,0,0,0,0,null,"EIC"]
[null,null,null,"Business plan incentive",null,null,"£m 20/21 prices","BPIt",null,null,0,0,0,0,0,0,null,"BPI"]
[null,null,null,null,"Time to connect ODI",null,"£m 20/21 prices","TTCt",null,null,0.7221382044515865,0.94190481339973209,0.43632869999999979,0.43632869999999979,0.43632869999999979,0.43632869999999979,null,"ODI1"]
[null,null,null,null,"Broad Measure of Customer Service ODI",null,"£m 20/21 prices","BMCSt",null,null,0.76234246943237083,1.2147947383738646,2.7972000000000112,3.323,3.323,3.323,null,"ODI2"]
[null,null,null,null,"Interruptions incentive scheme ODI",null,"£m 20/21 prices","IQt",null,null,2.7283043517612438,3.0301033943281035,1.255965,1.2535799999999999,1.2535799999999999,1.2535799999999999,null,"ODI3"]
[null,null,null,null,"Major connections ODI",null,"£m 20/21 prices","MCt",null,null,0,0,0,0,0,0,null,"ODI4"]
[null,null,null,null,"Consumer Vulnerability ODI",null,"£m 20/21 prices","CVIt",null,null,1.661,0,0,4.9174060964104758,4.9174060964104758,4.9174060964104758,null,"ODI5"]
[null,null,null,null,"Distribution System Operator ODI",null,"£m 20/21 prices","DSOIt",null,null,1.7274800000000001,0,0,0,0,0,null,"ODI6"]
[null,null,null,null,"Dig, Fix and Go ODI (ENWL only)",null,"£m 20/21 prices","DFGt",null,null,0,0,0,0,0,0,null,"ODI7"]
[null,null,null,null,"Collaborative Streetworks ODI (EPN, LPN and SPN only)",null,"£m 20/21 prices","CSWt",null,null,0,0,0,0,0,0,null,"ODI8"]
[null,null,null,"Output delivery incentive",null,null,"£m 20/21 prices","ODIt",null,null,{"$f":"SUM(K85:K92)","v":7.6012650256452012},{"$f":"SUM(L85:L92)","v":5.1868029461017002},4.4894937000000112,9.9303147964104745,9.9303147964104745,9.9303147964104745,null,"ODI = ODI1 + ODI2 + ODI3 + ODI4 + ODI5 + ODI6 + ODI7 + ODI8"]
[null,null,null,"Other revenue allowances",null,null,"£m 20/21 prices","ORAt",null,null,0.92604130218589942,4.8952702745197563,0,0,0,0,null,"ORA"]
[null,null,null,"Directly Remunerated Services",null,null,"£m 20/21 prices","DRSt",null,null,-0.479376172028672,-3.0971213125170927E-2,-3.0821056147726233E-2,-3.061316175368578E-2,-3.061316175368578E-2,-3.061316175368578E-2,null,"DRS"]
[null,null,"Calculated revenue (before tax)",null,null,null,"£m 20/21 prices",null,null,null,{"$f":"SUM(K81:K95) - K93","v":399.02913712130982},{"$f":"SUM(L81:L95) - L93","v":372.58267590576196},374.18448230767922,397.93350042669238,397.93350042669238,397.93350042669238,null,"B = A + RTNA + EIC + BPI + ODI + ORA + DRS"]
[null,null,null,"Tax allowance",null,null,"£m 20/21 prices","TAXt",null,null,1.5628831781221042,1.2419164035426926,1.262280302042796,1.2767760576421814,0,0,null,"TAX"]
[null,null,null,"Tax allowance adjustment",null,null,"£m 20/21 prices","TAXAt",null,null,0,0,0,0,0,0,null,"TAXA"]
[null,null,"Calculated revenue",null,null,null,"£m 20/21 prices",null,null,null,{"$f":"SUM(K96:K98)","v":400.59202029943191},{"$f":"SUM(L96:L98)","v":373.82459230930465},375.44676260972199,399.21027648433454,397.93350042669238,397.93350042669238,null,"R = B + TAX + TAXA"]
[null,null,"Real to nominal prices conversion factor (splice index for RIIO-2)",null,null,null,"scalar","PIt / PI2020-21",null,null,1.321792585589326,1.3743827621199309,1.4066722012363251,1.4352422149476913,1.4639470592466453,1.4932260004315783,null,"PIt / PI2020-21"]
[null,null,"Combined RPI-CPIH price index (financial year average) (aka Price Index term) PIt",null,null,null,"scalar","PIt",null,null,388.82731892752673,404.29759585694637,413.79607253035232,422.20041823044591,430.64442659505482,439.25731512695592,null,"PI"]
[]
[null,null,"Calculated revenue",null,null,null,"£m nominal","Rt x  PIt / PI2020/21",null,null,{"$f":"K99 * K100","v":529.49956227803784},{"$f":"L99 * L100","v":513.77807572641916},528.13052400726963,572.96344145125659,582.55357772537991,594.20464927988758,null,"C = R x Pit / PI2020/21"]
[null,null,null,"Correction term",null,null,"£m nominal","Kt",null,null,{"$f":"K115","v":48.701219026143356},{"$f":"L115","v":24.458681472855694},52.21689838654126,32.667119240252319,0,0,null,"K"]
[null,null,null,"Forecasting penalty",null,null,"£m nominal","FPt",null,null,0,0,0,0,0,0,null,"FP"]
[null,null,null,"Legacy Allowed Revenue",null,null,"£m nominal","LARt",null,null,43.769863712293279,1.1013779007450033,1.0155498927605671,1.0795595404165736,0,0,null,"LAR"]
[null,null,"Allowed revenue",null,null,null,"£m nominal","ARt (part C)",null,null,{"$f":"SUM(K103:K106)","v":621.97064501647446},{"$f":"SUM(L103:L106)","v":539.33813510001983},581.36297228657145,606.71012023192543,582.55357772537991,594.20464927988758,null,"AR = C + K + FP + LAR"]
[]
[null,null,"Recovered Revenue",null,null,null,"£m nominal","RRt",null,null,599.38234671000009,490.3259263112875,550.63276408662955,606.71012023192543,582.55357772537991,594.20464927988758,null,"RR"]
[null,null,"Revenue under/(over) recovery",null,null,null,"£m nominal",null,null,null,{"$f":"K107 - K109","v":22.588298306474371},{"$f":"L107 - L109","v":49.012208788732323},30.730208199941899,0,0,0,null,"D = AR - RR"]
[]
[null,null,null,"Vanilla weighted average cost of capital ",null,null,"annual real %","WACCt",null,null,4.1370183200000001E-2,4.09301584E-2,4.1868818000000002E-2,4.1308793199999999E-2,4.1308793199999999E-2,4.1308793199999999E-2,null,"WACC"]
[null,null,null,"Inflation (from year t to t+1)",null,null,"annual %","PIt+1/PIt",null,null,3.9787011293574093E-2,2.3493774810293022E-2,2.0310356376031402E-2,2.0310356376031402E-2,2.0310356376031402E-2,2.0310356376031402E-2,null,"E [= PIt+1/PIt]"]
[null,null,null,"Nominal time value of money",null,null,"annual nominal %","TVMt",null,null,{"$f":"(1 + K112) * (1 + K113) - 1","v":8.2803190439769692E-2},{"$f":"(1 + L112) * (1 + L113) - 1","v":6.5385537134692084E-2},6.3029544990654607E-2,6.2458145887387184E-2,6.2458145887387184E-2,6.2458145887387184E-2,null,"TVM = (1 + WACC) x (1 + E) - 1"]
[null,null,"Correction Term",null,null,null,"£m nominal","Kt",null,null,48.701219026143356,24.458681472855694,52.21689838654126,32.667119240252319,0,0,null,"K [= Dt-1 x (1 + TVMt-1)]"]
[]
[null,"Checks"]
[]
[null,null,null,null,"Check for error values",null,"number of issues",{"$f":"SUM(IF(ISERROR(K15:P116), 1))","v":0}]
[]
[null,null,null,null,"Summary of checks",null,"number of issues",{"$f":"H119","v":0}]
[]
[null,"End of sheet"]

{"sheet":"Table 1 - Delta from previous","index":9,"n_rows":125,"n_cols":25,"rows_kept":125,"cut":false,"hidden":false,"merged":[[13,5,13,7]]}
[{"$f":"MID(CELL(\"filename\",A1),FIND(\"]\",CELL(\"filename\",A1))+1,255)","v":"Table 1 - Delta from previous"}]
[{"$f":"Cover!D23 & \" - \" & TEXT(CIRP_submission_date, \"mmm\") & \"-\" & RIGHT(YEAR(CIRP_submission_date), 2) & \" - \" & Cover!D25","v":"SP Distribution - Jan-26 - V1"}]
[{"$f":"Cover!D2&\" - \"&Cover!D8&\" v\"&Cover!D10&\" - \"&Cover!D19","v":"Cost Information Review Pack (CIRP) - Release for charge setting v1 - 2027/28"}]
[{"$f":"H123 & IF(H123 = 1, \" issue\", \" issues\") &\" identified in checks on this sheet\"","v":"0 issues identified in checks on this sheet"},null,null,null,null,null,null,null,null,"Previous forecast >>",null,null,null,null,null,null,"Delta from previous >>"]
[null,null,null,null,null,null,null,null,null,null,{"$f":"TRANSPOSE('CIRP_User control'!G27:G32)","v":"2024/25"},"2025/26","2026/27","2027/28","2028/29","2029/30",null,{"$f":"K5","v":"2024/25"},{"$f":"L5","v":"2025/26"},{"$f":"M5","v":"2026/27"},{"$f":"N5","v":"2027/28"},{"$f":"O5","v":"2028/29"},{"$f":"P5","v":"2029/30"}]
[null,"Click here to return to model map",null,null,null,null,"Units","Constants",null,null,{"$f":"TRANSPOSE('CIRP_User control'!E27:E32)","v":"t-1"},"t","t+1","t+2","t+3","t+4",null,{"$f":"K6","v":"t-1"},"t","t+1","t+2","t+3","t+4",null,"Variance commentary"]
[null,null,null,null,null,null,null,null,null,null,{"$f":"TRANSPOSE('CIRP_User control'!$H$27:$H$32)","v":"Historic"},"Current","Published","Published","Forecast","Forecast",null,{"$f":"K7","v":"Historic"},{"$f":"L7","v":"Current"},{"$f":"M7","v":"Published"},{"$f":"N7","v":"Published"},{"$f":"O7","v":"Forecast"},{"$f":"P7","v":"Forecast"}]
[null,"Description"]
[]
[null,null,"This sheet contains: (1) the DNO's previous forecast of Table 1 values (which determine its Allowed Revenue), (2) the "]
[null,null,"difference between the current and previous forecasts, and (3) a commentary on the DNO's forecast beyond the latest"]
[null,null,"published charging year, as required by DCUSA Schedule 20, paragraph 2.2 (h)."]
[]
[null,null,null,null,null,"[DNO commentary]"]
[]
[null,"Table 1 - Delta from previous"]
[]
[null,null,null,null,null,"Allowed load related capex","£m 20/21 prices",null,null,null,null,null,null,null,null,null,null,{"$f":"'Table 1 - Detailed'!K16 - 'Table 1 - Delta from previous'!K18","v":24.631857147411846},{"$f":"'Table 1 - Detailed'!L16 - 'Table 1 - Delta from previous'!L18","v":21.960113678980118},{"$f":"'Table 1 - Detailed'!M16 - 'Table 1 - Delta from previous'!M18","v":21.758462381056706},{"$f":"'Table 1 - Detailed'!N16 - 'Table 1 - Delta from previous'!N18","v":22.617794734099331},{"$f":"'Table 1 - Detailed'!O16 - 'Table 1 - Delta from previous'!O18","v":22.617794734099331},{"$f":"'Table 1 - Detailed'!P16 - 'Table 1 - Delta from previous'!P18","v":22.617794734099331}]
[null,null,null,null,null,"Allowed non-load related capex - asset replacement","£m 20/21 prices",null,null,null,null,null,null,null,null,null,null,{"$f":"'Table 1 - Detailed'!K17 - 'Table 1 - Delta from previous'!K19","v":73.963619744470606},{"$f":"'Table 1 - Detailed'!L17 - 'Table 1 - Delta from previous'!L19","v":66.965767197100703},{"$f":"'Table 1 - Detailed'!M17 - 'Table 1 - Delta from previous'!M19","v":69.062501270950349},{"$f":"'Table 1 - Detailed'!N17 - 'Table 1 - Delta from previous'!N19","v":67.809430400105654},{"$f":"'Table 1 - Detailed'!O17 - 'Table 1 - Delta from previous'!O19","v":67.809430400105654},{"$f":"'Table 1 - Detailed'!P17 - 'Table 1 - Delta from previous'!P19","v":67.809430400105654}]
[null,null,null,null,null,"Allowed non-load related capex - other","£m 20/21 prices",null,null,null,null,null,null,null,null,null,null,{"$f":"'Table 1 - Detailed'!K18 - 'Table 1 - Delta from previous'!K20","v":34.686396449831904},{"$f":"'Table 1 - Detailed'!L18 - 'Table 1 - Delta from previous'!L20","v":31.619333926380673},{"$f":"'Table 1 - Detailed'!M18 - 'Table 1 - Delta from previous'!M20","v":32.142847090510848},{"$f":"'Table 1 - Detailed'!N18 - 'Table 1 - Delta from previous'!N20","v":29.47652202777827},{"$f":"'Table 1 - Detailed'!O18 - 'Table 1 - Delta from previous'!O20","v":29.47652202777827},{"$f":"'Table 1 - Detailed'!P18 - 'Table 1 - Delta from previous'!P20","v":29.47652202777827}]
[null,null,null,null,null,"Allowed faults","£m 20/21 prices",null,null,null,null,null,null,null,null,null,null,{"$f":"'Table 1 - Detailed'!K19 - 'Table 1 - Delta from previous'!K21","v":24.017920010814088},{"$f":"'Table 1 - Detailed'!L19 - 'Table 1 - Delta from previous'!L21","v":23.785213296291982},{"$f":"'Table 1 - Detailed'!M19 - 'Table 1 - Delta from previous'!M21","v":23.618642378415334},{"$f":"'Table 1 - Detailed'!N19 - 'Table 1 - Delta from previous'!N21","v":23.391138842364491},{"$f":"'Table 1 - Detailed'!O19 - 'Table 1 - Delta from previous'!O21","v":23.391138842364491},{"$f":"'Table 1 - Detailed'!P19 - 'Table 1 - Delta from previous'!P21","v":23.391138842364491}]
[null,null,null,null,null,"Allowed tree cutting","£m 20/21 prices",null,null,null,null,null,null,null,null,null,null,{"$f":"'Table 1 - Detailed'!K20 - 'Table 1 - Delta from previous'!K22","v":3.7094841360151025},{"$f":"'Table 1 - Detailed'!L20 - 'Table 1 - Delta from previous'!L22","v":3.6972764076724078},{"$f":"'Table 1 - Detailed'!M20 - 'Table 1 - Delta from previous'!M22","v":3.7951360986319251},{"$f":"'Table 1 - Detailed'!N20 - 'Table 1 - Delta from previous'!N22","v":3.6381849454867505},{"$f":"'Table 1 - Detailed'!O20 - 'Table 1 - Delta from previous'!O22","v":3.6381849454867505},{"$f":"'Table 1 - Detailed'!P20 - 'Table 1 - Delta from previous'!P22","v":3.6381849454867505}]
[null,null,null,null,null,"Allowed 100% 'revenue pool' expenditure","£m 20/21 prices",null,null,null,null,null,null,null,null,null,null,{"$f":"'Table 1 - Detailed'!K21 - 'Table 1 - Delta from previous'!K23","v":15.44397132738248},{"$f":"'Table 1 - Detailed'!L21 - 'Table 1 - Delta from previous'!L23","v":15.219298441839326},{"$f":"'Table 1 - Detailed'!M21 - 'Table 1 - Delta from previous'!M23","v":14.804031078161294},{"$f":"'Table 1 - Detailed'!N21 - 'Table 1 - Delta from previous'!N23","v":14.60910178454176},{"$f":"'Table 1 - Detailed'!O21 - 'Table 1 - Delta from previous'!O23","v":14.60910178454176},{"$f":"'Table 1 - Detailed'!P21 - 'Table 1 - Delta from previous'!P23","v":14.60910178454176}]
[null,null,null,null,null,"Allowed controllable opex","£m 20/21 prices",null,null,null,null,null,null,null,null,null,null,{"$f":"'Table 1 - Detailed'!K22 - 'Table 1 - Delta from previous'!K24","v":87.007978103789426},{"$f":"'Table 1 - Detailed'!L22 - 'Table 1 - Delta from previous'!L24","v":86.408127529275049},{"$f":"'Table 1 - Detailed'!M22 - 'Table 1 - Delta from previous'!M24","v":82.717670179813808},{"$f":"'Table 1 - Detailed'!N22 - 'Table 1 - Delta from previous'!N24","v":81.746719743163993},{"$f":"'Table 1 - Detailed'!O22 - 'Table 1 - Delta from previous'!O24","v":81.746719743163993},{"$f":"'Table 1 - Detailed'!P22 - 'Table 1 - Delta from previous'!P24","v":81.746719743163993}]
[null,null,null,null,null,"Total RIIO-2 capitalisation rate allocation 1 allowances","£m 20/21 prices",null,null,null,{"$f":"SUM(K18:K24)","v":0},0,0,0,0,0,null,{"$f":"'Table 1 - Detailed'!K23 - 'Table 1 - Delta from previous'!K25","v":263.46122691971544},{"$f":"'Table 1 - Detailed'!L23 - 'Table 1 - Delta from previous'!L25","v":249.65513047754027},{"$f":"'Table 1 - Detailed'!M23 - 'Table 1 - Delta from previous'!M25","v":247.89929047754026},{"$f":"'Table 1 - Detailed'!N23 - 'Table 1 - Delta from previous'!N25","v":243.28889247754026},{"$f":"'Table 1 - Detailed'!O23 - 'Table 1 - Delta from previous'!O25","v":243.28889247754026},{"$f":"'Table 1 - Detailed'!P23 - 'Table 1 - Delta from previous'!P25","v":243.28889247754026}]
[null,null,null,null,null,"Actual load related capex","£m 20/21 prices","ALCt",null,null,null,null,null,null,null,null,null,{"$f":"'Table 1 - Detailed'!K24 - 'Table 1 - Delta from previous'!K26","v":15.579650402661066},{"$f":"'Table 1 - Detailed'!L24 - 'Table 1 - Delta from previous'!L26","v":16.432369984722207},{"$f":"'Table 1 - Detailed'!M24 - 'Table 1 - Delta from previous'!M26","v":21.296862946633006},{"$f":"'Table 1 - Detailed'!N24 - 'Table 1 - Delta from previous'!N26","v":29.36767140788028},{"$f":"'Table 1 - Detailed'!O24 - 'Table 1 - Delta from previous'!O26","v":29.36767140788028},{"$f":"'Table 1 - Detailed'!P24 - 'Table 1 - Delta from previous'!P26","v":29.36767140788028}]
[null,null,null,null,null,"Actual non-load related capex - asset replacement","£m 20/21 prices","ANCAt",null,null,null,null,null,null,null,null,null,{"$f":"'Table 1 - Detailed'!K25 - 'Table 1 - Delta from previous'!K27","v":76.438580658507917},{"$f":"'Table 1 - Detailed'!L25 - 'Table 1 - Delta from previous'!L27","v":80.819104464764479},{"$f":"'Table 1 - Detailed'!M25 - 'Table 1 - Delta from previous'!M27","v":63.904824534846199},{"$f":"'Table 1 - Detailed'!N25 - 'Table 1 - Delta from previous'!N27","v":53.524458982191916},{"$f":"'Table 1 - Detailed'!O25 - 'Table 1 - Delta from previous'!O27","v":53.524458982191916},{"$f":"'Table 1 - Detailed'!P25 - 'Table 1 - Delta from previous'!P27","v":53.524458982191916}]
[null,null,null,null,null,"Actual non-load related capex - other","£m 20/21 prices","ANCOt",null,null,null,null,null,null,null,null,null,{"$f":"'Table 1 - Detailed'!K26 - 'Table 1 - Delta from previous'!K28","v":29.539302882342923},{"$f":"'Table 1 - Detailed'!L26 - 'Table 1 - Delta from previous'!L28","v":28.29726300653217},{"$f":"'Table 1 - Detailed'!M26 - 'Table 1 - Delta from previous'!M28","v":32.235833929111479},{"$f":"'Table 1 - Detailed'!N26 - 'Table 1 - Delta from previous'!N28","v":29.11910412505943},{"$f":"'Table 1 - Detailed'!O26 - 'Table 1 - Delta from previous'!O28","v":29.11910412505943},{"$f":"'Table 1 - Detailed'!P26 - 'Table 1 - Delta from previous'!P28","v":29.11910412505943}]
[null,null,null,null,null,"Actual faults","£m 20/21 prices","AFAt",null,null,null,null,null,null,null,null,null,{"$f":"'Table 1 - Detailed'!K27 - 'Table 1 - Delta from previous'!K29","v":29.37336217382099},{"$f":"'Table 1 - Detailed'!L27 - 'Table 1 - Delta from previous'!L29","v":23.968266934420384},{"$f":"'Table 1 - Detailed'!M27 - 'Table 1 - Delta from previous'!M29","v":23.817107270928545},{"$f":"'Table 1 - Detailed'!N27 - 'Table 1 - Delta from previous'!N29","v":23.615532175399203},{"$f":"'Table 1 - Detailed'!O27 - 'Table 1 - Delta from previous'!O29","v":23.615532175399203},{"$f":"'Table 1 - Detailed'!P27 - 'Table 1 - Delta from previous'!P29","v":23.615532175399203}]
[null,null,null,null,null,"Actual tree cutting","£m 20/21 prices","ATCt",null,null,null,null,null,null,null,null,null,{"$f":"'Table 1 - Detailed'!K28 - 'Table 1 - Delta from previous'!K30","v":6.1282418038414797},{"$f":"'Table 1 - Detailed'!L28 - 'Table 1 - Delta from previous'!L30","v":3.9415675227154185},{"$f":"'Table 1 - Detailed'!M28 - 'Table 1 - Delta from previous'!M30","v":3.9472145737929156},{"$f":"'Table 1 - Detailed'!N28 - 'Table 1 - Delta from previous'!N30","v":3.9502466302869239},{"$f":"'Table 1 - Detailed'!O28 - 'Table 1 - Delta from previous'!O30","v":3.9502466302869239},{"$f":"'Table 1 - Detailed'!P28 - 'Table 1 - Delta from previous'!P30","v":3.9502466302869239}]
[null,null,null,null,null,"Actual 100% ‘revenue pool’ expenditure","£m 20/21 prices","ARPt",null,null,null,null,null,null,null,null,null,{"$f":"'Table 1 - Detailed'!K29 - 'Table 1 - Delta from previous'!K31","v":13.064714582301995},{"$f":"'Table 1 - Detailed'!L29 - 'Table 1 - Delta from previous'!L31","v":18.174938098241526},{"$f":"'Table 1 - Detailed'!M29 - 'Table 1 - Delta from previous'!M31","v":17.324673414570764},{"$f":"'Table 1 - Detailed'!N29 - 'Table 1 - Delta from previous'!N31","v":17.549235675543112},{"$f":"'Table 1 - Detailed'!O29 - 'Table 1 - Delta from previous'!O31","v":17.549235675543112},{"$f":"'Table 1 - Detailed'!P29 - 'Table 1 - Delta from previous'!P31","v":17.549235675543112}]
[null,null,null,null,null,"Actual controllable opex","£m 20/21 prices","ACOt",null,null,null,null,null,null,null,null,null,{"$f":"'Table 1 - Detailed'!K30 - 'Table 1 - Delta from previous'!K32","v":99.638480514271393},{"$f":"'Table 1 - Detailed'!L30 - 'Table 1 - Delta from previous'!L32","v":111.74184577802872},{"$f":"'Table 1 - Detailed'!M30 - 'Table 1 - Delta from previous'!M32","v":103.25745746324677},{"$f":"'Table 1 - Detailed'!N30 - 'Table 1 - Delta from previous'!N32","v":100.4098535490651},{"$f":"'Table 1 - Detailed'!O30 - 'Table 1 - Delta from previous'!O32","v":100.4098535490651},{"$f":"'Table 1 - Detailed'!P30 - 'Table 1 - Delta from previous'!P32","v":100.4098535490651}]
[null,null,null,null,null,"Total actual expenditure in capitalisation rate allocation 1","£m 20/21 prices",null,null,null,{"$f":"SUM(K26:K32)","v":0},{"$f":"SUM(L26:L32)","v":0},0,0,0,0,null,{"$f":"'Table 1 - Detailed'!K31 - 'Table 1 - Delta from previous'!K33","v":269.76233301774778},{"$f":"'Table 1 - Detailed'!L31 - 'Table 1 - Delta from previous'!L33","v":283.37535578942493},{"$f":"'Table 1 - Detailed'!M31 - 'Table 1 - Delta from previous'!M33","v":265.78397413312968},{"$f":"'Table 1 - Detailed'!N31 - 'Table 1 - Delta from previous'!N33","v":257.53610254542599},{"$f":"'Table 1 - Detailed'!O31 - 'Table 1 - Delta from previous'!O33","v":257.53610254542599},{"$f":"'Table 1 - Detailed'!P31 - 'Table 1 - Delta from previous'!P33","v":257.53610254542599}]
[null,null,null,null,null,"RIIO-2 Funding Adjustment Rate (often referred to as 'sharing factor')","%","SF",null,null,null,null,null,null,null,null,null,{"$f":"'Table 1 - Detailed'!K32 - 'Table 1 - Delta from previous'!K34","v":0.5},{"$f":"'Table 1 - Detailed'!L32 - 'Table 1 - Delta from previous'!L34","v":0.5},{"$f":"'Table 1 - Detailed'!M32 - 'Table 1 - Delta from previous'!M34","v":0.5},{"$f":"'Table 1 - Detailed'!N32 - 'Table 1 - Delta from previous'!N34","v":0.5},{"$f":"'Table 1 - Detailed'!O32 - 'Table 1 - Delta from previous'!O34","v":0.5},{"$f":"'Table 1 - Detailed'!P32 - 'Table 1 - Delta from previous'!P34","v":0.5}]
[null,null,null,null,null,"Post-TIM totex Allocation 1","£m 20/21 prices",null,null,null,{"$f":"IF(K33 > 0, (K33 - K25) * K34 + K25, K25)","v":0},{"$f":"IF(L33 > 0, (L33 - L25) * L34 + L25, L25)","v":0},0,0,0,0,null,{"$f":"'Table 1 - Detailed'!K33 - 'Table 1 - Delta from previous'!K35","v":266.61177996873164},{"$f":"'Table 1 - Detailed'!L33 - 'Table 1 - Delta from previous'!L35","v":266.51524313348261},{"$f":"'Table 1 - Detailed'!M33 - 'Table 1 - Delta from previous'!M35","v":256.841632305335},{"$f":"'Table 1 - Detailed'!N33 - 'Table 1 - Delta from previous'!N35","v":250.41249751148314},{"$f":"'Table 1 - Detailed'!O33 - 'Table 1 - Delta from previous'!O35","v":250.41249751148314},{"$f":"'Table 1 - Detailed'!P33 - 'Table 1 - Delta from previous'!P35","v":250.41249751148314}]
[null,null,null,null,null,"RIIO-2 allocation 1 Capitalisation rate","%",null,null,null,null,null,null,null,null,null,null,{"$f":"'Table 1 - Detailed'!K34 - 'Table 1 - Delta from previous'!K36","v":0.7},{"$f":"'Table 1 - Detailed'!L34 - 'Table 1 - Delta from previous'!L36","v":0.7},{"$f":"'Table 1 - Detailed'!M34 - 'Table 1 - Delta from previous'!M36","v":0.7},{"$f":"'Table 1 - Detailed'!N34 - 'Table 1 - Delta from previous'!N36","v":0.7},{"$f":"'Table 1 - Detailed'!O34 - 'Table 1 - Delta from previous'!O36","v":0.7},{"$f":"'Table 1 - Detailed'!P34 - 'Table 1 - Delta from previous'!P36","v":0.7}]
[null,null,null,null,"Fast Pot Allocation 1",null,"£m 20/21 prices",null,null,null,{"$f":"(1 - K36) * K35","v":0},{"$f":"(1 - L36) * L35","v":0},0,0,0,0,null,{"$f":"'Table 1 - Detailed'!K35 - 'Table 1 - Delta from previous'!K37","v":79.983533990619506},{"$f":"'Table 1 - Detailed'!L35 - 'Table 1 - Delta from previous'!L37","v":79.954572940044798},{"$f":"'Table 1 - Detailed'!M35 - 'Table 1 - Delta from previous'!M37","v":77.052489691600513},{"$f":"'Table 1 - Detailed'!N35 - 'Table 1 - Delta from previous'!N37","v":75.123749253444956},{"$f":"'Table 1 - Detailed'!O35 - 'Table 1 - Delta from previous'!O37","v":75.123749253444956},{"$f":"'Table 1 - Detailed'!P35 - 'Table 1 - Delta from previous'!P37","v":75.123749253444956}]
[null,null,null,null,null,"Allowed load related capex","£m 20/21 prices",null,null,null,null,null,null,null,null,null,null,{"$f":"'Table 1 - Detailed'!K36 - 'Table 1 - Delta from previous'!K38","v":18.313977738329672},{"$f":"'Table 1 - Detailed'!L36 - 'Table 1 - Delta from previous'!L38","v":50.287318539584547},{"$f":"'Table 1 - Detailed'!M36 - 'Table 1 - Delta from previous'!M38","v":50.979583324491003},{"$f":"'Table 1 - Detailed'!N36 - 'Table 1 - Delta from previous'!N38","v":52.8285650368205},{"$f":"'Table 1 - Detailed'!O36 - 'Table 1 - Delta from previous'!O38","v":52.8285650368205},{"$f":"'Table 1 - Detailed'!P36 - 'Table 1 - Delta from previous'!P38","v":52.8285650368205}]
[null,null,null,null,null,"Allowed non-load related capex - asset replacement","£m 20/21 prices",null,null,null,null,null,null,null,null,null,null,{"$f":"'Table 1 - Detailed'!K37 - 'Table 1 - Delta from previous'!K39","v":9.7427448940612802},{"$f":"'Table 1 - Detailed'!L37 - 'Table 1 - Delta from previous'!L39","v":16.743826532446771},{"$f":"'Table 1 - Detailed'!M37 - 'Table 1 - Delta from previous'!M39","v":23.00545151209359},{"$f":"'Table 1 - Detailed'!N37 - 'Table 1 - Delta from previous'!N39","v":25.401979140057012},{"$f":"'Table 1 - Detailed'!O37 - 'Table 1 - Delta from previous'!O39","v":25.401979140057012},{"$f":"'Table 1 - Detailed'!P37 - 'Table 1 - Delta from previous'!P39","v":25.401979140057012}]
[null,null,null,null,null,"Allowed non-load related capex - other","£m 20/21 prices",null,null,null,null,null,null,null,null,null,null,{"$f":"'Table 1 - Detailed'!K38 - 'Table 1 - Delta from previous'!K40","v":14.48},{"$f":"'Table 1 - Detailed'!L38 - 'Table 1 - Delta from previous'!L40","v":7.19},{"$f":"'Table 1 - Detailed'!M38 - 'Table 1 - Delta from previous'!M40","v":12.875},{"$f":"'Table 1 - Detailed'!N38 - 'Table 1 - Delta from previous'!N40","v":24.535},{"$f":"'Table 1 - Detailed'!O38 - 'Table 1 - Delta from previous'!O40","v":24.535},{"$f":"'Table 1 - Detailed'!P38 - 'Table 1 - Delta from previous'!P40","v":24.535}]
[null,null,null,null,null,"Allowed faults","£m 20/21 prices",null,null,null,null,null,null,null,null,null,null,{"$f":"'Table 1 - Detailed'!K39 - 'Table 1 - Delta from previous'!K41","v":11.58330067041874},{"$f":"'Table 1 - Detailed'!L39 - 'Table 1 - Delta from previous'!L41","v":2.661845},{"$f":"'Table 1 - Detailed'!M39 - 'Table 1 - Delta from previous'!M41","v":2.308405},{"$f":"'Table 1 - Detailed'!N39 - 'Table 1 - Delta from previous'!N41","v":2.3415400000000002},{"$f":"'Table 1 - Detailed'!O39 - 'Table 1 - Delta from previous'!O41","v":2.3415400000000002},{"$f":"'Table 1 - Detailed'!P39 - 'Table 1 - Delta from previous'!P41","v":2.3415400000000002}]
[null,null,null,null,null,"Allowed tree cutting","£m 20/21 prices",null,null,null,null,null,null,null,null,null,null,{"$f":"'Table 1 - Detailed'!K40 - 'Table 1 - Delta from previous'!K42","v":0},{"$f":"'Table 1 - Detailed'!L40 - 'Table 1 - Delta from previous'!L42","v":0},{"$f":"'Table 1 - Detailed'!M40 - 'Table 1 - Delta from previous'!M42","v":0},{"$f":"'Table 1 - Detailed'!N40 - 'Table 1 - Delta from previous'!N42","v":0},{"$f":"'Table 1 - Detailed'!O40 - 'Table 1 - Delta from previous'!O42","v":0},{"$f":"'Table 1 - Detailed'!P40 - 'Table 1 - Delta from previous'!P42","v":0}]
[null,null,null,null,null,"Allowed 100% 'revenue pool' expenditure","£m 20/21 prices",null,null,null,null,null,null,null,null,null,null,{"$f":"'Table 1 - Detailed'!K41 - 'Table 1 - Delta from previous'!K43","v":0},{"$f":"'Table 1 - Detailed'!L41 - 'Table 1 - Delta from previous'!L43","v":0},{"$f":"'Table 1 - Detailed'!M41 - 'Table 1 - Delta from previous'!M43","v":0},{"$f":"'Table 1 - Detailed'!N41 - 'Table 1 - Delta from previous'!N43","v":0},{"$f":"'Table 1 - Detailed'!O41 - 'Table 1 - Delta from previous'!O43","v":0},{"$f":"'Table 1 - Detailed'!P41 - 'Table 1 - Delta from previous'!P43","v":0}]
[null,null,null,null,null,"Allowed controllable opex","£m 20/21 prices",null,null,null,null,null,null,null,null,null,null,{"$f":"'Table 1 - Detailed'!K42 - 'Table 1 - Delta from previous'!K44","v":4.9750908266335694},{"$f":"'Table 1 - Detailed'!L42 - 'Table 1 - Delta from previous'!L44","v":8.4380014112151223},{"$f":"'Table 1 - Detailed'!M42 - 'Table 1 - Delta from previous'!M44","v":8.1680014112151227},{"$f":"'Table 1 - Detailed'!N42 - 'Table 1 - Delta from previous'!N44","v":8.8141778151237968},{"$f":"'Table 1 - Detailed'!O42 - 'Table 1 - Delta from previous'!O44","v":8.8141778151237968},{"$f":"'Table 1 - Detailed'!P42 - 'Table 1 - Delta from previous'!P44","v":8.8141778151237968}]
[null,null,null,null,null,"Total RIIO-2 capitalisation rate allocation 2 allowances","£m 20/21 prices",null,null,null,{"$f":"SUM(K38:K44)","v":0},{"$f":"SUM(L38:L44)","v":0},0,0,0,0,null,{"$f":"'Table 1 - Detailed'!K43 - 'Table 1 - Delta from previous'!K45","v":59.095114129443253},{"$f":"'Table 1 - Detailed'!L43 - 'Table 1 - Delta from previous'!L45","v":85.320991483246445},{"$f":"'Table 1 - Detailed'!M43 - 'Table 1 - Delta from previous'!M45","v":97.336441247799712},{"$f":"'Table 1 - Detailed'!N43 - 'Table 1 - Delta from previous'!N45","v":113.92126199200131},{"$f":"'Table 1 - Detailed'!O43 - 'Table 1 - Delta from previous'!O45","v":113.92126199200131},{"$f":"'Table 1 - Detailed'!P43 - 'Table 1 - Delta from previous'!P45","v":113.92126199200131}]
[null,null,null,null,null,"Actual load related capex","£m 20/21 prices","ALCUt",null,null,null,null,null,null,null,null,null,{"$f":"'Table 1 - Detailed'!K44 - 'Table 1 - Delta from previous'!K46","v":32.419644532321904},{"$f":"'Table 1 - Detailed'!L44 - 'Table 1 - Delta from previous'!L46","v":57.533940403947732},{"$f":"'Table 1 - Detailed'!M44 - 'Table 1 - Delta from previous'!M46","v":57.533940403947732},{"$f":"'Table 1 - Detailed'!N44 - 'Table 1 - Delta from previous'!N46","v":59.136194621825609},{"$f":"'Table 1 - Detailed'!O44 - 'Table 1 - Delta from previous'!O46","v":59.136194621825609},{"$f":"'Table 1 - Detailed'!P44 - 'Table 1 - Delta from previous'!P46","v":59.136194621825609}]
[null,null,null,null,null,"Actual non-load related capex - asset replacement","£m 20/21 prices","ANCAUt",null,null,null,null,null,null,null,null,null,{"$f":"'Table 1 - Detailed'!K45 - 'Table 1 - Delta from previous'!K47","v":13.241743911065871},{"$f":"'Table 1 - Detailed'!L45 - 'Table 1 - Delta from previous'!L47","v":16.921389521173417},{"$f":"'Table 1 - Detailed'!M45 - 'Table 1 - Delta from previous'!M47","v":23.107999811505177},{"$f":"'Table 1 - Detailed'!N45 - 'Table 1 - Delta from previous'!N47","v":25.460868262491388},{"$f":"'Table 1 - Detailed'!O45 - 'Table 1 - Delta from previous'!O47","v":25.460868262491388},{"$f":"'Table 1 - Detailed'!P45 - 'Table 1 - Delta from previous'!P47","v":25.460868262491388}]
[null,null,null,null,null,"Actual non-load related capex - other","£m 20/21 prices","ANCOUt",null,null,null,null,null,null,null,null,null,{"$f":"'Table 1 - Detailed'!K46 - 'Table 1 - Delta from previous'!K48","v":7.4275819720431215},{"$f":"'Table 1 - Detailed'!L46 - 'Table 1 - Delta from previous'!L48","v":14.622217240151381},{"$f":"'Table 1 - Detailed'!M46 - 'Table 1 - Delta from previous'!M48","v":31.232217240151382},{"$f":"'Table 1 - Detailed'!N46 - 'Table 1 - Delta from previous'!N48","v":33.012217240151379},{"$f":"'Table 1 - Detailed'!O46 - 'Table 1 - Delta from previous'!O48","v":33.012217240151379},{"$f":"'Table 1 - Detailed'!P46 - 'Table 1 - Delta from previous'!P48","v":33.012217240151379}]
[null,null,null,null,null,"Actual faults","£m 20/21 prices","AFAUt",null,null,null,null,null,null,null,null,null,{"$f":"'Table 1 - Detailed'!K47 - 'Table 1 - Delta from previous'!K49","v":8.0709906704187411},{"$f":"'Table 1 - Detailed'!L47 - 'Table 1 - Delta from previous'!L49","v":0},{"$f":"'Table 1 - Detailed'!M47 - 'Table 1 - Delta from previous'!M49","v":0},{"$f":"'Table 1 - Detailed'!N47 - 'Table 1 - Delta from previous'!N49","v":0},{"$f":"'Table 1 - Detailed'!O47 - 'Table 1 - Delta from previous'!O49","v":0},{"$f":"'Table 1 - Detailed'!P47 - 'Table 1 - Delta from previous'!P49","v":0}]
[null,null,null,null,null,"Actual tree cutting","£m 20/21 prices","ATCUt",null,null,null,null,null,null,null,null,null,{"$f":"'Table 1 - Detailed'!K48 - 'Table 1 - Delta from previous'!K50","v":0},{"$f":"'Table 1 - Detailed'!L48 - 'Table 1 - Delta from previous'!L50","v":0},{"$f":"'Table 1 - Detailed'!M48 - 'Table 1 - Delta from previous'!M50","v":0},{"$f":"'Table 1 - Detailed'!N48 - 'Table 1 - Delta from previous'!N50","v":0},{"$f":"'Table 1 - Detailed'!O48 - 'Table 1 - Delta from previous'!O50","v":0},{"$f":"'Table 1 - Detailed'!P48 - 'Table 1 - Delta from previous'!P50","v":0}]
[null,null,null,null,null,"Actual 100% ‘revenue pool’ expenditure","£m 20/21 prices","ARPUt",null,null,null,null,null,null,null,null,null,{"$f":"'Table 1 - Detailed'!K49 - 'Table 1 - Delta from previous'!K51","v":0},{"$f":"'Table 1 - Detailed'!L49 - 'Table 1 - Delta from previous'!L51","v":0},{"$f":"'Table 1 - Detailed'!M49 - 'Table 1 - Delta from previous'!M51","v":0},{"$f":"'Table 1 - Detailed'!N49 - 'Table 1 - Delta from previous'!N51","v":0},{"$f":"'Table 1 - Detailed'!O49 - 'Table 1 - Delta from previous'!O51","v":0},{"$f":"'Table 1 - Detailed'!P49 - 'Table 1 - Delta from previous'!P51","v":0}]
[null,null,null,null,null,"Actual controllable opex","£m 20/21 prices","ACOUt",null,null,null,null,null,null,null,null,null,{"$f":"'Table 1 - Detailed'!K50 - 'Table 1 - Delta from previous'!K52","v":0},{"$f":"'Table 1 - Detailed'!L50 - 'Table 1 - Delta from previous'!L52","v":0},{"$f":"'Table 1 - Detailed'!M50 - 'Table 1 - Delta from previous'!M52","v":0},{"$f":"'Table 1 - Detailed'!N50 - 'Table 1 - Delta from previous'!N52","v":0},{"$f":"'Table 1 - Detailed'!O50 - 'Table 1 - Delta from previous'!O52","v":0},{"$f":"'Table 1 - Detailed'!P50 - 'Table 1 - Delta from previous'!P52","v":0}]
[null,null,null,null,null,"Total actual expenditure in capitalisation rate allocation 2","£m 20/21 prices",null,null,null,{"$f":"SUM(K46:K52)","v":0},{"$f":"SUM(L46:L52)","v":0},0,0,0,0,null,{"$f":"'Table 1 - Detailed'!K51 - 'Table 1 - Delta from previous'!K53","v":61.159961085849645},{"$f":"'Table 1 - Detailed'!L51 - 'Table 1 - Delta from previous'!L53","v":89.077547165272534},{"$f":"'Table 1 - Detailed'!M51 - 'Table 1 - Delta from previous'!M53","v":111.87415745560429},{"$f":"'Table 1 - Detailed'!N51 - 'Table 1 - Delta from previous'!N53","v":117.60928012446837},{"$f":"'Table 1 - Detailed'!O51 - 'Table 1 - Delta from previous'!O53","v":117.60928012446837},{"$f":"'Table 1 - Detailed'!P51 - 'Table 1 - Delta from previous'!P53","v":117.60928012446837}]
[null,null,null,null,null,"RIIO-2 Funding Adjustment Rate (often referred to as 'sharing factor')","%","SF",null,null,{"$f":"K34","v":0},{"$f":"L34","v":0},0,0,0,0,null,{"$f":"'Table 1 - Detailed'!K52 - 'Table 1 - Delta from previous'!K54","v":0.5},{"$f":"'Table 1 - Detailed'!L52 - 'Table 1 - Delta from previous'!L54","v":0.5},{"$f":"'Table 1 - Detailed'!M52 - 'Table 1 - Delta from previous'!M54","v":0.5},{"$f":"'Table 1 - Detailed'!N52 - 'Table 1 - Delta from previous'!N54","v":0.5},{"$f":"'Table 1 - Detailed'!O52 - 'Table 1 - Delta from previous'!O54","v":0.5},{"$f":"'Table 1 - Detailed'!P52 - 'Table 1 - Delta from previous'!P54","v":0.5}]
[null,null,null,null,null,"Post-TIM totex Allocation 2","£m 20/21 prices",null,null,null,{"$f":"IF(K53 > 0, (K53 - K45) * K54 + K45, K45)","v":0},{"$f":"IF(L53 > 0, (L53 - L45) * L54 + L45, L45)","v":0},0,0,0,0,null,{"$f":"'Table 1 - Detailed'!K53 - 'Table 1 - Delta from previous'!K55","v":60.127537607646445},{"$f":"'Table 1 - Detailed'!L53 - 'Table 1 - Delta from previous'!L55","v":87.19926932425949},{"$f":"'Table 1 - Detailed'!M53 - 'Table 1 - Delta from previous'!M55","v":104.605299351702},{"$f":"'Table 1 - Detailed'!N53 - 'Table 1 - Delta from previous'!N55","v":115.76527105823484},{"$f":"'Table 1 - Detailed'!O53 - 'Table 1 - Delta from previous'!O55","v":115.76527105823484},{"$f":"'Table 1 - Detailed'!P53 - 'Table 1 - Delta from previous'!P55","v":115.76527105823484}]
[null,null,null,null,null,"RIIO-2 allocation 2 Capitalisation rate","%",null,null,null,null,null,null,null,null,null,null,{"$f":"'Table 1 - Detailed'!K54 - 'Table 1 - Delta from previous'!K56","v":0.85},{"$f":"'Table 1 - Detailed'!L54 - 'Table 1 - Delta from previous'!L56","v":0.85},{"$f":"'Table 1 - Detailed'!M54 - 'Table 1 - Delta from previous'!M56","v":0.85},{"$f":"'Table 1 - Detailed'!N54 - 'Table 1 - Delta from previous'!N56","v":0.85},{"$f":"'Table 1 - Detailed'!O54 - 'Table 1 - Delta from previous'!O56","v":0.85},{"$f":"'Table 1 - Detailed'!P54 - 'Table 1 - Delta from previous'!P56","v":0.85}]
[null,null,null,null,"Fast Pot Allocation 2",null,"£m 20/21 prices",null,null,null,{"$f":"(1 - K56) * K55","v":0},{"$f":"(1 - L56) * L55","v":0},0,0,0,0,null,{"$f":"'Table 1 - Detailed'!K55 - 'Table 1 - Delta from previous'!K57","v":9.0191306411469689},{"$f":"'Table 1 - Detailed'!L55 - 'Table 1 - Delta from previous'!L57","v":13.079890398638925},{"$f":"'Table 1 - Detailed'!M55 - 'Table 1 - Delta from previous'!M57","v":15.690794902755302},{"$f":"'Table 1 - Detailed'!N55 - 'Table 1 - Delta from previous'!N57","v":17.364790658735231},{"$f":"'Table 1 - Detailed'!O55 - 'Table 1 - Delta from previous'!O57","v":17.364790658735231},{"$f":"'Table 1 - Detailed'!P55 - 'Table 1 - Delta from previous'!P57","v":17.364790658735231}]
[null,null,null,"Fast money",null,null,"£m 20/21 prices","FMt",null,null,{"$f":"K37 + K57","v":0},{"$f":"L37 + L57","v":0},0,0,0,0,null,{"$f":"'Table 1 - Detailed'!K56 - 'Table 1 - Delta from previous'!K58","v":89.002664631766478},{"$f":"'Table 1 - Detailed'!L56 - 'Table 1 - Delta from previous'!L58","v":93.034463338683722},{"$f":"'Table 1 - Detailed'!M56 - 'Table 1 - Delta from previous'!M58","v":92.743284594355814},{"$f":"'Table 1 - Detailed'!N56 - 'Table 1 - Delta from previous'!N58","v":92.488539912180187},{"$f":"'Table 1 - Detailed'!O56 - 'Table 1 - Delta from previous'!O58","v":92.488539912180187},{"$f":"'Table 1 - Detailed'!P56 - 'Table 1 - Delta from previous'!P58","v":92.488539912180187}]
[null,null,null,null,"Post-vesting pre-RIIO depreciation",null,"£m 20/21 prices",null,null,null,null,null,null,null,null,null,null,{"$f":"'Table 1 - Detailed'!K57 - 'Table 1 - Delta from previous'!K59","v":115.67009193435675},{"$f":"'Table 1 - Detailed'!L57 - 'Table 1 - Delta from previous'!L59","v":74.518245928097429},{"$f":"'Table 1 - Detailed'!M57 - 'Table 1 - Delta from previous'!M59","v":68.607745619893763},{"$f":"'Table 1 - Detailed'!N57 - 'Table 1 - Delta from previous'!N59","v":61.918691903120958},{"$f":"'Table 1 - Detailed'!O57 - 'Table 1 - Delta from previous'!O59","v":61.918691903120958},{"$f":"'Table 1 - Detailed'!P57 - 'Table 1 - Delta from previous'!P59","v":61.918691903120958}]
[null,null,null,null,"RIIO-1 depreciation",null,"£m 20/21 prices",null,null,null,null,null,null,null,null,null,null,{"$f":"'Table 1 - Detailed'!K58 - 'Table 1 - Delta from previous'!K60","v":46.718667249807694},{"$f":"'Table 1 - Detailed'!L58 - 'Table 1 - Delta from previous'!L60","v":46.718667249807694},{"$f":"'Table 1 - Detailed'!M58 - 'Table 1 - Delta from previous'!M60","v":46.718667249807694},{"$f":"'Table 1 - Detailed'!N58 - 'Table 1 - Delta from previous'!N60","v":46.718667249807694},{"$f":"'Table 1 - Detailed'!O58 - 'Table 1 - Delta from previous'!O60","v":46.718667249807694},{"$f":"'Table 1 - Detailed'!P58 - 'Table 1 - Delta from previous'!P60","v":46.718667249807694}]
[null,null,null,null,"RIIO-2 depreciation",null,"£m 20/21 prices",null,null,null,null,null,null,null,null,null,null,{"$f":"'Table 1 - Detailed'!K59 - 'Table 1 - Delta from previous'!K61","v":4.4903153921713423},{"$f":"'Table 1 - Detailed'!L59 - 'Table 1 - Delta from previous'!L61","v":9.7733521242738242},{"$f":"'Table 1 - Detailed'!M59 - 'Table 1 - Delta from previous'!M61","v":15.566242104697345},{"$f":"'Table 1 - Detailed'!N59 - 'Table 1 - Delta from previous'!N61","v":21.537434261645814},{"$f":"'Table 1 - Detailed'!O59 - 'Table 1 - Delta from previous'!O61","v":21.537434261645814},{"$f":"'Table 1 - Detailed'!P59 - 'Table 1 - Delta from previous'!P61","v":21.537434261645814}]
[null,null,null,"Depreciation",null,null,"£m 20/21 prices","DPNt",null,null,{"$f":"K59 + K60 + K61","v":0},{"$f":"L59 + L60 + L61","v":0},0,0,0,0,null,{"$f":"'Table 1 - Detailed'!K60 - 'Table 1 - Delta from previous'!K62","v":166.87907457633577},{"$f":"'Table 1 - Detailed'!L60 - 'Table 1 - Delta from previous'!L62","v":131.01026530217894},{"$f":"'Table 1 - Detailed'!M60 - 'Table 1 - Delta from previous'!M62","v":130.89265497439879},{"$f":"'Table 1 - Detailed'!N60 - 'Table 1 - Delta from previous'!N62","v":130.17479341457448},{"$f":"'Table 1 - Detailed'!O60 - 'Table 1 - Delta from previous'!O62","v":130.17479341457448},{"$f":"'Table 1 - Detailed'!P60 - 'Table 1 - Delta from previous'!P62","v":130.17479341457448}]
[null,null,null,null,"Vanilla WACC",null,"annual real %",null,null,null,null,null,null,null,null,null,null,{"$f":"'Table 1 - Detailed'!K61 - 'Table 1 - Delta from previous'!K63","v":4.1370183200000001E-2},{"$f":"'Table 1 - Detailed'!L61 - 'Table 1 - Delta from previous'!L63","v":4.09301584E-2},{"$f":"'Table 1 - Detailed'!M61 - 'Table 1 - Delta from previous'!M63","v":4.1868818000000002E-2},{"$f":"'Table 1 - Detailed'!N61 - 'Table 1 - Delta from previous'!N63","v":4.1308793199999999E-2},{"$f":"'Table 1 - Detailed'!O61 - 'Table 1 - Delta from previous'!O63","v":4.1308793199999999E-2},{"$f":"'Table 1 - Detailed'!P61 - 'Table 1 - Delta from previous'!P63","v":4.1308793199999999E-2}]
[null,null,null,null,"Single year discount factor",null,"scalar",null,null,null,{"$f":"1 / (1 + K63)","v":1},1,1,1,1,1,null,{"$f":"'Table 1 - Detailed'!K62 - 'Table 1 - Delta from previous'!K64","v":-3.9726683044519873E-2},{"$f":"'Table 1 - Detailed'!L62 - 'Table 1 - Delta from previous'!L64","v":-3.9320753721760804E-2},{"$f":"'Table 1 - Detailed'!M62 - 'Table 1 - Delta from previous'!M64","v":-4.0186266520935487E-2},{"$f":"'Table 1 - Detailed'!N62 - 'Table 1 - Delta from previous'!N64","v":-3.9670070463013962E-2},{"$f":"'Table 1 - Detailed'!O62 - 'Table 1 - Delta from previous'!O64","v":-3.9670070463013962E-2},{"$f":"'Table 1 - Detailed'!P62 - 'Table 1 - Delta from previous'!P64","v":-3.9670070463013962E-2}]
[null,null,null,null,"Closing RAV",null,"£m 20/21 prices",null,null,null,null,null,null,null,null,null,null,{"$f":"'Table 1 - Detailed'!K63 - 'Table 1 - Delta from previous'!K65","v":2066.6502534003771},{"$f":"'Table 1 - Detailed'!L63 - 'Table 1 - Delta from previous'!L65","v":2196.3200372172564},{"$f":"'Table 1 - Detailed'!M63 - 'Table 1 - Delta from previous'!M65","v":2334.131029305539},{"$f":"'Table 1 - Detailed'!N63 - 'Table 1 - Delta from previous'!N65","v":2477.6454645485023},{"$f":"'Table 1 - Detailed'!O63 - 'Table 1 - Delta from previous'!O65","v":2477.6454645485023},{"$f":"'Table 1 - Detailed'!P63 - 'Table 1 - Delta from previous'!P65","v":2477.6454645485023}]
[null,null,null,null,"Opening RAV (after transfers)",null,"£m 20/21 prices",null,null,null,null,null,null,null,null,null,null,{"$f":"'Table 1 - Detailed'!K64 - 'Table 1 - Delta from previous'!K66","v":1995.7926750321012},{"$f":"'Table 1 - Detailed'!L64 - 'Table 1 - Delta from previous'!L66","v":2066.6502534003771},{"$f":"'Table 1 - Detailed'!M64 - 'Table 1 - Delta from previous'!M66","v":2196.3200372172564},{"$f":"'Table 1 - Detailed'!N64 - 'Table 1 - Delta from previous'!N66","v":2334.131029305539},{"$f":"'Table 1 - Detailed'!O64 - 'Table 1 - Delta from previous'!O66","v":2334.131029305539},{"$f":"'Table 1 - Detailed'!P64 - 'Table 1 - Delta from previous'!P66","v":2334.131029305539}]
[null,null,null,null,"Discounted closing RAV",null,"£m 20/21 prices",null,null,null,{"$f":"K64 * K65","v":0},{"$f":"L64 * L65","v":0},0,0,0,0,null,{"$f":"'Table 1 - Detailed'!K65 - 'Table 1 - Delta from previous'!K67","v":1984.5490938196635},{"$f":"'Table 1 - Detailed'!L65 - 'Table 1 - Delta from previous'!L67","v":2109.9590779396681},{"$f":"'Table 1 - Detailed'!M65 - 'Table 1 - Delta from previous'!M67","v":2240.3310176670811},{"$f":"'Table 1 - Detailed'!N65 - 'Table 1 - Delta from previous'!N67","v":2379.3570943874961},{"$f":"'Table 1 - Detailed'!O65 - 'Table 1 - Delta from previous'!O67","v":2379.3570943874961},{"$f":"'Table 1 - Detailed'!P65 - 'Table 1 - Delta from previous'!P67","v":2379.3570943874961}]
[null,null,null,null,"NPV-neutral RAV return base",null,"£m 20/21 prices",null,null,null,{"$f":"AVERAGE(K66:K67)","v":0},0,0,0,0,0,null,{"$f":"'Table 1 - Detailed'!K66 - 'Table 1 - Delta from previous'!K68","v":1990.1708844258824},{"$f":"'Table 1 - Detailed'!L66 - 'Table 1 - Delta from previous'!L68","v":2088.3046656700226},{"$f":"'Table 1 - Detailed'!M66 - 'Table 1 - Delta from previous'!M68","v":2218.325527442169},{"$f":"'Table 1 - Detailed'!N66 - 'Table 1 - Delta from previous'!N68","v":2356.7440618465175},{"$f":"'Table 1 - Detailed'!O66 - 'Table 1 - Delta from previous'!O68","v":2356.7440618465175},{"$f":"'Table 1 - Detailed'!P66 - 'Table 1 - Delta from previous'!P68","v":2356.7440618465175}]
[null,null,null,"Return",null,null,"£m 20/21 prices","RTNt",null,null,{"$f":"K68 * K63","v":0},{"$f":"L68 * L63","v":0},0,0,0,0,null,{"$f":"'Table 1 - Detailed'!K67 - 'Table 1 - Delta from previous'!K69","v":82.333734088004775},{"$f":"'Table 1 - Detailed'!L67 - 'Table 1 - Delta from previous'!L69","v":85.474640753333063},{"$f":"'Table 1 - Detailed'!M67 - 'Table 1 - Delta from previous'!M69","v":92.878667773230191},{"$f":"'Table 1 - Detailed'!N67 - 'Table 1 - Delta from previous'!N69","v":97.354253076145795},{"$f":"'Table 1 - Detailed'!O67 - 'Table 1 - Delta from previous'!O69","v":97.354253076145795},{"$f":"'Table 1 - Detailed'!P67 - 'Table 1 - Delta from previous'!P69","v":97.354253076145795}]
[null,null,null,null,"Licence Fee Payments",null,"£m 20/21 prices","LFt",null,null,null,null,null,null,null,null,null,{"$f":"'Table 1 - Detailed'!K68 - 'Table 1 - Delta from previous'!K70","v":2.0938496933435586},{"$f":"'Table 1 - Detailed'!L68 - 'Table 1 - Delta from previous'!L70","v":2.2903562410999618},{"$f":"'Table 1 - Detailed'!M68 - 'Table 1 - Delta from previous'!M70","v":2.4681083129086803},{"$f":"'Table 1 - Detailed'!N68 - 'Table 1 - Delta from previous'!N70","v":2.6530185011980367},{"$f":"'Table 1 - Detailed'!O68 - 'Table 1 - Delta from previous'!O70","v":2.6530185011980367},{"$f":"'Table 1 - Detailed'!P68 - 'Table 1 - Delta from previous'!P70","v":2.6530185011980367}]
[null,null,null,null,"Prescribed Rates",null,"£m 20/21 prices","RBt",null,null,null,null,null,null,null,null,null,{"$f":"'Table 1 - Detailed'!K69 - 'Table 1 - Delta from previous'!K71","v":30.557878036508615},{"$f":"'Table 1 - Detailed'!L69 - 'Table 1 - Delta from previous'!L71","v":29.851648112312503},{"$f":"'Table 1 - Detailed'!M69 - 'Table 1 - Delta from previous'!M71","v":31.752770329363916},{"$f":"'Table 1 - Detailed'!N69 - 'Table 1 - Delta from previous'!N71","v":31.715960291527441},{"$f":"'Table 1 - Detailed'!O69 - 'Table 1 - Delta from previous'!O71","v":31.715960291527441},{"$f":"'Table 1 - Detailed'!P69 - 'Table 1 - Delta from previous'!P71","v":31.715960291527441}]
[null,null,null,null,"Pass-through Transmission Connection Point Charges",null,"£m 20/21 prices","TBt",null,null,null,null,null,null,null,null,null,{"$f":"'Table 1 - Detailed'!K70 - 'Table 1 - Delta from previous'!K72","v":22.427187906174453},{"$f":"'Table 1 - Detailed'!L70 - 'Table 1 - Delta from previous'!L72","v":23.356219423681853},{"$f":"'Table 1 - Detailed'!M70 - 'Table 1 - Delta from previous'!M72","v":23.30170328778857},{"$f":"'Table 1 - Detailed'!N70 - 'Table 1 - Delta from previous'!N72","v":23.243261487706626},{"$f":"'Table 1 - Detailed'!O70 - 'Table 1 - Delta from previous'!O72","v":23.243261487706626},{"$f":"'Table 1 - Detailed'!P70 - 'Table 1 - Delta from previous'!P72","v":23.243261487706626}]
[null,null,null,null,"Smart Meter Communication Licensee Costs",null,"£m 20/21 prices","SMCt",null,null,null,null,null,null,null,null,null,{"$f":"'Table 1 - Detailed'!K71 - 'Table 1 - Delta from previous'!K73","v":1.748834170505932},{"$f":"'Table 1 - Detailed'!L71 - 'Table 1 - Delta from previous'!L73","v":2.2561863173216885},{"$f":"'Table 1 - Detailed'!M71 - 'Table 1 - Delta from previous'!M73","v":2.3559712047963859},{"$f":"'Table 1 - Detailed'!N71 - 'Table 1 - Delta from previous'!N73","v":14.621030922413503},{"$f":"'Table 1 - Detailed'!O71 - 'Table 1 - Delta from previous'!O73","v":14.621030922413503},{"$f":"'Table 1 - Detailed'!P71 - 'Table 1 - Delta from previous'!P73","v":14.621030922413503}]
[null,null,null,null,"Smart Meter Information Technology Costs",null,"£m 20/21 prices","SMITt",null,null,null,null,null,null,null,null,null,{"$f":"'Table 1 - Detailed'!K72 - 'Table 1 - Delta from previous'!K74","v":1.1279691388708},{"$f":"'Table 1 - Detailed'!L72 - 'Table 1 - Delta from previous'!L74","v":1.5277685223039756},{"$f":"'Table 1 - Detailed'!M72 - 'Table 1 - Delta from previous'!M74","v":1.5277685223039756},{"$f":"'Table 1 - Detailed'!N72 - 'Table 1 - Delta from previous'!N74","v":1.5277685223039756},{"$f":"'Table 1 - Detailed'!O72 - 'Table 1 - Delta from previous'!O74","v":1.5277685223039756},{"$f":"'Table 1 - Detailed'!P72 - 'Table 1 - Delta from previous'!P74","v":1.5277685223039756}]
[null,null,null,null,"Ring Fence Costs",null,"£m 20/21 prices","RFt",null,null,null,null,null,null,null,null,null,{"$f":"'Table 1 - Detailed'!K73 - 'Table 1 - Delta from previous'!K75","v":0},{"$f":"'Table 1 - Detailed'!L73 - 'Table 1 - Delta from previous'!L75","v":0},{"$f":"'Table 1 - Detailed'!M73 - 'Table 1 - Delta from previous'!M75","v":0},{"$f":"'Table 1 - Detailed'!N73 - 'Table 1 - Delta from previous'!N75","v":0},{"$f":"'Table 1 - Detailed'!O73 - 'Table 1 - Delta from previous'!O75","v":0},{"$f":"'Table 1 - Detailed'!P73 - 'Table 1 - Delta from previous'!P75","v":0}]
[null,null,null,null,"Supplier of Last Resort Net Costs",null,"£m 20/21 prices","SLRt",null,null,null,null,null,null,null,null,null,{"$f":"'Table 1 - Detailed'!K74 - 'Table 1 - Delta from previous'!K76","v":0.44379427331895704},{"$f":"'Table 1 - Detailed'!L74 - 'Table 1 - Delta from previous'!L76","v":-0.51997411265006177},{"$f":"'Table 1 - Detailed'!M74 - 'Table 1 - Delta from previous'!M76","v":-2.445119335319422},{"$f":"'Table 1 - Detailed'!N74 - 'Table 1 - Delta from previous'!N76","v":0},{"$f":"'Table 1 - Detailed'!O74 - 'Table 1 - Delta from previous'!O76","v":0},{"$f":"'Table 1 - Detailed'!P74 - 'Table 1 - Delta from previous'!P76","v":0}]
[null,null,null,null,"Valid Bad Debt Claims",null,"£m 20/21 prices","IBDAt",null,null,null,null,null,null,null,null,null,{"$f":"'Table 1 - Detailed'!K75 - 'Table 1 - Delta from previous'!K77","v":0.11622045067797707},{"$f":"'Table 1 - Detailed'!L75 - 'Table 1 - Delta from previous'!L77","v":0},{"$f":"'Table 1 - Detailed'!M75 - 'Table 1 - Delta from previous'!M77","v":0},{"$f":"'Table 1 - Detailed'!N75 - 'Table 1 - Delta from previous'!N77","v":0},{"$f":"'Table 1 - Detailed'!O75 - 'Table 1 - Delta from previous'!O77","v":0},{"$f":"'Table 1 - Detailed'!P75 - 'Table 1 - Delta from previous'!P77","v":0}]
[null,null,null,null,"Pension Scheme Established Deficit repair expenditure",null,"£m 20/21 prices","EDEt",null,null,null,null,null,null,null,null,null,{"$f":"'Table 1 - Detailed'!K76 - 'Table 1 - Delta from previous'!K78","v":-5.75},{"$f":"'Table 1 - Detailed'!L76 - 'Table 1 - Delta from previous'!L78","v":-5.75},{"$f":"'Table 1 - Detailed'!M76 - 'Table 1 - Delta from previous'!M78","v":-5.75},{"$f":"'Table 1 - Detailed'!N76 - 'Table 1 - Delta from previous'!N78","v":-5.7448273360144393},{"$f":"'Table 1 - Detailed'!O76 - 'Table 1 - Delta from previous'!O78","v":-5.7448273360144393},{"$f":"'Table 1 - Detailed'!P76 - 'Table 1 - Delta from previous'!P78","v":-5.7448273360144393}]
[null,null,null,null,"Failed Supplier Recovered Costs",null,"£m 20/21 prices","SRCt",null,null,null,null,null,null,null,null,null,{"$f":"'Table 1 - Detailed'!K77 - 'Table 1 - Delta from previous'!K79","v":0},{"$f":"'Table 1 - Detailed'!L77 - 'Table 1 - Delta from previous'!L79","v":0},{"$f":"'Table 1 - Detailed'!M77 - 'Table 1 - Delta from previous'!M79","v":0},{"$f":"'Table 1 - Detailed'!N77 - 'Table 1 - Delta from previous'!N79","v":0},{"$f":"'Table 1 - Detailed'!O77 - 'Table 1 - Delta from previous'!O79","v":0},{"$f":"'Table 1 - Detailed'!P77 - 'Table 1 - Delta from previous'!P79","v":0}]
[null,null,null,null,"Shetland Variable Energy Costs (SSEH only)",null,"£m 20/21 prices","SECt",null,null,null,null,null,null,null,null,null,{"$f":"'Table 1 - Detailed'!K78 - 'Table 1 - Delta from previous'!K80","v":0},{"$f":"'Table 1 - Detailed'!L78 - 'Table 1 - Delta from previous'!L80","v":0},{"$f":"'Table 1 - Detailed'!M78 - 'Table 1 - Delta from previous'!M80","v":0},{"$f":"'Table 1 - Detailed'!N78 - 'Table 1 - Delta from previous'!N80","v":0},{"$f":"'Table 1 - Detailed'!O78 - 'Table 1 - Delta from previous'!O80","v":0},{"$f":"'Table 1 - Detailed'!P78 - 'Table 1 - Delta from previous'!P80","v":0}]
[null,null,null,null,"Assistance for high-cost distributors adjustment (SSEH only)",null,"£m 20/21 prices","HBt",null,null,null,null,null,null,null,null,null,{"$f":"'Table 1 - Detailed'!K79 - 'Table 1 - Delta from previous'!K81","v":0},{"$f":"'Table 1 - Detailed'!L79 - 'Table 1 - Delta from previous'!L81","v":0},{"$f":"'Table 1 - Detailed'!M79 - 'Table 1 - Delta from previous'!M81","v":0},{"$f":"'Table 1 - Detailed'!N79 - 'Table 1 - Delta from previous'!N81","v":0},{"$f":"'Table 1 - Detailed'!O79 - 'Table 1 - Delta from previous'!O81","v":0},{"$f":"'Table 1 - Detailed'!P79 - 'Table 1 - Delta from previous'!P81","v":0}]
[null,null,null,"Pass-through",null,null,"£m 20/21 prices","PTt",null,null,{"$f":"SUM(K70:K78, K80) - K79 - K81","v":0},{"$f":"SUM(L70:L78, L80) - L79 - L81","v":0},0,0,0,0,null,{"$f":"'Table 1 - Detailed'!K80 - 'Table 1 - Delta from previous'!K82","v":52.765733669400298},{"$f":"'Table 1 - Detailed'!L80 - 'Table 1 - Delta from previous'!L82","v":53.012204504069928},{"$f":"'Table 1 - Detailed'!M80 - 'Table 1 - Delta from previous'!M82","v":53.211202321842094},{"$f":"'Table 1 - Detailed'!N80 - 'Table 1 - Delta from previous'!N82","v":68.016212389135134},{"$f":"'Table 1 - Detailed'!O80 - 'Table 1 - Delta from previous'!O82","v":68.016212389135134},{"$f":"'Table 1 - Detailed'!P80 - 'Table 1 - Delta from previous'!P82","v":68.016212389135134}]
[null,null,"Base Revenue",null,null,null,"£m 20/21 prices",null,null,null,{"$f":"K58 + K62 + K69 + K82","v":0},{"$f":"L58 + L62 + L69 + L82","v":0},0,0,0,0,null,{"$f":"'Table 1 - Detailed'!K81 - 'Table 1 - Delta from previous'!K83","v":390.98120696550728},{"$f":"'Table 1 - Detailed'!L81 - 'Table 1 - Delta from previous'!L83","v":362.53157389826566},{"$f":"'Table 1 - Detailed'!M81 - 'Table 1 - Delta from previous'!M83","v":369.72580966382691},{"$f":"'Table 1 - Detailed'!N81 - 'Table 1 - Delta from previous'!N83","v":388.03379879203561},{"$f":"'Table 1 - Detailed'!O81 - 'Table 1 - Delta from previous'!O83","v":388.03379879203561},{"$f":"'Table 1 - Detailed'!P81 - 'Table 1 - Delta from previous'!P83","v":388.03379879203561}]
[null,null,null,"Return Adjustment (note: this row is not active. It will be linked to ReturnAdj for closeout)",null,null,"£m 20/21 prices","RTNAt",null,null,null,null,null,null,null,null,null,{"$f":"'Table 1 - Detailed'!K82 - 'Table 1 - Delta from previous'!K84","v":0},{"$f":"'Table 1 - Detailed'!L82 - 'Table 1 - Delta from previous'!L84","v":0},{"$f":"'Table 1 - Detailed'!M82 - 'Table 1 - Delta from previous'!M84","v":0},{"$f":"'Table 1 - Detailed'!N82 - 'Table 1 - Delta from previous'!N84","v":0},{"$f":"'Table 1 - Detailed'!O82 - 'Table 1 - Delta from previous'!O84","v":0},{"$f":"'Table 1 - Detailed'!P82 - 'Table 1 - Delta from previous'!P84","v":0}]
[null,null,null,"Equity issuance costs",null,null,"£m 20/21 prices","EICt",null,null,null,null,null,null,null,null,null,{"$f":"'Table 1 - Detailed'!K83 - 'Table 1 - Delta from previous'!K85","v":0},{"$f":"'Table 1 - Detailed'!L83 - 'Table 1 - Delta from previous'!L85","v":0},{"$f":"'Table 1 - Detailed'!M83 - 'Table 1 - Delta from previous'!M85","v":0},{"$f":"'Table 1 - Detailed'!N83 - 'Table 1 - Delta from previous'!N85","v":0},{"$f":"'Table 1 - Detailed'!O83 - 'Table 1 - Delta from previous'!O85","v":0},{"$f":"'Table 1 - Detailed'!P83 - 'Table 1 - Delta from previous'!P85","v":0}]
[null,null,null,"Business plan incentive",null,null,"£m 20/21 prices","BPIt",null,null,null,null,null,null,null,null,null,{"$f":"'Table 1 - Detailed'!K84 - 'Table 1 - Delta from previous'!K86","v":0},{"$f":"'Table 1 - Detailed'!L84 - 'Table 1 - Delta from previous'!L86","v":0},{"$f":"'Table 1 - Detailed'!M84 - 'Table 1 - Delta from previous'!M86","v":0},{"$f":"'Table 1 - Detailed'!N84 - 'Table 1 - Delta from previous'!N86","v":0},{"$f":"'Table 1 - Detailed'!O84 - 'Table 1 - Delta from previous'!O86","v":0},{"$f":"'Table 1 - Detailed'!P84 - 'Table 1 - Delta from previous'!P86","v":0}]
[null,null,null,null,"Time to connect ODI",null,"£m 20/21 prices","TTCt",null,null,null,null,null,null,null,null,null,{"$f":"'Table 1 - Detailed'!K85 - 'Table 1 - Delta from previous'!K87","v":0.7221382044515865},{"$f":"'Table 1 - Detailed'!L85 - 'Table 1 - Delta from previous'!L87","v":0.94190481339973209},{"$f":"'Table 1 - Detailed'!M85 - 'Table 1 - Delta from previous'!M87","v":0.43632869999999979},{"$f":"'Table 1 - Detailed'!N85 - 'Table 1 - Delta from previous'!N87","v":0.43632869999999979},{"$f":"'Table 1 - Detailed'!O85 - 'Table 1 - Delta from previous'!O87","v":0.43632869999999979},{"$f":"'Table 1 - Detailed'!P85 - 'Table 1 - Delta from previous'!P87","v":0.43632869999999979}]
[null,null,null,null,"Broad Measure of Customer Service ODI",null,"£m 20/21 prices","BMCSt",null,null,null,null,null,null,null,null,null,{"$f":"'Table 1 - Detailed'!K86 - 'Table 1 - Delta from previous'!K88","v":0.76234246943237083},{"$f":"'Table 1 - Detailed'!L86 - 'Table 1 - Delta from previous'!L88","v":1.2147947383738646},{"$f":"'Table 1 - Detailed'!M86 - 'Table 1 - Delta from previous'!M88","v":2.7972000000000112},{"$f":"'Table 1 - Detailed'!N86 - 'Table 1 - Delta from previous'!N88","v":3.323},{"$f":"'Table 1 - Detailed'!O86 - 'Table 1 - Delta from previous'!O88","v":3.323},{"$f":"'Table 1 - Detailed'!P86 - 'Table 1 - Delta from previous'!P88","v":3.323}]
[null,null,null,null,"Interruptions incentive scheme ODI",null,"£m 20/21 prices","IQt",null,null,null,null,null,null,null,null,null,{"$f":"'Table 1 - Detailed'!K87 - 'Table 1 - Delta from previous'!K89","v":2.7283043517612438},{"$f":"'Table 1 - Detailed'!L87 - 'Table 1 - Delta from previous'!L89","v":3.0301033943281035},{"$f":"'Table 1 - Detailed'!M87 - 'Table 1 - Delta from previous'!M89","v":1.255965},{"$f":"'Table 1 - Detailed'!N87 - 'Table 1 - Delta from previous'!N89","v":1.2535799999999999},{"$f":"'Table 1 - Detailed'!O87 - 'Table 1 - Delta from previous'!O89","v":1.2535799999999999},{"$f":"'Table 1 - Detailed'!P87 - 'Table 1 - Delta from previous'!P89","v":1.2535799999999999}]
[null,null,null,null,"Major connections ODI",null,"£m 20/21 prices","MCt",null,null,null,null,null,null,null,null,null,{"$f":"'Table 1 - Detailed'!K88 - 'Table 1 - Delta from previous'!K90","v":0},{"$f":"'Table 1 - Detailed'!L88 - 'Table 1 - Delta from previous'!L90","v":0},{"$f":"'Table 1 - Detailed'!M88 - 'Table 1 - Delta from previous'!M90","v":0},{"$f":"'Table 1 - Detailed'!N88 - 'Table 1 - Delta from previous'!N90","v":0},{"$f":"'Table 1 - Detailed'!O88 - 'Table 1 - Delta from previous'!O90","v":0},{"$f":"'Table 1 - Detailed'!P88 - 'Table 1 - Delta from previous'!P90","v":0}]
[null,null,null,null,"Consumer Vulnerability ODI",null,"£m 20/21 prices","CVIt",null,null,null,null,null,null,null,null,null,{"$f":"'Table 1 - Detailed'!K89 - 'Table 1 - Delta from previous'!K91","v":1.661},{"$f":"'Table 1 - Detailed'!L89 - 'Table 1 - Delta from previous'!L91","v":0},{"$f":"'Table 1 - Detailed'!M89 - 'Table 1 - Delta from previous'!M91","v":0},{"$f":"'Table 1 - Detailed'!N89 - 'Table 1 - Delta from previous'!N91","v":4.9174060964104758},{"$f":"'Table 1 - Detailed'!O89 - 'Table 1 - Delta from previous'!O91","v":4.9174060964104758},{"$f":"'Table 1 - Detailed'!P89 - 'Table 1 - Delta from previous'!P91","v":4.9174060964104758}]
[null,null,null,null,"Distribution System Operator ODI",null,"£m 20/21 prices","DSOIt",null,null,null,null,null,null,null,null,null,{"$f":"'Table 1 - Detailed'!K90 - 'Table 1 - Delta from previous'!K92","v":1.7274800000000001},{"$f":"'Table 1 - Detailed'!L90 - 'Table 1 - Delta from previous'!L92","v":0},{"$f":"'Table 1 - Detailed'!M90 - 'Table 1 - Delta from previous'!M92","v":0},{"$f":"'Table 1 - Detailed'!N90 - 'Table 1 - Delta from previous'!N92","v":0},{"$f":"'Table 1 - Detailed'!O90 - 'Table 1 - Delta from previous'!O92","v":0},{"$f":"'Table 1 - Detailed'!P90 - 'Table 1 - Delta from previous'!P92","v":0}]
[null,null,null,null,"Dig, Fix and Go ODI (ENWL only)",null,"£m 20/21 prices","DFGt",null,null,null,null,null,null,null,null,null,{"$f":"'Table 1 - Detailed'!K91 - 'Table 1 - Delta from previous'!K93","v":0},{"$f":"'Table 1 - Detailed'!L91 - 'Table 1 - Delta from previous'!L93","v":0},{"$f":"'Table 1 - Detailed'!M91 - 'Table 1 - Delta from previous'!M93","v":0},{"$f":"'Table 1 - Detailed'!N91 - 'Table 1 - Delta from previous'!N93","v":0},{"$f":"'Table 1 - Detailed'!O91 - 'Table 1 - Delta from previous'!O93","v":0},{"$f":"'Table 1 - Detailed'!P91 - 'Table 1 - Delta from previous'!P93","v":0}]
[null,null,null,null,"Collaborative Streetworks ODI (EPN, LPN and SPN only)",null,"£m 20/21 prices","CSWt",null,null,null,null,null,null,null,null,null,{"$f":"'Table 1 - Detailed'!K92 - 'Table 1 - Delta from previous'!K94","v":0},{"$f":"'Table 1 - Detailed'!L92 - 'Table 1 - Delta from previous'!L94","v":0},{"$f":"'Table 1 - Detailed'!M92 - 'Table 1 - Delta from previous'!M94","v":0},{"$f":"'Table 1 - Detailed'!N92 - 'Table 1 - Delta from previous'!N94","v":0},{"$f":"'Table 1 - Detailed'!O92 - 'Table 1 - Delta from previous'!O94","v":0},{"$f":"'Table 1 - Detailed'!P92 - 'Table 1 - Delta from previous'!P94","v":0}]
[null,null,null,"Output delivery incentive",null,null,"£m 20/21 prices","ODIt",null,null,{"$f":"SUM(K87:K94)","v":0},{"$f":"SUM(L87:L94)","v":0},0,0,0,0,null,{"$f":"'Table 1 - Detailed'!K93 - 'Table 1 - Delta from previous'!K95","v":7.6012650256452012},{"$f":"'Table 1 - Detailed'!L93 - 'Table 1 - Delta from previous'!L95","v":5.1868029461017002},{"$f":"'Table 1 - Detailed'!M93 - 'Table 1 - Delta from previous'!M95","v":4.4894937000000112},{"$f":"'Table 1 - Detailed'!N93 - 'Table 1 - Delta from previous'!N95","v":9.9303147964104745},{"$f":"'Table 1 - Detailed'!O93 - 'Table 1 - Delta from previous'!O95","v":9.9303147964104745},{"$f":"'Table 1 - Detailed'!P93 - 'Table 1 - Delta from previous'!P95","v":9.9303147964104745}]
[null,null,null,"Other revenue allowances",null,null,"£m 20/21 prices","ORAt",null,null,null,null,null,null,null,null,null,{"$f":"'Table 1 - Detailed'!K94 - 'Table 1 - Delta from previous'!K96","v":0.92604130218589942},{"$f":"'Table 1 - Detailed'!L94 - 'Table 1 - Delta from previous'!L96","v":4.8952702745197563},{"$f":"'Table 1 - Detailed'!M94 - 'Table 1 - Delta from previous'!M96","v":0},{"$f":"'Table 1 - Detailed'!N94 - 'Table 1 - Delta from previous'!N96","v":0},{"$f":"'Table 1 - Detailed'!O94 - 'Table 1 - Delta from previous'!O96","v":0},{"$f":"'Table 1 - Detailed'!P94 - 'Table 1 - Delta from previous'!P96","v":0}]
[null,null,null,"Directly Remunerated Services",null,null,"£m 20/21 prices","DRSt",null,null,null,null,null,null,null,null,null,{"$f":"'Table 1 - Detailed'!K95 - 'Table 1 - Delta from previous'!K97","v":-0.479376172028672},{"$f":"'Table 1 - Detailed'!L95 - 'Table 1 - Delta from previous'!L97","v":-3.0971213125170927E-2},{"$f":"'Table 1 - Detailed'!M95 - 'Table 1 - Delta from previous'!M97","v":-3.0821056147726233E-2},{"$f":"'Table 1 - Detailed'!N95 - 'Table 1 - Delta from previous'!N97","v":-3.061316175368578E-2},{"$f":"'Table 1 - Detailed'!O95 - 'Table 1 - Delta from previous'!O97","v":-3.061316175368578E-2},{"$f":"'Table 1 - Detailed'!P95 - 'Table 1 - Delta from previous'!P97","v":-3.061316175368578E-2}]
[null,null,"Calculated revenue (before tax)",null,null,null,"£m 20/21 prices",null,null,null,{"$f":"SUM(K83:K97) - K95","v":0},{"$f":"SUM(L83:L97) - L95","v":0},0,0,0,0,null,{"$f":"'Table 1 - Detailed'!K96 - 'Table 1 - Delta from previous'!K98","v":399.02913712130982},{"$f":"'Table 1 - Detailed'!L96 - 'Table 1 - Delta from previous'!L98","v":372.58267590576196},{"$f":"'Table 1 - Detailed'!M96 - 'Table 1 - Delta from previous'!M98","v":374.18448230767922},{"$f":"'Table 1 - Detailed'!N96 - 'Table 1 - Delta from previous'!N98","v":397.93350042669238},{"$f":"'Table 1 - Detailed'!O96 - 'Table 1 - Delta from previous'!O98","v":397.93350042669238},{"$f":"'Table 1 - Detailed'!P96 - 'Table 1 - Delta from previous'!P98","v":397.93350042669238}]
[null,null,null,"Tax allowance",null,null,"£m 20/21 prices","TAXt",null,null,null,null,null,null,null,null,null,{"$f":"'Table 1 - Detailed'!K97 - 'Table 1 - Delta from previous'!K99","v":1.5628831781221042},{"$f":"'Table 1 - Detailed'!L97 - 'Table 1 - Delta from previous'!L99","v":1.2419164035426926},{"$f":"'Table 1 - Detailed'!M97 - 'Table 1 - Delta from previous'!M99","v":1.262280302042796},{"$f":"'Table 1 - Detailed'!N97 - 'Table 1 - Delta from previous'!N99","v":1.2767760576421814},{"$f":"'Table 1 - Detailed'!O97 - 'Table 1 - Delta from previous'!O99","v":0},{"$f":"'Table 1 - Detailed'!P97 - 'Table 1 - Delta from previous'!P99","v":0}]
[null,null,null,"Tax allowance adjustment",null,null,"£m 20/21 prices","TAXAt",null,null,null,null,null,null,null,null,null,{"$f":"'Table 1 - Detailed'!K98 - 'Table 1 - Delta from previous'!K100","v":0},{"$f":"'Table 1 - Detailed'!L98 - 'Table 1 - Delta from previous'!L100","v":0},{"$f":"'Table 1 - Detailed'!M98 - 'Table 1 - Delta from previous'!M100","v":0},{"$f":"'Table 1 - Detailed'!N98 - 'Table 1 - Delta from previous'!N100","v":0},{"$f":"'Table 1 - Detailed'!O98 - 'Table 1 - Delta from previous'!O100","v":0},{"$f":"'Table 1 - Detailed'!P98 - 'Table 1 - Delta from previous'!P100","v":0}]
[null,null,"Calculated revenue",null,null,null,"£m 20/21 prices",null,null,null,{"$f":"SUM(K98:K100)","v":0},{"$f":"SUM(L98:L100)","v":0},0,0,0,0,null,{"$f":"'Table 1 - Detailed'!K99 - 'Table 1 - Delta from previous'!K101","v":400.59202029943191},{"$f":"'Table 1 - Detailed'!L99 - 'Table 1 - Delta from previous'!L101","v":373.82459230930465},{"$f":"'Table 1 - Detailed'!M99 - 'Table 1 - Delta from previous'!M101","v":375.44676260972199},{"$f":"'Table 1 - Detailed'!N99 - 'Table 1 - Delta from previous'!N101","v":399.21027648433454},{"$f":"'Table 1 - Detailed'!O99 - 'Table 1 - Delta from previous'!O101","v":397.93350042669238},{"$f":"'Table 1 - Detailed'!P99 - 'Table 1 - Delta from previous'!P101","v":397.93350042669238}]
[null,null,"Real to nominal prices conversion factor (splice index for RIIO-2)",null,null,null,"scalar","PIt / PI2020-21",null,null,null,null,null,null,null,null,null,{"$f":"'Table 1 - Detailed'!K100 - 'Table 1 - Delta from previous'!K102","v":1.321792585589326},{"$f":"'Table 1 - Detailed'!L100 - 'Table 1 - Delta from previous'!L102","v":1.3743827621199309},{"$f":"'Table 1 - Detailed'!M100 - 'Table 1 - Delta from previous'!M102","v":1.4066722012363251},{"$f":"'Table 1 - Detailed'!N100 - 'Table 1 - Delta from previous'!N102","v":1.4352422149476913},{"$f":"'Table 1 - Detailed'!O100 - 'Table 1 - Delta from previous'!O102","v":1.4639470592466453},{"$f":"'Table 1 - Detailed'!P100 - 'Table 1 - Delta from previous'!P102","v":1.4932260004315783}]
[null,null,"Combined RPI-CPIH price index (financial year average) (aka Price Index term) PIt",null,null,null,"scalar","PIt",null,null,null,null,null,null,null,null,null,{"$f":"'Table 1 - Detailed'!K101 - 'Table 1 - Delta from previous'!K103","v":388.82731892752673},{"$f":"'Table 1 - Detailed'!L101 - 'Table 1 - Delta from previous'!L103","v":404.29759585694637},{"$f":"'Table 1 - Detailed'!M101 - 'Table 1 - Delta from previous'!M103","v":413.79607253035232},{"$f":"'Table 1 - Detailed'!N101 - 'Table 1 - Delta from previous'!N103","v":422.20041823044591},{"$f":"'Table 1 - Detailed'!O101 - 'Table 1 - Delta from previous'!O103","v":430.64442659505482},{"$f":"'Table 1 - Detailed'!P101 - 'Table 1 - Delta from previous'!P103","v":439.25731512695592}]
[]
[null,null,"Calculated revenue",null,null,null,"£m nominal","Rt x  PIt / PI2020/21",null,null,{"$f":"K101 * K102","v":0},{"$f":"L101 * L102","v":0},0,0,0,0,null,{"$f":"'Table 1 - Detailed'!K103 - 'Table 1 - Delta from previous'!K105","v":529.49956227803784},{"$f":"'Table 1 - Detailed'!L103 - 'Table 1 - Delta from previous'!L105","v":513.77807572641916},{"$f":"'Table 1 - Detailed'!M103 - 'Table 1 - Delta from previous'!M105","v":528.13052400726963},{"$f":"'Table 1 - Detailed'!N103 - 'Table 1 - Delta from previous'!N105","v":572.96344145125659},{"$f":"'Table 1 - Detailed'!O103 - 'Table 1 - Delta from previous'!O105","v":582.55357772537991},{"$f":"'Table 1 - Detailed'!P103 - 'Table 1 - Delta from previous'!P105","v":594.20464927988758}]
[null,null,null,"Correction term",null,null,"£m nominal","Kt",null,null,{"$f":"K117","v":0},{"$f":"L117","v":0},0,0,0,0,null,{"$f":"'Table 1 - Detailed'!K104 - 'Table 1 - Delta from previous'!K106","v":48.701219026143356},{"$f":"'Table 1 - Detailed'!L104 - 'Table 1 - Delta from previous'!L106","v":24.458681472855694},{"$f":"'Table 1 - Detailed'!M104 - 'Table 1 - Delta from previous'!M106","v":52.21689838654126},{"$f":"'Table 1 - Detailed'!N104 - 'Table 1 - Delta from previous'!N106","v":32.667119240252319},{"$f":"'Table 1 - Detailed'!O104 - 'Table 1 - Delta from previous'!O106","v":0},{"$f":"'Table 1 - Detailed'!P104 - 'Table 1 - Delta from previous'!P106","v":0}]
[null,null,null,"Forecasting penalty",null,null,"£m nominal","FPt",null,null,null,null,null,null,null,null,null,{"$f":"'Table 1 - Detailed'!K105 - 'Table 1 - Delta from previous'!K107","v":0},{"$f":"'Table 1 - Detailed'!L105 - 'Table 1 - Delta from previous'!L107","v":0},{"$f":"'Table 1 - Detailed'!M105 - 'Table 1 - Delta from previous'!M107","v":0},{"$f":"'Table 1 - Detailed'!N105 - 'Table 1 - Delta from previous'!N107","v":0},{"$f":"'Table 1 - Detailed'!O105 - 'Table 1 - Delta from previous'!O107","v":0},{"$f":"'Table 1 - Detailed'!P105 - 'Table 1 - Delta from previous'!P107","v":0}]
[null,null,null,"Legacy Allowed Revenue",null,null,"£m nominal","LARt",null,null,null,null,null,null,null,null,null,{"$f":"'Table 1 - Detailed'!K106 - 'Table 1 - Delta from previous'!K108","v":43.769863712293279},{"$f":"'Table 1 - Detailed'!L106 - 'Table 1 - Delta from previous'!L108","v":1.1013779007450033},{"$f":"'Table 1 - Detailed'!M106 - 'Table 1 - Delta from previous'!M108","v":1.0155498927605671},{"$f":"'Table 1 - Detailed'!N106 - 'Table 1 - Delta from previous'!N108","v":1.0795595404165736},{"$f":"'Table 1 - Detailed'!O106 - 'Table 1 - Delta from previous'!O108","v":0},{"$f":"'Table 1 - Detailed'!P106 - 'Table 1 - Delta from previous'!P108","v":0}]
[null,null,"Allowed revenue",null,null,null,"£m nominal","ARt (part C)",null,null,{"$f":"SUM(K105:K108)","v":0},{"$f":"SUM(L105:L108)","v":0},0,0,0,0,null,{"$f":"'Table 1 - Detailed'!K107 - 'Table 1 - Delta from previous'!K109","v":621.97064501647446},{"$f":"'Table 1 - Detailed'!L107 - 'Table 1 - Delta from previous'!L109","v":539.33813510001983},{"$f":"'Table 1 - Detailed'!M107 - 'Table 1 - Delta from previous'!M109","v":581.36297228657145},{"$f":"'Table 1 - Detailed'!N107 - 'Table 1 - Delta from previous'!N109","v":606.71012023192543},{"$f":"'Table 1 - Detailed'!O107 - 'Table 1 - Delta from previous'!O109","v":582.55357772537991},{"$f":"'Table 1 - Detailed'!P107 - 'Table 1 - Delta from previous'!P109","v":594.20464927988758}]
[]
[null,null,"Recovered Revenue",null,null,null,"£m nominal","RRt",null,null,null,null,null,null,null,null,null,{"$f":"'Table 1 - Detailed'!K109 - 'Table 1 - Delta from previous'!K111","v":599.38234671000009},{"$f":"'Table 1 - Detailed'!L109 - 'Table 1 - Delta from previous'!L111","v":490.3259263112875},{"$f":"'Table 1 - Detailed'!M109 - 'Table 1 - Delta from previous'!M111","v":550.63276408662955},{"$f":"'Table 1 - Detailed'!N109 - 'Table 1 - Delta from previous'!N111","v":606.71012023192543},{"$f":"'Table 1 - Detailed'!O109 - 'Table 1 - Delta from previous'!O111","v":582.55357772537991},{"$f":"'Table 1 - Detailed'!P109 - 'Table 1 - Delta from previous'!P111","v":594.20464927988758}]
[null,null,"Revenue under/(over) recovery",null,null,null,"£m nominal",null,null,null,{"$f":"K109 - K111","v":0},{"$f":"L109 - L111","v":0},0,0,0,0,null,{"$f":"'Table 1 - Detailed'!K110 - 'Table 1 - Delta from previous'!K112","v":22.588298306474371},{"$f":"'Table 1 - Detailed'!L110 - 'Table 1 - Delta from previous'!L112","v":49.012208788732323},{"$f":"'Table 1 - Detailed'!M110 - 'Table 1 - Delta from previous'!M112","v":30.730208199941899},{"$f":"'Table 1 - Detailed'!N110 - 'Table 1 - Delta from previous'!N112","v":0},{"$f":"'Table 1 - Detailed'!O110 - 'Table 1 - Delta from previous'!O112","v":0},{"$f":"'Table 1 - Detailed'!P110 - 'Table 1 - Delta from previous'!P112","v":0}]
[]
[null,null,null,"Vanilla weighted average cost of capital ",null,null,"annual real %","WACCt",null,null,null,null,null,null,null,null,null,{"$f":"'Table 1 - Detailed'!K112 - 'Table 1 - Delta from previous'!K114","v":4.1370183200000001E-2},{"$f":"'Table 1 - Detailed'!L112 - 'Table 1 - Delta from previous'!L114","v":4.09301584E-2},{"$f":"'Table 1 - Detailed'!M112 - 'Table 1 - Delta from previous'!M114","v":4.1868818000000002E-2},{"$f":"'Table 1 - Detailed'!N112 - 'Table 1 - Delta from previous'!N114","v":4.1308793199999999E-2},{"$f":"'Table 1 - Detailed'!O112 - 'Table 1 - Delta from previous'!O114","v":4.1308793199999999E-2},{"$f":"'Table 1 - Detailed'!P112 - 'Table 1 - Delta from previous'!P114","v":4.1308793199999999E-2}]
[null,null,null,"Inflation (from year t to t+1)",null,null,"annual %","PIt+1/PIt",null,null,null,null,null,null,null,null,null,{"$f":"'Table 1 - Detailed'!K113 - 'Table 1 - Delta from previous'!K115","v":3.9787011293574093E-2},{"$f":"'Table 1 - Detailed'!L113 - 'Table 1 - Delta from previous'!L115","v":2.3493774810293022E-2},{"$f":"'Table 1 - Detailed'!M113 - 'Table 1 - Delta from previous'!M115","v":2.0310356376031402E-2},{"$f":"'Table 1 - Detailed'!N113 - 'Table 1 - Delta from previous'!N115","v":2.0310356376031402E-2},{"$f":"'Table 1 - Detailed'!O113 - 'Table 1 - Delta from previous'!O115","v":2.0310356376031402E-2},{"$f":"'Table 1 - Detailed'!P113 - 'Table 1 - Delta from previous'!P115","v":2.0310356376031402E-2}]
[null,null,null,"Nominal time value of money",null,null,"annual nominal %","TVMt",null,null,{"$f":"(1 + K114) * (1 + K115) - 1","v":0},{"$f":"(1 + L114) * (1 + L115) - 1","v":0},0,0,0,0,null,{"$f":"'Table 1 - Detailed'!K114 - 'Table 1 - Delta from previous'!K116","v":8.2803190439769692E-2},{"$f":"'Table 1 - Detailed'!L114 - 'Table 1 - Delta from previous'!L116","v":6.5385537134692084E-2},{"$f":"'Table 1 - Detailed'!M114 - 'Table 1 - Delta from previous'!M116","v":6.3029544990654607E-2},{"$f":"'Table 1 - Detailed'!N114 - 'Table 1 - Delta from previous'!N116","v":6.2458145887387184E-2},{"$f":"'Table 1 - Detailed'!O114 - 'Table 1 - Delta from previous'!O116","v":6.2458145887387184E-2},{"$f":"'Table 1 - Detailed'!P114 - 'Table 1 - Delta from previous'!P116","v":6.2458145887387184E-2}]
[null,null,"Correction Term",null,null,null,"£m nominal","Kt",null,null,null,null,null,null,null,null,null,{"$f":"'Table 1 - Detailed'!K115 - 'Table 1 - Delta from previous'!K117","v":48.701219026143356},{"$f":"'Table 1 - Detailed'!L115 - 'Table 1 - Delta from previous'!L117","v":24.458681472855694},{"$f":"'Table 1 - Detailed'!M115 - 'Table 1 - Delta from previous'!M117","v":52.21689838654126},{"$f":"'Table 1 - Detailed'!N115 - 'Table 1 - Delta from previous'!N117","v":32.667119240252319},{"$f":"'Table 1 - Detailed'!O115 - 'Table 1 - Delta from previous'!O117","v":0},{"$f":"'Table 1 - Detailed'!P115 - 'Table 1 - Delta from previous'!P117","v":0}]
[]
[null,"Checks"]
[]
[null,null,null,null,"Check for error values",null,"number of issues",{"$f":"SUM(IF(ISERROR(K17:X118), 1))","v":0}]
[]
[null,null,null,null,"Summary of checks",null,"number of issues",{"$f":"H121","v":0}]
[]
[null,"End of sheet"]

{"sheet":"Table 2 - Sensitivities","index":10,"n_rows":130,"n_cols":18,"rows_kept":130,"cut":false,"hidden":false,"merged":[]}
[{"$f":"MID(CELL(\"filename\",A1),FIND(\"]\",CELL(\"filename\",A1))+1,255)","v":"Table 2 - Sensitivities"}]
[{"$f":"Cover!D23 & \" - \" & TEXT(CIRP_submission_date, \"mmm\") & \"-\" & RIGHT(YEAR(CIRP_submission_date), 2) & \" - \" & Cover!D25","v":"SP Distribution - Jan-26 - V1"}]
[{"$f":"Cover!D2&\" - \"&Cover!D8&\" v\"&Cover!D10&\" - \"&Cover!D19","v":"Cost Information Review Pack (CIRP) - Release for charge setting v1 - 2027/28"}]
[{"$f":"H128 & IF(H128 = 1, \" issue\", \" issues\") &\" identified in checks on this sheet\"","v":"0 issues identified in checks on this sheet"},null,null,null,null,null,null,null,null,"Sensitivities >>"]
[null,null,null,null,null,null,null,null,null,null,{"$f":"TRANSPOSE('CIRP_User control'!G27:G32)","v":"2024/25"},"2025/26","2026/27","2027/28","2028/29","2029/30"]
[null,"Click here to return to model map",null,null,null,null,"Units","Constants",null,null,{"$f":"TRANSPOSE('CIRP_User control'!E27:E32)","v":"t-1"},"t","t+1","t+2","t+3","t+4",null,"Formula Description"]
[null,null,null,null,null,null,null,null,null,null,{"$f":"TRANSPOSE('CIRP_User control'!$H$27:$H$32)","v":"Historic"},"Current","Published","Published","Forecast","Forecast"]
[null,"Description"]
[]
[null,null,"This sheet allows users to explore how changes to Calculated Revenue or Recovered Revenue would feed through to "]
[null,null,"Allowed Revenue and Recovered Revenue in future years, as required by DCUSA Schedule 20, paragraph 2.2 (b)."]
[]
[null,"Table 2 - Sensitivities"]
[]
[null,null,"Part A - Impact of Variances in Calculated Revenue (£m 20/21 prices) in future years"]
[]
[null,null,null,"Forecast Calculated Revenue from Table 1",null,null,"£m 20/21 prices",null,null,null,{"$f":"'Table 1 - Detailed'!K99","v":400.59202029943191},{"$f":"'Table 1 - Detailed'!L99","v":373.82459230930465},{"$f":"'Table 1 - Detailed'!M99","v":375.44676260972199},{"$f":"'Table 1 - Detailed'!N99","v":399.21027648433454},{"$f":"'Table 1 - Detailed'!O99","v":397.93350042669238},{"$f":"'Table 1 - Detailed'!P99","v":397.93350042669238},null,"R"]
[]
[null,null,null,"Users should indicate the years for which tariffs have already been set by selecting \"Y\" and selecting \"N\" otherwise. This sheet "]
[null,null,null,"demonstrates how revenue over/under-recovery will not be resolved until the first year in which tariffs can be adjusted accordingly. "]
[]
[null,null,null,"Tariffs set for year",null,null,"drop-down",null,null,null,"Y","Y","Y","Y","N","N",null,"Y/N"]
[]
[null,null,null,"Users may explore the effect of Calculated Revenue being higher or lower than the forecast from 'Table 1' on 'Allowed' and"]
[null,null,null,"'Recovered' Revenue in future years by entering values into the \"Possible Changes To Calculated Revenue\" table below. "]
[]
[null,null,null,"Possible Changes To Calculated Revenue"]
[null,null,null,null,null,"Description",null,null,null,null,{"$f":"K5","v":"2024/25"},"2025/26","2026/27","2027/28","2028/29","2029/30"]
[null,null,null,null,null,null,"£m 20/21 prices",null,null,null,null,null,null,null,null,null,null,"A1"]
[null,null,null,null,null,null,"£m 20/21 prices",null,null,null,null,null,null,null,null,null,null,"A2"]
[null,null,null,null,null,null,"£m 20/21 prices",null,null,null,null,null,null,null,null,null,null,"A3"]
[null,null,null,null,null,null,"£m 20/21 prices",null,null,null,null,null,null,null,null,null,null,"A4"]
[null,null,null,null,null,null,"£m 20/21 prices",null,null,null,null,null,null,null,null,null,null,"A5"]
[null,null,null,null,null,null,"£m 20/21 prices",null,null,null,null,null,null,null,null,null,null,"A6"]
[null,null,null,null,null,null,"£m 20/21 prices",null,null,null,null,null,null,null,null,null,null,"A7"]
[null,null,null,null,null,null,"£m 20/21 prices",null,null,null,null,null,null,null,null,null,null,"A8"]
[null,null,null,null,null,null,"£m 20/21 prices",null,null,null,null,null,null,null,null,null,null,"A9"]
[null,null,null,null,null,null,"£m 20/21 prices",null,null,null,null,null,null,null,null,null,null,"A10"]
[null,null,null,null,null,"Total - Potential Change in Calculated Revenue","£m 20/21 prices",null,null,null,{"$f":"SUM(K29:K38)","v":0},0,0,0,0,0,null,"A11 = Sum (A1:A10)"]
[]
[null,null,null,"Calculated Revenue including Possible Changes Above",null,null,"£m 20/21 prices",null,null,null,{"$f":"SUM(K17, K39)","v":400.59202029943191},373.82459230930465,375.44676260972199,399.21027648433454,397.93350042669238,397.93350042669238,null,"RA = R + A11"]
[]
[null,null,null,null,"Real to nominal prices conversion factor (splice index for RIIO-2)",null,"scalar","PIt / PI2020-21",null,null,{"$f":"'Table 1 - Detailed'!K100","v":1.321792585589326},{"$f":"'Table 1 - Detailed'!L100","v":1.3743827621199309},{"$f":"'Table 1 - Detailed'!M100","v":1.4066722012363251},{"$f":"'Table 1 - Detailed'!N100","v":1.4352422149476913},{"$f":"'Table 1 - Detailed'!O100","v":1.4639470592466453},{"$f":"'Table 1 - Detailed'!P100","v":1.4932260004315783},null,"PIt / PI2020-21"]
[null,null,null,null,"Combined RPI-CPIH price index (financial year average) (aka Price Index term)",null,"scalar","PIt",null,null,{"$f":"'Table 1 - Detailed'!K101","v":388.82731892752673},{"$f":"'Table 1 - Detailed'!L101","v":404.29759585694637},{"$f":"'Table 1 - Detailed'!M101","v":413.79607253035232},{"$f":"'Table 1 - Detailed'!N101","v":422.20041823044591},{"$f":"'Table 1 - Detailed'!O101","v":430.64442659505482},{"$f":"'Table 1 - Detailed'!P101","v":439.25731512695592},null,"PI"]
[]
[null,null,null,null,"Calculated Revenue Including Possible Changes",null,"£m nominal","Rt x  PIt / PI2020/21",null,null,{"$f":"K41 * K43","v":529.49956227803784},{"$f":"L41 * L43","v":513.77807572641916},528.13052400726963,572.96344145125659,582.55357772537991,594.20464927988758,null,"CA = RA x PIt / PI2020-21"]
[]
[null,null,null,null,"Correction term",null,"£m nominal","Kt",null,null,{"$f":"K64","v":48.701219026143356},{"$f":"L64","v":24.458681472855694},52.21689838654126,32.667119240252319,0,0,null,"KA"]
[]
[null,null,null,null,"Forecasting penalty",null,"£m nominal","FPt",null,null,{"$f":"'Table 1 - Detailed'!K105","v":0},{"$f":"'Table 1 - Detailed'!L105","v":0},{"$f":"'Table 1 - Detailed'!M105","v":0},{"$f":"'Table 1 - Detailed'!N105","v":0},{"$f":"'Table 1 - Detailed'!O105","v":0},{"$f":"'Table 1 - Detailed'!P105","v":0},null,"FP"]
[null,null,null,null,"Legacy Allowed Revenue",null,"£m nominal","LARt",null,null,{"$f":"'Table 1 - Detailed'!K106","v":43.769863712293279},{"$f":"'Table 1 - Detailed'!L106","v":1.1013779007450033},{"$f":"'Table 1 - Detailed'!M106","v":1.0155498927605671},{"$f":"'Table 1 - Detailed'!N106","v":1.0795595404165736},{"$f":"'Table 1 - Detailed'!O106","v":0},{"$f":"'Table 1 - Detailed'!P106","v":0},null,"LAR"]
[]
[null,null,null,"Allowed Revenue Including Possible Changes",null,null,"£m nominal","ARt (part C)",null,null,{"$f":"SUM(K46, K48, K50:K51)","v":621.97064501647446},{"$f":"SUM(L46, L48, L50:L51)","v":539.33813510001983},581.36297228657145,606.71012023192543,582.55357772537991,594.20464927988758,null,"ARA1 = CA + KA + FP + LAR"]
[]
[null,null,null,"Recovered Revenue Including Possible Changes",null,null,"£m nominal","RRt",null,null,{"$f":"IF(K22= \"Y\", 'Table 1 - Detailed'!K109, K53)","v":599.38234671000009},{"$f":"IF(L22= \"Y\", 'Table 1 - Detailed'!L109, L53)","v":490.3259263112875},{"$f":"IF(M22= \"Y\", 'Table 1 - Detailed'!M109, M53)","v":550.63276408662955},{"$f":"IF(N22= \"Y\", 'Table 1 - Detailed'!N109, N53)","v":606.71012023192543},{"$f":"IF(O22= \"Y\", 'Table 1 - Detailed'!O109, O53)","v":582.55357772537991},{"$f":"IF(P22= \"Y\", 'Table 1 - Detailed'!P109, P53)","v":594.20464927988758},null,"RRA1"]
[]
[null,null,null,"Revenue under/(over) recovery Including Possible Changes",null,null,"£m nominal",null,null,null,{"$f":"K53 - K55","v":22.588298306474371},{"$f":"L53 - L55","v":49.012208788732323},30.730208199941899,0,0,0,null,"D = ARA1 - RRA1"]
[]
[null,null,null,null,"Vanilla weighted average cost of capital ",null,"annual real %","WACCt",null,null,{"$f":"'Table 1 - Detailed'!K112","v":4.1370183200000001E-2},{"$f":"'Table 1 - Detailed'!L112","v":4.09301584E-2},{"$f":"'Table 1 - Detailed'!M112","v":4.1868818000000002E-2},{"$f":"'Table 1 - Detailed'!N112","v":4.1308793199999999E-2},{"$f":"'Table 1 - Detailed'!O112","v":4.1308793199999999E-2},{"$f":"'Table 1 - Detailed'!P112","v":4.1308793199999999E-2},null,"WACC"]
[null,null,null,null,"Inflation (from year t to t+1)",null,"annual %","PIt+1/PIt",null,null,{"$f":"'Table 1 - Detailed'!K113","v":3.9787011293574093E-2},{"$f":"'Table 1 - Detailed'!L113","v":2.3493774810293022E-2},{"$f":"'Table 1 - Detailed'!M113","v":2.0310356376031402E-2},{"$f":"'Table 1 - Detailed'!N113","v":2.0310356376031402E-2},{"$f":"'Table 1 - Detailed'!O113","v":2.0310356376031402E-2},{"$f":"'Table 1 - Detailed'!P113","v":2.0310356376031402E-2},null,"E [= PIt+1/PIt]"]
[]
[null,null,null,null,"Nominal time value of money",null,"annual nominal %","TVMt",null,null,{"$f":"(1 + K59) * (1 + K60) - 1","v":8.2803190439769692E-2},{"$f":"(1 + L59) * (1 + L60) - 1","v":6.5385537134692084E-2},6.3029544990654607E-2,6.2458145887387184E-2,6.2458145887387184E-2,6.2458145887387184E-2,null,"TVM = (1 + WACC) x (1 + E) - 1"]
[]
[null,null,null,"Correction Term Including Possible Changes",null,null,"£m nominal","Kt",null,null,{"$f":"IF(K6 = $K$6,'Table 1 - Detailed'!K115, J57 * (1 + J62))","v":48.701219026143356},{"$f":"IF(L6 = $K$6,'Table 1 - Detailed'!L115, K57 * (1 + K62))","v":24.458681472855694},{"$f":"IF(M6 = $K$6,'Table 1 - Detailed'!M115, L57 * (1 + L62))","v":52.21689838654126},{"$f":"IF(N6 = $K$6,'Table 1 - Detailed'!N115, M57 * (1 + M62))","v":32.667119240252319},{"$f":"IF(O6 = $K$6,'Table 1 - Detailed'!O115, N57 * (1 + N62))","v":0},{"$f":"IF(P6 = $K$6,'Table 1 - Detailed'!P115, O57 * (1 + O62))","v":0},null,"KA = Dt-1 + (1 + TVMt-1)]"]
[]
[null,null,"Part B - Impact of Variances in Calculated Revenue (%) in future years"]
[]
[null,null,null,"Users may explore the effect of Calculated Revenue being higher or lower than the forecast in 'Table 1' (as used to set "]
[null,null,null,"published charges) on Allowed Revenue in future years - for instance, to approximate the effect of unanticipated price "]
[null,null,null,"inflation - by entering values into the \"Percentage change in inflation\" row below."]
[]
[null,null,null,"Percentage change in inflation",null,null,"% Change",null,null,null,null,null,null,null,null,null,null,"P1"]
[]
[null,null,null,"Allowed Revenue Including Possible Changes to Calculated Revenue and Inflation Change",null,null,"£m nominal",null,null,null,{"$f":"K53 * (1 + K72)","v":621.97064501647446},539.33813510001983,581.36297228657145,606.71012023192543,582.55357772537991,594.20464927988758,null,"ARA2 = ARA1  * (1 + P1)"]
[]
[null,null,null,"The rows below demonstrate how a one-off change in Calculated Revenue will persist, via the 'Correction Term', "]
[null,null,null,"until the first year in which Allowed Revenue can be recovered via charge-setting. "]
[null,null,null,"Until then, the fact that charges are already published prevents the change in Allowed Revenue from being recovered. "]
[]
[null,null,null,"Reduction in K for Inflation Change",null,null,"£m nominal",null,null,null,null,{"$f":"IF(K22 = \"N\", 0, - ((K74 - K53) - K80) * (1 + K62))","v":0},{"$f":"IF(L22 = \"N\", 0, - ((L74 - L53) - L80) * (1 + L62))","v":0},{"$f":"IF(M22 = \"N\", 0, - ((M74 - M53) - M80) * (1 + M62))","v":0},{"$f":"IF(N22 = \"N\", 0, - ((N74 - N53) - N80) * (1 + N62))","v":0},{"$f":"IF(O22 = \"N\", 0, - ((O74 - O53) - O80) * (1 + O62))","v":0},null,"KA1t = (ARA2t-1 - ARA1t-1) * (1 + TVMt-1)"]
[]
[null,null,null,"New Allowed Revenue inc Inflation Change",null,null,"£m nominal",null,null,null,{"$f":"K74 - K80","v":621.97064501647446},539.33813510001983,581.36297228657145,606.71012023192543,582.55357772537991,594.20464927988758,null,"ARA3 = ARA2 + KA1"]
[]
[null,null,null,"Please note, these calculations and headings are only approximations of the full financial treatment applied within Ofgem's Price Control Financial Model."]
[]
[null,null,"Part C - Impact of Variances in Recovered Revenue (%) in future years"]
[]
[null,null,null,"Users may explore the effect of Recovered Revenue being higher or lower than the forecast from 'Table 1' in future years "]
[null,null,null,"by entering values into the \"Percentage change in Recovered Revenue\" row below. "]
[]
[null,null,null,"Percentage change in Recovered Revenue",null,null,"% Change",null,null,null,null,null,null,null,null,null,null,"P2"]
[]
[null,null,null,"Recovered Revenue including Possible Recovered Revenue Change",null,null,"£m nominal",null,null,null,{"$f":"K55 * (1 + K91)","v":599.38234671000009},490.3259263112875,550.63276408662955,606.71012023192543,582.55357772537991,594.20464927988758,null,"RR2 = RR1 * (1 + P2)"]
[]
[null,null,null,"Reduction in K for Recovered Revenue Change",null,null,"£m nominal",null,null,null,null,{"$f":"IF(K22= \"N\", 0, ((K93 - K55) + K95) * (1 + K62))","v":0},{"$f":"IF(L22= \"N\", 0, ((L93 - L55) + L95) * (1 + L62))","v":0},{"$f":"IF(M22= \"N\", 0, ((M93 - M55) + M95) * (1 + M62))","v":0},{"$f":"IF(N22= \"N\", 0, ((N93 - N55) + N95) * (1 + N62))","v":0},{"$f":"IF(O22= \"N\", 0, ((O93 - O55) + O95) * (1 + O62))","v":0},null,"KA2t = (RR2t-1 - RR1t-1) * (1 + TVMt-1)"]
[]
[null,null,null,"New Recovered Revenue inc Recovered Revenue Change",null,null,"£m nominal",null,null,null,{"$f":"IF(K22 = \"Y\", K93, K99)","v":599.38234671000009},490.3259263112875,550.63276408662955,606.71012023192543,582.55357772537991,594.20464927988758,null,"RR3 = RR2 (tariffs set) or RR3 = ARA4 (tariffs not set)"]
[]
[null,null,null,"New Allowed Revenue inc Recovered Revenue Change",null,null,"£m nominal",null,null,null,{"$f":"K53 - K95","v":621.97064501647446},539.33813510001983,581.36297228657145,606.71012023192543,582.55357772537991,594.20464927988758,null,"ARA4 = ARA1 + KA2"]
[]
[null,"Summary of Table 2 - Sensitivities"]
[]
[null,null,null,"Part A - Impact of Variances in Calculated Revenue (£m 20/21 prices) in future years"]
[null,null,null,null,"Potential Change in Calculated Revenue",null,"£m nominal",null,null,null,{"$f":"K46 - 'Table 1 - Detailed'!K103","v":0},{"$f":"L46 - 'Table 1 - Detailed'!L103","v":0},{"$f":"M46 - 'Table 1 - Detailed'!M103","v":0},{"$f":"N46 - 'Table 1 - Detailed'!N103","v":0},{"$f":"O46 - 'Table 1 - Detailed'!O103","v":0},{"$f":"P46 - 'Table 1 - Detailed'!P103","v":0}]
[null,null,null,null,"Resultant Change in Allowed Revenue",null,"£m nominal",null,null,null,{"$f":"K53 - 'Table 1 - Detailed'!K107","v":0},{"$f":"L53 - 'Table 1 - Detailed'!L107","v":0},{"$f":"M53 - 'Table 1 - Detailed'!M107","v":0},{"$f":"N53 - 'Table 1 - Detailed'!N107","v":0},{"$f":"O53 - 'Table 1 - Detailed'!O107","v":0},{"$f":"P53 - 'Table 1 - Detailed'!P107","v":0}]
[null,null,null,null,"Resultant Change in Recovered Revenue",null,"£m nominal",null,null,null,{"$f":"K55 - 'Table 1 - Detailed'!K109","v":0},{"$f":"L55 - 'Table 1 - Detailed'!L109","v":0},{"$f":"M55 - 'Table 1 - Detailed'!M109","v":0},{"$f":"N55 - 'Table 1 - Detailed'!N109","v":0},{"$f":"O55 - 'Table 1 - Detailed'!O109","v":0},{"$f":"P55 - 'Table 1 - Detailed'!P109","v":0}]
[]
[null,null,null,"Part B - Impact of Variances in Calculated Revenue (%) in future years"]
[null,null,null,null,"Potential Change in Calculated Revenue",null,"£m nominal",null,null,null,{"$f":"K74 - K53","v":0},0,0,0,0,0]
[null,null,null,null,"Resultant Change in Allowed Revenue",null,"£m nominal",null,null,null,{"$f":"K82 - K53","v":0},0,0,0,0,0]
[null,null,null,null,"Resultant Change in Recovered Revenue",null,"£m nominal",null,null,null,{"$f":"IF(K22 = \"Y\", K55, K82) - K55","v":0},0,0,0,0,0]
[]
[null,null,null,"Part C - Impact of Variances in Recovered Revenue (%) in future years"]
[null,null,null,null,"Potential Change in Recovered Revenue",null,"£m nominal",null,null,null,{"$f":"K93 - K55","v":0},0,0,0,0,0]
[null,null,null,null,"Resultant Change in Allowed Revenue",null,"£m nominal",null,null,null,{"$f":"K99 - K53","v":0},0,0,0,0,0]
[null,null,null,null,"Resultant Change in Recovered Revenue",null,"£m nominal",null,null,null,{"$f":"K97 - K55","v":0},0,0,0,0,0]
[]
[null,"Checks"]
[]
[null,null,null,null,"Check for error values",null,"number of issues",{"$f":"SUM(IF(ISERROR(K17:P100), 1))","v":0}]
[]
[null,null,null,null,"\"Tariffs set for year\" left blank?",null,"number of issues",{"$f":"SUM(K122:Q122)","v":0},null,null,{"$f":"IF(ISBLANK(K22), 1, 0)","v":0},0,0,0,0,0]
[]
[null,null,null,null,"DNO acknowledges that:"]
[null,null,null,null,null,"...tariffs have been published for \"historic/current/published\" years","number of issues",{"$f":"SUM(K125:Q125)","v":0},null,null,{"$f":"IF(AND(K$22 = \"N\", K$7 <> forecast), 1, 0)","v":0},0,0,0,0,0]
[null,null,null,null,null,"...tariffs have not been published for \"forecast\" years","number of issues",{"$f":"SUM(K126:Q126)","v":0},null,null,{"$f":"IF(AND(K$22 = \"Y\", K$7 = forecast), 1, 0)","v":0},0,0,0,0,0]
[]
[null,null,null,null,"Summary of checks",null,"number of issues",{"$f":"H120 + H122 + H125 + H126","v":0}]
[]
[null,"End of sheet"]

{"sheet":"CIRP_Inputs by customer type","index":11,"n_rows":2142,"n_cols":19,"rows_kept":2142,"cut":false,"hidden":false,"merged":[]}
[{"$f":"MID(CELL(\"filename\",A1),FIND(\"]\",CELL(\"filename\",A1))+1,255)","v":"CIRP_Inputs by customer type"}]
[{"$f":"Cover!D23 & \" - \" & TEXT(CIRP_submission_date, \"mmm\") & \"-\" & RIGHT(YEAR(CIRP_submission_date), 2) & \" - \" & Cover!D25","v":"SP Distribution - Jan-26 - V1"}]
[{"$f":"Cover!D2&\" - \"&Cover!D8&\" v\"&Cover!D10&\" - \"&Cover!D19","v":"Cost Information Review Pack (CIRP) - Release for charge setting v1 - 2027/28"}]
[{"$f":"H2140 & IF(H2140 = 1, \" issue\", \" issues\") &\" identified in checks on this sheet\"","v":"0 issues identified in checks on this sheet"},null,null,null,null,null,null,null,null,null,null,true,true,true]
[null,null,null,null,null,null,null,null,null,{"$f":"\"Year selected (\"& charging_year_selected &\")\"","v":"Year selected (2027/28)"},null,{"$f":"TRANSPOSE('CIRP_User control'!G27:H32)","v":"2024/25"},"2025/26","2026/27","2027/28","2028/29","2029/30"]
[null,"Click here to return to model map",null,null,null,null,"Units","Constants",null,{"$f":"'CIRP_User control'!$H$41","v":"Published"},null,"Historic","Current","Published","Published","Forecast","Forecast",null,"Legal text reference"]
[]
[null,"Description"]
[]
[null,null,"This sheet sets out inputs by customer type and by year."]
[null,null,"DNOs should populate the inputs for the charging year and the four following years."]
[null,null,"DNOs can also populate the three years preceding the charging year, but are not obliged to do so. "]
[]
[null,"Load characteristics"]
[]
[null,null,{"$f":"INDEX('Version control'!$H$29:$H$55,MATCH($A$1,'Version control'!$F$29:$F$55,0),1)&\"-A: Load factor\"","v":"Input 501-A: Load factor"}]
[]
[null,null,null,null,"Load factor",null,null,null,">",null,null,null,null,null,null,null,null,null,"Paragraphs 42 (a) and 52"]
[null,null,null,null,null,"Domestic Aggregated or CT","%",null,null,{"$f":"CHOOSE(charging_year_selected_index, L19,M19,N19,O19,P19,Q19)","v":0.46633333333333332},null,0.44600000000000001,0.45400000000000001,0.45566666666666666,0.46633333333333332,{"$f":"$O19","v":0.46633333333333332},0.46633333333333332]
[null,null,null,null,null,"Domestic Aggregated (Related MPAN)","%",null,null,7.6666666666666675E-2,null,7.9333333333333325E-2,8.6333333333333331E-2,7.9333333333333325E-2,7.6666666666666675E-2,7.6666666666666675E-2,7.6666666666666675E-2]
[null,null,null,null,null,"Non-Domestic Aggregated or CT","%",null,null,0.40566666666666662,null,0.41899999999999998,0.41799999999999998,0.42533333333333334,0.40566666666666662,0.40566666666666662,0.40566666666666662]
[null,null,null,null,null,"Non-Domestic Aggregated (Related MPAN)","%",null,null,0.2253333333333333,null,0.28733333333333338,0.28733333333333338,0.22799999999999998,0.2253333333333333,0.2253333333333333,0.2253333333333333]
[null,null,null,null,null,"LV Site Specific","%",null,null,0.53166666666666673,null,0.55300000000000005,0.54166666666666663,0.53799999999999992,0.53166666666666673,0.53166666666666673,0.53166666666666673]
[null,null,null,null,null,"LV Sub Site Specific","%",null,null,0.65933333333333344,null,0.67799999999999994,0.67766666666666664,0.67033333333333334,0.65933333333333344,0.65933333333333344,0.65933333333333344]
[null,null,null,null,null,"HV Site Specific","%",null,null,0.72800000000000009,null,0.7320000000000001,0.73866666666666658,0.73899999999999988,0.72800000000000009,0.72800000000000009,0.72800000000000009]
[null,null,null,null,null,"Unmetered Supplies","%",null,null,0.52666666666666673,null,0.48033333333333333,0.48833333333333329,0.51833333333333342,0.52666666666666673,0.52666666666666673,0.52666666666666673]
[null,null,null,null,null,"LV Generation Aggregated","%"]
[null,null,null,null,null,"LV Sub Generation Aggregated","%"]
[null,null,null,null,null,"LV Generation Site Specific","%"]
[null,null,null,null,null,"LV Generation Site Specific no RP Charge","%"]
[null,null,null,null,null,"LV Sub Generation Site Specific","%"]
[null,null,null,null,null,"LV Sub Generation Site Specific no RP Charge","%"]
[null,null,null,null,null,"HV Generation Site Specific","%"]
[null,null,null,null,null,"HV Generation Site Specific no RP Charge","%"]
[]
[null,null,{"$f":"INDEX('Version control'!$H$29:$H$55,MATCH($A$1,'Version control'!$F$29:$F$55,0),1)&\"-B: Coincidence factor\"","v":"Input 501-B: Coincidence factor"}]
[]
[null,null,null,null,"Coincidence factor",null,null,null,">",null,null,null,null,null,null,null,null,null,"Paragraphs 42 (b) and 52"]
[null,null,null,null,null,"Domestic Aggregated or CT","%",null,null,{"$f":"CHOOSE(charging_year_selected_index, L39,M39,N39,O39,P39,Q39)","v":0.91500000000000004},null,0.82433333333333325,0.88099999999999989,0.89766666666666672,0.91500000000000004,{"$f":"$O39","v":0.91500000000000004},0.91500000000000004]
[null,null,null,null,null,"Domestic Aggregated (Related MPAN)","%"]
[null,null,null,null,null,"Non-Domestic Aggregated or CT","%",null,null,{"$f":"CHOOSE(charging_year_selected_index, L41,M41,N41,O41,P41,Q41)","v":0.66166666666666663},null,0.70199999999999996,0.69600000000000006,0.68533333333333335,0.66166666666666663,{"$f":"$O41","v":0.66166666666666663},0.66166666666666663]
[null,null,null,null,null,"Non-Domestic Aggregated (Related MPAN)","%"]
[null,null,null,null,null,"LV Site Specific","%",null,null,{"$f":"CHOOSE(charging_year_selected_index, L43,M43,N43,O43,P43,Q43)","v":0.77566666666666662},null,0.79900000000000004,0.81866666666666665,0.79599999999999993,0.77566666666666662,{"$f":"$O43","v":0.77566666666666662},0.77566666666666662]
[null,null,null,null,null,"LV Sub Site Specific","%",null,null,{"$f":"CHOOSE(charging_year_selected_index, L44,M44,N44,O44,P44,Q44)","v":0.80200000000000005},null,0.82866666666666655,0.84266666666666667,0.83033333333333337,0.80200000000000005,0.80200000000000005,0.80200000000000005]
[null,null,null,null,null,"HV Site Specific","%",null,null,{"$f":"CHOOSE(charging_year_selected_index, L45,M45,N45,O45,P45,Q45)","v":0.83266666666666678},null,0.86599999999999999,0.86866666666666659,0.85366666666666668,0.83266666666666678,0.83266666666666678,0.83266666666666678]
[null,null,null,null,null,"Unmetered Supplies","%",null,null,{"$f":"CHOOSE(charging_year_selected_index, L46,M46,N46,O46,P46,Q46)","v":0.95133333333333336},null,0.91866666666666663,0.90766666666666662,0.93633333333333324,0.95133333333333336,0.95133333333333336,0.95133333333333336]
[null,null,null,null,null,"LV Generation Aggregated","%"]
[null,null,null,null,null,"LV Sub Generation Aggregated","%"]
[null,null,null,null,null,"LV Generation Site Specific","%"]
[null,null,null,null,null,"LV Generation Site Specific no RP Charge","%"]
[null,null,null,null,null,"LV Sub Generation Site Specific","%"]
[null,null,null,null,null,"LV Sub Generation Site Specific no RP Charge","%"]
[null,null,null,null,null,"HV Generation Site Specific","%"]
[null,null,null,null,null,"HV Generation Site Specific no RP Charge","%"]
[]
[null,"Volumes"]
[]
[null,null,{"$f":"INDEX('Version control'!$H$29:$H$55,MATCH($A$1,'Version control'!$F$29:$F$55,0),1)&\"-C: All-the-way volumes - No residual\"","v":"Input 501-C: All-the-way volumes - No residual"}]
[]
[null,null,null,null,"Rate 1 units",null,null,null,">",null,null,null,null,null,null,null,null,null,"Paragraph 52"]
[null,null,null,null,null,"Domestic Aggregated or CT","MWh","All the way customers",null,null,null,null,null,null,0]
[null,null,null,null,null,"Domestic Aggregated (Related MPAN)","MWh","All the way customers",null,{"$f":"CHOOSE(charging_year_selected_index, L62,M62,N62,O62,P62,Q62)","v":450.95995548917972},null,652.15353635409315,583.49065558298639,531.21499118287113,450.95995548917972,{"$f":"$O62","v":450.95995548917972},450.95995548917972]
[null,null,null,null,null,"Non-Domestic Aggregated or CT","MWh","All the way customers",null,20.158836784220245,null,17.458206837827863,17.287783850161901,16.828352681468633,20.158836784220245,20.158836784220245,20.158836784220245]
[null,null,null,null,null,"Non-Domestic Aggregated (Related MPAN)","MWh","All the way customers",null,341.90600000000001,null,596.52194686342921,483.15300000000002,429.40699999999998,341.90600000000001,341.90600000000001,341.90600000000001]
[null,null,null,null,null,"LV Site Specific","MWh","All the way customers",null,37.80228458951715,null,12.367051703011343,11.680688004034213,12.927598185357905,37.80228458951715,37.80228458951715,37.80228458951715]
[null,null,null,null,null,"LV Sub Site Specific","MWh","All the way customers",null,0.19494712650074275,null,0.10809059005544162,0.14310184384727981,0.14639014558402755,0.19494712650074275,0.19494712650074275,0.19494712650074275]
[null,null,null,null,null,"HV Site Specific","MWh","All the way customers",null,1903.1550949912194,null,303.00288221653483,501.18634038179846,1020.0361489917624,1903.1550949912194,1903.1550949912194,1903.1550949912194]
[null,null,null,null,null,"Unmetered Supplies","MWh","All the way customers",null,null,null,null,null,null,0]
[null,null,null,null,null,"LV Generation Aggregated","MWh","All the way customers",null,{"$f":"CHOOSE(charging_year_selected_index, L69,M69,N69,O69,P69,Q69)","v":6922.0874674672614},null,931.43637713580506,8914.4630574141829,3089.9372928671773,6922.0874674672614,{"$f":"$O69","v":6922.0874674672614},6922.0874674672614]
[null,null,null,null,null,"LV Sub Generation Aggregated","MWh","All the way customers",null,14.658926785947987,null,11.571999999999999,52.1242510546167,9.1345310315576089,14.658926785947987,14.658926785947987,14.658926785947987]
[null,null,null,null,null,"LV Generation Site Specific","MWh","All the way customers",null,5979.4520000000002,null,5840.0349999999999,5844.5299999999988,6470.5140000000001,5979.4520000000002,5979.4520000000002,5979.4520000000002]
[null,null,null,null,null,"LV Generation Site Specific no RP Charge","MWh","All the way customers",null,0,null,0,0,0,0,0,0]
[null,null,null,null,null,"LV Sub Generation Site Specific","MWh","All the way customers",null,76.418999999999997,null,62.863,64.59099999999998,81.749999999999986,76.418999999999997,76.418999999999997,76.418999999999997]
[null,null,null,null,null,"LV Sub Generation Site Specific no RP Charge","MWh","All the way customers",null,0,null,0,0,0,0,0,0]
[null,null,null,null,null,"HV Generation Site Specific","MWh","All the way customers",null,110295.99099999999,null,118436.88399999999,115415.10300000002,130759.08200000001,110295.99099999999,110295.99099999999,110295.99099999999]
[null,null,null,null,null,"HV Generation Site Specific no RP Charge","MWh","All the way customers",null,0,null,0,0,0,0,0,0]
[]
[null,null,null,null,"Rate 2 units"]
[null,null,null,null,null,"Domestic Aggregated or CT","MWh","All the way customers",null,null,null,null,null,null,0]
[null,null,null,null,null,"Domestic Aggregated (Related MPAN)","MWh","All the way customers",null,{"$f":"CHOOSE(charging_year_selected_index, L80,M80,N80,O80,P80,Q80)","v":11165.978402644501},null,17758.957834530302,16234.514009424238,15618.480607119049,11165.978402644501,{"$f":"$O80","v":11165.978402644501},11165.978402644501]
[null,null,null,null,null,"Non-Domestic Aggregated or CT","MWh","All the way customers",null,107.43939606428286,null,89.773682852368651,89.69185070579644,87.209738236728384,107.43939606428286,107.43939606428286,107.43939606428286]
[null,null,null,null,null,"Non-Domestic Aggregated (Related MPAN)","MWh","All the way customers",null,6616.54,null,8872.4799352594691,7645.8209999999999,7321.8419999999996,6616.54,6616.54,6616.54]
[null,null,null,null,null,"LV Site Specific","MWh","All the way customers",null,121.98743699318861,null,59.332965344726659,47.630057456640778,73.432956778587808,121.98743699318861,121.98743699318861,121.98743699318861]
[null,null,null,null,null,"LV Sub Site Specific","MWh","All the way customers",null,0.69443852027130226,null,0.50378073179162042,0.55054459369022912,0.5903760476513743,0.69443852027130226,0.69443852027130226,0.69443852027130226]
[null,null,null,null,null,"HV Site Specific","MWh","All the way customers",null,8236.6957918683675,null,1405.3229265301227,2309.276574110876,4616.0850390229925,8236.6957918683675,8236.6957918683675,8236.6957918683675]
[null,null,null,null,null,"Unmetered Supplies","MWh","All the way customers",null,null,null,null,null,null,0]
[null,null,null,null,null,"LV Generation Aggregated","MWh","All the way customers",null,{"$f":"CHOOSE(charging_year_selected_index, L87,M87,N87,O87,P87,Q87)","v":42092.209324093616},null,5999.8136998466971,49280.917648912247,18087.620271481093,42092.209324093616,{"$f":"$O87","v":42092.209324093616},42092.209324093616]
[null,null,null,null,null,"LV Sub Generation Aggregated","MWh","All the way customers",null,69.692749320236075,null,49.278999999999996,227.37680998266927,43.445857924768553,69.692749320236075,69.692749320236075,69.692749320236075]
[null,null,null,null,null,"LV Generation Site Specific","MWh","All the way customers",null,30740.204999999994,null,26458.666000000001,27694.188000000006,30603.778999999999,30740.204999999994,30740.204999999994,30740.204999999994]
[null,null,null,null,null,"LV Generation Site Specific no RP Charge","MWh","All the way customers",null,0,null,0,0,0,0,0,0]
[null,null,null,null,null,"LV Sub Generation Site Specific","MWh","All the way customers",null,447.91699999999997,null,312.48,326.78199999999998,426.93399999999997,447.91699999999997,447.91699999999997,447.91699999999997]
[null,null,null,null,null,"LV Sub Generation Site Specific no RP Charge","MWh","All the way customers",null,0,null,0,0,0,0,0,0]
[null,null,null,null,null,"HV Generation Site Specific","MWh","All the way customers",null,353394.92799999996,null,429284.261,421753.54499999998,450898.07799999998,353394.92799999996,353394.92799999996,353394.92799999996]
[null,null,null,null,null,"HV Generation Site Specific no RP Charge","MWh","All the way customers",null,0,null,0,0,0,0,0,0]
[]
[null,null,null,null,"Rate 3 units"]
[null,null,null,null,null,"Domestic Aggregated or CT","MWh","All the way customers",null,null,null,null,null,null,0]
[null,null,null,null,null,"Domestic Aggregated (Related MPAN)","MWh","All the way customers",null,{"$f":"CHOOSE(charging_year_selected_index, L98,M98,N98,O98,P98,Q98)","v":132093.46064186629},null,171594.78624832345,163317.30533499279,154831.59440169809,132093.46064186629,{"$f":"$O98","v":132093.46064186629},132093.46064186629]
[null,null,null,null,null,"Non-Domestic Aggregated or CT","MWh","All the way customers",null,86.347856530068981,null,72.20746328181572,74.176229689763986,71.413244222362636,86.347856530068981,86.347856530068981,86.347856530068981]
[null,null,null,null,null,"Non-Domestic Aggregated (Related MPAN)","MWh","All the way customers",null,27874.395,null,35850.647959933427,33432.284,31371.061000000002,27874.395,27874.395,27874.395]
[null,null,null,null,null,"LV Site Specific","MWh","All the way customers",null,124.41409226933219,null,52.629377636737694,60.893809608235522,113.47932943338682,124.41409226933219,124.41409226933219,124.41409226933219]
[null,null,null,null,null,"LV Sub Site Specific","MWh","All the way customers",null,0.985404380720172,null,0.51812867815293817,0.77911003872407869,0.94960976017007337,0.985404380720172,0.985404380720172,0.985404380720172]
[null,null,null,null,null,"HV Site Specific","MWh","All the way customers",null,8356.9822485519762,null,1546.3846427787762,2960.6388173812438,5422.4088019514056,8356.9822485519762,8356.9822485519762,8356.9822485519762]
[null,null,null,null,null,"Unmetered Supplies","MWh","All the way customers",null,null,null,null,null,null,0]
[null,null,null,null,null,"LV Generation Aggregated","MWh","All the way customers",null,{"$f":"CHOOSE(charging_year_selected_index, L105,M105,N105,O105,P105,Q105)","v":19217.031600589951},null,2681.8786975178805,22702.507450935238,8391.8504647072477,19217.031600589951,{"$f":"$O105","v":19217.031600589951},19217.031600589951]
[null,null,null,null,null,"LV Sub Generation Aggregated","MWh","All the way customers",null,63.286158755382779,null,45.105000000000004,201.46913946310823,46.744363173512902,63.286158755382779,63.286158755382779,63.286158755382779]
[null,null,null,null,null,"LV Generation Site Specific","MWh","All the way customers",null,29465.601999999995,null,29713.727000000003,29330.011000000002,31142.369999999995,29465.601999999995,29465.601999999995,29465.601999999995]
[null,null,null,null,null,"LV Generation Site Specific no RP Charge","MWh","All the way customers",null,0,null,0,0,0,0,0,0]
[null,null,null,null,null,"LV Sub Generation Site Specific","MWh","All the way customers",null,427.12099999999998,null,275.35399999999998,309.74,420.53800000000001,427.12099999999998,427.12099999999998,427.12099999999998]
[null,null,null,null,null,"LV Sub Generation Site Specific no RP Charge","MWh","All the way customers",null,0,null,0,0,0,0,0,0]
[null,null,null,null,null,"HV Generation Site Specific","MWh","All the way customers",null,394088.42299999995,null,489264.26399999997,491598.924,503591.15199999994,394088.42299999995,394088.42299999995,394088.42299999995]
[null,null,null,null,null,"HV Generation Site Specific no RP Charge","MWh","All the way customers",null,0,null,0,0,0,0,0,0]
[]
[null,null,null,null,"MPANs"]
[null,null,null,null,null,"Domestic Aggregated or CT","MPANs","All the way customers",null,null,null,null,null,null,0]
[null,null,null,null,null,"Domestic Aggregated (Related MPAN)","MPANs","All the way customers",null,{"$f":"CHOOSE(charging_year_selected_index, L116,M116,N116,O116,P116,Q116)","v":65857},null,92980,90201,85791,65857,{"$f":"$O116","v":65857},65857]
[null,null,null,null,null,"Non-Domestic Aggregated or CT","MPANs","All the way customers",null,65,null,60,59,63,65,65,65]
[null,null,null,null,null,"Non-Domestic Aggregated (Related MPAN)","MPANs","All the way customers",null,4053,null,5473,5142,4784,4053,4053,4053]
[null,null,null,null,null,"LV Site Specific","MPANs","All the way customers",null,32,null,21,24,29,32,32,32]
[null,null,null,null,null,"LV Sub Site Specific","MPANs","All the way customers",null,2,null,1,1,1,2,2,2]
[null,null,null,null,null,"HV Site Specific","MPANs","All the way customers",null,164,null,133,148,157,164,164,164]
[null,null,null,null,null,"Unmetered Supplies","MPANs","All the way customers",null,null,null,null,null,null,0]
[null,null,null,null,null,"LV Generation Aggregated","MPANs","All the way customers",null,{"$f":"CHOOSE(charging_year_selected_index, L123,M123,N123,O123,P123,Q123)","v":29908.231691690049},null,1153,14150.894574354708,13496.188241947559,29908.231691690049,{"$f":"$O123","v":29908.231691690049},29908.231691690049]
[null,null,null,null,null,"LV Sub Generation Aggregated","MPANs","All the way customers",null,7,null,4,7,7,7,7,7]
[null,null,null,null,null,"LV Generation Site Specific","MPANs","All the way customers",null,661,null,496,549,602,661,661,661]
[null,null,null,null,null,"LV Generation Site Specific no RP Charge","MPANs","All the way customers",null,0,null,0,0,0,0,0,0]
[null,null,null,null,null,"LV Sub Generation Site Specific","MPANs","All the way customers",null,15,null,9,9,14,15,15,15]
[null,null,null,null,null,"LV Sub Generation Site Specific no RP Charge","MPANs","All the way customers",null,0,null,0,0,0,0,0,0]
[null,null,null,null,null,"HV Generation Site Specific","MPANs","All the way customers",null,272,null,261,263,268,272,272,272]
[null,null,null,null,null,"HV Generation Site Specific no RP Charge","MPANs","All the way customers",null,0,null,0,0,0,0,0,0]
[]
[null,null,null,null,"Import capacity"]
[null,null,null,null,null,"Domestic Aggregated or CT","kVA","All the way customers"]
[null,null,null,null,null,"Domestic Aggregated (Related MPAN)","kVA","All the way customers"]
[null,null,null,null,null,"Non-Domestic Aggregated or CT","kVA","All the way customers"]
[null,null,null,null,null,"Non-Domestic Aggregated (Related MPAN)","kVA","All the way customers"]
[null,null,null,null,null,"LV Site Specific","kVA","All the way customers",null,{"$f":"CHOOSE(charging_year_selected_index, L137,M137,N137,O137,P137,Q137)","v":1328},null,952,992,1107,1328,{"$f":"$O137","v":1328},1328]
[null,null,null,null,null,"LV Sub Site Specific","kVA","All the way customers",null,{"$f":"CHOOSE(charging_year_selected_index, L138,M138,N138,O138,P138,Q138)","v":108},null,8,8,8,108,108,108]
[null,null,null,null,null,"HV Site Specific","kVA","All the way customers",null,{"$f":"CHOOSE(charging_year_selected_index, L139,M139,N139,O139,P139,Q139)","v":22294},null,7676,14725,18041,22294,22294,22294]
[null,null,null,null,null,"Unmetered Supplies","kVA","All the way customers"]
[null,null,null,null,null,"LV Generation Aggregated","kVA","All the way customers"]
[null,null,null,null,null,"LV Sub Generation Aggregated","kVA","All the way customers"]
[null,null,null,null,null,"LV Generation Site Specific","kVA","All the way customers"]
[null,null,null,null,null,"LV Generation Site Specific no RP Charge","kVA","All the way customers"]
[null,null,null,null,null,"LV Sub Generation Site Specific","kVA","All the way customers"]
[null,null,null,null,null,"LV Sub Generation Site Specific no RP Charge","kVA","All the way customers"]
[null,null,null,null,null,"HV Generation Site Specific","kVA","All the way customers"]
[null,null,null,null,null,"HV Generation Site Specific no RP Charge","kVA","All the way customers"]
[]
[null,null,null,null,"Exceeded capacity"]
[null,null,null,null,null,"Domestic Aggregated or CT","kVA","All the way customers"]
[null,null,null,null,null,"Domestic Aggregated (Related MPAN)","kVA","All the way customers"]
[null,null,null,null,null,"Non-Domestic Aggregated or CT","kVA","All the way customers"]
[null,null,null,null,null,"Non-Domestic Aggregated (Related MPAN)","kVA","All the way customers"]
[null,null,null,null,null,"LV Site Specific","kVA","All the way customers",null,{"$f":"CHOOSE(charging_year_selected_index, L155,M155,N155,O155,P155,Q155)","v":57.083333333333336},null,42,23.583333333333332,18.666666666666668,57.083333333333336,{"$f":"$O155","v":57.083333333333336},57.083333333333336]
[null,null,null,null,null,"LV Sub Site Specific","kVA","All the way customers",null,{"$f":"CHOOSE(charging_year_selected_index, L156,M156,N156,O156,P156,Q156)","v":21},null,5,10.416666666666666,17.333333333333332,21,21,21]
[null,null,null,null,null,"HV Site Specific","kVA","All the way customers",null,{"$f":"CHOOSE(charging_year_selected_index, L157,M157,N157,O157,P157,Q157)","v":1102.1666666666667},null,744,1297.6666666666667,1153.3333333333333,1102.1666666666667,1102.1666666666667,1102.1666666666667]
[null,null,null,null,null,"Unmetered Supplies","kVA","All the way customers"]
[null,null,null,null,null,"LV Generation Aggregated","kVA","All the way customers"]
[null,null,null,null,null,"LV Sub Generation Aggregated","kVA","All the way customers"]
[null,null,null,null,null,"LV Generation Site Specific","kVA","All the way customers"]
[null,null,null,null,null,"LV Generation Site Specific no RP Charge","kVA","All the way customers"]
[null,null,null,null,null,"LV Sub Generation Site Specific","kVA","All the way customers"]
[null,null,null,null,null,"LV Sub Generation Site Specific no RP Charge","kVA","All the way customers"]
[null,null,null,null,null,"HV Generation Site Specific","kVA","All the way customers"]
[null,null,null,null,null,"HV Generation Site Specific no RP Charge","kVA","All the way customers"]
[]
[null,null,null,null,"Reactive power units"]
[null,null,null,null,null,"Domestic Aggregated or CT","MVArh","All the way customers"]
[null,null,null,null,null,"Domestic Aggregated (Related MPAN)","MVArh","All the way customers"]
[null,null,null,null,null,"Non-Domestic Aggregated or CT","MVArh","All the way customers"]
[null,null,null,null,null,"Non-Domestic Aggregated (Related MPAN)","MVArh","All the way customers"]
[null,null,null,null,null,"LV Site Specific","MVArh","All the way customers",null,{"$f":"CHOOSE(charging_year_selected_index, L173,M173,N173,O173,P173,Q173)","v":105.63200000000001},null,64.055000000000007,57.555,82.894999999999996,105.63200000000001,{"$f":"$O173","v":105.63200000000001},105.63200000000001]
[null,null,null,null,null,"LV Sub Site Specific","MVArh","All the way customers",null,{"$f":"CHOOSE(charging_year_selected_index, L174,M174,N174,O174,P174,Q174)","v":5.5339999999999998},null,2.2480000000000002,2.9279999999999999,3.33,5.5339999999999998,5.5339999999999998,5.5339999999999998]
[null,null,null,null,null,"HV Site Specific","MVArh","All the way customers",null,{"$f":"CHOOSE(charging_year_selected_index, L175,M175,N175,O175,P175,Q175)","v":1721.625},null,1213.202,1841.1489999999999,1646.0989999999999,1721.625,1721.625,1721.625]
[null,null,null,null,null,"Unmetered Supplies","MVArh","All the way customers"]
[null,null,null,null,null,"LV Generation Aggregated","MVArh","All the way customers"]
[null,null,null,null,null,"LV Sub Generation Aggregated","MVArh","All the way customers"]
[null,null,null,null,null,"LV Generation Site Specific","MVArh","All the way customers",null,{"$f":"CHOOSE(charging_year_selected_index, L179,M179,N179,O179,P179,Q179)","v":8237.9060000000009},null,5379.1220000000003,6086.3360000000011,6590.6979999999994,8237.9060000000009,{"$f":"$O179","v":8237.9060000000009},8237.9060000000009]
[null,null,null,null,null,"LV Generation Site Specific no RP Charge","MVArh","All the way customers"]
[null,null,null,null,null,"LV Sub Generation Site Specific","MVArh","All the way customers",null,{"$f":"CHOOSE(charging_year_selected_index, L181,M181,N181,O181,P181,Q181)","v":374.73599999999999},null,157.29499999999999,184.05,295.43,374.73599999999999,{"$f":"$O181","v":374.73599999999999},374.73599999999999]
[null,null,null,null,null,"LV Sub Generation Site Specific no RP Charge","MVArh","All the way customers"]
[null,null,null,null,null,"HV Generation Site Specific","MVArh","All the way customers",null,{"$f":"CHOOSE(charging_year_selected_index, L183,M183,N183,O183,P183,Q183)","v":18493.092000000001},null,20692.973000000002,18732.55,18762.748,18493.092000000001,{"$f":"$O183","v":18493.092000000001},18493.092000000001]
[null,null,null,null,null,"HV Generation Site Specific no RP Charge","MVArh","All the way customers"]
[]
[null,null,{"$f":"INDEX('Version control'!$H$29:$H$55,MATCH($A$1,'Version control'!$F$29:$F$55,0),1)&\"-D: All-the-way volumes - Residual Band 1\"","v":"Input 501-D: All-the-way volumes - Residual Band 1"}]
[]
[null,null,null,null,"Rate 1 units",null,null,null,">",null,null,null,null,null,null,null,null,null,"Paragraph 52"]
[null,null,null,null,null,"Domestic Aggregated or CT","MWh","All the way customers",null,{"$f":"CHOOSE(charging_year_selected_index, L189,M189,N189,O189,P189,Q189)","v":679456.49875052879},null,690665.52756605227,703559.81712934223,702560.59340289782,679456.49875052879,{"$f":"$O189","v":679456.49875052879},679456.49875052879]
[null,null,null,null,null,"Domestic Aggregated (Related MPAN)","MWh","All the way customers",null,null,null,null,null,null,0]
[null,null,null,null,null,"Non-Domestic Aggregated or CT","MWh","All the way customers",null,{"$f":"CHOOSE(charging_year_selected_index, L191,M191,N191,O191,P191,Q191)","v":15728.010511486234},null,16636.262053683062,16503.980903325719,14415.640568951427,15728.010511486234,{"$f":"$O191","v":15728.010511486234},15728.010511486234]
[null,null,null,null,null,"Non-Domestic Aggregated (Related MPAN)","MWh","All the way customers",null,null,null,null,null,null,0]
[null,null,null,null,null,"LV Site Specific","MWh","All the way customers",null,{"$f":"CHOOSE(charging_year_selected_index, L193,M193,N193,O193,P193,Q193)","v":45358.282940552301},null,45771.541992618622,47456.547464738745,46052.164173505626,45358.282940552301,{"$f":"$O193","v":45358.282940552301},45358.282940552301]
[null,null,null,null,null,"LV Sub Site Specific","MWh","All the way customers",null,{"$f":"CHOOSE(charging_year_selected_index, L194,M194,N194,O194,P194,Q194)","v":130.896811640133},null,138.40406993184831,122.4524465326782,111.33163190277907,130.896811640133,130.896811640133,130.896811640133]
[null,null,null,null,null,"HV Site Specific","MWh","All the way customers",null,{"$f":"CHOOSE(charging_year_selected_index, L195,M195,N195,O195,P195,Q195)","v":15121.892183664901},null,16825.160368042096,16413.604750339815,15004.429915805758,15121.892183664901,15121.892183664901,15121.892183664901]
[null,null,null,null,null,"Unmetered Supplies","MWh","All the way customers",null,{"$f":"CHOOSE(charging_year_selected_index, L196,M196,N196,O196,P196,Q196)","v":9988.5428195909044},null,11180.532790656171,10411.538342882297,10532.180409717212,9988.5428195909044,9988.5428195909044,9988.5428195909044]
[null,null,null,null,null,"LV Generation Aggregated","MWh","All the way customers",null,null,null,null,null,null,0]
[null,null,null,null,null,"LV Sub Generation Aggregated","MWh","All the way customers"]
[null,null,null,null,null,"LV Generation Site Specific","MWh","All the way customers",null,null,null,null,null,null,0]
[null,null,null,null,null,"LV Generation Site Specific no RP Charge","MWh","All the way customers"]
[null,null,null,null,null,"LV Sub Generation Site Specific","MWh","All the way customers"]
[null,null,null,null,null,"LV Sub Generation Site Specific no RP Charge","MWh","All the way customers"]
[null,null,null,null,null,"HV Generation Site Specific","MWh","All the way customers"]
[null,null,null,null,null,"HV Generation Site Specific no RP Charge","MWh","All the way customers"]
[]
[null,null,null,null,"Rate 2 units"]
[null,null,null,null,null,"Domestic Aggregated or CT","MWh","All the way customers",null,{"$f":"CHOOSE(charging_year_selected_index, L207,M207,N207,O207,P207,Q207)","v":2389915.424312321},null,2376763.4827184244,2447600.8517030654,2464913.0391721069,2389915.424312321,{"$f":"$O207","v":2389915.424312321},2389915.424312321]
[null,null,null,null,null,"Domestic Aggregated (Related MPAN)","MWh","All the way customers",null,null,null,null,null,null,0]
[null,null,null,null,null,"Non-Domestic Aggregated or CT","MWh","All the way customers",null,{"$f":"CHOOSE(charging_year_selected_index, L209,M209,N209,O209,P209,Q209)","v":83824.675438094055},null,85547.074068350208,85625.352796075284,74706.316436868263,83824.675438094055,{"$f":"$O209","v":83824.675438094055},83824.675438094055]
[null,null,null,null,null,"Non-Domestic Aggregated (Related MPAN)","MWh","All the way customers",null,null,null,null,null,null,0]
[null,null,null,null,null,"LV Site Specific","MWh","All the way customers",null,{"$f":"CHOOSE(charging_year_selected_index, L211,M211,N211,O211,P211,Q211)","v":217564.32958336201},null,219596.50368094287,227086.37220120273,221080.01104187904,217564.32958336201,{"$f":"$O211","v":217564.32958336201},217564.32958336201]
[null,null,null,null,null,"LV Sub Site Specific","MWh","All the way customers",null,{"$f":"CHOOSE(charging_year_selected_index, L212,M212,N212,O212,P212,Q212)","v":615.46165676966552},null,645.06358599246971,570.50233209290229,555.26263766553177,615.46165676966552,615.46165676966552,615.46165676966552]
[null,null,null,null,null,"HV Site Specific","MWh","All the way customers",null,{"$f":"CHOOSE(charging_year_selected_index, L213,M213,N213,O213,P213,Q213)","v":73498.517189785038},null,78034.847176332449,78891.638738172347,72749.433608949286,73498.517189785038,73498.517189785038,73498.517189785038]
[null,null,null,null,null,"Unmetered Supplies","MWh","All the way customers",null,{"$f":"CHOOSE(charging_year_selected_index, L214,M214,N214,O214,P214,Q214)","v":61147.312788234245},null,64407.420619468379,60982.689512370809,64324.99679200619,61147.312788234245,61147.312788234245,61147.312788234245]
[null,null,null,null,null,"LV Generation Aggregated","MWh","All the way customers",null,null,null,null,null,null,0]
[null,null,null,null,null,"LV Sub Generation Aggregated","MWh","All the way customers"]
[null,null,null,null,null,"LV Generation Site Specific","MWh","All the way customers",null,null,null,null,null,null,0]
[null,null,null,null,null,"LV Generation Site Specific no RP Charge","MWh","All the way customers"]
[null,null,null,null,null,"LV Sub Generation Site Specific","MWh","All the way customers"]
[null,null,null,null,null,"LV Sub Generation Site Specific no RP Charge","MWh","All the way customers"]
[null,null,null,null,null,"HV Generation Site Specific","MWh","All the way customers"]
[null,null,null,null,null,"HV Generation Site Specific no RP Charge","MWh","All the way customers"]
[]
[null,null,null,null,"Rate 3 units"]
[null,null,null,null,null,"Domestic Aggregated or CT","MWh","All the way customers",null,{"$f":"CHOOSE(charging_year_selected_index, L225,M225,N225,O225,P225,Q225)","v":2333480.0968766352},null,2257194.3085960886,2346502.0044514849,2383377.982020339,2333480.0968766352,{"$f":"$O225","v":2333480.0968766352},2333480.0968766352]
[null,null,null,null,null,"Domestic Aggregated (Related MPAN)","MWh","All the way customers",null,null,null,null,null,null,0]
[null,null,null,null,null,"Non-Domestic Aggregated or CT","MWh","All the way customers",null,{"$f":"CHOOSE(charging_year_selected_index, L227,M227,N227,O227,P227,Q227)","v":67368.966259615539},null,68807.884598155215,70813.187444445182,61174.595045537397,67368.966259615539,{"$f":"$O227","v":67368.966259615539},67368.966259615539]
[null,null,null,null,null,"Non-Domestic Aggregated (Related MPAN)","MWh","All the way customers",null,null,null,null,null,null,0]
[null,null,null,null,null,"LV Site Specific","MWh","All the way customers",null,{"$f":"CHOOSE(charging_year_selected_index, L229,M229,N229,O229,P229,Q229)","v":192038.8005198949},null,194785.9381843415,199145.42614226352,194247.5525829668,192038.8005198949,{"$f":"$O229","v":192038.8005198949},192038.8005198949]
[null,null,null,null,null,"LV Sub Site Specific","MWh","All the way customers",null,{"$f":"CHOOSE(charging_year_selected_index, L230,M230,N230,O230,P230,Q230)","v":627.69386154293602},null,663.435344075682,603.57575198930022,574.53701913640759,627.69386154293602,627.69386154293602,627.69386154293602]
[null,null,null,null,null,"HV Site Specific","MWh","All the way customers",null,{"$f":"CHOOSE(charging_year_selected_index, L231,M231,N231,O231,P231,Q231)","v":75958.090452528137},null,85867.729755907218,82180.443622255261,75601.653444431679,75958.090452528137,75958.090452528137,75958.090452528137]
[null,null,null,null,null,"Unmetered Supplies","MWh","All the way customers",null,{"$f":"CHOOSE(charging_year_selected_index, L232,M232,N232,O232,P232,Q232)","v":136402.38294403584},null,148584.05886729746,138883.6383279369,143411.52803122054,136402.38294403584,136402.38294403584,136402.38294403584]
[null,null,null,null,null,"LV Generation Aggregated","MWh","All the way customers",null,null,null,null,null,null,0]
[null,null,null,null,null,"LV Sub Generation Aggregated","MWh","All the way customers"]
[null,null,null,null,null,"LV Generation Site Specific","MWh","All the way customers",null,null,null,null,null,null,0]
[null,null,null,null,null,"LV Generation Site Specific no RP Charge","MWh","All the way customers"]
[null,null,null,null,null,"LV Sub Generation Site Specific","MWh","All the way customers"]
[null,null,null,null,null,"LV Sub Generation Site Specific no RP Charge","MWh","All the way customers"]
[null,null,null,null,null,"HV Generation Site Specific","MWh","All the way customers"]
[null,null,null,null,null,"HV Generation Site Specific no RP Charge","MWh","All the way customers"]
[]
[null,null,null,null,"MPANs"]
[null,null,null,null,null,"Domestic Aggregated or CT","MPANs","All the way customers",null,{"$f":"CHOOSE(charging_year_selected_index, L243,M243,N243,O243,P243,Q243)","v":1860667},null,1858128,1860265,1859534,1860667,{"$f":"$O243","v":1860667},1860667]
[null,null,null,null,null,"Domestic Aggregated (Related MPAN)","MPANs","All the way customers",null,null,null,null,null,null,0]
[null,null,null,null,null,"Non-Domestic Aggregated or CT","MPANs","All the way customers",null,{"$f":"CHOOSE(charging_year_selected_index, L245,M245,N245,O245,P245,Q245)","v":42874},null,46603,45050,43089,42874,{"$f":"$O245","v":42874},42874]
[null,null,null,null,null,"Non-Domestic Aggregated (Related MPAN)","MPANs","All the way customers",null,null,null,null,null,null,0]
[null,null,null,null,null,"LV Site Specific","MPANs","All the way customers",null,{"$f":"CHOOSE(charging_year_selected_index, L247,M247,N247,O247,P247,Q247)","v":4645},null,4524,4569,4589,4645,{"$f":"$O247","v":4645},4645]
[null,null,null,null,null,"LV Sub Site Specific","MPANs","All the way customers",null,{"$f":"CHOOSE(charging_year_selected_index, L248,M248,N248,O248,P248,Q248)","v":12},null,10,9,11,12,12,12]
[null,null,null,null,null,"HV Site Specific","MPANs","All the way customers",null,{"$f":"CHOOSE(charging_year_selected_index, L249,M249,N249,O249,P249,Q249)","v":354},null,356,348,347,354,354,354]
[null,null,null,null,null,"Unmetered Supplies","MPANs","All the way customers",null,{"$f":"CHOOSE(charging_year_selected_index, L250,M250,N250,O250,P250,Q250)","v":565},null,4804,4855,2019,565,565,565]
[null,null,null,null,null,"LV Generation Aggregated","MPANs","All the way customers",null,null,null,null,null,null,0]
[null,null,null,null,null,"LV Sub Generation Aggregated","MPANs","All the way customers"]
[null,null,null,null,null,"LV Generation Site Specific","MPANs","All the way customers",null,null,null,null,null,null,0]
[null,null,null,null,null,"LV Generation Site Specific no RP Charge","MPANs","All the way customers"]
[null,null,null,null,null,"LV Sub Generation Site Specific","MPANs","All the way customers"]
[null,null,null,null,null,"LV Sub Generation Site Specific no RP Charge","MPANs","All the way customers"]
[null,null,null,null,null,"HV Generation Site Specific","MPANs","All the way customers"]
[null,null,null,null,null,"HV Generation Site Specific no RP Charge","MPANs","All the way customers"]
[]
[null,null,null,null,"Import capacity"]
[null,null,null,null,null,"Domestic Aggregated or CT","kVA","All the way customers"]
[null,null,null,null,null,"Domestic Aggregated (Related MPAN)","kVA","All the way customers"]
[null,null,null,null,null,"Non-Domestic Aggregated or CT","kVA","All the way customers"]
[null,null,null,null,null,"Non-Domestic Aggregated (Related MPAN)","kVA","All the way customers"]
[null,null,null,null,null,"LV Site Specific","kVA","All the way customers",null,{"$f":"CHOOSE(charging_year_selected_index, L265,M265,N265,O265,P265,Q265)","v":259336},null,253629,255295,256905,259336,{"$f":"$O265","v":259336},259336]
[null,null,null,null,null,"LV Sub Site Specific","kVA","All the way customers",null,{"$f":"CHOOSE(charging_year_selected_index, L266,M266,N266,O266,P266,Q266)","v":701},null,456,456,531,701,701,701]
[null,null,null,null,null,"HV Site Specific","kVA","All the way customers",null,{"$f":"CHOOSE(charging_year_selected_index, L267,M267,N267,O267,P267,Q267)","v":74828},null,71629,71484,72278,74828,74828,74828]
[null,null,null,null,null,"Unmetered Supplies","kVA","All the way customers"]
[null,null,null,null,null,"LV Generation Aggregated","kVA","All the way customers"]
[null,null,null,null,null,"LV Sub Generation Aggregated","kVA","All the way customers"]
[null,null,null,null,null,"LV Generation Site Specific","kVA","All the way customers"]
[null,null,null,null,null,"LV Generation Site Specific no RP Charge","kVA","All the way customers"]
[null,null,null,null,null,"LV Sub Generation Site Specific","kVA","All the way customers"]
[null,null,null,null,null,"LV Sub Generation Site Specific no RP Charge","kVA","All the way customers"]
[null,null,null,null,null,"HV Generation Site Specific","kVA","All the way customers"]
[null,null,null,null,null,"HV Generation Site Specific no RP Charge","kVA","All the way customers"]
[]
[null,null,null,null,"Exceeded capacity"]
[null,null,null,null,null,"Domestic Aggregated or CT","kVA","All the way customers"]
[null,null,null,null,null,"Domestic Aggregated (Related MPAN)","kVA","All the way customers"]
[null,null,null,null,null,"Non-Domestic Aggregated or CT","kVA","All the way customers"]
[null,null,null,null,null,"Non-Domestic Aggregated (Related MPAN)","kVA","All the way customers"]
[null,null,null,null,null,"LV Site Specific","kVA","All the way customers",null,{"$f":"CHOOSE(charging_year_selected_index, L283,M283,N283,O283,P283,Q283)","v":13317.666666666666},null,12241,12629.416666666668,13067.75,13317.666666666666,{"$f":"$O283","v":13317.666666666666},13317.666666666666]
[null,null,null,null,null,"LV Sub Site Specific","kVA","All the way customers",null,{"$f":"CHOOSE(charging_year_selected_index, L284,M284,N284,O284,P284,Q284)","v":289},null,302,310.16666666666663,298.91666666666663,289,289,289]
[null,null,null,null,null,"HV Site Specific","kVA","All the way customers",null,{"$f":"CHOOSE(charging_year_selected_index, L285,M285,N285,O285,P285,Q285)","v":3985},null,5846,4117.416666666667,3741.9166666666665,3985,3985,3985]
[null,null,null,null,null,"Unmetered Supplies","kVA","All the way customers"]
[null,null,null,null,null,"LV Generation Aggregated","kVA","All the way customers"]
[null,null,null,null,null,"LV Sub Generation Aggregated","kVA","All the way customers"]
[null,null,null,null,null,"LV Generation Site Specific","kVA","All the way customers"]
[null,null,null,null,null,"LV Generation Site Specific no RP Charge","kVA","All the way customers"]
[null,null,null,null,null,"LV Sub Generation Site Specific","kVA","All the way customers"]
[null,null,null,null,null,"LV Sub Generation Site Specific no RP Charge","kVA","All the way customers"]
[null,null,null,null,null,"HV Generation Site Specific","kVA","All the way customers"]
[null,null,null,null,null,"HV Generation Site Specific no RP Charge","kVA","All the way customers"]
[]
[null,null,null,null,"Reactive power units"]
[null,null,null,null,null,"Domestic Aggregated or CT","MVArh","All the way customers"]
[null,null,null,null,null,"Domestic Aggregated (Related MPAN)","MVArh","All the way customers"]
[null,null,null,null,null,"Non-Domestic Aggregated or CT","MVArh","All the way customers"]
[null,null,null,null,null,"Non-Domestic Aggregated (Related MPAN)","MVArh","All the way customers"]
[null,null,null,null,null,"LV Site Specific","MVArh","All the way customers",null,{"$f":"CHOOSE(charging_year_selected_index, L301,M301,N301,O301,P301,Q301)","v":45965.792000000001},null,48146.402999999998,46848.589,46345.63,45965.792000000001,{"$f":"$O301","v":45965.792000000001},45965.792000000001]
[null,null,null,null,null,"LV Sub Site Specific","MVArh","All the way customers",null,{"$f":"CHOOSE(charging_year_selected_index, L302,M302,N302,O302,P302,Q302)","v":349.89299999999997},null,502.32499999999999,657.54399999999998,358.75599999999997,349.89299999999997,349.89299999999997,349.89299999999997]
[null,null,null,null,null,"HV Site Specific","MVArh","All the way customers",null,{"$f":"CHOOSE(charging_year_selected_index, L303,M303,N303,O303,P303,Q303)","v":22438.028999999999},null,24313.001,21709.762999999999,24184.324000000001,22438.028999999999,22438.028999999999,22438.028999999999]
[null,null,null,null,null,"Unmetered Supplies","MVArh","All the way customers"]
[null,null,null,null,null,"LV Generation Aggregated","MVArh","All the way customers"]
[null,null,null,null,null,"LV Sub Generation Aggregated","MVArh","All the way customers"]
[null,null,null,null,null,"LV Generation Site Specific","MVArh","All the way customers"]
[null,null,null,null,null,"LV Generation Site Specific no RP Charge","MVArh","All the way customers"]
[null,null,null,null,null,"LV Sub Generation Site Specific","MVArh","All the way customers"]
[null,null,null,null,null,"LV Sub Generation Site Specific no RP Charge","MVArh","All the way customers"]
[null,null,null,null,null,"HV Generation Site Specific","MVArh","All the way customers"]
[null,null,null,null,null,"HV Generation Site Specific no RP Charge","MVArh","All the way customers"]
[]
[null,null,{"$f":"INDEX('Version control'!$H$29:$H$55,MATCH($A$1,'Version control'!$F$29:$F$55,0),1)&\"-E: All-the-way volumes - Residual Band 2\"","v":"Input 501-E: All-the-way volumes - Residual Band 2"}]
[]
[null,null,null,null,"Rate 1 units",null,null,null,">",null,null,null,null,null,null,null,null,null,"Paragraph 52"]
[null,null,null,null,null,"Domestic Aggregated or CT","MWh","All the way customers",null,null,null,null,null,null,0]
[null,null,null,null,null,"Domestic Aggregated (Related MPAN)","MWh","All the way customers",null,null,null,null,null,null,0]
[null,null,null,null,null,"Non-Domestic Aggregated or CT","MWh","All the way customers",null,{"$f":"CHOOSE(charging_year_selected_index, L319,M319,N319,O319,P319,Q319)","v":27460.451945554087},null,30057.319359680965,29101.976524345333,26522.77087592884,27460.451945554087,{"$f":"$O319","v":27460.451945554087},27460.451945554087]
[null,null,null,null,null,"Non-Domestic Aggregated (Related MPAN)","MWh","All the way customers",null,null,null,null,null,null,0]
[null,null,null,null,null,"LV Site Specific","MWh","All the way customers",null,{"$f":"CHOOSE(charging_year_selected_index, L321,M321,N321,O321,P321,Q321)","v":65038.070245482289},null,65625.904093153804,70214.940997212165,66596.505197742663,65038.070245482289,{"$f":"$O321","v":65038.070245482289},65038.070245482289]
[null,null,null,null,null,"LV Sub Site Specific","MWh","All the way customers",null,{"$f":"CHOOSE(charging_year_selected_index, L322,M322,N322,O322,P322,Q322)","v":683.21984657859537},null,622.15327059830827,640.93328333587624,567.23581062540438,683.21984657859537,683.21984657859537,683.21984657859537]
[null,null,null,null,null,"HV Site Specific","MWh","All the way customers",null,{"$f":"CHOOSE(charging_year_selected_index, L323,M323,N323,O323,P323,Q323)","v":57973.099711089526},null,57933.42611206969,62616.787705325325,58104.637611190235,57973.099711089526,57973.099711089526,57973.099711089526]
[null,null,null,null,null,"Unmetered Supplies","MWh","All the way customers",null,null,null,null,null,null,0]
[null,null,null,null,null,"LV Generation Aggregated","MWh","All the way customers",null,null,null,null,null,null,0]
[null,null,null,null,null,"LV Sub Generation Aggregated","MWh","All the way customers",null,null,null,null,null,null,0]
[null,null,null,null,null,"LV Generation Site Specific","MWh","All the way customers",null,null,null,null,null,null,0]
[null,null,null,null,null,"LV Generation Site Specific no RP Charge","MWh","All the way customers"]
[null,null,null,null,null,"LV Sub Generation Site Specific","MWh","All the way customers",null,null,null,null,null,null,0]
[null,null,null,null,null,"LV Sub Generation Site Specific no RP Charge","MWh","All the way customers"]
[null,null,null,null,null,"HV Generation Site Specific","MWh","All the way customers",null,null,null,null,null,null,0]
[null,null,null,null,null,"HV Generation Site Specific no RP Charge","MWh","All the way customers"]
[]
[null,null,null,null,"Rate 2 units"]
[null,null,null,null,null,"Domestic Aggregated or CT","MWh","All the way customers",null,null,null,null,null,null,0]
[null,null,null,null,null,"Domestic Aggregated (Related MPAN)","MWh","All the way customers",null,null,null,null,null,null,0]
[null,null,null,null,null,"Non-Domestic Aggregated or CT","MWh","All the way customers",null,{"$f":"CHOOSE(charging_year_selected_index, L337,M337,N337,O337,P337,Q337)","v":146354.39555679268},null,154560.90540419368,150985.81497134635,137449.21735266456,146354.39555679268,{"$f":"$O337","v":146354.39555679268},146354.39555679268]
[null,null,null,null,null,"Non-Domestic Aggregated (Related MPAN)","MWh","All the way customers",null,null,null,null,null,null,0]
[null,null,null,null,null,"LV Site Specific","MWh","All the way customers",null,{"$f":"CHOOSE(charging_year_selected_index, L339,M339,N339,O339,P339,Q339)","v":303043.72723089613},null,314851.0725743408,326249.73300726258,310465.57678963849,303043.72723089613,{"$f":"$O339","v":303043.72723089613},303043.72723089613]
[null,null,null,null,null,"LV Sub Site Specific","MWh","All the way customers",null,{"$f":"CHOOSE(charging_year_selected_index, L340,M340,N340,O340,P340,Q340)","v":2895.2490051930668},null,2899.6865479946259,2730.7150973827993,2388.368708506292,2895.2490051930668,2895.2490051930668,2895.2490051930668]
[null,null,null,null,null,"HV Site Specific","MWh","All the way customers",null,{"$f":"CHOOSE(charging_year_selected_index, L341,M341,N341,O341,P341,Q341)","v":277528.3603075954},null,268694.38116284559,299340.71587722353,278324.01238719805,277528.3603075954,277528.3603075954,277528.3603075954]
[null,null,null,null,null,"Unmetered Supplies","MWh","All the way customers",null,null,null,null,null,null,0]
[null,null,null,null,null,"LV Generation Aggregated","MWh","All the way customers",null,null,null,null,null,null,0]
[null,null,null,null,null,"LV Sub Generation Aggregated","MWh","All the way customers",null,null,null,null,null,null,0]
[null,null,null,null,null,"LV Generation Site Specific","MWh","All the way customers",null,null,null,null,null,null,0]
[null,null,null,null,null,"LV Generation Site Specific no RP Charge","MWh","All the way customers"]
[null,null,null,null,null,"LV Sub Generation Site Specific","MWh","All the way customers",null,null,null,null,null,null,0]
[null,null,null,null,null,"LV Sub Generation Site Specific no RP Charge","MWh","All the way customers"]
[null,null,null,null,null,"HV Generation Site Specific","MWh","All the way customers",null,null,null,null,null,null,0]
[null,null,null,null,null,"HV Generation Site Specific no RP Charge","MWh","All the way customers"]
[]
[null,null,null,null,"Rate 3 units"]
[null,null,null,null,null,"Domestic Aggregated or CT","MWh","All the way customers",null,null,null,null,null,null,0]
[null,null,null,null,null,"Domestic Aggregated (Related MPAN)","MWh","All the way customers",null,null,null,null,null,null,0]
[null,null,null,null,null,"Non-Domestic Aggregated or CT","MWh","All the way customers",null,{"$f":"CHOOSE(charging_year_selected_index, L355,M355,N355,O355,P355,Q355)","v":117623.41201659148},null,124317.62346355653,124867.0687813894,112552.73465371507,117623.41201659148,{"$f":"$O355","v":117623.41201659148},117623.41201659148]
[null,null,null,null,null,"Non-Domestic Aggregated (Related MPAN)","MWh","All the way customers",null,null,null,null,null,null,0]
[null,null,null,null,null,"LV Site Specific","MWh","All the way customers",null,{"$f":"CHOOSE(charging_year_selected_index, L357,M357,N357,O357,P357,Q357)","v":269323.93710491312},null,279278.4062210978,286556.28865027358,273407.2157724498,269323.93710491312,{"$f":"$O357","v":269323.93710491312},269323.93710491312]
[null,null,null,null,null,"LV Sub Site Specific","MWh","All the way customers",null,{"$f":"CHOOSE(charging_year_selected_index, L358,M358,N358,O358,P358,Q358)","v":2812.9522212237089},null,2982.2711814070658,2796.0232013686013,2437.708929219551,2812.9522212237089,2812.9522212237089,2812.9522212237089]
[null,null,null,null,null,"HV Site Specific","MWh","All the way customers",null,{"$f":"CHOOSE(charging_year_selected_index, L359,M359,N359,O359,P359,Q359)","v":280179.65420370986},null,295665.04380391253,299261.62772174185,279703.03473779204,280179.65420370986,280179.65420370986,280179.65420370986]
[null,null,null,null,null,"Unmetered Supplies","MWh","All the way customers",null,null,null,null,null,null,0]
[null,null,null,null,null,"LV Generation Aggregated","MWh","All the way customers",null,null,null,null,null,null,0]
[null,null,null,null,null,"LV Sub Generation Aggregated","MWh","All the way customers",null,null,null,null,null,null,0]
[null,null,null,null,null,"LV Generation Site Specific","MWh","All the way customers",null,null,null,null,null,null,0]
[null,null,null,null,null,"LV Generation Site Specific no RP Charge","MWh","All the way customers"]
[null,null,null,null,null,"LV Sub Generation Site Specific","MWh","All the way customers",null,null,null,null,null,null,0]
[null,null,null,null,null,"LV Sub Generation Site Specific no RP Charge","MWh","All the way customers"]
[null,null,null,null,null,"HV Generation Site Specific","MWh","All the way customers",null,null,null,null,null,null,0]
[null,null,null,null,null,"HV Generation Site Specific no RP Charge","MWh","All the way customers"]
[]
[null,null,null,null,"MPANs"]
[null,null,null,null,null,"Domestic Aggregated or CT","MPANs","All the way customers",null,null,null,null,null,null,0]
[null,null,null,null,null,"Domestic Aggregated (Related MPAN)","MPANs","All the way customers",null,null,null,null,null,null,0]
[null,null,null,null,null,"Non-Domestic Aggregated or CT","MPANs","All the way customers",null,{"$f":"CHOOSE(charging_year_selected_index, L373,M373,N373,O373,P373,Q373)","v":35667},null,36661,37112,35514,35667,{"$f":"$O373","v":35667},35667]
[null,null,null,null,null,"Non-Domestic Aggregated (Related MPAN)","MPANs","All the way customers",null,null,null,0,0,0,0]
[null,null,null,null,null,"LV Site Specific","MPANs","All the way customers",null,{"$f":"CHOOSE(charging_year_selected_index, L375,M375,N375,O375,P375,Q375)","v":3865},null,3723,3810,3839,3865,{"$f":"$O375","v":3865},3865]
[null,null,null,null,null,"LV Sub Site Specific","MPANs","All the way customers",null,{"$f":"CHOOSE(charging_year_selected_index, L376,M376,N376,O376,P376,Q376)","v":30},null,24,23,23,30,30,30]
[null,null,null,null,null,"HV Site Specific","MPANs","All the way customers",null,{"$f":"CHOOSE(charging_year_selected_index, L377,M377,N377,O377,P377,Q377)","v":405},null,403,401,402,405,405,405]
[null,null,null,null,null,"Unmetered Supplies","MPANs","All the way customers",null,null,null,null,null,null,0]
[null,null,null,null,null,"LV Generation Aggregated","MPANs","All the way customers",null,null,null,null,null,null,0]
[null,null,null,null,null,"LV Sub Generation Aggregated","MPANs","All the way customers",null,null,null,null,null,null,0]
[null,null,null,null,null,"LV Generation Site Specific","MPANs","All the way customers",null,null,null,null,null,null,0]
[null,null,null,null,null,"LV Generation Site Specific no RP Charge","MPANs","All the way customers"]
[null,null,null,null,null,"LV Sub Generation Site Specific","MPANs","All the way customers",null,null,null,null,null,null,0]
[null,null,null,null,null,"LV Sub Generation Site Specific no RP Charge","MPANs","All the way customers"]
[null,null,null,null,null,"HV Generation Site Specific","MPANs","All the way customers",null,null,null,null,null,null,0]
[null,null,null,null,null,"HV Generation Site Specific no RP Charge","MPANs","All the way customers"]
[]
[null,null,null,null,"Import capacity"]
[null,null,null,null,null,"Domestic Aggregated or CT","kVA","All the way customers"]
[null,null,null,null,null,"Domestic Aggregated (Related MPAN)","kVA","All the way customers"]
[null,null,null,null,null,"Non-Domestic Aggregated or CT","kVA","All the way customers"]
[null,null,null,null,null,"Non-Domestic Aggregated (Related MPAN)","kVA","All the way customers"]
[null,null,null,null,null,"LV Site Specific","kVA","All the way customers",null,{"$f":"CHOOSE(charging_year_selected_index, L393,M393,N393,O393,P393,Q393)","v":435225},null,420018,427058,431324,435225,{"$f":"$O393","v":435225},435225]
[null,null,null,null,null,"LV Sub Site Specific","kVA","All the way customers",null,{"$f":"CHOOSE(charging_year_selected_index, L394,M394,N394,O394,P394,Q394)","v":4716},null,3051,2620,2660,4716,4716,4716]
[null,null,null,null,null,"HV Site Specific","kVA","All the way customers",null,{"$f":"CHOOSE(charging_year_selected_index, L395,M395,N395,O395,P395,Q395)","v":281818},null,277706,278962,278573,281818,281818,281818]
[null,null,null,null,null,"Unmetered Supplies","kVA","All the way customers"]
[null,null,null,null,null,"LV Generation Aggregated","kVA","All the way customers"]
[null,null,null,null,null,"LV Sub Generation Aggregated","kVA","All the way customers"]
[null,null,null,null,null,"LV Generation Site Specific","kVA","All the way customers"]
[null,null,null,null,null,"LV Generation Site Specific no RP Charge","kVA","All the way customers"]
[null,null,null,null,null,"LV Sub Generation Site Specific","kVA","All the way customers"]
[null,null,null,null,null,"LV Sub Generation Site Specific no RP Charge","kVA","All the way customers"]
[null,null,null,null,null,"HV Generation Site Specific","kVA","All the way customers"]
[null,null,null,null,null,"HV Generation Site Specific no RP Charge","kVA","All the way customers"]
[]
[null,null,null,null,"Exceeded capacity"]
[null,null,null,null,null,"Domestic Aggregated or CT","kVA","All the way customers"]
[null,null,null,null,null,"Domestic Aggregated (Related MPAN)","kVA","All the way customers"]
[null,null,null,null,null,"Non-Domestic Aggregated or CT","kVA","All the way customers"]
[null,null,null,null,null,"Non-Domestic Aggregated (Related MPAN)","kVA","All the way customers"]
[null,null,null,null,null,"LV Site Specific","kVA","All the way customers",null,{"$f":"CHOOSE(charging_year_selected_index, L411,M411,N411,O411,P411,Q411)","v":6923.25},null,6970,6636.25,7025.416666666667,6923.25,{"$f":"$O411","v":6923.25},6923.25]
[null,null,null,null,null,"LV Sub Site Specific","kVA","All the way customers",null,{"$f":"CHOOSE(charging_year_selected_index, L412,M412,N412,O412,P412,Q412)","v":267.41666666666669},null,189,240.66666666666666,215,267.41666666666669,267.41666666666669,267.41666666666669]
[null,null,null,null,null,"HV Site Specific","kVA","All the way customers",null,{"$f":"CHOOSE(charging_year_selected_index, L413,M413,N413,O413,P413,Q413)","v":1866.0833333333333},null,2073,1776.0833333333335,1512.25,1866.0833333333333,1866.0833333333333,1866.0833333333333]
[null,null,null,null,null,"Unmetered Supplies","kVA","All the way customers"]
[null,null,null,null,null,"LV Generation Aggregated","kVA","All the way customers"]
[null,null,null,null,null,"LV Sub Generation Aggregated","kVA","All the way customers"]
[null,null,null,null,null,"LV Generation Site Specific","kVA","All the way customers"]
[null,null,null,null,null,"LV Generation Site Specific no RP Charge","kVA","All the way customers"]
[null,null,null,null,null,"LV Sub Generation Site Specific","kVA","All the way customers"]
[null,null,null,null,null,"LV Sub Generation Site Specific no RP Charge","kVA","All the way customers"]
[null,null,null,null,null,"HV Generation Site Specific","kVA","All the way customers"]
[null,null,null,null,null,"HV Generation Site Specific no RP Charge","kVA","All the way customers"]
[]
[null,null,null,null,"Reactive power units"]
[null,null,null,null,null,"Domestic Aggregated or CT","MVArh","All the way customers"]
[null,null,null,null,null,"Domestic Aggregated (Related MPAN)","MVArh","All the way customers"]
[null,null,null,null,null,"Non-Domestic Aggregated or CT","MVArh","All the way customers"]
[null,null,null,null,null,"Non-Domestic Aggregated (Related MPAN)","MVArh","All the way customers"]
[null,null,null,null,null,"LV Site Specific","MVArh","All the way customers",null,{"$f":"CHOOSE(charging_year_selected_index, L429,M429,N429,O429,P429,Q429)","v":53742.985000000001},null,60478.904999999999,57512.046000000002,55356.313000000002,53742.985000000001,{"$f":"$O429","v":53742.985000000001},53742.985000000001]
[null,null,null,null,null,"LV Sub Site Specific","MVArh","All the way customers",null,{"$f":"CHOOSE(charging_year_selected_index, L430,M430,N430,O430,P430,Q430)","v":594.99300000000005},null,611.57899999999995,552.947,607.87400000000002,594.99300000000005,594.99300000000005,594.99300000000005]
[null,null,null,null,null,"HV Site Specific","MVArh","All the way customers",null,{"$f":"CHOOSE(charging_year_selected_index, L431,M431,N431,O431,P431,Q431)","v":30703.263999999999},null,38777.107000000004,33920.678999999996,31567.967000000001,30703.263999999999,30703.263999999999,30703.263999999999]
[null,null,null,null,null,"Unmetered Supplies","MVArh","All the way customers"]
[null,null,null,null,null,"LV Generation Aggregated","MVArh","All the way customers"]
[null,null,null,null,null,"LV Sub Generation Aggregated","MVArh","All the way customers"]
[null,null,null,null,null,"LV Generation Site Specific","MVArh","All the way customers"]
[null,null,null,null,null,"LV Generation Site Specific no RP Charge","MVArh","All the way customers"]
[null,null,null,null,null,"LV Sub Generation Site Specific","MVArh","All the way customers"]
[null,null,null,null,null,"LV Sub Generation Site Specific no RP Charge","MVArh","All the way customers"]
[null,null,null,null,null,"HV Generation Site Specific","MVArh","All the way customers"]
[null,null,null,null,null,"HV Generation Site Specific no RP Charge","MVArh","All the way customers"]
[]
[null,null,{"$f":"INDEX('Version control'!$H$29:$H$55,MATCH($A$1,'Version control'!$F$29:$F$55,0),1)&\"-F: All-the-way volumes - Residual Band 3\"","v":"Input 501-F: All-the-way volumes - Residual Band 3"}]
[]
[null,null,null,null,"Rate 1 units",null,null,null,">",null,null,null,null,null,null,null,null,null,"Paragraph 52"]
[null,null,null,null,null,"Domestic Aggregated or CT","MWh","All the way customers"]
[null,null,null,null,null,"Domestic Aggregated (Related MPAN)","MWh","All the way customers"]
[null,null,null,null,null,"Non-Domestic Aggregated or CT","MWh","All the way customers",null,{"$f":"CHOOSE(charging_year_selected_index, L447,M447,N447,O447,P447,Q447)","v":30384.41094320859},null,37425.923933004749,35680.021373431162,30886.076448388139,30384.41094320859,{"$f":"$O447","v":30384.41094320859},30384.41094320859]
[null,null,null,null,null,"Non-Domestic Aggregated (Related MPAN)","MWh","All the way customers"]
[null,null,null,null,null,"LV Site Specific","MWh","All the way customers",null,{"$f":"CHOOSE(charging_year_selected_index, L449,M449,N449,O449,P449,Q449)","v":35130.015331706672},null,36868.568333115407,37760.726754192518,35862.044374893907,35130.015331706672,{"$f":"$O449","v":35130.015331706672},35130.015331706672]
[null,null,null,null,null,"LV Sub Site Specific","MWh","All the way customers",null,{"$f":"CHOOSE(charging_year_selected_index, L450,M450,N450,O450,P450,Q450)","v":2105.3407065636852},null,2087.8978294873009,1971.4644145437487,2208.1364357796515,2105.3407065636852,2105.3407065636852,2105.3407065636852]
[null,null,null,null,null,"HV Site Specific","MWh","All the way customers",null,{"$f":"CHOOSE(charging_year_selected_index, L451,M451,N451,O451,P451,Q451)","v":51731.913081766776},null,52159.250767746467,55347.504030953489,51774.902886135635,51731.913081766776,51731.913081766776,51731.913081766776]
[null,null,null,null,null,"Unmetered Supplies","MWh","All the way customers"]
[null,null,null,null,null,"LV Generation Aggregated","MWh","All the way customers"]
[null,null,null,null,null,"LV Sub Generation Aggregated","MWh","All the way customers"]
[null,null,null,null,null,"LV Generation Site Specific","MWh","All the way customers"]
[null,null,null,null,null,"LV Generation Site Specific no RP Charge","MWh","All the way customers"]
[null,null,null,null,null,"LV Sub Generation Site Specific","MWh","All the way customers"]
[null,null,null,null,null,"LV Sub Generation Site Specific no RP Charge","MWh","All the way customers"]
[null,null,null,null,null,"HV Generation Site Specific","MWh","All the way customers"]
[null,null,null,null,null,"HV Generation Site Specific no RP Charge","MWh","All the way customers"]
[]
[null,null,null,null,"Rate 2 units"]
[null,null,null,null,null,"Domestic Aggregated or CT","MWh","All the way customers"]
[null,null,null,null,null,"Domestic Aggregated (Related MPAN)","MWh","All the way customers"]
[null,null,null,null,null,"Non-Domestic Aggregated or CT","MWh","All the way customers",null,{"$f":"CHOOSE(charging_year_selected_index, L465,M465,N465,O465,P465,Q465)","v":161938.05210341606},null,192451.78252433133,185113.78774413836,160061.21889694317,161938.05210341606,{"$f":"$O465","v":161938.05210341606},161938.05210341606]
[null,null,null,null,null,"Non-Domestic Aggregated (Related MPAN)","MWh","All the way customers"]
[null,null,null,null,null,"LV Site Specific","MWh","All the way customers",null,{"$f":"CHOOSE(charging_year_selected_index, L467,M467,N467,O467,P467,Q467)","v":171166.91735573002},null,176883.02270829573,183346.91599941591,174783.51208446303,171166.91735573002,{"$f":"$O467","v":171166.91735573002},171166.91735573002]
[null,null,null,null,null,"LV Sub Site Specific","MWh","All the way customers",null,{"$f":"CHOOSE(charging_year_selected_index, L468,M468,N468,O468,P468,Q468)","v":9387.1871443391046},null,9731.1217924311368,9124.5452309914381,9990.4821637576351,9387.1871443391046,9387.1871443391046,9387.1871443391046]
[null,null,null,null,null,"HV Site Specific","MWh","All the way customers",null,{"$f":"CHOOSE(charging_year_selected_index, L469,M469,N469,O469,P469,Q469)","v":240801.1952129461},null,241913.84054942831,258476.65741877313,240982.18826852093,240801.1952129461,240801.1952129461,240801.1952129461]
[null,null,null,null,null,"Unmetered Supplies","MWh","All the way customers"]
[null,null,null,null,null,"LV Generation Aggregated","MWh","All the way customers"]
[null,null,null,null,null,"LV Sub Generation Aggregated","MWh","All the way customers"]
[null,null,null,null,null,"LV Generation Site Specific","MWh","All the way customers"]
[null,null,null,null,null,"LV Generation Site Specific no RP Charge","MWh","All the way customers"]
[null,null,null,null,null,"LV Sub Generation Site Specific","MWh","All the way customers"]
[null,null,null,null,null,"LV Sub Generation Site Specific no RP Charge","MWh","All the way customers"]
[null,null,null,null,null,"HV Generation Site Specific","MWh","All the way customers"]
[null,null,null,null,null,"HV Generation Site Specific no RP Charge","MWh","All the way customers"]
[]
[null,null,null,null,"Rate 3 units"]
[null,null,null,null,null,"Domestic Aggregated or CT","MWh","All the way customers"]
[null,null,null,null,null,"Domestic Aggregated (Related MPAN)","MWh","All the way customers"]
[null,null,null,null,null,"Non-Domestic Aggregated or CT","MWh","All the way customers",null,{"$f":"CHOOSE(charging_year_selected_index, L483,M483,N483,O483,P483,Q483)","v":130147.82474594636},null,154794.30695739787,153091.30908103829,131068.97402430796,130147.82474594636,{"$f":"$O483","v":130147.82474594636},130147.82474594636]
[null,null,null,null,null,"Non-Domestic Aggregated (Related MPAN)","MWh","All the way customers"]
[null,null,null,null,null,"LV Site Specific","MWh","All the way customers",null,{"$f":"CHOOSE(charging_year_selected_index, L485,M485,N485,O485,P485,Q485)","v":157346.35516731039},null,156898.33376025464,166169.22705479202,159314.27278198619,157346.35516731039,{"$f":"$O485","v":157346.35516731039},157346.35516731039]
[null,null,null,null,null,"LV Sub Site Specific","MWh","All the way customers",null,{"$f":"CHOOSE(charging_year_selected_index, L486,M486,N486,O486,P486,Q486)","v":10652.4415197528},null,10008.269378081564,10085.728515703873,11103.979544281279,10652.4415197528,10652.4415197528,10652.4415197528]
[null,null,null,null,null,"HV Site Specific","MWh","All the way customers",null,{"$f":"CHOOSE(charging_year_selected_index, L487,M487,N487,O487,P487,Q487)","v":252032.30843337829},null,266196.36016679689,270569.8327389044,252905.64853998608,252032.30843337829,252032.30843337829,252032.30843337829]
[null,null,null,null,null,"Unmetered Supplies","MWh","All the way customers"]
[null,null,null,null,null,"LV Generation Aggregated","MWh","All the way customers"]
[null,null,null,null,null,"LV Sub Generation Aggregated","MWh","All the way customers"]
[null,null,null,null,null,"LV Generation Site Specific","MWh","All the way customers"]
[null,null,null,null,null,"LV Generation Site Specific no RP Charge","MWh","All the way customers"]
[null,null,null,null,null,"LV Sub Generation Site Specific","MWh","All the way customers"]
[null,null,null,null,null,"LV Sub Generation Site Specific no RP Charge","MWh","All the way customers"]
[null,null,null,null,null,"HV Generation Site Specific","MWh","All the way customers"]
[null,null,null,null,null,"HV Generation Site Specific no RP Charge","MWh","All the way customers"]
[]
[null,null,null,null,"MPANs"]
[null,null,null,null,null,"Domestic Aggregated or CT","MPANs","All the way customers"]
[null,null,null,null,null,"Domestic Aggregated (Related MPAN)","MPANs","All the way customers"]
[null,null,null,null,null,"Non-Domestic Aggregated or CT","MPANs","All the way customers",null,{"$f":"CHOOSE(charging_year_selected_index, L501,M501,N501,O501,P501,Q501)","v":19785},null,21107,20997,19838,19785,{"$f":"$O501","v":19785},19785]
[null,null,null,null,null,"Non-Domestic Aggregated (Related MPAN)","MPANs","All the way customers"]
[null,null,null,null,null,"LV Site Specific","MPANs","All the way customers",null,{"$f":"CHOOSE(charging_year_selected_index, L503,M503,N503,O503,P503,Q503)","v":1324},null,1261,1287,1315,1324,{"$f":"$O503","v":1324},1324]
[null,null,null,null,null,"LV Sub Site Specific","MPANs","All the way customers",null,{"$f":"CHOOSE(charging_year_selected_index, L504,M504,N504,O504,P504,Q504)","v":50},null,41,42,48,50,50,50]
[null,null,null,null,null,"HV Site Specific","MPANs","All the way customers",null,{"$f":"CHOOSE(charging_year_selected_index, L505,M505,N505,O505,P505,Q505)","v":176},null,177,180,179,176,176,176]
[null,null,null,null,null,"Unmetered Supplies","MPANs","All the way customers"]
[null,null,null,null,null,"LV Generation Aggregated","MPANs","All the way customers"]
[null,null,null,null,null,"LV Sub Generation Aggregated","MPANs","All the way customers"]
[null,null,null,null,null,"LV Generation Site Specific","MPANs","All the way customers"]
[null,null,null,null,null,"LV Generation Site Specific no RP Charge","MPANs","All the way customers"]
[null,null,null,null,null,"LV Sub Generation Site Specific","MPANs","All the way customers"]
[null,null,null,null,null,"LV Sub Generation Site Specific no RP Charge","MPANs","All the way customers"]
[null,null,null,null,null,"HV Generation Site Specific","MPANs","All the way customers"]
[null,null,null,null,null,"HV Generation Site Specific no RP Charge","MPANs","All the way customers"]
[]
[null,null,null,null,"Import capacity"]
[null,null,null,null,null,"Domestic Aggregated or CT","kVA","All the way customers"]
[null,null,null,null,null,"Domestic Aggregated (Related MPAN)","kVA","All the way customers"]
[null,null,null,null,null,"Non-Domestic Aggregated or CT","kVA","All the way customers"]
[null,null,null,null,null,"Non-Domestic Aggregated (Related MPAN)","kVA","All the way customers"]
[null,null,null,null,null,"LV Site Specific","kVA","All the way customers",null,{"$f":"CHOOSE(charging_year_selected_index, L521,M521,N521,O521,P521,Q521)","v":244336},null,237355,238424,242162,244336,{"$f":"$O521","v":244336},244336]
[null,null,null,null,null,"LV Sub Site Specific","kVA","All the way customers",null,{"$f":"CHOOSE(charging_year_selected_index, L522,M522,N522,O522,P522,Q522)","v":9599},null,7741,8152,9034,9599,9599,9599]
[null,null,null,null,null,"HV Site Specific","kVA","All the way customers",null,{"$f":"CHOOSE(charging_year_selected_index, L523,M523,N523,O523,P523,Q523)","v":242925},null,239536,245287,246532,242925,242925,242925]
[null,null,null,null,null,"Unmetered Supplies","kVA","All the way customers"]
[null,null,null,null,null,"LV Generation Aggregated","kVA","All the way customers"]
[null,null,null,null,null,"LV Sub Generation Aggregated","kVA","All the way customers"]
[null,null,null,null,null,"LV Generation Site Specific","kVA","All the way customers"]
[null,null,null,null,null,"LV Generation Site Specific no RP Charge","kVA","All the way customers"]
[null,null,null,null,null,"LV Sub Generation Site Specific","kVA","All the way customers"]
[null,null,null,null,null,"LV Sub Generation Site Specific no RP Charge","kVA","All the way customers"]
[null,null,null,null,null,"HV Generation Site Specific","kVA","All the way customers"]
[null,null,null,null,null,"HV Generation Site Specific no RP Charge","kVA","All the way customers"]
[]
[null,null,null,null,"Exceeded capacity"]
[null,null,null,null,null,"Domestic Aggregated or CT","kVA","All the way customers"]
[null,null,null,null,null,"Domestic Aggregated (Related MPAN)","kVA","All the way customers"]
[null,null,null,null,null,"Non-Domestic Aggregated or CT","kVA","All the way customers"]
[null,null,null,null,null,"Non-Domestic Aggregated (Related MPAN)","kVA","All the way customers"]
[null,null,null,null,null,"LV Site Specific","kVA","All the way customers",null,{"$f":"CHOOSE(charging_year_selected_index, L539,M539,N539,O539,P539,Q539)","v":1229.3333333333335},null,1336,1211.1666666666667,1228.0833333333333,1229.3333333333335,{"$f":"$O539","v":1229.3333333333335},1229.3333333333335]
[null,null,null,null,null,"LV Sub Site Specific","kVA","All the way customers",null,{"$f":"CHOOSE(charging_year_selected_index, L540,M540,N540,O540,P540,Q540)","v":97.166666666666671},null,144,59.583333333333336,105.25,97.166666666666671,97.166666666666671,97.166666666666671]
[null,null,null,null,null,"HV Site Specific","kVA","All the way customers",null,{"$f":"CHOOSE(charging_year_selected_index, L541,M541,N541,O541,P541,Q541)","v":1656.4166666666667},null,1688,1505.75,1303.9166666666667,1656.4166666666667,1656.4166666666667,1656.4166666666667]
[null,null,null,null,null,"Unmetered Supplies","kVA","All the way customers"]
[null,null,null,null,null,"LV Generation Aggregated","kVA","All the way customers"]
[null,null,null,null,null,"LV Sub Generation Aggregated","kVA","All the way customers"]
[null,null,null,null,null,"LV Generation Site Specific","kVA","All the way customers"]
[null,null,null,null,null,"LV Generation Site Specific no RP Charge","kVA","All the way customers"]
[null,null,null,null,null,"LV Sub Generation Site Specific","kVA","All the way customers"]
[null,null,null,null,null,"LV Sub Generation Site Specific no RP Charge","kVA","All the way customers"]
[null,null,null,null,null,"HV Generation Site Specific","kVA","All the way customers"]
[null,null,null,null,null,"HV Generation Site Specific no RP Charge","kVA","All the way customers"]
[]
[null,null,null,null,"Reactive power units"]
[null,null,null,null,null,"Domestic Aggregated or CT","MVArh","All the way customers"]
[null,null,null,null,null,"Domestic Aggregated (Related MPAN)","MVArh","All the way customers"]
[null,null,null,null,null,"Non-Domestic Aggregated or CT","MVArh","All the way customers"]
[null,null,null,null,null,"Non-Domestic Aggregated (Related MPAN)","MVArh","All the way customers"]
[null,null,null,null,null,"LV Site Specific","MVArh","All the way customers",null,{"$f":"CHOOSE(charging_year_selected_index, L557,M557,N557,O557,P557,Q557)","v":27679.875},null,32197.821,30747.198,29219.153999999999,27679.875,{"$f":"$O557","v":27679.875},27679.875]
[null,null,null,null,null,"LV Sub Site Specific","MVArh","All the way customers",null,{"$f":"CHOOSE(charging_year_selected_index, L558,M558,N558,O558,P558,Q558)","v":2042.6120000000001},null,1792.9359999999999,2099.2820000000002,2176.85,2042.6120000000001,2042.6120000000001,2042.6120000000001]
[null,null,null,null,null,"HV Site Specific","MVArh","All the way customers",null,{"$f":"CHOOSE(charging_year_selected_index, L559,M559,N559,O559,P559,Q559)","v":27804.212},null,34030.400000000001,30634.602999999999,24861.120999999999,27804.212,27804.212,27804.212]
[null,null,null,null,null,"Unmetered Supplies","MVArh","All the way customers"]
[null,null,null,null,null,"LV Generation Aggregated","MVArh","All the way customers"]
[null,null,null,null,null,"LV Sub Generation Aggregated","MVArh","All the way customers"]
[null,null,null,null,null,"LV Generation Site Specific","MVArh","All the way customers"]
[null,null,null,null,null,"LV Generation Site Specific no RP Charge","MVArh","All the way customers"]
[null,null,null,null,null,"LV Sub Generation Site Specific","MVArh","All the way customers"]
[null,null,null,null,null,"LV Sub Generation Site Specific no RP Charge","MVArh","All the way customers"]
[null,null,null,null,null,"HV Generation Site Specific","MVArh","All the way customers"]
[null,null,null,null,null,"HV Generation Site Specific no RP Charge","MVArh","All the way customers"]
[]
[null,null,{"$f":"INDEX('Version control'!$H$29:$H$55,MATCH($A$1,'Version control'!$F$29:$F$55,0),1)&\"-G: All-the-way volumes - Residual Band 4\"","v":"Input 501-G: All-the-way volumes - Residual Band 4"}]
[]
[null,null,null,null,"Rate 1 units",null,null,null,">",null,null,null,null,null,null,null,null,null,"Paragraph 52"]
[null,null,null,null,null,"Domestic Aggregated or CT","MWh","All the way customers"]
[null,null,null,null,null,"Domestic Aggregated (Related MPAN)","MWh","All the way customers"]
[null,null,null,null,null,"Non-Domestic Aggregated or CT","MWh","All the way customers",null,{"$f":"CHOOSE(charging_year_selected_index, L575,M575,N575,O575,P575,Q575)","v":96042.949643991436},null,113078.7546939583,108952.04705330744,96914.234510579307,96042.949643991436,{"$f":"$O575","v":96042.949643991436},96042.949643991436]
[null,null,null,null,null,"Non-Domestic Aggregated (Related MPAN)","MWh","All the way customers"]
[null,null,null,null,null,"LV Site Specific","MWh","All the way customers",null,{"$f":"CHOOSE(charging_year_selected_index, L577,M577,N577,O577,P577,Q577)","v":84228.470431088892},null,90934.026821706211,90467.623231445323,85457.363400135611,84228.470431088892,{"$f":"$O577","v":84228.470431088892},84228.470431088892]
[null,null,null,null,null,"LV Sub Site Specific","MWh","All the way customers",null,{"$f":"CHOOSE(charging_year_selected_index, L578,M578,N578,O578,P578,Q578)","v":20909.140372709087},null,21698.50373939249,21789.431072527386,20934.367711260704,20909.140372709087,20909.140372709087,20909.140372709087]
[null,null,null,null,null,"HV Site Specific","MWh","All the way customers",null,{"$f":"CHOOSE(charging_year_selected_index, L579,M579,N579,O579,P579,Q579)","v":151855.09976114644},null,164544.48604752985,165384.58107252733,152249.420952919,151855.09976114644,151855.09976114644,151855.09976114644]
[null,null,null,null,null,"Unmetered Supplies","MWh","All the way customers"]
[null,null,null,null,null,"LV Generation Aggregated","MWh","All the way customers"]
[null,null,null,null,null,"LV Sub Generation Aggregated","MWh","All the way customers"]
[null,null,null,null,null,"LV Generation Site Specific","MWh","All the way customers"]
[null,null,null,null,null,"LV Generation Site Specific no RP Charge","MWh","All the way customers"]
[null,null,null,null,null,"LV Sub Generation Site Specific","MWh","All the way customers"]
[null,null,null,null,null,"LV Sub Generation Site Specific no RP Charge","MWh","All the way customers"]
[null,null,null,null,null,"HV Generation Site Specific","MWh","All the way customers"]
[null,null,null,null,null,"HV Generation Site Specific no RP Charge","MWh","All the way customers"]
[]
[null,null,null,null,"Rate 2 units"]
[null,null,null,null,null,"Domestic Aggregated or CT","MWh","All the way customers"]
[null,null,null,null,null,"Domestic Aggregated (Related MPAN)","MWh","All the way customers"]
[null,null,null,null,null,"Non-Domestic Aggregated or CT","MWh","All the way customers",null,{"$f":"CHOOSE(charging_year_selected_index, L593,M593,N593,O593,P593,Q593)","v":511874.5995334427},null,581474.16602032015,565261.04346825485,502239.59427637357,511874.5995334427,{"$f":"$O593","v":511874.5995334427},511874.5995334427]
[null,null,null,null,null,"Non-Domestic Aggregated (Related MPAN)","MWh","All the way customers"]
[null,null,null,null,null,"LV Site Specific","MWh","All the way customers",null,{"$f":"CHOOSE(charging_year_selected_index, L595,M595,N595,O595,P595,Q595)","v":416141.64799711597},null,436270.95540928131,447579.0337871146,424223.43369995314,416141.64799711597,{"$f":"$O595","v":416141.64799711597},416141.64799711597]
[null,null,null,null,null,"LV Sub Site Specific","MWh","All the way customers",null,{"$f":"CHOOSE(charging_year_selected_index, L596,M596,N596,O596,P596,Q596)","v":98433.242369483021},null,101130.80229284996,102267.59954124269,99165.424274092686,98433.242369483021,98433.242369483021,98433.242369483021]
[null,null,null,null,null,"HV Site Specific","MWh","All the way customers",null,{"$f":"CHOOSE(charging_year_selected_index, L597,M597,N597,O597,P597,Q597)","v":696514.37219363428},null,763154.91451813979,763065.83040227892,700068.77651809854,696514.37219363428,696514.37219363428,696514.37219363428]
[null,null,null,null,null,"Unmetered Supplies","MWh","All the way customers"]
[null,null,null,null,null,"LV Generation Aggregated","MWh","All the way customers"]
[null,null,null,null,null,"LV Sub Generation Aggregated","MWh","All the way customers"]
[null,null,null,null,null,"LV Generation Site Specific","MWh","All the way customers"]
[null,null,null,null,null,"LV Generation Site Specific no RP Charge","MWh","All the way customers"]
[null,null,null,null,null,"LV Sub Generation Site Specific","MWh","All the way customers"]
[null,null,null,null,null,"LV Sub Generation Site Specific no RP Charge","MWh","All the way customers"]
[null,null,null,null,null,"HV Generation Site Specific","MWh","All the way customers"]
[null,null,null,null,null,"HV Generation Site Specific no RP Charge","MWh","All the way customers"]
[]
[null,null,null,null,"Rate 3 units"]
[null,null,null,null,null,"Domestic Aggregated or CT","MWh","All the way customers"]
[null,null,null,null,null,"Domestic Aggregated (Related MPAN)","MWh","All the way customers"]
[null,null,null,null,null,"Non-Domestic Aggregated or CT","MWh","All the way customers",null,{"$f":"CHOOSE(charging_year_selected_index, L611,M611,N611,O611,P611,Q611)","v":411387.96475973324},null,467695.8007981386,467477.62104397325,411267.81858741766,411387.96475973324,{"$f":"$O611","v":411387.96475973324},411387.96475973324]
[null,null,null,null,null,"Non-Domestic Aggregated (Related MPAN)","MWh","All the way customers"]
[null,null,null,null,null,"LV Site Specific","MWh","All the way customers",null,{"$f":"CHOOSE(charging_year_selected_index, L613,M613,N613,O613,P613,Q613)","v":375612.40323677217},null,386979.96519764536,401012.17632340727,381729.47752275906,375612.40323677217,{"$f":"$O613","v":375612.40323677217},375612.40323677217]
[null,null,null,null,null,"LV Sub Site Specific","MWh","All the way customers",null,{"$f":"CHOOSE(charging_year_selected_index, L614,M614,N614,O614,P614,Q614)","v":99272.781684815374},null,104011.06196775756,103599.48218986468,99855.547870284441,99272.781684815374,99272.781684815374,99272.781684815374]
[null,null,null,null,null,"HV Site Specific","MWh","All the way customers",null,{"$f":"CHOOSE(charging_year_selected_index, L615,M615,N615,O615,P615,Q615)","v":809288.64224578382},null,839757.90730594413,886837.84395632148,808698.6006152659,809288.64224578382,809288.64224578382,809288.64224578382]
[null,null,null,null,null,"Unmetered Supplies","MWh","All the way customers"]
[null,null,null,null,null,"LV Generation Aggregated","MWh","All the way customers"]
[null,null,null,null,null,"LV Sub Generation Aggregated","MWh","All the way customers"]
[null,null,null,null,null,"LV Generation Site Specific","MWh","All the way customers"]
[null,null,null,null,null,"LV Generation Site Specific no RP Charge","MWh","All the way customers"]
[null,null,null,null,null,"LV Sub Generation Site Specific","MWh","All the way customers"]
[null,null,null,null,null,"LV Sub Generation Site Specific no RP Charge","MWh","All the way customers"]
[null,null,null,null,null,"HV Generation Site Specific","MWh","All the way customers"]
[null,null,null,null,null,"HV Generation Site Specific no RP Charge","MWh","All the way customers"]
[]
[null,null,null,null,"MPANs"]
[null,null,null,null,null,"Domestic Aggregated or CT","MPANs","All the way customers"]
[null,null,null,null,null,"Domestic Aggregated (Related MPAN)","MPANs","All the way customers"]
[null,null,null,null,null,"Non-Domestic Aggregated or CT","MPANs","All the way customers",null,{"$f":"CHOOSE(charging_year_selected_index, L629,M629,N629,O629,P629,Q629)","v":21853},null,21705,21920,22015,21853,{"$f":"$O629","v":21853},21853]
[null,null,null,null,null,"Non-Domestic Aggregated (Related MPAN)","MPANs","All the way customers"]
[null,null,null,null,null,"LV Site Specific","MPANs","All the way customers",null,{"$f":"CHOOSE(charging_year_selected_index, L631,M631,N631,O631,P631,Q631)","v":1618},null,1557,1582,1616,1618,{"$f":"$O631","v":1618},1618]
[null,null,null,null,null,"LV Sub Site Specific","MPANs","All the way customers",null,{"$f":"CHOOSE(charging_year_selected_index, L632,M632,N632,O632,P632,Q632)","v":218},null,202,208,214,218,218,218]
[null,null,null,null,null,"HV Site Specific","MPANs","All the way customers",null,{"$f":"CHOOSE(charging_year_selected_index, L633,M633,N633,O633,P633,Q633)","v":200},null,210,205,202,200,200,200]
[null,null,null,null,null,"Unmetered Supplies","MPANs","All the way customers"]
[null,null,null,null,null,"LV Generation Aggregated","MPANs","All the way customers"]
[null,null,null,null,null,"LV Sub Generation Aggregated","MPANs","All the way customers"]
[null,null,null,null,null,"LV Generation Site Specific","MPANs","All the way customers"]
[null,null,null,null,null,"LV Generation Site Specific no RP Charge","MPANs","All the way customers"]
[null,null,null,null,null,"LV Sub Generation Site Specific","MPANs","All the way customers"]
[null,null,null,null,null,"LV Sub Generation Site Specific no RP Charge","MPANs","All the way customers"]
[null,null,null,null,null,"HV Generation Site Specific","MPANs","All the way customers"]
[null,null,null,null,null,"HV Generation Site Specific no RP Charge","MPANs","All the way customers"]
[]
[null,null,null,null,"Import capacity"]
[null,null,null,null,null,"Domestic Aggregated or CT","kVA","All the way customers"]
[null,null,null,null,null,"Domestic Aggregated (Related MPAN)","kVA","All the way customers"]
[null,null,null,null,null,"Non-Domestic Aggregated or CT","kVA","All the way customers"]
[null,null,null,null,null,"Non-Domestic Aggregated (Related MPAN)","kVA","All the way customers"]
[null,null,null,null,null,"LV Site Specific","kVA","All the way customers",null,{"$f":"CHOOSE(charging_year_selected_index, L649,M649,N649,O649,P649,Q649)","v":645443},null,608702,618955,642649,645443,{"$f":"$O649","v":645443},645443]
[null,null,null,null,null,"LV Sub Site Specific","kVA","All the way customers",null,{"$f":"CHOOSE(charging_year_selected_index, L650,M650,N650,O650,P650,Q650)","v":102647},null,97640,98526,101790,102647,102647,102647]
[null,null,null,null,null,"HV Site Specific","kVA","All the way customers",null,{"$f":"CHOOSE(charging_year_selected_index, L651,M651,N651,O651,P651,Q651)","v":704774},null,722539,708459,709256,704774,704774,704774]
[null,null,null,null,null,"Unmetered Supplies","kVA","All the way customers"]
[null,null,null,null,null,"LV Generation Aggregated","kVA","All the way customers"]
[null,null,null,null,null,"LV Sub Generation Aggregated","kVA","All the way customers"]
[null,null,null,null,null,"LV Generation Site Specific","kVA","All the way customers"]
[null,null,null,null,null,"LV Generation Site Specific no RP Charge","kVA","All the way customers"]
[null,null,null,null,null,"LV Sub Generation Site Specific","kVA","All the way customers"]
[null,null,null,null,null,"LV Sub Generation Site Specific no RP Charge","kVA","All the way customers"]
[null,null,null,null,null,"HV Generation Site Specific","kVA","All the way customers"]
[null,null,null,null,null,"HV Generation Site Specific no RP Charge","kVA","All the way customers"]
[]
[null,null,null,null,"Exceeded capacity"]
[null,null,null,null,null,"Domestic Aggregated or CT","kVA","All the way customers"]
[null,null,null,null,null,"Domestic Aggregated (Related MPAN)","kVA","All the way customers"]
[null,null,null,null,null,"Non-Domestic Aggregated or CT","kVA","All the way customers"]
[null,null,null,null,null,"Non-Domestic Aggregated (Related MPAN)","kVA","All the way customers"]
[null,null,null,null,null,"LV Site Specific","kVA","All the way customers",null,{"$f":"CHOOSE(charging_year_selected_index, L667,M667,N667,O667,P667,Q667)","v":2167.9166666666665},null,1593,1702.5833333333335,1832.5833333333333,2167.9166666666665,{"$f":"$O667","v":2167.9166666666665},2167.9166666666665]
[null,null,null,null,null,"LV Sub Site Specific","kVA","All the way customers",null,{"$f":"CHOOSE(charging_year_selected_index, L668,M668,N668,O668,P668,Q668)","v":338.33333333333331},null,319,348.83333333333331,401.58333333333331,338.33333333333331,338.33333333333331,338.33333333333331]
[null,null,null,null,null,"HV Site Specific","kVA","All the way customers",null,{"$f":"CHOOSE(charging_year_selected_index, L669,M669,N669,O669,P669,Q669)","v":3867.416666666667},null,3914,3677.916666666667,3246.75,3867.416666666667,3867.416666666667,3867.416666666667]
[null,null,null,null,null,"Unmetered Supplies","kVA","All the way customers"]
[null,null,null,null,null,"LV Generation Aggregated","kVA","All the way customers"]
[null,null,null,null,null,"LV Sub Generation Aggregated","kVA","All the way customers"]
[null,null,null,null,null,"LV Generation Site Specific","kVA","All the way customers"]
[null,null,null,null,null,"LV Generation Site Specific no RP Charge","kVA","All the way customers"]
[null,null,null,null,null,"LV Sub Generation Site Specific","kVA","All the way customers"]
[null,null,null,null,null,"LV Sub Generation Site Specific no RP Charge","kVA","All the way customers"]
[null,null,null,null,null,"HV Generation Site Specific","kVA","All the way customers"]
[null,null,null,null,null,"HV Generation Site Specific no RP Charge","kVA","All the way customers"]
[]
[null,null,null,null,"Reactive power units"]
[null,null,null,null,null,"Domestic Aggregated or CT","MVArh","All the way customers"]
[null,null,null,null,null,"Domestic Aggregated (Related MPAN)","MVArh","All the way customers"]
[null,null,null,null,null,"Non-Domestic Aggregated or CT","MVArh","All the way customers"]
[null,null,null,null,null,"Non-Domestic Aggregated (Related MPAN)","MVArh","All the way customers"]
[null,null,null,null,null,"LV Site Specific","MVArh","All the way customers",null,{"$f":"CHOOSE(charging_year_selected_index, L685,M685,N685,O685,P685,Q685)","v":72700.536999999997},null,85548.118000000002,80417.395999999993,74133.332999999999,72700.536999999997,{"$f":"$O685","v":72700.536999999997},72700.536999999997]
[null,null,null,null,null,"LV Sub Site Specific","MVArh","All the way customers",null,{"$f":"CHOOSE(charging_year_selected_index, L686,M686,N686,O686,P686,Q686)","v":16437.256000000001},null,17164.226999999999,17471.467000000001,16583.102999999999,16437.256000000001,16437.256000000001,16437.256000000001]
[null,null,null,null,null,"HV Site Specific","MVArh","All the way customers",null,{"$f":"CHOOSE(charging_year_selected_index, L687,M687,N687,O687,P687,Q687)","v":116416.254},null,139514.554,131681.10200000001,125858.071,116416.254,116416.254,116416.254]
[null,null,null,null,null,"Unmetered Supplies","MVArh","All the way customers"]
[null,null,null,null,null,"LV Generation Aggregated","MVArh","All the way customers"]
[null,null,null,null,null,"LV Sub Generation Aggregated","MVArh","All the way customers"]
[null,null,null,null,null,"LV Generation Site Specific","MVArh","All the way customers"]
[null,null,null,null,null,"LV Generation Site Specific no RP Charge","MVArh","All the way customers"]
[null,null,null,null,null,"LV Sub Generation Site Specific","MVArh","All the way customers"]
[null,null,null,null,null,"LV Sub Generation Site Specific no RP Charge","MVArh","All the way customers"]
[null,null,null,null,null,"HV Generation Site Specific","MVArh","All the way customers"]
[null,null,null,null,null,"HV Generation Site Specific no RP Charge","MVArh","All the way customers"]
[]
[null,null,{"$f":"INDEX('Version control'!$H$29:$H$55,MATCH($A$1,'Version control'!$F$29:$F$55,0),1)&\"-H: LDNO LV volumes - No residual\"","v":"Input 501-H: LDNO LV volumes - No residual"}]
[]
[null,null,null,null,"Rate 1 units",null,null,null,">",null,null,null,null,null,null,null,null,null,"Paragraph 52"]
[null,null,null,null,null,"Domestic Aggregated or CT","MWh","LDNO LV customers"]
[null,null,null,null,null,"Domestic Aggregated (Related MPAN)","MWh","LDNO LV customers",null,{"$f":"CHOOSE(charging_year_selected_index, L702,M702,N702,O702,P702,Q702)","v":0.94232038353711733},null,1.76,1.5478688524590165,1.67287505788645,0.94232038353711733,{"$f":"$O702","v":0.94232038353711733},0.94232038353711733]
[null,null,null,null,null,"Non-Domestic Aggregated or CT","MWh","LDNO LV customers",null,{"$f":"CHOOSE(charging_year_selected_index, L703,M703,N703,O703,P703,Q703)","v":0},null,0,0,0,0,0,0]
[null,null,null,null,null,"Non-Domestic Aggregated (Related MPAN)","MWh","LDNO LV customers",null,{"$f":"CHOOSE(charging_year_selected_index, L704,M704,N704,O704,P704,Q704)","v":0},null,0,0,0,0,0,0]
[null,null,null,null,null,"LV Site Specific","MWh","LDNO LV customers",null,{"$f":"CHOOSE(charging_year_selected_index, L705,M705,N705,O705,P705,Q705)","v":0},null,0,0,0,0,0,0]
[null,null,null,null,null,"LV Sub Site Specific","MWh","LDNO LV customers"]
[null,null,null,null,null,"HV Site Specific","MWh","LDNO LV customers"]
[null,null,null,null,null,"Unmetered Supplies","MWh","LDNO LV customers"]
[null,null,null,null,null,"LV Generation Aggregated","MWh","LDNO LV customers",null,{"$f":"CHOOSE(charging_year_selected_index, L709,M709,N709,O709,P709,Q709)","v":175.78179287348217},null,148.179,615.75443298228117,161.07060453584231,175.78179287348217,{"$f":"$O709","v":175.78179287348217},175.78179287348217]
[null,null,null,null,null,"LV Sub Generation Aggregated","MWh","LDNO LV customers"]
[null,null,null,null,null,"LV Generation Site Specific","MWh","LDNO LV customers",null,{"$f":"CHOOSE(charging_year_selected_index, L711,M711,N711,O711,P711,Q711)","v":0},null,0,0,0,0,{"$f":"$O711","v":0},0]
[null,null,null,null,null,"LV Generation Site Specific no RP Charge","MWh","LDNO LV customers"]
[null,null,null,null,null,"LV Sub Generation Site Specific","MWh","LDNO LV customers"]
[null,null,null,null,null,"LV Sub Generation Site Specific no RP Charge","MWh","LDNO LV customers"]
[null,null,null,null,null,"HV Generation Site Specific","MWh","LDNO LV customers"]
[null,null,null,null,null,"HV Generation Site Specific no RP Charge","MWh","LDNO LV customers"]
[]
[null,null,null,null,"Rate 2 units"]
[null,null,null,null,null,"Domestic Aggregated or CT","MWh","LDNO LV customers"]
[null,null,null,null,null,"Domestic Aggregated (Related MPAN)","MWh","LDNO LV customers",null,{"$f":"CHOOSE(charging_year_selected_index, L720,M720,N720,O720,P720,Q720)","v":17.523477696397507},null,29.321000000000005,27.072885245901642,27.870535537649342,17.523477696397507,{"$f":"$O720","v":17.523477696397507},17.523477696397507]
[null,null,null,null,null,"Non-Domestic Aggregated or CT","MWh","LDNO LV customers",null,{"$f":"CHOOSE(charging_year_selected_index, L721,M721,N721,O721,P721,Q721)","v":0},null,0,0,0,0,0,0]
[null,null,null,null,null,"Non-Domestic Aggregated (Related MPAN)","MWh","LDNO LV customers",null,{"$f":"CHOOSE(charging_year_selected_index, L722,M722,N722,O722,P722,Q722)","v":0},null,0,0,0,0,0,0]
[null,null,null,null,null,"LV Site Specific","MWh","LDNO LV customers",null,{"$f":"CHOOSE(charging_year_selected_index, L723,M723,N723,O723,P723,Q723)","v":0},null,0,0,0,0,0,0]
[null,null,null,null,null,"LV Sub Site Specific","MWh","LDNO LV customers"]
[null,null,null,null,null,"HV Site Specific","MWh","LDNO LV customers"]
[null,null,null,null,null,"Unmetered Supplies","MWh","LDNO LV customers"]
[null,null,null,null,null,"LV Generation Aggregated","MWh","LDNO LV customers",null,{"$f":"CHOOSE(charging_year_selected_index, L727,M727,N727,O727,P727,Q727)","v":1148.2303713782283},null,594.94400000000007,3480.0674308284702,1402.9006921544885,1148.2303713782283,{"$f":"$O727","v":1148.2303713782283},1148.2303713782283]
[null,null,null,null,null,"LV Sub Generation Aggregated","MWh","LDNO LV customers"]
[null,null,null,null,null,"LV Generation Site Specific","MWh","LDNO LV customers",null,{"$f":"CHOOSE(charging_year_selected_index, L729,M729,N729,O729,P729,Q729)","v":0},null,0,0,0,0,{"$f":"$O729","v":0},0]
[null,null,null,null,null,"LV Generation Site Specific no RP Charge","MWh","LDNO LV customers"]
[null,null,null,null,null,"LV Sub Generation Site Specific","MWh","LDNO LV customers"]
[null,null,null,null,null,"LV Sub Generation Site Specific no RP Charge","MWh","LDNO LV customers"]
[null,null,null,null,null,"HV Generation Site Specific","MWh","LDNO LV customers"]
[null,null,null,null,null,"HV Generation Site Specific no RP Charge","MWh","LDNO LV customers"]
[]
[null,null,null,null,"Rate 3 units"]
[null,null,null,null,null,"Domestic Aggregated or CT","MWh","LDNO LV customers"]
[null,null,null,null,null,"Domestic Aggregated (Related MPAN)","MWh","LDNO LV customers",null,{"$f":"CHOOSE(charging_year_selected_index, L738,M738,N738,O738,P738,Q738)","v":82.999714316345589},null,158.858,137.73013114754099,134.28522737797536,82.999714316345589,{"$f":"$O738","v":82.999714316345589},82.999714316345589]
[null,null,null,null,null,"Non-Domestic Aggregated or CT","MWh","LDNO LV customers",null,{"$f":"CHOOSE(charging_year_selected_index, L739,M739,N739,O739,P739,Q739)","v":0},null,0,0,0,0,0,0]
[null,null,null,null,null,"Non-Domestic Aggregated (Related MPAN)","MWh","LDNO LV customers",null,{"$f":"CHOOSE(charging_year_selected_index, L740,M740,N740,O740,P740,Q740)","v":0},null,0,0,0,0,0,0]
[null,null,null,null,null,"LV Site Specific","MWh","LDNO LV customers",null,{"$f":"CHOOSE(charging_year_selected_index, L741,M741,N741,O741,P741,Q741)","v":0},null,0,0,0,0,0,0]
[null,null,null,null,null,"LV Sub Site Specific","MWh","LDNO LV customers"]
[null,null,null,null,null,"HV Site Specific","MWh","LDNO LV customers"]
[null,null,null,null,null,"Unmetered Supplies","MWh","LDNO LV customers"]
[null,null,null,null,null,"LV Generation Aggregated","MWh","LDNO LV customers",null,{"$f":"CHOOSE(charging_year_selected_index, L745,M745,N745,O745,P745,Q745)","v":507.5761148805301},null,276.19200000000001,1554.6667235714485,575.37018742430848,507.5761148805301,{"$f":"$O745","v":507.5761148805301},507.5761148805301]
[null,null,null,null,null,"LV Sub Generation Aggregated","MWh","LDNO LV customers"]
[null,null,null,null,null,"LV Generation Site Specific","MWh","LDNO LV customers",null,{"$f":"CHOOSE(charging_year_selected_index, L747,M747,N747,O747,P747,Q747)","v":0},null,0,0,0,0,{"$f":"$O747","v":0},0]
[null,null,null,null,null,"LV Generation Site Specific no RP Charge","MWh","LDNO LV customers"]
[null,null,null,null,null,"LV Sub Generation Site Specific","MWh","LDNO LV customers"]
[null,null,null,null,null,"LV Sub Generation Site Specific no RP Charge","MWh","LDNO LV customers"]
[null,null,null,null,null,"HV Generation Site Specific","MWh","LDNO LV customers"]
[null,null,null,null,null,"HV Generation Site Specific no RP Charge","MWh","LDNO LV customers"]
[]
[null,null,null,null,"MPANs"]
[null,null,null,null,null,"Domestic Aggregated or CT","MPANs","LDNO LV customers"]
[null,null,null,null,null,"Domestic Aggregated (Related MPAN)","MPANs","LDNO LV customers",null,{"$f":"CHOOSE(charging_year_selected_index, L756,M756,N756,O756,P756,Q756)","v":41},null,61,60,58,41,{"$f":"$O756","v":41},41]
[null,null,null,null,null,"Non-Domestic Aggregated or CT","MPANs","LDNO LV customers",null,{"$f":"CHOOSE(charging_year_selected_index, L757,M757,N757,O757,P757,Q757)","v":0},null,0,0,0,0,0,0]
[null,null,null,null,null,"Non-Domestic Aggregated (Related MPAN)","MPANs","LDNO LV customers",null,{"$f":"CHOOSE(charging_year_selected_index, L758,M758,N758,O758,P758,Q758)","v":0},null,0,0,0,0,0,0]
[null,null,null,null,null,"LV Site Specific","MPANs","LDNO LV customers",null,{"$f":"CHOOSE(charging_year_selected_index, L759,M759,N759,O759,P759,Q759)","v":0},null,0,0,0,0,0,0]
[null,null,null,null,null,"LV Sub Site Specific","MPANs","LDNO LV customers"]
[null,null,null,null,null,"HV Site Specific","MPANs","LDNO LV customers"]
[null,null,null,null,null,"Unmetered Supplies","MPANs","LDNO LV customers"]
[null,null,null,null,null,"LV Generation Aggregated","MPANs","LDNO LV customers",null,{"$f":"CHOOSE(charging_year_selected_index, L763,M763,N763,O763,P763,Q763)","v":550},null,62,279,550,550,{"$f":"$O763","v":550},550]
[null,null,null,null,null,"LV Sub Generation Aggregated","MPANs","LDNO LV customers"]
[null,null,null,null,null,"LV Generation Site Specific","MPANs","LDNO LV customers",null,{"$f":"CHOOSE(charging_year_selected_index, L765,M765,N765,O765,P765,Q765)","v":0},null,0,0,0,0,{"$f":"$O765","v":0},0]
[null,null,null,null,null,"LV Generation Site Specific no RP Charge","MPANs","LDNO LV customers"]
[null,null,null,null,null,"LV Sub Generation Site Specific","MPANs","LDNO LV customers"]
[null,null,null,null,null,"LV Sub Generation Site Specific no RP Charge","MPANs","LDNO LV customers"]
[null,null,null,null,null,"HV Generation Site Specific","MPANs","LDNO LV customers"]
[null,null,null,null,null,"HV Generation Site Specific no RP Charge","MPANs","LDNO LV customers"]
[]
[null,null,null,null,"Import capacity"]
[null,null,null,null,null,"Domestic Aggregated or CT","kVA","LDNO LV customers"]
[null,null,null,null,null,"Domestic Aggregated (Related MPAN)","kVA","LDNO LV customers"]
[null,null,null,null,null,"Non-Domestic Aggregated or CT","kVA","LDNO LV customers"]
[null,null,null,null,null,"Non-Domestic Aggregated (Related MPAN)","kVA","LDNO LV customers"]
[null,null,null,null,null,"LV Site Specific","kVA","LDNO LV customers",null,{"$f":"CHOOSE(charging_year_selected_index, L777,M777,N777,O777,P777,Q777)","v":0},null,0,0,0,0,{"$f":"$O777","v":0},0]
[null,null,null,null,null,"LV Sub Site Specific","kVA","LDNO LV customers"]
[null,null,null,null,null,"HV Site Specific","kVA","LDNO LV customers"]
[null,null,null,null,null,"Unmetered Supplies","kVA","LDNO LV customers"]
[null,null,null,null,null,"LV Generation Aggregated","kVA","LDNO LV customers"]
[null,null,null,null,null,"LV Sub Generation Aggregated","kVA","LDNO LV customers"]
[null,null,null,null,null,"LV Generation Site Specific","kVA","LDNO LV customers"]
[null,null,null,null,null,"LV Generation Site Specific no RP Charge","kVA","LDNO LV customers"]
[null,null,null,null,null,"LV Sub Generation Site Specific","kVA","LDNO LV customers"]
[null,null,null,null,null,"LV Sub Generation Site Specific no RP Charge","kVA","LDNO LV customers"]
[null,null,null,null,null,"HV Generation Site Specific","kVA","LDNO LV customers"]
[null,null,null,null,null,"HV Generation Site Specific no RP Charge","kVA","LDNO LV customers"]
[]
[null,null,null,null,"Exceeded capacity"]
[null,null,null,null,null,"Domestic Aggregated or CT","kVA","LDNO LV customers"]
[null,null,null,null,null,"Domestic Aggregated (Related MPAN)","kVA","LDNO LV customers"]
[null,null,null,null,null,"Non-Domestic Aggregated or CT","kVA","LDNO LV customers"]
[null,null,null,null,null,"Non-Domestic Aggregated (Related MPAN)","kVA","LDNO LV customers"]
[null,null,null,null,null,"LV Site Specific","kVA","LDNO LV customers",null,{"$f":"CHOOSE(charging_year_selected_index, L795,M795,N795,O795,P795,Q795)","v":0},null,0,0,0,0,{"$f":"$O795","v":0},0]
[null,null,null,null,null,"LV Sub Site Specific","kVA","LDNO LV customers"]
[null,null,null,null,null,"HV Site Specific","kVA","LDNO LV customers"]
[null,null,null,null,null,"Unmetered Supplies","kVA","LDNO LV customers"]
[null,null,null,null,null,"LV Generation Aggregated","kVA","LDNO LV customers"]
[null,null,null,null,null,"LV Sub Generation Aggregated","kVA","LDNO LV customers"]
[null,null,null,null,null,"LV Generation Site Specific","kVA","LDNO LV customers"]
[null,null,null,null,null,"LV Generation Site Specific no RP Charge","kVA","LDNO LV customers"]
[null,null,null,null,null,"LV Sub Generation Site Specific","kVA","LDNO LV customers"]
[null,null,null,null,null,"LV Sub Generation Site Specific no RP Charge","kVA","LDNO LV customers"]
[null,null,null,null,null,"HV Generation Site Specific","kVA","LDNO LV customers"]
[null,null,null,null,null,"HV Generation Site Specific no RP Charge","kVA","LDNO LV customers"]
[]
[null,null,null,null,"Reactive power units"]
[null,null,null,null,null,"Domestic Aggregated or CT","MVArh","LDNO LV customers"]
[null,null,null,null,null,"Domestic Aggregated (Related MPAN)","MVArh","LDNO LV customers"]
[null,null,null,null,null,"Non-Domestic Aggregated or CT","MVArh","LDNO LV customers"]
[null,null,null,null,null,"Non-Domestic Aggregated (Related MPAN)","MVArh","LDNO LV customers"]
[null,null,null,null,null,"LV Site Specific","MVArh","LDNO LV customers",null,{"$f":"CHOOSE(charging_year_selected_index, L813,M813,N813,O813,P813,Q813)","v":0},null,0,0,0,0,{"$f":"$O813","v":0},0]
[null,null,null,null,null,"LV Sub Site Specific","MVArh","LDNO LV customers"]
[null,null,null,null,null,"HV Site Specific","MVArh","LDNO LV customers"]
[null,null,null,null,null,"Unmetered Supplies","MVArh","LDNO LV customers"]
[null,null,null,null,null,"LV Generation Aggregated","MVArh","LDNO LV customers"]
[null,null,null,null,null,"LV Sub Generation Aggregated","MVArh","LDNO LV customers"]
[null,null,null,null,null,"LV Generation Site Specific","MVArh","LDNO LV customers",null,{"$f":"CHOOSE(charging_year_selected_index, L819,M819,N819,O819,P819,Q819)","v":0},null,0,0,0,0,{"$f":"$O819","v":0},0]
[null,null,null,null,null,"LV Generation Site Specific no RP Charge","MVArh","LDNO LV customers"]
[null,null,null,null,null,"LV Sub Generation Site Specific","MVArh","LDNO LV customers"]
[null,null,null,null,null,"LV Sub Generation Site Specific no RP Charge","MVArh","LDNO LV customers"]
[null,null,null,null,null,"HV Generation Site Specific","MVArh","LDNO LV customers"]
[null,null,null,null,null,"HV Generation Site Specific no RP Charge","MVArh","LDNO LV customers"]
[]
[null,null,{"$f":"INDEX('Version control'!$H$29:$H$55,MATCH($A$1,'Version control'!$F$29:$F$55,0),1)&\"-I: LDNO LV volumes - Residual band 1\"","v":"Input 501-I: LDNO LV volumes - Residual band 1"}]
[]
[null,null,null,null,"Rate 1 units",null,null,null,">",null,null,null,null,null,null,null,null,null,"Paragraph 52"]
[null,null,null,null,null,"Domestic Aggregated or CT","MWh","LDNO LV customers",null,{"$f":"CHOOSE(charging_year_selected_index, L829,M829,N829,O829,P829,Q829)","v":21462.198933541778},null,20086.258114403387,20800.944795377112,20370.840100573027,21462.198933541778,{"$f":"$O829","v":21462.198933541778},21462.198933541778]
[null,null,null,null,null,"Domestic Aggregated (Related MPAN)","MWh","LDNO LV customers"]
[null,null,null,null,null,"Non-Domestic Aggregated or CT","MWh","LDNO LV customers",null,{"$f":"CHOOSE(charging_year_selected_index, L831,M831,N831,O831,P831,Q831)","v":298.66338959322127},null,176.73692201913369,171.93370777999971,248.98214535617601,298.66338959322127,{"$f":"$O831","v":298.66338959322127},298.66338959322127]
[null,null,null,null,null,"Non-Domestic Aggregated (Related MPAN)","MWh","LDNO LV customers"]
[null,null,null,null,null,"LV Site Specific","MWh","LDNO LV customers",null,{"$f":"CHOOSE(charging_year_selected_index, L833,M833,N833,O833,P833,Q833)","v":419.452},null,186.44116259697142,273.19500000000005,412.41800000000001,419.452,{"$f":"$O833","v":419.452},419.452]
[null,null,null,null,null,"LV Sub Site Specific","MWh","LDNO LV customers"]
[null,null,null,null,null,"HV Site Specific","MWh","LDNO LV customers"]
[null,null,null,null,null,"Unmetered Supplies","MWh","LDNO LV customers",null,{"$f":"CHOOSE(charging_year_selected_index, L836,M836,N836,O836,P836,Q836)","v":0.21960494837327099},null,27.518494778325124,22.985167530544242,24.266085733603784,0.21960494837327099,{"$f":"$O836","v":0.21960494837327099},0.21960494837327099]
[null,null,null,null,null,"LV Generation Aggregated","MWh","LDNO LV customers"]
[null,null,null,null,null,"LV Sub Generation Aggregated","MWh","LDNO LV customers"]
[null,null,null,null,null,"LV Generation Site Specific","MWh","LDNO LV customers"]
[null,null,null,null,null,"LV Generation Site Specific no RP Charge","MWh","LDNO LV customers"]
[null,null,null,null,null,"LV Sub Generation Site Specific","MWh","LDNO LV customers"]
[null,null,null,null,null,"LV Sub Generation Site Specific no RP Charge","MWh","LDNO LV customers"]
[null,null,null,null,null,"HV Generation Site Specific","MWh","LDNO LV customers"]
[null,null,null,null,null,"HV Generation Site Specific no RP Charge","MWh","LDNO LV customers"]
[]
[null,null,null,null,"Rate 2 units"]
[null,null,null,null,null,"Domestic Aggregated or CT","MWh","LDNO LV customers",null,{"$f":"CHOOSE(charging_year_selected_index, L847,M847,N847,O847,P847,Q847)","v":77777.691231824007},null,69532.309980270977,76551.123397066825,74385.434573960476,77777.691231824007,{"$f":"$O847","v":77777.691231824007},77777.691231824007]
[null,null,null,null,null,"Domestic Aggregated (Related MPAN)","MWh","LDNO LV customers"]
[null,null,null,null,null,"Non-Domestic Aggregated or CT","MWh","LDNO LV customers",null,{"$f":"CHOOSE(charging_year_selected_index, L849,M849,N849,O849,P849,Q849)","v":1607.3025907456383},null,915.56999609230968,890.32175082953381,1328.9578293069642,1607.3025907456383,{"$f":"$O849","v":1607.3025907456383},1607.3025907456383]
[null,null,null,null,null,"Non-Domestic Aggregated (Related MPAN)","MWh","LDNO LV customers"]
[null,null,null,null,null,"LV Site Specific","MWh","LDNO LV customers",null,{"$f":"CHOOSE(charging_year_selected_index, L851,M851,N851,O851,P851,Q851)","v":2095.663},null,839.82213731571881,1365.367,2106.002,2095.663,{"$f":"$O851","v":2095.663},2095.663]
[null,null,null,null,null,"LV Sub Site Specific","MWh","LDNO LV customers"]
[null,null,null,null,null,"HV Site Specific","MWh","LDNO LV customers"]
[null,null,null,null,null,"Unmetered Supplies","MWh","LDNO LV customers",null,{"$f":"CHOOSE(charging_year_selected_index, L854,M854,N854,O854,P854,Q854)","v":3.0193224080975973},null,308.80785736453203,327.55783312906374,286.01360058907869,3.0193224080975973,{"$f":"$O854","v":3.0193224080975973},3.0193224080975973]
[null,null,null,null,null,"LV Generation Aggregated","MWh","LDNO LV customers"]
[null,null,null,null,null,"LV Sub Generation Aggregated","MWh","LDNO LV customers"]
[null,null,null,null,null,"LV Generation Site Specific","MWh","LDNO LV customers"]
[null,null,null,null,null,"LV Generation Site Specific no RP Charge","MWh","LDNO LV customers"]
[null,null,null,null,null,"LV Sub Generation Site Specific","MWh","LDNO LV customers"]
[null,null,null,null,null,"LV Sub Generation Site Specific no RP Charge","MWh","LDNO LV customers"]
[null,null,null,null,null,"HV Generation Site Specific","MWh","LDNO LV customers"]
[null,null,null,null,null,"HV Generation Site Specific no RP Charge","MWh","LDNO LV customers"]
[]
[null,null,null,null,"Rate 3 units"]
[null,null,null,null,null,"Domestic Aggregated or CT","MWh","LDNO LV customers",null,{"$f":"CHOOSE(charging_year_selected_index, L865,M865,N865,O865,P865,Q865)","v":73752.726063647118},null,61812.930833280705,66125.185859945428,67558.85599945359,73752.726063647118,{"$f":"$O865","v":73752.726063647118},73752.726063647118]
[null,null,null,null,null,"Domestic Aggregated (Related MPAN)","MWh","LDNO LV customers"]
[null,null,null,null,null,"Non-Domestic Aggregated or CT","MWh","LDNO LV customers",null,{"$f":"CHOOSE(charging_year_selected_index, L867,M867,N867,O867,P867,Q867)","v":1162.9071665288359},null,695.14352925185995,695.67973786125947,1003.4070542468032,1162.9071665288359,{"$f":"$O867","v":1162.9071665288359},1162.9071665288359]
[null,null,null,null,null,"Non-Domestic Aggregated (Related MPAN)","MWh","LDNO LV customers"]
[null,null,null,null,null,"LV Site Specific","MWh","LDNO LV customers",null,{"$f":"CHOOSE(charging_year_selected_index, L869,M869,N869,O869,P869,Q869)","v":4310.2619999999997},null,749.20020265161486,1972.5240000000003,4412.1289999999999,4310.2619999999997,{"$f":"$O869","v":4310.2619999999997},4310.2619999999997]
[null,null,null,null,null,"LV Sub Site Specific","MWh","LDNO LV customers"]
[null,null,null,null,null,"HV Site Specific","MWh","LDNO LV customers"]
[null,null,null,null,null,"Unmetered Supplies","MWh","LDNO LV customers",null,{"$f":"CHOOSE(charging_year_selected_index, L872,M872,N872,O872,P872,Q872)","v":3.7674268151621209},null,331.63771002463056,357.92923139806027,319.62727411684654,3.7674268151621209,{"$f":"$O872","v":3.7674268151621209},3.7674268151621209]
[null,null,null,null,null,"LV Generation Aggregated","MWh","LDNO LV customers"]
[null,null,null,null,null,"LV Sub Generation Aggregated","MWh","LDNO LV customers"]
[null,null,null,null,null,"LV Generation Site Specific","MWh","LDNO LV customers"]
[null,null,null,null,null,"LV Generation Site Specific no RP Charge","MWh","LDNO LV customers"]
[null,null,null,null,null,"LV Sub Generation Site Specific","MWh","LDNO LV customers"]
[null,null,null,null,null,"LV Sub Generation Site Specific no RP Charge","MWh","LDNO LV customers"]
[null,null,null,null,null,"HV Generation Site Specific","MWh","LDNO LV customers"]
[null,null,null,null,null,"HV Generation Site Specific no RP Charge","MWh","LDNO LV customers"]
[]
[null,null,null,null,"MPANs"]
[null,null,null,null,null,"Domestic Aggregated or CT","MPANs","LDNO LV customers",null,{"$f":"CHOOSE(charging_year_selected_index, L883,M883,N883,O883,P883,Q883)","v":65616},null,55364.654773703347,59513,62456,65616,{"$f":"$O883","v":65616},65616]
[null,null,null,null,null,"Domestic Aggregated (Related MPAN)","MPANs","LDNO LV customers"]
[null,null,null,null,null,"Non-Domestic Aggregated or CT","MPANs","LDNO LV customers",null,{"$f":"CHOOSE(charging_year_selected_index, L885,M885,N885,O885,P885,Q885)","v":1034},null,639,687,907,1034,{"$f":"$O885","v":1034},1034]
[null,null,null,null,null,"Non-Domestic Aggregated (Related MPAN)","MPANs","LDNO LV customers"]
[null,null,null,null,null,"LV Site Specific","MPANs","LDNO LV customers",null,{"$f":"CHOOSE(charging_year_selected_index, L887,M887,N887,O887,P887,Q887)","v":41},null,30,38,40,41,{"$f":"$O887","v":41},41]
[null,null,null,null,null,"LV Sub Site Specific","MPANs","LDNO LV customers"]
[null,null,null,null,null,"HV Site Specific","MPANs","LDNO LV customers"]
[null,null,null,null,null,"Unmetered Supplies","MPANs","LDNO LV customers",null,{"$f":"CHOOSE(charging_year_selected_index, L890,M890,N890,O890,P890,Q890)","v":0},null,71,84,65,0,{"$f":"$O890","v":0},0]
[null,null,null,null,null,"LV Generation Aggregated","MPANs","LDNO LV customers"]
[null,null,null,null,null,"LV Sub Generation Aggregated","MPANs","LDNO LV customers"]
[null,null,null,null,null,"LV Generation Site Specific","MPANs","LDNO LV customers"]
[null,null,null,null,null,"LV Generation Site Specific no RP Charge","MPANs","LDNO LV customers"]
[null,null,null,null,null,"LV Sub Generation Site Specific","MPANs","LDNO LV customers"]
[null,null,null,null,null,"LV Sub Generation Site Specific no RP Charge","MPANs","LDNO LV customers"]
[null,null,null,null,null,"HV Generation Site Specific","MPANs","LDNO LV customers"]
[null,null,null,null,null,"HV Generation Site Specific no RP Charge","MPANs","LDNO LV customers"]
[]
[null,null,null,null,"Import capacity"]
[null,null,null,null,null,"Domestic Aggregated or CT","kVA","LDNO LV customers"]
[null,null,null,null,null,"Domestic Aggregated (Related MPAN)","kVA","LDNO LV customers"]
[null,null,null,null,null,"Non-Domestic Aggregated or CT","kVA","LDNO LV customers"]
[null,null,null,null,null,"Non-Domestic Aggregated (Related MPAN)","kVA","LDNO LV customers"]
[null,null,null,null,null,"LV Site Specific","kVA","LDNO LV customers",null,{"$f":"CHOOSE(charging_year_selected_index, L905,M905,N905,O905,P905,Q905)","v":2333},null,1490,2089,2201,2333,{"$f":"$O905","v":2333},2333]
[null,null,null,null,null,"LV Sub Site Specific","kVA","LDNO LV customers"]
[null,null,null,null,null,"HV Site Specific","kVA","LDNO LV customers"]
[null,null,null,null,null,"Unmetered Supplies","kVA","LDNO LV customers"]
[null,null,null,null,null,"LV Generation Aggregated","kVA","LDNO LV customers"]
[null,null,null,null,null,"LV Sub Generation Aggregated","kVA","LDNO LV customers"]
[null,null,null,null,null,"LV Generation Site Specific","kVA","LDNO LV customers"]
[null,null,null,null,null,"LV Generation Site Specific no RP Charge","kVA","LDNO LV customers"]
[null,null,null,null,null,"LV Sub Generation Site Specific","kVA","LDNO LV customers"]
[null,null,null,null,null,"LV Sub Generation Site Specific no RP Charge","kVA","LDNO LV customers"]
[null,null,null,null,null,"HV Generation Site Specific","kVA","LDNO LV customers"]
[null,null,null,null,null,"HV Generation Site Specific no RP Charge","kVA","LDNO LV customers"]
[]
[null,null,null,null,"Exceeded capacity"]
[null,null,null,null,null,"Domestic Aggregated or CT","kVA","LDNO LV customers"]
[null,null,null,null,null,"Domestic Aggregated (Related MPAN)","kVA","LDNO LV customers"]
[null,null,null,null,null,"Non-Domestic Aggregated or CT","kVA","LDNO LV customers"]
[null,null,null,null,null,"Non-Domestic Aggregated (Related MPAN)","kVA","LDNO LV customers"]
[null,null,null,null,null,"LV Site Specific","kVA","LDNO LV customers",null,{"$f":"CHOOSE(charging_year_selected_index, L923,M923,N923,O923,P923,Q923)","v":1428},null,5,1519,1490.6666666666667,1428,{"$f":"$O923","v":1428},1428]
[null,null,null,null,null,"LV Sub Site Specific","kVA","LDNO LV customers"]
[null,null,null,null,null,"HV Site Specific","kVA","LDNO LV customers"]
[null,null,null,null,null,"Unmetered Supplies","kVA","LDNO LV customers"]
[null,null,null,null,null,"LV Generation Aggregated","kVA","LDNO LV customers"]
[null,null,null,null,null,"LV Sub Generation Aggregated","kVA","LDNO LV customers"]
[null,null,null,null,null,"LV Generation Site Specific","kVA","LDNO LV customers"]
[null,null,null,null,null,"LV Generation Site Specific no RP Charge","kVA","LDNO LV customers"]
[null,null,null,null,null,"LV Sub Generation Site Specific","kVA","LDNO LV customers"]
[null,null,null,null,null,"LV Sub Generation Site Specific no RP Charge","kVA","LDNO LV customers"]
[null,null,null,null,null,"HV Generation Site Specific","kVA","LDNO LV customers"]
[null,null,null,null,null,"HV Generation Site Specific no RP Charge","kVA","LDNO LV customers"]
[]
[null,null,null,null,"Reactive power units"]
[null,null,null,null,null,"Domestic Aggregated or CT","MVArh","LDNO LV customers"]
[null,null,null,null,null,"Domestic Aggregated (Related MPAN)","MVArh","LDNO LV customers"]
[null,null,null,null,null,"Non-Domestic Aggregated or CT","MVArh","LDNO LV customers"]
[null,null,null,null,null,"Non-Domestic Aggregated (Related MPAN)","MVArh","LDNO LV customers"]
[null,null,null,null,null,"LV Site Specific","MVArh","LDNO LV customers",null,{"$f":"CHOOSE(charging_year_selected_index, L941,M941,N941,O941,P941,Q941)","v":339.49200000000002},null,99.444000000000003,317.90800000000002,413.77800000000002,339.49200000000002,{"$f":"$O941","v":339.49200000000002},339.49200000000002]
[null,null,null,null,null,"LV Sub Site Specific","MVArh","LDNO LV customers"]
[null,null,null,null,null,"HV Site Specific","MVArh","LDNO LV customers"]
[null,null,null,null,null,"Unmetered Supplies","MVArh","LDNO LV customers"]
[null,null,null,null,null,"LV Generation Aggregated","MVArh","LDNO LV customers"]
[null,null,null,null,null,"LV Sub Generation Aggregated","MVArh","LDNO LV customers"]
[null,null,null,null,null,"LV Generation Site Specific","MVArh","LDNO LV customers"]
[null,null,null,null,null,"LV Generation Site Specific no RP Charge","MVArh","LDNO LV customers"]
[null,null,null,null,null,"LV Sub Generation Site Specific","MVArh","LDNO LV customers"]
[null,null,null,null,null,"LV Sub Generation Site Specific no RP Charge","MVArh","LDNO LV customers"]
[null,null,null,null,null,"HV Generation Site Specific","MVArh","LDNO LV customers"]
[null,null,null,null,null,"HV Generation Site Specific no RP Charge","MVArh","LDNO LV customers"]
[]
[null,null,{"$f":"INDEX('Version control'!$H$29:$H$55,MATCH($A$1,'Version control'!$F$29:$F$55,0),1)&\"-J: LDNO LV volumes - Residual band 2\"","v":"Input 501-J: LDNO LV volumes - Residual band 2"}]
[]
[null,null,null,null,"Rate 1 units",null,null,null,">",null,null,null,null,null,null,null,null,null,"Paragraph 52"]
[null,null,null,null,null,"Domestic Aggregated or CT","MWh","LDNO LV customers"]
[null,null,null,null,null,"Domestic Aggregated (Related MPAN)","MWh","LDNO LV customers"]
[null,null,null,null,null,"Non-Domestic Aggregated or CT","MWh","LDNO LV customers",null,{"$f":"CHOOSE(charging_year_selected_index, L959,M959,N959,O959,P959,Q959)","v":377.56527458563846},null,234.45560805277455,238.96571269020731,333.19839156767841,377.56527458563846,{"$f":"$O959","v":377.56527458563846},377.56527458563846]
[null,null,null,null,null,"Non-Domestic Aggregated (Related MPAN)","MWh","LDNO LV customers"]
[null,null,null,null,null,"LV Site Specific","MWh","LDNO LV customers",null,{"$f":"CHOOSE(charging_year_selected_index, L961,M961,N961,O961,P961,Q961)","v":772.44199999999989},null,454.96648805542816,526.68299999999999,637.64199999999994,772.44199999999989,{"$f":"$O961","v":772.44199999999989},772.44199999999989]
[null,null,null,null,null,"LV Sub Site Specific","MWh","LDNO LV customers"]
[null,null,null,null,null,"HV Site Specific","MWh","LDNO LV customers"]
[null,null,null,null,null,"Unmetered Supplies","MWh","LDNO LV customers"]
[null,null,null,null,null,"LV Generation Aggregated","MWh","LDNO LV customers"]
[null,null,null,null,null,"LV Sub Generation Aggregated","MWh","LDNO LV customers"]
[null,null,null,null,null,"LV Generation Site Specific","MWh","LDNO LV customers"]
[null,null,null,null,null,"LV Generation Site Specific no RP Charge","MWh","LDNO LV customers"]
[null,null,null,null,null,"LV Sub Generation Site Specific","MWh","LDNO LV customers"]
[null,null,null,null,null,"LV Sub Generation Site Specific no RP Charge","MWh","LDNO LV customers"]
[null,null,null,null,null,"HV Generation Site Specific","MWh","LDNO LV customers"]
[null,null,null,null,null,"HV Generation Site Specific no RP Charge","MWh","LDNO LV customers"]
[]
[null,null,null,null,"Rate 2 units"]
[null,null,null,null,null,"Domestic Aggregated or CT","MWh","LDNO LV customers"]
[null,null,null,null,null,"Domestic Aggregated (Related MPAN)","MWh","LDNO LV customers"]
[null,null,null,null,null,"Non-Domestic Aggregated or CT","MWh","LDNO LV customers",null,{"$f":"CHOOSE(charging_year_selected_index, L977,M977,N977,O977,P977,Q977)","v":2034.7834282871377},null,1214.5765451627567,1237.4936491473559,1779.1867465556506,2034.7834282871377,{"$f":"$O977","v":2034.7834282871377},2034.7834282871377]
[null,null,null,null,null,"Non-Domestic Aggregated (Related MPAN)","MWh","LDNO LV customers"]
[null,null,null,null,null,"LV Site Specific","MWh","LDNO LV customers",null,{"$f":"CHOOSE(charging_year_selected_index, L979,M979,N979,O979,P979,Q979)","v":3452.5229999999992},null,2049.3914706576866,2437.8400000000006,2904.6949999999997,3452.5229999999992,{"$f":"$O979","v":3452.5229999999992},3452.5229999999992]
[null,null,null,null,null,"LV Sub Site Specific","MWh","LDNO LV customers"]
[null,null,null,null,null,"HV Site Specific","MWh","LDNO LV customers"]
[null,null,null,null,null,"Unmetered Supplies","MWh","LDNO LV customers"]
[null,null,null,null,null,"LV Generation Aggregated","MWh","LDNO LV customers"]
[null,null,null,null,null,"LV Sub Generation Aggregated","MWh","LDNO LV customers"]
[null,null,null,null,null,"LV Generation Site Specific","MWh","LDNO LV customers"]
[null,null,null,null,null,"LV Generation Site Specific no RP Charge","MWh","LDNO LV customers"]
[null,null,null,null,null,"LV Sub Generation Site Specific","MWh","LDNO LV customers"]
[null,null,null,null,null,"LV Sub Generation Site Specific no RP Charge","MWh","LDNO LV customers"]
[null,null,null,null,null,"HV Generation Site Specific","MWh","LDNO LV customers"]
[null,null,null,null,null,"HV Generation Site Specific no RP Charge","MWh","LDNO LV customers"]
[]
[null,null,null,null,"Rate 3 units"]
[null,null,null,null,null,"Domestic Aggregated or CT","MWh","LDNO LV customers"]
[null,null,null,null,null,"Domestic Aggregated (Related MPAN)","MWh","LDNO LV customers"]
[null,null,null,null,null,"Non-Domestic Aggregated or CT","MWh","LDNO LV customers",null,{"$f":"CHOOSE(charging_year_selected_index, L995,M995,N995,O995,P995,Q995)","v":1464.8371894631355},null,922.1632750685344,968.95806960186758,1348.311346450648,1464.8371894631355,{"$f":"$O995","v":1464.8371894631355},1464.8371894631355]
[null,null,null,null,null,"Non-Domestic Aggregated (Related MPAN)","MWh","LDNO LV customers"]
[null,null,null,null,null,"LV Site Specific","MWh","LDNO LV customers",null,{"$f":"CHOOSE(charging_year_selected_index, L997,M997,N997,O997,P997,Q997)","v":2659.9619999999995},null,1828.2496220411217,1967.1180000000002,2220.857,2659.9619999999995,{"$f":"$O997","v":2659.9619999999995},2659.9619999999995]
[null,null,null,null,null,"LV Sub Site Specific","MWh","LDNO LV customers"]
[null,null,null,null,null,"HV Site Specific","MWh","LDNO LV customers"]
[null,null,null,null,null,"Unmetered Supplies","MWh","LDNO LV customers"]
[null,null,null,null,null,"LV Generation Aggregated","MWh","LDNO LV customers"]
[null,null,null,null,null,"LV Sub Generation Aggregated","MWh","LDNO LV customers"]
[null,null,null,null,null,"LV Generation Site Specific","MWh","LDNO LV customers"]
[null,null,null,null,null,"LV Generation Site Specific no RP Charge","MWh","LDNO LV customers"]
[null,null,null,null,null,"LV Sub Generation Site Specific","MWh","LDNO LV customers"]
[null,null,null,null,null,"LV Sub Generation Site Specific no RP Charge","MWh","LDNO LV customers"]
[null,null,null,null,null,"HV Generation Site Specific","MWh","LDNO LV customers"]
[null,null,null,null,null,"HV Generation Site Specific no RP Charge","MWh","LDNO LV customers"]
[]
[null,null,null,null,"MPANs"]
[null,null,null,null,null,"Domestic Aggregated or CT","MPANs","LDNO LV customers"]
[null,null,null,null,null,"Domestic Aggregated (Related MPAN)","MPANs","LDNO LV customers"]
[null,null,null,null,null,"Non-Domestic Aggregated or CT","MPANs","LDNO LV customers",null,{"$f":"CHOOSE(charging_year_selected_index, L1013,M1013,N1013,O1013,P1013,Q1013)","v":566},null,307,368,453,566,{"$f":"$O1013","v":566},566]
[null,null,null,null,null,"Non-Domestic Aggregated (Related MPAN)","MPANs","LDNO LV customers"]
[null,null,null,null,null,"LV Site Specific","MPANs","LDNO LV customers",null,{"$f":"CHOOSE(charging_year_selected_index, L1015,M1015,N1015,O1015,P1015,Q1015)","v":80},null,34,47,68,80,{"$f":"$O1015","v":80},80]
[null,null,null,null,null,"LV Sub Site Specific","MPANs","LDNO LV customers"]
[null,null,null,null,null,"HV Site Specific","MPANs","LDNO LV customers"]
[null,null,null,null,null,"Unmetered Supplies","MPANs","LDNO LV customers"]
[null,null,null,null,null,"LV Generation Aggregated","MPANs","LDNO LV customers"]
[null,null,null,null,null,"LV Sub Generation Aggregated","MPANs","LDNO LV customers"]
[null,null,null,null,null,"LV Generation Site Specific","MPANs","LDNO LV customers"]
[null,null,null,null,null,"LV Generation Site Specific no RP Charge","MPANs","LDNO LV customers"]
[null,null,null,null,null,"LV Sub Generation Site Specific","MPANs","LDNO LV customers"]
[null,null,null,null,null,"LV Sub Generation Site Specific no RP Charge","MPANs","LDNO LV customers"]
[null,null,null,null,null,"HV Generation Site Specific","MPANs","LDNO LV customers"]
[null,null,null,null,null,"HV Generation Site Specific no RP Charge","MPANs","LDNO LV customers"]
[]
[null,null,null,null,"Import capacity"]
[null,null,null,null,null,"Domestic Aggregated or CT","kVA","LDNO LV customers"]
[null,null,null,null,null,"Domestic Aggregated (Related MPAN)","kVA","LDNO LV customers"]
[null,null,null,null,null,"Non-Domestic Aggregated or CT","kVA","LDNO LV customers"]
[null,null,null,null,null,"Non-Domestic Aggregated (Related MPAN)","kVA","LDNO LV customers"]
[null,null,null,null,null,"LV Site Specific","kVA","LDNO LV customers",null,{"$f":"CHOOSE(charging_year_selected_index, L1033,M1033,N1033,O1033,P1033,Q1033)","v":9330},null,3636,5053,7945,9330,{"$f":"$O1033","v":9330},9330]
[null,null,null,null,null,"LV Sub Site Specific","kVA","LDNO LV customers"]
[null,null,null,null,null,"HV Site Specific","kVA","LDNO LV customers"]
[null,null,null,null,null,"Unmetered Supplies","kVA","LDNO LV customers"]
[null,null,null,null,null,"LV Generation Aggregated","kVA","LDNO LV customers"]
[null,null,null,null,null,"LV Sub Generation Aggregated","kVA","LDNO LV customers"]
[null,null,null,null,null,"LV Generation Site Specific","kVA","LDNO LV customers"]
[null,null,null,null,null,"LV Generation Site Specific no RP Charge","kVA","LDNO LV customers"]
[null,null,null,null,null,"LV Sub Generation Site Specific","kVA","LDNO LV customers"]
[null,null,null,null,null,"LV Sub Generation Site Specific no RP Charge","kVA","LDNO LV customers"]
[null,null,null,null,null,"HV Generation Site Specific","kVA","LDNO LV customers"]
[null,null,null,null,null,"HV Generation Site Specific no RP Charge","kVA","LDNO LV customers"]
[]
[null,null,null,null,"Exceeded capacity"]
[null,null,null,null,null,"Domestic Aggregated or CT","kVA","LDNO LV customers"]
[null,null,null,null,null,"Domestic Aggregated (Related MPAN)","kVA","LDNO LV customers"]
[null,null,null,null,null,"Non-Domestic Aggregated or CT","kVA","LDNO LV customers"]
[null,null,null,null,null,"Non-Domestic Aggregated (Related MPAN)","kVA","LDNO LV customers"]
[null,null,null,null,null,"LV Site Specific","kVA","LDNO LV customers",null,{"$f":"CHOOSE(charging_year_selected_index, L1051,M1051,N1051,O1051,P1051,Q1051)","v":25.666666666666668},null,12,0,13.333333333333334,25.666666666666668,{"$f":"$O1051","v":25.666666666666668},25.666666666666668]
[null,null,null,null,null,"LV Sub Site Specific","kVA","LDNO LV customers"]
[null,null,null,null,null,"HV Site Specific","kVA","LDNO LV customers"]
[null,null,null,null,null,"Unmetered Supplies","kVA","LDNO LV customers"]
[null,null,null,null,null,"LV Generation Aggregated","kVA","LDNO LV customers"]
[null,null,null,null,null,"LV Sub Generation Aggregated","kVA","LDNO LV customers"]
[null,null,null,null,null,"LV Generation Site Specific","kVA","LDNO LV customers"]
[null,null,null,null,null,"LV Generation Site Specific no RP Charge","kVA","LDNO LV customers"]
[null,null,null,null,null,"LV Sub Generation Site Specific","kVA","LDNO LV customers"]
[null,null,null,null,null,"LV Sub Generation Site Specific no RP Charge","kVA","LDNO LV customers"]
[null,null,null,null,null,"HV Generation Site Specific","kVA","LDNO LV customers"]
[null,null,null,null,null,"HV Generation Site Specific no RP Charge","kVA","LDNO LV customers"]
[]
[null,null,null,null,"Reactive power units"]
[null,null,null,null,null,"Domestic Aggregated or CT","MVArh","LDNO LV customers"]
[null,null,null,null,null,"Domestic Aggregated (Related MPAN)","MVArh","LDNO LV customers"]
[null,null,null,null,null,"Non-Domestic Aggregated or CT","MVArh","LDNO LV customers"]
[null,null,null,null,null,"Non-Domestic Aggregated (Related MPAN)","MVArh","LDNO LV customers"]
[null,null,null,null,null,"LV Site Specific","MVArh","LDNO LV customers",null,{"$f":"CHOOSE(charging_year_selected_index, L1069,M1069,N1069,O1069,P1069,Q1069)","v":593.11692000000005},null,242.67099999999999,610.47,573.05999999999995,593.11692000000005,{"$f":"$O1069","v":593.11692000000005},593.11692000000005]
[null,null,null,null,null,"LV Sub Site Specific","MVArh","LDNO LV customers"]
[null,null,null,null,null,"HV Site Specific","MVArh","LDNO LV customers"]
[null,null,null,null,null,"Unmetered Supplies","MVArh","LDNO LV customers"]
[null,null,null,null,null,"LV Generation Aggregated","MVArh","LDNO LV customers"]
[null,null,null,null,null,"LV Sub Generation Aggregated","MVArh","LDNO LV customers"]
[null,null,null,null,null,"LV Generation Site Specific","MVArh","LDNO LV customers"]
[null,null,null,null,null,"LV Generation Site Specific no RP Charge","MVArh","LDNO LV customers"]
[null,null,null,null,null,"LV Sub Generation Site Specific","MVArh","LDNO LV customers"]
[null,null,null,null,null,"LV Sub Generation Site Specific no RP Charge","MVArh","LDNO LV customers"]
[null,null,null,null,null,"HV Generation Site Specific","MVArh","LDNO LV customers"]
[null,null,null,null,null,"HV Generation Site Specific no RP Charge","MVArh","LDNO LV customers"]
[]
[null,null,{"$f":"INDEX('Version control'!$H$29:$H$55,MATCH($A$1,'Version control'!$F$29:$F$55,0),1)&\"-K: LDNO LV volumes - Residual band 3\"","v":"Input 501-K: LDNO LV volumes - Residual band 3"}]
[]
[null,null,null,null,"Rate 1 units",null,null,null,">",null,null,null,null,null,null,null,null,null,"Paragraph 52"]
[null,null,null,null,null,"Domestic Aggregated or CT","MWh","LDNO LV customers"]
[null,null,null,null,null,"Domestic Aggregated (Related MPAN)","MWh","LDNO LV customers"]
[null,null,null,null,null,"Non-Domestic Aggregated or CT","MWh","LDNO LV customers",null,{"$f":"CHOOSE(charging_year_selected_index, L1087,M1087,N1087,O1087,P1087,Q1087)","v":193.45349700351417},null,163.62443809251536,158.34764941383807,213.86045044487105,193.45349700351417,{"$f":"$O1087","v":193.45349700351417},193.45349700351417]
[null,null,null,null,null,"Non-Domestic Aggregated (Related MPAN)","MWh","LDNO LV customers"]
[null,null,null,null,null,"LV Site Specific","MWh","LDNO LV customers",null,{"$f":"CHOOSE(charging_year_selected_index, L1089,M1089,N1089,O1089,P1089,Q1089)","v":1413.3419999999999},null,842.48882400362993,1094.922,1187.5409999999999,1413.3419999999999,{"$f":"$O1089","v":1413.3419999999999},1413.3419999999999]
[null,null,null,null,null,"LV Sub Site Specific","MWh","LDNO LV customers"]
[null,null,null,null,null,"HV Site Specific","MWh","LDNO LV customers"]
[null,null,null,null,null,"Unmetered Supplies","MWh","LDNO LV customers"]
[null,null,null,null,null,"LV Generation Aggregated","MWh","LDNO LV customers"]
[null,null,null,null,null,"LV Sub Generation Aggregated","MWh","LDNO LV customers"]
[null,null,null,null,null,"LV Generation Site Specific","MWh","LDNO LV customers"]
[null,null,null,null,null,"LV Generation Site Specific no RP Charge","MWh","LDNO LV customers"]
[null,null,null,null,null,"LV Sub Generation Site Specific","MWh","LDNO LV customers"]
[null,null,null,null,null,"LV Sub Generation Site Specific no RP Charge","MWh","LDNO LV customers"]
[null,null,null,null,null,"HV Generation Site Specific","MWh","LDNO LV customers"]
[null,null,null,null,null,"HV Generation Site Specific no RP Charge","MWh","LDNO LV customers"]
[]
[null,null,null,null,"Rate 2 units"]
[null,null,null,null,null,"Domestic Aggregated or CT","MWh","LDNO LV customers"]
[null,null,null,null,null,"Domestic Aggregated (Related MPAN)","MWh","LDNO LV customers"]
[null,null,null,null,null,"Non-Domestic Aggregated or CT","MWh","LDNO LV customers",null,{"$f":"CHOOSE(charging_year_selected_index, L1105,M1105,N1105,O1105,P1105,Q1105)","v":1037.8081846777036},null,847.64193261639002,824.82480682068524,1144.3540999738732,1037.8081846777036,{"$f":"$O1105","v":1037.8081846777036},1037.8081846777036]
[null,null,null,null,null,"Non-Domestic Aggregated (Related MPAN)","MWh","LDNO LV customers"]
[null,null,null,null,null,"LV Site Specific","MWh","LDNO LV customers",null,{"$f":"CHOOSE(charging_year_selected_index, L1107,M1107,N1107,O1107,P1107,Q1107)","v":6017.7799999999988},null,3794.9815104340501,4787.7110000000002,5162.7049999999999,6017.7799999999988,{"$f":"$O1107","v":6017.7799999999988},6017.7799999999988]
[null,null,null,null,null,"LV Sub Site Specific","MWh","LDNO LV customers"]
[null,null,null,null,null,"HV Site Specific","MWh","LDNO LV customers"]
[null,null,null,null,null,"Unmetered Supplies","MWh","LDNO LV customers"]
[null,null,null,null,null,"LV Generation Aggregated","MWh","LDNO LV customers"]
[null,null,null,null,null,"LV Sub Generation Aggregated","MWh","LDNO LV customers"]
[null,null,null,null,null,"LV Generation Site Specific","MWh","LDNO LV customers"]
[null,null,null,null,null,"LV Generation Site Specific no RP Charge","MWh","LDNO LV customers"]
[null,null,null,null,null,"LV Sub Generation Site Specific","MWh","LDNO LV customers"]
[null,null,null,null,null,"LV Sub Generation Site Specific no RP Charge","MWh","LDNO LV customers"]
[null,null,null,null,null,"HV Generation Site Specific","MWh","LDNO LV customers"]
[null,null,null,null,null,"HV Generation Site Specific no RP Charge","MWh","LDNO LV customers"]
[]
[null,null,null,null,"Rate 3 units"]
[null,null,null,null,null,"Domestic Aggregated or CT","MWh","LDNO LV customers"]
[null,null,null,null,null,"Domestic Aggregated (Related MPAN)","MWh","LDNO LV customers"]
[null,null,null,null,null,"Non-Domestic Aggregated or CT","MWh","LDNO LV customers",null,{"$f":"CHOOSE(charging_year_selected_index, L1123,M1123,N1123,O1123,P1123,Q1123)","v":746.81876837538869},null,643.56936891302064,652.901635084708,874.25355261122138,746.81876837538869,{"$f":"$O1123","v":746.81876837538869},746.81876837538869]
[null,null,null,null,null,"Non-Domestic Aggregated (Related MPAN)","MWh","LDNO LV customers"]
[null,null,null,null,null,"LV Site Specific","MWh","LDNO LV customers",null,{"$f":"CHOOSE(charging_year_selected_index, L1125,M1125,N1125,O1125,P1125,Q1125)","v":5374.3689999999997},null,3385.479841914982,4540.0029999999997,4874.8559999999998,5374.3689999999997,{"$f":"$O1125","v":5374.3689999999997},5374.3689999999997]
[null,null,null,null,null,"LV Sub Site Specific","MWh","LDNO LV customers"]
[null,null,null,null,null,"HV Site Specific","MWh","LDNO LV customers"]
[null,null,null,null,null,"Unmetered Supplies","MWh","LDNO LV customers"]
[null,null,null,null,null,"LV Generation Aggregated","MWh","LDNO LV customers"]
[null,null,null,null,null,"LV Sub Generation Aggregated","MWh","LDNO LV customers"]
[null,null,null,null,null,"LV Generation Site Specific","MWh","LDNO LV customers"]
[null,null,null,null,null,"LV Generation Site Specific no RP Charge","MWh","LDNO LV customers"]
[null,null,null,null,null,"LV Sub Generation Site Specific","MWh","LDNO LV customers"]
[null,null,null,null,null,"LV Sub Generation Site Specific no RP Charge","MWh","LDNO LV customers"]
[null,null,null,null,null,"HV Generation Site Specific","MWh","LDNO LV customers"]
[null,null,null,null,null,"HV Generation Site Specific no RP Charge","MWh","LDNO LV customers"]
[]
[null,null,null,null,"MPANs"]
[null,null,null,null,null,"Domestic Aggregated or CT","MPANs","LDNO LV customers"]
[null,null,null,null,null,"Domestic Aggregated (Related MPAN)","MPANs","LDNO LV customers"]
[null,null,null,null,null,"Non-Domestic Aggregated or CT","MPANs","LDNO LV customers",null,{"$f":"CHOOSE(charging_year_selected_index, L1141,M1141,N1141,O1141,P1141,Q1141)","v":239},null,160,166,200,239,{"$f":"$O1141","v":239},239]
[null,null,null,null,null,"Non-Domestic Aggregated (Related MPAN)","MPANs","LDNO LV customers"]
[null,null,null,null,null,"LV Site Specific","MPANs","LDNO LV customers",null,{"$f":"CHOOSE(charging_year_selected_index, L1143,M1143,N1143,O1143,P1143,Q1143)","v":78},null,36,44,64,78,{"$f":"$O1143","v":78},78]
[null,null,null,null,null,"LV Sub Site Specific","MPANs","LDNO LV customers"]
[null,null,null,null,null,"HV Site Specific","MPANs","LDNO LV customers"]
[null,null,null,null,null,"Unmetered Supplies","MPANs","LDNO LV customers"]
[null,null,null,null,null,"LV Generation Aggregated","MPANs","LDNO LV customers"]
[null,null,null,null,null,"LV Sub Generation Aggregated","MPANs","LDNO LV customers"]
[null,null,null,null,null,"LV Generation Site Specific","MPANs","LDNO LV customers"]
[null,null,null,null,null,"LV Generation Site Specific no RP Charge","MPANs","LDNO LV customers"]
[null,null,null,null,null,"LV Sub Generation Site Specific","MPANs","LDNO LV customers"]
[null,null,null,null,null,"LV Sub Generation Site Specific no RP Charge","MPANs","LDNO LV customers"]
[null,null,null,null,null,"HV Generation Site Specific","MPANs","LDNO LV customers"]
[null,null,null,null,null,"HV Generation Site Specific no RP Charge","MPANs","LDNO LV customers"]
[]
[null,null,null,null,"Import capacity"]
[null,null,null,null,null,"Domestic Aggregated or CT","kVA","LDNO LV customers"]
[null,null,null,null,null,"Domestic Aggregated (Related MPAN)","kVA","LDNO LV customers"]
[null,null,null,null,null,"Non-Domestic Aggregated or CT","kVA","LDNO LV customers"]
[null,null,null,null,null,"Non-Domestic Aggregated (Related MPAN)","kVA","LDNO LV customers"]
[null,null,null,null,null,"LV Site Specific","kVA","LDNO LV customers",null,{"$f":"CHOOSE(charging_year_selected_index, L1161,M1161,N1161,O1161,P1161,Q1161)","v":14701},null,6733,8135,11919,14701,{"$f":"$O1161","v":14701},14701]
[null,null,null,null,null,"LV Sub Site Specific","kVA","LDNO LV customers"]
[null,null,null,null,null,"HV Site Specific","kVA","LDNO LV customers"]
[null,null,null,null,null,"Unmetered Supplies","kVA","LDNO LV customers"]
[null,null,null,null,null,"LV Generation Aggregated","kVA","LDNO LV customers"]
[null,null,null,null,null,"LV Sub Generation Aggregated","kVA","LDNO LV customers"]
[null,null,null,null,null,"LV Generation Site Specific","kVA","LDNO LV customers"]
[null,null,null,null,null,"LV Generation Site Specific no RP Charge","kVA","LDNO LV customers"]
[null,null,null,null,null,"LV Sub Generation Site Specific","kVA","LDNO LV customers"]
[null,null,null,null,null,"LV Sub Generation Site Specific no RP Charge","kVA","LDNO LV customers"]
[null,null,null,null,null,"HV Generation Site Specific","kVA","LDNO LV customers"]
[null,null,null,null,null,"HV Generation Site Specific no RP Charge","kVA","LDNO LV customers"]
[]
[null,null,null,null,"Exceeded capacity"]
[null,null,null,null,null,"Domestic Aggregated or CT","kVA","LDNO LV customers"]
[null,null,null,null,null,"Domestic Aggregated (Related MPAN)","kVA","LDNO LV customers"]
[null,null,null,null,null,"Non-Domestic Aggregated or CT","kVA","LDNO LV customers"]
[null,null,null,null,null,"Non-Domestic Aggregated (Related MPAN)","kVA","LDNO LV customers"]
[null,null,null,null,null,"LV Site Specific","kVA","LDNO LV customers",null,{"$f":"CHOOSE(charging_year_selected_index, L1179,M1179,N1179,O1179,P1179,Q1179)","v":27.333333333333332},null,22,0,3.6666666666666665,27.333333333333332,{"$f":"$O1179","v":27.333333333333332},27.333333333333332]
[null,null,null,null,null,"LV Sub Site Specific","kVA","LDNO LV customers"]
[null,null,null,null,null,"HV Site Specific","kVA","LDNO LV customers"]
[null,null,null,null,null,"Unmetered Supplies","kVA","LDNO LV customers"]
[null,null,null,null,null,"LV Generation Aggregated","kVA","LDNO LV customers"]
[null,null,null,null,null,"LV Sub Generation Aggregated","kVA","LDNO LV customers"]
[null,null,null,null,null,"LV Generation Site Specific","kVA","LDNO LV customers"]
[null,null,null,null,null,"LV Generation Site Specific no RP Charge","kVA","LDNO LV customers"]
[null,null,null,null,null,"LV Sub Generation Site Specific","kVA","LDNO LV customers"]
[null,null,null,null,null,"LV Sub Generation Site Specific no RP Charge","kVA","LDNO LV customers"]
[null,null,null,null,null,"HV Generation Site Specific","kVA","LDNO LV customers"]
[null,null,null,null,null,"HV Generation Site Specific no RP Charge","kVA","LDNO LV customers"]
[]
[null,null,null,null,"Reactive power units"]
[null,null,null,null,null,"Domestic Aggregated or CT","MVArh","LDNO LV customers"]
[null,null,null,null,null,"Domestic Aggregated (Related MPAN)","MVArh","LDNO LV customers"]
[null,null,null,null,null,"Non-Domestic Aggregated or CT","MVArh","LDNO LV customers"]
[null,null,null,null,null,"Non-Domestic Aggregated (Related MPAN)","MVArh","LDNO LV customers"]
[null,null,null,null,null,"LV Site Specific","MVArh","LDNO LV customers",null,{"$f":"CHOOSE(charging_year_selected_index, L1197,M1197,N1197,O1197,P1197,Q1197)","v":913.97219999999993},null,449.36799999999999,593.77800000000002,696.00400000000002,913.97219999999993,{"$f":"$O1197","v":913.97219999999993},913.97219999999993]
[null,null,null,null,null,"LV Sub Site Specific","MVArh","LDNO LV customers"]
[null,null,null,null,null,"HV Site Specific","MVArh","LDNO LV customers"]
[null,null,null,null,null,"Unmetered Supplies","MVArh","LDNO LV customers"]
[null,null,null,null,null,"LV Generation Aggregated","MVArh","LDNO LV customers"]
[null,null,null,null,null,"LV Sub Generation Aggregated","MVArh","LDNO LV customers"]
[null,null,null,null,null,"LV Generation Site Specific","MVArh","LDNO LV customers"]
[null,null,null,null,null,"LV Generation Site Specific no RP Charge","MVArh","LDNO LV customers"]
[null,null,null,null,null,"LV Sub Generation Site Specific","MVArh","LDNO LV customers"]
[null,null,null,null,null,"LV Sub Generation Site Specific no RP Charge","MVArh","LDNO LV customers"]
[null,null,null,null,null,"HV Generation Site Specific","MVArh","LDNO LV customers"]
[null,null,null,null,null,"HV Generation Site Specific no RP Charge","MVArh","LDNO LV customers"]
[]
[null,null,{"$f":"INDEX('Version control'!$H$29:$H$55,MATCH($A$1,'Version control'!$F$29:$F$55,0),1)&\"-L: LDNO LV volumes - Residual band 4\"","v":"Input 501-L: LDNO LV volumes - Residual band 4"}]
[]
[null,null,null,null,"Rate 1 units",null,null,null,">",null,null,null,null,null,null,null,null,null,"Paragraph 52"]
[null,null,null,null,null,"Domestic Aggregated or CT","MWh","LDNO LV customers"]
[null,null,null,null,null,"Domestic Aggregated (Related MPAN)","MWh","LDNO LV customers"]
[null,null,null,null,null,"Non-Domestic Aggregated or CT","MWh","LDNO LV customers",null,{"$f":"CHOOSE(charging_year_selected_index, L1215,M1215,N1215,O1215,P1215,Q1215)","v":397.88777602272353},null,274.2552933536906,257.98268154216731,338.71555682382115,397.88777602272353,{"$f":"$O1215","v":397.88777602272353},397.88777602272353]
[null,null,null,null,null,"Non-Domestic Aggregated (Related MPAN)","MWh","LDNO LV customers"]
[null,null,null,null,null,"LV Site Specific","MWh","LDNO LV customers",null,{"$f":"CHOOSE(charging_year_selected_index, L1217,M1217,N1217,O1217,P1217,Q1217)","v":664.02799999999991},null,610.7512178763875,338.16999999999996,659.73,664.02799999999991,{"$f":"$O1217","v":664.02799999999991},664.02799999999991]
[null,null,null,null,null,"LV Sub Site Specific","MWh","LDNO LV customers"]
[null,null,null,null,null,"HV Site Specific","MWh","LDNO LV customers"]
[null,null,null,null,null,"Unmetered Supplies","MWh","LDNO LV customers"]
[null,null,null,null,null,"LV Generation Aggregated","MWh","LDNO LV customers"]
[null,null,null,null,null,"LV Sub Generation Aggregated","MWh","LDNO LV customers"]
[null,null,null,null,null,"LV Generation Site Specific","MWh","LDNO LV customers"]
[null,null,null,null,null,"LV Generation Site Specific no RP Charge","MWh","LDNO LV customers"]
[null,null,null,null,null,"LV Sub Generation Site Specific","MWh","LDNO LV customers"]
[null,null,null,null,null,"LV Sub Generation Site Specific no RP Charge","MWh","LDNO LV customers"]
[null,null,null,null,null,"HV Generation Site Specific","MWh","LDNO LV customers"]
[null,null,null,null,null,"HV Generation Site Specific no RP Charge","MWh","LDNO LV customers"]
[]
[null,null,null,null,"Rate 2 units"]
[null,null,null,null,null,"Domestic Aggregated or CT","MWh","LDNO LV customers"]
[null,null,null,null,null,"Domestic Aggregated (Related MPAN)","MWh","LDNO LV customers"]
[null,null,null,null,null,"Non-Domestic Aggregated or CT","MWh","LDNO LV customers",null,{"$f":"CHOOSE(charging_year_selected_index, L1233,M1233,N1233,O1233,P1233,Q1233)","v":2109.1167127492017},null,1420.7552954721566,1331.4089514678299,1799.1216563442158,2109.1167127492017,{"$f":"$O1233","v":2109.1167127492017},2109.1167127492017]
[null,null,null,null,null,"Non-Domestic Aggregated (Related MPAN)","MWh","LDNO LV customers"]
[null,null,null,null,null,"LV Site Specific","MWh","LDNO LV customers",null,{"$f":"CHOOSE(charging_year_selected_index, L1235,M1235,N1235,O1235,P1235,Q1235)","v":2880.7309999999998},null,2751.122048481895,1509.8209999999999,2851.3150000000001,2880.7309999999998,{"$f":"$O1235","v":2880.7309999999998},2880.7309999999998]
[null,null,null,null,null,"LV Sub Site Specific","MWh","LDNO LV customers"]
[null,null,null,null,null,"HV Site Specific","MWh","LDNO LV customers"]
[null,null,null,null,null,"Unmetered Supplies","MWh","LDNO LV customers"]
[null,null,null,null,null,"LV Generation Aggregated","MWh","LDNO LV customers"]
[null,null,null,null,null,"LV Sub Generation Aggregated","MWh","LDNO LV customers"]
[null,null,null,null,null,"LV Generation Site Specific","MWh","LDNO LV customers"]
[null,null,null,null,null,"LV Generation Site Specific no RP Charge","MWh","LDNO LV customers"]
[null,null,null,null,null,"LV Sub Generation Site Specific","MWh","LDNO LV customers"]
[null,null,null,null,null,"LV Sub Generation Site Specific no RP Charge","MWh","LDNO LV customers"]
[null,null,null,null,null,"HV Generation Site Specific","MWh","LDNO LV customers"]
[null,null,null,null,null,"HV Generation Site Specific no RP Charge","MWh","LDNO LV customers"]
[]
[null,null,null,null,"Rate 3 units"]
[null,null,null,null,null,"Domestic Aggregated or CT","MWh","LDNO LV customers"]
[null,null,null,null,null,"Domestic Aggregated (Related MPAN)","MWh","LDNO LV customers"]
[null,null,null,null,null,"Non-Domestic Aggregated or CT","MWh","LDNO LV customers",null,{"$f":"CHOOSE(charging_year_selected_index, L1251,M1251,N1251,O1251,P1251,Q1251)","v":1595.177318911821},null,1078.7038178544778,1049.2257584326837,1360.0927084528357,1595.177318911821,{"$f":"$O1251","v":1595.177318911821},1595.177318911821]
[null,null,null,null,null,"Non-Domestic Aggregated (Related MPAN)","MWh","LDNO LV customers"]
[null,null,null,null,null,"LV Site Specific","MWh","LDNO LV customers",null,{"$f":"CHOOSE(charging_year_selected_index, L1253,M1253,N1253,O1253,P1253,Q1253)","v":2849.9900000000002},null,2454.2591873439815,1369.2670000000001,2948.9160000000006,2849.9900000000002,{"$f":"$O1253","v":2849.9900000000002},2849.9900000000002]
[null,null,null,null,null,"LV Sub Site Specific","MWh","LDNO LV customers"]
[null,null,null,null,null,"HV Site Specific","MWh","LDNO LV customers"]
[null,null,null,null,null,"Unmetered Supplies","MWh","LDNO LV customers"]
[null,null,null,null,null,"LV Generation Aggregated","MWh","LDNO LV customers"]
[null,null,null,null,null,"LV Sub Generation Aggregated","MWh","LDNO LV customers"]
[null,null,null,null,null,"LV Generation Site Specific","MWh","LDNO LV customers"]
[null,null,null,null,null,"LV Generation Site Specific no RP Charge","MWh","LDNO LV customers"]
[null,null,null,null,null,"LV Sub Generation Site Specific","MWh","LDNO LV customers"]
[null,null,null,null,null,"LV Sub Generation Site Specific no RP Charge","MWh","LDNO LV customers"]
[null,null,null,null,null,"HV Generation Site Specific","MWh","LDNO LV customers"]
[null,null,null,null,null,"HV Generation Site Specific no RP Charge","MWh","LDNO LV customers"]
[]
[null,null,null,null,"MPANs"]
[null,null,null,null,null,"Domestic Aggregated or CT","MPANs","LDNO LV customers"]
[null,null,null,null,null,"Domestic Aggregated (Related MPAN)","MPANs","LDNO LV customers"]
[null,null,null,null,null,"Non-Domestic Aggregated or CT","MPANs","LDNO LV customers",null,{"$f":"CHOOSE(charging_year_selected_index, L1269,M1269,N1269,O1269,P1269,Q1269)","v":181},null,87,107,150,181,{"$f":"$O1269","v":181},181]
[null,null,null,null,null,"Non-Domestic Aggregated (Related MPAN)","MPANs","LDNO LV customers"]
[null,null,null,null,null,"LV Site Specific","MPANs","LDNO LV customers",null,{"$f":"CHOOSE(charging_year_selected_index, L1271,M1271,N1271,O1271,P1271,Q1271)","v":27},null,9,17,22,27,{"$f":"$O1271","v":27},27]
[null,null,null,null,null,"LV Sub Site Specific","MPANs","LDNO LV customers"]
[null,null,null,null,null,"HV Site Specific","MPANs","LDNO LV customers"]
[null,null,null,null,null,"Unmetered Supplies","MPANs","LDNO LV customers"]
[null,null,null,null,null,"LV Generation Aggregated","MPANs","LDNO LV customers"]
[null,null,null,null,null,"LV Sub Generation Aggregated","MPANs","LDNO LV customers"]
[null,null,null,null,null,"LV Generation Site Specific","MPANs","LDNO LV customers"]
[null,null,null,null,null,"LV Generation Site Specific no RP Charge","MPANs","LDNO LV customers"]
[null,null,null,null,null,"LV Sub Generation Site Specific","MPANs","LDNO LV customers"]
[null,null,null,null,null,"LV Sub Generation Site Specific no RP Charge","MPANs","LDNO LV customers"]
[null,null,null,null,null,"HV Generation Site Specific","MPANs","LDNO LV customers"]
[null,null,null,null,null,"HV Generation Site Specific no RP Charge","MPANs","LDNO LV customers"]
[]
[null,null,null,null,"Import capacity"]
[null,null,null,null,null,"Domestic Aggregated or CT","kVA","LDNO LV customers"]
[null,null,null,null,null,"Domestic Aggregated (Related MPAN)","kVA","LDNO LV customers"]
[null,null,null,null,null,"Non-Domestic Aggregated or CT","kVA","LDNO LV customers"]
[null,null,null,null,null,"Non-Domestic Aggregated (Related MPAN)","kVA","LDNO LV customers"]
[null,null,null,null,null,"LV Site Specific","kVA","LDNO LV customers",null,{"$f":"CHOOSE(charging_year_selected_index, L1289,M1289,N1289,O1289,P1289,Q1289)","v":11229},null,4881,7497,8621,11229,{"$f":"$O1289","v":11229},11229]
[null,null,null,null,null,"LV Sub Site Specific","kVA","LDNO LV customers"]
[null,null,null,null,null,"HV Site Specific","kVA","LDNO LV customers"]
[null,null,null,null,null,"Unmetered Supplies","kVA","LDNO LV customers"]
[null,null,null,null,null,"LV Generation Aggregated","kVA","LDNO LV customers"]
[null,null,null,null,null,"LV Sub Generation Aggregated","kVA","LDNO LV customers"]
[null,null,null,null,null,"LV Generation Site Specific","kVA","LDNO LV customers"]
[null,null,null,null,null,"LV Generation Site Specific no RP Charge","kVA","LDNO LV customers"]
[null,null,null,null,null,"LV Sub Generation Site Specific","kVA","LDNO LV customers"]
[null,null,null,null,null,"LV Sub Generation Site Specific no RP Charge","kVA","LDNO LV customers"]
[null,null,null,null,null,"HV Generation Site Specific","kVA","LDNO LV customers"]
[null,null,null,null,null,"HV Generation Site Specific no RP Charge","kVA","LDNO LV customers"]
[]
[null,null,null,null,"Exceeded capacity"]
[null,null,null,null,null,"Domestic Aggregated or CT","kVA","LDNO LV customers"]
[null,null,null,null,null,"Domestic Aggregated (Related MPAN)","kVA","LDNO LV customers"]
[null,null,null,null,null,"Non-Domestic Aggregated or CT","kVA","LDNO LV customers"]
[null,null,null,null,null,"Non-Domestic Aggregated (Related MPAN)","kVA","LDNO LV customers"]
[null,null,null,null,null,"LV Site Specific","kVA","LDNO LV customers",null,{"$f":"CHOOSE(charging_year_selected_index, L1307,M1307,N1307,O1307,P1307,Q1307)","v":0},null,16,0,0,0,{"$f":"$O1307","v":0},0]
[null,null,null,null,null,"LV Sub Site Specific","kVA","LDNO LV customers"]
[null,null,null,null,null,"HV Site Specific","kVA","LDNO LV customers"]
[null,null,null,null,null,"Unmetered Supplies","kVA","LDNO LV customers"]
[null,null,null,null,null,"LV Generation Aggregated","kVA","LDNO LV customers"]
[null,null,null,null,null,"LV Sub Generation Aggregated","kVA","LDNO LV customers"]
[null,null,null,null,null,"LV Generation Site Specific","kVA","LDNO LV customers"]
[null,null,null,null,null,"LV Generation Site Specific no RP Charge","kVA","LDNO LV customers"]
[null,null,null,null,null,"LV Sub Generation Site Specific","kVA","LDNO LV customers"]
[null,null,null,null,null,"LV Sub Generation Site Specific no RP Charge","kVA","LDNO LV customers"]
[null,null,null,null,null,"HV Generation Site Specific","kVA","LDNO LV customers"]
[null,null,null,null,null,"HV Generation Site Specific no RP Charge","kVA","LDNO LV customers"]
[]
[null,null,null,null,"Reactive power units"]
[null,null,null,null,null,"Domestic Aggregated or CT","MVArh","LDNO LV customers"]
[null,null,null,null,null,"Domestic Aggregated (Related MPAN)","MVArh","LDNO LV customers"]
[null,null,null,null,null,"Non-Domestic Aggregated or CT","MVArh","LDNO LV customers"]
[null,null,null,null,null,"Non-Domestic Aggregated (Related MPAN)","MVArh","LDNO LV customers"]
[null,null,null,null,null,"LV Site Specific","MVArh","LDNO LV customers",null,{"$f":"CHOOSE(charging_year_selected_index, L1325,M1325,N1325,O1325,P1325,Q1325)","v":364.93763999999999},null,325.76400000000001,194.316,477.52,364.93763999999999,{"$f":"$O1325","v":364.93763999999999},364.93763999999999]
[null,null,null,null,null,"LV Sub Site Specific","MVArh","LDNO LV customers"]
[null,null,null,null,null,"HV Site Specific","MVArh","LDNO LV customers"]
[null,null,null,null,null,"Unmetered Supplies","MVArh","LDNO LV customers"]
[null,null,null,null,null,"LV Generation Aggregated","MVArh","LDNO LV customers"]
[null,null,null,null,null,"LV Sub Generation Aggregated","MVArh","LDNO LV customers"]
[null,null,null,null,null,"LV Generation Site Specific","MVArh","LDNO LV customers"]
[null,null,null,null,null,"LV Generation Site Specific no RP Charge","MVArh","LDNO LV customers"]
[null,null,null,null,null,"LV Sub Generation Site Specific","MVArh","LDNO LV customers"]
[null,null,null,null,null,"LV Sub Generation Site Specific no RP Charge","MVArh","LDNO LV customers"]
[null,null,null,null,null,"HV Generation Site Specific","MVArh","LDNO LV customers"]
[null,null,null,null,null,"HV Generation Site Specific no RP Charge","MVArh","LDNO LV customers"]
[]
[null,null,{"$f":"INDEX('Version control'!$H$29:$H$55,MATCH($A$1,'Version control'!$F$29:$F$55,0),1)&\"-M: LDNO HV volumes - No residual\"","v":"Input 501-M: LDNO HV volumes - No residual"}]
[]
[null,null,null,null,"Rate 1 units",null,null,null,">",null,null,null,null,null,null,null,null,null,"Paragraph 52"]
[null,null,null,null,null,"Domestic Aggregated or CT","MWh","LDNO HV customers"]
[null,null,null,null,null,"Domestic Aggregated (Related MPAN)","MWh","LDNO HV customers",null,{"$f":"CHOOSE(charging_year_selected_index, L1342,M1342,N1342,O1342,P1342,Q1342)","v":0},null,0,0,0,0,{"$f":"$O1342","v":0},0]
[null,null,null,null,null,"Non-Domestic Aggregated or CT","MWh","LDNO HV customers",null,0,null,0,0,0,0,0,0]
[null,null,null,null,null,"Non-Domestic Aggregated (Related MPAN)","MWh","LDNO HV customers",null,0,null,0,0,0,0,0,0]
[null,null,null,null,null,"LV Site Specific","MWh","LDNO HV customers",null,0,null,0,0,0,0,0,0]
[null,null,null,null,null,"LV Sub Site Specific","MWh","LDNO HV customers",null,0,null,0,0,0,0,0,0]
[null,null,null,null,null,"HV Site Specific","MWh","LDNO HV customers",null,0,null,0,0,0,0,0,0]
[null,null,null,null,null,"Unmetered Supplies","MWh","LDNO HV customers"]
[null,null,null,null,null,"LV Generation Aggregated","MWh","LDNO HV customers",null,{"$f":"CHOOSE(charging_year_selected_index, L1349,M1349,N1349,O1349,P1349,Q1349)","v":905.15075417043056},null,560.25500000000011,4185.4514724520768,677.04436591272065,905.15075417043056,{"$f":"$O1349","v":905.15075417043056},905.15075417043056]
[null,null,null,null,null,"LV Sub Generation Aggregated","MWh","LDNO HV customers",null,{"$f":"CHOOSE(charging_year_selected_index, L1350,M1350,N1350,O1350,P1350,Q1350)","v":0},null,7.944,0,0,0,0,0]
[null,null,null,null,null,"LV Generation Site Specific","MWh","LDNO HV customers",null,{"$f":"CHOOSE(charging_year_selected_index, L1351,M1351,N1351,O1351,P1351,Q1351)","v":1.3919999999999999},null,0,4.4000000000000011E-2,2.0539999999999998,1.3919999999999999,1.3919999999999999,1.3919999999999999]
[null,null,null,null,null,"LV Generation Site Specific no RP Charge","MWh","LDNO HV customers"]
[null,null,null,null,null,"LV Sub Generation Site Specific","MWh","LDNO HV customers",null,{"$f":"CHOOSE(charging_year_selected_index, L1353,M1353,N1353,O1353,P1353,Q1353)","v":0},null,0,0,0,0,{"$f":"$O1353","v":0},0]
[null,null,null,null,null,"LV Sub Generation Site Specific no RP Charge","MWh","LDNO HV customers"]
[null,null,null,null,null,"HV Generation Site Specific","MWh","LDNO HV customers",null,{"$f":"CHOOSE(charging_year_selected_index, L1355,M1355,N1355,O1355,P1355,Q1355)","v":0},null,0,0,0,0,{"$f":"$O1355","v":0},0]
[null,null,null,null,null,"HV Generation Site Specific no RP Charge","MWh","LDNO HV customers"]
[]
[null,null,null,null,"Rate 2 units"]
[null,null,null,null,null,"Domestic Aggregated or CT","MWh","LDNO HV customers"]
[null,null,null,null,null,"Domestic Aggregated (Related MPAN)","MWh","LDNO HV customers",null,{"$f":"CHOOSE(charging_year_selected_index, L1360,M1360,N1360,O1360,P1360,Q1360)","v":5.9875880158909522},null,13.045000000000002,14.669999999999998,13.277318204374547,5.9875880158909522,{"$f":"$O1360","v":5.9875880158909522},5.9875880158909522]
[null,null,null,null,null,"Non-Domestic Aggregated or CT","MWh","LDNO HV customers",null,0,null,0,0,0,0,0,0]
[null,null,null,null,null,"Non-Domestic Aggregated (Related MPAN)","MWh","LDNO HV customers",null,0,null,0,0,0,0,0,0]
[null,null,null,null,null,"LV Site Specific","MWh","LDNO HV customers",null,0,null,0,0,0,0,0,0]
[null,null,null,null,null,"LV Sub Site Specific","MWh","LDNO HV customers",null,0,null,0,0,0,0,0,0]
[null,null,null,null,null,"HV Site Specific","MWh","LDNO HV customers",null,0,null,0,0,0,0,0,0]
[null,null,null,null,null,"Unmetered Supplies","MWh","LDNO HV customers"]
[null,null,null,null,null,"LV Generation Aggregated","MWh","LDNO HV customers",null,{"$f":"CHOOSE(charging_year_selected_index, L1367,M1367,N1367,O1367,P1367,Q1367)","v":5617.9084552036666},null,2047.2030000000002,22119.511332572329,4470.4299759635787,5617.9084552036666,{"$f":"$O1367","v":5617.9084552036666},5617.9084552036666]
[null,null,null,null,null,"LV Sub Generation Aggregated","MWh","LDNO HV customers",null,{"$f":"CHOOSE(charging_year_selected_index, L1368,M1368,N1368,O1368,P1368,Q1368)","v":0},null,28.603999999999999,0,0,0,0,0]
[null,null,null,null,null,"LV Generation Site Specific","MWh","LDNO HV customers",null,{"$f":"CHOOSE(charging_year_selected_index, L1369,M1369,N1369,O1369,P1369,Q1369)","v":9.7500000000000018},null,0,0.47600000000000015,12.685999999999998,9.7500000000000018,9.7500000000000018,9.7500000000000018]
[null,null,null,null,null,"LV Generation Site Specific no RP Charge","MWh","LDNO HV customers"]
[null,null,null,null,null,"LV Sub Generation Site Specific","MWh","LDNO HV customers",null,{"$f":"CHOOSE(charging_year_selected_index, L1371,M1371,N1371,O1371,P1371,Q1371)","v":0},null,0,0,0,0,{"$f":"$O1371","v":0},0]
[null,null,null,null,null,"LV Sub Generation Site Specific no RP Charge","MWh","LDNO HV customers"]
[null,null,null,null,null,"HV Generation Site Specific","MWh","LDNO HV customers",null,{"$f":"CHOOSE(charging_year_selected_index, L1373,M1373,N1373,O1373,P1373,Q1373)","v":0},null,0,0,0,0,{"$f":"$O1373","v":0},0]
[null,null,null,null,null,"HV Generation Site Specific no RP Charge","MWh","LDNO HV customers"]
[]
[null,null,null,null,"Rate 3 units"]
[null,null,null,null,null,"Domestic Aggregated or CT","MWh","LDNO HV customers"]
[null,null,null,null,null,"Domestic Aggregated (Related MPAN)","MWh","LDNO HV customers",null,{"$f":"CHOOSE(charging_year_selected_index, L1378,M1378,N1378,O1378,P1378,Q1378)","v":100.333000048454},null,250.68800000000002,260.36899999999997,242.97473338550216,100.333000048454,{"$f":"$O1378","v":100.333000048454},100.333000048454]
[null,null,null,null,null,"Non-Domestic Aggregated or CT","MWh","LDNO HV customers",null,0,null,0,0,0,0,0,0]
[null,null,null,null,null,"Non-Domestic Aggregated (Related MPAN)","MWh","LDNO HV customers",null,0,null,0,0,0,0,0,0]
[null,null,null,null,null,"LV Site Specific","MWh","LDNO HV customers",null,0,null,0,0,0,0,0,0]
[null,null,null,null,null,"LV Sub Site Specific","MWh","LDNO HV customers",null,0,null,0,0,0,0,0,0]
[null,null,null,null,null,"HV Site Specific","MWh","LDNO HV customers",null,0,null,0,0,0,0,0,0]
[null,null,null,null,null,"Unmetered Supplies","MWh","LDNO HV customers"]
[null,null,null,null,null,"LV Generation Aggregated","MWh","LDNO HV customers",null,{"$f":"CHOOSE(charging_year_selected_index, L1385,M1385,N1385,O1385,P1385,Q1385)","v":2475.496018252958},null,914.25899999999979,9947.1981126761348,1936.065324346232,2475.496018252958,{"$f":"$O1385","v":2475.496018252958},2475.496018252958]
[null,null,null,null,null,"LV Sub Generation Aggregated","MWh","LDNO HV customers",null,{"$f":"CHOOSE(charging_year_selected_index, L1386,M1386,N1386,O1386,P1386,Q1386)","v":0},null,13.100000000000001,0,0,0,0,0]
[null,null,null,null,null,"LV Generation Site Specific","MWh","LDNO HV customers",null,{"$f":"CHOOSE(charging_year_selected_index, L1387,M1387,N1387,O1387,P1387,Q1387)","v":11.099999999999998},null,0,1.202,10.400000000000002,11.099999999999998,11.099999999999998,11.099999999999998]
[null,null,null,null,null,"LV Generation Site Specific no RP Charge","MWh","LDNO HV customers"]
[null,null,null,null,null,"LV Sub Generation Site Specific","MWh","LDNO HV customers",null,{"$f":"CHOOSE(charging_year_selected_index, L1389,M1389,N1389,O1389,P1389,Q1389)","v":0},null,0,0,0,0,{"$f":"$O1389","v":0},0]
[null,null,null,null,null,"LV Sub Generation Site Specific no RP Charge","MWh","LDNO HV customers"]
[null,null,null,null,null,"HV Generation Site Specific","MWh","LDNO HV customers",null,{"$f":"CHOOSE(charging_year_selected_index, L1391,M1391,N1391,O1391,P1391,Q1391)","v":0},null,0,0,0,0,{"$f":"$O1391","v":0},0]
[null,null,null,null,null,"HV Generation Site Specific no RP Charge","MWh","LDNO HV customers"]
[]
[null,null,null,null,"MPANs"]
[null,null,null,null,null,"Domestic Aggregated or CT","MPANs","LDNO HV customers"]
[null,null,null,null,null,"Domestic Aggregated (Related MPAN)","MPANs","LDNO HV customers",null,{"$f":"CHOOSE(charging_year_selected_index, L1396,M1396,N1396,O1396,P1396,Q1396)","v":33},null,70,70,65,33,{"$f":"$O1396","v":33},33]
[null,null,null,null,null,"Non-Domestic Aggregated or CT","MPANs","LDNO HV customers",null,0,null,0,0,0,0,0,0]
[null,null,null,null,null,"Non-Domestic Aggregated (Related MPAN)","MPANs","LDNO HV customers",null,0,null,0,0,0,0,0,0]
[null,null,null,null,null,"LV Site Specific","MPANs","LDNO HV customers",null,0,null,0,0,0,0,0,0]
[null,null,null,null,null,"LV Sub Site Specific","MPANs","LDNO HV customers",null,0,null,0,0,0,0,0,0]
[null,null,null,null,null,"HV Site Specific","MPANs","LDNO HV customers",null,0,null,0,0,0,0,0,0]
[null,null,null,null,null,"Unmetered Supplies","MPANs","LDNO HV customers"]
[null,null,null,null,null,"LV Generation Aggregated","MPANs","LDNO HV customers",null,{"$f":"CHOOSE(charging_year_selected_index, L1403,M1403,N1403,O1403,P1403,Q1403)","v":3296},null,521,1872,3296,3296,{"$f":"$O1403","v":3296},3296]
[null,null,null,null,null,"LV Sub Generation Aggregated","MPANs","LDNO HV customers",null,{"$f":"CHOOSE(charging_year_selected_index, L1404,M1404,N1404,O1404,P1404,Q1404)","v":0},null,1,0,0,0,0,0]
[null,null,null,null,null,"LV Generation Site Specific","MPANs","LDNO HV customers",null,{"$f":"CHOOSE(charging_year_selected_index, L1405,M1405,N1405,O1405,P1405,Q1405)","v":2},null,0,1,2,2,2,2]
[null,null,null,null,null,"LV Generation Site Specific no RP Charge","MPANs","LDNO HV customers"]
[null,null,null,null,null,"LV Sub Generation Site Specific","MPANs","LDNO HV customers",null,{"$f":"CHOOSE(charging_year_selected_index, L1407,M1407,N1407,O1407,P1407,Q1407)","v":0},null,0,0,0,0,{"$f":"$O1407","v":0},0]
[null,null,null,null,null,"LV Sub Generation Site Specific no RP Charge","MPANs","LDNO HV customers"]
[null,null,null,null,null,"HV Generation Site Specific","MPANs","LDNO HV customers",null,{"$f":"CHOOSE(charging_year_selected_index, L1409,M1409,N1409,O1409,P1409,Q1409)","v":0},null,0,0,0,0,{"$f":"$O1409","v":0},0]
[null,null,null,null,null,"HV Generation Site Specific no RP Charge","MPANs","LDNO HV customers"]
[]
[null,null,null,null,"Import capacity"]
[null,null,null,null,null,"Domestic Aggregated or CT","kVA","LDNO HV customers"]
[null,null,null,null,null,"Domestic Aggregated (Related MPAN)","kVA","LDNO HV customers"]
[null,null,null,null,null,"Non-Domestic Aggregated or CT","kVA","LDNO HV customers"]
[null,null,null,null,null,"Non-Domestic Aggregated (Related MPAN)","kVA","LDNO HV customers"]
[null,null,null,null,null,"LV Site Specific","kVA","LDNO HV customers",null,{"$f":"CHOOSE(charging_year_selected_index, L1417,M1417,N1417,O1417,P1417,Q1417)","v":0},null,0,0,0,0,{"$f":"$O1417","v":0},0]
[null,null,null,null,null,"LV Sub Site Specific","kVA","LDNO HV customers",null,{"$f":"CHOOSE(charging_year_selected_index, L1418,M1418,N1418,O1418,P1418,Q1418)","v":0},null,0,0,0,0,0,0]
[null,null,null,null,null,"HV Site Specific","kVA","LDNO HV customers",null,{"$f":"CHOOSE(charging_year_selected_index, L1419,M1419,N1419,O1419,P1419,Q1419)","v":0},null,0,0,0,0,0,0]
[null,null,null,null,null,"Unmetered Supplies","kVA","LDNO HV customers"]
[null,null,null,null,null,"LV Generation Aggregated","kVA","LDNO HV customers"]
[null,null,null,null,null,"LV Sub Generation Aggregated","kVA","LDNO HV customers"]
[null,null,null,null,null,"LV Generation Site Specific","kVA","LDNO HV customers"]
[null,null,null,null,null,"LV Generation Site Specific no RP Charge","kVA","LDNO HV customers"]
[null,null,null,null,null,"LV Sub Generation Site Specific","kVA","LDNO HV customers"]
[null,null,null,null,null,"LV Sub Generation Site Specific no RP Charge","kVA","LDNO HV customers"]
[null,null,null,null,null,"HV Generation Site Specific","kVA","LDNO HV customers"]
[null,null,null,null,null,"HV Generation Site Specific no RP Charge","kVA","LDNO HV customers"]
[]
[null,null,null,null,"Exceeded capacity"]
[null,null,null,null,null,"Domestic Aggregated or CT","kVA","LDNO HV customers"]
[null,null,null,null,null,"Domestic Aggregated (Related MPAN)","kVA","LDNO HV customers"]
[null,null,null,null,null,"Non-Domestic Aggregated or CT","kVA","LDNO HV customers"]
[null,null,null,null,null,"Non-Domestic Aggregated (Related MPAN)","kVA","LDNO HV customers"]
[null,null,null,null,null,"LV Site Specific","kVA","LDNO HV customers",null,{"$f":"CHOOSE(charging_year_selected_index, L1435,M1435,N1435,O1435,P1435,Q1435)","v":0},null,0,0,0,0,{"$f":"$O1435","v":0},0]
[null,null,null,null,null,"LV Sub Site Specific","kVA","LDNO HV customers",null,{"$f":"CHOOSE(charging_year_selected_index, L1436,M1436,N1436,O1436,P1436,Q1436)","v":0},null,0,0,0,0,0,0]
[null,null,null,null,null,"HV Site Specific","kVA","LDNO HV customers",null,{"$f":"CHOOSE(charging_year_selected_index, L1437,M1437,N1437,O1437,P1437,Q1437)","v":0},null,0,0,0,0,0,0]
[null,null,null,null,null,"Unmetered Supplies","kVA","LDNO HV customers"]
[null,null,null,null,null,"LV Generation Aggregated","kVA","LDNO HV customers"]
[null,null,null,null,null,"LV Sub Generation Aggregated","kVA","LDNO HV customers"]
[null,null,null,null,null,"LV Generation Site Specific","kVA","LDNO HV customers"]
[null,null,null,null,null,"LV Generation Site Specific no RP Charge","kVA","LDNO HV customers"]
[null,null,null,null,null,"LV Sub Generation Site Specific","kVA","LDNO HV customers"]
[null,null,null,null,null,"LV Sub Generation Site Specific no RP Charge","kVA","LDNO HV customers"]
[null,null,null,null,null,"HV Generation Site Specific","kVA","LDNO HV customers"]
[null,null,null,null,null,"HV Generation Site Specific no RP Charge","kVA","LDNO HV customers"]
[]
[null,null,null,null,"Reactive power units"]
[null,null,null,null,null,"Domestic Aggregated or CT","MVArh","LDNO HV customers"]
[null,null,null,null,null,"Domestic Aggregated (Related MPAN)","MVArh","LDNO HV customers"]
[null,null,null,null,null,"Non-Domestic Aggregated or CT","MVArh","LDNO HV customers"]
[null,null,null,null,null,"Non-Domestic Aggregated (Related MPAN)","MVArh","LDNO HV customers"]
[null,null,null,null,null,"LV Site Specific","MVArh","LDNO HV customers",null,{"$f":"CHOOSE(charging_year_selected_index, L1453,M1453,N1453,O1453,P1453,Q1453)","v":0},null,0,0,0,0,{"$f":"$O1453","v":0},0]
[null,null,null,null,null,"LV Sub Site Specific","MVArh","LDNO HV customers",null,{"$f":"CHOOSE(charging_year_selected_index, L1454,M1454,N1454,O1454,P1454,Q1454)","v":0},null,0,0,0,0,0,0]
[null,null,null,null,null,"HV Site Specific","MVArh","LDNO HV customers",null,{"$f":"CHOOSE(charging_year_selected_index, L1455,M1455,N1455,O1455,P1455,Q1455)","v":0},null,0,0,0,0,0,0]
[null,null,null,null,null,"Unmetered Supplies","MVArh","LDNO HV customers"]
[null,null,null,null,null,"LV Generation Aggregated","MVArh","LDNO HV customers"]
[null,null,null,null,null,"LV Sub Generation Aggregated","MVArh","LDNO HV customers"]
[null,null,null,null,null,"LV Generation Site Specific","MVArh","LDNO HV customers",null,{"$f":"CHOOSE(charging_year_selected_index, L1459,M1459,N1459,O1459,P1459,Q1459)","v":2.5190000000000001},null,0,0.41199999999999992,4.1200000000000004E-3,2.5190000000000001,{"$f":"$O1459","v":2.5190000000000001},2.5190000000000001]
[null,null,null,null,null,"LV Generation Site Specific no RP Charge","MVArh","LDNO HV customers"]
[null,null,null,null,null,"LV Sub Generation Site Specific","MVArh","LDNO HV customers",null,{"$f":"CHOOSE(charging_year_selected_index, L1461,M1461,N1461,O1461,P1461,Q1461)","v":0},null,0,0,0,0,{"$f":"$O1461","v":0},0]
[null,null,null,null,null,"LV Sub Generation Site Specific no RP Charge","MVArh","LDNO HV customers"]
[null,null,null,null,null,"HV Generation Site Specific","MVArh","LDNO HV customers",null,{"$f":"CHOOSE(charging_year_selected_index, L1463,M1463,N1463,O1463,P1463,Q1463)","v":0},null,0,0,0,0,{"$f":"$O1463","v":0},0]
[null,null,null,null,null,"HV Generation Site Specific no RP Charge","MVArh","LDNO HV customers"]
[]
[null,null,{"$f":"INDEX('Version control'!$H$29:$H$55,MATCH($A$1,'Version control'!$F$29:$F$55,0),1)&\"-N: LDNO HV volumes - Residual band 1\"","v":"Input 501-N: LDNO HV volumes - Residual band 1"}]
[]
[null,null,null,null,"Rate 1 units",null,null,null,">",null,null,null,null,null,null,null,null,null,"Paragraph 52"]
[null,null,null,null,null,"Domestic Aggregated or CT","MWh","LDNO HV customers",null,{"$f":"CHOOSE(charging_year_selected_index, L1469,M1469,N1469,O1469,P1469,Q1469)","v":37668.804468348229},null,32626.366864146377,31822.604696478476,34181.319263590092,37668.804468348229,{"$f":"$O1469","v":37668.804468348229},37668.804468348229]
[null,null,null,null,null,"Domestic Aggregated (Related MPAN)","MWh","LDNO HV customers"]
[null,null,null,null,null,"Non-Domestic Aggregated or CT","MWh","LDNO HV customers",null,{"$f":"CHOOSE(charging_year_selected_index, L1471,M1471,N1471,O1471,P1471,Q1471)","v":417.28256153537467},null,228.32699061290884,272.59767908914301,431.76902153128475,417.28256153537467,{"$f":"$O1471","v":417.28256153537467},417.28256153537467]
[null,null,null,null,null,"Non-Domestic Aggregated (Related MPAN)","MWh","LDNO HV customers"]
[null,null,null,null,null,"LV Site Specific","MWh","LDNO HV customers",null,{"$f":"CHOOSE(charging_year_selected_index, L1473,M1473,N1473,O1473,P1473,Q1473)","v":1290.8150000000001},null,730.50928978556692,1060.623,1239.0530000000001,1290.8150000000001,{"$f":"$O1473","v":1290.8150000000001},1290.8150000000001]
[null,null,null,null,null,"LV Sub Site Specific","MWh","LDNO HV customers",null,{"$f":"CHOOSE(charging_year_selected_index, L1474,M1474,N1474,O1474,P1474,Q1474)","v":0},null,0,0,0,0,0,0]
[null,null,null,null,null,"HV Site Specific","MWh","LDNO HV customers",null,{"$f":"CHOOSE(charging_year_selected_index, L1475,M1475,N1475,O1475,P1475,Q1475)","v":1021.7430000000001},null,405.92264581550916,935.44699999999989,864.59,1021.7430000000001,1021.7430000000001,1021.7430000000001]
[null,null,null,null,null,"Unmetered Supplies","MWh","LDNO HV customers",null,{"$f":"CHOOSE(charging_year_selected_index, L1476,M1476,N1476,O1476,P1476,Q1476)","v":0.61362232212232248},null,24.693411835748794,18.416884893455101,16.342011704932794,0.61362232212232248,0.61362232212232248,0.61362232212232248]
[null,null,null,null,null,"LV Generation Aggregated","MWh","LDNO HV customers"]
[null,null,null,null,null,"LV Sub Generation Aggregated","MWh","LDNO HV customers"]
[null,null,null,null,null,"LV Generation Site Specific","MWh","LDNO HV customers"]
[null,null,null,null,null,"LV Generation Site Specific no RP Charge","MWh","LDNO HV customers"]
[null,null,null,null,null,"LV Sub Generation Site Specific","MWh","LDNO HV customers"]
[null,null,null,null,null,"LV Sub Generation Site Specific no RP Charge","MWh","LDNO HV customers"]
[null,null,null,null,null,"HV Generation Site Specific","MWh","LDNO HV customers"]
[null,null,null,null,null,"HV Generation Site Specific no RP Charge","MWh","LDNO HV customers"]
[]
[null,null,null,null,"Rate 2 units"]
[null,null,null,null,null,"Domestic Aggregated or CT","MWh","LDNO HV customers",null,{"$f":"CHOOSE(charging_year_selected_index, L1487,M1487,N1487,O1487,P1487,Q1487)","v":134158.01377456856},null,111734.49537012567,112500.30860353298,122849.32144383134,134158.01377456856,{"$f":"$O1487","v":134158.01377456856},134158.01377456856]
[null,null,null,null,null,"Domestic Aggregated (Related MPAN)","MWh","LDNO HV customers"]
[null,null,null,null,null,"Non-Domestic Aggregated or CT","MWh","LDNO HV customers",null,{"$f":"CHOOSE(charging_year_selected_index, L1489,M1489,N1489,O1489,P1489,Q1489)","v":2256.0449224299396},null,1184.7621059224277,1413.8117922750191,2314.8900740357117,2256.0449224299396,{"$f":"$O1489","v":2256.0449224299396},2256.0449224299396]
[null,null,null,null,null,"Non-Domestic Aggregated (Related MPAN)","MWh","LDNO HV customers"]
[null,null,null,null,null,"LV Site Specific","MWh","LDNO HV customers",null,{"$f":"CHOOSE(charging_year_selected_index, L1491,M1491,N1491,O1491,P1491,Q1491)","v":5610.9470000000001},null,3229.4664471734022,4602.2050000000008,5286.9530000000004,5610.9470000000001,{"$f":"$O1491","v":5610.9470000000001},5610.9470000000001]
[null,null,null,null,null,"LV Sub Site Specific","MWh","LDNO HV customers",null,{"$f":"CHOOSE(charging_year_selected_index, L1492,M1492,N1492,O1492,P1492,Q1492)","v":0},null,0,0,0,0,0,0]
[null,null,null,null,null,"HV Site Specific","MWh","LDNO HV customers",null,{"$f":"CHOOSE(charging_year_selected_index, L1493,M1493,N1493,O1493,P1493,Q1493)","v":4467.5060000000003},null,1796.7110888868503,4238.0400000000009,3834.3649999999998,4467.5060000000003,4467.5060000000003,4467.5060000000003]
[null,null,null,null,null,"Unmetered Supplies","MWh","LDNO HV customers",null,{"$f":"CHOOSE(charging_year_selected_index, L1494,M1494,N1494,O1494,P1494,Q1494)","v":10.331821757458917},null,294.53399033816419,221.81066970532819,208.73402670723797,10.331821757458917,10.331821757458917,10.331821757458917]
[null,null,null,null,null,"LV Generation Aggregated","MWh","LDNO HV customers"]
[null,null,null,null,null,"LV Sub Generation Aggregated","MWh","LDNO HV customers"]
[null,null,null,null,null,"LV Generation Site Specific","MWh","LDNO HV customers"]
[null,null,null,null,null,"LV Generation Site Specific no RP Charge","MWh","LDNO HV customers"]
[null,null,null,null,null,"LV Sub Generation Site Specific","MWh","LDNO HV customers"]
[null,null,null,null,null,"LV Sub Generation Site Specific no RP Charge","MWh","LDNO HV customers"]
[null,null,null,null,null,"HV Generation Site Specific","MWh","LDNO HV customers"]
[null,null,null,null,null,"HV Generation Site Specific no RP Charge","MWh","LDNO HV customers"]
[]
[null,null,null,null,"Rate 3 units"]
[null,null,null,null,null,"Domestic Aggregated or CT","MWh","LDNO HV customers",null,{"$f":"CHOOSE(charging_year_selected_index, L1505,M1505,N1505,O1505,P1505,Q1505)","v":130925.22660729867},null,100076.82667142931,102434.88722672098,112691.76282327964,130925.22660729867,{"$f":"$O1505","v":130925.22660729867},130925.22660729867]
[null,null,null,null,null,"Domestic Aggregated (Related MPAN)","MWh","LDNO HV customers"]
[null,null,null,null,null,"Non-Domestic Aggregated or CT","MWh","LDNO HV customers",null,{"$f":"CHOOSE(charging_year_selected_index, L1507,M1507,N1507,O1507,P1507,Q1507)","v":1652.0280800118378},null,924.10191609268861,1123.3285139185232,1793.7371629709744,1652.0280800118378,{"$f":"$O1507","v":1652.0280800118378},1652.0280800118378]
[null,null,null,null,null,"Non-Domestic Aggregated (Related MPAN)","MWh","LDNO HV customers"]
[null,null,null,null,null,"LV Site Specific","MWh","LDNO HV customers",null,{"$f":"CHOOSE(charging_year_selected_index, L1509,M1509,N1509,O1509,P1509,Q1509)","v":6722.7350000000006},null,2941.2496578870246,4547.0809999999992,6175.1469999999999,6722.7350000000006,{"$f":"$O1509","v":6722.7350000000006},6722.7350000000006]
[null,null,null,null,null,"LV Sub Site Specific","MWh","LDNO HV customers",null,{"$f":"CHOOSE(charging_year_selected_index, L1510,M1510,N1510,O1510,P1510,Q1510)","v":0},null,0,0,0,0,0,0]
[null,null,null,null,null,"HV Site Specific","MWh","LDNO HV customers",null,{"$f":"CHOOSE(charging_year_selected_index, L1511,M1511,N1511,O1511,P1511,Q1511)","v":5018.8490000000002},null,2105.8513088995433,4606.8730000000014,4198.0119999999997,5018.8490000000002,5018.8490000000002,5018.8490000000002]
[null,null,null,null,null,"Unmetered Supplies","MWh","LDNO HV customers",null,{"$f":"CHOOSE(charging_year_selected_index, L1512,M1512,N1512,O1512,P1512,Q1512)","v":10.927907737515858},null,338.79760084541061,261.40423687505682,248.02737427266453,10.927907737515858,10.927907737515858,10.927907737515858]
[null,null,null,null,null,"LV Generation Aggregated","MWh","LDNO HV customers"]
[null,null,null,null,null,"LV Sub Generation Aggregated","MWh","LDNO HV customers"]
[null,null,null,null,null,"LV Generation Site Specific","MWh","LDNO HV customers"]
[null,null,null,null,null,"LV Generation Site Specific no RP Charge","MWh","LDNO HV customers"]
[null,null,null,null,null,"LV Sub Generation Site Specific","MWh","LDNO HV customers"]
[null,null,null,null,null,"LV Sub Generation Site Specific no RP Charge","MWh","LDNO HV customers"]
[null,null,null,null,null,"HV Generation Site Specific","MWh","LDNO HV customers"]
[null,null,null,null,null,"HV Generation Site Specific no RP Charge","MWh","LDNO HV customers"]
[]
[null,null,null,null,"MPANs"]
[null,null,null,null,null,"Domestic Aggregated or CT","MPANs","LDNO HV customers",null,{"$f":"CHOOSE(charging_year_selected_index, L1523,M1523,N1523,O1523,P1523,Q1523)","v":110214},null,84249.703927492461,94595,101562,110214,{"$f":"$O1523","v":110214},110214]
[null,null,null,null,null,"Domestic Aggregated (Related MPAN)","MPANs","LDNO HV customers"]
[null,null,null,null,null,"Non-Domestic Aggregated or CT","MPANs","LDNO HV customers",null,{"$f":"CHOOSE(charging_year_selected_index, L1525,M1525,N1525,O1525,P1525,Q1525)","v":1087},null,587,628,911,1087,{"$f":"$O1525","v":1087},1087]
[null,null,null,null,null,"Non-Domestic Aggregated (Related MPAN)","MPANs","LDNO HV customers"]
[null,null,null,null,null,"LV Site Specific","MPANs","LDNO HV customers",null,{"$f":"CHOOSE(charging_year_selected_index, L1527,M1527,N1527,O1527,P1527,Q1527)","v":115},null,89,91,100,115,{"$f":"$O1527","v":115},115]
[null,null,null,null,null,"LV Sub Site Specific","MPANs","LDNO HV customers",null,{"$f":"CHOOSE(charging_year_selected_index, L1528,M1528,N1528,O1528,P1528,Q1528)","v":0},null,0,0,0,0,0,0]
[null,null,null,null,null,"HV Site Specific","MPANs","LDNO HV customers",null,{"$f":"CHOOSE(charging_year_selected_index, L1529,M1529,N1529,O1529,P1529,Q1529)","v":11},null,9,9,8,11,11,11]
[null,null,null,null,null,"Unmetered Supplies","MPANs","LDNO HV customers",null,{"$f":"CHOOSE(charging_year_selected_index, L1530,M1530,N1530,O1530,P1530,Q1530)","v":0},null,71,54,77,0,0,0]
[null,null,null,null,null,"LV Generation Aggregated","MPANs","LDNO HV customers"]
[null,null,null,null,null,"LV Sub Generation Aggregated","MPANs","LDNO HV customers"]
[null,null,null,null,null,"LV Generation Site Specific","MPANs","LDNO HV customers"]
[null,null,null,null,null,"LV Generation Site Specific no RP Charge","MPANs","LDNO HV customers"]
[null,null,null,null,null,"LV Sub Generation Site Specific","MPANs","LDNO HV customers"]
[null,null,null,null,null,"LV Sub Generation Site Specific no RP Charge","MPANs","LDNO HV customers"]
[null,null,null,null,null,"HV Generation Site Specific","MPANs","LDNO HV customers"]
[null,null,null,null,null,"HV Generation Site Specific no RP Charge","MPANs","LDNO HV customers"]
[]
[null,null,null,null,"Import capacity"]
[null,null,null,null,null,"Domestic Aggregated or CT","kVA","LDNO HV customers"]
[null,null,null,null,null,"Domestic Aggregated (Related MPAN)","kVA","LDNO HV customers"]
[null,null,null,null,null,"Non-Domestic Aggregated or CT","kVA","LDNO HV customers"]
[null,null,null,null,null,"Non-Domestic Aggregated (Related MPAN)","kVA","LDNO HV customers"]
[null,null,null,null,null,"LV Site Specific","kVA","LDNO HV customers",null,{"$f":"CHOOSE(charging_year_selected_index, L1545,M1545,N1545,O1545,P1545,Q1545)","v":6780},null,4960,5141,5785,6780,{"$f":"$O1545","v":6780},6780]
[null,null,null,null,null,"LV Sub Site Specific","kVA","LDNO HV customers",null,{"$f":"CHOOSE(charging_year_selected_index, L1546,M1546,N1546,O1546,P1546,Q1546)","v":0},null,0,0,0,0,0,0]
[null,null,null,null,null,"HV Site Specific","kVA","LDNO HV customers",null,{"$f":"CHOOSE(charging_year_selected_index, L1547,M1547,N1547,O1547,P1547,Q1547)","v":3402},null,2743,2743,2543,3402,3402,3402]
[null,null,null,null,null,"Unmetered Supplies","kVA","LDNO HV customers"]
[null,null,null,null,null,"LV Generation Aggregated","kVA","LDNO HV customers"]
[null,null,null,null,null,"LV Sub Generation Aggregated","kVA","LDNO HV customers"]
[null,null,null,null,null,"LV Generation Site Specific","kVA","LDNO HV customers"]
[null,null,null,null,null,"LV Generation Site Specific no RP Charge","kVA","LDNO HV customers"]
[null,null,null,null,null,"LV Sub Generation Site Specific","kVA","LDNO HV customers"]
[null,null,null,null,null,"LV Sub Generation Site Specific no RP Charge","kVA","LDNO HV customers"]
[null,null,null,null,null,"HV Generation Site Specific","kVA","LDNO HV customers"]
[null,null,null,null,null,"HV Generation Site Specific no RP Charge","kVA","LDNO HV customers"]
[]
[null,null,null,null,"Exceeded capacity"]
[null,null,null,null,null,"Domestic Aggregated or CT","kVA","LDNO HV customers"]
[null,null,null,null,null,"Domestic Aggregated (Related MPAN)","kVA","LDNO HV customers"]
[null,null,null,null,null,"Non-Domestic Aggregated or CT","kVA","LDNO HV customers"]
[null,null,null,null,null,"Non-Domestic Aggregated (Related MPAN)","kVA","LDNO HV customers"]
[null,null,null,null,null,"LV Site Specific","kVA","LDNO HV customers",null,{"$f":"CHOOSE(charging_year_selected_index, L1563,M1563,N1563,O1563,P1563,Q1563)","v":1609.6666666666667},null,12,1552,1599,1609.6666666666667,{"$f":"$O1563","v":1609.6666666666667},1609.6666666666667]
[null,null,null,null,null,"LV Sub Site Specific","kVA","LDNO HV customers",null,{"$f":"CHOOSE(charging_year_selected_index, L1564,M1564,N1564,O1564,P1564,Q1564)","v":0},null,0,0,0,0,0,0]
[null,null,null,null,null,"HV Site Specific","kVA","LDNO HV customers",null,{"$f":"CHOOSE(charging_year_selected_index, L1565,M1565,N1565,O1565,P1565,Q1565)","v":17.666666666666668},null,12,0,13.333333333333334,17.666666666666668,17.666666666666668,17.666666666666668]
[null,null,null,null,null,"Unmetered Supplies","kVA","LDNO HV customers"]
[null,null,null,null,null,"LV Generation Aggregated","kVA","LDNO HV customers"]
[null,null,null,null,null,"LV Sub Generation Aggregated","kVA","LDNO HV customers"]
[null,null,null,null,null,"LV Generation Site Specific","kVA","LDNO HV customers"]
[null,null,null,null,null,"LV Generation Site Specific no RP Charge","kVA","LDNO HV customers"]
[null,null,null,null,null,"LV Sub Generation Site Specific","kVA","LDNO HV customers"]
[null,null,null,null,null,"LV Sub Generation Site Specific no RP Charge","kVA","LDNO HV customers"]
[null,null,null,null,null,"HV Generation Site Specific","kVA","LDNO HV customers"]
[null,null,null,null,null,"HV Generation Site Specific no RP Charge","kVA","LDNO HV customers"]
[]
[null,null,null,null,"Reactive power units"]
[null,null,null,null,null,"Domestic Aggregated or CT","MVArh","LDNO HV customers"]
[null,null,null,null,null,"Domestic Aggregated (Related MPAN)","MVArh","LDNO HV customers"]
[null,null,null,null,null,"Non-Domestic Aggregated or CT","MVArh","LDNO HV customers"]
[null,null,null,null,null,"Non-Domestic Aggregated (Related MPAN)","MVArh","LDNO HV customers"]
[null,null,null,null,null,"LV Site Specific","MVArh","LDNO HV customers",null,{"$f":"CHOOSE(charging_year_selected_index, L1581,M1581,N1581,O1581,P1581,Q1581)","v":613.08291999999994},null,335.12900000000002,863.53200000000004,750.22,613.08291999999994,{"$f":"$O1581","v":613.08291999999994},613.08291999999994]
[null,null,null,null,null,"LV Sub Site Specific","MVArh","LDNO HV customers",null,{"$f":"CHOOSE(charging_year_selected_index, L1582,M1582,N1582,O1582,P1582,Q1582)","v":0},null,0,0,0,0,0,0]
[null,null,null,null,null,"HV Site Specific","MVArh","LDNO HV customers",null,{"$f":"CHOOSE(charging_year_selected_index, L1583,M1583,N1583,O1583,P1583,Q1583)","v":968.48800000000006},null,139.03299999999999,836.62400000000002,830.29600000000005,968.48800000000006,968.48800000000006,968.48800000000006]
[null,null,null,null,null,"Unmetered Supplies","MVArh","LDNO HV customers"]
[null,null,null,null,null,"LV Generation Aggregated","MVArh","LDNO HV customers"]
[null,null,null,null,null,"LV Sub Generation Aggregated","MVArh","LDNO HV customers"]
[null,null,null,null,null,"LV Generation Site Specific","MVArh","LDNO HV customers"]
[null,null,null,null,null,"LV Generation Site Specific no RP Charge","MVArh","LDNO HV customers"]
[null,null,null,null,null,"LV Sub Generation Site Specific","MVArh","LDNO HV customers"]
[null,null,null,null,null,"LV Sub Generation Site Specific no RP Charge","MVArh","LDNO HV customers"]
[null,null,null,null,null,"HV Generation Site Specific","MVArh","LDNO HV customers"]
[null,null,null,null,null,"HV Generation Site Specific no RP Charge","MVArh","LDNO HV customers"]
[]
[null,null,{"$f":"INDEX('Version control'!$H$29:$H$55,MATCH($A$1,'Version control'!$F$29:$F$55,0),1)&\"-O: LDNO HV volumes - Residual band 2\"","v":"Input 501-O: LDNO HV volumes - Residual band 2"}]
[]
[null,null,null,null,"Rate 1 units",null,null,null,">",null,null,null,null,null,null,null,null,null,"Paragraph 52"]
[null,null,null,null,null,"Domestic Aggregated or CT","MWh","LDNO HV customers"]
[null,null,null,null,null,"Domestic Aggregated (Related MPAN)","MWh","LDNO HV customers"]
[null,null,null,null,null,"Non-Domestic Aggregated or CT","MWh","LDNO HV customers",null,{"$f":"CHOOSE(charging_year_selected_index, L1599,M1599,N1599,O1599,P1599,Q1599)","v":499.93810010868759},null,359.61296770970398,376.95201120233037,543.35109457586486,499.93810010868759,{"$f":"$O1599","v":499.93810010868759},499.93810010868759]
[null,null,null,null,null,"Non-Domestic Aggregated (Related MPAN)","MWh","LDNO HV customers"]
[null,null,null,null,null,"LV Site Specific","MWh","LDNO HV customers",null,{"$f":"CHOOSE(charging_year_selected_index, L1601,M1601,N1601,O1601,P1601,Q1601)","v":2907.3960000000002},null,2384.6120788141361,2639.4720000000002,2861.25,2907.3960000000002,{"$f":"$O1601","v":2907.3960000000002},2907.3960000000002]
[null,null,null,null,null,"LV Sub Site Specific","MWh","LDNO HV customers",null,{"$f":"CHOOSE(charging_year_selected_index, L1602,M1602,N1602,O1602,P1602,Q1602)","v":131.60499999999999},null,49.851444293283741,116.745,137.29400000000001,131.60499999999999,131.60499999999999,131.60499999999999]
[null,null,null,null,null,"HV Site Specific","MWh","LDNO HV customers",null,{"$f":"CHOOSE(charging_year_selected_index, L1603,M1603,N1603,O1603,P1603,Q1603)","v":1614.0330000000001},null,546.80429321484007,1159.1999999999998,1485.2960000000003,1614.0330000000001,1614.0330000000001,1614.0330000000001]
[null,null,null,null,null,"Unmetered Supplies","MWh","LDNO HV customers"]
[null,null,null,null,null,"LV Generation Aggregated","MWh","LDNO HV customers"]
[null,null,null,null,null,"LV Sub Generation Aggregated","MWh","LDNO HV customers"]
[null,null,null,null,null,"LV Generation Site Specific","MWh","LDNO HV customers"]
[null,null,null,null,null,"LV Generation Site Specific no RP Charge","MWh","LDNO HV customers"]
[null,null,null,null,null,"LV Sub Generation Site Specific","MWh","LDNO HV customers"]
[null,null,null,null,null,"LV Sub Generation Site Specific no RP Charge","MWh","LDNO HV customers"]
[null,null,null,null,null,"HV Generation Site Specific","MWh","LDNO HV customers"]
[null,null,null,null,null,"HV Generation Site Specific no RP Charge","MWh","LDNO HV customers"]
[]
[null,null,null,null,"Rate 2 units"]
[null,null,null,null,null,"Domestic Aggregated or CT","MWh","LDNO HV customers"]
[null,null,null,null,null,"Domestic Aggregated (Related MPAN)","MWh","LDNO HV customers"]
[null,null,null,null,null,"Non-Domestic Aggregated or CT","MWh","LDNO HV customers",null,{"$f":"CHOOSE(charging_year_selected_index, L1617,M1617,N1617,O1617,P1617,Q1617)","v":2675.2319858336336},null,1865.9897185045068,1952.3763872739405,2892.9092419879648,2675.2319858336336,{"$f":"$O1617","v":2675.2319858336336},2675.2319858336336]
[null,null,null,null,null,"Non-Domestic Aggregated (Related MPAN)","MWh","LDNO HV customers"]
[null,null,null,null,null,"LV Site Specific","MWh","LDNO HV customers",null,{"$f":"CHOOSE(charging_year_selected_index, L1619,M1619,N1619,O1619,P1619,Q1619)","v":12448.427999999998},null,10541.994202859791,11199.531000000001,12218.749999999998,12448.427999999998,{"$f":"$O1619","v":12448.427999999998},12448.427999999998]
[null,null,null,null,null,"LV Sub Site Specific","MWh","LDNO HV customers",null,{"$f":"CHOOSE(charging_year_selected_index, L1620,M1620,N1620,O1620,P1620,Q1620)","v":535.16899999999998},null,227.46351702797563,484.83300000000008,557.04300000000012,535.16899999999998,535.16899999999998,535.16899999999998]
[null,null,null,null,null,"HV Site Specific","MWh","LDNO HV customers",null,{"$f":"CHOOSE(charging_year_selected_index, L1621,M1621,N1621,O1621,P1621,Q1621)","v":6862.0569999999998},null,2420.2870847382105,5012.5640000000003,6265.7320000000009,6862.0569999999998,6862.0569999999998,6862.0569999999998]
[null,null,null,null,null,"Unmetered Supplies","MWh","LDNO HV customers"]
[null,null,null,null,null,"LV Generation Aggregated","MWh","LDNO HV customers"]
[null,null,null,null,null,"LV Sub Generation Aggregated","MWh","LDNO HV customers"]
[null,null,null,null,null,"LV Generation Site Specific","MWh","LDNO HV customers"]
[null,null,null,null,null,"LV Generation Site Specific no RP Charge","MWh","LDNO HV customers"]
[null,null,null,null,null,"LV Sub Generation Site Specific","MWh","LDNO HV customers"]
[null,null,null,null,null,"LV Sub Generation Site Specific no RP Charge","MWh","LDNO HV customers"]
[null,null,null,null,null,"HV Generation Site Specific","MWh","LDNO HV customers"]
[null,null,null,null,null,"HV Generation Site Specific no RP Charge","MWh","LDNO HV customers"]
[]
[null,null,null,null,"Rate 3 units"]
[null,null,null,null,null,"Domestic Aggregated or CT","MWh","LDNO HV customers"]
[null,null,null,null,null,"Domestic Aggregated (Related MPAN)","MWh","LDNO HV customers"]
[null,null,null,null,null,"Non-Domestic Aggregated or CT","MWh","LDNO HV customers",null,{"$f":"CHOOSE(charging_year_selected_index, L1635,M1635,N1635,O1635,P1635,Q1635)","v":1923.2661061466847},null,1455.4522512658536,1536.2863492087945,2224.1854449735756,1923.2661061466847,{"$f":"$O1635","v":1923.2661061466847},1923.2661061466847]
[null,null,null,null,null,"Non-Domestic Aggregated (Related MPAN)","MWh","LDNO HV customers"]
[null,null,null,null,null,"LV Site Specific","MWh","LDNO HV customers",null,{"$f":"CHOOSE(charging_year_selected_index, L1637,M1637,N1637,O1637,P1637,Q1637)","v":10760.525000000001},null,9601.1639538001637,9443.5720000000001,10352.953,10760.525000000001,{"$f":"$O1637","v":10760.525000000001},10760.525000000001]
[null,null,null,null,null,"LV Sub Site Specific","MWh","LDNO HV customers",null,{"$f":"CHOOSE(charging_year_selected_index, L1638,M1638,N1638,O1638,P1638,Q1638)","v":558.27299999999991},null,208.87225658450117,504.34399999999999,580.73,558.27299999999991,558.27299999999991,558.27299999999991]
[null,null,null,null,null,"HV Site Specific","MWh","LDNO HV customers",null,{"$f":"CHOOSE(charging_year_selected_index, L1639,M1639,N1639,O1639,P1639,Q1639)","v":7223.697000000001},null,2836.719134664168,5478.5059999999994,6814.5559999999996,7223.697000000001,7223.697000000001,7223.697000000001]
[null,null,null,null,null,"Unmetered Supplies","MWh","LDNO HV customers"]
[null,null,null,null,null,"LV Generation Aggregated","MWh","LDNO HV customers"]
[null,null,null,null,null,"LV Sub Generation Aggregated","MWh","LDNO HV customers"]
[null,null,null,null,null,"LV Generation Site Specific","MWh","LDNO HV customers"]
[null,null,null,null,null,"LV Generation Site Specific no RP Charge","MWh","LDNO HV customers"]
[null,null,null,null,null,"LV Sub Generation Site Specific","MWh","LDNO HV customers"]
[null,null,null,null,null,"LV Sub Generation Site Specific no RP Charge","MWh","LDNO HV customers"]
[null,null,null,null,null,"HV Generation Site Specific","MWh","LDNO HV customers"]
[null,null,null,null,null,"HV Generation Site Specific no RP Charge","MWh","LDNO HV customers"]
[]
[null,null,null,null,"MPANs"]
[null,null,null,null,null,"Domestic Aggregated or CT","MPANs","LDNO HV customers"]
[null,null,null,null,null,"Domestic Aggregated (Related MPAN)","MPANs","LDNO HV customers"]
[null,null,null,null,null,"Non-Domestic Aggregated or CT","MPANs","LDNO HV customers",null,{"$f":"CHOOSE(charging_year_selected_index, L1653,M1653,N1653,O1653,P1653,Q1653)","v":722},null,497,534,659,722,{"$f":"$O1653","v":722},722]
[null,null,null,null,null,"Non-Domestic Aggregated (Related MPAN)","MPANs","LDNO HV customers"]
[null,null,null,null,null,"LV Site Specific","MPANs","LDNO HV customers",null,{"$f":"CHOOSE(charging_year_selected_index, L1655,M1655,N1655,O1655,P1655,Q1655)","v":175},null,140,157,167,175,{"$f":"$O1655","v":175},175]
[null,null,null,null,null,"LV Sub Site Specific","MPANs","LDNO HV customers",null,{"$f":"CHOOSE(charging_year_selected_index, L1656,M1656,N1656,O1656,P1656,Q1656)","v":4},null,3,3,4,4,4,4]
[null,null,null,null,null,"HV Site Specific","MPANs","LDNO HV customers",null,{"$f":"CHOOSE(charging_year_selected_index, L1657,M1657,N1657,O1657,P1657,Q1657)","v":11},null,6,6,8,11,11,11]
[null,null,null,null,null,"Unmetered Supplies","MPANs","LDNO HV customers"]
[null,null,null,null,null,"LV Generation Aggregated","MPANs","LDNO HV customers"]
[null,null,null,null,null,"LV Sub Generation Aggregated","MPANs","LDNO HV customers"]
[null,null,null,null,null,"LV Generation Site Specific","MPANs","LDNO HV customers"]
[null,null,null,null,null,"LV Generation Site Specific no RP Charge","MPANs","LDNO HV customers"]
[null,null,null,null,null,"LV Sub Generation Site Specific","MPANs","LDNO HV customers"]
[null,null,null,null,null,"LV Sub Generation Site Specific no RP Charge","MPANs","LDNO HV customers"]
[null,null,null,null,null,"HV Generation Site Specific","MPANs","LDNO HV customers"]
[null,null,null,null,null,"HV Generation Site Specific no RP Charge","MPANs","LDNO HV customers"]
[]
[null,null,null,null,"Import capacity"]
[null,null,null,null,null,"Domestic Aggregated or CT","kVA","LDNO HV customers"]
[null,null,null,null,null,"Domestic Aggregated (Related MPAN)","kVA","LDNO HV customers"]
[null,null,null,null,null,"Non-Domestic Aggregated or CT","kVA","LDNO HV customers"]
[null,null,null,null,null,"Non-Domestic Aggregated (Related MPAN)","kVA","LDNO HV customers"]
[null,null,null,null,null,"LV Site Specific","kVA","LDNO HV customers",null,{"$f":"CHOOSE(charging_year_selected_index, L1673,M1673,N1673,O1673,P1673,Q1673)","v":20249},null,16191,18185,19522,20249,{"$f":"$O1673","v":20249},20249]
[null,null,null,null,null,"LV Sub Site Specific","kVA","LDNO HV customers",null,{"$f":"CHOOSE(charging_year_selected_index, L1674,M1674,N1674,O1674,P1674,Q1674)","v":447},null,327,327,457,447,447,447]
[null,null,null,null,null,"HV Site Specific","kVA","LDNO HV customers",null,{"$f":"CHOOSE(charging_year_selected_index, L1675,M1675,N1675,O1675,P1675,Q1675)","v":7820},null,3695,3695,5321,7820,7820,7820]
[null,null,null,null,null,"Unmetered Supplies","kVA","LDNO HV customers"]
[null,null,null,null,null,"LV Generation Aggregated","kVA","LDNO HV customers"]
[null,null,null,null,null,"LV Sub Generation Aggregated","kVA","LDNO HV customers"]
[null,null,null,null,null,"LV Generation Site Specific","kVA","LDNO HV customers"]
[null,null,null,null,null,"LV Generation Site Specific no RP Charge","kVA","LDNO HV customers"]
[null,null,null,null,null,"LV Sub Generation Site Specific","kVA","LDNO HV customers"]
[null,null,null,null,null,"LV Sub Generation Site Specific no RP Charge","kVA","LDNO HV customers"]
[null,null,null,null,null,"HV Generation Site Specific","kVA","LDNO HV customers"]
[null,null,null,null,null,"HV Generation Site Specific no RP Charge","kVA","LDNO HV customers"]
[]
[null,null,null,null,"Exceeded capacity"]
[null,null,null,null,null,"Domestic Aggregated or CT","kVA","LDNO HV customers"]
[null,null,null,null,null,"Domestic Aggregated (Related MPAN)","kVA","LDNO HV customers"]
[null,null,null,null,null,"Non-Domestic Aggregated or CT","kVA","LDNO HV customers"]
[null,null,null,null,null,"Non-Domestic Aggregated (Related MPAN)","kVA","LDNO HV customers"]
[null,null,null,null,null,"LV Site Specific","kVA","LDNO HV customers",null,{"$f":"CHOOSE(charging_year_selected_index, L1691,M1691,N1691,O1691,P1691,Q1691)","v":10.666666666666666},null,39,8,18.666666666666668,10.666666666666666,{"$f":"$O1691","v":10.666666666666666},10.666666666666666]
[null,null,null,null,null,"LV Sub Site Specific","kVA","LDNO HV customers",null,{"$f":"CHOOSE(charging_year_selected_index, L1692,M1692,N1692,O1692,P1692,Q1692)","v":0},null,0,0,0,0,0,0]
[null,null,null,null,null,"HV Site Specific","kVA","LDNO HV customers",null,{"$f":"CHOOSE(charging_year_selected_index, L1693,M1693,N1693,O1693,P1693,Q1693)","v":340.33333333333331},null,17,241,415,340.33333333333331,340.33333333333331,340.33333333333331]
[null,null,null,null,null,"Unmetered Supplies","kVA","LDNO HV customers"]
[null,null,null,null,null,"LV Generation Aggregated","kVA","LDNO HV customers"]
[null,null,null,null,null,"LV Sub Generation Aggregated","kVA","LDNO HV customers"]
[null,null,null,null,null,"LV Generation Site Specific","kVA","LDNO HV customers"]
[null,null,null,null,null,"LV Generation Site Specific no RP Charge","kVA","LDNO HV customers"]
[null,null,null,null,null,"LV Sub Generation Site Specific","kVA","LDNO HV customers"]
[null,null,null,null,null,"LV Sub Generation Site Specific no RP Charge","kVA","LDNO HV customers"]
[null,null,null,null,null,"HV Generation Site Specific","kVA","LDNO HV customers"]
[null,null,null,null,null,"HV Generation Site Specific no RP Charge","kVA","LDNO HV customers"]
[]
[null,null,null,null,"Reactive power units"]
[null,null,null,null,null,"Domestic Aggregated or CT","MVArh","LDNO HV customers"]
[null,null,null,null,null,"Domestic Aggregated (Related MPAN)","MVArh","LDNO HV customers"]
[null,null,null,null,null,"Non-Domestic Aggregated or CT","MVArh","LDNO HV customers"]
[null,null,null,null,null,"Non-Domestic Aggregated (Related MPAN)","MVArh","LDNO HV customers"]
[null,null,null,null,null,"LV Site Specific","MVArh","LDNO HV customers",null,{"$f":"CHOOSE(charging_year_selected_index, L1709,M1709,N1709,O1709,P1709,Q1709)","v":1514.06098},null,1093.9659999999999,1035.95,1007.2619999999999,1514.06098,{"$f":"$O1709","v":1514.06098},1514.06098]
[null,null,null,null,null,"LV Sub Site Specific","MVArh","LDNO HV customers",null,{"$f":"CHOOSE(charging_year_selected_index, L1710,M1710,N1710,O1710,P1710,Q1710)","v":19.510000000000002},null,26.922000000000001,20.306000000000001,24.792000000000002,19.510000000000002,19.510000000000002,19.510000000000002]
[null,null,null,null,null,"HV Site Specific","MVArh","LDNO HV customers",null,{"$f":"CHOOSE(charging_year_selected_index, L1711,M1711,N1711,O1711,P1711,Q1711)","v":265.79844000000003},null,187.28700000000001,0.19400000000000001,606.5,265.79844000000003,265.79844000000003,265.79844000000003]
[null,null,null,null,null,"Unmetered Supplies","MVArh","LDNO HV customers"]
[null,null,null,null,null,"LV Generation Aggregated","MVArh","LDNO HV customers"]
[null,null,null,null,null,"LV Sub Generation Aggregated","MVArh","LDNO HV customers"]
[null,null,null,null,null,"LV Generation Site Specific","MVArh","LDNO HV customers"]
[null,null,null,null,null,"LV Generation Site Specific no RP Charge","MVArh","LDNO HV customers"]
[null,null,null,null,null,"LV Sub Generation Site Specific","MVArh","LDNO HV customers"]
[null,null,null,null,null,"LV Sub Generation Site Specific no RP Charge","MVArh","LDNO HV customers"]
[null,null,null,null,null,"HV Generation Site Specific","MVArh","LDNO HV customers"]
[null,null,null,null,null,"HV Generation Site Specific no RP Charge","MVArh","LDNO HV customers"]
[]
[null,null,{"$f":"INDEX('Version control'!$H$29:$H$55,MATCH($A$1,'Version control'!$F$29:$F$55,0),1)&\"-P: LDNO HV volumes - Residual band 3\"","v":"Input 501-P: LDNO HV volumes - Residual band 3"}]
[]
[null,null,null,null,"Rate 1 units",null,null,null,">",null,null,null,null,null,null,null,null,null,"Paragraph 52"]
[null,null,null,null,null,"Domestic Aggregated or CT","MWh","LDNO HV customers"]
[null,null,null,null,null,"Domestic Aggregated (Related MPAN)","MWh","LDNO HV customers"]
[null,null,null,null,null,"Non-Domestic Aggregated or CT","MWh","LDNO HV customers",null,{"$f":"CHOOSE(charging_year_selected_index, L1727,M1727,N1727,O1727,P1727,Q1727)","v":532.59682027534109},null,568.53660376461573,551.49287055389118,560.23641014447321,532.59682027534109,{"$f":"$O1727","v":532.59682027534109},532.59682027534109]
[null,null,null,null,null,"Non-Domestic Aggregated (Related MPAN)","MWh","LDNO HV customers"]
[null,null,null,null,null,"LV Site Specific","MWh","LDNO HV customers",null,{"$f":"CHOOSE(charging_year_selected_index, L1729,M1729,N1729,O1729,P1729,Q1729)","v":3254.9690000000001},null,2728.2165491910973,3418.0200000000004,3381.081000000001,3254.9690000000001,{"$f":"$O1729","v":3254.9690000000001},3254.9690000000001]
[null,null,null,null,null,"LV Sub Site Specific","MWh","LDNO HV customers",null,{"$f":"CHOOSE(charging_year_selected_index, L1730,M1730,N1730,O1730,P1730,Q1730)","v":130.94299999999998},null,34.301452495378719,49.131,120.334,130.94299999999998,130.94299999999998,130.94299999999998]
[null,null,null,null,null,"HV Site Specific","MWh","LDNO HV customers",null,{"$f":"CHOOSE(charging_year_selected_index, L1731,M1731,N1731,O1731,P1731,Q1731)","v":1108.5050000000001},null,1687.0281306222398,1527.7200000000003,1233.6780000000001,1108.5050000000001,1108.5050000000001,1108.5050000000001]
[null,null,null,null,null,"Unmetered Supplies","MWh","LDNO HV customers"]
[null,null,null,null,null,"LV Generation Aggregated","MWh","LDNO HV customers"]
[null,null,null,null,null,"LV Sub Generation Aggregated","MWh","LDNO HV customers"]
[null,null,null,null,null,"LV Generation Site Specific","MWh","LDNO HV customers"]
[null,null,null,null,null,"LV Generation Site Specific no RP Charge","MWh","LDNO HV customers"]
[null,null,null,null,null,"LV Sub Generation Site Specific","MWh","LDNO HV customers"]
[null,null,null,null,null,"LV Sub Generation Site Specific no RP Charge","MWh","LDNO HV customers"]
[null,null,null,null,null,"HV Generation Site Specific","MWh","LDNO HV customers"]
[null,null,null,null,null,"HV Generation Site Specific no RP Charge","MWh","LDNO HV customers"]
[]
[null,null,null,null,"Rate 2 units"]
[null,null,null,null,null,"Domestic Aggregated or CT","MWh","LDNO HV customers"]
[null,null,null,null,null,"Domestic Aggregated (Related MPAN)","MWh","LDNO HV customers"]
[null,null,null,null,null,"Non-Domestic Aggregated or CT","MWh","LDNO HV customers",null,{"$f":"CHOOSE(charging_year_selected_index, L1745,M1745,N1745,O1745,P1745,Q1745)","v":2863.5206820137428},null,2950.0700822186059,2847.8755443340997,2975.3956958645326,2863.5206820137428,{"$f":"$O1745","v":2863.5206820137428},2863.5206820137428]
[null,null,null,null,null,"Non-Domestic Aggregated (Related MPAN)","MWh","LDNO HV customers"]
[null,null,null,null,null,"LV Site Specific","MWh","LDNO HV customers",null,{"$f":"CHOOSE(charging_year_selected_index, L1747,M1747,N1747,O1747,P1747,Q1747)","v":14277.290999999997},null,12061.015416822602,14756.190999999999,14783.675000000001,14277.290999999997,{"$f":"$O1747","v":14277.290999999997},14277.290999999997]
[null,null,null,null,null,"LV Sub Site Specific","MWh","LDNO HV customers",null,{"$f":"CHOOSE(charging_year_selected_index, L1748,M1748,N1748,O1748,P1748,Q1748)","v":572.56700000000001},null,156.51159428530434,219.785,493.69500000000005,572.56700000000001,572.56700000000001,572.56700000000001]
[null,null,null,null,null,"HV Site Specific","MWh","LDNO HV customers",null,{"$f":"CHOOSE(charging_year_selected_index, L1749,M1749,N1749,O1749,P1749,Q1749)","v":4990.7900000000009},null,7467.1915469595669,6786.5599999999995,5633.3829999999998,4990.7900000000009,4990.7900000000009,4990.7900000000009]
[null,null,null,null,null,"Unmetered Supplies","MWh","LDNO HV customers"]
[null,null,null,null,null,"LV Generation Aggregated","MWh","LDNO HV customers"]
[null,null,null,null,null,"LV Sub Generation Aggregated","MWh","LDNO HV customers"]
[null,null,null,null,null,"LV Generation Site Specific","MWh","LDNO HV customers"]
[null,null,null,null,null,"LV Generation Site Specific no RP Charge","MWh","LDNO HV customers"]
[null,null,null,null,null,"LV Sub Generation Site Specific","MWh","LDNO HV customers"]
[null,null,null,null,null,"LV Sub Generation Site Specific no RP Charge","MWh","LDNO HV customers"]
[null,null,null,null,null,"HV Generation Site Specific","MWh","LDNO HV customers"]
[null,null,null,null,null,"HV Generation Site Specific no RP Charge","MWh","LDNO HV customers"]
[]
[null,null,null,null,"Rate 3 units"]
[null,null,null,null,null,"Domestic Aggregated or CT","MWh","LDNO HV customers"]
[null,null,null,null,null,"Domestic Aggregated (Related MPAN)","MWh","LDNO HV customers"]
[null,null,null,null,null,"Non-Domestic Aggregated or CT","MWh","LDNO HV customers",null,{"$f":"CHOOSE(charging_year_selected_index, L1763,M1763,N1763,O1763,P1763,Q1763)","v":2148.839699374063},null,2301.0234729472559,2278.9945095773928,2316.779243915767,2148.839699374063,{"$f":"$O1763","v":2148.839699374063},2148.839699374063]
[null,null,null,null,null,"Non-Domestic Aggregated (Related MPAN)","MWh","LDNO HV customers"]
[null,null,null,null,null,"LV Site Specific","MWh","LDNO HV customers",null,{"$f":"CHOOSE(charging_year_selected_index, L1765,M1765,N1765,O1765,P1765,Q1765)","v":13615.569000000001},null,10984.618681995815,13669.217000000001,14042.392999999998,13615.569000000001,{"$f":"$O1765","v":13615.569000000001},13615.569000000001]
[null,null,null,null,null,"LV Sub Site Specific","MWh","LDNO HV customers",null,{"$f":"CHOOSE(charging_year_selected_index, L1766,M1766,N1766,O1766,P1766,Q1766)","v":519.61299999999983},null,143.71944260401457,257.81100000000004,479.16200000000003,519.61299999999983,519.61299999999983,519.61299999999983]
[null,null,null,null,null,"HV Site Specific","MWh","LDNO HV customers",null,{"$f":"CHOOSE(charging_year_selected_index, L1767,M1767,N1767,O1767,P1767,Q1767)","v":6762.5339999999987},null,8751.988669870505,8352.4259999999995,7342.3560000000007,6762.5339999999987,6762.5339999999987,6762.5339999999987]
[null,null,null,null,null,"Unmetered Supplies","MWh","LDNO HV customers"]
[null,null,null,null,null,"LV Generation Aggregated","MWh","LDNO HV customers"]
[null,null,null,null,null,"LV Sub Generation Aggregated","MWh","LDNO HV customers"]
[null,null,null,null,null,"LV Generation Site Specific","MWh","LDNO HV customers"]
[null,null,null,null,null,"LV Generation Site Specific no RP Charge","MWh","LDNO HV customers"]
[null,null,null,null,null,"LV Sub Generation Site Specific","MWh","LDNO HV customers"]
[null,null,null,null,null,"LV Sub Generation Site Specific no RP Charge","MWh","LDNO HV customers"]
[null,null,null,null,null,"HV Generation Site Specific","MWh","LDNO HV customers"]
[null,null,null,null,null,"HV Generation Site Specific no RP Charge","MWh","LDNO HV customers"]
[]
[null,null,null,null,"MPANs"]
[null,null,null,null,null,"Domestic Aggregated or CT","MPANs","LDNO HV customers"]
[null,null,null,null,null,"Domestic Aggregated (Related MPAN)","MPANs","LDNO HV customers"]
[null,null,null,null,null,"Non-Domestic Aggregated or CT","MPANs","LDNO HV customers",null,{"$f":"CHOOSE(charging_year_selected_index, L1781,M1781,N1781,O1781,P1781,Q1781)","v":450},null,350,369,377,450,{"$f":"$O1781","v":450},450]
[null,null,null,null,null,"Non-Domestic Aggregated (Related MPAN)","MPANs","LDNO HV customers"]
[null,null,null,null,null,"LV Site Specific","MPANs","LDNO HV customers",null,{"$f":"CHOOSE(charging_year_selected_index, L1783,M1783,N1783,O1783,P1783,Q1783)","v":117},null,100,106,111,117,{"$f":"$O1783","v":117},117]
[null,null,null,null,null,"LV Sub Site Specific","MPANs","LDNO HV customers",null,{"$f":"CHOOSE(charging_year_selected_index, L1784,M1784,N1784,O1784,P1784,Q1784)","v":3},null,1,1,2,3,3,3]
[null,null,null,null,null,"HV Site Specific","MPANs","LDNO HV customers",null,{"$f":"CHOOSE(charging_year_selected_index, L1785,M1785,N1785,O1785,P1785,Q1785)","v":6},null,8,7,6,6,6,6]
[null,null,null,null,null,"Unmetered Supplies","MPANs","LDNO HV customers"]
[null,null,null,null,null,"LV Generation Aggregated","MPANs","LDNO HV customers"]
[null,null,null,null,null,"LV Sub Generation Aggregated","MPANs","LDNO HV customers"]
[null,null,null,null,null,"LV Generation Site Specific","MPANs","LDNO HV customers"]
[null,null,null,null,null,"LV Generation Site Specific no RP Charge","MPANs","LDNO HV customers"]
[null,null,null,null,null,"LV Sub Generation Site Specific","MPANs","LDNO HV customers"]
[null,null,null,null,null,"LV Sub Generation Site Specific no RP Charge","MPANs","LDNO HV customers"]
[null,null,null,null,null,"HV Generation Site Specific","MPANs","LDNO HV customers"]
[null,null,null,null,null,"HV Generation Site Specific no RP Charge","MPANs","LDNO HV customers"]
[]
[null,null,null,null,"Import capacity"]
[null,null,null,null,null,"Domestic Aggregated or CT","kVA","LDNO HV customers"]
[null,null,null,null,null,"Domestic Aggregated (Related MPAN)","kVA","LDNO HV customers"]
[null,null,null,null,null,"Non-Domestic Aggregated or CT","kVA","LDNO HV customers"]
[null,null,null,null,null,"Non-Domestic Aggregated (Related MPAN)","kVA","LDNO HV customers"]
[null,null,null,null,null,"LV Site Specific","kVA","LDNO HV customers",null,{"$f":"CHOOSE(charging_year_selected_index, L1801,M1801,N1801,O1801,P1801,Q1801)","v":22053},null,18524,19461,20727,22053,{"$f":"$O1801","v":22053},22053]
[null,null,null,null,null,"LV Sub Site Specific","kVA","LDNO HV customers",null,{"$f":"CHOOSE(charging_year_selected_index, L1802,M1802,N1802,O1802,P1802,Q1802)","v":671},null,225,225,440,671,671,671]
[null,null,null,null,null,"HV Site Specific","kVA","LDNO HV customers",null,{"$f":"CHOOSE(charging_year_selected_index, L1803,M1803,N1803,O1803,P1803,Q1803)","v":9000},null,11400,9600,8600,9000,9000,9000]
[null,null,null,null,null,"Unmetered Supplies","kVA","LDNO HV customers"]
[null,null,null,null,null,"LV Generation Aggregated","kVA","LDNO HV customers"]
[null,null,null,null,null,"LV Sub Generation Aggregated","kVA","LDNO HV customers"]
[null,null,null,null,null,"LV Generation Site Specific","kVA","LDNO HV customers"]
[null,null,null,null,null,"LV Generation Site Specific no RP Charge","kVA","LDNO HV customers"]
[null,null,null,null,null,"LV Sub Generation Site Specific","kVA","LDNO HV customers"]
[null,null,null,null,null,"LV Sub Generation Site Specific no RP Charge","kVA","LDNO HV customers"]
[null,null,null,null,null,"HV Generation Site Specific","kVA","LDNO HV customers"]
[null,null,null,null,null,"HV Generation Site Specific no RP Charge","kVA","LDNO HV customers"]
[]
[null,null,null,null,"Exceeded capacity"]
[null,null,null,null,null,"Domestic Aggregated or CT","kVA","LDNO HV customers"]
[null,null,null,null,null,"Domestic Aggregated (Related MPAN)","kVA","LDNO HV customers"]
[null,null,null,null,null,"Non-Domestic Aggregated or CT","kVA","LDNO HV customers"]
[null,null,null,null,null,"Non-Domestic Aggregated (Related MPAN)","kVA","LDNO HV customers"]
[null,null,null,null,null,"LV Site Specific","kVA","LDNO HV customers",null,{"$f":"CHOOSE(charging_year_selected_index, L1819,M1819,N1819,O1819,P1819,Q1819)","v":4.666666666666667},null,45,8.3333333333333339,0.66666666666666663,4.666666666666667,{"$f":"$O1819","v":4.666666666666667},4.666666666666667]
[null,null,null,null,null,"LV Sub Site Specific","kVA","LDNO HV customers",null,{"$f":"CHOOSE(charging_year_selected_index, L1820,M1820,N1820,O1820,P1820,Q1820)","v":0},null,0,0,0,0,0,0]
[null,null,null,null,null,"HV Site Specific","kVA","LDNO HV customers",null,{"$f":"CHOOSE(charging_year_selected_index, L1821,M1821,N1821,O1821,P1821,Q1821)","v":0},null,51,0,0,0,0,0]
[null,null,null,null,null,"Unmetered Supplies","kVA","LDNO HV customers"]
[null,null,null,null,null,"LV Generation Aggregated","kVA","LDNO HV customers"]
[null,null,null,null,null,"LV Sub Generation Aggregated","kVA","LDNO HV customers"]
[null,null,null,null,null,"LV Generation Site Specific","kVA","LDNO HV customers"]
[null,null,null,null,null,"LV Generation Site Specific no RP Charge","kVA","LDNO HV customers"]
[null,null,null,null,null,"LV Sub Generation Site Specific","kVA","LDNO HV customers"]
[null,null,null,null,null,"LV Sub Generation Site Specific no RP Charge","kVA","LDNO HV customers"]
[null,null,null,null,null,"HV Generation Site Specific","kVA","LDNO HV customers"]
[null,null,null,null,null,"HV Generation Site Specific no RP Charge","kVA","LDNO HV customers"]
[]
[null,null,null,null,"Reactive power units"]
[null,null,null,null,null,"Domestic Aggregated or CT","MVArh","LDNO HV customers"]
[null,null,null,null,null,"Domestic Aggregated (Related MPAN)","MVArh","LDNO HV customers"]
[null,null,null,null,null,"Non-Domestic Aggregated or CT","MVArh","LDNO HV customers"]
[null,null,null,null,null,"Non-Domestic Aggregated (Related MPAN)","MVArh","LDNO HV customers"]
[null,null,null,null,null,"LV Site Specific","MVArh","LDNO HV customers",null,{"$f":"CHOOSE(charging_year_selected_index, L1837,M1837,N1837,O1837,P1837,Q1837)","v":1248.79458},null,1251.598,986.17600000000004,1212.32,1248.79458,{"$f":"$O1837","v":1248.79458},1248.79458]
[null,null,null,null,null,"LV Sub Site Specific","MVArh","LDNO HV customers",null,{"$f":"CHOOSE(charging_year_selected_index, L1838,M1838,N1838,O1838,P1838,Q1838)","v":82.263999999999996},null,18.524000000000001,0.104,71.965999999999994,82.263999999999996,82.263999999999996,82.263999999999996]
[null,null,null,null,null,"HV Site Specific","MVArh","LDNO HV customers",null,{"$f":"CHOOSE(charging_year_selected_index, L1839,M1839,N1839,O1839,P1839,Q1839)","v":151.846},null,577.82799999999997,648.19200000000001,26.428000000000001,151.846,151.846,151.846]
[null,null,null,null,null,"Unmetered Supplies","MVArh","LDNO HV customers"]
[null,null,null,null,null,"LV Generation Aggregated","MVArh","LDNO HV customers"]
[null,null,null,null,null,"LV Sub Generation Aggregated","MVArh","LDNO HV customers"]
[null,null,null,null,null,"LV Generation Site Specific","MVArh","LDNO HV customers"]
[null,null,null,null,null,"LV Generation Site Specific no RP Charge","MVArh","LDNO HV customers"]
[null,null,null,null,null,"LV Sub Generation Site Specific","MVArh","LDNO HV customers"]
[null,null,null,null,null,"LV Sub Generation Site Specific no RP Charge","MVArh","LDNO HV customers"]
[null,null,null,null,null,"HV Generation Site Specific","MVArh","LDNO HV customers"]
[null,null,null,null,null,"HV Generation Site Specific no RP Charge","MVArh","LDNO HV customers"]
[]
[null,null,{"$f":"INDEX('Version control'!$H$29:$H$55,MATCH($A$1,'Version control'!$F$29:$F$55,0),1)&\"-Q: LDNO HV volumes - Residual band 4\"","v":"Input 501-Q: LDNO HV volumes - Residual band 4"}]
[]
[null,null,null,null,"Rate 1 units",null,null,null,">",null,null,null,null,null,null,null,null,null,"Paragraph 52"]
[null,null,null,null,null,"Domestic Aggregated or CT","MWh","LDNO HV customers"]
[null,null,null,null,null,"Domestic Aggregated (Related MPAN)","MWh","LDNO HV customers"]
[null,null,null,null,null,"Non-Domestic Aggregated or CT","MWh","LDNO HV customers",null,{"$f":"CHOOSE(charging_year_selected_index, L1855,M1855,N1855,O1855,P1855,Q1855)","v":1171.8405958152541},null,1205.2358848878739,1064.8127993051485,1252.9256406190798,1171.8405958152541,{"$f":"$O1855","v":1171.8405958152541},1171.8405958152541]
[null,null,null,null,null,"Non-Domestic Aggregated (Related MPAN)","MWh","LDNO HV customers"]
[null,null,null,null,null,"LV Site Specific","MWh","LDNO HV customers",null,{"$f":"CHOOSE(charging_year_selected_index, L1857,M1857,N1857,O1857,P1857,Q1857)","v":10123.692999999999},null,10015.193994900874,8785.0440000000017,9127.2539999999972,10123.692999999999,{"$f":"$O1857","v":10123.692999999999},10123.692999999999]
[null,null,null,null,null,"LV Sub Site Specific","MWh","LDNO HV customers",null,{"$f":"CHOOSE(charging_year_selected_index, L1858,M1858,N1858,O1858,P1858,Q1858)","v":4890.4009999999998},null,3162.4414691739385,3633.603000000001,4569.5779999999995,4890.4009999999998,4890.4009999999998,4890.4009999999998]
[null,null,null,null,null,"HV Site Specific","MWh","LDNO HV customers",null,{"$f":"CHOOSE(charging_year_selected_index, L1859,M1859,N1859,O1859,P1859,Q1859)","v":2106.7460000000001},null,2811.7135510370663,1498.6760000000002,1313.3910000000003,2106.7460000000001,2106.7460000000001,2106.7460000000001]
[null,null,null,null,null,"Unmetered Supplies","MWh","LDNO HV customers"]
[null,null,null,null,null,"LV Generation Aggregated","MWh","LDNO HV customers"]
[null,null,null,null,null,"LV Sub Generation Aggregated","MWh","LDNO HV customers"]
[null,null,null,null,null,"LV Generation Site Specific","MWh","LDNO HV customers"]
[null,null,null,null,null,"LV Generation Site Specific no RP Charge","MWh","LDNO HV customers"]
[null,null,null,null,null,"LV Sub Generation Site Specific","MWh","LDNO HV customers"]
[null,null,null,null,null,"LV Sub Generation Site Specific no RP Charge","MWh","LDNO HV customers"]
[null,null,null,null,null,"HV Generation Site Specific","MWh","LDNO HV customers"]
[null,null,null,null,null,"HV Generation Site Specific no RP Charge","MWh","LDNO HV customers"]
[]
[null,null,null,null,"Rate 2 units"]
[null,null,null,null,null,"Domestic Aggregated or CT","MWh","LDNO HV customers"]
[null,null,null,null,null,"Domestic Aggregated (Related MPAN)","MWh","LDNO HV customers"]
[null,null,null,null,null,"Non-Domestic Aggregated or CT","MWh","LDNO HV customers",null,{"$f":"CHOOSE(charging_year_selected_index, L1873,M1873,N1873,O1873,P1873,Q1873)","v":6244.6974058527676},null,6253.8283418881465,5498.5045368633428,6668.3534042041747,6244.6974058527676,{"$f":"$O1873","v":6244.6974058527676},6244.6974058527676]
[null,null,null,null,null,"Non-Domestic Aggregated (Related MPAN)","MWh","LDNO HV customers"]
[null,null,null,null,null,"LV Site Specific","MWh","LDNO HV customers",null,{"$f":"CHOOSE(charging_year_selected_index, L1875,M1875,N1875,O1875,P1875,Q1875)","v":46194.21},null,44275.594329483574,39880.716999999997,41428.896000000008,46194.21,{"$f":"$O1875","v":46194.21},46194.21]
[null,null,null,null,null,"LV Sub Site Specific","MWh","LDNO HV customers",null,{"$f":"CHOOSE(charging_year_selected_index, L1876,M1876,N1876,O1876,P1876,Q1876)","v":22137.865999999995},null,14429.673386019347,16219.2,20417.132999999998,22137.865999999995,22137.865999999995,22137.865999999995]
[null,null,null,null,null,"HV Site Specific","MWh","LDNO HV customers",null,{"$f":"CHOOSE(charging_year_selected_index, L1877,M1877,N1877,O1877,P1877,Q1877)","v":10577.475},null,12445.319244932612,7252.5439999999999,6800.5430000000015,10577.475,10577.475,10577.475]
[null,null,null,null,null,"Unmetered Supplies","MWh","LDNO HV customers"]
[null,null,null,null,null,"LV Generation Aggregated","MWh","LDNO HV customers"]
[null,null,null,null,null,"LV Sub Generation Aggregated","MWh","LDNO HV customers"]
[null,null,null,null,null,"LV Generation Site Specific","MWh","LDNO HV customers"]
[null,null,null,null,null,"LV Generation Site Specific no RP Charge","MWh","LDNO HV customers"]
[null,null,null,null,null,"LV Sub Generation Site Specific","MWh","LDNO HV customers"]
[null,null,null,null,null,"LV Sub Generation Site Specific no RP Charge","MWh","LDNO HV customers"]
[null,null,null,null,null,"HV Generation Site Specific","MWh","LDNO HV customers"]
[null,null,null,null,null,"HV Generation Site Specific no RP Charge","MWh","LDNO HV customers"]
[]
[null,null,null,null,"Rate 3 units"]
[null,null,null,null,null,"Domestic Aggregated or CT","MWh","LDNO HV customers"]
[null,null,null,null,null,"Domestic Aggregated (Related MPAN)","MWh","LDNO HV customers"]
[null,null,null,null,null,"Non-Domestic Aggregated or CT","MWh","LDNO HV customers",null,{"$f":"CHOOSE(charging_year_selected_index, L1891,M1891,N1891,O1891,P1891,Q1891)","v":4726.4689262620568},null,4877.9199847500777,4536.1146177521596,5295.6429755770205,4726.4689262620568,{"$f":"$O1891","v":4726.4689262620568},4726.4689262620568]
[null,null,null,null,null,"Non-Domestic Aggregated (Related MPAN)","MWh","LDNO HV customers"]
[null,null,null,null,null,"LV Site Specific","MWh","LDNO HV customers",null,{"$f":"CHOOSE(charging_year_selected_index, L1893,M1893,N1893,O1893,P1893,Q1893)","v":42303.555999999997},null,40324.177013301523,36000.575000000004,36955.826000000001,42303.555999999997,{"$f":"$O1893","v":42303.555999999997},42303.555999999997]
[null,null,null,null,null,"LV Sub Site Specific","MWh","LDNO HV customers",null,{"$f":"CHOOSE(charging_year_selected_index, L1894,M1894,N1894,O1894,P1894,Q1894)","v":21122.558999999997},null,13250.293855011902,15138.128000000002,19202.650000000001,21122.558999999997,21122.558999999997,21122.558999999997]
[null,null,null,null,null,"HV Site Specific","MWh","LDNO HV customers",null,{"$f":"CHOOSE(charging_year_selected_index, L1895,M1895,N1895,O1895,P1895,Q1895)","v":14591.350999999999},null,14586.647783117507,10090.327000000001,10290.973999999998,14591.350999999999,14591.350999999999,14591.350999999999]
[null,null,null,null,null,"Unmetered Supplies","MWh","LDNO HV customers"]
[null,null,null,null,null,"LV Generation Aggregated","MWh","LDNO HV customers"]
[null,null,null,null,null,"LV Sub Generation Aggregated","MWh","LDNO HV customers"]
[null,null,null,null,null,"LV Generation Site Specific","MWh","LDNO HV customers"]
[null,null,null,null,null,"LV Generation Site Specific no RP Charge","MWh","LDNO HV customers"]
[null,null,null,null,null,"LV Sub Generation Site Specific","MWh","LDNO HV customers"]
[null,null,null,null,null,"LV Sub Generation Site Specific no RP Charge","MWh","LDNO HV customers"]
[null,null,null,null,null,"HV Generation Site Specific","MWh","LDNO HV customers"]
[null,null,null,null,null,"HV Generation Site Specific no RP Charge","MWh","LDNO HV customers"]
[]
[null,null,null,null,"MPANs"]
[null,null,null,null,null,"Domestic Aggregated or CT","MPANs","LDNO HV customers"]
[null,null,null,null,null,"Domestic Aggregated (Related MPAN)","MPANs","LDNO HV customers"]
[null,null,null,null,null,"Non-Domestic Aggregated or CT","MPANs","LDNO HV customers",null,{"$f":"CHOOSE(charging_year_selected_index, L1909,M1909,N1909,O1909,P1909,Q1909)","v":409},null,288,292,342,409,{"$f":"$O1909","v":409},409]
[null,null,null,null,null,"Non-Domestic Aggregated (Related MPAN)","MPANs","LDNO HV customers"]
[null,null,null,null,null,"LV Site Specific","MPANs","LDNO HV customers",null,{"$f":"CHOOSE(charging_year_selected_index, L1911,M1911,N1911,O1911,P1911,Q1911)","v":229},null,152,172,187,229,{"$f":"$O1911","v":229},229]
[null,null,null,null,null,"LV Sub Site Specific","MPANs","LDNO HV customers",null,{"$f":"CHOOSE(charging_year_selected_index, L1912,M1912,N1912,O1912,P1912,Q1912)","v":59},null,34,41,56,59,59,59]
[null,null,null,null,null,"HV Site Specific","MPANs","LDNO HV customers",null,{"$f":"CHOOSE(charging_year_selected_index, L1913,M1913,N1913,O1913,P1913,Q1913)","v":10},null,7,8,8,10,10,10]
[null,null,null,null,null,"Unmetered Supplies","MPANs","LDNO HV customers"]
[null,null,null,null,null,"LV Generation Aggregated","MPANs","LDNO HV customers"]
[null,null,null,null,null,"LV Sub Generation Aggregated","MPANs","LDNO HV customers"]
[null,null,null,null,null,"LV Generation Site Specific","MPANs","LDNO HV customers"]
[null,null,null,null,null,"LV Generation Site Specific no RP Charge","MPANs","LDNO HV customers"]
[null,null,null,null,null,"LV Sub Generation Site Specific","MPANs","LDNO HV customers"]
[null,null,null,null,null,"LV Sub Generation Site Specific no RP Charge","MPANs","LDNO HV customers"]
[null,null,null,null,null,"HV Generation Site Specific","MPANs","LDNO HV customers"]
[null,null,null,null,null,"HV Generation Site Specific no RP Charge","MPANs","LDNO HV customers"]
[]
[null,null,null,null,"Import capacity"]
[null,null,null,null,null,"Domestic Aggregated or CT","kVA","LDNO HV customers"]
[null,null,null,null,null,"Domestic Aggregated (Related MPAN)","kVA","LDNO HV customers"]
[null,null,null,null,null,"Non-Domestic Aggregated or CT","kVA","LDNO HV customers"]
[null,null,null,null,null,"Non-Domestic Aggregated (Related MPAN)","kVA","LDNO HV customers"]
[null,null,null,null,null,"LV Site Specific","kVA","LDNO HV customers",null,{"$f":"CHOOSE(charging_year_selected_index, L1929,M1929,N1929,O1929,P1929,Q1929)","v":128058},null,68001,78990,92703,128058,{"$f":"$O1929","v":128058},128058]
[null,null,null,null,null,"LV Sub Site Specific","kVA","LDNO HV customers",null,{"$f":"CHOOSE(charging_year_selected_index, L1930,M1930,N1930,O1930,P1930,Q1930)","v":47105},null,20744,27059,43841,47105,47105,47105]
[null,null,null,null,null,"HV Site Specific","kVA","LDNO HV customers",null,{"$f":"CHOOSE(charging_year_selected_index, L1931,M1931,N1931,O1931,P1931,Q1931)","v":27700},null,19000,23200,22000,27700,27700,27700]
[null,null,null,null,null,"Unmetered Supplies","kVA","LDNO HV customers"]
[null,null,null,null,null,"LV Generation Aggregated","kVA","LDNO HV customers"]
[null,null,null,null,null,"LV Sub Generation Aggregated","kVA","LDNO HV customers"]
[null,null,null,null,null,"LV Generation Site Specific","kVA","LDNO HV customers"]
[null,null,null,null,null,"LV Generation Site Specific no RP Charge","kVA","LDNO HV customers"]
[null,null,null,null,null,"LV Sub Generation Site Specific","kVA","LDNO HV customers"]
[null,null,null,null,null,"LV Sub Generation Site Specific no RP Charge","kVA","LDNO HV customers"]
[null,null,null,null,null,"HV Generation Site Specific","kVA","LDNO HV customers"]
[null,null,null,null,null,"HV Generation Site Specific no RP Charge","kVA","LDNO HV customers"]
[]
[null,null,null,null,"Exceeded capacity"]
[null,null,null,null,null,"Domestic Aggregated or CT","kVA","LDNO HV customers"]
[null,null,null,null,null,"Domestic Aggregated (Related MPAN)","kVA","LDNO HV customers"]
[null,null,null,null,null,"Non-Domestic Aggregated or CT","kVA","LDNO HV customers"]
[null,null,null,null,null,"Non-Domestic Aggregated (Related MPAN)","kVA","LDNO HV customers"]
[null,null,null,null,null,"LV Site Specific","kVA","LDNO HV customers",null,{"$f":"CHOOSE(charging_year_selected_index, L1947,M1947,N1947,O1947,P1947,Q1947)","v":0},null,165,2.6666666666666665,0,0,{"$f":"$O1947","v":0},0]
[null,null,null,null,null,"LV Sub Site Specific","kVA","LDNO HV customers",null,{"$f":"CHOOSE(charging_year_selected_index, L1948,M1948,N1948,O1948,P1948,Q1948)","v":0},null,6,0,1.6666666666666667,0,0,0]
[null,null,null,null,null,"HV Site Specific","kVA","LDNO HV customers",null,{"$f":"CHOOSE(charging_year_selected_index, L1949,M1949,N1949,O1949,P1949,Q1949)","v":0},null,85,0,0,0,0,0]
[null,null,null,null,null,"Unmetered Supplies","kVA","LDNO HV customers"]
[null,null,null,null,null,"LV Generation Aggregated","kVA","LDNO HV customers"]
[null,null,null,null,null,"LV Sub Generation Aggregated","kVA","LDNO HV customers"]
[null,null,null,null,null,"LV Generation Site Specific","kVA","LDNO HV customers"]
[null,null,null,null,null,"LV Generation Site Specific no RP Charge","kVA","LDNO HV customers"]
[null,null,null,null,null,"LV Sub Generation Site Specific","kVA","LDNO HV customers"]
[null,null,null,null,null,"LV Sub Generation Site Specific no RP Charge","kVA","LDNO HV customers"]
[null,null,null,null,null,"HV Generation Site Specific","kVA","LDNO HV customers"]
[null,null,null,null,null,"HV Generation Site Specific no RP Charge","kVA","LDNO HV customers"]
[]
[null,null,null,null,"Reactive power units"]
[null,null,null,null,null,"Domestic Aggregated or CT","MVArh","LDNO HV customers"]
[null,null,null,null,null,"Domestic Aggregated (Related MPAN)","MVArh","LDNO HV customers"]
[null,null,null,null,null,"Non-Domestic Aggregated or CT","MVArh","LDNO HV customers"]
[null,null,null,null,null,"Non-Domestic Aggregated (Related MPAN)","MVArh","LDNO HV customers"]
[null,null,null,null,null,"LV Site Specific","MVArh","LDNO HV customers",null,{"$f":"CHOOSE(charging_year_selected_index, L1965,M1965,N1965,O1965,P1965,Q1965)","v":7208.3624799999998},null,4594.5749999999998,5234.7879999999996,5560.0739999999996,7208.3624799999998,{"$f":"$O1965","v":7208.3624799999998},7208.3624799999998]
[null,null,null,null,null,"LV Sub Site Specific","MVArh","LDNO HV customers",null,{"$f":"CHOOSE(charging_year_selected_index, L1966,M1966,N1966,O1966,P1966,Q1966)","v":2166.0920000000001},null,1707.8620000000001,1570.232,1841.902,2166.0920000000001,2166.0920000000001,2166.0920000000001]
[null,null,null,null,null,"HV Site Specific","MVArh","LDNO HV customers",null,{"$f":"CHOOSE(charging_year_selected_index, L1967,M1967,N1967,O1967,P1967,Q1967)","v":227.428},null,963.04600000000005,262.87200000000001,130.12200000000001,227.428,227.428,227.428]
[null,null,null,null,null,"Unmetered Supplies","MVArh","LDNO HV customers"]
[null,null,null,null,null,"LV Generation Aggregated","MVArh","LDNO HV customers"]
[null,null,null,null,null,"LV Sub Generation Aggregated","MVArh","LDNO HV customers"]
[null,null,null,null,null,"LV Generation Site Specific","MVArh","LDNO HV customers"]
[null,null,null,null,null,"LV Generation Site Specific no RP Charge","MVArh","LDNO HV customers"]
[null,null,null,null,null,"LV Sub Generation Site Specific","MVArh","LDNO HV customers"]
[null,null,null,null,null,"LV Sub Generation Site Specific no RP Charge","MVArh","LDNO HV customers"]
[null,null,null,null,null,"HV Generation Site Specific","MVArh","LDNO HV customers"]
[null,null,null,null,null,"HV Generation Site Specific no RP Charge","MVArh","LDNO HV customers"]
[]
[null,null,{"$f":"INDEX('Version control'!$H$29:$H$55,MATCH($A$1,'Version control'!$F$29:$F$55,0),1)&\"-R: 'Designated Property' MPANs with EDCM-level LDNO boundaries\"","v":"Input 501-R: 'Designated Property' MPANs with EDCM-level LDNO boundaries"}]
[]
[null,null,null,null,"Designated Property' MPANs with EDCM-level LDNO boundaries",null,null,null,">",null,null,null,null,null,null,null,null,null,"Paragraphs 53A, 53B, 101 and 102"]
[null,null,null,null,null,"Domestic Aggregated or CT","£ per MPAN",null,null,{"$f":"CHOOSE(charging_year_selected_index, L1981,M1981,N1981,O1981,P1981,Q1981)","v":3135},null,3466.0728288547793,3363,3231,3135,{"$f":"$O1981","v":3135},3135]
[null,null,null,null,null,"Domestic Aggregated (Related MPAN)","£ per MPAN",null,null,0,null,0,0,0,0,0,0]
[null,null,null,null,null,"Non-Domestic Aggregated or CT","£ per MPAN",null,null,96,null,0,82,92,96,96,96]
[null,null,null,null,null,"Non-Domestic Aggregated (Related MPAN)","£ per MPAN",null,null,0,null,84,0,0,0,0,0]
[null,null,null,null,null,"LV Site Specific","£ per MPAN",null,null,69,null,3,61,68,69,69,69]
[null,null,null,null,null,"LV Sub Site Specific","£ per MPAN",null,null,0,null,31,0,0,0,0,0]
[null,null,null,null,null,"HV Site Specific","£ per MPAN",null,null,6,null,5,6,5,6,6,6]
[null,null,null,null,null,"Unmetered Supplies","£ per MPAN",null,null,0,null,0,27,31,0,0,0]
[null,null,null,null,null,"LV Generation Aggregated","£ per MPAN",null,null,5,null,0,4,5,5,5,5]
[null,null,null,null,null,"LV Sub Generation Aggregated","£ per MPAN",null,null,0,null,13,0,0,0,0,0]
[null,null,null,null,null,"LV Generation Site Specific","£ per MPAN",null,null,0,null,16,0,0,0,0,0]
[null,null,null,null,null,"LV Generation Site Specific no RP Charge","£ per MPAN",null,null,0,null,9,0,0,0,0,0]
[null,null,null,null,null,"LV Sub Generation Site Specific","£ per MPAN",null,null,0,null,9,0,0,0,0,0]
[null,null,null,null,null,"LV Sub Generation Site Specific no RP Charge","£ per MPAN",null,null,0,null,0,0,0,0,0,0]
[null,null,null,null,null,"HV Generation Site Specific","£ per MPAN",null,null,1,null,0,0,1,1,1,1]
[null,null,null,null,null,"HV Generation Site Specific no RP Charge","£ per MPAN",null,null,0,null,0,0,0,0,0,0]
[]
[null,"Non-Domestic Aggregated (Related MPAN) distribution by bands"]
[]
[null,null,null,"The split of Non-Domestic Aggregated (Related MPAN) units by residual band is used to allocate residual revenue",null,null,null,null,">",null,null,null,null,null,null,null,null,null,"Paragraph 92 (a)"]
[null,null,null,"between bands to be recovered from Non-Domestic Aggregated customers. "]
[]
[null,null,{"$f":"INDEX('Version control'!$H$29:$H$55,MATCH($A$1,'Version control'!$F$29:$F$55,0),1)&\"-S: All the way non-domestic aggregated (related MPAN) distribution by bands\"","v":"Input 501-S: All the way non-domestic aggregated (related MPAN) distribution by bands"}]
[]
[null,null,null,null,"Rate 1 units"]
[null,null,null,null,null,"No residual","%",null,null,{"$f":"CHOOSE(charging_year_selected_index, L2006,M2006,N2006,O2006,P2006,Q2006)","v":0},null,0,0,0,0,{"$f":"$O2006","v":0},0]
[null,null,null,null,null,"Band 1","%",null,null,{"$f":"CHOOSE(charging_year_selected_index, L2007,M2007,N2007,O2007,P2007,Q2007)","v":9.272725992895102E-2},null,8.4363128002655496E-2,8.6754374311875562E-2,8.5431727605771599E-2,9.272725992895102E-2,9.272725992895102E-2,9.272725992895102E-2]
[null,null,null,null,null,"Band 2","%",null,null,{"$f":"CHOOSE(charging_year_selected_index, L2008,M2008,N2008,O2008,P2008,Q2008)","v":0.1618979376611088},null,0.15242182843567806,0.15297665329337079,0.1571824800975502,0.1618979376611088,0.1618979376611088,0.1618979376611088]
[null,null,null,null,null,"Band 3","%",null,null,{"$f":"CHOOSE(charging_year_selected_index, L2009,M2009,N2009,O2009,P2009,Q2009)","v":0.17913665363215273},null,0.18978830708420621,0.18755462380973875,0.18304083383106057,0.17913665363215273,0.17913665363215273,0.17913665363215273]
[null,null,null,null,null,"Band 4","%",null,null,{"$f":"CHOOSE(charging_year_selected_index, L2010,M2010,N2010,O2010,P2010,Q2010)","v":0.56623814877778744},null,0.57342673647746012,0.57271434858501491,0.57434495846561773,0.56623814877778744,0.56623814877778744,0.56623814877778744]
[]
[null,null,null,null,"Rate 2 units"]
[null,null,null,null,null,"No residual","%",null,null,{"$f":"CHOOSE(charging_year_selected_index, L2013,M2013,N2013,O2013,P2013,Q2013)","v":0},null,0,0,0,0,{"$f":"$O2013","v":0},0]
[null,null,null,null,null,"Band 1","%",null,null,{"$f":"CHOOSE(charging_year_selected_index, L2014,M2014,N2014,O2014,P2014,Q2014)","v":9.272725992895102E-2},null,8.4363128002655496E-2,8.6754374311875562E-2,8.5431727605771599E-2,9.272725992895102E-2,9.272725992895102E-2,9.272725992895102E-2]
[null,null,null,null,null,"Band 2","%",null,null,{"$f":"CHOOSE(charging_year_selected_index, L2015,M2015,N2015,O2015,P2015,Q2015)","v":0.1618979376611088},null,0.15242182843567806,0.15297665329337079,0.1571824800975502,0.1618979376611088,0.1618979376611088,0.1618979376611088]
[null,null,null,null,null,"Band 3","%",null,null,{"$f":"CHOOSE(charging_year_selected_index, L2016,M2016,N2016,O2016,P2016,Q2016)","v":0.17913665363215273},null,0.18978830708420621,0.18755462380973875,0.18304083383106057,0.17913665363215273,0.17913665363215273,0.17913665363215273]
[null,null,null,null,null,"Band 4","%",null,null,{"$f":"CHOOSE(charging_year_selected_index, L2017,M2017,N2017,O2017,P2017,Q2017)","v":0.56623814877778744},null,0.57342673647746012,0.57271434858501491,0.57434495846561773,0.56623814877778744,0.56623814877778744,0.56623814877778744]
[]
[null,null,null,null,"Rate 3 units"]
[null,null,null,null,null,"No residual","%",null,null,{"$f":"CHOOSE(charging_year_selected_index, L2020,M2020,N2020,O2020,P2020,Q2020)","v":0},null,0,0,0,0,{"$f":"$O2020","v":0},0]
[null,null,null,null,null,"Band 1","%",null,null,{"$f":"CHOOSE(charging_year_selected_index, L2021,M2021,N2021,O2021,P2021,Q2021)","v":9.272725992895102E-2},null,8.4363128002655496E-2,8.6754374311875562E-2,8.5431727605771599E-2,9.272725992895102E-2,9.272725992895102E-2,9.272725992895102E-2]
[null,null,null,null,null,"Band 2","%",null,null,{"$f":"CHOOSE(charging_year_selected_index, L2022,M2022,N2022,O2022,P2022,Q2022)","v":0.1618979376611088},null,0.15242182843567806,0.15297665329337079,0.1571824800975502,0.1618979376611088,0.1618979376611088,0.1618979376611088]
[null,null,null,null,null,"Band 3","%",null,null,{"$f":"CHOOSE(charging_year_selected_index, L2023,M2023,N2023,O2023,P2023,Q2023)","v":0.17913665363215273},null,0.18978830708420621,0.18755462380973875,0.18304083383106057,0.17913665363215273,0.17913665363215273,0.17913665363215273]
[null,null,null,null,null,"Band 4","%",null,null,{"$f":"CHOOSE(charging_year_selected_index, L2024,M2024,N2024,O2024,P2024,Q2024)","v":0.56623814877778744},null,0.57342673647746012,0.57271434858501491,0.57434495846561773,0.56623814877778744,0.56623814877778744,0.56623814877778744]
[]
[null,null,{"$f":"INDEX('Version control'!$H$29:$H$55,MATCH($A$1,'Version control'!$F$29:$F$55,0),1)&\"-T: LDNO LV non-domestic aggregated (related MPAN) distribution by bands\"","v":"Input 501-T: LDNO LV non-domestic aggregated (related MPAN) distribution by bands"}]
[]
[null,null,null,null,"Rate 1 units"]
[null,null,null,null,null,"No residual","%",null,null,{"$f":"CHOOSE(charging_year_selected_index, L2029,M2029,N2029,O2029,P2029,Q2029)","v":0},null,0,0,0,0,{"$f":"$O2029","v":0},0]
[null,null,null,null,null,"Band 1","%",null,null,{"$f":"CHOOSE(charging_year_selected_index, L2030,M2030,N2030,O2030,P2030,Q2030)","v":0.23559016217323522},null,0.20815298064635118,0.20735150389910206,0.21927032048094036,0.23559016217323522,0.23559016217323522,0.23559016217323522]
[null,null,null,null,null,"Band 2","%",null,null,{"$f":"CHOOSE(charging_year_selected_index, L2031,M2031,N2031,O2031,P2031,Q2031)","v":0.2976424275091018},null,0.27613151280383996,0.28844122530114541,0.29396590956630853,0.2976424275091018,0.2976424275091018,0.2976424275091018]
[null,null,null,null,null,"Band 3","%",null,null,{"$f":"CHOOSE(charging_year_selected_index, L2032,M2032,N2032,O2032,P2032,Q2032)","v":0.15185257640779012},null,0.19270967326144897,0.19297777529368429,0.18963509785105129,0.15185257640779012,0.15185257640779012,0.15185257640779012]
[null,null,null,null,null,"Band 4","%",null,null,{"$f":"CHOOSE(charging_year_selected_index, L2033,M2033,N2033,O2033,P2033,Q2033)","v":0.31491483390987285},null,0.32300583328835969,0.3112294955060681,0.29712867210169974,0.31491483390987285,0.31491483390987285,0.31491483390987285]
[]
[null,null,null,null,"Rate 2 units"]
[null,null,null,null,null,"No residual","%",null,null,{"$f":"CHOOSE(charging_year_selected_index, L2036,M2036,N2036,O2036,P2036,Q2036)","v":0},null,0,0,0,0,{"$f":"$O2036","v":0},0]
[null,null,null,null,null,"Band 1","%",null,null,{"$f":"CHOOSE(charging_year_selected_index, L2037,M2037,N2037,O2037,P2037,Q2037)","v":0.23559016217323522},null,0.20815298064635118,0.20735150389910206,0.21927032048094036,0.23559016217323522,0.23559016217323522,0.23559016217323522]
[null,null,null,null,null,"Band 2","%",null,null,{"$f":"CHOOSE(charging_year_selected_index, L2038,M2038,N2038,O2038,P2038,Q2038)","v":0.2976424275091018},null,0.27613151280383996,0.28844122530114541,0.29396590956630853,0.2976424275091018,0.2976424275091018,0.2976424275091018]
[null,null,null,null,null,"Band 3","%",null,null,{"$f":"CHOOSE(charging_year_selected_index, L2039,M2039,N2039,O2039,P2039,Q2039)","v":0.15185257640779012},null,0.19270967326144897,0.19297777529368429,0.18963509785105129,0.15185257640779012,0.15185257640779012,0.15185257640779012]
[null,null,null,null,null,"Band 4","%",null,null,{"$f":"CHOOSE(charging_year_selected_index, L2040,M2040,N2040,O2040,P2040,Q2040)","v":0.31491483390987285},null,0.32300583328835969,0.3112294955060681,0.29712867210169974,0.31491483390987285,0.31491483390987285,0.31491483390987285]
[]
[null,null,null,null,"Rate 3 units"]
[null,null,null,null,null,"No residual","%",null,null,{"$f":"CHOOSE(charging_year_selected_index, L2043,M2043,N2043,O2043,P2043,Q2043)","v":0},null,0,0,0,0,{"$f":"$O2043","v":0},0]
[null,null,null,null,null,"Band 1","%",null,null,{"$f":"CHOOSE(charging_year_selected_index, L2044,M2044,N2044,O2044,P2044,Q2044)","v":0.23559016217323522},null,0.20815298064635118,0.20735150389910206,0.21927032048094036,0.23559016217323522,0.23559016217323522,0.23559016217323522]
[null,null,null,null,null,"Band 2","%",null,null,{"$f":"CHOOSE(charging_year_selected_index, L2045,M2045,N2045,O2045,P2045,Q2045)","v":0.2976424275091018},null,0.27613151280383996,0.28844122530114541,0.29396590956630853,0.2976424275091018,0.2976424275091018,0.2976424275091018]
[null,null,null,null,null,"Band 3","%",null,null,{"$f":"CHOOSE(charging_year_selected_index, L2046,M2046,N2046,O2046,P2046,Q2046)","v":0.15185257640779012},null,0.19270967326144897,0.19297777529368429,0.18963509785105129,0.15185257640779012,0.15185257640779012,0.15185257640779012]
[null,null,null,null,null,"Band 4","%",null,null,{"$f":"CHOOSE(charging_year_selected_index, L2047,M2047,N2047,O2047,P2047,Q2047)","v":0.31491483390987285},null,0.32300583328835969,0.3112294955060681,0.29712867210169974,0.31491483390987285,0.31491483390987285,0.31491483390987285]
[]
[null,null,{"$f":"INDEX('Version control'!$H$29:$H$55,MATCH($A$1,'Version control'!$F$29:$F$55,0),1)&\"-U: LDNO HV non-domestic aggregated (related MPAN) distribution by bands\"","v":"Input 501-U: LDNO HV non-domestic aggregated (related MPAN) distribution by bands"}]
[]
[null,null,null,null,"Rate 1 units"]
[null,null,null,null,null,"No residual","%",null,null,{"$f":"CHOOSE(charging_year_selected_index, L2052,M2052,N2052,O2052,P2052,Q2052)","v":0},null,0,0,0,0,{"$f":"$O2052","v":0},0]
[null,null,null,null,null,"Band 1","%",null,null,{"$f":"CHOOSE(charging_year_selected_index, L2053,M2053,N2053,O2053,P2053,Q2053)","v":0.15953800934984907},null,9.6678573594067993E-2,0.11980217034588897,0.15512022715534035,0.15953800934984907,0.15953800934984907,0.15953800934984907]
[null,null,null,null,null,"Band 2","%",null,null,{"$f":"CHOOSE(charging_year_selected_index, L2054,M2054,N2054,O2054,P2054,Q2054)","v":0.18805260026650639},null,0.15226788856971082,0.16482285498487639,0.19338612434574301,0.18805260026650639,0.18805260026650639,0.18805260026650639]
[null,null,null,null,null,"Band 3","%",null,null,{"$f":"CHOOSE(charging_year_selected_index, L2055,M2055,N2055,O2055,P2055,Q2055)","v":0.20452224581278861},null,0.24073066324937284,0.24211517441336786,0.19994452605313959,0.20452224581278861,0.20452224581278861,0.20452224581278861]
[null,null,null,null,null,"Band 4","%",null,null,{"$f":"CHOOSE(charging_year_selected_index, L2056,M2056,N2056,O2056,P2056,Q2056)","v":0.44788714457085593},null,0.51032287458684833,0.47325980025586678,0.45154912244577711,0.44788714457085593,0.44788714457085593,0.44788714457085593]
[]
[null,null,null,null,"Rate 2 units"]
[null,null,null,null,null,"No residual","%",null,null,{"$f":"CHOOSE(charging_year_selected_index, L2059,M2059,N2059,O2059,P2059,Q2059)","v":0},null,0,0,0,0,{"$f":"$O2059","v":0},0]
[null,null,null,null,null,"Band 1","%",null,null,{"$f":"CHOOSE(charging_year_selected_index, L2060,M2060,N2060,O2060,P2060,Q2060)","v":0.15953800934984907},null,9.6678573594067993E-2,0.11980217034588897,0.15512022715534035,0.15953800934984907,0.15953800934984907,0.15953800934984907]
[null,null,null,null,null,"Band 2","%",null,null,{"$f":"CHOOSE(charging_year_selected_index, L2061,M2061,N2061,O2061,P2061,Q2061)","v":0.18805260026650639},null,0.15226788856971082,0.16482285498487639,0.19338612434574301,0.18805260026650639,0.18805260026650639,0.18805260026650639]
[null,null,null,null,null,"Band 3","%",null,null,{"$f":"CHOOSE(charging_year_selected_index, L2062,M2062,N2062,O2062,P2062,Q2062)","v":0.20452224581278861},null,0.24073066324937284,0.24211517441336786,0.19994452605313959,0.20452224581278861,0.20452224581278861,0.20452224581278861]
[null,null,null,null,null,"Band 4","%",null,null,{"$f":"CHOOSE(charging_year_selected_index, L2063,M2063,N2063,O2063,P2063,Q2063)","v":0.44788714457085593},null,0.51032287458684833,0.47325980025586678,0.45154912244577711,0.44788714457085593,0.44788714457085593,0.44788714457085593]
[]
[null,null,null,null,"Rate 3 units"]
[null,null,null,null,null,"No residual","%",null,null,{"$f":"CHOOSE(charging_year_selected_index, L2066,M2066,N2066,O2066,P2066,Q2066)","v":0},null,0,0,0,0,{"$f":"$O2066","v":0},0]
[null,null,null,null,null,"Band 1","%",null,null,{"$f":"CHOOSE(charging_year_selected_index, L2067,M2067,N2067,O2067,P2067,Q2067)","v":0.15953800934984907},null,9.6678573594067993E-2,0.11980217034588897,0.15512022715534035,0.15953800934984907,0.15953800934984907,0.15953800934984907]
[null,null,null,null,null,"Band 2","%",null,null,{"$f":"CHOOSE(charging_year_selected_index, L2068,M2068,N2068,O2068,P2068,Q2068)","v":0.18805260026650639},null,0.15226788856971082,0.16482285498487639,0.19338612434574301,0.18805260026650639,0.18805260026650639,0.18805260026650639]
[null,null,null,null,null,"Band 3","%",null,null,{"$f":"CHOOSE(charging_year_selected_index, L2069,M2069,N2069,O2069,P2069,Q2069)","v":0.20452224581278861},null,0.24073066324937284,0.24211517441336786,0.19994452605313959,0.20452224581278861,0.20452224581278861,0.20452224581278861]
[null,null,null,null,null,"Band 4","%",null,null,{"$f":"CHOOSE(charging_year_selected_index, L2070,M2070,N2070,O2070,P2070,Q2070)","v":0.44788714457085593},null,0.51032287458684833,0.47325980025586678,0.45154912244577711,0.44788714457085593,0.44788714457085593,0.44788714457085593]
[]
[null,"Service model asset values"]
[]
[null,null,"Service model costs should be entered per customer or per MWh for unmetered customers",null,null,null,null,null,">",null,null,null,null,null,null,null,null,null,"Paragraphs 32 to 37"]
[]
[null,null,{"$f":"INDEX('Version control'!$H$29:$H$55,MATCH($A$1,'Version control'!$F$29:$F$55,0),1)&\"-V: LV customer service model asset values\"","v":"Input 501-V: LV customer service model asset values"}]
[]
[null,null,null,null,"LV customer service model asset values"]
[null,null,null,null,null,"Domestic Aggregated or CT","£ per MPAN",null,null,{"$f":"CHOOSE(charging_year_selected_index, L2079,M2079,N2079,O2079,P2079,Q2079)","v":377.70000000000005},null,377.70000000000005,377.70000000000005,377.70000000000005,377.70000000000005,{"$f":"$O2079","v":377.70000000000005},377.70000000000005]
[null,null,null,null,null,"Domestic Aggregated (Related MPAN)","£ per MPAN"]
[null,null,null,null,null,"Non-Domestic Aggregated or CT","£ per MPAN",null,null,{"$f":"CHOOSE(charging_year_selected_index, L2081,M2081,N2081,O2081,P2081,Q2081)","v":508.75},null,508.75,508.75,508.75,508.75,{"$f":"$O2081","v":508.75},508.75]
[null,null,null,null,null,"Non-Domestic Aggregated (Related MPAN)","£ per MPAN"]
[null,null,null,null,null,"LV Site Specific","£ per MPAN",null,null,{"$f":"CHOOSE(charging_year_selected_index, L2083,M2083,N2083,O2083,P2083,Q2083)","v":2380},null,2380,2380,2380,2380,{"$f":"$O2083","v":2380},2380]
[null,null,null,null,null,"LV Sub Site Specific","£ per MPAN",null,null,{"$f":"CHOOSE(charging_year_selected_index, L2084,M2084,N2084,O2084,P2084,Q2084)","v":840},null,840,840,840,840,840,840]
[null,null,null,null,null,"HV Site Specific","£ per MPAN"]
[null,null,null,null,null,"Unmetered Supplies","£ per MPAN"]
[null,null,null,null,null,"LV Generation Aggregated","£ per MPAN",null,null,{"$f":"CHOOSE(charging_year_selected_index, L2087,M2087,N2087,O2087,P2087,Q2087)","v":0},null,0,0,0,0,{"$f":"$O2087","v":0},0]
[null,null,null,null,null,"LV Sub Generation Aggregated","£ per MPAN",null,null,0,null,0,0,0,0,0,0]
[null,null,null,null,null,"LV Generation Site Specific","£ per MPAN",null,null,0,null,0,0,0,0,0,0]
[null,null,null,null,null,"LV Generation Site Specific no RP Charge","£ per MPAN",null,null,0,null,0,0,0,0,0,0]
[null,null,null,null,null,"LV Sub Generation Site Specific","£ per MPAN",null,null,0,null,0,0,0,0,0,0]
[null,null,null,null,null,"LV Sub Generation Site Specific no RP Charge","£ per MPAN",null,null,0,null,0,0,0,0,0,0]
[null,null,null,null,null,"HV Generation Site Specific","£ per MPAN"]
[null,null,null,null,null,"HV Generation Site Specific no RP Charge","£ per MPAN"]
[]
[null,null,{"$f":"INDEX('Version control'!$H$29:$H$55,MATCH($A$1,'Version control'!$F$29:$F$55,0),1)&\"-W: HV customer service model asset values\"","v":"Input 501-W: HV customer service model asset values"}]
[]
[null,null,null,null,"HV customer service model asset values"]
[null,null,null,null,null,"Domestic Aggregated or CT","£ per MPAN"]
[null,null,null,null,null,"Domestic Aggregated (Related MPAN)","£ per MPAN"]
[null,null,null,null,null,"Non-Domestic Aggregated or CT","£ per MPAN"]
[null,null,null,null,null,"Non-Domestic Aggregated (Related MPAN)","£ per MPAN"]
[null,null,null,null,null,"LV Site Specific","£ per MPAN"]
[null,null,null,null,null,"LV Sub Site Specific","£ per MPAN"]
[null,null,null,null,null,"HV Site Specific","£ per MPAN",null,null,{"$f":"CHOOSE(charging_year_selected_index, L2105,M2105,N2105,O2105,P2105,Q2105)","v":12718.10554},null,12718.10554,12718.10554,12718.10554,12718.10554,{"$f":"$O2105","v":12718.10554},12718.10554]
[null,null,null,null,null,"Unmetered Supplies","£ per MPAN"]
[null,null,null,null,null,"LV Generation Aggregated","£ per MPAN"]
[null,null,null,null,null,"LV Sub Generation Aggregated","£ per MPAN"]
[null,null,null,null,null,"LV Generation Site Specific","£ per MPAN"]
[null,null,null,null,null,"LV Generation Site Specific no RP Charge","£ per MPAN"]
[null,null,null,null,null,"LV Sub Generation Site Specific","£ per MPAN"]
[null,null,null,null,null,"LV Sub Generation Site Specific no RP Charge","£ per MPAN"]
[null,null,null,null,null,"HV Generation Site Specific","£ per MPAN",null,null,{"$f":"CHOOSE(charging_year_selected_index, L2113,M2113,N2113,O2113,P2113,Q2113)","v":9287},null,9287,9287,9287,9287,{"$f":"$O2113","v":9287},9287]
[null,null,null,null,null,"HV Generation Site Specific no RP Charge","£ per MPAN",null,null,{"$f":"CHOOSE(charging_year_selected_index, L2114,M2114,N2114,O2114,P2114,Q2114)","v":9287},null,9287,9287,9287,9287,9287,9287]
[]
[null,null,{"$f":"INDEX('Version control'!$H$29:$H$55,MATCH($A$1,'Version control'!$F$29:$F$55,0),1)&\"-X: LV UMS customer service model asset values\"","v":"Input 501-X: LV UMS customer service model asset values"}]
[]
[null,null,null,null,"LV UMS customer service model asset values",null,null,null,">",null,null,null,null,null,null,null,null,null,"Paragraph 36"]
[null,null,null,null,null,"Domestic Aggregated or CT","£/MWh/year"]
[null,null,null,null,null,"Domestic Aggregated (Related MPAN)","£/MWh/year"]
[null,null,null,null,null,"Non-Domestic Aggregated or CT","£/MWh/year"]
[null,null,null,null,null,"Non-Domestic Aggregated (Related MPAN)","£/MWh/year"]
[null,null,null,null,null,"LV Site Specific","£/MWh/year"]
[null,null,null,null,null,"LV Sub Site Specific","£/MWh/year"]
[null,null,null,null,null,"HV Site Specific","£/MWh/year"]
[null,null,null,null,null,"Unmetered Supplies","£/MWh/year",null,null,{"$f":"CHOOSE(charging_year_selected_index, L2126,M2126,N2126,O2126,P2126,Q2126)","v":120.51},null,120.51,120.51,120.51,120.51,{"$f":"$O2126","v":120.51},120.51]
[null,null,null,null,null,"LV Generation Aggregated","£/MWh/year"]
[null,null,null,null,null,"LV Sub Generation Aggregated","£/MWh/year"]
[null,null,null,null,null,"LV Generation Site Specific","£/MWh/year"]
[null,null,null,null,null,"LV Generation Site Specific no RP Charge","£/MWh/year"]
[null,null,null,null,null,"LV Sub Generation Site Specific","£/MWh/year"]
[null,null,null,null,null,"LV Sub Generation Site Specific no RP Charge","£/MWh/year"]
[null,null,null,null,null,"HV Generation Site Specific","£/MWh/year"]
[null,null,null,null,null,"HV Generation Site Specific no RP Charge","£/MWh/year"]
[]
[null,"Checks"]
[]
[null,null,null,null,"Check for error values",null,"number of issues",{"$f":"SUM(IF(ISERROR(H19:Q2135), 1))","v":0}]
[]
[null,null,null,null,"Summary of checks",null,"number of issues",{"$f":"SUM(H2138)","v":0}]
[]
[null,"End of sheet"]

{"sheet":"CIRP_Inputs by network level","index":12,"n_rows":220,"n_cols":19,"rows_kept":220,"cut":false,"hidden":false,"merged":[]}
[{"$f":"MID(CELL(\"filename\",A1),FIND(\"]\",CELL(\"filename\",A1))+1,255)","v":"CIRP_Inputs by network level"}]
[{"$f":"Cover!D23 & \" - \" & TEXT(CIRP_submission_date, \"mmm\") & \"-\" & RIGHT(YEAR(CIRP_submission_date), 2) & \" - \" & Cover!D25","v":"SP Distribution - Jan-26 - V1"}]
[{"$f":"Cover!D2&\" - \"&Cover!D8&\" v\"&Cover!D10&\" - \"&Cover!D19","v":"Cost Information Review Pack (CIRP) - Release for charge setting v1 - 2027/28"}]
[{"$f":"H218 & IF(H218 = 1, \" issue\", \" issues\") &\" identified in checks on this sheet\"","v":"0 issues identified in checks on this sheet"},null,null,null,null,null,null,null,null,null,null,true,true,true]
[null,null,null,null,null,null,null,null,null,{"$f":"\"Year selected (\"& charging_year_selected &\")\"","v":"Year selected (2027/28)"},null,{"$f":"TRANSPOSE('CIRP_User control'!G27:H32)","v":"2024/25"},"2025/26","2026/27","2027/28","2028/29","2029/30"]
[null,"Click here to return to model map",null,null,null,null,"Units","Constants",null,{"$f":"'CIRP_User control'!$H$41","v":"Published"},null,"Historic","Current","Published","Published","Forecast","Forecast",null,"Legal text reference"]
[]
[null,"Description"]
[]
[null,null,"This sheet sets out inputs by network level and by year."]
[null,null,"DNOs should populate the inputs for the charging year and the four following years."]
[null,null,"DNOs can also populate the three years preceding the charging year, but are not obliged to do so. "]
[]
[null,"Inputs by network level"]
[]
[null,null,{"$f":"INDEX('Version control'!$H$29:$H$55,MATCH($A$1,'Version control'!$F$29:$F$55,0),1)&\"-A: Diversity allowance between top and bottom of network level\"","v":"Input 502-A: Diversity allowance between top and bottom of network level"}]
[]
[null,null,null,null,"Diversity allowance between top and bottom of network level",null,null,null,">",null,null,null,null,null,null,null,null,null,"Paragraphs 26 to 28"]
[null,null,null,null,null,"Transmission exit","%"]
[null,null,null,null,null,"GSPs","%",null,null,{"$f":"CHOOSE(charging_year_selected_index, L20,M20,N20,O20,P20,Q20)","v":0.11600000000000001},null,0.11600000000000001,0.11600000000000001,0.11600000000000001,0.11600000000000001,{"$f":"$O20","v":0.11600000000000001},0.11600000000000001]
[null,null,null,null,null,"132kV","%",null,null,{"$f":"CHOOSE(charging_year_selected_index, L21,M21,N21,O21,P21,Q21)","v":0},null,0,0,0,0,0,0]
[null,null,null,null,null,"132kV/EHV","%"]
[null,null,null,null,null,"EHV","%",null,null,{"$f":"CHOOSE(charging_year_selected_index, L23,M23,N23,O23,P23,Q23)","v":0.13},null,0.13,0.13,0.13,0.13,{"$f":"$O23","v":0.13},0.13]
[null,null,null,null,null,"EHV/HV","%"]
[null,null,null,null,null,"132kV/HV","%"]
[null,null,null,null,null,"HV","%",null,null,{"$f":"CHOOSE(charging_year_selected_index, L26,M26,N26,O26,P26,Q26)","v":0.25},null,0.25,0.25,0.25,0.25,{"$f":"$O26","v":0.25},0.25]
[null,null,null,null,null,"HV/LV","%"]
[null,null,null,null,null,"LV circuits","%"]
[]
[null,null,{"$f":"INDEX('Version control'!$H$29:$H$55,MATCH($A$1,'Version control'!$F$29:$F$55,0),1)&\"-B: Proportion of EHV/HV load going through 132kV/HV direct transformation\"","v":"Input 502-B: Proportion of EHV/HV load going through 132kV/HV direct transformation"}]
[]
[null,null,null,null,"Proportion of EHV/HV load going through 132kV/HV direct transformation"]
[null,null,null,null,null,"Transmission exit","%"]
[null,null,null,null,null,"GSPs","%"]
[null,null,null,null,null,"132kV","%"]
[null,null,null,null,null,"132kV/EHV","%"]
[null,null,null,null,null,"EHV","%"]
[null,null,null,null,null,"EHV/HV","%"]
[null,null,null,null,null,"132kV/HV","%",null,null,{"$f":"CHOOSE(charging_year_selected_index, L39,M39,N39,O39,P39,Q39)","v":0},null,0,0,0,0,{"$f":"$O39","v":0},0]
[null,null,null,null,null,"HV","%"]
[null,null,null,null,null,"HV/LV","%"]
[null,null,null,null,null,"LV circuits","%"]
[]
[null,null,{"$f":"INDEX('Version control'!$H$29:$H$55,MATCH($A$1,'Version control'!$F$29:$F$55,0),1)&\"-C: Loss adjustment factors to transmission\"","v":"Input 502-C: Loss adjustment factors to transmission"}]
[]
[null,null,null,null,"Loss adjustment factors to transmission",null,null,null,">",null,null,null,null,null,null,null,null,null,"Paragraph 47"]
[null,null,null,null,null,"Transmission exit","scalar"]
[null,null,null,null,null,"GSPs","scalar",null,null,{"$f":"CHOOSE(charging_year_selected_index, L48,M48,N48,O48,P48,Q48)","v":1},null,1,1,1,1,{"$f":"$O48","v":1},1]
[null,null,null,null,null,"132kV","scalar",null,null,{"$f":"CHOOSE(charging_year_selected_index, L49,M49,N49,O49,P49,Q49)","v":1},null,1,1,1,1,1,1]
[null,null,null,null,null,"132kV/EHV","scalar",null,null,{"$f":"CHOOSE(charging_year_selected_index, L50,M50,N50,O50,P50,Q50)","v":1},null,1,1,1,1,1,1]
[null,null,null,null,null,"EHV","scalar",null,null,{"$f":"CHOOSE(charging_year_selected_index, L51,M51,N51,O51,P51,Q51)","v":1.0029999999999999},null,1.002,1.0029999999999999,1.0029999999999999,1.0029999999999999,1.0029999999999999,1.0029999999999999]
[null,null,null,null,null,"EHV/HV","scalar",null,null,{"$f":"CHOOSE(charging_year_selected_index, L52,M52,N52,O52,P52,Q52)","v":1.0129999999999999},null,1.0129999999999999,1.0129999999999999,1.0129999999999999,1.0129999999999999,1.0129999999999999,1.0129999999999999]
[null,null,null,null,null,"132kV/HV","scalar"]
[null,null,null,null,null,"HV","scalar",null,null,{"$f":"CHOOSE(charging_year_selected_index, L54,M54,N54,O54,P54,Q54)","v":1.0249999999999999},null,1.024,1.0249999999999999,1.0249999999999999,1.0249999999999999,{"$f":"$O54","v":1.0249999999999999},1.0249999999999999]
[null,null,null,null,null,"HV/LV","scalar",null,null,{"$f":"CHOOSE(charging_year_selected_index, L55,M55,N55,O55,P55,Q55)","v":1.0449999999999999},null,1.044,1.044,1.0449999999999999,1.0449999999999999,1.0449999999999999,1.0449999999999999]
[null,null,null,null,null,"LV circuits","scalar",null,null,{"$f":"CHOOSE(charging_year_selected_index, L56,M56,N56,O56,P56,Q56)","v":1.1299999999999999},null,1.105,1.109,1.117,1.1299999999999999,1.1299999999999999,1.1299999999999999]
[]
[null,null,{"$f":"INDEX('Version control'!$H$29:$H$55,MATCH($A$1,'Version control'!$F$29:$F$55,0),1)&\"-D: Average kVAr by kVA, by network level\"","v":"Input 502-D: Average kVAr by kVA, by network level"}]
[]
[null,null,null,null,"Average kVAr by kVA, by network level",null,null,null,">",null,null,null,null,null,null,null,null,null,"Paragraphs 50 to 51"]
[null,null,null,null,null,"Transmission exit","kVAr/ kVA"]
[null,null,null,null,null,"GSPs","kVAr/ kVA",null,null,{"$f":"CHOOSE(charging_year_selected_index, L62,M62,N62,O62,P62,Q62)","v":0.12509349051851895},null,0.13760822365485234,0.17778534417370662,0.16124016251649681,0.12509349051851895,{"$f":"$O62","v":0.12509349051851895},0.12509349051851895]
[null,null,null,null,null,"132kV","kVAr/ kVA",null,null,0,null,0,0,0,0,0,0]
[null,null,null,null,null,"132kV/EHV","kVAr/ kVA",null,null,0,null,0,0,0,0,0,0]
[null,null,null,null,null,"EHV","kVAr/ kVA",null,null,0.12509349051851895,null,0.13760822365485234,0.17778534417370662,0.16124016251649681,0.12509349051851895,0.12509349051851895,0.12509349051851895]
[null,null,null,null,null,"EHV/HV","kVAr/ kVA",null,null,0.17242530530783179,null,0.15699594310556997,0.14192401313923816,0.15931871770952657,0.17242530530783179,0.17242530530783179,0.17242530530783179]
[null,null,null,null,null,"132kV/HV","kVAr/ kVA",null,null,0,null,0,0,0,0,0,0]
[null,null,null,null,null,"HV","kVAr/ kVA",null,null,0.17242530530783179,null,0.15699594310556997,0.14192401313923816,0.15931871770952657,0.17242530530783179,0.17242530530783179,0.17242530530783179]
[null,null,null,null,null,"HV/LV","kVAr/ kVA",null,null,0.17242530530783179,null,0.15699594310556997,0.14192401313923816,0.15931871770952657,0.17242530530783179,0.17242530530783179,0.17242530530783179]
[null,null,null,null,null,"LV circuits","kVAr/ kVA",null,null,0.17242530530783179,null,0.15699594310556997,0.14192401313923816,0.15931871770952657,0.17242530530783179,0.17242530530783179,0.17242530530783179]
[]
[null,null,{"$f":"INDEX('Version control'!$H$29:$H$55,MATCH($A$1,'Version control'!$F$29:$F$55,0),1)&\"-E: Customer contributions under current connection charging policy\"","v":"Input 502-E: Customer contributions under current connection charging policy"}]
[]
[null,null,null,"Customer contributions under current connection charging policy",null,null,null,null,">",null,null,null,null,null,null,null,null,null,"Paragraphs 29 to 31"]
[null,null,null,null,"LV network"]
[null,null,null,null,null,"Transmission exit","%"]
[null,null,null,null,null,"GSPs","%"]
[null,null,null,null,null,"132kV","%",null,null,{"$f":"CHOOSE(charging_year_selected_index, L78,M78,N78,O78,P78,Q78)","v":0},null,0,0,0,0,{"$f":"$O78","v":0},0]
[null,null,null,null,null,"132kV/EHV","%",null,null,0,null,0,0,0,0,0,0]
[null,null,null,null,null,"EHV","%",null,null,0,null,0,0,0,0,0,0]
[null,null,null,null,null,"EHV/HV","%",null,null,0,null,0,0,0,0,0,0]
[null,null,null,null,null,"132kV/HV","%",null,null,0,null,0,0,0,0,0,0]
[null,null,null,null,null,"HV","%",null,null,0,null,0.20065197841726601,0,0,0,0,0]
[null,null,null,null,null,"HV/LV","%",null,null,0,null,0.26968503937007898,0,0,0,0,0]
[null,null,null,null,null,"LV circuits","%",null,null,0,null,0.92371773930088197,0,0,0,0,0]
[null,null,null,null,"LV substation"]
[null,null,null,null,null,"Transmission exit","%"]
[null,null,null,null,null,"GSPs","%"]
[null,null,null,null,null,"132kV","%",null,null,{"$f":"CHOOSE(charging_year_selected_index, L89,M89,N89,O89,P89,Q89)","v":0},null,0,0,0,0,{"$f":"$O89","v":0},0]
[null,null,null,null,null,"132kV/EHV","%",null,null,0,null,0,0,0,0,0,0]
[null,null,null,null,null,"EHV","%",null,null,0,null,0,0,0,0,0,0]
[null,null,null,null,null,"EHV/HV","%",null,null,0,null,0,0,0,0,0,0]
[null,null,null,null,null,"132kV/HV","%",null,null,0,null,0,0,0,0,0,0]
[null,null,null,null,null,"HV","%",null,null,0,null,0.20065197841726601,0,0,0,0,0]
[null,null,null,null,null,"HV/LV","%",null,null,0,null,0.26968503937007898,0,0,0,0,0]
[null,null,null,null,null,"LV circuits","%"]
[null,null,null,null,"HV network"]
[null,null,null,null,null,"Transmission exit","%"]
[null,null,null,null,null,"GSPs","%"]
[null,null,null,null,null,"132kV","%",null,null,{"$f":"CHOOSE(charging_year_selected_index, L100,M100,N100,O100,P100,Q100)","v":0},null,0,0,0,0,{"$f":"$O100","v":0},0]
[null,null,null,null,null,"132kV/EHV","%",null,null,0,null,0,0,0,0,0,0]
[null,null,null,null,null,"EHV","%",null,null,0,null,3.11004784688995E-2,0,0,0,0,0]
[null,null,null,null,null,"EHV/HV","%",null,null,0,null,0.14212259371833799,0,0,0,0,0]
[null,null,null,null,null,"132kV/HV","%",null,null,0,null,0,0,0,0,0,0]
[null,null,null,null,null,"HV","%",null,null,0,null,0.45146695143884902,0,0,0,0,0]
[null,null,null,null,null,"HV/LV","%"]
[null,null,null,null,null,"LV circuits","%"]
[null,null,null,null,"HV substation"]
[null,null,null,null,null,"Transmission exit","%"]
[null,null,null,null,null,"GSPs","%"]
[null,null,null,null,null,"132kV","%",null,null,{"$f":"CHOOSE(charging_year_selected_index, L111,M111,N111,O111,P111,Q111)","v":0},null,0,0,0,0,{"$f":"$O111","v":0},0]
[null,null,null,null,null,"132kV/EHV","%",null,null,{"$f":"CHOOSE(charging_year_selected_index, L112,M112,N112,O112,P112,Q112)","v":0},null,0,0,0,0,0,0]
[null,null,null,null,null,"EHV","%",null,null,{"$f":"CHOOSE(charging_year_selected_index, L113,M113,N113,O113,P113,Q113)","v":0},null,3.11004784688995E-2,0,0,0,0,0]
[null,null,null,null,null,"EHV/HV","%",null,null,{"$f":"CHOOSE(charging_year_selected_index, L114,M114,N114,O114,P114,Q114)","v":0},null,0.14212259371833799,0,0,0,0,0]
[null,null,null,null,null,"132kV/HV","%"]
[null,null,null,null,null,"HV","%"]
[null,null,null,null,null,"HV/LV","%"]
[null,null,null,null,null,"LV circuits","%"]
[]
[null,null,{"$f":"INDEX('Version control'!$H$29:$H$55,MATCH($A$1,'Version control'!$F$29:$F$55,0),1)&\"-F: Gross asset cost by network level\"","v":"Input 502-F: Gross asset cost by network level"}]
[]
[null,null,null,null,"Gross asset cost by network level"]
[null,null,null,null,null,"Transmission exit","£"]
[null,null,null,null,null,"GSPs","£"]
[null,null,null,null,null,"132kV","£",null,null,{"$f":"CHOOSE(charging_year_selected_index, L125,M125,N125,O125,P125,Q125)","v":0},null,0,0,0,0,{"$f":"('CIRP_General inputs'!P$77/'CIRP_General inputs'!O$77)*O125","v":0},{"$f":"('CIRP_General inputs'!Q$77/'CIRP_General inputs'!P$77)*P125","v":0}]
[null,null,null,null,null,"132kV/EHV","£",null,null,0,null,0,0,0,0,{"$f":"('CIRP_General inputs'!P$77/'CIRP_General inputs'!O$77)*O126","v":0},{"$f":"('CIRP_General inputs'!Q$77/'CIRP_General inputs'!P$77)*P126","v":0}]
[null,null,null,null,null,"EHV","£",null,null,141269535.36136067,null,136991665.09249207,136254397.18751031,138355655.45867637,141269535.36136067,144094926.0685879,146976824.58995965]
[null,null,null,null,null,"EHV/HV","£",null,null,36199599.838147812,null,35103417.342067286,34914496.191689178,35452932.935168505,36199599.838147812,36923591.834910765,37662063.671608984]
[null,null,null,null,null,"132kV/HV","£",null,null,0,null,0,0,0,0,0,0]
[null,null,null,null,null,"HV","£",null,null,155731692.62012157,null,151015884.81289625,150203140.73142385,152519510.68594852,155731692.62012157,158846326.47252402,162023253.00197449]
[null,null,null,null,null,"HV/LV","£",null,null,39139783.964567825,null,37954567.932507738,37750302.331639282,38332471.690212078,39139783.964567825,39922579.643859185,40721031.236736372]
[null,null,null,null,null,"LV circuits","£",null,null,65834354.069705926,null,63840783.232054584,63497202.033343598,64476429.300298147,65834354.069705926,67151041.151100039,68494061.974122047]
[]
[null,null,{"$f":"INDEX('Version control'!$H$29:$H$55,MATCH($A$1,'Version control'!$F$29:$F$55,0),1)&\"-G: Peaking probabilities, by timeband & network level\"","v":"Input 502-G: Peaking probabilities, by timeband & network level"}]
[]
[null,null,"Red, Amber & Green peaking probabilities must sum to 100%, except for unused network levels, which should sum to 0%"]
[]
[null,null,null,null,"Red peaking probabilities, by network level",null,null,null,">",null,null,"updated not linking to ARP from last year",null,null,null,null,null,null,"Paragraphs 48 to 49"]
[null,null,null,null,null,"Transmission exit","%"]
[null,null,null,null,null,"GSPs","%",null,null,{"$f":"CHOOSE(charging_year_selected_index, L140,M140,N140,O140,P140,Q140)","v":0.76967160503936027},null,0.73908767276423848,0.75344120840111983,0.74922284121778759,0.76967160503936027,{"$f":"$O140","v":0.76967160503936027},0.76967160503936027]
[null,null,null,null,null,"132kV","%",null,null,0,null,0,0,0,0,0,0]
[null,null,null,null,null,"132kV/EHV","%",null,null,0,null,0,0,0,0,0,0]
[null,null,null,null,null,"EHV","%",null,null,0.76967160503936027,null,0.73908767276423848,0.75344120840111983,0.74922284121778759,0.76967160503936027,0.76967160503936027,0.76967160503936027]
[null,null,null,null,null,"EHV/HV","%",null,null,0.59670716638348686,null,0.59550355516188336,0.60451701500933874,0.60077390120404817,0.59670716638348686,0.59670716638348686,0.59670716638348686]
[null,null,null,null,null,"132kV/HV","%",null,null,0,null,0,0,0,0,0,0]
[null,null,null,null,null,"HV","%",null,null,0.59670716638348686,null,0.59550355516188336,0.60451701500933874,0.60077390120404817,0.59670716638348686,0.59670716638348686,0.59670716638348686]
[null,null,null,null,null,"HV/LV","%",null,null,0.59670716638348686,null,0.59550355516188336,0.60451701500933874,0.60077390120404817,0.59670716638348686,0.59670716638348686,0.59670716638348686]
[null,null,null,null,null,"LV circuits","%",null,null,0.59670716638348686,null,0.59550355516188336,0.60451701500933874,0.60077390120404817,0.59670716638348686,0.59670716638348686,0.59670716638348686]
[]
[null,null,null,null,"Amber peaking probabilities, by network level",null,null,null,">",null,null,null,null,null,null,null,null,null,"Paragraphs 48 to 49"]
[null,null,null,null,null,"Transmission exit","%"]
[null,null,null,null,null,"GSPs","%",null,null,{"$f":"CHOOSE(charging_year_selected_index, L152,M152,N152,O152,P152,Q152)","v":0.22076803763015043},null,0.25617846550417606,0.23932441085978642,0.24046824194338834,0.22076803763015043,{"$f":"$O152","v":0.22076803763015043},0.22076803763015043]
[null,null,null,null,null,"132kV","%",null,null,0,null,0,0,0,0,0,0]
[null,null,null,null,null,"132kV/EHV","%",null,null,0,null,0,0,0,0,0,0]
[null,null,null,null,null,"EHV","%",null,null,0.22076803763015043,null,0.25617846550417606,0.23932441085978642,0.24046824194338834,0.22076803763015043,0.22076803763015043,0.22076803763015043]
[null,null,null,null,null,"EHV/HV","%",null,null,0.39324040659813542,null,0.39398042542826833,0.38575653098498325,0.38797634851240143,0.39324040659813542,0.39324040659813542,0.39324040659813542]
[null,null,null,null,null,"132kV/HV","%",null,null,0,null,0,0,0,0,0,0]
[null,null,null,null,null,"HV","%",null,null,0.39324040659813542,null,0.39398042542826833,0.38575653098498325,0.38797634851240143,0.39324040659813542,0.39324040659813542,0.39324040659813542]
[null,null,null,null,null,"HV/LV","%",null,null,0.39324040659813542,null,0.39398042542826833,0.38575653098498325,0.38797634851240143,0.39324040659813542,0.39324040659813542,0.39324040659813542]
[null,null,null,null,null,"LV circuits","%",null,null,0.39324040659813542,null,0.39398042542826833,0.38575653098498325,0.38797634851240143,0.39324040659813542,0.39324040659813542,0.39324040659813542]
[]
[null,null,null,null,"Green peaking probabilities, by network level",null,null,null,">",null,null,null,null,null,null,null,null,null,"Paragraphs 48 to 49"]
[null,null,null,null,null,"Transmission exit","%"]
[null,null,null,null,null,"GSPs","%",null,null,{"$f":"CHOOSE(charging_year_selected_index, L164,M164,N164,O164,P164,Q164)","v":9.5603573304894624E-3},null,4.7341428587617208E-3,7.2346618662699298E-3,1.0308916838824006E-2,9.5603573304894624E-3,{"$f":"$O164","v":9.5603573304894624E-3},9.5603573304894624E-3]
[null,null,null,null,null,"132kV","%",null,null,0,null,0,0,0,0,0,0]
[null,null,null,null,null,"132kV/EHV","%",null,null,0,null,0,0,0,0,0,0]
[null,null,null,null,null,"EHV","%",null,null,9.5603573304894624E-3,null,4.7341428587617208E-3,7.2346618662699298E-3,1.0308916838824006E-2,9.5603573304894624E-3,9.5603573304894624E-3,9.5603573304894624E-3]
[null,null,null,null,null,"EHV/HV","%",null,null,1.0052427018378092E-2,null,1.051601940984799E-2,9.7264540056779831E-3,1.1249750283550589E-2,1.0052427018378092E-2,1.0052427018378092E-2,1.0052427018378092E-2]
[null,null,null,null,null,"132kV/HV","%",null,null,0,null,0,0,0,0,0,0]
[null,null,null,null,null,"HV","%",null,null,1.0052427018378092E-2,null,1.051601940984799E-2,9.7264540056779831E-3,1.1249750283550589E-2,1.0052427018378092E-2,1.0052427018378092E-2,1.0052427018378092E-2]
[null,null,null,null,null,"HV/LV","%",null,null,1.0052427018378092E-2,null,1.051601940984799E-2,9.7264540056779831E-3,1.1249750283550589E-2,1.0052427018378092E-2,1.0052427018378092E-2,1.0052427018378092E-2]
[null,null,null,null,null,"LV circuits","%",null,null,1.0052427018378092E-2,null,1.051601940984799E-2,9.7264540056779831E-3,1.1249750283550589E-2,1.0052427018378092E-2,1.0052427018378092E-2,1.0052427018378092E-2]
[]
[null,null,null,null,"Black peaking probabilities, by network level"]
[null,null,null,null,null,"Transmission exit","%"]
[null,null,null,null,null,"GSPs","%",null,null,{"$f":"CHOOSE(charging_year_selected_index, L176,M176,N176,O176,P176,Q176)","v":0.74038510188731843},null,0.66927169570754697,0.69946786579381059,0.69274596634732521,0.74038510188731843,{"$f":"$O176","v":0.74038510188731843},0.74038510188731843]
[null,null,null,null,null,"132kV","%",null,null,0,null,0,0,0,0,0,0]
[null,null,null,null,null,"132kV/EHV","%",null,null,0,null,0,0,0,0,0,0]
[null,null,null,null,null,"EHV","%",null,null,0.74038510188731843,null,0.66927169570754697,0.69946786579381059,0.69274596634732521,0.74038510188731843,0.74038510188731843,0.74038510188731843]
[null,null,null,null,null,"EHV/HV","%",null,null,0.58981550082627798,null,0.56487110652622663,0.58082759369516379,0.58510970629190229,0.58981550082627798,0.58981550082627798,0.58981550082627798]
[null,null,null,null,null,"132kV/HV","%",null,null,0,null,0,0,0,0,0,0]
[null,null,null,null,null,"HV","%",null,null,0.58981550082627798,null,0.56487110652622663,0.58082759369516379,0.58510970629190229,0.58981550082627798,0.58981550082627798,0.58981550082627798]
[null,null,null,null,null,"HV/LV","%",null,null,0.58981550082627798,null,0.56487110652622663,0.58082759369516379,0.58510970629190229,0.58981550082627798,0.58981550082627798,0.58981550082627798]
[null,null,null,null,null,"LV circuits","%",null,null,0.58981550082627798,null,0.56487110652622663,0.58082759369516379,0.58510970629190229,0.58981550082627798,0.58981550082627798,0.58981550082627798]
[]
[null,"Checks"]
[]
[null,null,"Checks are not run for historic years, for which DNOs are not obliged to enter inputs."]
[]
[null,null,null,null,"Check for error values",null,"number of issues",{"$f":"SUM(IF(ISERROR(H18:R185), 1))","v":0}]
[]
[null,null,null,null,"Check that loss adjustment factor = 1 at grid supply point",null,"number of issues",{"$f":"SUM(L192:Q192)","v":0},null,null,null,null,null,null,{"$f":"IF(O48 = 1, 0, 1)","v":0},{"$f":"IF(P48 = 1, 0, 1)","v":0},{"$f":"IF(Q48 = 1, 0, 1)","v":0}]
[]
[null,null,null,null,"Peaking probabilities check - General"]
[null,null,null,null,null,"Transmission exit","number of issues"]
[null,null,null,null,null,"GSPs","number of issues",{"$f":"SUM(L196:Q196)","v":0},null,null,null,null,null,null,{"$f":"IF(ABS(SUM(O140,O152,O164) - 1) < 10^-check_decimals,0,1)","v":0},{"$f":"IF(ABS(SUM(P140,P152,P164) - 1) < 10^-check_decimals,0,1)","v":0},{"$f":"IF(ABS(SUM(Q140,Q152,Q164) - 1) < 10^-check_decimals,0,1)","v":0}]
[null,null,null,null,null,"132kV","number of issues"]
[null,null,null,null,null,"132kV/EHV","number of issues"]
[null,null,null,null,null,"EHV","number of issues",{"$f":"SUM(L199:Q199)","v":0},null,null,null,null,null,null,{"$f":"IF(ABS(SUM(O143,O155,O167) - 1) < 10^-check_decimals,0,1)","v":0},0,0]
[null,null,null,null,null,"EHV/HV","number of issues",{"$f":"SUM(L200:Q200)","v":0},null,null,null,null,null,null,0,0,0]
[null,null,null,null,null,"132kV/HV","number of issues"]
[null,null,null,null,null,"HV","number of issues",{"$f":"SUM(L202:Q202)","v":0},null,null,null,null,null,null,{"$f":"IF(ABS(SUM(O146,O158,O170) - 1) < 10^-check_decimals,0,1)","v":0},0,0]
[null,null,null,null,null,"HV/LV","number of issues",{"$f":"SUM(L203:Q203)","v":0},null,null,null,null,null,null,0,0,0]
[null,null,null,null,null,"LV circuits","number of issues",{"$f":"SUM(L204:Q204)","v":0},null,null,null,null,null,null,0,0,0]
[]
[null,null,null,null,"Peaking probabilities check - 132kV/HV"]
[null,null,null,null,null,"Transmission exit","number of issues"]
[null,null,null,null,null,"GSPs","number of issues"]
[null,null,null,null,null,"132kV","number of issues",{"$f":"SUM(L209:Q209)","v":0},null,null,null,null,null,null,{"$f":"IF(OR(ABS(SUM(O141,O153,O165) - 1) < 10^-check_decimals, ABS(SUM(O141,O153,O165) - 0) < 10^-check_decimals),0,1)","v":0},0,0]
[null,null,null,null,null,"132kV/EHV","number of issues",{"$f":"SUM(L210:Q210)","v":0},null,null,null,null,null,null,0,0,0]
[null,null,null,null,null,"EHV","number of issues"]
[null,null,null,null,null,"EHV/HV","number of issues"]
[null,null,null,null,null,"132kV/HV","number of issues",{"$f":"SUM(L213:Q213)","v":0},null,null,null,null,null,null,{"$f":"IF(OR(ABS(SUM(O145,O157,O169) - 1) < 10^-check_decimals, ABS(SUM(O145,O157,O169) - 0) < 10^-check_decimals),0,1)","v":0},{"$f":"IF(OR(ABS(SUM(P145,P157,P169) - 1) < 10^-check_decimals, ABS(SUM(P145,P157,P169) - 0) < 10^-check_decimals),0,1)","v":0},{"$f":"IF(OR(ABS(SUM(Q145,Q157,Q169) - 1) < 10^-check_decimals, ABS(SUM(Q145,Q157,Q169) - 0) < 10^-check_decimals),0,1)","v":0}]
[null,null,null,null,null,"HV","number of issues"]
[null,null,null,null,null,"HV/LV","number of issues"]
[null,null,null,null,null,"LV circuits","number of issues"]
[]
[null,null,null,null,"Summary of checks",null,"number of issues",{"$f":"SUM(H190,H192,H195:H204,H207:H216)","v":0}]
[]
[null,"End of sheet"]

{"sheet":"CIRP_General inputs","index":13,"n_rows":125,"n_cols":36,"rows_kept":125,"cut":false,"hidden":false,"merged":[]}
[{"$f":"MID(CELL(\"filename\",A1),FIND(\"]\",CELL(\"filename\",A1))+1,255)","v":"CIRP_General inputs"}]
[{"$f":"Cover!D23 & \" - \" & TEXT(CIRP_submission_date, \"mmm\") & \"-\" & RIGHT(YEAR(CIRP_submission_date), 2) & \" - \" & Cover!D25","v":"SP Distribution - Jan-26 - V1"}]
[{"$f":"Cover!D2&\" - \"&Cover!D8&\" v\"&Cover!D10&\" - \"&Cover!D19","v":"Cost Information Review Pack (CIRP) - Release for charge setting v1 - 2027/28"}]
[{"$f":"H123 & IF(H123 = 1, \" issue\", \" issues\") &\" identified in checks on this sheet\"","v":"0 issues identified in checks on this sheet"},null,null,null,null,null,null,null,null,null,null,true,true,true]
[null,null,null,null,null,null,null,null,null,{"$f":"\"Year selected (\"& charging_year_selected &\")\"","v":"Year selected (2027/28)"},null,{"$f":"TRANSPOSE('CIRP_User control'!G27:H32)","v":"2024/25"},"2025/26","2026/27","2027/28","2028/29","2029/30"]
[null,"Click here to return to model map",null,null,null,null,"Units","Constants",null,{"$f":"'CIRP_User control'!$H$41","v":"Published"},null,"Historic","Current","Published","Published","Forecast","Forecast",null,"Legal text reference"]
[]
[null,"Description"]
[]
[null,null,"This sheet sets out general inputs by year."]
[null,null,"DNOs should populate the inputs for the charging year and the four following years."]
[null,null,"DNOs can also populate the three years preceding the charging year, but are not obliged to do so. "]
[]
[null,"General inputs"]
[]
[null,null,{"$f":"INDEX('Version control'!$H$29:$H$55,MATCH($A$1,'Version control'!$F$29:$F$55,0),1)&\"-A: Split of hours by distribution timeband\"","v":"Input 503-A: Split of hours by distribution timeband"}]
[]
[null,null,null,null,"Typical annual hours by special distribution time band",null,null,null,">",null,null,null,null,null,null,null,null,null,"Paragraphs 40 to 41"]
[null,null,null,null,null,"Black","hours per year",null,null,{"$f":"CHOOSE(charging_year_selected_index, L19,M19,N19,O19,P19,Q19)","v":261},null,258,255,255,261,258,258]
[null,null,null,null,null,"Yellow","hours per year",null,null,{"$f":"CHOOSE(charging_year_selected_index, L20,M20,N20,O20,P20,Q20)","v":3954},null,3942.5,3945.5,3945.5,3954,3932,3932]
[null,null,null,null,null,"Green","hours per year",null,null,{"$f":"CHOOSE(charging_year_selected_index, L21,M21,N21,O21,P21,Q21)","v":4569},null,4559.5,4559.5,4559.5,4569,4570,4570]
[]
[null,null,null,null,"Typical annual hours by distribution time band",null,null,null,">",null,null,null,null,null,null,null,null,null,"Paragraphs 40 to 41"]
[null,null,null,null,null,"Red","hours per year",null,null,{"$f":"CHOOSE(charging_year_selected_index, L24,M24,N24,O24,P24,Q24)","v":786},null,783,783,783,786,780,780]
[null,null,null,null,null,"Amber","hours per year",null,null,{"$f":"CHOOSE(charging_year_selected_index, L25,M25,N25,O25,P25,Q25)","v":3429},null,3417.5,3417.5,3417.5,3429,3410,3410]
[null,null,null,null,null,"Green","hours per year",null,null,{"$f":"CHOOSE(charging_year_selected_index, L26,M26,N26,O26,P26,Q26)","v":4569},null,4559.5,4559.5,4559.5,4569,4570,4570]
[]
[null,null,{"$f":"INDEX('Version control'!$H$29:$H$55,MATCH($A$1,'Version control'!$F$29:$F$55,0),1)&\"-B: Embedded network (LDNO) discount percentages\"","v":"Input 503-B: Embedded network (LDNO) discount percentages"}]
[]
[null,null,null,"Inputs sourced from PCDM"]
[]
[null,null,null,null,"Embedded network (LDNO) discount percentages",null,null,null,">",null,null,null,null,null,null,null,null,null,"Paragraph 53"]
[null,null,null,null,null,"LDNO LV: LV user","%",null,null,{"$f":"CHOOSE(charging_year_selected_index, L33,M33,N33,O33,P33,Q33)","v":0.39602144078246099},null,0.40624392198207837,0.4003457929697154,0.40098343624017896,0.39602144078246099,{"$f":"$O33","v":0.39602144078246099},0.39602144078246099]
[null,null,null,null,null,"LDNO HV: LV user","%",null,null,{"$f":"CHOOSE(charging_year_selected_index, L34,M34,N34,O34,P34,Q34)","v":0.60683298358343041},null,0.60699642425647604,0.60435784445160401,0.60914690624256773,0.60683298358343041,0.60683298358343041,0.60683298358343041,null,null,null,"NHH UMS category D","LV UMS (Pseudo HH Metered)","LV Generation NHH or Aggregate HH","LV Sub Generation NHH","LV Generation Intermittent","LV Generation Intermittent no RP charge","LV Generation Non-Intermittent","LV Generation Non-Intermittent no RP charge","LV Sub Generation Intermittent","LV Sub Generation Intermittent no RP charge","LV Sub Generation Non-Intermittent","LV Sub Generation Non-Intermittent no RP charge","HV Generation Intermittent","HV Generation Intermittent no RP charge","HV Generation Non-Intermittent","HV Generation Non-Intermittent no RP charge"]
[null,null,null,null,null,"LDNO HV: LV Sub user","%",null,null,{"$f":"CHOOSE(charging_year_selected_index, L35,M35,N35,O35,P35,Q35)","v":0.34783515419041816},null,0.33703941159411843,0.33898658826357436,0.3462898560413406,0.34783515419041816,0.34783515419041816,0.34783515419041816]
[null,null,null,null,null,"LDNO HV: HV user","%",null,null,{"$f":"CHOOSE(charging_year_selected_index, L36,M36,N36,O36,P36,Q36)","v":0.24889531348591729},null,0.23936190643348279,0.24054198685119213,0.24780475885631542,0.24889531348591729,0.24889531348591729,0.24889531348591729]
[]
[null,null,{"$f":"INDEX('Version control'!$H$29:$H$55,MATCH($A$1,'Version control'!$F$29:$F$55,0),1)&\"-C: CDCM target revenue\"","v":"Input 503-C: CDCM target revenue"}]
[]
[null,null,null,"The contents of this table are defined on the DCUSA website and referenced in Schedule 20 (Appendix A - Table 1).",null,null,null,null,">",null,null,null,null,null,null,null,null,null,"Paragraph 54, Schedule 15 Table 1"]
[]
[null,null,null,"Base Revenue"]
[null,null,null,null,"Fast money",null,"£m 20/21 prices",null,null,{"$f":"CHOOSE(charging_year_selected_index, L43,M43,N43,O43,P43,Q43)","v":92.488539912180187},null,88.831050921462307,82.039721215303715,85.129728080543714,92.488539912180187,92.488539912180187,92.488539912180187]
[null,null,null,null,"Depreciation",null,"£m 20/21 prices",null,null,{"$f":"CHOOSE(charging_year_selected_index, L44,M44,N44,O44,P44,Q44)","v":130.17479341457448},null,167.26805175719022,130.5148412053739,130.12640832320554,130.17479341457448,130.17479341457448,130.17479341457448]
[null,null,null,null,"Return",null,"£m 20/21 prices",null,null,{"$f":"CHOOSE(charging_year_selected_index, L45,M45,N45,O45,P45,Q45)","v":97.354253076145795},null,79.096520518145425,84.48477376811482,88.941084196290021,97.354253076145795,97.354253076145795,97.354253076145795]
[null,null,null,null,"Pass-through"]
[null,null,null,null,null,"Licence Fee Payments","£m 20/21 prices",null,null,{"$f":"CHOOSE(charging_year_selected_index, L47,M47,N47,O47,P47,Q47)","v":2.6530185011980367},null,1.5311505000000001,2.1235536836425322,2.4681083129086803,2.6530185011980367,2.6530185011980367,2.6530185011980367]
[null,null,null,null,null,"Prescribed Rates","£m 20/21 prices",null,null,31.715960291527441,null,34.437893730883523,30.551044020964824,35.413526256510949,31.715960291527441,31.715960291527441,31.715960291527441]
[null,null,null,null,null,"Pass-through Transmission Connection Point Charges","£m 20/21 prices",null,null,23.243261487706626,null,19.495537953157548,20.791354697308087,23.30170328778857,23.243261487706626,23.243261487706626,23.243261487706626]
[null,null,null,null,null,"Smart Meter Communication Licensee Costs","£m 20/21 prices",null,null,14.621030922413503,null,2.8,2.8,2.1795832239612638,14.621030922413503,14.621030922413503,14.621030922413503]
[null,null,null,null,null,"Smart Meter Information Technology Costs","£m 20/21 prices",null,null,1.5277685223039756,null,0.75249999999999995,0.40250000000000002,1.5277685223039756,1.5277685223039756,1.5277685223039756,1.5277685223039756]
[null,null,null,null,null,"Ring Fence Costs","£m 20/21 prices",null,null,0,null,0,0,0,0,0,0]
[null,null,null,null,null,"Supplier of Last Resort Net Costs","£m 20/21 prices",null,null,0,null,0,0,0,0,0,0]
[null,null,null,null,null,"Valid Bad Debt Claims","£m 20/21 prices",null,null,0,null,0,0,0,0,0,0]
[null,null,null,null,null,"Pension Scheme Established Deficit repair expenditure","£m 20/21 prices",null,null,-5.7448273360144393,null,30.293123492346989,-5.75,-5.75,-5.7448273360144393,-5.7448273360144393,-5.7448273360144393]
[null,null,null,null,null,"Failed Supplier Recovered Costs","£m 20/21 prices",null,null,0,null,0,0,0,0,0,0]
[null,null,null,null,null,"Shetland Variable Energy Costs (SSEH only)","£m 20/21 prices",null,null,0,null,0,0,0,0,0,0]
[null,null,null,null,null,"Assistance for high-cost distributors adjustment (SSEH only)","£m 20/21 prices",null,null,0,null,0,0,0,0,0,0]
[null,null,null,null,null,"Total pass-through","£m 20/21 prices",null,null,68.016212389135134,null,{"$f":"SUM(L47:L58)","v":89.310205676388065},50.918452401915445,{"$f":"SUM(N47:N58)","v":59.140689603473447},68.016212389135134,68.016212389135134,68.016212389135134]
[null,null,null,null,"Total base revenue",null,"£m 20/21 prices",null,null,388.03379879203561,null,{"$f":"SUM(L43:L45,L59)","v":424.50582887318603},347.95778859070782,363.33791020351271,388.03379879203561,388.03379879203561,388.03379879203561]
[]
[null,null,null,"Other revenue"]
[null,null,null,null,"Return Adjustment",null,"£m 20/21 prices",null,null,{"$f":"CHOOSE(charging_year_selected_index, L63,M63,N63,O63,P63,Q63)","v":0},null,0,0,0,0,0,0]
[null,null,null,null,"Equity issuance costs",null,"£m 20/21 prices",null,null,0,null,0,0,0,0,0,0]
[null,null,null,null,"Business plan incentive",null,"£m 20/21 prices",null,null,0,null,0,0,0,0,0,0]
[null,null,null,null,"Output delivery incentive",null,"£m 20/21 prices",null,null,9.9303147964104745,null,0,0,4.4894937000000112,9.9303147964104745,9.9303147964104745,9.9303147964104745]
[null,null,null,null,"Other revenue allowances",null,"£m 20/21 prices",null,null,0,null,1.0592427429842741,1.1769362633999998,0,0,0,0]
[null,null,null,null,"Directly Remunerated Services",null,"£m 20/21 prices",null,null,-3.061316175368578E-2,null,-3.0988010885995898E-2,-3.0971213125170927E-2,-3.0821056147726233E-2,-3.061316175368578E-2,-3.061316175368578E-2,-3.061316175368578E-2]
[null,null,null,null,"Total other revenue",null,"£m 20/21 prices",null,null,9.8997016346567897,null,{"$f":"SUM(L63:L68)","v":1.0282547320982782},1.1459650502748289,{"$f":"SUM(N63:N68)","v":4.4586726438522852},9.8997016346567897,9.8997016346567897,9.8997016346567897]
[]
[null,null,null,"Calculated revenue (after tax)"]
[null,null,null,null,"Calculated revenue (before tax)",null,"£m 20/21 prices",null,null,{"$f":"CHOOSE(charging_year_selected_index, L72,M72,N72,O72,P72,Q72)","v":397.93350042669238},null,{"$f":"L60+L69","v":425.53408360528431},349.10375364098263,367.79658284736502,397.93350042669238,397.93350042669238,397.93350042669238]
[null,null,null,null,"Tax allowance",null,"£m 20/21 prices",null,null,{"$f":"CHOOSE(charging_year_selected_index, L73,M73,N73,O73,P73,Q73)","v":1.2767760576421814},null,27.823024238674638,1.1986919632990902,1.205115021981205,1.2767760576421814,0,0]
[null,null,null,null,"Tax allowance adjustment",null,"£m 20/21 prices",null,null,{"$f":"CHOOSE(charging_year_selected_index, L74,M74,N74,O74,P74,Q74)","v":0},null,0,0,0,0,0,0]
[null,null,null,null,"Calculated revenue (after tax)",null,"£m 20/21 prices",null,null,{"$f":"CHOOSE(charging_year_selected_index, L75,M75,N75,O75,P75,Q75)","v":399.21027648433454},null,{"$f":"SUM(L72:L74)","v":453.35710784395894},350.30244560428173,{"$f":"SUM(N72:N74)","v":369.00169786934623},399.21027648433454,397.93350042669238,397.93350042669238]
[]
[null,null,null,"Real to nominal prices conversion factor (splice index for RIIO-2)",null,null,"Price index t / Price index 2020/21",null,null,{"$f":"CHOOSE(charging_year_selected_index, L77,M77,N77,O77,P77,Q77)","v":1.4352422149476913},null,1.2487116883061693,1.3511547218960771,1.3841294022609805,1.4352422149476913,1.4639470592466453,1.4932260004315783]
[]
[null,null,null,"Allowed revenue"]
[null,null,null,null,"Nominal calculated revenue (after tax)",null,"£m nominal",null,null,{"$f":"CHOOSE(charging_year_selected_index, L80,M80,N80,O80,P80,Q80)","v":572.96344145125659},null,{"$f":"L77*L75","v":566.11231954143204},473.31280346996897,510.7460995051851,572.96344145125659,582.55357772537991,594.20464927988758]
[null,null,null,null,"Correction term",null,"£m nominal",null,null,32.667119240252319,null,0,14.619308044288076,38.839886820240089,32.667119240252319,0,0]
[null,null,null,null,"Forecasting penalty",null,"£m nominal",null,null,0,null,0,0,0,0,0,0]
[null,null,null,null,"Legacy Allowed Revenue",null,"£m nominal",null,null,1.0795595404165736,null,33.651495417423789,2.3938147970304664,0.99929692706241879,1.0795595404165736,0,0]
[null,null,null,null,"Total allowed revenue",null,"£m nominal",null,null,606.71012023192543,null,{"$f":"SUM(L80:L83)","v":599.76381495885585},490.3259263112875,550.58528325248767,606.71012023192543,{"$f":"SUM(P80:P83)","v":582.55357772537991},594.20464927988758]
[null,null,null,null,"Total allowed revenue",null,"£",null,null,606710120.23192549,null,{"$f":"L84*10^6","v":599763814.95885587},490325926.31128752,550585283.25248766,606710120.23192549,{"$f":"P84*10^6","v":582553577.72537994},594204649.27988756]
[]
[null,null,null,"Allowed revenue by charging model"]
[null,null,null,null,"Revenue raised outside CDCM - EDCM and Certain Interconnector Revenue",null,"£",null,null,{"$f":"CHOOSE(charging_year_selected_index, L88,M88,N88,O88,P88,Q88)","v":13834951.026123252},null,10162887.099556599,11851190.871007122,15713786.697708655,13834951.026123252]
[null,null,null,null,"CDCM revenue",null,"£",null,null,{"$f":"CHOOSE(charging_year_selected_index, L89,M89,N89,O89,P89,Q89)","v":592875169.2058022},null,{"$f":"L85-L88","v":589600927.8592993},478474735.44028038,534871496.55477899,592875169.2058022]
[null,null,null,null,null,null,null,null,null,null,null,true,true,true]
[null,null,null,"Pass-through costs not allocated through revenue matching"]
[null,null,null,null,"Supplier of Last Resort Net Costs",null,"£",null,null,{"$f":"CHOOSE(charging_year_selected_index, L92,M92,N92,O92,P92,Q92)","v":0},null,0,0,0,0]
[null,null,null,null,"Valid Bad Debt Claims",null,"£",null,null,{"$f":"CHOOSE(charging_year_selected_index, L93,M93,N93,O93,P93,Q93)","v":0},null,0,0,0,0]
[]
[null,null,null,"Pass-through Smart Meter Communication Licence Costs",null,null,"£",null,null,{"$f":"CHOOSE(charging_year_selected_index, L95,M95,N95,O95,P95,Q95)","v":20984720.805903442},null,3496392.7272572736,3783233.2213090155,0,20984720.805903442]
[]
[null,null,{"$f":"INDEX('Version control'!$H$29:$H$55,MATCH($A$1,'Version control'!$F$29:$F$55,0),1)&\"-D: Financial and general assumptions\"","v":"Input 503-D: Financial and general assumptions"}]
[null,null,null,null,null,null,null,null,null,null,null,null,null,null,null,null,null,null,"Paragraph 57"]
[null,null,null,null,"Real post-tax cost of capital",null,"%",null,">",{"$f":"CHOOSE(charging_year_selected_index, L99,M99,N99,O99,P99,Q99)","v":4.87E-2},null,3.7400000000000003E-2,4.9000000000000002E-2,4.8399999999999999E-2,4.87E-2,{"$f":"$O99","v":4.87E-2},4.87E-2]
[null,null,null,null,"Days in the charging year",null,"days",null,null,{"$f":"CHOOSE(charging_year_selected_index, L100,M100,N100,O100,P100,Q100)","v":366},null,365,365,365,366,365,365]
[]
[null,null,{"$f":"INDEX('Version control'!$H$29:$H$55,MATCH($A$1,'Version control'!$F$29:$F$55,0),1)&\"-E: Transmission exit charges\"","v":"Input 503-E: Transmission exit charges"}]
[null,null,null,null,null,null,null,null,null,null,null,null,null,null,null,null,null,null,"Paragraph 38"]
[null,null,null,null,"Transmission exit charges",null,"£ per year",null,">",{"$f":"CHOOSE(charging_year_selected_index, L104,M104,N104,O104,P104,Q104)","v":30835587.118306771},null,14659010.308792224,28092337.073884003,37402457.45285444,30835587.118306771,31452298.860672906,32081344.837886363]
[]
[]
[]
[null,null,null,null,"Other expenditure",null,null,null,">",null,null,null,null,null,null,null,null,null,"Paragraph 39"]
[null,null,null,null,null,"Direct cost","£ per year",null,null,{"$f":"CHOOSE(charging_year_selected_index, L109,M109,N109,O109,P109,Q109)","v":25963150.658752657},null,24267804.289142318,30251739.372233275,27475921.253652282,25963150.658752657,26482413.671927713,27012061.945366267]
[null,null,null,null,null,"Indirect cost","£ per year",null,null,{"$f":"CHOOSE(charging_year_selected_index, L110,M110,N110,O110,P110,Q110)","v":138619386.11953011},null,136953285.08491027,141403070.68795109,147402097.49458176,138619386.11953011,141391773.8419207,144219609.31875911]
[null,null,null,null,null,"Network rates","£ per year",null,null,{"$f":"CHOOSE(charging_year_selected_index, L111,M111,N111,O111,P111,Q111)","v":42995962.116087213},null,21848366.6978046,41279187.387781531,51085193.447653897,42995962.116087213,43855881.358408958,44732998.985577136]
[]
[null,"Checks"]
[]
[null,null,"Checks are not run for historic years, for which DNOs are not obliged to enter inputs."]
[]
[null,null,null,null,"Check for error values",null,"number of issues",{"$f":"SUM(IF(ISERROR(H15:Q112), 1))","v":0}]
[]
[null,null,null,null,"Hours in charging year check"]
[null,null,null,null,null,"Normal distribution timebands","number of issues",{"$f":"SUM(L120:Q120)","v":0},null,null,null,null,{"$f":"IF(SUM(M19:M21) = M$100 * hours_in_day, 0, 1)","v":0},0,0,0,0]
[null,null,null,null,null,"Special distribution timebands","number of issues",{"$f":"SUM(L121:Q121)","v":0},null,null,null,null,{"$f":"IF(SUM(M24:M26) = M$100 * hours_in_day, 0, 1)","v":0},0,0,0,0]
[]
[null,null,null,null,"Summary of checks",null,"number of issues",{"$f":"SUM(H117, H120:H121)","v":0}]
[]
[null,"End of sheet"]

{"sheet":"Fixed inputs","index":14,"n_rows":203,"n_cols":43,"rows_kept":203,"cut":false,"hidden":false,"merged":[]}
[{"$f":"MID(CELL(\"filename\",A1),FIND(\"]\",CELL(\"filename\",A1))+1,255)","v":"Fixed inputs"}]
[{"$f":"Cover!D23 & \" - \" & TEXT(CIRP_submission_date, \"mmm\") & \"-\" & RIGHT(YEAR(CIRP_submission_date), 2) & \" - \" & Cover!D25","v":"SP Distribution - Jan-26 - V1"}]
[{"$f":"Cover!D2&\" - \"&Cover!D8&\" v\"&Cover!D10&\" - \"&Cover!D19","v":"Cost Information Review Pack (CIRP) - Release for charge setting v1 - 2027/28"}]
[{"$f":"H201 & IF(H201 = 1, \" issue\", \" issues\") &\" identified in checks on this sheet\"","v":"0 issues identified in checks on this sheet"}]
[null,"Click here to return to model map",null,null,null,null,"Units","Constants",null,"Domestic Aggregated or CT","Domestic Aggregated (Related MPAN)","Non-Domestic Aggregated or CT","Non-Domestic Aggregated (Related MPAN)","LV Site Specific","LV Sub Site Specific","HV Site Specific","Unmetered Supplies","LV Generation Aggregated","LV Sub Generation Aggregated","LV Generation Site Specific","LV Generation Site Specific no RP Charge","LV Sub Generation Site Specific","LV Sub Generation Site Specific no RP Charge","HV Generation Site Specific","HV Generation Site Specific no RP Charge",null,null,null,null,null,null,null,null,null,null,null,null,null,null,null,null,null,"Legal text reference"]
[]
[null,"Description"]
[]
[null,null,"This sheet sets out the inputs that should be constant across DNOs."]
[]
[null,"Fixed inputs"]
[]
[null,null,{"$f":"INDEX('Version control'!$H$29:$H$55,MATCH($A$1,'Version control'!$F$29:$F$55,0),1)&\"-A: Conversions and time\"","v":"Input 504-A: Conversions and time"}]
[]
[null,null,null,null,"Hours per day",null,"hours",24]
[null,null,null,null,"Ten",null,"integer",10]
[null,null,null,null,"One hundred",null,"integer",100]
[null,null,null,null,"One thousand",null,"integer",1000]
[null,null,null,null,"One million",null,"integer",1000000]
[null,null,null,null,"Historic",null,"year label","Historic"]
[null,null,null,null,"Current",null,"year label","Current"]
[null,null,null,null,"Published",null,"year label","Published"]
[null,null,null,null,"Forecast",null,"year label","Forecast"]
[]
[null,null,{"$f":"INDEX('Version control'!$H$29:$H$55,MATCH($A$1,'Version control'!$F$29:$F$55,0),1)&\"-B: Input 101-B: Rounding\"","v":"Input 504-B: Input 101-B: Rounding"}]
[]
[null,null,null,"Number of decimal places each final charge should be rounded to, specified in Paragraph 14."]
[]
[null,null,null,null,"Decimal places",null,null,null,">",null,null,null,null,null,null,null,null,null,null,null,null,null,null,null,null,null,null,null,null,null,null,null,null,null,null,null,null,null,null,null,null,null,"Paragraph 14"]
[null,null,null,null,null,"Unit rate 1","integer",3]
[null,null,null,null,null,"Unit rate 2","integer",3]
[null,null,null,null,null,"Unit rate 3","integer",3]
[null,null,null,null,null,"Fixed charge","integer",2]
[null,null,null,null,null,"Capacity charge","integer",2]
[null,null,null,null,null,"Exceeded capacity charge","integer",2]
[null,null,null,null,null,"Reactive power charge","integer",3]
[]
[null,null,{"$f":"INDEX('Version control'!$H$29:$H$55,MATCH($A$1,'Version control'!$F$29:$F$55,0),1)&\"-C: Financial and general assumptions\"","v":"Input 504-C: Financial and general assumptions"}]
[]
[null,null,null,null,"Annualisation period",null,"years",40,">",null,null,null,null,null,null,null,null,null,null,null,null,null,null,null,null,null,null,null,null,null,null,null,null,null,null,null,null,null,null,null,null,null,"Paragraph 57"]
[]
[null,null,null,null,"Power factor",null,"%",0.95,">",null,null,null,null,null,null,null,null,null,null,null,null,null,null,null,null,null,null,null,null,null,null,null,null,null,null,null,null,null,null,null,null,null,"Paragraphs 21 & 79"]
[]
[null,null,null,null,"Indirect cost proportion",null,"%",0.6,">",null,null,null,null,null,null,null,null,null,null,null,null,null,null,null,null,null,null,null,null,null,null,null,null,null,null,null,null,null,null,null,null,null,"Paragraph 39"]
[]
[null,null,null,null,"Network model GSP peak demand",null,"MW",500,">",null,null,null,null,null,null,null,null,null,null,null,null,null,null,null,null,null,null,null,null,null,null,null,null,null,null,null,null,null,null,null,null,null,"Paragraph 20"]
[]
[null,null,{"$f":"INDEX('Version control'!$H$29:$H$55,MATCH($A$1,'Version control'!$F$29:$F$55,0),1)&\"-D: Mappings\"","v":"Input 504-D: Mappings"}]
[]
[null,null,null,null,"LDNO discount map"]
[null,null,null,null,null,"LDNO LV: LV user","1 or 0",null,null,1,1,1,1,1,0,0,1]
[null,null,null,null,null,"LDNO HV: LV user","1 or 0",null,null,1,1,1,1,1,0,0,1]
[null,null,null,null,null,"LDNO HV: LV Sub user","1 or 0",null,null,0,0,0,0,0,1,0,0]
[null,null,null,null,null,"LDNO HV: HV user","1 or 0",null,null,0,0,0,0,0,0,1,0]
[]
[null,null,null,null,"Network level at which users are supplied",null,null,null,">",null,null,null,null,null,null,null,null,null,null,null,null,null,null,null,null,null,null,null,null,null,null,null,null,null,null,null,null,null,null,null,null,null,"Paragraph 30"]
[null,null,null,null,"Network use factors based on customer contributed assets"]
[null,null,null,null,null,"HV substation","1 or 0",null,null,0,0,0,0,0,0,0,0,0,0,0,0,0,0,0,0]
[null,null,null,null,null,"HV network","1 or 0",null,null,0,0,0,0,0,0,1,0,0,0,0,0,0,0,1,1]
[null,null,null,null,null,"LV substation","1 or 0",null,null,0,0,0,0,0,1,0,0,0,1,0,0,1,1,0,0]
[null,null,null,null,null,"LV network","1 or 0",null,null,1,1,1,1,1,0,0,1,1,0,1,1,0,0,0,0]
[]
[null,null,null,null,"Network use factors (assuming generation contributes at level of connection)"]
[null,null,null,null,"These assume demand and generation use the network from the point of connection."]
[null,null,null,null,null,"Transmission exit","1, 0 or -1",null,null,1,1,1,1,1,1,1,1,-1,-1,-1,-1,-1,-1,-1,-1]
[null,null,null,null,null,"GSPs","1, 0 or -1",null,null,1,1,1,1,1,1,1,1,-1,-1,-1,-1,-1,-1,-1,-1]
[null,null,null,null,null,"132kV","1, 0 or -1",null,null,1,1,1,1,1,1,1,1,-1,-1,-1,-1,-1,-1,-1,-1]
[null,null,null,null,null,"132kV/EHV","1, 0 or -1",null,null,1,1,1,1,1,1,1,1,-1,-1,-1,-1,-1,-1,-1,-1]
[null,null,null,null,null,"EHV","1, 0 or -1",null,null,1,1,1,1,1,1,1,1,-1,-1,-1,-1,-1,-1,-1,-1]
[null,null,null,null,null,"EHV/HV","1, 0 or -1",null,null,1,1,1,1,1,1,1,1,-1,-1,-1,-1,-1,-1,-1,-1]
[null,null,null,null,null,"132kV/HV","1, 0 or -1",null,null,1,1,1,1,1,1,1,1,-1,-1,-1,-1,-1,-1,-1,-1]
[null,null,null,null,null,"HV","1, 0 or -1",null,null,1,1,1,1,1,1,1,1,-1,-1,-1,-1,-1,-1,-1,-1]
[null,null,null,null,null,"HV/LV","1, 0 or -1",null,null,1,1,1,1,1,1,0,1,-1,-1,-1,-1,-1,-1,0,0]
[null,null,null,null,null,"LV circuits","1, 0 or -1",null,null,1,1,1,1,1,0,0,1,-1,0,-1,-1,0,0,0,0]
[]
[null,null,null,null,"Network use factors (assuming generation makes no contribution at level of connection)",null,null,null,">",null,null,null,null,null,null,null,null,null,null,null,null,null,null,null,null,null,null,null,null,null,null,null,null,null,null,null,null,null,null,null,null,null,"Paragraphs 62 & 71"]
[null,null,null,null,"Equal to 0 for the network level at which generation is connected, otherwise equal to network use factor"]
[null,null,null,null,null,"Transmission exit","1, 0 or -1",null,null,1,1,1,1,1,1,1,1,-1,-1,-1,-1,-1,-1,-1,-1]
[null,null,null,null,null,"GSPs","1, 0 or -1",null,null,1,1,1,1,1,1,1,1,-1,-1,-1,-1,-1,-1,-1,-1]
[null,null,null,null,null,"132kV","1, 0 or -1",null,null,1,1,1,1,1,1,1,1,-1,-1,-1,-1,-1,-1,-1,-1]
[null,null,null,null,null,"132kV/EHV","1, 0 or -1",null,null,1,1,1,1,1,1,1,1,-1,-1,-1,-1,-1,-1,-1,-1]
[null,null,null,null,null,"EHV","1, 0 or -1",null,null,1,1,1,1,1,1,1,1,-1,-1,-1,-1,-1,-1,-1,-1]
[null,null,null,null,null,"EHV/HV","1, 0 or -1",null,null,1,1,1,1,1,1,1,1,-1,-1,-1,-1,-1,-1,-1,-1]
[null,null,null,null,null,"132kV/HV","1, 0 or -1",null,null,1,1,1,1,1,1,1,1,-1,-1,-1,-1,-1,-1,-1,-1]
[null,null,null,null,null,"HV","1, 0 or -1",null,null,1,1,1,1,1,1,1,1,-1,-1,-1,-1,-1,-1,0,0]
[null,null,null,null,null,"HV/LV","1, 0 or -1",null,null,1,1,1,1,1,1,0,1,-1,0,-1,-1,0,0,0,0]
[null,null,null,null,null,"LV circuits","1, 0 or -1",null,null,1,1,1,1,1,0,0,1,0,0,0,0,0,0,0,0]
[]
[null,null,{"$f":"INDEX('Version control'!$H$29:$H$55,MATCH($A$1,'Version control'!$F$29:$F$55,0),1)&\"-E: Standing charge factors\"","v":"Input 504-E: Standing charge factors"}]
[]
[null,null,null,null,"Standing charge factors",null,null,null,">",null,null,null,null,null,null,null,null,null,null,null,null,null,null,null,null,null,null,null,null,null,null,null,null,null,null,null,null,null,null,null,null,null,"Paragraph 74"]
[null,null,null,null,"Sets the proportion of costs to be recovered through fixed and capacity charge components. "]
[null,null,null,null,null,"Transmission exit","%"]
[null,null,null,null,null,"GSPs","%"]
[null,null,null,null,null,"132kV","%"]
[null,null,null,null,null,"132kV/EHV","%"]
[null,null,null,null,null,"EHV","%",null,null,null,null,null,null,null,null,0.2]
[null,null,null,null,null,"EHV/HV","%",null,null,null,null,null,null,null,null,1]
[null,null,null,null,null,"132kV/HV","%"]
[null,null,null,null,null,"HV","%",null,null,null,null,null,null,0.2,1,1]
[null,null,null,null,null,"HV/LV","%",null,null,null,null,null,null,1,1]
[null,null,null,null,null,"LV circuits","%",null,null,1,1,1,1,1,null,null,0]
[]
[null,null,{"$f":"INDEX('Version control'!$H$29:$H$55,MATCH($A$1,'Version control'!$F$29:$F$55,0),1)&\"-F: Flags\"","v":"Input 504-F: Flags"}]
[]
[null,null,null,"Override discount rate applied"]
[null,null,null,"See Schedule 16, para 125. This has been interpreted to mean that MPANs are fully discounted, "]
[null,null,null,"and everything else is not"]
[null,null,null,null,"MWh"]
[null,null,null,null,null,"Override discount","TRUE / FALSE",null,">",false,false,false,false,false,false,false,false,true,true,true,true,true,true,true,true,null,null,null,null,null,null,null,null,null,null,null,null,null,null,null,null,null,"Paragraph 99"]
[null,null,null,null,null,"Discount %","%",null,null,null,null,null,null,null,null,null,null,0,0,0,0,0,0,0,0]
[]
[null,null,null,null,"MPANs"]
[null,null,null,null,null,"Override discount","TRUE / FALSE",null,null,false,false,false,false,false,false,false,false,true,true,true,true,true,true,true,true]
[null,null,null,null,null,"Discount %","%",null,null,null,null,null,null,null,null,null,null,1,1,1,1,1,1,1,1]
[]
[null,null,null,null,"Import capacity (kVA)"]
[null,null,null,null,null,"Override discount","TRUE / FALSE",null,null,false,false,false,false,false,false,false,false,true,true,true,true,true,true,true,true]
[null,null,null,null,null,"Discount %","%",null,null,null,null,null,null,null,null,null,null,0,0,0,0,0,0,0,0]
[]
[null,null,null,null,"Exceeded capacity (kVA)"]
[null,null,null,null,null,"Override discount","TRUE / FALSE",null,null,false,false,false,false,false,false,false,false,true,true,true,true,true,true,true,true]
[null,null,null,null,null,"Discount %","%",null,null,null,null,null,null,null,null,null,null,0,0,0,0,0,0,0,0]
[]
[null,null,null,null,"Reactive power units (MVArh)"]
[null,null,null,null,null,"Override discount","TRUE / FALSE",null,null,false,false,false,false,false,false,false,false,true,true,true,true,true,true,true,true]
[null,null,null,null,null,"Discount %","%",null,null,null,null,null,null,null,null,null,null,0,0,0,0,0,0,0,0]
[]
[null,null,null,null,"Unmetered supply flags"]
[null,null,null,null,"These are used to flag UMS tariff forecast in the pseudo load coefficient calculations, because UMS"]
[null,null,null,null,"customers are subject to a different timebanding"]
[null,null,null,null,null,"Unmetered supply flags","TRUE / FALSE",null,null,false,false,false,false,false,false,false,true,false,false,false,false,false,false,false,false]
[]
[null,null,null,null,"Flags used in calculation of LV diversity allowance"]
[null,null,null,null,"FALSE = exclude"]
[null,null,null,null,null,"Flag for customers included in aggregate maximum demand","TRUE / FALSE",null,null,true,false,true,false,true,true,true,true,true,true,true,true,true,true,true,true]
[]
[null,null,null,null,"Flags for applicability of capacity & reactive charges",null,null,null,">",null,null,null,null,null,null,null,null,null,null,null,null,null,null,null,null,null,null,null,null,null,null,null,null,null,null,null,null,null,null,null,null,null,"Paragraphs 141 & 146"]
[null,null,null,null,"0 = charges not applicable to customer type"]
[null,null,null,null,"For fixed charges, 1 = capacity element is allocated to fixed charges"]
[null,null,null,null,null,"Capacity charge","1 or 0",null,null,0,0,0,0,1,1,1,0,0,0,0,0,0,0,0,0]
[null,null,null,null,null,"Exceeded capacity charge","1 or 0",null,null,0,0,0,0,1,1,1,0,0,0,0,0,0,0,0,0]
[null,null,null,null,null,"Reactive power","1 or 0",null,null,0,0,0,0,1,1,1,0,0,0,1,0,1,0,1,0]
[null,null,null,null,null,"Capacity charge allocated to fixed charge","1 or 0",null,null,1,0,1,0,0,0,0,0,0,0,0,0,0,0,0,0]
[]
[null,null,{"$f":"INDEX('Version control'!$H$29:$H$55,MATCH($A$1,'Version control'!$F$29:$F$55,0),1)&\"-G: Identifiers for customer groupings\"","v":"Input 504-G: Identifiers for customer groupings"}]
[]
[null,null,null,null,"Groupings for fixed charges"]
[null,null,null,null,"Sets out the groups that are aggregated when calculating fixed charges. Each group is given an identifier.",null,null,null,">",null,null,null,null,null,null,null,null,null,null,null,null,null,null,null,null,null,null,null,null,null,null,null,null,null,null,null,null,null,null,null,null,null,"Paragraph 83"]
[null,null,null,null,null,"Groupings for fixed charges","integer",null,null,1,null,1]
[]
[null,null,null,null,"Groupings for aggregated pseudo-load coefficients",null,null,null,">",null,null,null,null,null,null,null,null,null,null,null,null,null,null,null,null,null,null,null,null,null,null,null,null,null,null,null,null,null,null,null,null,null,"Paragraph 70 c) iv"]
[null,null,null,null,"Sets out the groups that are equalised for unit rates, as set out in Paragraph 70 c) iv"]
[null,null,null,null,null,"Pseudo-load coefficient aggregation group","integer",null,null,1,1,2,2,3,4,5]
[]
[null,null,{"$f":"INDEX('Version control'!$H$29:$H$55,MATCH($A$1,'Version control'!$F$29:$F$55,0),1)&\"-H: Decimal places for error checks\"","v":"Input 504-H: Decimal places for error checks"}]
[]
[null,null,null,null,"Decimals of precision for error checks",null,"integer",3]
[]
[null,null,{"$f":"INDEX('Version control'!$H$29:$H$55,MATCH($A$1,'Version control'!$F$29:$F$55,0),1)&\"-I: Map of applicable MPANs\"","v":"Input 504-I: Map of applicable MPANs"}]
[]
[null,null,null,null,"Map of applicable MPANs",null,null,null,">",null,null,null,null,null,null,null,null,null,null,null,null,null,null,null,null,null,null,null,null,null,null,null,null,null,null,null,null,null,null,null,null,null,"Paragraphs 101 and 103"]
[null,null,null,null,null,"Supplier of Last Resort Net Costs","1 or 0",null,null,1,0,0,0,0,0,0,0,0,0,0,0,0,0,0,0]
[null,null,null,null,null,"Valid Bad Debt Claims","1 or 0",null,null,1,0,1,0,1,1,1,0,0,0,0,0,0,0,0,0]
[]
[null,null,{"$f":"INDEX('Version control'!$H$29:$H$55,MATCH($A$1,'Version control'!$F$29:$F$55,0),1)&\"-J: Revenue matching inputs\"","v":"Input 504-J: Revenue matching inputs"}]
[]
[null,null,null,null,"Flags for calculation of revenue matching",null,null,null,null,"Domestic Aggregated or CT with Residual","Domestic Aggregated (Related MPAN)","Non-Domestic Aggregated or CT No Residual","Non-Domestic Aggregated or CT Band 1","Non-Domestic Aggregated or CT Band 2","Non-Domestic Aggregated or CT Band 3","Non-Domestic Aggregated or CT Band 4","Non-Domestic Aggregated (Related MPAN)","LV Site Specific No Residual","LV Site Specific Band 1","LV Site Specific Band 2","LV Site Specific Band 3","LV Site Specific Band 4","LV Sub Site Specific No Residual","LV Sub Site Specific Band 1","LV Sub Site Specific Band 2","LV Sub Site Specific Band 3","LV Sub Site Specific Band 4","HV Site Specific No Residual","HV Site Specific Band 1","HV Site Specific Band 2","HV Site Specific Band 3","HV Site Specific Band 4","Unmetered Supplies","LV Generation Aggregated","LV Sub Generation Aggregated","LV Generation Site Specific","LV Generation Site Specific no RP Charge","LV Sub Generation Site Specific","LV Sub Generation Site Specific no RP Charge","HV Generation Site Specific","HV Generation Site Specific no RP Charge"]
[null,null,null,null,null,"Residual charges","TRUE or FALSE",null,null,true,false,false,true,true,true,true,false,false,true,true,true,true,false,true,true,true,true,false,true,true,true,true,true,false,false,false,false,false,false,false,false]
[null,null,null,null,null,"Residual fixed charge","TRUE or FALSE",null,null,true,null,null,true,true,true,true,null,null,true,true,true,true,null,true,true,true,true,null,true,true,true,true,false]
[null,null,null,null,null,"Residual, no fixed charge","TRUE or FALSE",null,null,false,null,null,false,false,false,false,null,null,false,false,false,false,null,false,false,false,false,null,false,false,false,false,true]
[null,null,null,null,null,"Residual group","integer",null,null,1,null,null,2,2,2,2,null,null,3,3,3,3,null,3,3,3,3,null,4,4,4,4,5]
[null,null,null,null,null,"Residual band","integer",null,null,1,null,null,1,2,3,4,null,null,1,2,3,4,null,1,2,3,4,null,1,2,3,4,1]
[null,null,null,null,null,"Index of tariff before revenue matching","integer",null,null,1,2,3,3,3,3,3,4,5,5,5,5,5,6,6,6,6,6,7,7,7,7,7,8,9,10,11,12,13,14,15,16]
[]
[null,null,null,null,"Minimum number of MPANs in residual band",null,"integer",2]
[]
[null,null,null,null,"Band grouping configurations"]
[null,null,null,null,null,"The legal text requires that any bands with fewer than 2 customers are combined with another band. This  input"]
[null,null,null,null,null,"defines the different possible configurations of these band combinations.",null,null,null,"Domestic Aggregated or CT with Residual","Domestic Aggregated (Related MPAN)","Non-Domestic Aggregated or CT No Residual","Non-Domestic Aggregated or CT Band 1","Non-Domestic Aggregated or CT Band 2","Non-Domestic Aggregated or CT Band 3","Non-Domestic Aggregated or CT Band 4","Non-Domestic Aggregated (Related MPAN)","LV Site Specific No Residual","LV Site Specific Band 1","LV Site Specific Band 2","LV Site Specific Band 3","LV Site Specific Band 4","LV Sub Site Specific No Residual","LV Sub Site Specific Band 1","LV Sub Site Specific Band 2","LV Sub Site Specific Band 3","LV Sub Site Specific Band 4","HV Site Specific No Residual","HV Site Specific Band 1","HV Site Specific Band 2","HV Site Specific Band 3","HV Site Specific Band 4","Unmetered Supplies","LV Generation Aggregated","LV Sub Generation Aggregated","LV Generation Site Specific","LV Generation Site Specific no RP Charge","LV Sub Generation Site Specific","LV Sub Generation Site Specific no RP Charge","HV Generation Site Specific","HV Generation Site Specific no RP Charge"]
[null,null,null,null,null,"Band grouping configuration 1","integer",null,null,1,null,null,1,2,3,4,null,null,1,2,3,4,null,1,2,3,4,null,1,2,3,4,1]
[null,null,null,null,null,"Band grouping configuration 2","integer",null,null,1,null,null,1,1,2,3,null,null,1,1,2,3,null,1,1,2,3,null,1,1,2,3,1]
[null,null,null,null,null,"Band grouping configuration 3","integer",null,null,1,null,null,1,2,2,3,null,null,1,2,2,3,null,1,2,2,3,null,1,2,2,3,1]
[null,null,null,null,null,"Band grouping configuration 4","integer",null,null,1,null,null,1,2,3,3,null,null,1,2,3,3,null,1,2,3,3,null,1,2,3,3,1]
[null,null,null,null,null,"Band grouping configuration 5","integer",null,null,1,null,null,1,1,2,2,null,null,1,1,2,2,null,1,1,2,2,null,1,1,2,2,1]
[null,null,null,null,null,"Band grouping configuration 6","integer",null,null,1,null,null,1,1,1,2,null,null,1,1,1,2,null,1,1,1,2,null,1,1,1,2,1]
[null,null,null,null,null,"Band grouping configuration 7","integer",null,null,1,null,null,1,2,2,2,null,null,1,2,2,2,null,1,2,2,2,null,1,2,2,2,1]
[null,null,null,null,null,"Band grouping configuration 8","integer",null,null,1,null,null,1,1,1,1,null,null,1,1,1,1,null,1,1,1,1,null,1,1,1,1,1]
[]
[null,"Checks"]
[]
[null,null,null,null,"Check for error values",null,"number of issues",{"$f":"SUM(IF(ISERROR(H15:Y151), 1))","v":0}]
[]
[null,null,null,null,"Check that discount overrides are either FALSE, or non-zero"]
[null,null,null,null,null,"MWh override","number of issues",{"$f":"SUM(J195:Y195)","v":0},null,{"$f":"IF( OR( AND(J110 = TRUE, NOT(ISBLANK(J111))), AND(J110 = FALSE, J111 = 0)), 0, 1)","v":0},0,0,0,0,0,0,0,0,0,0,0,0,0,0,0]
[null,null,null,null,null,"MPAN override","number of issues",{"$f":"SUM(J196:Y196)","v":0},null,{"$f":"IF( OR( AND(J114 = TRUE, NOT(ISBLANK(J115))), AND(J114 = FALSE, J115 = 0)), 0, 1)","v":0},0,0,0,0,0,0,0,0,0,0,0,0,0,0,0]
[null,null,null,null,null,"Import capacity override","number of issues",{"$f":"SUM(J197:Y197)","v":0},null,{"$f":"IF( OR( AND(J118 = TRUE, NOT(ISBLANK(J119))), AND(J118 = FALSE, J119 = 0)), 0, 1)","v":0},0,0,0,0,0,0,0,0,0,0,0,0,0,0,0]
[null,null,null,null,null,"Exceeded capacity override","number of issues",{"$f":"SUM(J198:Y198)","v":0},null,{"$f":"IF( OR( AND(J122 = TRUE, NOT(ISBLANK(J123))), AND(J122 = FALSE, J123 = 0)), 0, 1)","v":0},0,0,0,0,0,0,0,0,0,0,0,0,0,0,0]
[null,null,null,null,null,"Reactive power override","number of issues",{"$f":"SUM(J199:Y199)","v":0},null,{"$f":"IF( OR( AND(J126 = TRUE, NOT(ISBLANK(J127))), AND(J126 = FALSE, J127 = 0)), 0, 1)","v":0},0,0,0,0,0,0,0,0,0,0,0,0,0,0,0]
[]
[null,null,null,null,"Summary of checks",null,"number of issues",{"$f":"H192 + SUM(H195:H199)","v":0}]
[]
[null,"End of sheet"]

{"sheet":"Inputs by customer type","index":15,"n_rows":218,"n_cols":27,"rows_kept":218,"cut":false,"hidden":true,"merged":[]}
[{"$f":"MID(CELL(\"filename\",A1),FIND(\"]\",CELL(\"filename\",A1))+1,255)","v":"Inputs by customer type"}]
[{"$f":"Cover!D23 & \" - \" & TEXT(CIRP_submission_date, \"mmm\") & \"-\" & RIGHT(YEAR(CIRP_submission_date), 2) & \" - \" & Cover!D25","v":"SP Distribution - Jan-26 - V1"}]
[{"$f":"Cover!D2&\" - \"&Cover!D8&\" v\"&Cover!D10&\" - \"&Cover!D19","v":"Cost Information Review Pack (CIRP) - Release for charge setting v1 - 2027/28"}]
[{"$f":"H216 & IF(H216 = 1, \" issue\", \" issues\") &\" identified in checks on this sheet\"","v":"0 issues identified in checks on this sheet"}]
[null,"Click here to return to model map",null,null,null,null,"Units","Constants",null,"Domestic Aggregated or CT","Domestic Aggregated (Related MPAN)","Non-Domestic Aggregated or CT","Non-Domestic Aggregated (Related MPAN)","LV Site Specific","LV Sub Site Specific","HV Site Specific","Unmetered Supplies","LV Generation Aggregated","LV Sub Generation Aggregated","LV Generation Site Specific","LV Generation Site Specific no RP Charge","LV Sub Generation Site Specific","LV Sub Generation Site Specific no RP Charge","HV Generation Site Specific","HV Generation Site Specific no RP Charge",null,"Legal text reference"]
[]
[null,"Description"]
[]
[null,null,"This sheet sets out the inputs by customer type to be filled in by DNOs."]
[]
[null,null,null,null,"Charging year selected",null,"year",{"$f":"charging_year_selected","v":"2027/28"}]
[null,null,null,null,"Historic / current / forecast",null,"text",{"$f":"'CIRP_User control'!$H$41","v":"Published"}]
[]
[null,"Inputs by customer type"]
[]
[null,null,{"$f":"INDEX('Version control'!$H$29:$H$55,MATCH($A$1,'Version control'!$F$29:$F$55,0),1)&\"-A: Load characteristics\"","v":"Section 501-A: Load characteristics"}]
[]
[null,null,null,null,"Load factor",null,"%",null,">",{"$f":"TRANSPOSE('CIRP_Inputs by customer type'!J19:J34)","v":0.46633333333333332},7.6666666666666675E-2,0.40566666666666662,0.2253333333333333,0.53166666666666673,0.65933333333333344,0.72800000000000009,0.52666666666666673,0,0,0,0,0,0,0,0,null,"Paragraph 42 (a)"]
[null,null,null,null,"Coincidence factor",null,"%",null,">",{"$f":"TRANSPOSE('CIRP_Inputs by customer type'!J39:J54)","v":0.91500000000000004},0,0.66166666666666663,0,0.77566666666666662,0.80200000000000005,0.83266666666666678,0.95133333333333336,0,0,0,0,0,0,0,0,null,"Paragraph 42 (b)"]
[]
[null,null,{"$f":"INDEX('Version control'!$H$29:$H$55,MATCH($A$1,'Version control'!$F$29:$F$55,0),1)&\"-B: Volume forecasts for the charging year\"","v":"Section 501-B: Volume forecasts for the charging year"}]
[]
[null,null,null,"Volumes for all the way tariffs are entered here, separately for each residual band.",null,null,null,null,">",null,null,null,null,null,null,null,null,null,null,null,null,null,null,null,null,null,"Paragraph 52"]
[]
[null,null,null,null,"All the way volume forecast - No Residual"]
[null,null,null,null,null,"Rate 1 units","MWh",null,null,{"$f":"TRANSPOSE('CIRP_Inputs by customer type'!J61:J76)","v":0},450.95995548917972,20.158836784220245,341.90600000000001,37.80228458951715,0.19494712650074275,1903.1550949912194,0,6922.0874674672614,14.658926785947987,5979.4520000000002,0,76.418999999999997,0,110295.99099999999,0]
[null,null,null,null,null,"Rate 2 units","MWh",null,null,{"$f":"TRANSPOSE('CIRP_Inputs by customer type'!J79:J94)","v":0},11165.978402644501,107.43939606428286,6616.54,121.98743699318861,0.69443852027130226,8236.6957918683675,0,42092.209324093616,69.692749320236075,30740.204999999994,0,447.91699999999997,0,353394.92799999996,0]
[null,null,null,null,null,"Rate 3 units","MWh",null,null,{"$f":"TRANSPOSE('CIRP_Inputs by customer type'!J97:J112)","v":0},132093.46064186629,86.347856530068981,27874.395,124.41409226933219,0.985404380720172,8356.9822485519762,0,19217.031600589951,63.286158755382779,29465.601999999995,0,427.12099999999998,0,394088.42299999995,0]
[null,null,null,null,null,"MPANs","MPANs",null,null,{"$f":"TRANSPOSE('CIRP_Inputs by customer type'!J115:J130)","v":0},65857,65,4053,32,2,164,0,29908.231691690049,7,661,0,15,0,272,0]
[null,null,null,null,null,"Import capacity","kVA",null,null,{"$f":"TRANSPOSE('CIRP_Inputs by customer type'!J133:J148)","v":0},0,0,0,1328,108,22294,0,0,0,0,0,0,0,0,0]
[null,null,null,null,null,"Exceeded capacity","kVA",null,null,{"$f":"TRANSPOSE('CIRP_Inputs by customer type'!J151:J166)","v":0},0,0,0,57.083333333333336,21,1102.1666666666667,0,0,0,0,0,0,0,0,0]
[null,null,null,null,null,"Reactive power units","MVArh",null,null,{"$f":"TRANSPOSE('CIRP_Inputs by customer type'!J169:J184)","v":0},0,0,0,105.63200000000001,5.5339999999999998,1721.625,0,0,0,8237.9060000000009,0,374.73599999999999,0,18493.092000000001,0]
[]
[null,null,null,null,"All the way volume forecast - Residual Band 1"]
[null,null,null,null,null,"Rate 1 units","MWh",null,null,{"$f":"TRANSPOSE('CIRP_Inputs by customer type'!J189:J204)","v":679456.49875052879},0,15728.010511486234,0,45358.282940552301,130.896811640133,15121.892183664901,9988.5428195909044,0,0,0,0,0,0,0,0]
[null,null,null,null,null,"Rate 2 units","MWh",null,null,{"$f":"TRANSPOSE('CIRP_Inputs by customer type'!J207:J222)","v":2389915.424312321},0,83824.675438094055,0,217564.32958336201,615.46165676966552,73498.517189785038,61147.312788234245,0,0,0,0,0,0,0,0]
[null,null,null,null,null,"Rate 3 units","MWh",null,null,{"$f":"TRANSPOSE('CIRP_Inputs by customer type'!J225:J240)","v":2333480.0968766352},0,67368.966259615539,0,192038.8005198949,627.69386154293602,75958.090452528137,136402.38294403584,0,0,0,0,0,0,0,0]
[null,null,null,null,null,"MPANs","MPANs",null,null,{"$f":"TRANSPOSE('CIRP_Inputs by customer type'!J243:J258)","v":1860667},0,42874,0,4645,12,354,565,0,0,0,0,0,0,0,0]
[null,null,null,null,null,"Import capacity","kVA",null,null,{"$f":"TRANSPOSE('CIRP_Inputs by customer type'!J261:J276)","v":0},0,0,0,259336,701,74828,0,0,0,0,0,0,0,0,0]
[null,null,null,null,null,"Exceeded capacity","kVA",null,null,{"$f":"TRANSPOSE('CIRP_Inputs by customer type'!J279:J294)","v":0},0,0,0,13317.666666666666,289,3985,0,0,0,0,0,0,0,0,0]
[null,null,null,null,null,"Reactive power units","MVArh",null,null,{"$f":"TRANSPOSE('CIRP_Inputs by customer type'!J297:J312)","v":0},0,0,0,45965.792000000001,349.89299999999997,22438.028999999999,0,0,0,0,0,0,0,0,0]
[]
[null,null,null,null,"All the way volume forecast - Residual Band 2"]
[null,null,null,null,null,"Rate 1 units","MWh",null,null,{"$f":"TRANSPOSE('CIRP_Inputs by customer type'!J317:J332)","v":0},0,27460.451945554087,0,65038.070245482289,683.21984657859537,57973.099711089526,0,0,0,0,0,0,0,0,0]
[null,null,null,null,null,"Rate 2 units","MWh",null,null,{"$f":"TRANSPOSE('CIRP_Inputs by customer type'!J335:J350)","v":0},0,146354.39555679268,0,303043.72723089613,2895.2490051930668,277528.3603075954,0,0,0,0,0,0,0,0,0]
[null,null,null,null,null,"Rate 3 units","MWh",null,null,{"$f":"TRANSPOSE('CIRP_Inputs by customer type'!J353:J368)","v":0},0,117623.41201659148,0,269323.93710491312,2812.9522212237089,280179.65420370986,0,0,0,0,0,0,0,0,0]
[null,null,null,null,null,"MPANs","MPANs",null,null,{"$f":"TRANSPOSE('CIRP_Inputs by customer type'!J371:J386)","v":0},0,35667,0,3865,30,405,0,0,0,0,0,0,0,0,0]
[null,null,null,null,null,"Import capacity","kVA",null,null,{"$f":"TRANSPOSE('CIRP_Inputs by customer type'!J389:J404)","v":0},0,0,0,435225,4716,281818,0,0,0,0,0,0,0,0,0]
[null,null,null,null,null,"Exceeded capacity","kVA",null,null,{"$f":"TRANSPOSE('CIRP_Inputs by customer type'!J407:J422)","v":0},0,0,0,6923.25,267.41666666666669,1866.0833333333333,0,0,0,0,0,0,0,0,0]
[null,null,null,null,null,"Reactive power units","MVArh",null,null,{"$f":"TRANSPOSE('CIRP_Inputs by customer type'!J425:J440)","v":0},0,0,0,53742.985000000001,594.99300000000005,30703.263999999999,0,0,0,0,0,0,0,0,0]
[]
[null,null,null,null,"All the way volume forecast - Residual Band 3"]
[null,null,null,null,null,"Rate 1 units","MWh",null,null,{"$f":"TRANSPOSE('CIRP_Inputs by customer type'!J445:J460)","v":0},0,30384.41094320859,0,35130.015331706672,2105.3407065636852,51731.913081766776,0,0,0,0,0,0,0,0,0]
[null,null,null,null,null,"Rate 2 units","MWh",null,null,{"$f":"TRANSPOSE('CIRP_Inputs by customer type'!J463:J478)","v":0},0,161938.05210341606,0,171166.91735573002,9387.1871443391046,240801.1952129461,0,0,0,0,0,0,0,0,0]
[null,null,null,null,null,"Rate 3 units","MWh",null,null,{"$f":"TRANSPOSE('CIRP_Inputs by customer type'!J481:J496)","v":0},0,130147.82474594636,0,157346.35516731039,10652.4415197528,252032.30843337829,0,0,0,0,0,0,0,0,0]
[null,null,null,null,null,"MPANs","MPANs",null,null,{"$f":"TRANSPOSE('CIRP_Inputs by customer type'!J499:J514)","v":0},0,19785,0,1324,50,176,0,0,0,0,0,0,0,0,0]
[null,null,null,null,null,"Import capacity","kVA",null,null,{"$f":"TRANSPOSE('CIRP_Inputs by customer type'!J517:J532)","v":0},0,0,0,244336,9599,242925,0,0,0,0,0,0,0,0,0]
[null,null,null,null,null,"Exceeded capacity","kVA",null,null,{"$f":"TRANSPOSE('CIRP_Inputs by customer type'!J535:J550)","v":0},0,0,0,1229.3333333333335,97.166666666666671,1656.4166666666667,0,0,0,0,0,0,0,0,0]
[null,null,null,null,null,"Reactive power units","MVArh",null,null,{"$f":"TRANSPOSE('CIRP_Inputs by customer type'!J553:J568)","v":0},0,0,0,27679.875,2042.6120000000001,27804.212,0,0,0,0,0,0,0,0,0]
[]
[null,null,null,null,"All the way volume forecast - Residual Band 4"]
[null,null,null,null,null,"Rate 1 units","MWh",null,null,{"$f":"TRANSPOSE('CIRP_Inputs by customer type'!J573:J588)","v":0},0,96042.949643991436,0,84228.470431088892,20909.140372709087,151855.09976114644,0,0,0,0,0,0,0,0,0]
[null,null,null,null,null,"Rate 2 units","MWh",null,null,{"$f":"TRANSPOSE('CIRP_Inputs by customer type'!J591:J606)","v":0},0,511874.5995334427,0,416141.64799711597,98433.242369483021,696514.37219363428,0,0,0,0,0,0,0,0,0]
[null,null,null,null,null,"Rate 3 units","MWh",null,null,{"$f":"TRANSPOSE('CIRP_Inputs by customer type'!J609:J624)","v":0},0,411387.96475973324,0,375612.40323677217,99272.781684815374,809288.64224578382,0,0,0,0,0,0,0,0,0]
[null,null,null,null,null,"MPANs","MPANs",null,null,{"$f":"TRANSPOSE('CIRP_Inputs by customer type'!J627:J642)","v":0},0,21853,0,1618,218,200,0,0,0,0,0,0,0,0,0]
[null,null,null,null,null,"Import capacity","kVA",null,null,{"$f":"TRANSPOSE('CIRP_Inputs by customer type'!J645:J660)","v":0},0,0,0,645443,102647,704774,0,0,0,0,0,0,0,0,0]
[null,null,null,null,null,"Exceeded capacity","kVA",null,null,{"$f":"TRANSPOSE('CIRP_Inputs by customer type'!J663:J678)","v":0},0,0,0,2167.9166666666665,338.33333333333331,3867.416666666667,0,0,0,0,0,0,0,0,0]
[null,null,null,null,null,"Reactive power units","MVArh",null,null,{"$f":"TRANSPOSE('CIRP_Inputs by customer type'!J681:J696)","v":0},0,0,0,72700.536999999997,16437.256000000001,116416.254,0,0,0,0,0,0,0,0,0]
[]
[null,null,null,"Volumes for LNDO LV tariffs are entered here, separately for each residual band.",null,null,null,null,">",null,null,null,null,null,null,null,null,null,null,null,null,null,null,null,null,null,"Paragraph 52"]
[]
[null,null,null,null,"LDNO LV volume forecast - No Residual"]
[null,null,null,null,null,"Rate 1 units","MWh",null,null,{"$f":"TRANSPOSE('CIRP_Inputs by customer type'!J701:J716)","v":0},0.94232038353711733,0,0,0,0,0,0,175.78179287348217,0,0,0,0,0,0,0]
[null,null,null,null,null,"Rate 2 units","MWh",null,null,{"$f":"TRANSPOSE('CIRP_Inputs by customer type'!J719:J734)","v":0},17.523477696397507,0,0,0,0,0,0,1148.2303713782283,0,0,0,0,0,0,0]
[null,null,null,null,null,"Rate 3 units","MWh",null,null,{"$f":"TRANSPOSE('CIRP_Inputs by customer type'!J737:J752)","v":0},82.999714316345589,0,0,0,0,0,0,507.5761148805301,0,0,0,0,0,0,0]
[null,null,null,null,null,"MPANs","MPANs",null,null,{"$f":"TRANSPOSE('CIRP_Inputs by customer type'!J755:J770)","v":0},41,0,0,0,0,0,0,550,0,0,0,0,0,0,0]
[null,null,null,null,null,"Import capacity","kVA",null,null,{"$f":"TRANSPOSE('CIRP_Inputs by customer type'!J773:J788)","v":0},0,0,0,0,0,0,0,0,0,0,0,0,0,0,0]
[null,null,null,null,null,"Exceeded capacity","kVA",null,null,{"$f":"TRANSPOSE('CIRP_Inputs by customer type'!J791:J806)","v":0},0,0,0,0,0,0,0,0,0,0,0,0,0,0,0]
[null,null,null,null,null,"Reactive power units","MVArh",null,null,{"$f":"TRANSPOSE('CIRP_Inputs by customer type'!J809:J824)","v":0},0,0,0,0,0,0,0,0,0,0,0,0,0,0,0]
[]
[null,null,null,null,"LDNO LV volume forecast - Residual Band 1"]
[null,null,null,null,null,"Rate 1 units","MWh",null,null,{"$f":"TRANSPOSE('CIRP_Inputs by customer type'!J829:J844)","v":21462.198933541778},0,298.66338959322127,0,419.452,0,0,0.21960494837327099,0,0,0,0,0,0,0,0]
[null,null,null,null,null,"Rate 2 units","MWh",null,null,{"$f":"TRANSPOSE('CIRP_Inputs by customer type'!J847:J862)","v":77777.691231824007},0,1607.3025907456383,0,2095.663,0,0,3.0193224080975973,0,0,0,0,0,0,0,0]
[null,null,null,null,null,"Rate 3 units","MWh",null,null,{"$f":"TRANSPOSE('CIRP_Inputs by customer type'!J865:J880)","v":73752.726063647118},0,1162.9071665288359,0,4310.2619999999997,0,0,3.7674268151621209,0,0,0,0,0,0,0,0]
[null,null,null,null,null,"MPANs","MPANs",null,null,{"$f":"TRANSPOSE('CIRP_Inputs by customer type'!J883:J898)","v":65616},0,1034,0,41,0,0,0,0,0,0,0,0,0,0,0]
[null,null,null,null,null,"Import capacity","kVA",null,null,{"$f":"TRANSPOSE('CIRP_Inputs by customer type'!J901:J916)","v":0},0,0,0,2333,0,0,0,0,0,0,0,0,0,0,0]
[null,null,null,null,null,"Exceeded capacity","kVA",null,null,{"$f":"TRANSPOSE('CIRP_Inputs by customer type'!J919:J934)","v":0},0,0,0,1428,0,0,0,0,0,0,0,0,0,0,0]
[null,null,null,null,null,"Reactive power units","MVArh",null,null,{"$f":"TRANSPOSE('CIRP_Inputs by customer type'!J937:J952)","v":0},0,0,0,339.49200000000002,0,0,0,0,0,0,0,0,0,0,0]
[]
[null,null,null,null,"LDNO LV volume forecast - Residual Band 2"]
[null,null,null,null,null,"Rate 1 units","MWh",null,null,{"$f":"TRANSPOSE('CIRP_Inputs by customer type'!J957:J972)","v":0},0,377.56527458563846,0,772.44199999999989,0,0,0,0,0,0,0,0,0,0,0]
[null,null,null,null,null,"Rate 2 units","MWh",null,null,{"$f":"TRANSPOSE('CIRP_Inputs by customer type'!J975:J990)","v":0},0,2034.7834282871377,0,3452.5229999999992,0,0,0,0,0,0,0,0,0,0,0]
[null,null,null,null,null,"Rate 3 units","MWh",null,null,{"$f":"TRANSPOSE('CIRP_Inputs by customer type'!J993:J1008)","v":0},0,1464.8371894631355,0,2659.9619999999995,0,0,0,0,0,0,0,0,0,0,0]
[null,null,null,null,null,"MPANs","MPANs",null,null,{"$f":"TRANSPOSE('CIRP_Inputs by customer type'!J1011:J1026)","v":0},0,566,0,80,0,0,0,0,0,0,0,0,0,0,0]
[null,null,null,null,null,"Import capacity","kVA",null,null,{"$f":"TRANSPOSE('CIRP_Inputs by customer type'!J1029:J1044)","v":0},0,0,0,9330,0,0,0,0,0,0,0,0,0,0,0]
[null,null,null,null,null,"Exceeded capacity","kVA",null,null,{"$f":"TRANSPOSE('CIRP_Inputs by customer type'!J1047:J1062)","v":0},0,0,0,25.666666666666668,0,0,0,0,0,0,0,0,0,0,0]
[null,null,null,null,null,"Reactive power units","MVArh",null,null,{"$f":"TRANSPOSE('CIRP_Inputs by customer type'!J1065:J1080)","v":0},0,0,0,593.11692000000005,0,0,0,0,0,0,0,0,0,0,0]
[]
[null,null,null,null,"LDNO LV volume forecast - Residual Band 3"]
[null,null,null,null,null,"Rate 1 units","MWh",null,null,{"$f":"TRANSPOSE('CIRP_Inputs by customer type'!J1085:J1100)","v":0},0,193.45349700351417,0,1413.3419999999999,0,0,0,0,0,0,0,0,0,0,0]
[null,null,null,null,null,"Rate 2 units","MWh",null,null,{"$f":"TRANSPOSE('CIRP_Inputs by customer type'!J1103:J1118)","v":0},0,1037.8081846777036,0,6017.7799999999988,0,0,0,0,0,0,0,0,0,0,0]
[null,null,null,null,null,"Rate 3 units","MWh",null,null,{"$f":"TRANSPOSE('CIRP_Inputs by customer type'!J1121:J1136)","v":0},0,746.81876837538869,0,5374.3689999999997,0,0,0,0,0,0,0,0,0,0,0]
[null,null,null,null,null,"MPANs","MPANs",null,null,{"$f":"TRANSPOSE('CIRP_Inputs by customer type'!J1139:J1154)","v":0},0,239,0,78,0,0,0,0,0,0,0,0,0,0,0]
[null,null,null,null,null,"Import capacity","kVA",null,null,{"$f":"TRANSPOSE('CIRP_Inputs by customer type'!J1157:J1172)","v":0},0,0,0,14701,0,0,0,0,0,0,0,0,0,0,0]
[null,null,null,null,null,"Exceeded capacity","kVA",null,null,{"$f":"TRANSPOSE('CIRP_Inputs by customer type'!J1175:J1190)","v":0},0,0,0,27.333333333333332,0,0,0,0,0,0,0,0,0,0,0]
[null,null,null,null,null,"Reactive power units","MVArh",null,null,{"$f":"TRANSPOSE('CIRP_Inputs by customer type'!J1193:J1208)","v":0},0,0,0,913.97219999999993,0,0,0,0,0,0,0,0,0,0,0]
[]
[null,null,null,null,"LDNO LV volume forecast - Residual Band 4"]
[null,null,null,null,null,"Rate 1 units","MWh",null,null,{"$f":"TRANSPOSE('CIRP_Inputs by customer type'!J1213:J1228)","v":0},0,397.88777602272353,0,664.02799999999991,0,0,0,0,0,0,0,0,0,0,0]
[null,null,null,null,null,"Rate 2 units","MWh",null,null,{"$f":"TRANSPOSE('CIRP_Inputs by customer type'!J1231:J1246)","v":0},0,2109.1167127492017,0,2880.7309999999998,0,0,0,0,0,0,0,0,0,0,0]
[null,null,null,null,null,"Rate 3 units","MWh",null,null,{"$f":"TRANSPOSE('CIRP_Inputs by customer type'!J1249:J1264)","v":0},0,1595.177318911821,0,2849.9900000000002,0,0,0,0,0,0,0,0,0,0,0]
[null,null,null,null,null,"MPANs","MPANs",null,null,{"$f":"TRANSPOSE('CIRP_Inputs by customer type'!J1267:J1282)","v":0},0,181,0,27,0,0,0,0,0,0,0,0,0,0,0]
[null,null,null,null,null,"Import capacity","kVA",null,null,{"$f":"TRANSPOSE('CIRP_Inputs by customer type'!J1285:J1300)","v":0},0,0,0,11229,0,0,0,0,0,0,0,0,0,0,0]
[null,null,null,null,null,"Exceeded capacity","kVA",null,null,{"$f":"TRANSPOSE('CIRP_Inputs by customer type'!J1303:J1318)","v":0},0,0,0,0,0,0,0,0,0,0,0,0,0,0,0]
[null,null,null,null,null,"Reactive power units","MVArh",null,null,{"$f":"TRANSPOSE('CIRP_Inputs by customer type'!J1321:J1336)","v":0},0,0,0,364.93763999999999,0,0,0,0,0,0,0,0,0,0,0]
[]
[null,null,null,"Volumes for LNDO HV tariffs are entered here, separately for each residual band.",null,null,null,null,">",null,null,null,null,null,null,null,null,null,null,null,null,null,null,null,null,null,"Paragraph 52"]
[]
[null,null,null,null,"LDNO HV volume forecast - No Residual"]
[null,null,null,null,null,"Rate 1 units","MWh",null,null,{"$f":"TRANSPOSE('CIRP_Inputs by customer type'!J1341:J1356)","v":0},0,0,0,0,0,0,0,905.15075417043056,0,1.3919999999999999,0,0,0,0,0]
[null,null,null,null,null,"Rate 2 units","MWh",null,null,{"$f":"TRANSPOSE('CIRP_Inputs by customer type'!J1359:J1374)","v":0},5.9875880158909522,0,0,0,0,0,0,5617.9084552036666,0,9.7500000000000018,0,0,0,0,0]
[null,null,null,null,null,"Rate 3 units","MWh",null,null,{"$f":"TRANSPOSE('CIRP_Inputs by customer type'!J1377:J1392)","v":0},100.333000048454,0,0,0,0,0,0,2475.496018252958,0,11.099999999999998,0,0,0,0,0]
[null,null,null,null,null,"MPANs","MPANs",null,null,{"$f":"TRANSPOSE('CIRP_Inputs by customer type'!J1395:J1410)","v":0},33,0,0,0,0,0,0,3296,0,2,0,0,0,0,0]
[null,null,null,null,null,"Import capacity","kVA",null,null,{"$f":"TRANSPOSE('CIRP_Inputs by customer type'!J1413:J1428)","v":0},0,0,0,0,0,0,0,0,0,0,0,0,0,0,0]
[null,null,null,null,null,"Exceeded capacity","kVA",null,null,{"$f":"TRANSPOSE('CIRP_Inputs by customer type'!J1431:J1446)","v":0},0,0,0,0,0,0,0,0,0,0,0,0,0,0,0]
[null,null,null,null,null,"Reactive power units","MVArh",null,null,{"$f":"TRANSPOSE('CIRP_Inputs by customer type'!J1449:J1464)","v":0},0,0,0,0,0,0,0,0,0,2.5190000000000001,0,0,0,0,0]
[]
[null,null,null,null,"LDNO HV volume forecast - Residual Band 1"]
[null,null,null,null,null,"Rate 1 units","MWh",null,null,{"$f":"TRANSPOSE('CIRP_Inputs by customer type'!J1469:J1484)","v":37668.804468348229},0,417.28256153537467,0,1290.8150000000001,0,1021.7430000000001,0.61362232212232248,0,0,0,0,0,0,0,0]
[null,null,null,null,null,"Rate 2 units","MWh",null,null,{"$f":"TRANSPOSE('CIRP_Inputs by customer type'!J1487:J1502)","v":134158.01377456856},0,2256.0449224299396,0,5610.9470000000001,0,4467.5060000000003,10.331821757458917,0,0,0,0,0,0,0,0]
[null,null,null,null,null,"Rate 3 units","MWh",null,null,{"$f":"TRANSPOSE('CIRP_Inputs by customer type'!J1505:J1520)","v":130925.22660729867},0,1652.0280800118378,0,6722.7350000000006,0,5018.8490000000002,10.927907737515858,0,0,0,0,0,0,0,0]
[null,null,null,null,null,"MPANs","MPANs",null,null,{"$f":"TRANSPOSE('CIRP_Inputs by customer type'!J1523:J1538)","v":110214},0,1087,0,115,0,11,0,0,0,0,0,0,0,0,0]
[null,null,null,null,null,"Import capacity","kVA",null,null,{"$f":"TRANSPOSE('CIRP_Inputs by customer type'!J1541:J1556)","v":0},0,0,0,6780,0,3402,0,0,0,0,0,0,0,0,0]
[null,null,null,null,null,"Exceeded capacity","kVA",null,null,{"$f":"TRANSPOSE('CIRP_Inputs by customer type'!J1559:J1574)","v":0},0,0,0,1609.6666666666667,0,17.666666666666668,0,0,0,0,0,0,0,0,0]
[null,null,null,null,null,"Reactive power units","MVArh",null,null,{"$f":"TRANSPOSE('CIRP_Inputs by customer type'!J1577:J1592)","v":0},0,0,0,613.08291999999994,0,968.48800000000006,0,0,0,0,0,0,0,0,0]
[]
[null,null,null,null,"LDNO HV volume forecast - Residual Band 2"]
[null,null,null,null,null,"Rate 1 units","MWh",null,null,{"$f":"TRANSPOSE('CIRP_Inputs by customer type'!J1597:J1612)","v":0},0,499.93810010868759,0,2907.3960000000002,131.60499999999999,1614.0330000000001,0,0,0,0,0,0,0,0,0]
[null,null,null,null,null,"Rate 2 units","MWh",null,null,{"$f":"TRANSPOSE('CIRP_Inputs by customer type'!J1615:J1630)","v":0},0,2675.2319858336336,0,12448.427999999998,535.16899999999998,6862.0569999999998,0,0,0,0,0,0,0,0,0]
[null,null,null,null,null,"Rate 3 units","MWh",null,null,{"$f":"TRANSPOSE('CIRP_Inputs by customer type'!J1633:J1648)","v":0},0,1923.2661061466847,0,10760.525000000001,558.27299999999991,7223.697000000001,0,0,0,0,0,0,0,0,0]
[null,null,null,null,null,"MPANs","MPANs",null,null,{"$f":"TRANSPOSE('CIRP_Inputs by customer type'!J1651:J1666)","v":0},0,722,0,175,4,11,0,0,0,0,0,0,0,0,0]
[null,null,null,null,null,"Import capacity","kVA",null,null,{"$f":"TRANSPOSE('CIRP_Inputs by customer type'!J1669:J1684)","v":0},0,0,0,20249,447,7820,0,0,0,0,0,0,0,0,0]
[null,null,null,null,null,"Exceeded capacity","kVA",null,null,{"$f":"TRANSPOSE('CIRP_Inputs by customer type'!J1687:J1702)","v":0},0,0,0,10.666666666666666,0,340.33333333333331,0,0,0,0,0,0,0,0,0]
[null,null,null,null,null,"Reactive power units","MVArh",null,null,{"$f":"TRANSPOSE('CIRP_Inputs by customer type'!J1705:J1720)","v":0},0,0,0,1514.06098,19.510000000000002,265.79844000000003,0,0,0,0,0,0,0,0,0]
[]
[null,null,null,null,"LDNO HV volume forecast - Residual Band 3"]
[null,null,null,null,null,"Rate 1 units","MWh",null,null,{"$f":"TRANSPOSE('CIRP_Inputs by customer type'!J1725:J1740)","v":0},0,532.59682027534109,0,3254.9690000000001,130.94299999999998,1108.5050000000001,0,0,0,0,0,0,0,0,0]
[null,null,null,null,null,"Rate 2 units","MWh",null,null,{"$f":"TRANSPOSE('CIRP_Inputs by customer type'!J1743:J1758)","v":0},0,2863.5206820137428,0,14277.290999999997,572.56700000000001,4990.7900000000009,0,0,0,0,0,0,0,0,0]
[null,null,null,null,null,"Rate 3 units","MWh",null,null,{"$f":"TRANSPOSE('CIRP_Inputs by customer type'!J1761:J1776)","v":0},0,2148.839699374063,0,13615.569000000001,519.61299999999983,6762.5339999999987,0,0,0,0,0,0,0,0,0]
[null,null,null,null,null,"MPANs","MPANs",null,null,{"$f":"TRANSPOSE('CIRP_Inputs by customer type'!J1779:J1794)","v":0},0,450,0,117,3,6,0,0,0,0,0,0,0,0,0]
[null,null,null,null,null,"Import capacity","kVA",null,null,{"$f":"TRANSPOSE('CIRP_Inputs by customer type'!J1797:J1812)","v":0},0,0,0,22053,671,9000,0,0,0,0,0,0,0,0,0]
[null,null,null,null,null,"Exceeded capacity","kVA",null,null,{"$f":"TRANSPOSE('CIRP_Inputs by customer type'!J1815:J1830)","v":0},0,0,0,4.666666666666667,0,0,0,0,0,0,0,0,0,0,0]
[null,null,null,null,null,"Reactive power units","MVArh",null,null,{"$f":"TRANSPOSE('CIRP_Inputs by customer type'!J1833:J1848)","v":0},0,0,0,1248.79458,82.263999999999996,151.846,0,0,0,0,0,0,0,0,0]
[]
[null,null,null,null,"LDNO HV volume forecast - Residual Band 4"]
[null,null,null,null,null,"Rate 1 units","MWh",null,null,{"$f":"TRANSPOSE('CIRP_Inputs by customer type'!J1853:J1868)","v":0},0,1171.8405958152541,0,10123.692999999999,4890.4009999999998,2106.7460000000001,0,0,0,0,0,0,0,0,0]
[null,null,null,null,null,"Rate 2 units","MWh",null,null,{"$f":"TRANSPOSE('CIRP_Inputs by customer type'!J1871:J1886)","v":0},0,6244.6974058527676,0,46194.21,22137.865999999995,10577.475,0,0,0,0,0,0,0,0,0]
[null,null,null,null,null,"Rate 3 units","MWh",null,null,{"$f":"TRANSPOSE('CIRP_Inputs by customer type'!J1889:J1904)","v":0},0,4726.4689262620568,0,42303.555999999997,21122.558999999997,14591.350999999999,0,0,0,0,0,0,0,0,0]
[null,null,null,null,null,"MPANs","MPANs",null,null,{"$f":"TRANSPOSE('CIRP_Inputs by customer type'!J1907:J1922)","v":0},0,409,0,229,59,10,0,0,0,0,0,0,0,0,0]
[null,null,null,null,null,"Import capacity","kVA",null,null,{"$f":"TRANSPOSE('CIRP_Inputs by customer type'!J1925:J1940)","v":0},0,0,0,128058,47105,27700,0,0,0,0,0,0,0,0,0]
[null,null,null,null,null,"Exceeded capacity","kVA",null,null,{"$f":"TRANSPOSE('CIRP_Inputs by customer type'!J1943:J1958)","v":0},0,0,0,0,0,0,0,0,0,0,0,0,0,0,0]
[null,null,null,null,null,"Reactive power units","MVArh",null,null,{"$f":"TRANSPOSE('CIRP_Inputs by customer type'!J1961:J1976)","v":0},0,0,0,7208.3624799999998,2166.0920000000001,227.428,0,0,0,0,0,0,0,0,0]
[]
[null,null,null,null,"'Designated Property' MPANs with EDCM-level LDNO boundaries",null,"MPANs",null,">",{"$f":"TRANSPOSE('CIRP_Inputs by customer type'!J1981:J1996)","v":3135},0,96,0,69,0,6,0,5,0,0,0,0,0,1,0,null,"Paragraphs 53A, 53B, 101 and 102"]
[]
[null,null,{"$f":"INDEX('Version control'!$H$29:$H$55,MATCH($A$1,'Version control'!$F$29:$F$55,0),1)&\"-C: Non-Domestic Aggregated (Related MPAN) distribution by bands\"","v":"Section 501-C: Non-Domestic Aggregated (Related MPAN) distribution by bands"}]
[]
[null,null,null,"The split of Non-Domestic Aggregated (Related MPAN) units by residual band is used to allocate residual revenue",null,null,null,null,">",null,null,null,null,null,null,null,null,null,null,null,null,null,null,null,null,null,"Paragraph 92 (a)"]
[null,null,null,"between bands to be recovered from Non-Domestic Aggregated customers. "]
[]
[null,null,null,null,"All the way non-domestic aggregated (related MPAN) distribution by bands",null,null,null,null,"No residual","Band 1","Band 2","Band 3","Band 4"]
[null,null,null,null,null,"Rate 1 units","%",null,null,{"$f":"TRANSPOSE('CIRP_Inputs by customer type'!J2006:J2010)","v":0},9.272725992895102E-2,0.1618979376611088,0.17913665363215273,0.56623814877778744]
[null,null,null,null,null,"Rate 2 units","%",null,null,{"$f":"TRANSPOSE('CIRP_Inputs by customer type'!J2013:J2017)","v":0},9.272725992895102E-2,0.1618979376611088,0.17913665363215273,0.56623814877778744]
[null,null,null,null,null,"Rate 3 units","%",null,null,{"$f":"TRANSPOSE('CIRP_Inputs by customer type'!J2020:J2024)","v":0},9.272725992895102E-2,0.1618979376611088,0.17913665363215273,0.56623814877778744]
[]
[null,null,null,null,"LDNO LV non-domestic aggregated (related MPAN) distribution by bands",null,null,null,null,"No residual","Band 1","Band 2","Band 3","Band 4"]
[null,null,null,null,null,"Rate 1 units","%",null,null,{"$f":"TRANSPOSE('CIRP_Inputs by customer type'!J2029:J2033)","v":0},0.23559016217323522,0.2976424275091018,0.15185257640779012,0.31491483390987285]
[null,null,null,null,null,"Rate 2 units","%",null,null,{"$f":"TRANSPOSE('CIRP_Inputs by customer type'!J2036:J2040)","v":0},0.23559016217323522,0.2976424275091018,0.15185257640779012,0.31491483390987285]
[null,null,null,null,null,"Rate 3 units","%",null,null,{"$f":"TRANSPOSE('CIRP_Inputs by customer type'!J2043:J2047)","v":0},0.23559016217323522,0.2976424275091018,0.15185257640779012,0.31491483390987285]
[]
[null,null,null,null,"LDNO HV non-domestic aggregated (related MPAN) distribution by bands",null,null,null,null,"No residual","Band 1","Band 2","Band 3","Band 4"]
[null,null,null,null,null,"Rate 1 units","%",null,null,{"$f":"TRANSPOSE('CIRP_Inputs by customer type'!J2052:J2056)","v":0},0.15953800934984907,0.18805260026650639,0.20452224581278861,0.44788714457085593]
[null,null,null,null,null,"Rate 2 units","%",null,null,{"$f":"TRANSPOSE('CIRP_Inputs by customer type'!J2059:J2063)","v":0},0.15953800934984907,0.18805260026650639,0.20452224581278861,0.44788714457085593]
[null,null,null,null,null,"Rate 3 units","%",null,null,{"$f":"TRANSPOSE('CIRP_Inputs by customer type'!J2066:J2070)","v":0},0.15953800934984907,0.18805260026650639,0.20452224581278861,0.44788714457085593]
[]
[null,null,{"$f":"INDEX('Version control'!$H$29:$H$55,MATCH($A$1,'Version control'!$F$29:$F$55,0),1)&\"-D: Service model asset values\"","v":"Section 501-D: Service model asset values"}]
[]
[null,null,null,"Service model costs should be entered per customer or per MWh for unmetered customers"]
[null,null,null,null,null,null,null,null,">",null,null,null,null,null,null,null,null,null,null,null,null,null,null,null,null,null,"Paragraphs 32 to 37"]
[null,null,null,null,"LV customer service model asset values",null,"£ per MPAN",null,null,{"$f":"TRANSPOSE('CIRP_Inputs by customer type'!J2079:J2094)","v":377.70000000000005},0,508.75,0,2380,840,0,0,0,0,0,0,0,0,0,0]
[null,null,null,null,"HV customer service model asset values",null,"£ per MPAN",null,null,{"$f":"TRANSPOSE('CIRP_Inputs by customer type'!J2099:J2114)","v":0},0,0,0,0,0,12718.10554,0,0,0,0,0,0,0,9287,9287]
[]
[null,null,null,null,"LV UMS customer service model asset values",null,"£/MWh/year",null,">",{"$f":"TRANSPOSE('CIRP_Inputs by customer type'!J2119:J2134)","v":0},0,0,0,0,0,0,120.51,0,0,0,0,0,0,0,0,null,"Paragraph 36"]
[]
[null,"Checks"]
[]
[null,null,null,null,"Check that all the way non-domestic aggregated (related MPAN) distribution by bands adds to 100%"]
[null,null,null,null,null,"Rate 1 units","TRUE / FALSE",{"$f":"SUM(J172:N172)=1","v":true}]
[null,null,null,null,null,"Rate 2 units","TRUE / FALSE",{"$f":"SUM(J173:N173)=1","v":true}]
[null,null,null,null,null,"Rate 3 units","TRUE / FALSE",true]
[]
[null,null,null,null,"Check that LDNO LV non-domestic aggregated (related MPAN) distribution by bands adds to 100%"]
[null,null,null,null,null,"Rate 1 units","TRUE / FALSE",{"$f":"SUM(J177:N177)=1","v":true}]
[null,null,null,null,null,"Rate 2 units","TRUE / FALSE",{"$f":"SUM(J178:N178)=1","v":true}]
[null,null,null,null,null,"Rate 3 units","TRUE / FALSE",true]
[]
[null,null,null,null,"Check that LDNO HV non-domestic aggregated (related MPAN) distribution by bands adds to 100%"]
[null,null,null,null,null,"Rate 1 units","TRUE / FALSE",{"$f":"SUM(J182:N182)=1","v":true}]
[null,null,null,null,null,"Rate 2 units","TRUE / FALSE",{"$f":"SUM(J183:N183)=1","v":true}]
[null,null,null,null,null,"Rate 3 units","TRUE / FALSE",true]
[]
[null,null,null,null,"Checks on non-domestic aggregated (related MPAN) distributions",null,"number of issues",{"$f":"COUNTIF(H198:H210,FALSE)","v":0}]
[]
[null,null,null,null,"Check for error values",null,"number of issues",{"$f":"SUM(IF(ISERROR(H16:Y194), 1))","v":0}]
[]
[null,null,null,null,"Summary of checks",null,"number of issues",{"$f":" H212 + H214","v":0}]
[]
[null,"End of sheet"]

{"sheet":"Inputs by network level","index":16,"n_rows":61,"n_cols":21,"rows_kept":61,"cut":false,"hidden":true,"merged":[]}
[{"$f":"MID(CELL(\"filename\",A1),FIND(\"]\",CELL(\"filename\",A1))+1,255)","v":"Inputs by network level"}]
[{"$f":"Cover!D23 & \" - \" & TEXT(CIRP_submission_date, \"mmm\") & \"-\" & RIGHT(YEAR(CIRP_submission_date), 2) & \" - \" & Cover!D25","v":"SP Distribution - Jan-26 - V1"}]
[{"$f":"Cover!D2&\" - \"&Cover!D8&\" v\"&Cover!D10&\" - \"&Cover!D19","v":"Cost Information Review Pack (CIRP) - Release for charge setting v1 - 2027/28"}]
[{"$f":"H59 & IF(H59 = 1, \" issue\", \" issues\") &\" identified in checks on this sheet\"","v":"0 issues identified in checks on this sheet"}]
[null,"Click here to return to model map",null,null,null,null,"Units","Constants",null,"Transmission exit","GSPs","132kV","132kV/EHV","EHV","EHV/HV","132kV/HV","HV","HV/LV","LV circuits",null,"Legal text reference"]
[]
[null,"Description"]
[]
[null,null,"This sheet sets out the inputs by network level to be filled in by DNOs."]
[]
[null,null,null,null,"Charging year selected",null,"year",{"$f":"charging_year_selected","v":"2027/28"}]
[null,null,null,null,"Historic / current / forecast",null,"text",{"$f":"'CIRP_User control'!$H$41","v":"Published"}]
[]
[null,"Inputs by network level"]
[]
[null,null,{"$f":"INDEX('Version control'!$H$29:$H$55,MATCH($A$1,'Version control'!$F$29:$F$55,0),1)&\"-A: Network and load inputs\"","v":"Section 502-A: Network and load inputs"}]
[]
[null,null,null,null,"Diversity allowance between top and bottom of network level",null,"%",null,">",null,{"$f":"'CIRP_Inputs by network level'!J20","v":0.11600000000000001},{"$f":"'CIRP_Inputs by network level'!J21","v":0},null,{"$f":"'CIRP_Inputs by network level'!J23","v":0.13},null,null,{"$f":"'CIRP_Inputs by network level'!J26","v":0.25},null,null,null,"Paragraphs 26 to 28"]
[]
[null,null,null,null,"Proportion of load going through 132kV/HV direct transformation",null,"%",null,null,null,null,null,null,null,null,{"$f":"'CIRP_Inputs by network level'!J39","v":0}]
[]
[null,null,null,null,"Loss adjustment factors to transmission",null,"scalar",null,">",null,{"$f":"'CIRP_Inputs by network level'!J48","v":1},{"$f":"'CIRP_Inputs by network level'!J49","v":1},{"$f":"'CIRP_Inputs by network level'!J50","v":1},{"$f":"'CIRP_Inputs by network level'!J51","v":1.0029999999999999},{"$f":"'CIRP_Inputs by network level'!J52","v":1.0129999999999999},null,{"$f":"'CIRP_Inputs by network level'!J54","v":1.0249999999999999},{"$f":"'CIRP_Inputs by network level'!J55","v":1.0449999999999999},{"$f":"'CIRP_Inputs by network level'!J56","v":1.1299999999999999},null,"Paragraph 47"]
[]
[null,null,null,null,"Average kVAr by kVA, by network level",null,"kVAr/kVA",null,">",null,{"$f":"'CIRP_Inputs by network level'!J62","v":0.12509349051851895},{"$f":"'CIRP_Inputs by network level'!J63","v":0},{"$f":"'CIRP_Inputs by network level'!J64","v":0},{"$f":"'CIRP_Inputs by network level'!J65","v":0.12509349051851895},{"$f":"'CIRP_Inputs by network level'!J66","v":0.17242530530783179},{"$f":"'CIRP_Inputs by network level'!J67","v":0},{"$f":"'CIRP_Inputs by network level'!J68","v":0.17242530530783179},{"$f":"'CIRP_Inputs by network level'!J69","v":0.17242530530783179},{"$f":"'CIRP_Inputs by network level'!J70","v":0.17242530530783179},null,"Paragraphs 50 to 51"]
[]
[null,null,{"$f":"INDEX('Version control'!$H$29:$H$55,MATCH($A$1,'Version control'!$F$29:$F$55,0),1)&\"-B: Customer contributions under current connection charging policy\"","v":"Section 502-B: Customer contributions under current connection charging policy"}]
[null,null,null,null,null,null,null,null,">",null,null,null,null,null,null,null,null,null,null,null,"Paragraphs 29 to 31"]
[null,null,null,null,"Customer contributions under current connection charging policy"]
[null,null,null,null,null,"LV network","%",null,null,null,null,{"$f":"'CIRP_Inputs by network level'!J78","v":0},{"$f":"'CIRP_Inputs by network level'!J79","v":0},{"$f":"'CIRP_Inputs by network level'!J80","v":0},{"$f":"'CIRP_Inputs by network level'!J81","v":0},{"$f":"'CIRP_Inputs by network level'!J82","v":0},{"$f":"'CIRP_Inputs by network level'!J83","v":0},{"$f":"'CIRP_Inputs by network level'!J84","v":0},{"$f":"'CIRP_Inputs by network level'!J85","v":0}]
[null,null,null,null,null,"LV substation","%",null,null,null,null,{"$f":"'CIRP_Inputs by network level'!J89","v":0},{"$f":"'CIRP_Inputs by network level'!J90","v":0},{"$f":"'CIRP_Inputs by network level'!J91","v":0},{"$f":"'CIRP_Inputs by network level'!J92","v":0},{"$f":"'CIRP_Inputs by network level'!J93","v":0},{"$f":"'CIRP_Inputs by network level'!J94","v":0},{"$f":"'CIRP_Inputs by network level'!J95","v":0}]
[null,null,null,null,null,"HV network","%",null,null,null,null,{"$f":"'CIRP_Inputs by network level'!J100","v":0},{"$f":"'CIRP_Inputs by network level'!J101","v":0},{"$f":"'CIRP_Inputs by network level'!J102","v":0},{"$f":"'CIRP_Inputs by network level'!J103","v":0},{"$f":"'CIRP_Inputs by network level'!J104","v":0},{"$f":"'CIRP_Inputs by network level'!J105","v":0}]
[null,null,null,null,null,"HV substation","%",null,null,null,null,{"$f":"'CIRP_Inputs by network level'!J111","v":0},{"$f":"'CIRP_Inputs by network level'!J112","v":0},{"$f":"'CIRP_Inputs by network level'!J113","v":0},{"$f":"'CIRP_Inputs by network level'!J114","v":0}]
[]
[null,null,{"$f":"INDEX('Version control'!$H$29:$H$55,MATCH($A$1,'Version control'!$F$29:$F$55,0),1)&\"-C: DRM asset costs\"","v":"Section 502-C: DRM asset costs"}]
[]
[null,null,null,null,"Gross asset cost by network level",null,"£",null,">",null,null,{"$f":"'CIRP_Inputs by network level'!J125","v":0},{"$f":"'CIRP_Inputs by network level'!J126","v":0},{"$f":"'CIRP_Inputs by network level'!J127","v":141269535.36136067},{"$f":"'CIRP_Inputs by network level'!J128","v":36199599.838147812},{"$f":"'CIRP_Inputs by network level'!J129","v":0},{"$f":"'CIRP_Inputs by network level'!J130","v":155731692.62012157},{"$f":"'CIRP_Inputs by network level'!J131","v":39139783.964567825},{"$f":"'CIRP_Inputs by network level'!J132","v":65834354.069705926}]
[]
[null,null,{"$f":"INDEX('Version control'!$H$29:$H$55,MATCH($A$1,'Version control'!$F$29:$F$55,0),1)&\"-D: Peaking probabilities by network level\"","v":"Section 502-D: Peaking probabilities by network level"}]
[]
[null,null,null,"Red, Amber & Green peaking probabilities must sum to 100%, except for unused network levels, which should sum to 0%"]
[]
[null,null,null,null,"Peaking probabilities by network level",null,null,null,">",null,null,null,null,null,null,null,null,null,null,null,"Paragraphs 48 to 49"]
[null,null,null,null,null,"Red","%",null,null,null,{"$f":"'CIRP_Inputs by network level'!J140","v":0.76967160503936027},{"$f":"'CIRP_Inputs by network level'!J141","v":0},{"$f":"'CIRP_Inputs by network level'!J142","v":0},{"$f":"'CIRP_Inputs by network level'!J143","v":0.76967160503936027},{"$f":"'CIRP_Inputs by network level'!J144","v":0.59670716638348686},{"$f":"'CIRP_Inputs by network level'!J145","v":0},{"$f":"'CIRP_Inputs by network level'!J146","v":0.59670716638348686},{"$f":"'CIRP_Inputs by network level'!J147","v":0.59670716638348686},{"$f":"'CIRP_Inputs by network level'!J148","v":0.59670716638348686}]
[null,null,null,null,null,"Amber","%",null,null,null,{"$f":"'CIRP_Inputs by network level'!J152","v":0.22076803763015043},{"$f":"'CIRP_Inputs by network level'!J153","v":0},{"$f":"'CIRP_Inputs by network level'!J154","v":0},{"$f":"'CIRP_Inputs by network level'!J155","v":0.22076803763015043},{"$f":"'CIRP_Inputs by network level'!J156","v":0.39324040659813542},{"$f":"'CIRP_Inputs by network level'!J157","v":0},{"$f":"'CIRP_Inputs by network level'!J158","v":0.39324040659813542},{"$f":"'CIRP_Inputs by network level'!J159","v":0.39324040659813542},{"$f":"'CIRP_Inputs by network level'!J160","v":0.39324040659813542}]
[null,null,null,null,null,"Green","%",null,null,null,{"$f":"'CIRP_Inputs by network level'!J164","v":9.5603573304894624E-3},{"$f":"'CIRP_Inputs by network level'!J165","v":0},{"$f":"'CIRP_Inputs by network level'!J166","v":0},{"$f":"'CIRP_Inputs by network level'!J167","v":9.5603573304894624E-3},{"$f":"'CIRP_Inputs by network level'!J168","v":1.0052427018378092E-2},{"$f":"'CIRP_Inputs by network level'!J169","v":0},{"$f":"'CIRP_Inputs by network level'!J170","v":1.0052427018378092E-2},{"$f":"'CIRP_Inputs by network level'!J171","v":1.0052427018378092E-2},{"$f":"'CIRP_Inputs by network level'!J172","v":1.0052427018378092E-2}]
[null,null,null,null,null,"Black","%",null,null,null,{"$f":"'CIRP_Inputs by network level'!J176","v":0.74038510188731843},{"$f":"'CIRP_Inputs by network level'!J177","v":0},{"$f":"'CIRP_Inputs by network level'!J178","v":0},{"$f":"'CIRP_Inputs by network level'!J179","v":0.74038510188731843},{"$f":"'CIRP_Inputs by network level'!J180","v":0.58981550082627798},{"$f":"'CIRP_Inputs by network level'!J181","v":0},{"$f":"'CIRP_Inputs by network level'!J182","v":0.58981550082627798},{"$f":"'CIRP_Inputs by network level'!J183","v":0.58981550082627798},{"$f":"'CIRP_Inputs by network level'!J184","v":0.58981550082627798}]
[]
[null,"Checks"]
[]
[null,null,null,null,"Check for error values",null,"number of issues",{"$f":"SUM(IF(ISERROR(H18:AA47), 1))","v":0}]
[]
[null,null,null,null,"Check that loss adjustment factor = 1 at grid supply point",null,"number of issues",{"$f":"IF(K22 = 1, 0, 1)","v":0}]
[]
[null,null,null,null,"Peaking probabilities check"]
[null,null,null,null,"0% peaking probabilities are permitted for 132kV, 132kV/EHV & 132kV/HV network levels, which do not exist for all DNOs"]
[null,null,null,null,null,"General","number of issues",{"$f":"SUM(K56:S56)","v":0},null,null,{"$f":"IF(ABS(SUM(K43:K45) - 1) < 10^-check_decimals, 0, 1)","v":0},null,null,{"$f":"IF(ABS(SUM(N43:N45) - 1) < 10^-check_decimals, 0, 1)","v":0},{"$f":"IF(ABS(SUM(O43:O45) - 1) < 10^-check_decimals, 0, 1)","v":0},null,{"$f":"IF(ABS(SUM(Q43:Q45) - 1) < 10^-check_decimals, 0, 1)","v":0},{"$f":"IF(ABS(SUM(R43:R45) - 1) < 10^-check_decimals, 0, 1)","v":0},{"$f":"IF(ABS(SUM(S43:S45) - 1) < 10^-check_decimals, 0, 1)","v":0}]
[null,null,null,null,null,"132kV","number of issues",{"$f":"SUM(K57:S57)","v":0},null,null,null,{"$f":"IF(OR(ABS(SUM(L43:L45) - 1) < 10^-check_decimals, ABS(SUM(L43:L45) - 0) < 10^-check_decimals), 0, 1)","v":0},{"$f":"IF(OR(ABS(SUM(M43:M45) - 1) < 10^-check_decimals, ABS(SUM(M43:M45) - 0) < 10^-check_decimals), 0, 1)","v":0},null,null,{"$f":"IF(OR(ABS(SUM(P43:P45) - 1) < 10^-check_decimals, ABS(SUM(P43:P45) - 0) < 10^-check_decimals), 0, 1)","v":0}]
[]
[null,null,null,null,"Summary of checks",null,"number of issues",{"$f":"SUM(H50:H57)","v":0}]
[]
[null,"End of sheet"]

{"sheet":"General inputs","index":17,"n_rows":124,"n_cols":10,"rows_kept":124,"cut":false,"hidden":true,"merged":[]}
[{"$f":"MID(CELL(\"filename\",A1),FIND(\"]\",CELL(\"filename\",A1))+1,255)","v":"General inputs"}]
[{"$f":"Cover!D23 & \" - \" & TEXT(CIRP_submission_date, \"mmm\") & \"-\" & RIGHT(YEAR(CIRP_submission_date), 2) & \" - \" & Cover!D25","v":"SP Distribution - Jan-26 - V1"}]
[{"$f":"Cover!D2&\" - \"&Cover!D8&\" v\"&Cover!D10&\" - \"&Cover!D19","v":"Cost Information Review Pack (CIRP) - Release for charge setting v1 - 2027/28"}]
[{"$f":"H122 & IF(H122 = 1, \" issue\", \" issues\") &\" identified in checks on this sheet\"","v":"0 issues identified in checks on this sheet"}]
[null,"Click here to return to model map",null,null,null,null,"Units","Constants",null,"Legal text reference"]
[]
[null,"Description"]
[]
[null,null,"This sheet sets out the other inputs to be filled in by DNOs"]
[]
[null,null,null,null,"Charging year selected",null,"year",{"$f":"charging_year_selected","v":"2027/28"}]
[null,null,null,null,"Historic / current / forecast",null,"text",{"$f":"'CIRP_User control'!$H$41","v":"Published"}]
[]
[null,"General inputs"]
[]
[null,null,{"$f":"INDEX('Version control'!$H$29:$H$55,MATCH($A$1,'Version control'!$F$29:$F$55,0),1)&\"-A: Inputs by distribution timeband\"","v":"Section 503-A: Inputs by distribution timeband"}]
[]
[null,null,null,"Typical annual hours by special distribution time band",null,null,null,null,">","Paragraphs 40 to 41"]
[null,null,null,null,"Black",null,"hours per year",{"$f":"'CIRP_General inputs'!J19","v":261}]
[null,null,null,null,"Yellow",null,"hours per year",{"$f":"'CIRP_General inputs'!J20","v":3954}]
[null,null,null,null,"Green",null,"hours per year",{"$f":"'CIRP_General inputs'!J21","v":4569}]
[]
[null,null,null,"Typical annual hours by distribution time band",null,null,null,null,">","Paragraphs 40 to 41"]
[null,null,null,null,"Red",null,"hours per year",{"$f":"'CIRP_General inputs'!J24","v":786}]
[null,null,null,null,"Amber",null,"hours per year",{"$f":"'CIRP_General inputs'!J25","v":3429}]
[null,null,null,null,"Green",null,"hours per year",{"$f":"'CIRP_General inputs'!J26","v":4569}]
[]
[null,null,{"$f":"INDEX('Version control'!$H$29:$H$55,MATCH($A$1,'Version control'!$F$29:$F$55,0),1)&\"-B: LDNO discount inputs\"","v":"Section 503-B: LDNO discount inputs"}]
[]
[null,null,null,"Inputs sourced from the PCDM"]
[]
[null,null,null,"Embedded network (LDNO) discount percentages",null,null,null,null,">","Paragraph 53"]
[null,null,null,null,"LDNO LV: LV user",null,"%",{"$f":"'CIRP_General inputs'!J33","v":0.39602144078246099}]
[null,null,null,null,"LDNO HV: LV user",null,"%",{"$f":"'CIRP_General inputs'!J34","v":0.60683298358343041}]
[null,null,null,null,"LDNO HV: LV Sub user",null,"%",{"$f":"'CIRP_General inputs'!J35","v":0.34783515419041816}]
[null,null,null,null,"LDNO HV: HV user",null,"%",{"$f":"'CIRP_General inputs'!J36","v":0.24889531348591729}]
[]
[null,null,{"$f":"INDEX('Version control'!$H$29:$H$55,MATCH($A$1,'Version control'!$F$29:$F$55,0),1)&\"-C: CDCM target revenue\"","v":"Section 503-C: CDCM target revenue"}]
[]
[null,null,null,"The contents of this table are defined on the DCUSA website and referenced in Schedule 20 (Appendix A - Table 1).",null,null,null,null,">","Paragraph 54, Schedule 20 Table 1"]
[]
[null,null,null,"Base Revenue"]
[null,null,null,null,"Fast money",null,"£m 20/21 prices",{"$f":"'CIRP_General inputs'!J43","v":92.488539912180187}]
[null,null,null,null,"Depreciation",null,"£m 20/21 prices",{"$f":"'CIRP_General inputs'!J44","v":130.17479341457448}]
[null,null,null,null,"Return",null,"£m 20/21 prices",{"$f":"'CIRP_General inputs'!J45","v":97.354253076145795}]
[null,null,null,null,"Pass-through"]
[null,null,null,null,null,"Licence Fee Payments","£m 20/21 prices",{"$f":"'CIRP_General inputs'!J47","v":2.6530185011980367}]
[null,null,null,null,null,"Prescribed Rates","£m 20/21 prices",{"$f":"'CIRP_General inputs'!J48","v":31.715960291527441}]
[null,null,null,null,null,"Pass-through Transmission Connection Point Charges","£m 20/21 prices",{"$f":"'CIRP_General inputs'!J49","v":23.243261487706626}]
[null,null,null,null,null,"Smart Meter Communication Licensee Costs","£m 20/21 prices",{"$f":"'CIRP_General inputs'!J50","v":14.621030922413503}]
[null,null,null,null,null,"Smart Meter Information Technology Costs","£m 20/21 prices",{"$f":"'CIRP_General inputs'!J51","v":1.5277685223039756}]
[null,null,null,null,null,"Ring Fence Costs","£m 20/21 prices",{"$f":"'CIRP_General inputs'!J52","v":0}]
[null,null,null,null,null,"Supplier of Last Resort Net Costs","£m 20/21 prices",{"$f":"'CIRP_General inputs'!J53","v":0}]
[null,null,null,null,null,"Valid Bad Debt Claims","£m 20/21 prices",{"$f":"'CIRP_General inputs'!J54","v":0}]
[null,null,null,null,null,"Pension Scheme Established Deficit repair expenditure","£m 20/21 prices",{"$f":"'CIRP_General inputs'!J55","v":-5.7448273360144393}]
[null,null,null,null,null,"Failed Supplier Recovered Costs","£m 20/21 prices",{"$f":"'CIRP_General inputs'!J56","v":0}]
[null,null,null,null,null,"Shetland Variable Energy Costs (SSEH only)","£m 20/21 prices",{"$f":"'CIRP_General inputs'!J57","v":0}]
[null,null,null,null,null,"Assistance for high-cost distributors adjustment (SSEH only)","£m 20/21 prices",{"$f":"'CIRP_General inputs'!J58","v":0}]
[null,null,null,null,null,"Total pass-through","£m 20/21 prices",{"$f":"(H47 + H48 + H49 + H50 + H51 + H52 + H53 + H54 + H55 + H57) - (H56 + H58)","v":68.016212389135134}]
[null,null,null,null,"Total base revenue",null,"£m 20/21 prices",{"$f":"H43 + H44 + H45 + H59","v":388.03379879203561}]
[]
[null,null,null,"Other revenue"]
[null,null,null,null,"Return Adjustment",null,"£m 20/21 prices",{"$f":"'CIRP_General inputs'!J63","v":0}]
[null,null,null,null,"Equity issuance costs",null,"£m 20/21 prices",{"$f":"'CIRP_General inputs'!J64","v":0}]
[null,null,null,null,"Business plan incentive",null,"£m 20/21 prices",{"$f":"'CIRP_General inputs'!J65","v":0}]
[null,null,null,null,"Output delivery incentive",null,"£m 20/21 prices",{"$f":"'CIRP_General inputs'!J66","v":9.9303147964104745}]
[null,null,null,null,"Other revenue allowances",null,"£m 20/21 prices",{"$f":"'CIRP_General inputs'!J67","v":0}]
[null,null,null,null,"Directly Remunerated Services",null,"£m 20/21 prices",{"$f":"'CIRP_General inputs'!J68","v":-3.061316175368578E-2}]
[null,null,null,null,"Total other revenue",null,"£m 20/21 prices",{"$f":"SUM(H63:H68)","v":9.8997016346567897}]
[]
[null,null,null,"Calculated revenue (after tax)"]
[null,null,null,null,"Calculated revenue (before tax)",null,"£m 20/21 prices",{"$f":"H60 + H69","v":397.93350042669238}]
[null,null,null,null,"Tax allowance",null,"£m 20/21 prices",{"$f":"'CIRP_General inputs'!J73","v":1.2767760576421814}]
[null,null,null,null,"Tax allowance adjustment",null,"£m 20/21 prices",{"$f":"'CIRP_General inputs'!J74","v":0}]
[null,null,null,null,"Calculated revenue (after tax)",null,"£m 20/21 prices",{"$f":"H72 + H73 + H74","v":399.21027648433454}]
[]
[null,null,null,"Real to nominal prices conversion factor (splice index for RIIO-2)",null,null,"Price index t / Price index 2020/21",{"$f":"'CIRP_General inputs'!J77","v":1.4352422149476913}]
[]
[null,null,null,"Allowed revenue"]
[null,null,null,null,"Nominal calculated revenue (after tax)",null,"£m nominal",{"$f":"H75 * H77","v":572.96344145125659}]
[null,null,null,null,"Correction term",null,"£m nominal",{"$f":"'CIRP_General inputs'!J81","v":32.667119240252319}]
[null,null,null,null,"Forecasting penalty",null,"£m nominal",{"$f":"'CIRP_General inputs'!J82","v":0}]
[null,null,null,null,"Legacy Allowed Revenue",null,"£m nominal",{"$f":"'CIRP_General inputs'!J83","v":1.0795595404165736}]
[null,null,null,null,"Total allowed revenue",null,"£m nominal",{"$f":"SUM(H80:H83)","v":606.71012023192543}]
[null,null,null,null,"Total allowed revenue",null,"£",{"$f":"H84 * million","v":606710120.23192549}]
[]
[null,null,null,"Allowed revenue by charging model"]
[null,null,null,null,"Revenue raised outside CDCM - EDCM and Certain Interconnector Revenue",null,"£",{"$f":"'CIRP_General inputs'!J88","v":13834951.026123252}]
[null,null,null,null,"CDCM revenue",null,"£",{"$f":"H85 - H88","v":592875169.2058022}]
[]
[null,null,null,"Pass-through costs not allocated through revenue matching"]
[null,null,null,null,"Supplier of Last Resort Net Costs",null,"£",{"$f":"H53 * H$77 * million","v":0}]
[null,null,null,null,"Valid Bad Debt Claims",null,"£",{"$f":"H54 * H$77 * million","v":0}]
[]
[null,null,null,"Pass-through Smart Meter Communication Licence Costs",null,null,"£",{"$f":"H50 * H$77 * million","v":20984720.805903442}]
[]
[null,null,{"$f":"INDEX('Version control'!$H$29:$H$55,MATCH($A$1,'Version control'!$F$29:$F$55,0),1)&\"-D: Financial and general assumptions\"","v":"Section 503-D: Financial and general assumptions"}]
[]
[null,null,null,null,"Real pre-tax cost of capital",null,"%",{"$f":"'CIRP_General inputs'!J99","v":4.87E-2},">","Paragraph 57"]
[null,null,null,null,"Days in the charging year",null,"days",{"$f":"'CIRP_General inputs'!J100","v":366}]
[null,null,null,null,"Hours in charging year",null,"hours",{"$f":"days_in_year * hours_in_day","v":8784}]
[]
[null,null,{"$f":"INDEX('Version control'!$H$29:$H$55,MATCH($A$1,'Version control'!$F$29:$F$55,0),1)&\"-E: Transmission exit charges\"","v":"Section 503-E: Transmission exit charges"}]
[]
[null,null,null,null,"Transmission exit charges",null,"£ per year",{"$f":"'CIRP_General inputs'!J104","v":30835587.118306771},">","Paragraph 38"]
[]
[null,null,{"$f":"INDEX('Version control'!$H$29:$H$55,MATCH($A$1,'Version control'!$F$29:$F$55,0),1)&\"-F: Other expenditure\"","v":"Section 503-F: Other expenditure"}]
[]
[null,null,null,null,"Other expenditure",null,null,null,">","Paragraph 39"]
[null,null,null,null,null,"Direct cost","£ per year",{"$f":"'CIRP_General inputs'!J109","v":25963150.658752657}]
[null,null,null,null,null,"Indirect cost","£ per year",{"$f":"'CIRP_General inputs'!J110","v":138619386.11953011}]
[null,null,null,null,null,"Network rates","£ per year",{"$f":"'CIRP_General inputs'!J111","v":42995962.116087213}]
[]
[null,"Checks"]
[]
[null,null,null,null,"Check for error values",null,"number of issues",{"$f":"SUM(IF(ISERROR(H6:H113), 1))","v":0}]
[]
[null,null,null,null,"Hours in charging year check"]
[null,null,null,null,null,"Normal distribution timebands","number of issues",{"$f":"IF(SUM(H19:H21) = hours_in_year, 0, 1)","v":0}]
[null,null,null,null,null,"Special distribution timebands","number of issues",{"$f":"IF(SUM(H24:H26) = hours_in_year, 0, 1)","v":0}]
[]
[null,null,null,null,"Summary of checks",null,"number of issues",{"$f":"SUM(H116,H119:H120)","v":0}]
[]
[null,"End of sheet"]

{"sheet":"Standing charge factors","index":18,"n_rows":60,"n_cols":27,"rows_kept":60,"cut":false,"hidden":true,"merged":[]}
[{"$f":"MID(CELL(\"filename\",A1),FIND(\"]\",CELL(\"filename\",A1))+1,255)","v":"Standing charge factors"}]
[{"$f":"Cover!D23 & \" - \" & TEXT(CIRP_submission_date, \"mmm\") & \"-\" & RIGHT(YEAR(CIRP_submission_date), 2) & \" - \" & Cover!D25","v":"SP Distribution - Jan-26 - V1"}]
[{"$f":"Cover!D2&\" - \"&Cover!D8&\" v\"&Cover!D10&\" - \"&Cover!D19","v":"Cost Information Review Pack (CIRP) - Release for charge setting v1 - 2027/28"}]
[{"$f":"H58 & IF(H58 = 1, \" issue\", \" issues\") &\" identified in checks on this sheet\"","v":"0 issues identified in checks on this sheet"}]
[null,"Click here to return to model map",null,null,null,null,"Units","Constants",null,"Domestic Aggregated or CT","Domestic Aggregated (Related MPAN)","Non-Domestic Aggregated or CT","Non-Domestic Aggregated (Related MPAN)","LV Site Specific","LV Sub Site Specific","HV Site Specific","Unmetered Supplies","LV Generation Aggregated","LV Sub Generation Aggregated","LV Generation Site Specific","LV Generation Site Specific no RP Charge","LV Sub Generation Site Specific","LV Sub Generation Site Specific no RP Charge","HV Generation Site Specific","HV Generation Site Specific no RP Charge",null,"Legal text reference"]
[]
[null,"Description"]
[]
[null,null,"This sheet contains standing charge factors, as described in DCUSA Schedule 16, Paragraphs 74-76."]
[null,null,"Standing charge factors are used to split network costs between those to be recovered through unit rate charges "]
[null,null,"and those to be recovered through standing (capacity or fixed) charges, depending on the customer class and "]
[null,null,"the network level at which costs occur."]
[]
[null,null,"Standing charge factors are only applied for demand users."]
[null,null,"A factor of 100% implies that all costs will be allocated to standing charges."]
[]
[null,"Adjustments to standing charges"]
[]
[null,null,{"$f":"INDEX('Version control'!$H$29:$H$55,MATCH($A$1,'Version control'!$F$29:$F$55,0),1)&\"-A: Adjustments to standing charges\"","v":"Section 504-A: Adjustments to standing charges"}]
[]
[null,null,null,"Brings in standing charge factors and adjusts them for share of load going through 132/HV"]
[]
[null,null,null,null,"Raw inputs for standing charge factors, by network level",null,null,null,">",null,null,null,null,null,null,null,null,null,null,null,null,null,null,null,null,null,"Paragraph 74"]
[null,null,null,null,"Standing charge factors as specified in Paragraph 74"]
[null,null,null,null,null,"Transmission exit","%",null,null,{"$f":"'Fixed inputs'!J93","v":0},{"$f":"'Fixed inputs'!K93","v":0},{"$f":"'Fixed inputs'!L93","v":0},{"$f":"'Fixed inputs'!M93","v":0},{"$f":"'Fixed inputs'!N93","v":0},{"$f":"'Fixed inputs'!O93","v":0},{"$f":"'Fixed inputs'!P93","v":0},{"$f":"'Fixed inputs'!Q93","v":0}]
[null,null,null,null,null,"GSPs","%",null,null,{"$f":"'Fixed inputs'!J94","v":0},{"$f":"'Fixed inputs'!K94","v":0},{"$f":"'Fixed inputs'!L94","v":0},{"$f":"'Fixed inputs'!M94","v":0},{"$f":"'Fixed inputs'!N94","v":0},{"$f":"'Fixed inputs'!O94","v":0},{"$f":"'Fixed inputs'!P94","v":0},{"$f":"'Fixed inputs'!Q94","v":0}]
[null,null,null,null,null,"132kV","%",null,null,{"$f":"'Fixed inputs'!J95","v":0},{"$f":"'Fixed inputs'!K95","v":0},{"$f":"'Fixed inputs'!L95","v":0},{"$f":"'Fixed inputs'!M95","v":0},{"$f":"'Fixed inputs'!N95","v":0},{"$f":"'Fixed inputs'!O95","v":0},{"$f":"'Fixed inputs'!P95","v":0},{"$f":"'Fixed inputs'!Q95","v":0}]
[null,null,null,null,null,"132kV/EHV","%",null,null,{"$f":"'Fixed inputs'!J96","v":0},{"$f":"'Fixed inputs'!K96","v":0},{"$f":"'Fixed inputs'!L96","v":0},{"$f":"'Fixed inputs'!M96","v":0},{"$f":"'Fixed inputs'!N96","v":0},{"$f":"'Fixed inputs'!O96","v":0},{"$f":"'Fixed inputs'!P96","v":0},{"$f":"'Fixed inputs'!Q96","v":0}]
[null,null,null,null,null,"EHV","%",null,null,{"$f":"'Fixed inputs'!J97","v":0},{"$f":"'Fixed inputs'!K97","v":0},{"$f":"'Fixed inputs'!L97","v":0},{"$f":"'Fixed inputs'!M97","v":0},{"$f":"'Fixed inputs'!N97","v":0},{"$f":"'Fixed inputs'!O97","v":0},{"$f":"'Fixed inputs'!P97","v":0.2},{"$f":"'Fixed inputs'!Q97","v":0}]
[null,null,null,null,null,"EHV/HV","%",null,null,{"$f":"'Fixed inputs'!J98","v":0},{"$f":"'Fixed inputs'!K98","v":0},{"$f":"'Fixed inputs'!L98","v":0},{"$f":"'Fixed inputs'!M98","v":0},{"$f":"'Fixed inputs'!N98","v":0},{"$f":"'Fixed inputs'!O98","v":0},{"$f":"'Fixed inputs'!P98","v":1},{"$f":"'Fixed inputs'!Q98","v":0}]
[null,null,null,null,null,"132kV/HV","%",null,null,{"$f":"'Fixed inputs'!J99","v":0},{"$f":"'Fixed inputs'!K99","v":0},{"$f":"'Fixed inputs'!L99","v":0},{"$f":"'Fixed inputs'!M99","v":0},{"$f":"'Fixed inputs'!N99","v":0},{"$f":"'Fixed inputs'!O99","v":0},{"$f":"'Fixed inputs'!P99","v":0},{"$f":"'Fixed inputs'!Q99","v":0}]
[null,null,null,null,null,"HV","%",null,null,{"$f":"'Fixed inputs'!J100","v":0},{"$f":"'Fixed inputs'!K100","v":0},{"$f":"'Fixed inputs'!L100","v":0},{"$f":"'Fixed inputs'!M100","v":0},{"$f":"'Fixed inputs'!N100","v":0.2},{"$f":"'Fixed inputs'!O100","v":1},{"$f":"'Fixed inputs'!P100","v":1},{"$f":"'Fixed inputs'!Q100","v":0}]
[null,null,null,null,null,"HV/LV","%",null,null,{"$f":"'Fixed inputs'!J101","v":0},{"$f":"'Fixed inputs'!K101","v":0},{"$f":"'Fixed inputs'!L101","v":0},{"$f":"'Fixed inputs'!M101","v":0},{"$f":"'Fixed inputs'!N101","v":1},{"$f":"'Fixed inputs'!O101","v":1},{"$f":"'Fixed inputs'!P101","v":0},{"$f":"'Fixed inputs'!Q101","v":0}]
[null,null,null,null,null,"LV circuits","%",null,null,{"$f":"'Fixed inputs'!J102","v":1},{"$f":"'Fixed inputs'!K102","v":1},{"$f":"'Fixed inputs'!L102","v":1},{"$f":"'Fixed inputs'!M102","v":1},{"$f":"'Fixed inputs'!N102","v":1},{"$f":"'Fixed inputs'!O102","v":0},{"$f":"'Fixed inputs'!P102","v":0},{"$f":"'Fixed inputs'!Q102","v":0}]
[null,null,null,null,null,"LV customers","%"]
[null,null,null,null,null,"HV customers","%"]
[]
[null,null,null,null,"Proportion of load going through 132kV/HV direct transformation"]
[null,null,null,null,null,"Proportion of load going through 132kV/HV direct transformation","%",{"$f":"'Inputs by network level'!P20","v":0}]
[]
[null,null,null,null,"Standing charges factors adapted to use 132kV/HV, by network level"]
[null,null,null,null,"Adjustments as described in Paragraph 75 and 76"]
[null,null,null,null,null,"Transmission exit","%"]
[null,null,null,null,null,"GSPs","%"]
[null,null,null,null,null,"132kV","%",null,">",{"$f":"IF($H$39 = 0, J27, J29 * $H$39)","v":0},{"$f":"IF($H$39 = 0, K27, K29 * $H$39)","v":0},0,0,0,0,0,0,null,null,null,null,null,null,null,null,null,"Paragraph 76"]
[null,null,null,null,null,"132kV/EHV","%",null,null,{"$f":"J28","v":0},0,0,0,0,0,0,0]
[null,null,null,null,null,"EHV","%",null,null,0,0,0,0,0,0,0.2,0]
[null,null,null,null,null,"EHV/HV","%",null,null,0,0,0,0,0,0,1,0]
[null,null,null,null,null,"132kV/HV","%",null,">",{"$f":"J30","v":0},0,0,0,0,0,1,0,null,null,null,null,null,null,null,null,null,"Paragraph 75"]
[null,null,null,null,null,"HV","%",null,null,{"$f":"J32","v":0},0,0,0,0.2,1,1,0]
[null,null,null,null,null,"HV/LV","%",null,null,0,0,0,0,1,1,0,0]
[null,null,null,null,null,"LV circuits","%",null,null,1,1,1,1,1,0,0,0]
[null,null,null,null,null,"LV customers","%"]
[null,null,null,null,null,"HV customers","%"]
[]
[null,"Checks"]
[]
[null,null,null,null,"Check for error values",null,"number of issues",{"$f":"SUM(IF(ISERROR(H25:Y54), 1))","v":0}]
[]
[null,"End of sheet"]

{"sheet":"Load & loss characteristics","index":19,"n_rows":185,"n_cols":23,"rows_kept":185,"cut":false,"hidden":true,"merged":[]}
[{"$f":"MID(CELL(\"filename\",A1),FIND(\"]\",CELL(\"filename\",A1))+1,255)","v":"Load & loss characteristics"}]
[{"$f":"Cover!D23 & \" - \" & TEXT(CIRP_submission_date, \"mmm\") & \"-\" & RIGHT(YEAR(CIRP_submission_date), 2) & \" - \" & Cover!D25","v":"SP Distribution - Jan-26 - V1"}]
[{"$f":"Cover!D2&\" - \"&Cover!D8&\" v\"&Cover!D10&\" - \"&Cover!D19","v":"Cost Information Review Pack (CIRP) - Release for charge setting v1 - 2027/28"}]
[{"$f":"H183 & IF(H183 = 1, \" issue\", \" issues\") &\" identified in checks on this sheet\"","v":"0 issues identified in checks on this sheet"}]
[null,"Click here to return to model map",null,null,null,null,"Units","Constants",null,"Transmission exit","GSPs","132kV","132kV/EHV","EHV","EHV/HV","132kV/HV","HV","HV/LV","LV circuits","LV customers","HV customers",null,"Legal text reference"]
[]
[null,"Description"]
[]
[null,null,"This sheet adjusts diversity allowances, coincidence factors and loss adjustment factors for use in the model"]
[null,null,"This sheet then uses network use factors and loss adjustment factors to calculate user loss factors"]
[null,null,"Network use factors and user loss factors are also adjusted for the share of load going through 132/HV transformation"]
[]
[null,"Load and loss characteristics"]
[]
[null,null,"Brings in diversity allowances to calculate coincidence and cumulative diversity factors. Also adjusts loss adjustment factors."]
[]
[null,null,{"$f":"INDEX('Version control'!$H$29:$H$55,MATCH($A$1,'Version control'!$F$29:$F$55,0),1)&\"-A: Load characteristics\"","v":"Section 505-A: Load characteristics"}]
[]
[null,null,null,null,"Network model diversity allowances",null,"%",null,null,null,{"$f":"'Inputs by network level'!K18","v":0.11600000000000001},{"$f":"'Inputs by network level'!L18","v":0},null,{"$f":"'Inputs by network level'!N18","v":0.13},null,null,{"$f":"'Inputs by network level'!Q18","v":0.25}]
[null,null,null,null,"Coincidence factor",null,"%",null,null,{"$f":"IF(I20 = \"\", 1, I20 / (1 + J19))","v":1},{"$f":"IF(J20 = \"\", 1, J20 / (1 + K19))","v":0.8960573476702508},{"$f":"IF(K20 = \"\", 1, K20 / (1 + L19))","v":0.8960573476702508},0.8960573476702508,0.79297110413296534,0.79297110413296534,0.79297110413296534,0.63437688330637232,0.63437688330637232,0.63437688330637232]
[null,null,null,null,"Network model cumulative diversity factor",null,"%",null,null,{"$f":"1 / J20 - 1","v":0},{"$f":"1 / K20 - 1","v":0.1160000000000001},0.1160000000000001,0.1160000000000001,0.26107999999999998,0.26107999999999998,0.26107999999999998,0.57634999999999992,0.57634999999999992,0.57634999999999992]
[null,null,null,null,"Adjustment for 132/HV diversity",null,"%",null,null,null,null,null,null,null,null,{"$f":"M21","v":0.1160000000000001}]
[null,null,null,null,"Adjusted network model cumulative diversity factor",null,"%",null,">",{"$f":"IF(J22 = \"\", J21, J22)","v":0},0.1160000000000001,0.1160000000000001,0.1160000000000001,0.26107999999999998,0.26107999999999998,0.1160000000000001,0.57634999999999992,0.57634999999999992,0.57634999999999992,null,null,null,"Paragraphs 42 to 44"]
[]
[null,null,{"$f":"INDEX('Version control'!$H$29:$H$55,MATCH($A$1,'Version control'!$F$29:$F$55,0),1)&\"-B: Loss adjustment factors\"","v":"Section 505-B: Loss adjustment factors"}]
[]
[null,null,null,null,"Loss adjustment factor to transmission",null,"scalar",null,null,null,{"$f":"'Inputs by network level'!K22","v":1},{"$f":"'Inputs by network level'!L22","v":1},{"$f":"'Inputs by network level'!M22","v":1},{"$f":"'Inputs by network level'!N22","v":1.0029999999999999},{"$f":"'Inputs by network level'!O22","v":1.0129999999999999},null,{"$f":"'Inputs by network level'!Q22","v":1.0249999999999999},{"$f":"'Inputs by network level'!R22","v":1.0449999999999999},{"$f":"'Inputs by network level'!S22","v":1.1299999999999999}]
[null,null,null,null,"Adjustment for 132/HV transformation & transmission exit",null,"scalar",null,null,{"$f":"K27","v":1},null,null,null,null,null,{"$f":"O27","v":1.0129999999999999}]
[null,null,null,null,"Loss adjustment factor to transmission for each DRM network level",null,"scalar",null,">",{"$f":"J27 + J28","v":1},1,1,1,1.0029999999999999,1.0129999999999999,1.0129999999999999,1.0249999999999999,1.0449999999999999,1.1299999999999999,null,null,null,"Paragraph 47"]
[]
[null,"User loss factor adjustments"]
[]
[null,null,"Calculates user loss factors and makes adjustments for share of load going through 132kV/HV"]
[]
[null,null,{"$f":"INDEX('Version control'!$H$29:$H$55,MATCH($A$1,'Version control'!$F$29:$F$55,0),1)&\"-C: Proportion of relevant load going through 132kV/HV direct transformation\"","v":"Section 505-C: Proportion of relevant load going through 132kV/HV direct transformation"}]
[]
[null,null,null,null,"132kV/HV",null,"%",{"$f":"'Inputs by network level'!P20","v":0}]
[null,null,null,null,"Adjustment to network use factors for 132/HV share",null,"%",null,null,null,null,null,{"$f":"1 - $H$37","v":1},{"$f":"1 - $H$37","v":1},{"$f":"1 - $H$37","v":1},{"$f":"H37","v":0}]
[]
[null,null,{"$f":"INDEX('Version control'!$H$29:$H$55,MATCH($A$1,'Version control'!$F$29:$F$55,0),1)&\"-D: Network use factors\"","v":"Section 505-D: Network use factors"}]
[]
[null,null,null,"Network use factors assume demand and generation use the network from the point of connection."]
[]
[null,null,null,null,"Network use factors (assuming generation contributes at level of connection)"]
[null,null,null,null,"These values are drawn from the \"Fixed inputs\" sheet."]
[null,null,null,null,null,"Domestic Aggregated or CT","1, 0 or -1",null,null,{"$f":"TRANSPOSE('Fixed inputs'!J65:Y74)","v":1},1,1,1,1,1,1,1,1,1]
[null,null,null,null,null,"Domestic Aggregated (Related MPAN)","1, 0 or -1",null,null,1,1,1,1,1,1,1,1,1,1]
[null,null,null,null,null,"Non-Domestic Aggregated or CT","1, 0 or -1",null,null,1,1,1,1,1,1,1,1,1,1]
[null,null,null,null,null,"Non-Domestic Aggregated (Related MPAN)","1, 0 or -1",null,null,1,1,1,1,1,1,1,1,1,1]
[null,null,null,null,null,"LV Site Specific","1, 0 or -1",null,null,1,1,1,1,1,1,1,1,1,1]
[null,null,null,null,null,"LV Sub Site Specific","1, 0 or -1",null,null,1,1,1,1,1,1,1,1,1,0]
[null,null,null,null,null,"HV Site Specific","1, 0 or -1",null,null,1,1,1,1,1,1,1,1,0,0]
[null,null,null,null,null,"Unmetered Supplies","1, 0 or -1",null,null,1,1,1,1,1,1,1,1,1,1]
[null,null,null,null,null,"LV Generation Aggregated","1, 0 or -1",null,null,-1,-1,-1,-1,-1,-1,-1,-1,-1,-1]
[null,null,null,null,null,"LV Sub Generation Aggregated","1, 0 or -1",null,null,-1,-1,-1,-1,-1,-1,-1,-1,-1,0]
[null,null,null,null,null,"LV Generation Site Specific","1, 0 or -1",null,null,-1,-1,-1,-1,-1,-1,-1,-1,-1,-1]
[null,null,null,null,null,"LV Generation Site Specific no RP Charge","1, 0 or -1",null,null,-1,-1,-1,-1,-1,-1,-1,-1,-1,-1]
[null,null,null,null,null,"LV Sub Generation Site Specific","1, 0 or -1",null,null,-1,-1,-1,-1,-1,-1,-1,-1,-1,0]
[null,null,null,null,null,"LV Sub Generation Site Specific no RP Charge","1, 0 or -1",null,null,-1,-1,-1,-1,-1,-1,-1,-1,-1,0]
[null,null,null,null,null,"HV Generation Site Specific","1, 0 or -1",null,null,-1,-1,-1,-1,-1,-1,-1,-1,0,0]
[null,null,null,null,null,"HV Generation Site Specific no RP Charge","1, 0 or -1",null,null,-1,-1,-1,-1,-1,-1,-1,-1,0,0]
[]
[null,null,null,null,"Network use factors (assuming generation contributes at level of connection) scaled for 132/HV"]
[null,null,null,null,"These have been adjusted for the share of load going through 132/HV transformation"]
[null,null,null,null,null,"Domestic Aggregated or CT","1, 0 or -1",null,null,{"$f":"IF(J$38 = \"\", J46, J46 * J$38)","v":1},1,1,1,1,1,0,1,1,1]
[null,null,null,null,null,"Domestic Aggregated (Related MPAN)","1, 0 or -1",null,null,1,1,1,1,1,1,0,1,1,1]
[null,null,null,null,null,"Non-Domestic Aggregated or CT","1, 0 or -1",null,null,1,1,1,1,1,1,0,1,1,1]
[null,null,null,null,null,"Non-Domestic Aggregated (Related MPAN)","1, 0 or -1",null,null,1,1,1,1,1,1,0,1,1,1]
[null,null,null,null,null,"LV Site Specific","1, 0 or -1",null,null,1,1,1,1,1,1,0,1,1,1]
[null,null,null,null,null,"LV Sub Site Specific","1, 0 or -1",null,null,1,1,1,1,1,1,0,1,1,0]
[null,null,null,null,null,"HV Site Specific","1, 0 or -1",null,null,1,1,1,1,1,1,0,1,0,0]
[null,null,null,null,null,"Unmetered Supplies","1, 0 or -1",null,null,1,1,1,1,1,1,0,1,1,1]
[null,null,null,null,null,"LV Generation Aggregated","1, 0 or -1",null,null,-1,-1,-1,-1,-1,-1,0,-1,-1,-1]
[null,null,null,null,null,"LV Sub Generation Aggregated","1, 0 or -1",null,null,-1,-1,-1,-1,-1,-1,0,-1,-1,0]
[null,null,null,null,null,"LV Generation Site Specific","1, 0 or -1",null,null,-1,-1,-1,-1,-1,-1,0,-1,-1,-1]
[null,null,null,null,null,"LV Generation Site Specific no RP Charge","1, 0 or -1",null,null,-1,-1,-1,-1,-1,-1,0,-1,-1,-1]
[null,null,null,null,null,"LV Sub Generation Site Specific","1, 0 or -1",null,null,-1,-1,-1,-1,-1,-1,0,-1,-1,0]
[null,null,null,null,null,"LV Sub Generation Site Specific no RP Charge","1, 0 or -1",null,null,-1,-1,-1,-1,-1,-1,0,-1,-1,0]
[null,null,null,null,null,"HV Generation Site Specific","1, 0 or -1",null,null,-1,-1,-1,-1,-1,-1,0,-1,0,0]
[null,null,null,null,null,"HV Generation Site Specific no RP Charge","1, 0 or -1",null,null,-1,-1,-1,-1,-1,-1,0,-1,0,0]
[]
[null,null,null,null,"Network use factors (assuming generation makes no contribution at level of connection)",null,null,null,">",null,null,null,null,null,null,null,null,null,null,null,null,null,"Paragraphs 62 and 71"]
[null,null,null,null,"Equal to 0 for the network level at which generation is connected, otherwise equal to network use factor"]
[null,null,null,null,null,"Domestic Aggregated or CT","1 or 0",null,null,{"$f":"TRANSPOSE('Fixed inputs'!J78:Y87)","v":1},1,1,1,1,1,1,1,1,1]
[null,null,null,null,null,"Domestic Aggregated (Related MPAN)","1 or 0",null,null,1,1,1,1,1,1,1,1,1,1]
[null,null,null,null,null,"Non-Domestic Aggregated or CT","1 or 0",null,null,1,1,1,1,1,1,1,1,1,1]
[null,null,null,null,null,"Non-Domestic Aggregated (Related MPAN)","1 or 0",null,null,1,1,1,1,1,1,1,1,1,1]
[null,null,null,null,null,"LV Site Specific","1 or 0",null,null,1,1,1,1,1,1,1,1,1,1]
[null,null,null,null,null,"LV Sub Site Specific","1 or 0",null,null,1,1,1,1,1,1,1,1,1,0]
[null,null,null,null,null,"HV Site Specific","1 or 0",null,null,1,1,1,1,1,1,1,1,0,0]
[null,null,null,null,null,"Unmetered Supplies","1 or 0",null,null,1,1,1,1,1,1,1,1,1,1]
[null,null,null,null,null,"LV Generation Aggregated","1 or 0",null,null,-1,-1,-1,-1,-1,-1,-1,-1,-1,0]
[null,null,null,null,null,"LV Sub Generation Aggregated","1 or 0",null,null,-1,-1,-1,-1,-1,-1,-1,-1,0,0]
[null,null,null,null,null,"LV Generation Site Specific","1 or 0",null,null,-1,-1,-1,-1,-1,-1,-1,-1,-1,0]
[null,null,null,null,null,"LV Generation Site Specific no RP Charge","1 or 0",null,null,-1,-1,-1,-1,-1,-1,-1,-1,-1,0]
[null,null,null,null,null,"LV Sub Generation Site Specific","1 or 0",null,null,-1,-1,-1,-1,-1,-1,-1,-1,0,0]
[null,null,null,null,null,"LV Sub Generation Site Specific no RP Charge","1 or 0",null,null,-1,-1,-1,-1,-1,-1,-1,-1,0,0]
[null,null,null,null,null,"HV Generation Site Specific","1 or 0",null,null,-1,-1,-1,-1,-1,-1,-1,0,0,0]
[null,null,null,null,null,"HV Generation Site Specific no RP Charge","1 or 0",null,null,-1,-1,-1,-1,-1,-1,-1,0,0,0]
[]
[null,null,null,null,"Network use factors (assuming generation makes no contribution at level of connection), scaled for 132/HV",null,null,null,">",null,null,null,null,null,null,null,null,null,null,null,null,null,"Paragraphs 62 and 71"]
[null,null,null,null,"Equal to 0 for the network level at which generation is connected, otherwise equal to network use factor"]
[null,null,null,null,"These have been adjusted for the share of load going through 132/HV transformation"]
[null,null,null,null,null,"Domestic Aggregated or CT","1 or 0",null,null,{"$f":"IF(J$38 = \"\", J84, J84 * J$38)","v":1},1,1,1,1,1,0,1,1,1]
[null,null,null,null,null,"Domestic Aggregated (Related MPAN)","1 or 0",null,null,1,1,1,1,1,1,0,1,1,1]
[null,null,null,null,null,"Non-Domestic Aggregated or CT","1 or 0",null,null,1,1,1,1,1,1,0,1,1,1]
[null,null,null,null,null,"Non-Domestic Aggregated (Related MPAN)","1 or 0",null,null,1,1,1,1,1,1,0,1,1,1]
[null,null,null,null,null,"LV Site Specific","1 or 0",null,null,1,1,1,1,1,1,0,1,1,1]
[null,null,null,null,null,"LV Sub Site Specific","1 or 0",null,null,1,1,1,1,1,1,0,1,1,0]
[null,null,null,null,null,"HV Site Specific","1 or 0",null,null,1,1,1,1,1,1,0,1,0,0]
[null,null,null,null,null,"Unmetered Supplies","1 or 0",null,null,1,1,1,1,1,1,0,1,1,1]
[null,null,null,null,null,"LV Generation Aggregated","1 or 0",null,null,-1,-1,-1,-1,-1,-1,0,-1,-1,0]
[null,null,null,null,null,"LV Sub Generation Aggregated","1 or 0",null,null,-1,-1,-1,-1,-1,-1,0,-1,0,0]
[null,null,null,null,null,"LV Generation Site Specific","1 or 0",null,null,-1,-1,-1,-1,-1,-1,0,-1,-1,0]
[null,null,null,null,null,"LV Generation Site Specific no RP Charge","1 or 0",null,null,-1,-1,-1,-1,-1,-1,0,-1,-1,0]
[null,null,null,null,null,"LV Sub Generation Site Specific","1 or 0",null,null,-1,-1,-1,-1,-1,-1,0,-1,0,0]
[null,null,null,null,null,"LV Sub Generation Site Specific no RP Charge","1 or 0",null,null,-1,-1,-1,-1,-1,-1,0,-1,0,0]
[null,null,null,null,null,"HV Generation Site Specific","1 or 0",null,null,-1,-1,-1,-1,-1,-1,0,0,0,0]
[null,null,null,null,null,"HV Generation Site Specific no RP Charge","1 or 0",null,null,-1,-1,-1,-1,-1,-1,0,0,0,0]
[]
[null,null,{"$f":"INDEX('Version control'!$H$29:$H$55,MATCH($A$1,'Version control'!$F$29:$F$55,0),1)&\"-E: User loss factors\"","v":"Section 505-E: User loss factors"}]
[]
[null,null,null,null,"User loss factor (assuming generation contributes at level of connection)"]
[null,null,null,null,"For demand, it is the loss factor at network level which user is supplied."]
[null,null,null,null,"For generation, it is the loss factor at network level which user is supplied.",null,null,"Maximum"]
[null,null,null,null,null,"Domestic Aggregated or CT","scalar",{"$f":"MAX(J126:S126)","v":1.1299999999999999},null,{"$f":"OR(SUM(J65:$S65) = 1, SUM(J65:$S65) = -1) * J$29","v":0},{"$f":"OR(SUM(K65:$S65) = 1, SUM(K65:$S65) = -1) * K$29","v":0},{"$f":"OR(SUM(L65:$S65) = 1, SUM(L65:$S65) = -1) * L$29","v":0},{"$f":"OR(SUM(M65:$S65) = 1, SUM(M65:$S65) = -1) * M$29","v":0},{"$f":"OR(SUM(N65:$S65) = 1, SUM(N65:$S65) = -1) * N$29","v":0},{"$f":"OR(SUM(O65:$S65) = 1, SUM(O65:$S65) = -1) * O$29","v":0},{"$f":"OR(SUM(P65:$S65) = 1, SUM(P65:$S65) = -1) * P$29","v":0},{"$f":"OR(SUM(Q65:$S65) = 1, SUM(Q65:$S65) = -1) * Q$29","v":0},{"$f":"OR(SUM(R65:$S65) = 1, SUM(R65:$S65) = -1) * R$29","v":0},{"$f":"OR(SUM(S65:$S65) = 1, SUM(S65:$S65) = -1) * S$29","v":1.1299999999999999}]
[null,null,null,null,null,"Domestic Aggregated (Related MPAN)","scalar",1.1299999999999999,null,{"$f":"OR(SUM(J66:$S66) = 1, SUM(J66:$S66) = -1) * J$29","v":0},{"$f":"OR(SUM(K66:$S66) = 1, SUM(K66:$S66) = -1) * K$29","v":0},{"$f":"OR(SUM(L66:$S66) = 1, SUM(L66:$S66) = -1) * L$29","v":0},{"$f":"OR(SUM(M66:$S66) = 1, SUM(M66:$S66) = -1) * M$29","v":0},{"$f":"OR(SUM(N66:$S66) = 1, SUM(N66:$S66) = -1) * N$29","v":0},{"$f":"OR(SUM(O66:$S66) = 1, SUM(O66:$S66) = -1) * O$29","v":0},{"$f":"OR(SUM(P66:$S66) = 1, SUM(P66:$S66) = -1) * P$29","v":0},{"$f":"OR(SUM(Q66:$S66) = 1, SUM(Q66:$S66) = -1) * Q$29","v":0},{"$f":"OR(SUM(R66:$S66) = 1, SUM(R66:$S66) = -1) * R$29","v":0},{"$f":"OR(SUM(S66:$S66) = 1, SUM(S66:$S66) = -1) * S$29","v":1.1299999999999999}]
[null,null,null,null,null,"Non-Domestic Aggregated or CT","scalar",1.1299999999999999,null,{"$f":"OR(SUM(J67:$S67) = 1, SUM(J67:$S67) = -1) * J$29","v":0},{"$f":"OR(SUM(K67:$S67) = 1, SUM(K67:$S67) = -1) * K$29","v":0},{"$f":"OR(SUM(L67:$S67) = 1, SUM(L67:$S67) = -1) * L$29","v":0},{"$f":"OR(SUM(M67:$S67) = 1, SUM(M67:$S67) = -1) * M$29","v":0},{"$f":"OR(SUM(N67:$S67) = 1, SUM(N67:$S67) = -1) * N$29","v":0},{"$f":"OR(SUM(O67:$S67) = 1, SUM(O67:$S67) = -1) * O$29","v":0},{"$f":"OR(SUM(P67:$S67) = 1, SUM(P67:$S67) = -1) * P$29","v":0},{"$f":"OR(SUM(Q67:$S67) = 1, SUM(Q67:$S67) = -1) * Q$29","v":0},{"$f":"OR(SUM(R67:$S67) = 1, SUM(R67:$S67) = -1) * R$29","v":0},{"$f":"OR(SUM(S67:$S67) = 1, SUM(S67:$S67) = -1) * S$29","v":1.1299999999999999}]
[null,null,null,null,null,"Non-Domestic Aggregated (Related MPAN)","scalar",1.1299999999999999,null,{"$f":"OR(SUM(J68:$S68) = 1, SUM(J68:$S68) = -1) * J$29","v":0},{"$f":"OR(SUM(K68:$S68) = 1, SUM(K68:$S68) = -1) * K$29","v":0},{"$f":"OR(SUM(L68:$S68) = 1, SUM(L68:$S68) = -1) * L$29","v":0},{"$f":"OR(SUM(M68:$S68) = 1, SUM(M68:$S68) = -1) * M$29","v":0},{"$f":"OR(SUM(N68:$S68) = 1, SUM(N68:$S68) = -1) * N$29","v":0},{"$f":"OR(SUM(O68:$S68) = 1, SUM(O68:$S68) = -1) * O$29","v":0},{"$f":"OR(SUM(P68:$S68) = 1, SUM(P68:$S68) = -1) * P$29","v":0},{"$f":"OR(SUM(Q68:$S68) = 1, SUM(Q68:$S68) = -1) * Q$29","v":0},{"$f":"OR(SUM(R68:$S68) = 1, SUM(R68:$S68) = -1) * R$29","v":0},{"$f":"OR(SUM(S68:$S68) = 1, SUM(S68:$S68) = -1) * S$29","v":1.1299999999999999}]
[null,null,null,null,null,"LV Site Specific","scalar",1.1299999999999999,null,{"$f":"OR(SUM(J69:$S69) = 1, SUM(J69:$S69) = -1) * J$29","v":0},{"$f":"OR(SUM(K69:$S69) = 1, SUM(K69:$S69) = -1) * K$29","v":0},{"$f":"OR(SUM(L69:$S69) = 1, SUM(L69:$S69) = -1) * L$29","v":0},{"$f":"OR(SUM(M69:$S69) = 1, SUM(M69:$S69) = -1) * M$29","v":0},{"$f":"OR(SUM(N69:$S69) = 1, SUM(N69:$S69) = -1) * N$29","v":0},{"$f":"OR(SUM(O69:$S69) = 1, SUM(O69:$S69) = -1) * O$29","v":0},{"$f":"OR(SUM(P69:$S69) = 1, SUM(P69:$S69) = -1) * P$29","v":0},{"$f":"OR(SUM(Q69:$S69) = 1, SUM(Q69:$S69) = -1) * Q$29","v":0},{"$f":"OR(SUM(R69:$S69) = 1, SUM(R69:$S69) = -1) * R$29","v":0},{"$f":"OR(SUM(S69:$S69) = 1, SUM(S69:$S69) = -1) * S$29","v":1.1299999999999999}]
[null,null,null,null,null,"LV Sub Site Specific","scalar",1.0449999999999999,null,{"$f":"OR(SUM(J70:$S70) = 1, SUM(J70:$S70) = -1) * J$29","v":0},{"$f":"OR(SUM(K70:$S70) = 1, SUM(K70:$S70) = -1) * K$29","v":0},{"$f":"OR(SUM(L70:$S70) = 1, SUM(L70:$S70) = -1) * L$29","v":0},{"$f":"OR(SUM(M70:$S70) = 1, SUM(M70:$S70) = -1) * M$29","v":0},{"$f":"OR(SUM(N70:$S70) = 1, SUM(N70:$S70) = -1) * N$29","v":0},{"$f":"OR(SUM(O70:$S70) = 1, SUM(O70:$S70) = -1) * O$29","v":0},{"$f":"OR(SUM(P70:$S70) = 1, SUM(P70:$S70) = -1) * P$29","v":0},{"$f":"OR(SUM(Q70:$S70) = 1, SUM(Q70:$S70) = -1) * Q$29","v":0},{"$f":"OR(SUM(R70:$S70) = 1, SUM(R70:$S70) = -1) * R$29","v":1.0449999999999999},{"$f":"OR(SUM(S70:$S70) = 1, SUM(S70:$S70) = -1) * S$29","v":0}]
[null,null,null,null,null,"HV Site Specific","scalar",1.0249999999999999,null,{"$f":"OR(SUM(J71:$S71) = 1, SUM(J71:$S71) = -1) * J$29","v":0},{"$f":"OR(SUM(K71:$S71) = 1, SUM(K71:$S71) = -1) * K$29","v":0},{"$f":"OR(SUM(L71:$S71) = 1, SUM(L71:$S71) = -1) * L$29","v":0},{"$f":"OR(SUM(M71:$S71) = 1, SUM(M71:$S71) = -1) * M$29","v":0},{"$f":"OR(SUM(N71:$S71) = 1, SUM(N71:$S71) = -1) * N$29","v":0},{"$f":"OR(SUM(O71:$S71) = 1, SUM(O71:$S71) = -1) * O$29","v":0},{"$f":"OR(SUM(P71:$S71) = 1, SUM(P71:$S71) = -1) * P$29","v":1.0129999999999999},{"$f":"OR(SUM(Q71:$S71) = 1, SUM(Q71:$S71) = -1) * Q$29","v":1.0249999999999999},{"$f":"OR(SUM(R71:$S71) = 1, SUM(R71:$S71) = -1) * R$29","v":0},{"$f":"OR(SUM(S71:$S71) = 1, SUM(S71:$S71) = -1) * S$29","v":0}]
[null,null,null,null,null,"Unmetered Supplies","scalar",1.1299999999999999,null,{"$f":"OR(SUM(J72:$S72) = 1, SUM(J72:$S72) = -1) * J$29","v":0},{"$f":"OR(SUM(K72:$S72) = 1, SUM(K72:$S72) = -1) * K$29","v":0},{"$f":"OR(SUM(L72:$S72) = 1, SUM(L72:$S72) = -1) * L$29","v":0},{"$f":"OR(SUM(M72:$S72) = 1, SUM(M72:$S72) = -1) * M$29","v":0},{"$f":"OR(SUM(N72:$S72) = 1, SUM(N72:$S72) = -1) * N$29","v":0},{"$f":"OR(SUM(O72:$S72) = 1, SUM(O72:$S72) = -1) * O$29","v":0},{"$f":"OR(SUM(P72:$S72) = 1, SUM(P72:$S72) = -1) * P$29","v":0},{"$f":"OR(SUM(Q72:$S72) = 1, SUM(Q72:$S72) = -1) * Q$29","v":0},{"$f":"OR(SUM(R72:$S72) = 1, SUM(R72:$S72) = -1) * R$29","v":0},{"$f":"OR(SUM(S72:$S72) = 1, SUM(S72:$S72) = -1) * S$29","v":1.1299999999999999}]
[null,null,null,null,null,"LV Generation Aggregated","scalar",1.1299999999999999,null,{"$f":"OR(SUM(J73:$S73) = 1, SUM(J73:$S73) = -1) * J$29","v":0},{"$f":"OR(SUM(K73:$S73) = 1, SUM(K73:$S73) = -1) * K$29","v":0},{"$f":"OR(SUM(L73:$S73) = 1, SUM(L73:$S73) = -1) * L$29","v":0},{"$f":"OR(SUM(M73:$S73) = 1, SUM(M73:$S73) = -1) * M$29","v":0},{"$f":"OR(SUM(N73:$S73) = 1, SUM(N73:$S73) = -1) * N$29","v":0},{"$f":"OR(SUM(O73:$S73) = 1, SUM(O73:$S73) = -1) * O$29","v":0},{"$f":"OR(SUM(P73:$S73) = 1, SUM(P73:$S73) = -1) * P$29","v":0},{"$f":"OR(SUM(Q73:$S73) = 1, SUM(Q73:$S73) = -1) * Q$29","v":0},{"$f":"OR(SUM(R73:$S73) = 1, SUM(R73:$S73) = -1) * R$29","v":0},{"$f":"OR(SUM(S73:$S73) = 1, SUM(S73:$S73) = -1) * S$29","v":1.1299999999999999}]
[null,null,null,null,null,"LV Sub Generation Aggregated","scalar",1.0449999999999999,null,{"$f":"OR(SUM(J74:$S74) = 1, SUM(J74:$S74) = -1) * J$29","v":0},{"$f":"OR(SUM(K74:$S74) = 1, SUM(K74:$S74) = -1) * K$29","v":0},{"$f":"OR(SUM(L74:$S74) = 1, SUM(L74:$S74) = -1) * L$29","v":0},{"$f":"OR(SUM(M74:$S74) = 1, SUM(M74:$S74) = -1) * M$29","v":0},{"$f":"OR(SUM(N74:$S74) = 1, SUM(N74:$S74) = -1) * N$29","v":0},{"$f":"OR(SUM(O74:$S74) = 1, SUM(O74:$S74) = -1) * O$29","v":0},{"$f":"OR(SUM(P74:$S74) = 1, SUM(P74:$S74) = -1) * P$29","v":0},{"$f":"OR(SUM(Q74:$S74) = 1, SUM(Q74:$S74) = -1) * Q$29","v":0},{"$f":"OR(SUM(R74:$S74) = 1, SUM(R74:$S74) = -1) * R$29","v":1.0449999999999999},{"$f":"OR(SUM(S74:$S74) = 1, SUM(S74:$S74) = -1) * S$29","v":0}]
[null,null,null,null,null,"LV Generation Site Specific","scalar",1.1299999999999999,null,{"$f":"OR(SUM(J75:$S75) = 1, SUM(J75:$S75) = -1) * J$29","v":0},{"$f":"OR(SUM(K75:$S75) = 1, SUM(K75:$S75) = -1) * K$29","v":0},{"$f":"OR(SUM(L75:$S75) = 1, SUM(L75:$S75) = -1) * L$29","v":0},{"$f":"OR(SUM(M75:$S75) = 1, SUM(M75:$S75) = -1) * M$29","v":0},{"$f":"OR(SUM(N75:$S75) = 1, SUM(N75:$S75) = -1) * N$29","v":0},{"$f":"OR(SUM(O75:$S75) = 1, SUM(O75:$S75) = -1) * O$29","v":0},{"$f":"OR(SUM(P75:$S75) = 1, SUM(P75:$S75) = -1) * P$29","v":0},{"$f":"OR(SUM(Q75:$S75) = 1, SUM(Q75:$S75) = -1) * Q$29","v":0},{"$f":"OR(SUM(R75:$S75) = 1, SUM(R75:$S75) = -1) * R$29","v":0},{"$f":"OR(SUM(S75:$S75) = 1, SUM(S75:$S75) = -1) * S$29","v":1.1299999999999999}]
[null,null,null,null,null,"LV Generation Site Specific no RP Charge","scalar",1.1299999999999999,null,{"$f":"OR(SUM(J76:$S76) = 1, SUM(J76:$S76) = -1) * J$29","v":0},{"$f":"OR(SUM(K76:$S76) = 1, SUM(K76:$S76) = -1) * K$29","v":0},{"$f":"OR(SUM(L76:$S76) = 1, SUM(L76:$S76) = -1) * L$29","v":0},{"$f":"OR(SUM(M76:$S76) = 1, SUM(M76:$S76) = -1) * M$29","v":0},{"$f":"OR(SUM(N76:$S76) = 1, SUM(N76:$S76) = -1) * N$29","v":0},{"$f":"OR(SUM(O76:$S76) = 1, SUM(O76:$S76) = -1) * O$29","v":0},{"$f":"OR(SUM(P76:$S76) = 1, SUM(P76:$S76) = -1) * P$29","v":0},{"$f":"OR(SUM(Q76:$S76) = 1, SUM(Q76:$S76) = -1) * Q$29","v":0},{"$f":"OR(SUM(R76:$S76) = 1, SUM(R76:$S76) = -1) * R$29","v":0},{"$f":"OR(SUM(S76:$S76) = 1, SUM(S76:$S76) = -1) * S$29","v":1.1299999999999999}]
[null,null,null,null,null,"LV Sub Generation Site Specific","scalar",1.0449999999999999,null,{"$f":"OR(SUM(J77:$S77) = 1, SUM(J77:$S77) = -1) * J$29","v":0},{"$f":"OR(SUM(K77:$S77) = 1, SUM(K77:$S77) = -1) * K$29","v":0},{"$f":"OR(SUM(L77:$S77) = 1, SUM(L77:$S77) = -1) * L$29","v":0},{"$f":"OR(SUM(M77:$S77) = 1, SUM(M77:$S77) = -1) * M$29","v":0},{"$f":"OR(SUM(N77:$S77) = 1, SUM(N77:$S77) = -1) * N$29","v":0},{"$f":"OR(SUM(O77:$S77) = 1, SUM(O77:$S77) = -1) * O$29","v":0},{"$f":"OR(SUM(P77:$S77) = 1, SUM(P77:$S77) = -1) * P$29","v":0},{"$f":"OR(SUM(Q77:$S77) = 1, SUM(Q77:$S77) = -1) * Q$29","v":0},{"$f":"OR(SUM(R77:$S77) = 1, SUM(R77:$S77) = -1) * R$29","v":1.0449999999999999},{"$f":"OR(SUM(S77:$S77) = 1, SUM(S77:$S77) = -1) * S$29","v":0}]
[null,null,null,null,null,"LV Sub Generation Site Specific no RP Charge","scalar",1.0449999999999999,null,{"$f":"OR(SUM(J78:$S78) = 1, SUM(J78:$S78) = -1) * J$29","v":0},{"$f":"OR(SUM(K78:$S78) = 1, SUM(K78:$S78) = -1) * K$29","v":0},{"$f":"OR(SUM(L78:$S78) = 1, SUM(L78:$S78) = -1) * L$29","v":0},{"$f":"OR(SUM(M78:$S78) = 1, SUM(M78:$S78) = -1) * M$29","v":0},{"$f":"OR(SUM(N78:$S78) = 1, SUM(N78:$S78) = -1) * N$29","v":0},{"$f":"OR(SUM(O78:$S78) = 1, SUM(O78:$S78) = -1) * O$29","v":0},{"$f":"OR(SUM(P78:$S78) = 1, SUM(P78:$S78) = -1) * P$29","v":0},{"$f":"OR(SUM(Q78:$S78) = 1, SUM(Q78:$S78) = -1) * Q$29","v":0},{"$f":"OR(SUM(R78:$S78) = 1, SUM(R78:$S78) = -1) * R$29","v":1.0449999999999999},{"$f":"OR(SUM(S78:$S78) = 1, SUM(S78:$S78) = -1) * S$29","v":0}]
[null,null,null,null,null,"HV Generation Site Specific","scalar",1.0249999999999999,null,{"$f":"OR(SUM(J79:$S79) = 1, SUM(J79:$S79) = -1) * J$29","v":0},{"$f":"OR(SUM(K79:$S79) = 1, SUM(K79:$S79) = -1) * K$29","v":0},{"$f":"OR(SUM(L79:$S79) = 1, SUM(L79:$S79) = -1) * L$29","v":0},{"$f":"OR(SUM(M79:$S79) = 1, SUM(M79:$S79) = -1) * M$29","v":0},{"$f":"OR(SUM(N79:$S79) = 1, SUM(N79:$S79) = -1) * N$29","v":0},{"$f":"OR(SUM(O79:$S79) = 1, SUM(O79:$S79) = -1) * O$29","v":0},{"$f":"OR(SUM(P79:$S79) = 1, SUM(P79:$S79) = -1) * P$29","v":1.0129999999999999},{"$f":"OR(SUM(Q79:$S79) = 1, SUM(Q79:$S79) = -1) * Q$29","v":1.0249999999999999},{"$f":"OR(SUM(R79:$S79) = 1, SUM(R79:$S79) = -1) * R$29","v":0},{"$f":"OR(SUM(S79:$S79) = 1, SUM(S79:$S79) = -1) * S$29","v":0}]
[null,null,null,null,null,"HV Generation Site Specific no RP Charge","scalar",1.0249999999999999,null,{"$f":"OR(SUM(J80:$S80) = 1, SUM(J80:$S80) = -1) * J$29","v":0},{"$f":"OR(SUM(K80:$S80) = 1, SUM(K80:$S80) = -1) * K$29","v":0},{"$f":"OR(SUM(L80:$S80) = 1, SUM(L80:$S80) = -1) * L$29","v":0},{"$f":"OR(SUM(M80:$S80) = 1, SUM(M80:$S80) = -1) * M$29","v":0},{"$f":"OR(SUM(N80:$S80) = 1, SUM(N80:$S80) = -1) * N$29","v":0},{"$f":"OR(SUM(O80:$S80) = 1, SUM(O80:$S80) = -1) * O$29","v":0},{"$f":"OR(SUM(P80:$S80) = 1, SUM(P80:$S80) = -1) * P$29","v":1.0129999999999999},{"$f":"OR(SUM(Q80:$S80) = 1, SUM(Q80:$S80) = -1) * Q$29","v":1.0249999999999999},{"$f":"OR(SUM(R80:$S80) = 1, SUM(R80:$S80) = -1) * R$29","v":0},{"$f":"OR(SUM(S80:$S80) = 1, SUM(S80:$S80) = -1) * S$29","v":0}]
[]
[null,null,null,null,"User loss factor (assuming generation does not contribute at level of connection)",null,null,null,">",null,null,null,null,null,null,null,null,null,null,null,null,null,"Paragraph 70 (a)"]
[null,null,null,null,"These have been adjusted for the share of load going through 132/HV transformation"]
[null,null,null,null,null,"Domestic Aggregated or CT","scalar",null,null,{"$f":"$H126 * J104","v":1.1299999999999999},1.1299999999999999,1.1299999999999999,1.1299999999999999,1.1299999999999999,1.1299999999999999,0,1.1299999999999999,1.1299999999999999,1.1299999999999999]
[null,null,null,null,null,"Domestic Aggregated (Related MPAN)","scalar",null,null,1.1299999999999999,1.1299999999999999,1.1299999999999999,1.1299999999999999,1.1299999999999999,1.1299999999999999,0,1.1299999999999999,1.1299999999999999,1.1299999999999999]
[null,null,null,null,null,"Non-Domestic Aggregated or CT","scalar",null,null,1.1299999999999999,1.1299999999999999,1.1299999999999999,1.1299999999999999,1.1299999999999999,1.1299999999999999,0,1.1299999999999999,1.1299999999999999,1.1299999999999999]
[null,null,null,null,null,"Non-Domestic Aggregated (Related MPAN)","scalar",null,null,1.1299999999999999,1.1299999999999999,1.1299999999999999,1.1299999999999999,1.1299999999999999,1.1299999999999999,0,1.1299999999999999,1.1299999999999999,1.1299999999999999]
[null,null,null,null,null,"LV Site Specific","scalar",null,null,1.1299999999999999,1.1299999999999999,1.1299999999999999,1.1299999999999999,1.1299999999999999,1.1299999999999999,0,1.1299999999999999,1.1299999999999999,1.1299999999999999]
[null,null,null,null,null,"LV Sub Site Specific","scalar",null,null,1.0449999999999999,1.0449999999999999,1.0449999999999999,1.0449999999999999,1.0449999999999999,1.0449999999999999,0,1.0449999999999999,1.0449999999999999,0]
[null,null,null,null,null,"HV Site Specific","scalar",null,null,1.0249999999999999,1.0249999999999999,1.0249999999999999,1.0249999999999999,1.0249999999999999,1.0249999999999999,0,1.0249999999999999,0,0]
[null,null,null,null,null,"Unmetered Supplies","scalar",null,null,1.1299999999999999,1.1299999999999999,1.1299999999999999,1.1299999999999999,1.1299999999999999,1.1299999999999999,0,1.1299999999999999,1.1299999999999999,1.1299999999999999]
[null,null,null,null,null,"LV Generation Aggregated","scalar",null,null,-1.1299999999999999,-1.1299999999999999,-1.1299999999999999,-1.1299999999999999,-1.1299999999999999,-1.1299999999999999,0,-1.1299999999999999,-1.1299999999999999,0]
[null,null,null,null,null,"LV Sub Generation Aggregated","scalar",null,null,-1.0449999999999999,-1.0449999999999999,-1.0449999999999999,-1.0449999999999999,-1.0449999999999999,-1.0449999999999999,0,-1.0449999999999999,0,0]
[null,null,null,null,null,"LV Generation Site Specific","scalar",null,null,-1.1299999999999999,-1.1299999999999999,-1.1299999999999999,-1.1299999999999999,-1.1299999999999999,-1.1299999999999999,0,-1.1299999999999999,-1.1299999999999999,0]
[null,null,null,null,null,"LV Generation Site Specific no RP Charge","scalar",null,null,-1.1299999999999999,-1.1299999999999999,-1.1299999999999999,-1.1299999999999999,-1.1299999999999999,-1.1299999999999999,0,-1.1299999999999999,-1.1299999999999999,0]
[null,null,null,null,null,"LV Sub Generation Site Specific","scalar",null,null,-1.0449999999999999,-1.0449999999999999,-1.0449999999999999,-1.0449999999999999,-1.0449999999999999,-1.0449999999999999,0,-1.0449999999999999,0,0]
[null,null,null,null,null,"LV Sub Generation Site Specific no RP Charge","scalar",null,null,-1.0449999999999999,-1.0449999999999999,-1.0449999999999999,-1.0449999999999999,-1.0449999999999999,-1.0449999999999999,0,-1.0449999999999999,0,0]
[null,null,null,null,null,"HV Generation Site Specific","scalar",null,null,-1.0249999999999999,-1.0249999999999999,-1.0249999999999999,-1.0249999999999999,-1.0249999999999999,-1.0249999999999999,0,0,0,0]
[null,null,null,null,null,"HV Generation Site Specific no RP Charge","scalar",null,null,-1.0249999999999999,-1.0249999999999999,-1.0249999999999999,-1.0249999999999999,-1.0249999999999999,-1.0249999999999999,0,0,0,0]
[]
[null,null,null,null,"User loss factor (assuming generation contributes at level of connection)",null,null,null,">",null,null,null,null,null,null,null,null,null,null,null,null,null,"Paragraph 70 (a)"]
[null,null,null,null,"These have been adjusted for the share of load going through 132/HV transformation"]
[null,null,null,null,null,"Domestic Aggregated or CT","scalar"]
[null,null,null,null,null,"Domestic Aggregated (Related MPAN)","scalar"]
[null,null,null,null,null,"Non-Domestic Aggregated or CT","scalar"]
[null,null,null,null,null,"Non-Domestic Aggregated (Related MPAN)","scalar"]
[null,null,null,null,null,"LV Site Specific","scalar"]
[null,null,null,null,null,"LV Sub Site Specific","scalar"]
[null,null,null,null,null,"HV Site Specific","scalar"]
[null,null,null,null,null,"Unmetered Supplies","scalar"]
[null,null,null,null,null,"LV Generation Aggregated","scalar",null,null,{"$f":"$H134 * J73","v":-1.1299999999999999},-1.1299999999999999,-1.1299999999999999,-1.1299999999999999,-1.1299999999999999,-1.1299999999999999,0,-1.1299999999999999,-1.1299999999999999,-1.1299999999999999]
[null,null,null,null,null,"LV Sub Generation Aggregated","scalar",null,null,-1.0449999999999999,-1.0449999999999999,-1.0449999999999999,-1.0449999999999999,-1.0449999999999999,-1.0449999999999999,0,-1.0449999999999999,-1.0449999999999999,0]
[null,null,null,null,null,"LV Generation Site Specific","scalar",null,null,-1.1299999999999999,-1.1299999999999999,-1.1299999999999999,-1.1299999999999999,-1.1299999999999999,-1.1299999999999999,0,-1.1299999999999999,-1.1299999999999999,-1.1299999999999999]
[null,null,null,null,null,"LV Generation Site Specific no RP Charge","scalar",null,null,-1.1299999999999999,-1.1299999999999999,-1.1299999999999999,-1.1299999999999999,-1.1299999999999999,-1.1299999999999999,0,-1.1299999999999999,-1.1299999999999999,-1.1299999999999999]
[null,null,null,null,null,"LV Sub Generation Site Specific","scalar",null,null,-1.0449999999999999,-1.0449999999999999,-1.0449999999999999,-1.0449999999999999,-1.0449999999999999,-1.0449999999999999,0,-1.0449999999999999,-1.0449999999999999,0]
[null,null,null,null,null,"LV Sub Generation Site Specific no RP Charge","scalar",null,null,-1.0449999999999999,-1.0449999999999999,-1.0449999999999999,-1.0449999999999999,-1.0449999999999999,-1.0449999999999999,0,-1.0449999999999999,-1.0449999999999999,0]
[null,null,null,null,null,"HV Generation Site Specific","scalar",null,null,-1.0249999999999999,-1.0249999999999999,-1.0249999999999999,-1.0249999999999999,-1.0249999999999999,-1.0249999999999999,0,-1.0249999999999999,0,0]
[null,null,null,null,null,"HV Generation Site Specific no RP Charge","scalar",null,null,-1.0249999999999999,-1.0249999999999999,-1.0249999999999999,-1.0249999999999999,-1.0249999999999999,-1.0249999999999999,0,-1.0249999999999999,0,0]
[]
[null,"Checks"]
[]
[null,null,null,null,"Check for error values",null,"number of issues",{"$f":"SUM(IF(ISERROR(H19:W181), 1))","v":0}]
[]
[null,"End of sheet"]

{"sheet":"Customer contributions","index":20,"n_rows":72,"n_cols":23,"rows_kept":72,"cut":false,"hidden":true,"merged":[]}
[{"$f":"MID(CELL(\"filename\",A1),FIND(\"]\",CELL(\"filename\",A1))+1,255)","v":"Customer contributions"}]
[{"$f":"Cover!D23 & \" - \" & TEXT(CIRP_submission_date, \"mmm\") & \"-\" & RIGHT(YEAR(CIRP_submission_date), 2) & \" - \" & Cover!D25","v":"SP Distribution - Jan-26 - V1"}]
[{"$f":"Cover!D2&\" - \"&Cover!D8&\" v\"&Cover!D10&\" - \"&Cover!D19","v":"Cost Information Review Pack (CIRP) - Release for charge setting v1 - 2027/28"}]
[{"$f":"H70 & IF(H70 = 1, \" issue\", \" issues\") &\" identified in checks on this sheet\"","v":"0 issues identified in checks on this sheet"}]
[null,"Click here to return to model map",null,null,null,null,"Units","Constants",null,null,null,null,null,null,null,null,null,null,null,null,null,null,"Legal text reference"]
[]
[null,"Description"]
[]
[null,null,"This sheet calculates customer contributions towards assets (i.e. assets that are paid for, and should not be "]
[null,null,"recovered under Use of System charges)"]
[]
[null,"Customer contributions"]
[]
[null,null,"Maps customer contributions to customer categories"]
[]
[null,null,{"$f":"INDEX('Version control'!$H$29:$H$55,MATCH($A$1,'Version control'!$F$29:$F$55,0),1)&\"-A: Network use factors\"","v":"Section 506-A: Network use factors"}]
[]
[null,null,null,null,"Network level at which users are supplied",null,null,null,">",null,null,null,null,null,null,null,null,null,null,null,null,null,"Paragraph 30"]
[null,null,null,null,"Network use factors based on customer contributed assets"]
[null,null,null,null,null,null,null,null,null,"HV substation","HV network","LV substation","LV network"]
[null,null,null,null,null,"Domestic Aggregated or CT","1 or 0",null,null,{"$f":"TRANSPOSE('Fixed inputs'!J58:Y61)","v":0},0,0,1]
[null,null,null,null,null,"Domestic Aggregated (Related MPAN)","1 or 0",null,null,0,0,0,1]
[null,null,null,null,null,"Non-Domestic Aggregated or CT","1 or 0",null,null,0,0,0,1]
[null,null,null,null,null,"Non-Domestic Aggregated (Related MPAN)","1 or 0",null,null,0,0,0,1]
[null,null,null,null,null,"LV Site Specific","1 or 0",null,null,0,0,0,1]
[null,null,null,null,null,"LV Sub Site Specific","1 or 0",null,null,0,0,1,0]
[null,null,null,null,null,"HV Site Specific","1 or 0",null,null,0,1,0,0]
[null,null,null,null,null,"Unmetered Supplies","1 or 0",null,null,0,0,0,1]
[null,null,null,null,null,"LV Generation Aggregated","1 or 0",null,null,0,0,0,1]
[null,null,null,null,null,"LV Sub Generation Aggregated","1 or 0",null,null,0,0,1,0]
[null,null,null,null,null,"LV Generation Site Specific","1 or 0",null,null,0,0,0,1]
[null,null,null,null,null,"LV Generation Site Specific no RP Charge","1 or 0",null,null,0,0,0,1]
[null,null,null,null,null,"LV Sub Generation Site Specific","1 or 0",null,null,0,0,1,0]
[null,null,null,null,null,"LV Sub Generation Site Specific no RP Charge","1 or 0",null,null,0,0,1,0]
[null,null,null,null,null,"HV Generation Site Specific","1 or 0",null,null,0,1,0,0]
[null,null,null,null,null,"HV Generation Site Specific no RP Charge","1 or 0",null,null,0,1,0,0]
[]
[null,null,{"$f":"INDEX('Version control'!$H$29:$H$55,MATCH($A$1,'Version control'!$F$29:$F$55,0),1)&\"-B: Customer contributions\"","v":"Section 506-B: Customer contributions"}]
[]
[null,null,null,null,"Customer contributions, by network level of supply",null,null,null,">",null,null,null,null,null,null,null,null,null,null,null,null,null,"Paragraph 29"]
[null,null,null,null,"Share of customer contributions by network level and asset type"]
[null,null,null,null,null,null,null,null,null,"Transmission exit","GSPs","132kV","132kV/EHV","EHV","EHV/HV","132kV/HV","HV","HV/LV","LV circuits","LV customers","HV customers"]
[null,null,null,null,null,"LV network","%",null,null,null,null,{"$f":"'Inputs by network level'!L29","v":0},{"$f":"'Inputs by network level'!M29","v":0},{"$f":"'Inputs by network level'!N29","v":0},{"$f":"'Inputs by network level'!O29","v":0},{"$f":"'Inputs by network level'!P29","v":0},{"$f":"'Inputs by network level'!Q29","v":0},{"$f":"'Inputs by network level'!R29","v":0},{"$f":"'Inputs by network level'!S29","v":0}]
[null,null,null,null,null,"LV substation","%",null,null,null,null,{"$f":"'Inputs by network level'!L30","v":0},{"$f":"'Inputs by network level'!M30","v":0},{"$f":"'Inputs by network level'!N30","v":0},{"$f":"'Inputs by network level'!O30","v":0},{"$f":"'Inputs by network level'!P30","v":0},{"$f":"'Inputs by network level'!Q30","v":0},{"$f":"'Inputs by network level'!R30","v":0},{"$f":"'Inputs by network level'!S30","v":0}]
[null,null,null,null,null,"HV network","%",null,null,null,null,{"$f":"'Inputs by network level'!L31","v":0},{"$f":"'Inputs by network level'!M31","v":0},{"$f":"'Inputs by network level'!N31","v":0},{"$f":"'Inputs by network level'!O31","v":0},{"$f":"'Inputs by network level'!P31","v":0},{"$f":"'Inputs by network level'!Q31","v":0},{"$f":"'Inputs by network level'!R31","v":0},{"$f":"'Inputs by network level'!S31","v":0}]
[null,null,null,null,null,"HV substation","%",null,null,null,null,{"$f":"'Inputs by network level'!L32","v":0},{"$f":"'Inputs by network level'!M32","v":0},{"$f":"'Inputs by network level'!N32","v":0},{"$f":"'Inputs by network level'!O32","v":0},{"$f":"'Inputs by network level'!P32","v":0},{"$f":"'Inputs by network level'!Q32","v":0},{"$f":"'Inputs by network level'!R32","v":0},{"$f":"'Inputs by network level'!S32","v":0}]
[]
[null,null,null,null,"Customer contributions, by network level"]
[null,null,null,null,"Customer contributions by network level and customer type based on mappings above"]
[null,null,null,null,null,null,null,null,null,"Transmission exit","GSPs","132kV","132kV/EHV","EHV","EHV/HV","132kV/HV","HV","HV/LV","LV circuits","LV customers","HV customers"]
[null,null,null,null,null,"Domestic Aggregated or CT",null,"%",null,null,null,{"$f":"$M21 * L$43 + $L21 * L$44 + $K21 * L$45 + $J21 * L$46","v":0},0,0,0,0,0,0,0]
[null,null,null,null,null,"Domestic Aggregated (Related MPAN)",null,"%",null,null,null,0,0,0,0,0,0,0,0]
[null,null,null,null,null,"Non-Domestic Aggregated or CT",null,"%",null,null,null,0,0,0,0,0,0,0,0]
[null,null,null,null,null,"Non-Domestic Aggregated (Related MPAN)",null,"%",null,null,null,0,0,0,0,0,0,0,0]
[null,null,null,null,null,"LV Site Specific",null,"%",null,null,null,0,0,0,0,0,0,0,0]
[null,null,null,null,null,"LV Sub Site Specific",null,"%",null,null,null,0,0,0,0,0,0,0,0]
[null,null,null,null,null,"HV Site Specific",null,"%",null,null,null,0,0,0,0,0,0,0,0]
[null,null,null,null,null,"Unmetered Supplies",null,"%",null,null,null,0,0,0,0,0,0,0,0]
[null,null,null,null,null,"LV Generation Aggregated",null,"%",null,null,null,0,0,0,0,0,0,0,0]
[null,null,null,null,null,"LV Sub Generation Aggregated",null,"%",null,null,null,0,0,0,0,0,0,0,0]
[null,null,null,null,null,"LV Generation Site Specific",null,"%",null,null,null,0,0,0,0,0,0,0,0]
[null,null,null,null,null,"LV Generation Site Specific no RP Charge",null,"%",null,null,null,0,0,0,0,0,0,0,0]
[null,null,null,null,null,"LV Sub Generation Site Specific",null,"%",null,null,null,0,0,0,0,0,0,0,0]
[null,null,null,null,null,"LV Sub Generation Site Specific no RP Charge",null,"%",null,null,null,0,0,0,0,0,0,0,0]
[null,null,null,null,null,"HV Generation Site Specific",null,"%",null,null,null,0,0,0,0,0,0,0,0]
[null,null,null,null,null,"HV Generation Site Specific no RP Charge",null,"%",null,null,null,0,0,0,0,0,0,0,0]
[]
[null,"Checks"]
[]
[null,null,null,null,"Check for error values",null,"number of issues",{"$f":"SUM(IF(ISERROR(H21:U66), 1))","v":0}]
[]
[null,"End of sheet"]

{"sheet":"Volume adjustments","index":21,"n_rows":695,"n_cols":27,"rows_kept":695,"cut":false,"hidden":true,"merged":[]}
[{"$f":"MID(CELL(\"filename\",A1),FIND(\"]\",CELL(\"filename\",A1))+1,255)","v":"Volume adjustments"}]
[{"$f":"Cover!D23 & \" - \" & TEXT(CIRP_submission_date, \"mmm\") & \"-\" & RIGHT(YEAR(CIRP_submission_date), 2) & \" - \" & Cover!D25","v":"SP Distribution - Jan-26 - V1"}]
[{"$f":"Cover!D2&\" - \"&Cover!D8&\" v\"&Cover!D10&\" - \"&Cover!D19","v":"Cost Information Review Pack (CIRP) - Release for charge setting v1 - 2027/28"}]
[{"$f":"H693 & IF(H693 = 1, \" issue\", \" issues\") &\" identified in checks on this sheet\"","v":"0 issues identified in checks on this sheet"}]
[null,"Click here to return to model map",null,null,null,null,"Units","Constants",null,"Domestic Aggregated or CT","Domestic Aggregated (Related MPAN)","Non-Domestic Aggregated or CT","Non-Domestic Aggregated (Related MPAN)","LV Site Specific","LV Sub Site Specific","HV Site Specific","Unmetered Supplies","LV Generation Aggregated","LV Sub Generation Aggregated","LV Generation Site Specific","LV Generation Site Specific no RP Charge","LV Sub Generation Site Specific","LV Sub Generation Site Specific no RP Charge","HV Generation Site Specific","HV Generation Site Specific no RP Charge",null,"Legal text reference"]
[]
[null,"Description"]
[]
[null,null,"This sheet calculates volumes (kWh, MPAN, import and exceeded capacity) to be used throughout the model."]
[null,null,"This sheet first calculates the discounts to be applied to LDNO volumes, then combines these with volumes for "]
[null,null,"all the way customers."]
[]
[null,"LDNO discounts"]
[]
[null,null,{"$f":"INDEX('Version control'!$H$29:$H$55,MATCH($A$1,'Version control'!$F$29:$F$55,0),1)&\"-A: LDNO discounts\"","v":"Section 507-A: LDNO discounts"}]
[]
[null,null,null,"This section maps the LDNO discounts from the PCDM to different customer categories"]
[null,null,null,"Generation LDNO customers do not receive the standard LDNO discounts, and this adjustment is made in this section"]
[]
[null,null,null,null,"Discounts from PCDM",null,null,null,">"]
[null,null,null,null,"LDNO discounts calculated in the PCDM",null,null,null,null,null,null,null,null,null,null,null,null,null,null,null,null,null,null,null,null,null,"Paragraph 97"]
[null,null,null,null,null,"LDNO LV: LV user","%",{"$f":"'General inputs'!H33","v":0.39602144078246099}]
[null,null,null,null,null,"LDNO HV: LV user","%",{"$f":"'General inputs'!H34","v":0.60683298358343041}]
[null,null,null,null,null,"LDNO HV: LV Sub user","%",{"$f":"'General inputs'!H35","v":0.34783515419041816}]
[null,null,null,null,null,"LDNO HV: HV user","%",{"$f":"'General inputs'!H36","v":0.24889531348591729}]
[]
[null,null,null,null,"Discount mapping",null,null,null,">",null,null,null,null,null,null,null,null,null,null,null,null,null,null,null,null,null,"Paragraphs 98 & 99"]
[null,null,null,null,"Maps customer types to LDNO discount categories and calculates the appropriate discount to be applied to "]
[null,null,null,null,"each customer"]
[null,null,null,null,null,"LDNO LV: LV user","1 or 0",null,null,{"$f":"'Fixed inputs'!J51","v":1},{"$f":"'Fixed inputs'!K51","v":1},{"$f":"'Fixed inputs'!L51","v":1},{"$f":"'Fixed inputs'!M51","v":1},{"$f":"'Fixed inputs'!N51","v":1},{"$f":"'Fixed inputs'!O51","v":0},{"$f":"'Fixed inputs'!P51","v":0},{"$f":"'Fixed inputs'!Q51","v":1},{"$f":"'Fixed inputs'!R51","v":0},{"$f":"'Fixed inputs'!S51","v":0},{"$f":"'Fixed inputs'!T51","v":0},{"$f":"'Fixed inputs'!U51","v":0},{"$f":"'Fixed inputs'!V51","v":0},{"$f":"'Fixed inputs'!W51","v":0},{"$f":"'Fixed inputs'!X51","v":0},{"$f":"'Fixed inputs'!Y51","v":0}]
[null,null,null,null,null,"LDNO HV: LV user","1 or 0",null,null,{"$f":"'Fixed inputs'!J52","v":1},{"$f":"'Fixed inputs'!K52","v":1},{"$f":"'Fixed inputs'!L52","v":1},{"$f":"'Fixed inputs'!M52","v":1},{"$f":"'Fixed inputs'!N52","v":1},{"$f":"'Fixed inputs'!O52","v":0},{"$f":"'Fixed inputs'!P52","v":0},{"$f":"'Fixed inputs'!Q52","v":1},{"$f":"'Fixed inputs'!R52","v":0},{"$f":"'Fixed inputs'!S52","v":0},{"$f":"'Fixed inputs'!T52","v":0},{"$f":"'Fixed inputs'!U52","v":0},{"$f":"'Fixed inputs'!V52","v":0},{"$f":"'Fixed inputs'!W52","v":0},{"$f":"'Fixed inputs'!X52","v":0},{"$f":"'Fixed inputs'!Y52","v":0}]
[null,null,null,null,null,"LDNO HV: LV Sub user","1 or 0",null,null,{"$f":"'Fixed inputs'!J53","v":0},{"$f":"'Fixed inputs'!K53","v":0},{"$f":"'Fixed inputs'!L53","v":0},{"$f":"'Fixed inputs'!M53","v":0},{"$f":"'Fixed inputs'!N53","v":0},{"$f":"'Fixed inputs'!O53","v":1},{"$f":"'Fixed inputs'!P53","v":0},{"$f":"'Fixed inputs'!Q53","v":0},{"$f":"'Fixed inputs'!R53","v":0},{"$f":"'Fixed inputs'!S53","v":0},{"$f":"'Fixed inputs'!T53","v":0},{"$f":"'Fixed inputs'!U53","v":0},{"$f":"'Fixed inputs'!V53","v":0},{"$f":"'Fixed inputs'!W53","v":0},{"$f":"'Fixed inputs'!X53","v":0},{"$f":"'Fixed inputs'!Y53","v":0}]
[null,null,null,null,null,"LDNO HV: HV user","1 or 0",null,null,{"$f":"'Fixed inputs'!J54","v":0},{"$f":"'Fixed inputs'!K54","v":0},{"$f":"'Fixed inputs'!L54","v":0},{"$f":"'Fixed inputs'!M54","v":0},{"$f":"'Fixed inputs'!N54","v":0},{"$f":"'Fixed inputs'!O54","v":0},{"$f":"'Fixed inputs'!P54","v":1},{"$f":"'Fixed inputs'!Q54","v":0},{"$f":"'Fixed inputs'!R54","v":0},{"$f":"'Fixed inputs'!S54","v":0},{"$f":"'Fixed inputs'!T54","v":0},{"$f":"'Fixed inputs'!U54","v":0},{"$f":"'Fixed inputs'!V54","v":0},{"$f":"'Fixed inputs'!W54","v":0},{"$f":"'Fixed inputs'!X54","v":0},{"$f":"'Fixed inputs'!Y54","v":0}]
[null,null,null,null,null,"LV discount","%",null,null,{"$f":"J30 * $H$22","v":0.39602144078246099},0.39602144078246099,0.39602144078246099,0.39602144078246099,0.39602144078246099,0,0,0.39602144078246099,0,0,0,0,0,0,0,0]
[null,null,null,null,null,"HV discount","%",null,null,{"$f":"SUMPRODUCT(J31:J33,$H$23:$H$25)","v":0.60683298358343041},0.60683298358343041,0.60683298358343041,0.60683298358343041,0.60683298358343041,0.34783515419041816,0.24889531348591729,0.60683298358343041,0,0,0,0,0,0,0,0]
[]
[null,null,null,null,"Discount override",null,null,null,">",null,null,null,null,null,null,null,null,null,null,null,null,null,null,null,null,null,"Paragraphs 98 & 99"]
[null,null,null,null,"This table overrides discount factors for certain categories of user"]
[null,null,null,null,null,"Flag for overriding MWh discount rate","TRUE / FALSE",null,null,{"$f":"'Fixed inputs'!J110","v":false},{"$f":"'Fixed inputs'!K110","v":false},{"$f":"'Fixed inputs'!L110","v":false},{"$f":"'Fixed inputs'!M110","v":false},{"$f":"'Fixed inputs'!N110","v":false},{"$f":"'Fixed inputs'!O110","v":false},{"$f":"'Fixed inputs'!P110","v":false},{"$f":"'Fixed inputs'!Q110","v":false},{"$f":"'Fixed inputs'!R110","v":true},{"$f":"'Fixed inputs'!S110","v":true},{"$f":"'Fixed inputs'!T110","v":true},{"$f":"'Fixed inputs'!U110","v":true},{"$f":"'Fixed inputs'!V110","v":true},{"$f":"'Fixed inputs'!W110","v":true},{"$f":"'Fixed inputs'!X110","v":true},{"$f":"'Fixed inputs'!Y110","v":true}]
[null,null,null,null,null,"Flag for overriding MPAN discount rate","TRUE / FALSE",null,null,{"$f":"'Fixed inputs'!J114","v":false},{"$f":"'Fixed inputs'!K114","v":false},{"$f":"'Fixed inputs'!L114","v":false},{"$f":"'Fixed inputs'!M114","v":false},{"$f":"'Fixed inputs'!N114","v":false},{"$f":"'Fixed inputs'!O114","v":false},{"$f":"'Fixed inputs'!P114","v":false},{"$f":"'Fixed inputs'!Q114","v":false},{"$f":"'Fixed inputs'!R114","v":true},{"$f":"'Fixed inputs'!S114","v":true},{"$f":"'Fixed inputs'!T114","v":true},{"$f":"'Fixed inputs'!U114","v":true},{"$f":"'Fixed inputs'!V114","v":true},{"$f":"'Fixed inputs'!W114","v":true},{"$f":"'Fixed inputs'!X114","v":true},{"$f":"'Fixed inputs'!Y114","v":true}]
[null,null,null,null,null,"Flag for overriding import capacity discount rate","TRUE / FALSE",null,null,{"$f":"'Fixed inputs'!J118","v":false},{"$f":"'Fixed inputs'!K118","v":false},{"$f":"'Fixed inputs'!L118","v":false},{"$f":"'Fixed inputs'!M118","v":false},{"$f":"'Fixed inputs'!N118","v":false},{"$f":"'Fixed inputs'!O118","v":false},{"$f":"'Fixed inputs'!P118","v":false},{"$f":"'Fixed inputs'!Q118","v":false},{"$f":"'Fixed inputs'!R118","v":true},{"$f":"'Fixed inputs'!S118","v":true},{"$f":"'Fixed inputs'!T118","v":true},{"$f":"'Fixed inputs'!U118","v":true},{"$f":"'Fixed inputs'!V118","v":true},{"$f":"'Fixed inputs'!W118","v":true},{"$f":"'Fixed inputs'!X118","v":true},{"$f":"'Fixed inputs'!Y118","v":true}]
[null,null,null,null,null,"Flag for overriding exceeded capacity discount rate","TRUE / FALSE",null,null,{"$f":"'Fixed inputs'!J122","v":false},{"$f":"'Fixed inputs'!K122","v":false},{"$f":"'Fixed inputs'!L122","v":false},{"$f":"'Fixed inputs'!M122","v":false},{"$f":"'Fixed inputs'!N122","v":false},{"$f":"'Fixed inputs'!O122","v":false},{"$f":"'Fixed inputs'!P122","v":false},{"$f":"'Fixed inputs'!Q122","v":false},{"$f":"'Fixed inputs'!R122","v":true},{"$f":"'Fixed inputs'!S122","v":true},{"$f":"'Fixed inputs'!T122","v":true},{"$f":"'Fixed inputs'!U122","v":true},{"$f":"'Fixed inputs'!V122","v":true},{"$f":"'Fixed inputs'!W122","v":true},{"$f":"'Fixed inputs'!X122","v":true},{"$f":"'Fixed inputs'!Y122","v":true}]
[null,null,null,null,null,"Flag for overriding reactive power units discount rate","TRUE / FALSE",null,null,{"$f":"'Fixed inputs'!J126","v":false},{"$f":"'Fixed inputs'!K126","v":false},{"$f":"'Fixed inputs'!L126","v":false},{"$f":"'Fixed inputs'!M126","v":false},{"$f":"'Fixed inputs'!N126","v":false},{"$f":"'Fixed inputs'!O126","v":false},{"$f":"'Fixed inputs'!P126","v":false},{"$f":"'Fixed inputs'!Q126","v":false},{"$f":"'Fixed inputs'!R126","v":true},{"$f":"'Fixed inputs'!S126","v":true},{"$f":"'Fixed inputs'!T126","v":true},{"$f":"'Fixed inputs'!U126","v":true},{"$f":"'Fixed inputs'!V126","v":true},{"$f":"'Fixed inputs'!W126","v":true},{"$f":"'Fixed inputs'!X126","v":true},{"$f":"'Fixed inputs'!Y126","v":true}]
[]
[null,null,null,null,null,"Override MWh discount rate","%",null,null,{"$f":"'Fixed inputs'!J111","v":0},{"$f":"'Fixed inputs'!K111","v":0},{"$f":"'Fixed inputs'!L111","v":0},{"$f":"'Fixed inputs'!M111","v":0},{"$f":"'Fixed inputs'!N111","v":0},{"$f":"'Fixed inputs'!O111","v":0},{"$f":"'Fixed inputs'!P111","v":0},{"$f":"'Fixed inputs'!Q111","v":0},{"$f":"'Fixed inputs'!R111","v":0},{"$f":"'Fixed inputs'!S111","v":0},{"$f":"'Fixed inputs'!T111","v":0},{"$f":"'Fixed inputs'!U111","v":0},{"$f":"'Fixed inputs'!V111","v":0},{"$f":"'Fixed inputs'!W111","v":0},{"$f":"'Fixed inputs'!X111","v":0},{"$f":"'Fixed inputs'!Y111","v":0}]
[null,null,null,null,null,"Override MPAN discount rate","%",null,null,{"$f":"'Fixed inputs'!J115","v":0},{"$f":"'Fixed inputs'!K115","v":0},{"$f":"'Fixed inputs'!L115","v":0},{"$f":"'Fixed inputs'!M115","v":0},{"$f":"'Fixed inputs'!N115","v":0},{"$f":"'Fixed inputs'!O115","v":0},{"$f":"'Fixed inputs'!P115","v":0},{"$f":"'Fixed inputs'!Q115","v":0},{"$f":"'Fixed inputs'!R115","v":1},{"$f":"'Fixed inputs'!S115","v":1},{"$f":"'Fixed inputs'!T115","v":1},{"$f":"'Fixed inputs'!U115","v":1},{"$f":"'Fixed inputs'!V115","v":1},{"$f":"'Fixed inputs'!W115","v":1},{"$f":"'Fixed inputs'!X115","v":1},{"$f":"'Fixed inputs'!Y115","v":1}]
[null,null,null,null,null,"Override import capacity discount rate","%",null,null,{"$f":"'Fixed inputs'!J119","v":0},{"$f":"'Fixed inputs'!K119","v":0},{"$f":"'Fixed inputs'!L119","v":0},{"$f":"'Fixed inputs'!M119","v":0},{"$f":"'Fixed inputs'!N119","v":0},{"$f":"'Fixed inputs'!O119","v":0},{"$f":"'Fixed inputs'!P119","v":0},{"$f":"'Fixed inputs'!Q119","v":0},{"$f":"'Fixed inputs'!R119","v":0},{"$f":"'Fixed inputs'!S119","v":0},{"$f":"'Fixed inputs'!T119","v":0},{"$f":"'Fixed inputs'!U119","v":0},{"$f":"'Fixed inputs'!V119","v":0},{"$f":"'Fixed inputs'!W119","v":0},{"$f":"'Fixed inputs'!X119","v":0},{"$f":"'Fixed inputs'!Y119","v":0}]
[null,null,null,null,null,"Override exceeded capacity discount rate","%",null,null,{"$f":"'Fixed inputs'!J123","v":0},{"$f":"'Fixed inputs'!K123","v":0},{"$f":"'Fixed inputs'!L123","v":0},{"$f":"'Fixed inputs'!M123","v":0},{"$f":"'Fixed inputs'!N123","v":0},{"$f":"'Fixed inputs'!O123","v":0},{"$f":"'Fixed inputs'!P123","v":0},{"$f":"'Fixed inputs'!Q123","v":0},{"$f":"'Fixed inputs'!R123","v":0},{"$f":"'Fixed inputs'!S123","v":0},{"$f":"'Fixed inputs'!T123","v":0},{"$f":"'Fixed inputs'!U123","v":0},{"$f":"'Fixed inputs'!V123","v":0},{"$f":"'Fixed inputs'!W123","v":0},{"$f":"'Fixed inputs'!X123","v":0},{"$f":"'Fixed inputs'!Y123","v":0}]
[null,null,null,null,null,"Override reactive power units discount rate","%",null,null,{"$f":"'Fixed inputs'!J127","v":0},{"$f":"'Fixed inputs'!K127","v":0},{"$f":"'Fixed inputs'!L127","v":0},{"$f":"'Fixed inputs'!M127","v":0},{"$f":"'Fixed inputs'!N127","v":0},{"$f":"'Fixed inputs'!O127","v":0},{"$f":"'Fixed inputs'!P127","v":0},{"$f":"'Fixed inputs'!Q127","v":0},{"$f":"'Fixed inputs'!R127","v":0},{"$f":"'Fixed inputs'!S127","v":0},{"$f":"'Fixed inputs'!T127","v":0},{"$f":"'Fixed inputs'!U127","v":0},{"$f":"'Fixed inputs'!V127","v":0},{"$f":"'Fixed inputs'!W127","v":0},{"$f":"'Fixed inputs'!X127","v":0},{"$f":"'Fixed inputs'!Y127","v":0}]
[]
[null,"Volume discounting"]
[]
[null,null,{"$f":"INDEX('Version control'!$H$29:$H$55,MATCH($A$1,'Version control'!$F$29:$F$55,0),1)&\"-B: Aggregation of volumes\"","v":"Section 507-B: Aggregation of volumes"}]
[]
[null,null,null,"Volumes for all the way tariffs are imported from the inputs, separately for each residual band."]
[]
[null,null,null,null,"All the way volume forecast - No Residual",null,null,null,">"]
[null,null,null,null,null,"Rate 1 units","MWh",null,null,null,{"$f":"'Inputs by customer type'!K26","v":450.95995548917972},{"$f":"'Inputs by customer type'!L26","v":20.158836784220245},{"$f":"'Inputs by customer type'!M26","v":341.90600000000001},{"$f":"'Inputs by customer type'!N26","v":37.80228458951715},{"$f":"'Inputs by customer type'!O26","v":0.19494712650074275},{"$f":"'Inputs by customer type'!P26","v":1903.1550949912194},null,{"$f":"'Inputs by customer type'!R26","v":6922.0874674672614},{"$f":"'Inputs by customer type'!S26","v":14.658926785947987},{"$f":"'Inputs by customer type'!T26","v":5979.4520000000002},{"$f":"'Inputs by customer type'!U26","v":0},{"$f":"'Inputs by customer type'!V26","v":76.418999999999997},{"$f":"'Inputs by customer type'!W26","v":0},{"$f":"'Inputs by customer type'!X26","v":110295.99099999999},{"$f":"'Inputs by customer type'!Y26","v":0}]
[null,null,null,null,null,"Rate 2 units","MWh",null,null,null,{"$f":"'Inputs by customer type'!K27","v":11165.978402644501},{"$f":"'Inputs by customer type'!L27","v":107.43939606428286},{"$f":"'Inputs by customer type'!M27","v":6616.54},{"$f":"'Inputs by customer type'!N27","v":121.98743699318861},{"$f":"'Inputs by customer type'!O27","v":0.69443852027130226},{"$f":"'Inputs by customer type'!P27","v":8236.6957918683675},null,{"$f":"'Inputs by customer type'!R27","v":42092.209324093616},{"$f":"'Inputs by customer type'!S27","v":69.692749320236075},{"$f":"'Inputs by customer type'!T27","v":30740.204999999994},{"$f":"'Inputs by customer type'!U27","v":0},{"$f":"'Inputs by customer type'!V27","v":447.91699999999997},{"$f":"'Inputs by customer type'!W27","v":0},{"$f":"'Inputs by customer type'!X27","v":353394.92799999996},{"$f":"'Inputs by customer type'!Y27","v":0}]
[null,null,null,null,null,"Rate 3 units","MWh",null,null,null,{"$f":"'Inputs by customer type'!K28","v":132093.46064186629},{"$f":"'Inputs by customer type'!L28","v":86.347856530068981},{"$f":"'Inputs by customer type'!M28","v":27874.395},{"$f":"'Inputs by customer type'!N28","v":124.41409226933219},{"$f":"'Inputs by customer type'!O28","v":0.985404380720172},{"$f":"'Inputs by customer type'!P28","v":8356.9822485519762},null,{"$f":"'Inputs by customer type'!R28","v":19217.031600589951},{"$f":"'Inputs by customer type'!S28","v":63.286158755382779},{"$f":"'Inputs by customer type'!T28","v":29465.601999999995},{"$f":"'Inputs by customer type'!U28","v":0},{"$f":"'Inputs by customer type'!V28","v":427.12099999999998},{"$f":"'Inputs by customer type'!W28","v":0},{"$f":"'Inputs by customer type'!X28","v":394088.42299999995},{"$f":"'Inputs by customer type'!Y28","v":0}]
[null,null,null,null,null,"MPANs","MPANs",null,null,null,{"$f":"'Inputs by customer type'!K29","v":65857},{"$f":"'Inputs by customer type'!L29","v":65},{"$f":"'Inputs by customer type'!M29","v":4053},{"$f":"'Inputs by customer type'!N29","v":32},{"$f":"'Inputs by customer type'!O29","v":2},{"$f":"'Inputs by customer type'!P29","v":164},null,{"$f":"'Inputs by customer type'!R29","v":29908.231691690049},{"$f":"'Inputs by customer type'!S29","v":7},{"$f":"'Inputs by customer type'!T29","v":661},{"$f":"'Inputs by customer type'!U29","v":0},{"$f":"'Inputs by customer type'!V29","v":15},{"$f":"'Inputs by customer type'!W29","v":0},{"$f":"'Inputs by customer type'!X29","v":272},{"$f":"'Inputs by customer type'!Y29","v":0}]
[null,null,null,null,null,"Import capacity","kVA",null,null,null,{"$f":"'Inputs by customer type'!K30","v":0},{"$f":"'Inputs by customer type'!L30","v":0},{"$f":"'Inputs by customer type'!M30","v":0},{"$f":"'Inputs by customer type'!N30","v":1328},{"$f":"'Inputs by customer type'!O30","v":108},{"$f":"'Inputs by customer type'!P30","v":22294},null,{"$f":"'Inputs by customer type'!R30","v":0},{"$f":"'Inputs by customer type'!S30","v":0},{"$f":"'Inputs by customer type'!T30","v":0},{"$f":"'Inputs by customer type'!U30","v":0},{"$f":"'Inputs by customer type'!V30","v":0},{"$f":"'Inputs by customer type'!W30","v":0},{"$f":"'Inputs by customer type'!X30","v":0},{"$f":"'Inputs by customer type'!Y30","v":0}]
[null,null,null,null,null,"Exceeded capacity","kVA",null,null,null,{"$f":"'Inputs by customer type'!K31","v":0},{"$f":"'Inputs by customer type'!L31","v":0},{"$f":"'Inputs by customer type'!M31","v":0},{"$f":"'Inputs by customer type'!N31","v":57.083333333333336},{"$f":"'Inputs by customer type'!O31","v":21},{"$f":"'Inputs by customer type'!P31","v":1102.1666666666667},null,{"$f":"'Inputs by customer type'!R31","v":0},{"$f":"'Inputs by customer type'!S31","v":0},{"$f":"'Inputs by customer type'!T31","v":0},{"$f":"'Inputs by customer type'!U31","v":0},{"$f":"'Inputs by customer type'!V31","v":0},{"$f":"'Inputs by customer type'!W31","v":0},{"$f":"'Inputs by customer type'!X31","v":0},{"$f":"'Inputs by customer type'!Y31","v":0}]
[null,null,null,null,null,"Reactive power units","MVArh",null,null,null,{"$f":"'Inputs by customer type'!K32","v":0},{"$f":"'Inputs by customer type'!L32","v":0},{"$f":"'Inputs by customer type'!M32","v":0},{"$f":"'Inputs by customer type'!N32","v":105.63200000000001},{"$f":"'Inputs by customer type'!O32","v":5.5339999999999998},{"$f":"'Inputs by customer type'!P32","v":1721.625},null,{"$f":"'Inputs by customer type'!R32","v":0},{"$f":"'Inputs by customer type'!S32","v":0},{"$f":"'Inputs by customer type'!T32","v":8237.9060000000009},{"$f":"'Inputs by customer type'!U32","v":0},{"$f":"'Inputs by customer type'!V32","v":374.73599999999999},{"$f":"'Inputs by customer type'!W32","v":0},{"$f":"'Inputs by customer type'!X32","v":18493.092000000001},{"$f":"'Inputs by customer type'!Y32","v":0}]
[]
[null,null,null,null,"All the way volume forecast - Residual Band 1",null,null,null,">"]
[null,null,null,null,null,"Rate 1 units","MWh",null,null,{"$f":"'Inputs by customer type'!J35","v":679456.49875052879},null,{"$f":"'Inputs by customer type'!L35","v":15728.010511486234},null,{"$f":"'Inputs by customer type'!N35","v":45358.282940552301},{"$f":"'Inputs by customer type'!O35","v":130.896811640133},{"$f":"'Inputs by customer type'!P35","v":15121.892183664901},{"$f":"'Inputs by customer type'!Q35","v":9988.5428195909044}]
[null,null,null,null,null,"Rate 2 units","MWh",null,null,{"$f":"'Inputs by customer type'!J36","v":2389915.424312321},null,{"$f":"'Inputs by customer type'!L36","v":83824.675438094055},null,{"$f":"'Inputs by customer type'!N36","v":217564.32958336201},{"$f":"'Inputs by customer type'!O36","v":615.46165676966552},{"$f":"'Inputs by customer type'!P36","v":73498.517189785038},{"$f":"'Inputs by customer type'!Q36","v":61147.312788234245}]
[null,null,null,null,null,"Rate 3 units","MWh",null,null,{"$f":"'Inputs by customer type'!J37","v":2333480.0968766352},null,{"$f":"'Inputs by customer type'!L37","v":67368.966259615539},null,{"$f":"'Inputs by customer type'!N37","v":192038.8005198949},{"$f":"'Inputs by customer type'!O37","v":627.69386154293602},{"$f":"'Inputs by customer type'!P37","v":75958.090452528137},{"$f":"'Inputs by customer type'!Q37","v":136402.38294403584}]
[null,null,null,null,null,"MPANs","MPANs",null,null,{"$f":"'Inputs by customer type'!J38","v":1860667},null,{"$f":"'Inputs by customer type'!L38","v":42874},null,{"$f":"'Inputs by customer type'!N38","v":4645},{"$f":"'Inputs by customer type'!O38","v":12},{"$f":"'Inputs by customer type'!P38","v":354},{"$f":"'Inputs by customer type'!Q38","v":565}]
[null,null,null,null,null,"Import capacity","kVA",null,null,{"$f":"'Inputs by customer type'!J39","v":0},null,{"$f":"'Inputs by customer type'!L39","v":0},null,{"$f":"'Inputs by customer type'!N39","v":259336},{"$f":"'Inputs by customer type'!O39","v":701},{"$f":"'Inputs by customer type'!P39","v":74828},{"$f":"'Inputs by customer type'!Q39","v":0}]
[null,null,null,null,null,"Exceeded capacity","kVA",null,null,{"$f":"'Inputs by customer type'!J40","v":0},null,{"$f":"'Inputs by customer type'!L40","v":0},null,{"$f":"'Inputs by customer type'!N40","v":13317.666666666666},{"$f":"'Inputs by customer type'!O40","v":289},{"$f":"'Inputs by customer type'!P40","v":3985},{"$f":"'Inputs by customer type'!Q40","v":0}]
[null,null,null,null,null,"Reactive power units","MVArh",null,null,{"$f":"'Inputs by customer type'!J41","v":0},null,{"$f":"'Inputs by customer type'!L41","v":0},null,{"$f":"'Inputs by customer type'!N41","v":45965.792000000001},{"$f":"'Inputs by customer type'!O41","v":349.89299999999997},{"$f":"'Inputs by customer type'!P41","v":22438.028999999999},{"$f":"'Inputs by customer type'!Q41","v":0}]
[]
[null,null,null,null,"All the way volume forecast - Residual Band 2",null,null,null,">"]
[null,null,null,null,null,"Rate 1 units","MWh",null,null,null,null,{"$f":"'Inputs by customer type'!L44","v":27460.451945554087},null,{"$f":"'Inputs by customer type'!N44","v":65038.070245482289},{"$f":"'Inputs by customer type'!O44","v":683.21984657859537},{"$f":"'Inputs by customer type'!P44","v":57973.099711089526}]
[null,null,null,null,null,"Rate 2 units","MWh",null,null,null,null,{"$f":"'Inputs by customer type'!L45","v":146354.39555679268},null,{"$f":"'Inputs by customer type'!N45","v":303043.72723089613},{"$f":"'Inputs by customer type'!O45","v":2895.2490051930668},{"$f":"'Inputs by customer type'!P45","v":277528.3603075954}]
[null,null,null,null,null,"Rate 3 units","MWh",null,null,null,null,{"$f":"'Inputs by customer type'!L46","v":117623.41201659148},null,{"$f":"'Inputs by customer type'!N46","v":269323.93710491312},{"$f":"'Inputs by customer type'!O46","v":2812.9522212237089},{"$f":"'Inputs by customer type'!P46","v":280179.65420370986}]
[null,null,null,null,null,"MPANs","MPANs",null,null,null,null,{"$f":"'Inputs by customer type'!L47","v":35667},null,{"$f":"'Inputs by customer type'!N47","v":3865},{"$f":"'Inputs by customer type'!O47","v":30},{"$f":"'Inputs by customer type'!P47","v":405}]
[null,null,null,null,null,"Import capacity","kVA",null,null,null,null,{"$f":"'Inputs by customer type'!L48","v":0},null,{"$f":"'Inputs by customer type'!N48","v":435225},{"$f":"'Inputs by customer type'!O48","v":4716},{"$f":"'Inputs by customer type'!P48","v":281818}]
[null,null,null,null,null,"Exceeded capacity","kVA",null,null,null,null,{"$f":"'Inputs by customer type'!L49","v":0},null,{"$f":"'Inputs by customer type'!N49","v":6923.25},{"$f":"'Inputs by customer type'!O49","v":267.41666666666669},{"$f":"'Inputs by customer type'!P49","v":1866.0833333333333}]
[null,null,null,null,null,"Reactive power units","MVArh",null,null,null,null,{"$f":"'Inputs by customer type'!L50","v":0},null,{"$f":"'Inputs by customer type'!N50","v":53742.985000000001},{"$f":"'Inputs by customer type'!O50","v":594.99300000000005},{"$f":"'Inputs by customer type'!P50","v":30703.263999999999}]
[]
[null,null,null,null,"All the way volume forecast - Residual Band 3",null,null,null,">"]
[null,null,null,null,null,"Rate 1 units","MWh",null,null,null,null,{"$f":"'Inputs by customer type'!L53","v":30384.41094320859},null,{"$f":"'Inputs by customer type'!N53","v":35130.015331706672},{"$f":"'Inputs by customer type'!O53","v":2105.3407065636852},{"$f":"'Inputs by customer type'!P53","v":51731.913081766776}]
[null,null,null,null,null,"Rate 2 units","MWh",null,null,null,null,{"$f":"'Inputs by customer type'!L54","v":161938.05210341606},null,{"$f":"'Inputs by customer type'!N54","v":171166.91735573002},{"$f":"'Inputs by customer type'!O54","v":9387.1871443391046},{"$f":"'Inputs by customer type'!P54","v":240801.1952129461}]
[null,null,null,null,null,"Rate 3 units","MWh",null,null,null,null,{"$f":"'Inputs by customer type'!L55","v":130147.82474594636},null,{"$f":"'Inputs by customer type'!N55","v":157346.35516731039},{"$f":"'Inputs by customer type'!O55","v":10652.4415197528},{"$f":"'Inputs by customer type'!P55","v":252032.30843337829}]
[null,null,null,null,null,"MPANs","MPANs",null,null,null,null,{"$f":"'Inputs by customer type'!L56","v":19785},null,{"$f":"'Inputs by customer type'!N56","v":1324},{"$f":"'Inputs by customer type'!O56","v":50},{"$f":"'Inputs by customer type'!P56","v":176}]
[null,null,null,null,null,"Import capacity","kVA",null,null,null,null,{"$f":"'Inputs by customer type'!L57","v":0},null,{"$f":"'Inputs by customer type'!N57","v":244336},{"$f":"'Inputs by customer type'!O57","v":9599},{"$f":"'Inputs by customer type'!P57","v":242925}]
[null,null,null,null,null,"Exceeded capacity","kVA",null,null,null,null,{"$f":"'Inputs by customer type'!L58","v":0},null,{"$f":"'Inputs by customer type'!N58","v":1229.3333333333335},{"$f":"'Inputs by customer type'!O58","v":97.166666666666671},{"$f":"'Inputs by customer type'!P58","v":1656.4166666666667}]
[null,null,null,null,null,"Reactive power units","MVArh",null,null,null,null,{"$f":"'Inputs by customer type'!L59","v":0},null,{"$f":"'Inputs by customer type'!N59","v":27679.875},{"$f":"'Inputs by customer type'!O59","v":2042.6120000000001},{"$f":"'Inputs by customer type'!P59","v":27804.212}]
[]
[null,null,null,null,"All the way volume forecast - Residual Band 4",null,null,null,">"]
[null,null,null,null,null,"Rate 1 units","MWh",null,null,null,null,{"$f":"'Inputs by customer type'!L62","v":96042.949643991436},null,{"$f":"'Inputs by customer type'!N62","v":84228.470431088892},{"$f":"'Inputs by customer type'!O62","v":20909.140372709087},{"$f":"'Inputs by customer type'!P62","v":151855.09976114644}]
[null,null,null,null,null,"Rate 2 units","MWh",null,null,null,null,{"$f":"'Inputs by customer type'!L63","v":511874.5995334427},null,{"$f":"'Inputs by customer type'!N63","v":416141.64799711597},{"$f":"'Inputs by customer type'!O63","v":98433.242369483021},{"$f":"'Inputs by customer type'!P63","v":696514.37219363428}]
[null,null,null,null,null,"Rate 3 units","MWh",null,null,null,null,{"$f":"'Inputs by customer type'!L64","v":411387.96475973324},null,{"$f":"'Inputs by customer type'!N64","v":375612.40323677217},{"$f":"'Inputs by customer type'!O64","v":99272.781684815374},{"$f":"'Inputs by customer type'!P64","v":809288.64224578382}]
[null,null,null,null,null,"MPANs","MPANs",null,null,null,null,{"$f":"'Inputs by customer type'!L65","v":21853},null,{"$f":"'Inputs by customer type'!N65","v":1618},{"$f":"'Inputs by customer type'!O65","v":218},{"$f":"'Inputs by customer type'!P65","v":200}]
[null,null,null,null,null,"Import capacity","kVA",null,null,null,null,{"$f":"'Inputs by customer type'!L66","v":0},null,{"$f":"'Inputs by customer type'!N66","v":645443},{"$f":"'Inputs by customer type'!O66","v":102647},{"$f":"'Inputs by customer type'!P66","v":704774}]
[null,null,null,null,null,"Exceeded capacity","kVA",null,null,null,null,{"$f":"'Inputs by customer type'!L67","v":0},null,{"$f":"'Inputs by customer type'!N67","v":2167.9166666666665},{"$f":"'Inputs by customer type'!O67","v":338.33333333333331},{"$f":"'Inputs by customer type'!P67","v":3867.416666666667}]
[null,null,null,null,null,"Reactive power units","MVArh",null,null,null,null,{"$f":"'Inputs by customer type'!L68","v":0},null,{"$f":"'Inputs by customer type'!N68","v":72700.536999999997},{"$f":"'Inputs by customer type'!O68","v":16437.256000000001},{"$f":"'Inputs by customer type'!P68","v":116416.254}]
[]
[null,null,null,"Volumes for LNDO LV tariffs are imported from the inputs, separately for each residual band."]
[]
[null,null,null,null,"LDNO LV volume forecast - No Residual",null,null,null,">"]
[null,null,null,null,null,"Rate 1 units","MWh",null,null,null,{"$f":"'Inputs by customer type'!K73","v":0.94232038353711733},{"$f":"'Inputs by customer type'!L73","v":0},{"$f":"'Inputs by customer type'!M73","v":0},{"$f":"'Inputs by customer type'!N73","v":0},{"$f":"'Inputs by customer type'!O73","v":0},{"$f":"'Inputs by customer type'!P73","v":0},null,{"$f":"'Inputs by customer type'!R73","v":175.78179287348217},null,{"$f":"'Inputs by customer type'!T73","v":0}]
[null,null,null,null,null,"Rate 2 units","MWh",null,null,null,{"$f":"'Inputs by customer type'!K74","v":17.523477696397507},{"$f":"'Inputs by customer type'!L74","v":0},{"$f":"'Inputs by customer type'!M74","v":0},{"$f":"'Inputs by customer type'!N74","v":0},{"$f":"'Inputs by customer type'!O74","v":0},{"$f":"'Inputs by customer type'!P74","v":0},null,{"$f":"'Inputs by customer type'!R74","v":1148.2303713782283},null,{"$f":"'Inputs by customer type'!T74","v":0}]
[null,null,null,null,null,"Rate 3 units","MWh",null,null,null,{"$f":"'Inputs by customer type'!K75","v":82.999714316345589},{"$f":"'Inputs by customer type'!L75","v":0},{"$f":"'Inputs by customer type'!M75","v":0},{"$f":"'Inputs by customer type'!N75","v":0},{"$f":"'Inputs by customer type'!O75","v":0},{"$f":"'Inputs by customer type'!P75","v":0},null,{"$f":"'Inputs by customer type'!R75","v":507.5761148805301},null,{"$f":"'Inputs by customer type'!T75","v":0}]
[null,null,null,null,null,"MPANs","MPANs",null,null,null,{"$f":"'Inputs by customer type'!K76","v":41},{"$f":"'Inputs by customer type'!L76","v":0},{"$f":"'Inputs by customer type'!M76","v":0},{"$f":"'Inputs by customer type'!N76","v":0},{"$f":"'Inputs by customer type'!O76","v":0},{"$f":"'Inputs by customer type'!P76","v":0},null,{"$f":"'Inputs by customer type'!R76","v":550},null,{"$f":"'Inputs by customer type'!T76","v":0}]
[null,null,null,null,null,"Import capacity","kVA",null,null,null,{"$f":"'Inputs by customer type'!K77","v":0},{"$f":"'Inputs by customer type'!L77","v":0},{"$f":"'Inputs by customer type'!M77","v":0},{"$f":"'Inputs by customer type'!N77","v":0},{"$f":"'Inputs by customer type'!O77","v":0},{"$f":"'Inputs by customer type'!P77","v":0},null,{"$f":"'Inputs by customer type'!R77","v":0},null,{"$f":"'Inputs by customer type'!T77","v":0}]
[null,null,null,null,null,"Exceeded capacity","kVA",null,null,null,{"$f":"'Inputs by customer type'!K78","v":0},{"$f":"'Inputs by customer type'!L78","v":0},{"$f":"'Inputs by customer type'!M78","v":0},{"$f":"'Inputs by customer type'!N78","v":0},{"$f":"'Inputs by customer type'!O78","v":0},{"$f":"'Inputs by customer type'!P78","v":0},null,{"$f":"'Inputs by customer type'!R78","v":0},null,{"$f":"'Inputs by customer type'!T78","v":0}]
[null,null,null,null,null,"Reactive power units","MVArh",null,null,null,{"$f":"'Inputs by customer type'!K79","v":0},{"$f":"'Inputs by customer type'!L79","v":0},{"$f":"'Inputs by customer type'!M79","v":0},{"$f":"'Inputs by customer type'!N79","v":0},{"$f":"'Inputs by customer type'!O79","v":0},{"$f":"'Inputs by customer type'!P79","v":0},null,{"$f":"'Inputs by customer type'!R79","v":0},null,{"$f":"'Inputs by customer type'!T79","v":0}]
[]
[null,null,null,null,"LDNO LV volume forecast - Residual Band 1",null,null,null,">"]
[null,null,null,null,null,"Rate 1 units","MWh",null,null,{"$f":"'Inputs by customer type'!J82","v":21462.198933541778},null,{"$f":"'Inputs by customer type'!L82","v":298.66338959322127},null,{"$f":"'Inputs by customer type'!N82","v":419.452},{"$f":"'Inputs by customer type'!O82","v":0},{"$f":"'Inputs by customer type'!P82","v":0},{"$f":"'Inputs by customer type'!Q82","v":0.21960494837327099}]
[null,null,null,null,null,"Rate 2 units","MWh",null,null,{"$f":"'Inputs by customer type'!J83","v":77777.691231824007},null,{"$f":"'Inputs by customer type'!L83","v":1607.3025907456383},null,{"$f":"'Inputs by customer type'!N83","v":2095.663},{"$f":"'Inputs by customer type'!O83","v":0},{"$f":"'Inputs by customer type'!P83","v":0},{"$f":"'Inputs by customer type'!Q83","v":3.0193224080975973}]
[null,null,null,null,null,"Rate 3 units","MWh",null,null,{"$f":"'Inputs by customer type'!J84","v":73752.726063647118},null,{"$f":"'Inputs by customer type'!L84","v":1162.9071665288359},null,{"$f":"'Inputs by customer type'!N84","v":4310.2619999999997},{"$f":"'Inputs by customer type'!O84","v":0},{"$f":"'Inputs by customer type'!P84","v":0},{"$f":"'Inputs by customer type'!Q84","v":3.7674268151621209}]
[null,null,null,null,null,"MPANs","MPANs",null,null,{"$f":"'Inputs by customer type'!J85","v":65616},null,{"$f":"'Inputs by customer type'!L85","v":1034},null,{"$f":"'Inputs by customer type'!N85","v":41},{"$f":"'Inputs by customer type'!O85","v":0},{"$f":"'Inputs by customer type'!P85","v":0},{"$f":"'Inputs by customer type'!Q85","v":0}]
[null,null,null,null,null,"Import capacity","kVA",null,null,{"$f":"'Inputs by customer type'!J86","v":0},null,{"$f":"'Inputs by customer type'!L86","v":0},null,{"$f":"'Inputs by customer type'!N86","v":2333},{"$f":"'Inputs by customer type'!O86","v":0},{"$f":"'Inputs by customer type'!P86","v":0},{"$f":"'Inputs by customer type'!Q86","v":0}]
[null,null,null,null,null,"Exceeded capacity","kVA",null,null,{"$f":"'Inputs by customer type'!J87","v":0},null,{"$f":"'Inputs by customer type'!L87","v":0},null,{"$f":"'Inputs by customer type'!N87","v":1428},{"$f":"'Inputs by customer type'!O87","v":0},{"$f":"'Inputs by customer type'!P87","v":0},{"$f":"'Inputs by customer type'!Q87","v":0}]
[null,null,null,null,null,"Reactive power units","MVArh",null,null,{"$f":"'Inputs by customer type'!J88","v":0},null,{"$f":"'Inputs by customer type'!L88","v":0},null,{"$f":"'Inputs by customer type'!N88","v":339.49200000000002},{"$f":"'Inputs by customer type'!O88","v":0},{"$f":"'Inputs by customer type'!P88","v":0},{"$f":"'Inputs by customer type'!Q88","v":0}]
[]
[null,null,null,null,"LDNO LV volume forecast - Residual Band 2",null,null,null,">"]
[null,null,null,null,null,"Rate 1 units","MWh",null,null,null,null,{"$f":"'Inputs by customer type'!L91","v":377.56527458563846},null,{"$f":"'Inputs by customer type'!N91","v":772.44199999999989},{"$f":"'Inputs by customer type'!O91","v":0},{"$f":"'Inputs by customer type'!P91","v":0}]
[null,null,null,null,null,"Rate 2 units","MWh",null,null,null,null,{"$f":"'Inputs by customer type'!L92","v":2034.7834282871377},null,{"$f":"'Inputs by customer type'!N92","v":3452.5229999999992},{"$f":"'Inputs by customer type'!O92","v":0},{"$f":"'Inputs by customer type'!P92","v":0}]
[null,null,null,null,null,"Rate 3 units","MWh",null,null,null,null,{"$f":"'Inputs by customer type'!L93","v":1464.8371894631355},null,{"$f":"'Inputs by customer type'!N93","v":2659.9619999999995},{"$f":"'Inputs by customer type'!O93","v":0},{"$f":"'Inputs by customer type'!P93","v":0}]
[null,null,null,null,null,"MPANs","MPANs",null,null,null,null,{"$f":"'Inputs by customer type'!L94","v":566},null,{"$f":"'Inputs by customer type'!N94","v":80},{"$f":"'Inputs by customer type'!O94","v":0},{"$f":"'Inputs by customer type'!P94","v":0}]
[null,null,null,null,null,"Import capacity","kVA",null,null,null,null,{"$f":"'Inputs by customer type'!L95","v":0},null,{"$f":"'Inputs by customer type'!N95","v":9330},{"$f":"'Inputs by customer type'!O95","v":0},{"$f":"'Inputs by customer type'!P95","v":0}]
[null,null,null,null,null,"Exceeded capacity","kVA",null,null,null,null,{"$f":"'Inputs by customer type'!L96","v":0},null,{"$f":"'Inputs by customer type'!N96","v":25.666666666666668},{"$f":"'Inputs by customer type'!O96","v":0},{"$f":"'Inputs by customer type'!P96","v":0}]
[null,null,null,null,null,"Reactive power units","MVArh",null,null,null,null,{"$f":"'Inputs by customer type'!L97","v":0},null,{"$f":"'Inputs by customer type'!N97","v":593.11692000000005},{"$f":"'Inputs by customer type'!O97","v":0},{"$f":"'Inputs by customer type'!P97","v":0}]
[]
[null,null,null,null,"LDNO LV volume forecast - Residual Band 3",null,null,null,">"]
[null,null,null,null,null,"Rate 1 units","MWh",null,null,null,null,{"$f":"'Inputs by customer type'!L100","v":193.45349700351417},null,{"$f":"'Inputs by customer type'!N100","v":1413.3419999999999},{"$f":"'Inputs by customer type'!O100","v":0},{"$f":"'Inputs by customer type'!P100","v":0}]
[null,null,null,null,null,"Rate 2 units","MWh",null,null,null,null,{"$f":"'Inputs by customer type'!L101","v":1037.8081846777036},null,{"$f":"'Inputs by customer type'!N101","v":6017.7799999999988},{"$f":"'Inputs by customer type'!O101","v":0},{"$f":"'Inputs by customer type'!P101","v":0}]
[null,null,null,null,null,"Rate 3 units","MWh",null,null,null,null,{"$f":"'Inputs by customer type'!L102","v":746.81876837538869},null,{"$f":"'Inputs by customer type'!N102","v":5374.3689999999997},{"$f":"'Inputs by customer type'!O102","v":0},{"$f":"'Inputs by customer type'!P102","v":0}]
[null,null,null,null,null,"MPANs","MPANs",null,null,null,null,{"$f":"'Inputs by customer type'!L103","v":239},null,{"$f":"'Inputs by customer type'!N103","v":78},{"$f":"'Inputs by customer type'!O103","v":0},{"$f":"'Inputs by customer type'!P103","v":0}]
[null,null,null,null,null,"Import capacity","kVA",null,null,null,null,{"$f":"'Inputs by customer type'!L104","v":0},null,{"$f":"'Inputs by customer type'!N104","v":14701},{"$f":"'Inputs by customer type'!O104","v":0},{"$f":"'Inputs by customer type'!P104","v":0}]
[null,null,null,null,null,"Exceeded capacity","kVA",null,null,null,null,{"$f":"'Inputs by customer type'!L105","v":0},null,{"$f":"'Inputs by customer type'!N105","v":27.333333333333332},{"$f":"'Inputs by customer type'!O105","v":0},{"$f":"'Inputs by customer type'!P105","v":0}]
[null,null,null,null,null,"Reactive power units","MVArh",null,null,null,null,{"$f":"'Inputs by customer type'!L106","v":0},null,{"$f":"'Inputs by customer type'!N106","v":913.97219999999993},{"$f":"'Inputs by customer type'!O106","v":0},{"$f":"'Inputs by customer type'!P106","v":0}]
[]
[null,null,null,null,"LDNO LV volume forecast - Residual Band 4",null,null,null,">"]
[null,null,null,null,null,"Rate 1 units","MWh",null,null,null,null,{"$f":"'Inputs by customer type'!L109","v":397.88777602272353},null,{"$f":"'Inputs by customer type'!N109","v":664.02799999999991},{"$f":"'Inputs by customer type'!O109","v":0},{"$f":"'Inputs by customer type'!P109","v":0}]
[null,null,null,null,null,"Rate 2 units","MWh",null,null,null,null,{"$f":"'Inputs by customer type'!L110","v":2109.1167127492017},null,{"$f":"'Inputs by customer type'!N110","v":2880.7309999999998},{"$f":"'Inputs by customer type'!O110","v":0},{"$f":"'Inputs by customer type'!P110","v":0}]
[null,null,null,null,null,"Rate 3 units","MWh",null,null,null,null,{"$f":"'Inputs by customer type'!L111","v":1595.177318911821},null,{"$f":"'Inputs by customer type'!N111","v":2849.9900000000002},{"$f":"'Inputs by customer type'!O111","v":0},{"$f":"'Inputs by customer type'!P111","v":0}]
[null,null,null,null,null,"MPANs","MPANs",null,null,null,null,{"$f":"'Inputs by customer type'!L112","v":181},null,{"$f":"'Inputs by customer type'!N112","v":27},{"$f":"'Inputs by customer type'!O112","v":0},{"$f":"'Inputs by customer type'!P112","v":0}]
[null,null,null,null,null,"Import capacity","kVA",null,null,null,null,{"$f":"'Inputs by customer type'!L113","v":0},null,{"$f":"'Inputs by customer type'!N113","v":11229},{"$f":"'Inputs by customer type'!O113","v":0},{"$f":"'Inputs by customer type'!P113","v":0}]
[null,null,null,null,null,"Exceeded capacity","kVA",null,null,null,null,{"$f":"'Inputs by customer type'!L114","v":0},null,{"$f":"'Inputs by customer type'!N114","v":0},{"$f":"'Inputs by customer type'!O114","v":0},{"$f":"'Inputs by customer type'!P114","v":0}]
[null,null,null,null,null,"Reactive power units","MVArh",null,null,null,null,{"$f":"'Inputs by customer type'!L115","v":0},null,{"$f":"'Inputs by customer type'!N115","v":364.93763999999999},{"$f":"'Inputs by customer type'!O115","v":0},{"$f":"'Inputs by customer type'!P115","v":0}]
[]
[null,null,null,"Volumes for LNDO HV tariffs are imported from the inputs, separately for each residual band."]
[]
[null,null,null,null,"LDNO HV volume forecast - No Residual",null,null,null,">"]
[null,null,null,null,null,"Rate 1 units","MWh",null,null,null,{"$f":"'Inputs by customer type'!K120","v":0},{"$f":"'Inputs by customer type'!L120","v":0},{"$f":"'Inputs by customer type'!M120","v":0},{"$f":"'Inputs by customer type'!N120","v":0},{"$f":"'Inputs by customer type'!O120","v":0},{"$f":"'Inputs by customer type'!P120","v":0},null,{"$f":"'Inputs by customer type'!R120","v":905.15075417043056},{"$f":"'Inputs by customer type'!S120","v":0},{"$f":"'Inputs by customer type'!T120","v":1.3919999999999999},{"$f":"'Inputs by customer type'!U120","v":0},{"$f":"'Inputs by customer type'!V120","v":0},{"$f":"'Inputs by customer type'!W120","v":0},{"$f":"'Inputs by customer type'!X120","v":0},{"$f":"'Inputs by customer type'!Y120","v":0}]
[null,null,null,null,null,"Rate 2 units","MWh",null,null,null,{"$f":"'Inputs by customer type'!K121","v":5.9875880158909522},{"$f":"'Inputs by customer type'!L121","v":0},{"$f":"'Inputs by customer type'!M121","v":0},{"$f":"'Inputs by customer type'!N121","v":0},{"$f":"'Inputs by customer type'!O121","v":0},{"$f":"'Inputs by customer type'!P121","v":0},null,{"$f":"'Inputs by customer type'!R121","v":5617.9084552036666},{"$f":"'Inputs by customer type'!S121","v":0},{"$f":"'Inputs by customer type'!T121","v":9.7500000000000018},{"$f":"'Inputs by customer type'!U121","v":0},{"$f":"'Inputs by customer type'!V121","v":0},{"$f":"'Inputs by customer type'!W121","v":0},{"$f":"'Inputs by customer type'!X121","v":0},{"$f":"'Inputs by customer type'!Y121","v":0}]
[null,null,null,null,null,"Rate 3 units","MWh",null,null,null,{"$f":"'Inputs by customer type'!K122","v":100.333000048454},{"$f":"'Inputs by customer type'!L122","v":0},{"$f":"'Inputs by customer type'!M122","v":0},{"$f":"'Inputs by customer type'!N122","v":0},{"$f":"'Inputs by customer type'!O122","v":0},{"$f":"'Inputs by customer type'!P122","v":0},null,{"$f":"'Inputs by customer type'!R122","v":2475.496018252958},{"$f":"'Inputs by customer type'!S122","v":0},{"$f":"'Inputs by customer type'!T122","v":11.099999999999998},{"$f":"'Inputs by customer type'!U122","v":0},{"$f":"'Inputs by customer type'!V122","v":0},{"$f":"'Inputs by customer type'!W122","v":0},{"$f":"'Inputs by customer type'!X122","v":0},{"$f":"'Inputs by customer type'!Y122","v":0}]
[null,null,null,null,null,"MPANs","MPANs",null,null,null,{"$f":"'Inputs by customer type'!K123","v":33},{"$f":"'Inputs by customer type'!L123","v":0},{"$f":"'Inputs by customer type'!M123","v":0},{"$f":"'Inputs by customer type'!N123","v":0},{"$f":"'Inputs by customer type'!O123","v":0},{"$f":"'Inputs by customer type'!P123","v":0},null,{"$f":"'Inputs by customer type'!R123","v":3296},{"$f":"'Inputs by customer type'!S123","v":0},{"$f":"'Inputs by customer type'!T123","v":2},{"$f":"'Inputs by customer type'!U123","v":0},{"$f":"'Inputs by customer type'!V123","v":0},{"$f":"'Inputs by customer type'!W123","v":0},{"$f":"'Inputs by customer type'!X123","v":0},{"$f":"'Inputs by customer type'!Y123","v":0}]
[null,null,null,null,null,"Import capacity","kVA",null,null,null,{"$f":"'Inputs by customer type'!K124","v":0},{"$f":"'Inputs by customer type'!L124","v":0},{"$f":"'Inputs by customer type'!M124","v":0},{"$f":"'Inputs by customer type'!N124","v":0},{"$f":"'Inputs by customer type'!O124","v":0},{"$f":"'Inputs by customer type'!P124","v":0},null,{"$f":"'Inputs by customer type'!R124","v":0},{"$f":"'Inputs by customer type'!S124","v":0},{"$f":"'Inputs by customer type'!T124","v":0},{"$f":"'Inputs by customer type'!U124","v":0},{"$f":"'Inputs by customer type'!V124","v":0},{"$f":"'Inputs by customer type'!W124","v":0},{"$f":"'Inputs by customer type'!X124","v":0},{"$f":"'Inputs by customer type'!Y124","v":0}]
[null,null,null,null,null,"Exceeded capacity","kVA",null,null,null,{"$f":"'Inputs by customer type'!K125","v":0},{"$f":"'Inputs by customer type'!L125","v":0},{"$f":"'Inputs by customer type'!M125","v":0},{"$f":"'Inputs by customer type'!N125","v":0},{"$f":"'Inputs by customer type'!O125","v":0},{"$f":"'Inputs by customer type'!P125","v":0},null,{"$f":"'Inputs by customer type'!R125","v":0},{"$f":"'Inputs by customer type'!S125","v":0},{"$f":"'Inputs by customer type'!T125","v":0},{"$f":"'Inputs by customer type'!U125","v":0},{"$f":"'Inputs by customer type'!V125","v":0},{"$f":"'Inputs by customer type'!W125","v":0},{"$f":"'Inputs by customer type'!X125","v":0},{"$f":"'Inputs by customer type'!Y125","v":0}]
[null,null,null,null,null,"Reactive power units","MVArh",null,null,null,{"$f":"'Inputs by customer type'!K126","v":0},{"$f":"'Inputs by customer type'!L126","v":0},{"$f":"'Inputs by customer type'!M126","v":0},{"$f":"'Inputs by customer type'!N126","v":0},{"$f":"'Inputs by customer type'!O126","v":0},{"$f":"'Inputs by customer type'!P126","v":0},null,{"$f":"'Inputs by customer type'!R126","v":0},{"$f":"'Inputs by customer type'!S126","v":0},{"$f":"'Inputs by customer type'!T126","v":2.5190000000000001},{"$f":"'Inputs by customer type'!U126","v":0},{"$f":"'Inputs by customer type'!V126","v":0},{"$f":"'Inputs by customer type'!W126","v":0},{"$f":"'Inputs by customer type'!X126","v":0},{"$f":"'Inputs by customer type'!Y126","v":0}]
[]
[null,null,null,null,"LDNO HV volume forecast - Residual Band 1",null,null,null,">"]
[null,null,null,null,null,"Rate 1 units","MWh",null,null,{"$f":"'Inputs by customer type'!J129","v":37668.804468348229},null,{"$f":"'Inputs by customer type'!L129","v":417.28256153537467},null,{"$f":"'Inputs by customer type'!N129","v":1290.8150000000001},{"$f":"'Inputs by customer type'!O129","v":0},{"$f":"'Inputs by customer type'!P129","v":1021.7430000000001},{"$f":"'Inputs by customer type'!Q129","v":0.61362232212232248}]
[null,null,null,null,null,"Rate 2 units","MWh",null,null,{"$f":"'Inputs by customer type'!J130","v":134158.01377456856},null,{"$f":"'Inputs by customer type'!L130","v":2256.0449224299396},null,{"$f":"'Inputs by customer type'!N130","v":5610.9470000000001},{"$f":"'Inputs by customer type'!O130","v":0},{"$f":"'Inputs by customer type'!P130","v":4467.5060000000003},{"$f":"'Inputs by customer type'!Q130","v":10.331821757458917}]
[null,null,null,null,null,"Rate 3 units","MWh",null,null,{"$f":"'Inputs by customer type'!J131","v":130925.22660729867},null,{"$f":"'Inputs by customer type'!L131","v":1652.0280800118378},null,{"$f":"'Inputs by customer type'!N131","v":6722.7350000000006},{"$f":"'Inputs by customer type'!O131","v":0},{"$f":"'Inputs by customer type'!P131","v":5018.8490000000002},{"$f":"'Inputs by customer type'!Q131","v":10.927907737515858}]
[null,null,null,null,null,"MPANs","MPANs",null,null,{"$f":"'Inputs by customer type'!J132","v":110214},null,{"$f":"'Inputs by customer type'!L132","v":1087},null,{"$f":"'Inputs by customer type'!N132","v":115},{"$f":"'Inputs by customer type'!O132","v":0},{"$f":"'Inputs by customer type'!P132","v":11},{"$f":"'Inputs by customer type'!Q132","v":0}]
[null,null,null,null,null,"Import capacity","kVA",null,null,{"$f":"'Inputs by customer type'!J133","v":0},null,{"$f":"'Inputs by customer type'!L133","v":0},null,{"$f":"'Inputs by customer type'!N133","v":6780},{"$f":"'Inputs by customer type'!O133","v":0},{"$f":"'Inputs by customer type'!P133","v":3402},{"$f":"'Inputs by customer type'!Q133","v":0}]
[null,null,null,null,null,"Exceeded capacity","kVA",null,null,{"$f":"'Inputs by customer type'!J134","v":0},null,{"$f":"'Inputs by customer type'!L134","v":0},null,{"$f":"'Inputs by customer type'!N134","v":1609.6666666666667},{"$f":"'Inputs by customer type'!O134","v":0},{"$f":"'Inputs by customer type'!P134","v":17.666666666666668},{"$f":"'Inputs by customer type'!Q134","v":0}]
[null,null,null,null,null,"Reactive power units","MVArh",null,null,{"$f":"'Inputs by customer type'!J135","v":0},null,{"$f":"'Inputs by customer type'!L135","v":0},null,{"$f":"'Inputs by customer type'!N135","v":613.08291999999994},{"$f":"'Inputs by customer type'!O135","v":0},{"$f":"'Inputs by customer type'!P135","v":968.48800000000006},{"$f":"'Inputs by customer type'!Q135","v":0}]
[]
[null,null,null,null,"LDNO HV volume forecast - Residual Band 2",null,null,null,">"]
[null,null,null,null,null,"Rate 1 units","MWh",null,null,null,null,{"$f":"'Inputs by customer type'!L138","v":499.93810010868759},null,{"$f":"'Inputs by customer type'!N138","v":2907.3960000000002},{"$f":"'Inputs by customer type'!O138","v":131.60499999999999},{"$f":"'Inputs by customer type'!P138","v":1614.0330000000001}]
[null,null,null,null,null,"Rate 2 units","MWh",null,null,null,null,{"$f":"'Inputs by customer type'!L139","v":2675.2319858336336},null,{"$f":"'Inputs by customer type'!N139","v":12448.427999999998},{"$f":"'Inputs by customer type'!O139","v":535.16899999999998},{"$f":"'Inputs by customer type'!P139","v":6862.0569999999998}]
[null,null,null,null,null,"Rate 3 units","MWh",null,null,null,null,{"$f":"'Inputs by customer type'!L140","v":1923.2661061466847},null,{"$f":"'Inputs by customer type'!N140","v":10760.525000000001},{"$f":"'Inputs by customer type'!O140","v":558.27299999999991},{"$f":"'Inputs by customer type'!P140","v":7223.697000000001}]
[null,null,null,null,null,"MPANs","MPANs",null,null,null,null,{"$f":"'Inputs by customer type'!L141","v":722},null,{"$f":"'Inputs by customer type'!N141","v":175},{"$f":"'Inputs by customer type'!O141","v":4},{"$f":"'Inputs by customer type'!P141","v":11}]
[null,null,null,null,null,"Import capacity","kVA",null,null,null,null,{"$f":"'Inputs by customer type'!L142","v":0},null,{"$f":"'Inputs by customer type'!N142","v":20249},{"$f":"'Inputs by customer type'!O142","v":447},{"$f":"'Inputs by customer type'!P142","v":7820}]
[null,null,null,null,null,"Exceeded capacity","kVA",null,null,null,null,{"$f":"'Inputs by customer type'!L143","v":0},null,{"$f":"'Inputs by customer type'!N143","v":10.666666666666666},{"$f":"'Inputs by customer type'!O143","v":0},{"$f":"'Inputs by customer type'!P143","v":340.33333333333331}]
[null,null,null,null,null,"Reactive power units","MVArh",null,null,null,null,{"$f":"'Inputs by customer type'!L144","v":0},null,{"$f":"'Inputs by customer type'!N144","v":1514.06098},{"$f":"'Inputs by customer type'!O144","v":19.510000000000002},{"$f":"'Inputs by customer type'!P144","v":265.79844000000003}]
[]
[null,null,null,null,"LDNO HV volume forecast - Residual Band 3",null,null,null,">"]
[null,null,null,null,null,"Rate 1 units","MWh",null,null,null,null,{"$f":"'Inputs by customer type'!L147","v":532.59682027534109},null,{"$f":"'Inputs by customer type'!N147","v":3254.9690000000001},{"$f":"'Inputs by customer type'!O147","v":130.94299999999998},{"$f":"'Inputs by customer type'!P147","v":1108.5050000000001}]
[null,null,null,null,null,"Rate 2 units","MWh",null,null,null,null,{"$f":"'Inputs by customer type'!L148","v":2863.5206820137428},null,{"$f":"'Inputs by customer type'!N148","v":14277.290999999997},{"$f":"'Inputs by customer type'!O148","v":572.56700000000001},{"$f":"'Inputs by customer type'!P148","v":4990.7900000000009}]
[null,null,null,null,null,"Rate 3 units","MWh",null,null,null,null,{"$f":"'Inputs by customer type'!L149","v":2148.839699374063},null,{"$f":"'Inputs by customer type'!N149","v":13615.569000000001},{"$f":"'Inputs by customer type'!O149","v":519.61299999999983},{"$f":"'Inputs by customer type'!P149","v":6762.5339999999987}]
[null,null,null,null,null,"MPANs","MPANs",null,null,null,null,{"$f":"'Inputs by customer type'!L150","v":450},null,{"$f":"'Inputs by customer type'!N150","v":117},{"$f":"'Inputs by customer type'!O150","v":3},{"$f":"'Inputs by customer type'!P150","v":6}]
[null,null,null,null,null,"Import capacity","kVA",null,null,null,null,{"$f":"'Inputs by customer type'!L151","v":0},null,{"$f":"'Inputs by customer type'!N151","v":22053},{"$f":"'Inputs by customer type'!O151","v":671},{"$f":"'Inputs by customer type'!P151","v":9000}]
[null,null,null,null,null,"Exceeded capacity","kVA",null,null,null,null,{"$f":"'Inputs by customer type'!L152","v":0},null,{"$f":"'Inputs by customer type'!N152","v":4.666666666666667},{"$f":"'Inputs by customer type'!O152","v":0},{"$f":"'Inputs by customer type'!P152","v":0}]
[null,null,null,null,null,"Reactive power units","MVArh",null,null,null,null,{"$f":"'Inputs by customer type'!L153","v":0},null,{"$f":"'Inputs by customer type'!N153","v":1248.79458},{"$f":"'Inputs by customer type'!O153","v":82.263999999999996},{"$f":"'Inputs by customer type'!P153","v":151.846}]
[]
[null,null,null,null,"LDNO HV volume forecast - Residual Band 4",null,null,null,">"]
[null,null,null,null,null,"Rate 1 units","MWh",null,null,null,null,{"$f":"'Inputs by customer type'!L156","v":1171.8405958152541},null,{"$f":"'Inputs by customer type'!N156","v":10123.692999999999},{"$f":"'Inputs by customer type'!O156","v":4890.4009999999998},{"$f":"'Inputs by customer type'!P156","v":2106.7460000000001}]
[null,null,null,null,null,"Rate 2 units","MWh",null,null,null,null,{"$f":"'Inputs by customer type'!L157","v":6244.6974058527676},null,{"$f":"'Inputs by customer type'!N157","v":46194.21},{"$f":"'Inputs by customer type'!O157","v":22137.865999999995},{"$f":"'Inputs by customer type'!P157","v":10577.475}]
[null,null,null,null,null,"Rate 3 units","MWh",null,null,null,null,{"$f":"'Inputs by customer type'!L158","v":4726.4689262620568},null,{"$f":"'Inputs by customer type'!N158","v":42303.555999999997},{"$f":"'Inputs by customer type'!O158","v":21122.558999999997},{"$f":"'Inputs by customer type'!P158","v":14591.350999999999}]
[null,null,null,null,null,"MPANs","MPANs",null,null,null,null,{"$f":"'Inputs by customer type'!L159","v":409},null,{"$f":"'Inputs by customer type'!N159","v":229},{"$f":"'Inputs by customer type'!O159","v":59},{"$f":"'Inputs by customer type'!P159","v":10}]
[null,null,null,null,null,"Import capacity","kVA",null,null,null,null,{"$f":"'Inputs by customer type'!L160","v":0},null,{"$f":"'Inputs by customer type'!N160","v":128058},{"$f":"'Inputs by customer type'!O160","v":47105},{"$f":"'Inputs by customer type'!P160","v":27700}]
[null,null,null,null,null,"Exceeded capacity","kVA",null,null,null,null,{"$f":"'Inputs by customer type'!L161","v":0},null,{"$f":"'Inputs by customer type'!N161","v":0},{"$f":"'Inputs by customer type'!O161","v":0},{"$f":"'Inputs by customer type'!P161","v":0}]
[null,null,null,null,null,"Reactive power units","MVArh",null,null,null,null,{"$f":"'Inputs by customer type'!L162","v":0},null,{"$f":"'Inputs by customer type'!N162","v":7208.3624799999998},{"$f":"'Inputs by customer type'!O162","v":2166.0920000000001},{"$f":"'Inputs by customer type'!P162","v":227.428}]
[]
[null,null,null,"Total volumes, aggregated across all residual bands, are then calculated."]
[]
[null,null,null,null,"All the way volume forecast",null,null,null,">",null,null,null,null,null,null,null,null,null,null,null,null,null,null,null,null,null,"Paragraph 52"]
[null,null,null,null,null,"Rate 1 units","MWh",null,null,{"$f":"SUM( J67, J76, J85, J94, J58 )","v":679456.49875052879},450.95995548917972,169635.98188102458,341.90600000000001,229792.64123341965,23828.792684618002,278585.15983265883,9988.5428195909044,6922.0874674672614,14.658926785947987,5979.4520000000002,0,76.418999999999997,0,110295.99099999999,0]
[null,null,null,null,null,"Rate 2 units","MWh",null,null,2389915.424312321,11165.978402644501,904099.16202780977,6616.54,1108038.6096040974,111331.83461430512,1296579.1406958292,61147.312788234245,42092.209324093616,69.692749320236075,30740.204999999994,0,447.91699999999997,0,353394.92799999996,0]
[null,null,null,null,null,"Rate 3 units","MWh",null,null,2333480.0968766352,132093.46064186629,726614.51563841675,27874.395,994445.91012115998,113366.85469171553,1425815.6775839522,136402.38294403584,19217.031600589951,63.286158755382779,29465.601999999995,0,427.12099999999998,0,394088.42299999995,0]
[null,null,null,null,null,"MPANs","MPANs",null,null,1860667,65857,120244,4053,11484,312,1299,565,29908.231691690049,7,661,0,15,0,272,0]
[null,null,null,null,null,"Import capacity","kVA",null,null,null,null,null,null,1585668,117771,1326639]
[null,null,null,null,null,"Exceeded capacity","kVA",null,null,null,null,null,null,23695.249999999996,1012.9166666666667,12477.083333333334]
[null,null,null,null,null,"Reactive power units","MVArh",null,null,null,null,null,null,200194.82100000003,19430.288,199083.38400000002,null,null,null,{"$f":"SUM( T73, T82, T91, T100, T64 )","v":8237.9060000000009},null,{"$f":"SUM( V73, V82, V91, V100, V64 )","v":374.73599999999999},null,{"$f":"SUM( X73, X82, X91, X100, X64 )","v":18493.092000000001}]
[]
[null,null,null,null,"LDNO LV volume forecast",null,null,null,">",null,null,null,null,null,null,null,null,null,null,null,null,null,null,null,null,null,"Paragraph 52"]
[null,null,null,null,null,"Rate 1 units","MWh",null,null,{"$f":"SUM( J114, J123, J132, J141, J105 )","v":21462.198933541778},0.94232038353711733,1267.5699372050974,0,3269.2639999999997,null,null,{"$f":"SUM( Q114, Q123, Q132, Q141, Q105 )","v":0.21960494837327099},175.78179287348217,null,{"$f":"SUM( T114, T123, T132, T141, T105 )","v":0}]
[null,null,null,null,null,"Rate 2 units","MWh",null,null,77777.691231824007,17.523477696397507,6789.0109164596806,0,14446.696999999998,null,null,3.0193224080975973,1148.2303713782283,null,{"$f":"SUM( T115, T124, T133, T142, T106 )","v":0}]
[null,null,null,null,null,"Rate 3 units","MWh",null,null,73752.726063647118,82.999714316345589,4969.7404432791809,0,15194.582999999999,null,null,3.7674268151621209,507.5761148805301,null,{"$f":"SUM( T116, T125, T134, T143, T107 )","v":0}]
[null,null,null,null,null,"MPANs","MPANs",null,null,65616,41,2020,0,226,null,null,0,550,null,{"$f":"SUM( T117, T126, T135, T144, T108 )","v":0}]
[null,null,null,null,null,"Import capacity","kVA",null,null,null,null,null,null,{"$f":"SUM( N118, N127, N136, N145, N109 )","v":37593}]
[null,null,null,null,null,"Exceeded capacity","kVA",null,null,null,null,null,null,{"$f":"SUM( N119, N128, N137, N146, N110 )","v":1481}]
[null,null,null,null,null,"Reactive power units","MVArh",null,null,null,null,null,null,{"$f":"SUM( N120, N129, N138, N147, N111 )","v":2211.5187599999999},null,null,null,null,null,{"$f":"SUM( T120, T129, T138, T147, T111 )","v":0}]
[]
[null,null,null,null,"LDNO HV volume forecast",null,null,null,">",null,null,null,null,null,null,null,null,null,null,null,null,null,null,null,null,null,"Paragraph 52"]
[null,null,null,null,null,"Rate 1 units","MWh",null,null,{"$f":"SUM( J161, J170, J179, J188, J152 )","v":37668.804468348229},0,2621.6580777346571,0,17576.873,5152.9489999999996,5851.027,0.61362232212232248,905.15075417043056,0,1.3919999999999999,null,{"$f":"SUM( V161, V170, V179, V188, V152 )","v":0},null,{"$f":"SUM( X161, X170, X179, X188, X152 )","v":0}]
[null,null,null,null,null,"Rate 2 units","MWh",null,null,134158.01377456856,5.9875880158909522,14039.494996130084,0,78530.875999999989,23245.601999999995,26897.828000000001,10.331821757458917,5617.9084552036666,0,9.7500000000000018,null,{"$f":"SUM( V162, V171, V180, V189, V153 )","v":0},null,{"$f":"SUM( X162, X171, X180, X189, X153 )","v":0}]
[null,null,null,null,null,"Rate 3 units","MWh",null,null,130925.22660729867,100.333000048454,10450.602811794641,0,73402.385000000009,22200.444999999996,33596.430999999997,10.927907737515858,2475.496018252958,0,11.099999999999998,null,{"$f":"SUM( V163, V172, V181, V190, V154 )","v":0},null,{"$f":"SUM( X163, X172, X181, X190, X154 )","v":0}]
[null,null,null,null,null,"MPANs","MPANs",null,null,110214,33,2668,0,636,66,38,0,3296,0,2,null,{"$f":"SUM( V164, V173, V182, V191, V155 )","v":0},null,{"$f":"SUM( X164, X173, X182, X191, X155 )","v":0}]
[null,null,null,null,null,"Import capacity","kVA",null,null,null,null,null,null,177140,48223,47922]
[null,null,null,null,null,"Exceeded capacity","kVA",null,null,null,null,null,null,1625.0000000000002,0,358]
[null,null,null,null,null,"Reactive power units","MVArh",null,null,null,null,null,null,10584.30096,2267.866,1613.5604400000002,null,null,null,{"$f":"SUM( T167, T176, T185, T194, T158 )","v":2.5190000000000001},null,{"$f":"SUM( V167, V176, V185, V194, V158 )","v":0},null,{"$f":"SUM( X167, X176, X185, X194, X158 )","v":0}]
[]
[null,null,{"$f":"INDEX('Version control'!$H$29:$H$55,MATCH($A$1,'Version control'!$F$29:$F$55,0),1)&\"-C: Volume discounting\"","v":"Section 507-C: Volume discounting"}]
[]
[null,null,"Applies LDNO discounts and aggregates with volumes from all the way customers"]
[]
[null,null,null,null,"Unit rate 1",null,null,null,">",null,null,null,null,null,null,null,null,null,null,null,null,null,null,null,null,null,"Paragraph 53"]
[]
[null,null,null,null,null,"All the way customers","MWh",null,null,{"$f":"J$199","v":679456.49875052879},450.95995548917972,169635.98188102458,341.90600000000001,229792.64123341965,23828.792684618002,278585.15983265883,9988.5428195909044,6922.0874674672614,14.658926785947987,5979.4520000000002,0,76.418999999999997,0,110295.99099999999,0]
[null,null,null,null,null,"LDNO LV","MWh",null,null,{"$f":"J$208","v":21462.198933541778},0.94232038353711733,1267.5699372050974,0,3269.2639999999997,0,0,0.21960494837327099,175.78179287348217,0,0,0,0,0,0,0]
[null,null,null,null,null,"LDNO HV","MWh",null,null,{"$f":"J$217","v":37668.804468348229},0,2621.6580777346571,0,17576.873,5152.9489999999996,5851.027,0.61362232212232248,905.15075417043056,0,1.3919999999999999,0,0,0,0,0]
[null,null,null,null,null,"LDNO LV discount rate applied","%",null,null,{"$f":"IF(J$39, J$45, J$34)","v":0.39602144078246099},{"$f":"IF(K$39, K$45, K$34)","v":0.39602144078246099},0.39602144078246099,0.39602144078246099,0.39602144078246099,0,0,0.39602144078246099,0,0,0,0,0,0,0,0]
[null,null,null,null,null,"LDNO HV discount rate applied","%",null,null,{"$f":"IF(J$39, J$45, J$35)","v":0.60683298358343041},{"$f":"IF(K$39, K$45, K$35)","v":0.60683298358343041},0.60683298358343041,0.60683298358343041,0.60683298358343041,0.34783515419041816,0.24889531348591729,0.60683298358343041,0,0,0,0,0,0,0,0]
[null,null,null,null,null,"LDNO LV, discounted","MWh",null,null,{"$f":"J232 * (1 - J234)","v":12962.707989520766},0.56914130757006698,765.58506438060124,0,1974.5653604217684,0,0,0.13263668031553028,175.78179287348217,0,0,0,0,0,0,0]
[null,null,null,null,null,"LDNO HV, discounted","MWh",null,null,14810.131464799619,0,1030.7494844873343,0,6910.6467153429585,3360.5721900496392,4394.7338006204336,0.24125605759544072,905.15075417043056,0,1.3919999999999999,0,0,0,0,0]
[null,null,null,null,null,"Total after discounting","MWh",null,null,{"$f":"J231 + J236 + J237","v":707229.33820484916},451.5290967967498,171432.31642989253,341.90600000000001,238677.8533091844,27189.364874667641,282979.89363327925,9988.9167123288153,8003.0200145111739,14.658926785947987,5980.8440000000001,0,76.418999999999997,0,110295.99099999999,0]
[]
[null,null,null,null,"Unit rate 2",null,null,null,">",null,null,null,null,null,null,null,null,null,null,null,null,null,null,null,null,null,"Paragraph 53"]
[]
[null,null,null,null,null,"All the way customers","MWh",null,null,{"$f":"J$200","v":2389915.424312321},11165.978402644501,904099.16202780977,6616.54,1108038.6096040974,111331.83461430512,1296579.1406958292,61147.312788234245,42092.209324093616,69.692749320236075,30740.204999999994,0,447.91699999999997,0,353394.92799999996,0]
[null,null,null,null,null,"LDNO LV","MWh",null,null,{"$f":"J$209","v":77777.691231824007},17.523477696397507,6789.0109164596806,0,14446.696999999998,0,0,3.0193224080975973,1148.2303713782283,0,0,0,0,0,0,0]
[null,null,null,null,null,"LDNO HV","MWh",null,null,{"$f":"J$218","v":134158.01377456856},5.9875880158909522,14039.494996130084,0,78530.875999999989,23245.601999999995,26897.828000000001,10.331821757458917,5617.9084552036666,0,9.7500000000000018,0,0,0,0,0]
[null,null,null,null,null,"LDNO LV discount rate applied","%",null,null,{"$f":"IF(J$39, J$45, J$34)","v":0.39602144078246099},0.39602144078246099,0.39602144078246099,0.39602144078246099,0.39602144078246099,0,0,0.39602144078246099,0,0,0,0,0,0,0,0]
[null,null,null,null,null,"LDNO HV discount rate applied","%",null,null,{"$f":"IF(J$39, J$45, J$35)","v":0.60683298358343041},0.60683298358343041,0.60683298358343041,0.60683298358343041,0.60683298358343041,0.34783515419041816,0.24889531348591729,0.60683298358343041,0,0,0,0,0,0,0,0]
[null,null,null,null,null,"LDNO LV, discounted","MWh",null,null,{"$f":"J243 * (1 - J245)","v":46976.057889463686},10.583804811550847,4100.4170318354627,0,8725.4952395123437,0,0,1.8236059978560173,1148.2303713782283,0,0,0,0,0,0,0]
[null,null,null,null,null,"LDNO HV, discounted","MWh",null,null,52746.506004120165,2.3541221157394534,5519.8663596238239,0,30875.750213499588,15159.964444080906,20203.084667849718,4.0621315345279205,5617.9084552036666,0,9.7500000000000018,0,0,0,0,0]
[null,null,null,null,null,"Total after discounting","MWh",null,null,{"$f":"J242 + J247 + J248","v":2489637.9882059051},11178.916329571792,913719.44541926903,6616.54,1147639.8550571094,126491.79905838602,1316782.225363679,61153.198525766631,48858.348150675512,69.692749320236075,30749.954999999994,0,447.91699999999997,0,353394.92799999996,0]
[]
[null,null,null,null,"Unit rate 3",null,null,null,">",null,null,null,null,null,null,null,null,null,null,null,null,null,null,null,null,null,"Paragraph 53"]
[]
[null,null,null,null,null,"All the way customers","MWh",null,null,{"$f":"J$201","v":2333480.0968766352},132093.46064186629,726614.51563841675,27874.395,994445.91012115998,113366.85469171553,1425815.6775839522,136402.38294403584,19217.031600589951,63.286158755382779,29465.601999999995,0,427.12099999999998,0,394088.42299999995,0]
[null,null,null,null,null,"LDNO LV","MWh",null,null,{"$f":"J$210","v":73752.726063647118},82.999714316345589,4969.7404432791809,0,15194.582999999999,0,0,3.7674268151621209,507.5761148805301,0,0,0,0,0,0,0]
[null,null,null,null,null,"LDNO HV","MWh",null,null,{"$f":"J$219","v":130925.22660729867},100.333000048454,10450.602811794641,0,73402.385000000009,22200.444999999996,33596.430999999997,10.927907737515858,2475.496018252958,0,11.099999999999998,0,0,0,0,0]
[null,null,null,null,null,"LDNO LV discount rate applied","%",null,null,{"$f":"IF(J$39, J$45, J$34)","v":0.39602144078246099},0.39602144078246099,0.39602144078246099,0.39602144078246099,0.39602144078246099,0,0,0.39602144078246099,0,0,0,0,0,0,0,0]
[null,null,null,null,null,"LDNO HV discount rate applied","%",null,null,{"$f":"IF(J$39, J$45, J$35)","v":0.60683298358343041},0.60683298358343041,0.60683298358343041,0.60683298358343041,0.60683298358343041,0.34783515419041816,0.24889531348591729,0.60683298358343041,0,0,0,0,0,0,0,0]
[null,null,null,null,null,"LDNO LV, discounted","MWh",null,null,{"$f":"J254 * (1 - J256)","v":44545.065226287428},50.130047868253762,3001.6166726168935,0,9177.2023482513123,0,0,2.2754450197791396,507.5761148805301,0,0,0,0,0,0,0]
[null,null,null,null,null,"LDNO HV, discounted","MWh",null,null,51475.480718854888,39.447626277174187,4108.8323272679118,0,28859.396708310363,14478.349790329101,25234.436774247006,4.2964928808346547,2475.496018252958,0,11.099999999999998,0,0,0,0,0]
[null,null,null,null,null,"Total after discounting","MWh",null,null,{"$f":"J253 + J258 + J259","v":2429500.6428217776},132183.03831601172,733724.96463830164,27874.395,1032482.5091777217,127845.20448204463,1451050.1143581993,136408.95488193643,22200.103733723437,63.286158755382779,29476.701999999994,0,427.12099999999998,0,394088.42299999995,0]
[]
[null,null,null,null,"Total units",null,null,null,">"]
[]
[null,null,null,null,null,"Total after discounting","MWh",null,null,{"$f":"J260 + J249 + J238","v":5626367.9692325322},143813.48374238028,1818876.7264874633,34832.841,2418800.2175440155,281526.36841509829,3050812.2333551571,207551.07012003189,79061.471898910124,147.63783486156683,66207.500999999989,0,951.45699999999999,0,857779.34199999995,0]
[]
[null,null,null,null,"MPANs",null,null,null,">",null,null,null,null,null,null,null,null,null,null,null,null,null,null,null,null,null,"Paragraph 53"]
[]
[null,null,null,null,null,"All the way customers","MPANs",null,null,{"$f":"J202","v":1860667},65857,120244,4053,11484,312,1299,565,29908.231691690049,7,661,0,15,0,272,0]
[null,null,null,null,null,"LDNO LV","MPANs",null,null,{"$f":"J211","v":65616},41,2020,0,226,0,0,0,550,0,0,0,0,0,0,0]
[null,null,null,null,null,"LDNO HV","MPANs",null,null,{"$f":"J220","v":110214},33,2668,0,636,66,38,0,3296,0,2,0,0,0,0,0]
[null,null,null,null,null,"LDNO LV discount rate applied","%",null,null,{"$f":"IF(J$40, J$46, J$34)","v":0.39602144078246099},0.39602144078246099,0.39602144078246099,0.39602144078246099,0.39602144078246099,0,0,0.39602144078246099,1,1,1,1,1,1,1,1]
[null,null,null,null,null,"LDNO HV discount rate applied","%",null,null,{"$f":"IF(J$40, J$46, J$35)","v":0.60683298358343041},0.60683298358343041,0.60683298358343041,0.60683298358343041,0.60683298358343041,0.34783515419041816,0.24889531348591729,0.60683298358343041,1,1,1,1,1,1,1,1]
[null,null,null,null,null,"LDNO LV, discounted","MPANs",null,null,{"$f":"J269 * (1 - J271)","v":39630.657141618045},24.7631209279191,1220.0366896194289,0,136.49915438316384,0,0,0,0,0,0,0,0,0,0,0]
[null,null,null,null,null,"LDNO HV, discounted","MPANs",null,null,43332.509547335801,12.974511541746796,1048.9695997994077,0,250.05422244093825,43.042879823432408,28.541978087535142,0,0,0,0,0,0,0,0,0]
[null,null,null,null,null,"Total after discounting","MPANs",null,null,{"$f":"J268 + J273 + J274","v":1943630.1666889538},65894.737632469667,122513.00628941884,4053,11870.553376824102,355.04287982343243,1327.5419780875352,565,29908.231691690049,7,661,0,15,0,272,0]
[]
[null,null,null,null,"Import capacity",null,null,null,">",null,null,null,null,null,null,null,null,null,null,null,null,null,null,null,null,null,"Paragraph 53"]
[]
[null,null,null,null,null,"All the way customers","kVA",null,null,{"$f":"J203","v":0},0,0,0,1585668,117771,1326639,0,0,0,0,0,0,0,0,0]
[null,null,null,null,null,"LDNO LV","kVA",null,null,{"$f":"J212","v":0},0,0,0,37593,0,0,0,0,0,0,0,0,0,0,0]
[null,null,null,null,null,"LDNO HV","kVA",null,null,{"$f":"J221","v":0},0,0,0,177140,48223,47922,0,0,0,0,0,0,0,0,0]
[null,null,null,null,null,"LDNO LV discount rate applied","%",null,null,{"$f":"IF(J$41, J$47, J$34)","v":0.39602144078246099},0.39602144078246099,0.39602144078246099,0.39602144078246099,0.39602144078246099,0,0,0.39602144078246099,0,0,0,0,0,0,0,0]
[null,null,null,null,null,"LDNO HV discount rate applied","%",null,null,{"$f":"IF(J$41, J$47, J$35)","v":0.60683298358343041},0.60683298358343041,0.60683298358343041,0.60683298358343041,0.60683298358343041,0.34783515419041816,0.24889531348591729,0.60683298358343041,0,0,0,0,0,0,0,0]
[null,null,null,null,null,"LDNO LV, discounted","kVA",null,null,{"$f":"J280 * (1 - J282)","v":0},0,0,0,22705.365976664947,0,0,0,0,0,0,0,0,0,0,0]
[null,null,null,null,null,"LDNO HV, discounted","kVA",null,null,0,0,0,0,69645.605288031133,31449.345359475468,35994.438787127874,0,0,0,0,0,0,0,0,0]
[null,null,null,null,null,"Total after discounting","kVA",null,null,{"$f":"J279 + J284 + J285","v":0},0,0,0,1678018.971264696,149220.34535947547,1362633.4387871278,0,0,0,0,0,0,0,0,0]
[]
[null,null,null,null,"Exceeded capacity",null,null,null,">",null,null,null,null,null,null,null,null,null,null,null,null,null,null,null,null,null,"Paragraph 53"]
[]
[null,null,null,null,null,"All the way customers","kVA",null,null,{"$f":"J204","v":0},0,0,0,23695.249999999996,1012.9166666666667,12477.083333333334,0,0,0,0,0,0,0,0,0]
[null,null,null,null,null,"LDNO LV","kVA",null,null,{"$f":"J213","v":0},0,0,0,1481,0,0,0,0,0,0,0,0,0,0,0]
[null,null,null,null,null,"LDNO HV","kVA",null,null,{"$f":"J222","v":0},0,0,0,1625.0000000000002,0,358,0,0,0,0,0,0,0,0,0]
[null,null,null,null,null,"LDNO LV discount rate applied","%",null,null,{"$f":"IF(J$42, J$48, J$34)","v":0.39602144078246099},0.39602144078246099,0.39602144078246099,0.39602144078246099,0.39602144078246099,0,0,0.39602144078246099,0,0,0,0,0,0,0,0]
[null,null,null,null,null,"LDNO HV discount rate applied","%",null,null,{"$f":"IF(J$42, J$48, J$35)","v":0.60683298358343041},0.60683298358343041,0.60683298358343041,0.60683298358343041,0.60683298358343041,0.34783515419041816,0.24889531348591729,0.60683298358343041,0,0,0,0,0,0,0,0]
[null,null,null,null,null,"LDNO LV, discounted","kVA",null,null,{"$f":"J291 * (1 - J293)","v":0},0,0,0,894.49224620117536,0,0,0,0,0,0,0,0,0,0,0]
[null,null,null,null,null,"LDNO HV, discounted","kVA",null,null,0,0,0,0,638.89640167692562,0,268.8954777720416,0,0,0,0,0,0,0,0,0]
[null,null,null,null,null,"Total after discounting","kVA",null,null,{"$f":"J290 + J295 + J296","v":0},0,0,0,25228.638647878095,1012.9166666666667,12745.978811105375,0,0,0,0,0,0,0,0,0]
[]
[null,null,null,null,"Reactive power units",null,null,null,">",null,null,null,null,null,null,null,null,null,null,null,null,null,null,null,null,null,"Paragraph 53"]
[]
[null,null,null,null,null,"All the way customers","MVArh",null,null,{"$f":"J205","v":0},0,0,0,200194.82100000003,19430.288,199083.38400000002,0,0,0,8237.9060000000009,0,374.73599999999999,0,18493.092000000001,0]
[null,null,null,null,null,"LDNO LV","MVArh",null,null,{"$f":"J214","v":0},0,0,0,2211.5187599999999,0,0,0,0,0,0,0,0,0,0,0]
[null,null,null,null,null,"LDNO HV","MVArh",null,null,{"$f":"J223","v":0},0,0,0,10584.30096,2267.866,1613.5604400000002,0,0,0,2.5190000000000001,0,0,0,0,0]
[null,null,null,null,null,"LDNO LV discount rate applied","%",null,null,{"$f":"IF(J$43, J$49, J$34)","v":0.39602144078246099},0.39602144078246099,0.39602144078246099,0.39602144078246099,0.39602144078246099,0,0,0.39602144078246099,0,0,0,0,0,0,0,0]
[null,null,null,null,null,"LDNO HV discount rate applied","%",null,null,{"$f":"IF(J$43, J$49, J$35)","v":0.60683298358343041},0.60683298358343041,0.60683298358343041,0.60683298358343041,0.60683298358343041,0.34783515419041816,0.24889531348591729,0.60683298358343041,0,0,0,0,0,0,0,0]
[null,null,null,null,null,"LDNO LV, discounted","MVArh",null,null,{"$f":"J302 * (1 - J304)","v":0},0,0,0,1335.7099143473586,0,0,0,0,0,0,0,0,0,0,0]
[null,null,null,null,null,"LDNO HV, discounted","MVArh",null,null,0,0,0,0,4161.3980292982333,1479.0224802067933,1211.9528084577255,0,0,0,2.5190000000000001,0,0,0,0,0]
[null,null,null,null,null,"Total after discounting","MVArh",null,null,{"$f":"J301 + J306 + J307","v":0},0,0,0,205691.92894364562,20909.310480206794,200295.33680845774,0,0,0,8240.4250000000011,0,374.73599999999999,0,18493.092000000001,0]
[]
[null,"Volume discounting for revenue matching"]
[]
[null,null,"Applies LDNO discounts and aggregates with volumes from all the way customers, separated by band."]
[]
[null,null,null,null,"LDNO LV discount rate applied"]
[null,null,null,null,null,"Rate 1 units","%",null,null,{"$f":"IF(J$39, J$45, J$34)","v":0.39602144078246099},{"$f":"IF(K$39, K$45, K$34)","v":0.39602144078246099},0.39602144078246099,0.39602144078246099,0.39602144078246099,0,0,0.39602144078246099,0,0,0,0,0,0,0,0]
[null,null,null,null,null,"Rate 2 units","%",null,null,{"$f":"IF(J$39, J$45, J$34)","v":0.39602144078246099},0.39602144078246099,0.39602144078246099,0.39602144078246099,0.39602144078246099,0,0,0.39602144078246099,0,0,0,0,0,0,0,0]
[null,null,null,null,null,"Rate 3 units","%",null,null,0.39602144078246099,0.39602144078246099,0.39602144078246099,0.39602144078246099,0.39602144078246099,0,0,0.39602144078246099,0,0,0,0,0,0,0,0]
[null,null,null,null,null,"MPANs","%",null,null,{"$f":"IF(J$39, J46, J$34)","v":0.39602144078246099},0.39602144078246099,0.39602144078246099,0.39602144078246099,0.39602144078246099,0,0,0.39602144078246099,1,1,1,1,1,1,1,1]
[null,null,null,null,null,"Import capacity","%",null,null,0.39602144078246099,0.39602144078246099,0.39602144078246099,0.39602144078246099,0.39602144078246099,0,0,0.39602144078246099,0,0,0,0,0,0,0,0]
[null,null,null,null,null,"Exceeded capacity","%",null,null,0.39602144078246099,0.39602144078246099,0.39602144078246099,0.39602144078246099,0.39602144078246099,0,0,0.39602144078246099,0,0,0,0,0,0,0,0]
[null,null,null,null,null,"Reactive power units","%",null,null,0.39602144078246099,0.39602144078246099,0.39602144078246099,0.39602144078246099,0.39602144078246099,0,0,0.39602144078246099,0,0,0,0,0,0,0,0]
[]
[null,null,null,null,"LDNO HV discount rate applied"]
[null,null,null,null,null,"Rate 1 units","%",null,null,{"$f":"IF(J$39, J$45, J$35)","v":0.60683298358343041},{"$f":"IF(K$39, K$45, K$35)","v":0.60683298358343041},0.60683298358343041,0.60683298358343041,0.60683298358343041,0.34783515419041816,0.24889531348591729,0.60683298358343041,0,0,0,0,0,0,0,0]
[null,null,null,null,null,"Rate 2 units","%",null,null,{"$f":"IF(J$39, J$45, J$35)","v":0.60683298358343041},0.60683298358343041,0.60683298358343041,0.60683298358343041,0.60683298358343041,0.34783515419041816,0.24889531348591729,0.60683298358343041,0,0,0,0,0,0,0,0]
[null,null,null,null,null,"Rate 3 units","%",null,null,0.60683298358343041,0.60683298358343041,0.60683298358343041,0.60683298358343041,0.60683298358343041,0.34783515419041816,0.24889531348591729,0.60683298358343041,0,0,0,0,0,0,0,0]
[null,null,null,null,null,"MPANs","%",null,null,{"$f":"IF(J$39, J46, J$35)","v":0.60683298358343041},0.60683298358343041,0.60683298358343041,0.60683298358343041,0.60683298358343041,0.34783515419041816,0.24889531348591729,0.60683298358343041,1,1,1,1,1,1,1,1]
[null,null,null,null,null,"Import capacity","%",null,null,0.60683298358343041,0.60683298358343041,0.60683298358343041,0.60683298358343041,0.60683298358343041,0.34783515419041816,0.24889531348591729,0.60683298358343041,0,0,0,0,0,0,0,0]
[null,null,null,null,null,"Exceeded capacity","%",null,null,0.60683298358343041,0.60683298358343041,0.60683298358343041,0.60683298358343041,0.60683298358343041,0.34783515419041816,0.24889531348591729,0.60683298358343041,0,0,0,0,0,0,0,0]
[null,null,null,null,null,"Reactive power units","%",null,null,0.60683298358343041,0.60683298358343041,0.60683298358343041,0.60683298358343041,0.60683298358343041,0.34783515419041816,0.24889531348591729,0.60683298358343041,0,0,0,0,0,0,0,0]
[]
[null,null,{"$f":"INDEX('Version control'!$H$29:$H$55,MATCH($A$1,'Version control'!$F$29:$F$55,0),1)&\"-D: No residual volume discounting\"","v":"Section 507-D: No residual volume discounting"}]
[]
[null,null,null,null,"Discounted LDNO LV volume forecast - No residual",null,null,null,">"]
[null,null,null,null,null,"Rate 1 units","MWh",null,null,null,{"$f":"(1 - K315) * K105","v":0.56914130757006698},0,0,0,0,0,null,{"$f":"(1 - R315) * R105","v":175.78179287348217},0,0,0,0,0,0,0]
[null,null,null,null,null,"Rate 2 units","MWh",null,null,null,10.583804811550847,0,0,0,0,0,null,1148.2303713782283,0,0,0,0,0,0,0]
[null,null,null,null,null,"Rate 3 units","MWh",null,null,null,50.130047868253762,0,0,0,0,0,null,507.5761148805301,0,0,0,0,0,0,0]
[null,null,null,null,null,"MPANs","MPANs",null,null,null,24.7631209279191,0,0,0,0,0,null,0,0,0,0,0,0,0,0]
[null,null,null,null,null,"Import capacity","kVA",null,null,null,0,0,0,0,0,0,null,0,0,0,0,0,0,0,0]
[null,null,null,null,null,"Exceeded capacity","kVA",null,null,null,0,0,0,0,0,0,null,0,0,0,0,0,0,0,0]
[null,null,null,null,null,"Reactive power units","MVArh",null,null,null,0,0,0,0,0,0,null,0,0,0,0,0,0,0,0]
[]
[null,null,null,null,"Discounted LDNO HV volume forecast - No residual",null,null,null,">"]
[null,null,null,null,null,"Rate 1 units","MWh",null,null,null,{"$f":"(1 - K324) * K152","v":0},0,0,0,0,0,null,{"$f":"(1 - R324) * R152","v":905.15075417043056},0,1.3919999999999999,0,0,0,0,0]
[null,null,null,null,null,"Rate 2 units","MWh",null,null,null,2.3541221157394534,0,0,0,0,0,null,5617.9084552036666,0,9.7500000000000018,0,0,0,0,0]
[null,null,null,null,null,"Rate 3 units","MWh",null,null,null,39.447626277174187,0,0,0,0,0,null,2475.496018252958,0,11.099999999999998,0,0,0,0,0]
[null,null,null,null,null,"MPANs","MPANs",null,null,null,12.974511541746796,0,0,0,0,0,null,0,0,0,0,0,0,0,0]
[null,null,null,null,null,"Import capacity","kVA",null,null,null,0,0,0,0,0,0,null,0,0,0,0,0,0,0,0]
[null,null,null,null,null,"Exceeded capacity","kVA",null,null,null,0,0,0,0,0,0,null,0,0,0,0,0,0,0,0]
[null,null,null,null,null,"Reactive power units","MVArh",null,null,null,0,0,0,0,0,0,null,0,0,2.5190000000000001,0,0,0,0,0]
[]
[null,null,null,null,"Total volume after discounting, No residual",null,null,null,">"]
[null,null,null,null,null,"Rate 1 units","MWh",null,null,null,{"$f":"K58+K335+K344","v":451.5290967967498},20.158836784220245,341.90600000000001,37.80228458951715,0.19494712650074275,1903.1550949912194,null,{"$f":"R58+R335+R344","v":8003.0200145111739},14.658926785947987,5980.8440000000001,0,76.418999999999997,0,110295.99099999999,0]
[null,null,null,null,null,"Rate 2 units","MWh",null,null,null,11178.916329571792,107.43939606428286,6616.54,121.98743699318861,0.69443852027130226,8236.6957918683675,null,48858.348150675512,69.692749320236075,30749.954999999994,0,447.91699999999997,0,353394.92799999996,0]
[null,null,null,null,null,"Rate 3 units","MWh",null,null,null,132183.03831601172,86.347856530068981,27874.395,124.41409226933219,0.985404380720172,8356.9822485519762,null,22200.103733723437,63.286158755382779,29476.701999999994,0,427.12099999999998,0,394088.42299999995,0]
[null,null,null,null,null,"MPANs","MPANs",null,null,null,65894.737632469667,65,4053,32,2,164,null,29908.231691690049,7,661,0,15,0,272,0]
[null,null,null,null,null,"Import capacity","kVA",null,null,null,0,0,0,1328,108,22294,null,0,0,0,0,0,0,0,0]
[null,null,null,null,null,"Exceeded capacity","kVA",null,null,null,0,0,0,57.083333333333336,21,1102.1666666666667,null,0,0,0,0,0,0,0,0]
[null,null,null,null,null,"Reactive power units","MVArh",null,null,null,0,0,0,105.63200000000001,5.5339999999999998,1721.625,null,0,0,8240.4250000000011,0,374.73599999999999,0,18493.092000000001,0]
[]
[null,null,{"$f":"INDEX('Version control'!$H$29:$H$55,MATCH($A$1,'Version control'!$F$29:$F$55,0),1)&\"-E: Residual band 1 volume discounting\"","v":"Section 507-E: Residual band 1 volume discounting"}]
[]
[null,null,null,null,"Discounted LDNO LV volume forecast - Residual band 1",null,null,null,">"]
[null,null,null,null,null,"Rate 1 units","MWh",null,null,{"$f":"(1 - J315) * J114","v":12962.707989520766},null,{"$f":"(1 - L315) * L114","v":180.38628373754034},null,{"$f":"(1 - N315) * N114","v":253.34001462091518},0,0,0.13263668031553028]
[null,null,null,null,null,"Rate 2 units","MWh",null,null,46976.057889463686,null,970.77630298516851,null,1265.7355193455055,0,0,1.8236059978560173]
[null,null,null,null,null,"Rate 3 units","MWh",null,null,44545.065226287428,null,702.3709949438371,null,2603.3058326101082,0,0,2.2754450197791396]
[null,null,null,null,null,"MPANs","MPANs",null,null,39630.657141618045,null,624.51383023093535,null,24.7631209279191,0,0,0]
[null,null,null,null,null,"Import capacity","kVA",null,null,0,null,0,null,1409.0819786545187,0,0,0]
[null,null,null,null,null,"Exceeded capacity","kVA",null,null,0,null,0,null,862.48138256264576,0,0,0]
[null,null,null,null,null,"Reactive power units","MVArh",null,null,0,null,0,null,205.0458890258808,0,0,0]
[]
[null,null,null,null,"Discounted LDNO HV volume forecast - Residual band 1",null,null,null,">"]
[null,null,null,null,null,"Rate 1 units","MWh",null,null,{"$f":"(1 - J324) * J161","v":14810.131464799619},null,{"$f":"(1 - L324) * L161","v":164.06173972152686},null,{"$f":"(1 - N324) * N161","v":507.5058822957543},0,767.43595571295839,0.24125605759544072]
[null,null,null,null,null,"Rate 2 units","MWh",null,null,52746.506004120165,null,887.00245105353054,null,2206.0392912615021,0,3355.5646936297835,4.0621315345279205]
[null,null,null,null,null,"Rate 3 units","MWh",null,null,51475.480718854888,null,649.52295125464821,null,2643.1576621092472,0,3769.6810048065176,4.2964928808346547]
[null,null,null,null,null,"MPANs","MPANs",null,null,43332.509547335801,null,427.37254684481115,null,45.214206887905505,0,8.2621515516549096,0]
[null,null,null,null,null,"Import capacity","kVA",null,null,0,null,0,null,2665.6723713043421,0,2555.2581435209095,0]
[null,null,null,null,null,"Exceeded capacity","kVA",null,null,0,null,0,null,632.86784075853825,0,13.269516128415463,0]
[null,null,null,null,null,"Reactive power units","MVArh",null,null,0,null,0,null,241.04398247235841,0,727.435875632651,0]
[]
[null,null,null,null,"Total volume after discounting, Residual band 1",null,null,null,">"]
[null,null,null,null,null,"Rate 1 units","MWh",null,null,{"$f":"J67+J364+J373","v":707229.33820484916},null,{"$f":"L67+L364+L373","v":16072.458534945301},null,{"$f":"N67+N364+N373","v":46119.128837468968},130.896811640133,15889.32813937786,9988.9167123288153]
[null,null,null,null,null,"Rate 2 units","MWh",null,null,2489637.9882059051,null,85682.454192132747,null,221036.104393969,615.46165676966552,76854.081883414823,61153.198525766631]
[null,null,null,null,null,"Rate 3 units","MWh",null,null,2429500.6428217776,null,68720.860205814024,null,197285.26401461425,627.69386154293602,79727.77145733466,136408.95488193643]
[null,null,null,null,null,"MPANs","MPANs",null,null,1943630.1666889538,null,43925.886377075745,null,4714.9773278158245,12,362.26215155165494,565]
[null,null,null,null,null,"Import capacity","kVA",null,null,0,null,0,null,263410.75434995885,701,77383.258143520914,0]
[null,null,null,null,null,"Exceeded capacity","kVA",null,null,0,null,0,null,14813.01588998785,289,3998.2695161284155,0]
[null,null,null,null,null,"Reactive power units","MVArh",null,null,0,null,0,null,46411.881871498241,349.89299999999997,23165.46487563265,0]
[]
[null,null,{"$f":"INDEX('Version control'!$H$29:$H$55,MATCH($A$1,'Version control'!$F$29:$F$55,0),1)&\"-F: Residual band 2 volume discounting\"","v":"Section 507-F: Residual band 2 volume discounting"}]
[]
[null,null,null,null,"Discounted LDNO LV volume forecast - Residual band 2",null,null,null,">"]
[null,null,null,null,null,"Rate 1 units","MWh",null,null,null,null,{"$f":"(1 - L315) * L123","v":228.04133055480844},null,{"$f":"(1 - N315) * N123","v":466.53840623911424},0,0]
[null,null,null,null,null,"Rate 2 units","MWh",null,null,null,null,1228.9655633365901,null,2085.2498672054153,0,0]
[null,null,null,null,null,"Rate 3 units","MWh",null,null,null,null,884.73025518021382,null,1606.5600163334034,0,0]
[null,null,null,null,null,"MPANs","MPANs",null,null,null,null,341.85186451712713,null,48.318284737403125,0,0]
[null,null,null,null,null,"Import capacity","kVA",null,null,null,null,0,null,5635.1199574996399,0,0]
[null,null,null,null,null,"Exceeded capacity","kVA",null,null,null,null,0,null,15.50211635325017,0,0]
[null,null,null,null,null,"Reactive power units","MVArh",null,null,null,null,0,null,358.22990278914443,0,0]
[]
[null,null,null,null,"Discounted LDNO HV volume forecast - Residual band 2",null,null,null,">"]
[null,null,null,null,null,"Rate 1 units","MWh",null,null,null,null,{"$f":"(1 - L324) * L170","v":196.55917121270099},null,{"$f":"(1 - N324) * N170","v":1143.0922108614689},85.828154532770014,1212.3077504883845]
[null,null,null,null,null,"Rate 2 units","MWh",null,null,null,null,1051.8129780923844,null,4894.3112958364836,349.0184083670681,5154.1231718267663]
[null,null,null,null,null,"Rate 3 units","MWh",null,null,null,null,756.16479672880541,null,4230.6835093259078,364.08602496465267,5425.75267065772]
[null,null,null,null,null,"MPANs","MPANs",null,null,null,null,283.86658585276325,null,68.804227872899673,2.6086593832383276,8.2621515516549096]
[null,null,null,null,null,"Import capacity","kVA",null,null,null,null,0,null,7961.2389154191178,291.51768607688308,5873.6386485401263]
[null,null,null,null,null,"Exceeded capacity","kVA",null,null,null,null,0,null,4.1937815084434087,0,255.62596164362611]
[null,null,null,null,null,"Reactive power units","MVArh",null,null,null,null,0,null,595.27883817934742,12.723736141744943,199.64245395213223]
[]
[null,null,null,null,"Total volume after discounting, Residual band 2",null,null,null,">"]
[null,null,null,null,null,"Rate 1 units","MWh",null,null,null,null,{"$f":"L76+L393+L402","v":27885.052447321599},null,{"$f":"N76+N393+N402","v":66647.700862582875},769.04800111136535,59185.40746157791]
[null,null,null,null,null,"Rate 2 units","MWh",null,null,null,null,148635.17409822164,null,310023.28839393798,3244.2674135601346,282682.48347942217]
[null,null,null,null,null,"Rate 3 units","MWh",null,null,null,null,119264.30706850049,null,275161.18063057243,3177.0382461883614,285605.40687436756]
[null,null,null,null,null,"MPANs","MPANs",null,null,null,null,36292.718450369888,null,3982.1225126103027,32.608659383238326,413.26215155165494]
[null,null,null,null,null,"Import capacity","kVA",null,null,null,null,0,null,448821.3588729187,5007.5176860768834,287691.63864854013]
[null,null,null,null,null,"Exceeded capacity","kVA",null,null,null,null,0,null,6942.945897861694,267.41666666666669,2121.7092949769594]
[null,null,null,null,null,"Reactive power units","MVArh",null,null,null,null,0,null,54696.493740968494,607.71673614174495,30902.906453952131]
[]
[null,null,{"$f":"INDEX('Version control'!$H$29:$H$55,MATCH($A$1,'Version control'!$F$29:$F$55,0),1)&\"-G: Residual band 3 volume discounting\"","v":"Section 507-G: Residual band 3 volume discounting"}]
[]
[null,null,null,null,"Discounted LDNO LV volume forecast - Residual band 3",null,null,null,">"]
[null,null,null,null,null,"Rate 1 units","MWh",null,null,null,null,{"$f":"(1 - L315) * L132","v":116.84176439577701},null,{"$f":"(1 - N315) * N132","v":853.62826484163497},0,0]
[null,null,null,null,null,"Rate 2 units","MWh",null,null,null,null,626.81389212580916,null,3634.6100940881215,0,0]
[null,null,null,null,null,"Rate 3 units","MWh",null,null,null,null,451.06252371998431,null,3246.0036453234061,0,0]
[null,null,null,null,null,"MPANs","MPANs",null,null,null,null,144.35087565299185,null,47.11032761896805,0,0]
[null,null,null,null,null,"Import capacity","kVA",null,null,null,null,0,null,8879.0887990570427,0,0]
[null,null,null,null,null,"Exceeded capacity","kVA",null,null,null,null,0,null,16.508747285279401,0,0]
[null,null,null,null,null,"Reactive power units","MVArh",null,null,null,null,0,null,552.01961252088438,0,0]
[]
[null,null,null,null,"Discounted LDNO HV volume forecast - Residual band 3",null,null,null,">"]
[null,null,null,null,null,"Rate 1 units","MWh",null,null,null,null,{"$f":"(1 - L324) * L179","v":209.3995027806078},null,{"$f":"(1 - N324) * N179","v":1279.7464502584251},85.396421404844077,832.60330052429333]
[null,null,null,null,null,"Rate 2 units","MWh",null,null,null,null,1125.8418829944837,null,5613.3599049811401,373.40806927065489,3748.6057584076193]
[null,null,null,null,null,"Rate 3 units","MWh",null,null,null,null,844.85289336037874,null,5353.1926405439362,338.87333202565418,5079.3709801108243]
[null,null,null,null,null,"MPANs","MPANs",null,null,null,null,176.92515738745632,null,46.000540920738644,1.9564945374287457,4.5066281190844961]
[null,null,null,null,null,"Import capacity","kVA",null,null,null,null,0,null,8670.5122130346099,437.60261153822944,6759.942178626744]
[null,null,null,null,null,"Exceeded capacity","kVA",null,null,null,null,0,null,1.8347794099439916,0,0]
[null,null,null,null,null,"Reactive power units","MVArh",null,null,null,null,0,null,490.98483913578315,53.649688875679445,114.0522422284174]
[]
[null,null,null,null,"Total volume after discounting, Residual band 3",null,null,null,">"]
[null,null,null,null,null,"Rate 1 units","MWh",null,null,null,null,{"$f":"L85+L422+L431","v":30710.652210384975},null,{"$f":"N85+N422+N431","v":37263.390046806737},2190.7371279685294,52564.516382291069]
[null,null,null,null,null,"Rate 2 units","MWh",null,null,null,null,163690.70787853637,null,180414.88735479928,9760.5952136097603,244549.80097135372]
[null,null,null,null,null,"Rate 3 units","MWh",null,null,null,null,131443.74016302673,null,165945.55145317773,10991.314851778454,257111.67941348912]
[null,null,null,null,null,"MPANs","MPANs",null,null,null,null,20106.276033040449,null,1417.1108685397066,51.956494537428746,180.5066281190845]
[null,null,null,null,null,"Import capacity","kVA",null,null,null,null,0,null,261885.60101209165,10036.60261153823,249684.94217862675]
[null,null,null,null,null,"Exceeded capacity","kVA",null,null,null,null,0,null,1247.676860028557,97.166666666666671,1656.4166666666667]
[null,null,null,null,null,"Reactive power units","MVArh",null,null,null,null,0,null,28722.87945165667,2096.2616888756797,27918.264242228415]
[]
[null,null,{"$f":"INDEX('Version control'!$H$29:$H$55,MATCH($A$1,'Version control'!$F$29:$F$55,0),1)&\"-H: Residual band 4 volume discounting\"","v":"Section 507-H: Residual band 4 volume discounting"}]
[]
[null,null,null,null,"Discounted LDNO LV volume forecast - Residual band 4",null,null,null,">"]
[null,null,null,null,null,"Rate 1 units","MWh",null,null,null,null,{"$f":"(1 - L315) * L141","v":240.31568569247545},null,{"$f":"(1 - N315) * N141","v":401.05867472010397},0,0]
[null,null,null,null,null,"Rate 2 units","MWh",null,null,null,null,1273.8612733878952,null,1739.8997588733005,0,0]
[null,null,null,null,null,"Rate 3 units","MWh",null,null,null,null,963.45289877285848,null,1721.3328539843942,0,0]
[null,null,null,null,null,"MPANs","MPANs",null,null,null,null,109.32011921837457,null,16.307421098873554,0,0]
[null,null,null,null,null,"Import capacity","kVA",null,null,null,null,0,null,6782.0752414537465,0,0]
[null,null,null,null,null,"Exceeded capacity","kVA",null,null,null,null,0,null,0,0,0]
[null,null,null,null,null,"Reactive power units","MVArh",null,null,null,null,0,null,220.41451001144895,0,0]
[]
[null,null,null,null,"Discounted LDNO HV volume forecast - Residual band 4",null,null,null,">"]
[null,null,null,null,null,"Rate 1 units","MWh",null,null,null,null,{"$f":"(1 - L324) * L188","v":460.72907077249869},null,{"$f":"(1 - N324) * N188","v":3980.3021719273106},3189.347614112025,1582.3867938947976]
[null,null,null,null,null,"Rate 2 units","MWh",null,null,null,null,2455.2090474834245,null,18162.039721420464,14437.537966443182,7944.7910439855468]
[null,null,null,null,null,"Rate 3 units","MWh",null,null,null,null,1858.2916859240802,null,16632.362896331269,13775.390433338795,10959.632118671945]
[null,null,null,null,null,"MPANs","MPANs",null,null,null,null,160.80530971437696,null,90.03524675939444,38.477725902765329,7.5110468651408269]
[null,null,null,null,null,"Import capacity","kVA",null,null,null,null,0,null,50348.181788273068,30720.225061860354,20805.599816440092]
[null,null,null,null,null,"Exceeded capacity","kVA",null,null,null,null,0,null,0,0,0]
[null,null,null,null,null,"Reactive power units","MVArh",null,null,null,null,0,null,2834.090369510744,1412.6490551893689,170.82223664452479]
[]
[null,null,null,null,"Total volume after discounting, Residual band 4",null,null,null,">"]
[null,null,null,null,null,"Rate 1 units","MWh",null,null,null,null,{"$f":"L94+L451+L460","v":96743.994400456417},null,{"$f":"N94+N451+N460","v":88609.831277736303},24098.487986821114,153437.48655504125]
[null,null,null,null,null,"Rate 2 units","MWh",null,null,null,null,515603.66985431401,null,436043.58747740969,112870.7803359262,704459.1632376198]
[null,null,null,null,null,"Rate 3 units","MWh",null,null,null,null,414209.70934443019,null,393966.09898708784,113048.17211815417,820248.27436445572]
[null,null,null,null,null,"MPANs","MPANs",null,null,null,null,22123.125428932752,null,1724.342667858268,256.47772590276531,207.51104686514083]
[null,null,null,null,null,"Import capacity","kVA",null,null,null,null,0,null,702573.25702972675,133367.22506186034,725579.59981644014]
[null,null,null,null,null,"Exceeded capacity","kVA",null,null,null,null,0,null,2167.9166666666665,338.33333333333331,3867.416666666667]
[null,null,null,null,null,"Reactive power units","MVArh",null,null,null,null,0,null,75755.041879522192,17849.905055189371,116587.07623664453]
[]
[null,null,{"$f":"INDEX('Version control'!$H$29:$H$55,MATCH($A$1,'Version control'!$F$29:$F$55,0),1)&\"-I: Discounted volumes by residual band\"","v":"Section 507-I: Discounted volumes by residual band"}]
[]
[null,null,null,"All the way volume after discounting"]
[null,null,null,null,"Rate 1 units"]
[null,null,null,null,null,"No residual","MWh",null,null,{"$f":"J353","v":0},451.5290967967498,20.158836784220245,341.90600000000001,37.80228458951715,0.19494712650074275,1903.1550949912194,0,8003.0200145111739,14.658926785947987,5980.8440000000001,0,76.418999999999997,0,110295.99099999999,0]
[null,null,null,null,null,"Residual band 1","MWh",null,null,{"$f":"J382","v":707229.33820484916},0,16072.458534945301,0,46119.128837468968,130.896811640133,15889.32813937786,9988.9167123288153,0,0,0,0,0,0,0,0]
[null,null,null,null,null,"Residual band 2","MWh",null,null,{"$f":"J411","v":0},0,27885.052447321599,0,66647.700862582875,769.04800111136535,59185.40746157791,0,0,0,0,0,0,0,0,0]
[null,null,null,null,null,"Residual band 3 ","MWh",null,null,{"$f":"J440","v":0},0,30710.652210384975,0,37263.390046806737,2190.7371279685294,52564.516382291069,0,0,0,0,0,0,0,0,0]
[null,null,null,null,null,"Residual band 4","MWh",null,null,{"$f":"J469","v":0},0,96743.994400456417,0,88609.831277736303,24098.487986821114,153437.48655504125,0,0,0,0,0,0,0,0,0]
[null,null,null,null,"Rate 2 units"]
[null,null,null,null,null,"No residual","MWh",null,null,{"$f":"J354","v":0},11178.916329571792,107.43939606428286,6616.54,121.98743699318861,0.69443852027130226,8236.6957918683675,0,48858.348150675512,69.692749320236075,30749.954999999994,0,447.91699999999997,0,353394.92799999996,0]
[null,null,null,null,null,"Residual band 1","MWh",null,null,{"$f":"J383","v":2489637.9882059051},0,85682.454192132747,0,221036.104393969,615.46165676966552,76854.081883414823,61153.198525766631,0,0,0,0,0,0,0,0]
[null,null,null,null,null,"Residual band 2","MWh",null,null,{"$f":"J412","v":0},0,148635.17409822164,0,310023.28839393798,3244.2674135601346,282682.48347942217,0,0,0,0,0,0,0,0,0]
[null,null,null,null,null,"Residual band 3 ","MWh",null,null,{"$f":"J441","v":0},0,163690.70787853637,0,180414.88735479928,9760.5952136097603,244549.80097135372,0,0,0,0,0,0,0,0,0]
[null,null,null,null,null,"Residual band 4","MWh",null,null,{"$f":"J470","v":0},0,515603.66985431401,0,436043.58747740969,112870.7803359262,704459.1632376198,0,0,0,0,0,0,0,0,0]
[null,null,null,null,"Rate 3 units"]
[null,null,null,null,null,"No residual","MWh",null,null,{"$f":"J355","v":0},132183.03831601172,86.347856530068981,27874.395,124.41409226933219,0.985404380720172,8356.9822485519762,0,22200.103733723437,63.286158755382779,29476.701999999994,0,427.12099999999998,0,394088.42299999995,0]
[null,null,null,null,null,"Residual band 1","MWh",null,null,{"$f":"J384","v":2429500.6428217776},0,68720.860205814024,0,197285.26401461425,627.69386154293602,79727.77145733466,136408.95488193643,0,0,0,0,0,0,0,0]
[null,null,null,null,null,"Residual band 2","MWh",null,null,{"$f":"J413","v":0},0,119264.30706850049,0,275161.18063057243,3177.0382461883614,285605.40687436756,0,0,0,0,0,0,0,0,0]
[null,null,null,null,null,"Residual band 3 ","MWh",null,null,{"$f":"J442","v":0},0,131443.74016302673,0,165945.55145317773,10991.314851778454,257111.67941348912,0,0,0,0,0,0,0,0,0]
[null,null,null,null,null,"Residual band 4","MWh",null,null,{"$f":"J471","v":0},0,414209.70934443019,0,393966.09898708784,113048.17211815417,820248.27436445572,0,0,0,0,0,0,0,0,0]
[null,null,null,null,"MPANs"]
[null,null,null,null,null,"No residual","MPANs",null,null,{"$f":"J356","v":0},65894.737632469667,65,4053,32,2,164,0,29908.231691690049,7,661,0,15,0,272,0]
[null,null,null,null,null,"Residual band 1","MPANs",null,null,{"$f":"J385","v":1943630.1666889538},0,43925.886377075745,0,4714.9773278158245,12,362.26215155165494,565,0,0,0,0,0,0,0,0]
[null,null,null,null,null,"Residual band 2","MPANs",null,null,{"$f":"J414","v":0},0,36292.718450369888,0,3982.1225126103027,32.608659383238326,413.26215155165494,0,0,0,0,0,0,0,0,0]
[null,null,null,null,null,"Residual band 3 ","MPANs",null,null,{"$f":"J443","v":0},0,20106.276033040449,0,1417.1108685397066,51.956494537428746,180.5066281190845,0,0,0,0,0,0,0,0,0]
[null,null,null,null,null,"Residual band 4","MPANs",null,null,{"$f":"J472","v":0},0,22123.125428932752,0,1724.342667858268,256.47772590276531,207.51104686514083,0,0,0,0,0,0,0,0,0]
[null,null,null,null,"Import capacity"]
[null,null,null,null,null,"No residual","kVA",null,null,{"$f":"J357","v":0},0,0,0,1328,108,22294,0,0,0,0,0,0,0,0,0]
[null,null,null,null,null,"Residual band 1","kVA",null,null,{"$f":"J386","v":0},0,0,0,263410.75434995885,701,77383.258143520914,0,0,0,0,0,0,0,0,0]
[null,null,null,null,null,"Residual band 2","kVA",null,null,{"$f":"J415","v":0},0,0,0,448821.3588729187,5007.5176860768834,287691.63864854013,0,0,0,0,0,0,0,0,0]
[null,null,null,null,null,"Residual band 3 ","kVA",null,null,{"$f":"J444","v":0},0,0,0,261885.60101209165,10036.60261153823,249684.94217862675,0,0,0,0,0,0,0,0,0]
[null,null,null,null,null,"Residual band 4","kVA",null,null,{"$f":"J473","v":0},{"$f":"K473","v":0},0,0,702573.25702972675,133367.22506186034,725579.59981644014,0,0,0,0,0,0,0,0,0]
[null,null,null,null,"Exceeded capacity"]
[null,null,null,null,null,"No residual","kVA",null,null,{"$f":"J358","v":0},0,0,0,57.083333333333336,21,1102.1666666666667,0,0,0,0,0,0,0,0,0]
[null,null,null,null,null,"Residual band 1","kVA",null,null,{"$f":"J387","v":0},0,0,0,14813.01588998785,289,3998.2695161284155,0,0,0,0,0,0,0,0,0]
[null,null,null,null,null,"Residual band 2","kVA",null,null,{"$f":"J416","v":0},0,0,0,6942.945897861694,267.41666666666669,2121.7092949769594,0,0,0,0,0,0,0,0,0]
[null,null,null,null,null,"Residual band 3 ","kVA",null,null,{"$f":"J445","v":0},0,0,0,1247.676860028557,97.166666666666671,1656.4166666666667,0,0,0,0,0,0,0,0,0]
[null,null,null,null,null,"Residual band 4","kVA",null,null,{"$f":"J474","v":0},0,0,0,2167.9166666666665,338.33333333333331,3867.416666666667,0,0,0,0,0,0,0,0,0]
[null,null,null,null,"Reactive power units"]
[null,null,null,null,null,"No residual","MVArh",null,null,{"$f":"J359","v":0},0,0,0,105.63200000000001,5.5339999999999998,1721.625,0,0,0,8240.4250000000011,0,374.73599999999999,0,18493.092000000001,0]
[null,null,null,null,null,"Residual band 1","MVArh",null,null,{"$f":"J388","v":0},0,0,0,46411.881871498241,349.89299999999997,23165.46487563265,0,0,0,0,0,0,0,0,0]
[null,null,null,null,null,"Residual band 2","MVArh",null,null,{"$f":"J417","v":0},0,0,0,54696.493740968494,607.71673614174495,30902.906453952131,0,0,0,0,0,0,0,0,0]
[null,null,null,null,null,"Residual band 3 ","MVArh",null,null,{"$f":"J446","v":0},0,0,0,28722.87945165667,2096.2616888756797,27918.264242228415,0,0,0,0,0,0,0,0,0]
[null,null,null,null,null,"Residual band 4","MVArh",null,null,{"$f":"J475","v":0},0,0,0,75755.041879522192,17849.905055189371,116587.07623664453,0,0,0,0,0,0,0,0,0]
[]
[null,null,{"$f":"INDEX('Version control'!$H$29:$H$55,MATCH($A$1,'Version control'!$F$29:$F$55,0),1)&\"-J: Volumes by residual band\"","v":"Section 507-J: Volumes by residual band"}]
[]
[null,null,null,"All the way volumes"]
[null,null,null,null,"Rate 1 units"]
[null,null,null,null,null,"No residual","MWh",null,null,{"$f":"J58","v":0},{"$f":"K58","v":450.95995548917972},20.158836784220245,341.90600000000001,37.80228458951715,0.19494712650074275,1903.1550949912194,0,6922.0874674672614,14.658926785947987,5979.4520000000002,0,76.418999999999997,0,110295.99099999999,0]
[null,null,null,null,null,"Residual band 1","MWh",null,null,{"$f":"J67","v":679456.49875052879},{"$f":"K67","v":0},15728.010511486234,0,45358.282940552301,130.896811640133,15121.892183664901,9988.5428195909044,0,0,0,0,0,0,0,0]
[null,null,null,null,null,"Residual band 2","MWh",null,null,{"$f":"J76","v":0},{"$f":"K76","v":0},27460.451945554087,0,65038.070245482289,683.21984657859537,57973.099711089526,0,0,0,0,0,0,0,0,0]
[null,null,null,null,null,"Residual band 3 ","MWh",null,null,{"$f":"J85","v":0},{"$f":"K85","v":0},30384.41094320859,0,35130.015331706672,2105.3407065636852,51731.913081766776,0,0,0,0,0,0,0,0,0]
[null,null,null,null,null,"Residual band 4","MWh",null,null,{"$f":"J94","v":0},{"$f":"K94","v":0},96042.949643991436,0,84228.470431088892,20909.140372709087,151855.09976114644,0,0,0,0,0,0,0,0,0]
[null,null,null,null,"Rate 2 units"]
[null,null,null,null,null,"No residual","MWh",null,null,{"$f":"J59","v":0},{"$f":"K59","v":11165.978402644501},107.43939606428286,6616.54,121.98743699318861,0.69443852027130226,8236.6957918683675,0,42092.209324093616,69.692749320236075,30740.204999999994,0,447.91699999999997,0,353394.92799999996,0]
[null,null,null,null,null,"Residual band 1","MWh",null,null,{"$f":"J68","v":2389915.424312321},{"$f":"K68","v":0},83824.675438094055,0,217564.32958336201,615.46165676966552,73498.517189785038,61147.312788234245,0,0,0,0,0,0,0,0]
[null,null,null,null,null,"Residual band 2","MWh",null,null,{"$f":"J77","v":0},{"$f":"K77","v":0},146354.39555679268,0,303043.72723089613,2895.2490051930668,277528.3603075954,0,0,0,0,0,0,0,0,0]
[null,null,null,null,null,"Residual band 3 ","MWh",null,null,{"$f":"J86","v":0},{"$f":"K86","v":0},161938.05210341606,0,171166.91735573002,9387.1871443391046,240801.1952129461,0,0,0,0,0,0,0,0,0]
[null,null,null,null,null,"Residual band 4","MWh",null,null,{"$f":"J95","v":0},{"$f":"K95","v":0},511874.5995334427,0,416141.64799711597,98433.242369483021,696514.37219363428,0,0,0,0,0,0,0,0,0]
[null,null,null,null,"Rate 3 units"]
[null,null,null,null,null,"No residual","MWh",null,null,{"$f":"J60","v":0},{"$f":"K60","v":132093.46064186629},86.347856530068981,27874.395,124.41409226933219,0.985404380720172,8356.9822485519762,0,19217.031600589951,63.286158755382779,29465.601999999995,0,427.12099999999998,0,394088.42299999995,0]
[null,null,null,null,null,"Residual band 1","MWh",null,null,{"$f":"J69","v":2333480.0968766352},{"$f":"K69","v":0},67368.966259615539,0,192038.8005198949,627.69386154293602,75958.090452528137,136402.38294403584,0,0,0,0,0,0,0,0]
[null,null,null,null,null,"Residual band 2","MWh",null,null,{"$f":"J78","v":0},{"$f":"K78","v":0},117623.41201659148,0,269323.93710491312,2812.9522212237089,280179.65420370986,0,0,0,0,0,0,0,0,0]
[null,null,null,null,null,"Residual band 3 ","MWh",null,null,{"$f":"J87","v":0},{"$f":"K87","v":0},130147.82474594636,0,157346.35516731039,10652.4415197528,252032.30843337829,0,0,0,0,0,0,0,0,0]
[null,null,null,null,null,"Residual band 4","MWh",null,null,{"$f":"J96","v":0},{"$f":"K96","v":0},411387.96475973324,0,375612.40323677217,99272.781684815374,809288.64224578382,0,0,0,0,0,0,0,0,0]
[null,null,null,null,"MPANs"]
[null,null,null,null,null,"No residual","MPANs",null,null,{"$f":"J61","v":0},{"$f":"K61","v":65857},65,4053,32,2,164,0,29908.231691690049,7,661,0,15,0,272,0]
[null,null,null,null,null,"Residual band 1","MPANs",null,null,{"$f":"J70","v":1860667},{"$f":"K70","v":0},42874,0,4645,12,354,565,0,0,0,0,0,0,0,0]
[null,null,null,null,null,"Residual band 2","MPANs",null,null,{"$f":"J79","v":0},{"$f":"K79","v":0},35667,0,3865,30,405,0,0,0,0,0,0,0,0,0]
[null,null,null,null,null,"Residual band 3 ","MPANs",null,null,{"$f":"J88","v":0},{"$f":"K88","v":0},19785,0,1324,50,176,0,0,0,0,0,0,0,0,0]
[null,null,null,null,null,"Residual band 4","MPANs",null,null,{"$f":"J97","v":0},{"$f":"K97","v":0},21853,0,1618,218,200,0,0,0,0,0,0,0,0,0]
[null,null,null,null,"Import capacity"]
[null,null,null,null,null,"No residual","kVA",null,null,{"$f":"J62","v":0},{"$f":"K62","v":0},0,0,1328,108,22294,0,0,0,0,0,0,0,0,0]
[null,null,null,null,null,"Residual band 1","kVA",null,null,{"$f":"J71","v":0},{"$f":"K71","v":0},0,0,259336,701,74828,0,0,0,0,0,0,0,0,0]
[null,null,null,null,null,"Residual band 2","kVA",null,null,{"$f":"J80","v":0},{"$f":"K80","v":0},0,0,435225,4716,281818,0,0,0,0,0,0,0,0,0]
[null,null,null,null,null,"Residual band 3 ","kVA",null,null,{"$f":"J89","v":0},{"$f":"K89","v":0},0,0,244336,9599,242925,0,0,0,0,0,0,0,0,0]
[null,null,null,null,null,"Residual band 4","kVA",null,null,{"$f":"J98","v":0},{"$f":"K98","v":0},0,0,645443,102647,704774,0,0,0,0,0,0,0,0,0]
[null,null,null,null,"Exceeded capacity"]
[null,null,null,null,null,"No residual","kVA",null,null,{"$f":"J63","v":0},{"$f":"K63","v":0},0,0,57.083333333333336,21,1102.1666666666667,0,0,0,0,0,0,0,0,0]
[null,null,null,null,null,"Residual band 1","kVA",null,null,{"$f":"J72","v":0},{"$f":"K72","v":0},0,0,13317.666666666666,289,3985,0,0,0,0,0,0,0,0,0]
[null,null,null,null,null,"Residual band 2","kVA",null,null,{"$f":"J81","v":0},{"$f":"K81","v":0},0,0,6923.25,267.41666666666669,1866.0833333333333,0,0,0,0,0,0,0,0,0]
[null,null,null,null,null,"Residual band 3 ","kVA",null,null,{"$f":"J90","v":0},{"$f":"K90","v":0},0,0,1229.3333333333335,97.166666666666671,1656.4166666666667,0,0,0,0,0,0,0,0,0]
[null,null,null,null,null,"Residual band 4","kVA",null,null,{"$f":"J99","v":0},{"$f":"K99","v":0},0,0,2167.9166666666665,338.33333333333331,3867.416666666667,0,0,0,0,0,0,0,0,0]
[null,null,null,null,"Reactive power units"]
[null,null,null,null,null,"No residual","MVArh",null,null,{"$f":"J64","v":0},{"$f":"K64","v":0},0,0,105.63200000000001,5.5339999999999998,1721.625,0,0,0,8237.9060000000009,0,374.73599999999999,0,18493.092000000001,0]
[null,null,null,null,null,"Residual band 1","MVArh",null,null,{"$f":"J73","v":0},{"$f":"K73","v":0},0,0,45965.792000000001,349.89299999999997,22438.028999999999,0,0,0,0,0,0,0,0,0]
[null,null,null,null,null,"Residual band 2","MVArh",null,null,{"$f":"J82","v":0},{"$f":"K82","v":0},0,0,53742.985000000001,594.99300000000005,30703.263999999999,0,0,0,0,0,0,0,0,0]
[null,null,null,null,null,"Residual band 3 ","MVArh",null,null,{"$f":"J91","v":0},{"$f":"K91","v":0},0,0,27679.875,2042.6120000000001,27804.212,0,0,0,0,0,0,0,0,0]
[null,null,null,null,null,"Residual band 4","MVArh",null,null,{"$f":"J100","v":0},{"$f":"K100","v":0},0,0,72700.536999999997,16437.256000000001,116416.254,0,0,0,0,0,0,0,0,0]
[]
[null,null,null,"LDNO LV volumes"]
[null,null,null,null,"Rate 1 units"]
[null,null,null,null,null,"No residual","MWh",null,null,{"$f":"J105","v":0},{"$f":"K105","v":0.94232038353711733},0,0,0,0,0,0,175.78179287348217,0,0,0,0,0,0,0]
[null,null,null,null,null,"Residual band 1","MWh",null,null,{"$f":"J114","v":21462.198933541778},{"$f":"K114","v":0},298.66338959322127,0,419.452,0,0,0.21960494837327099,0,0,0,0,0,0,0,0]
[null,null,null,null,null,"Residual band 2","MWh",null,null,{"$f":"J123","v":0},{"$f":"K123","v":0},377.56527458563846,0,772.44199999999989,0,0,0,0,0,0,0,0,0,0,0]
[null,null,null,null,null,"Residual band 3 ","MWh",null,null,{"$f":"J132","v":0},{"$f":"K132","v":0},193.45349700351417,0,1413.3419999999999,0,0,0,0,0,0,0,0,0,0,0]
[null,null,null,null,null,"Residual band 4","MWh",null,null,{"$f":"J141","v":0},{"$f":"K141","v":0},397.88777602272353,0,664.02799999999991,0,0,0,0,0,0,0,0,0,0,0]
[null,null,null,null,"Rate 2 units"]
[null,null,null,null,null,"No residual","MWh",null,null,{"$f":"J106","v":0},{"$f":"K106","v":17.523477696397507},0,0,0,0,0,0,1148.2303713782283,0,0,0,0,0,0,0]
[null,null,null,null,null,"Residual band 1","MWh",null,null,{"$f":"J115","v":77777.691231824007},{"$f":"K115","v":0},1607.3025907456383,0,2095.663,0,0,3.0193224080975973,0,0,0,0,0,0,0,0]
[null,null,null,null,null,"Residual band 2","MWh",null,null,{"$f":"J124","v":0},{"$f":"K124","v":0},2034.7834282871377,0,3452.5229999999992,0,0,0,0,0,0,0,0,0,0,0]
[null,null,null,null,null,"Residual band 3 ","MWh",null,null,{"$f":"J133","v":0},{"$f":"K133","v":0},1037.8081846777036,0,6017.7799999999988,0,0,0,0,0,0,0,0,0,0,0]
[null,null,null,null,null,"Residual band 4","MWh",null,null,{"$f":"J142","v":0},{"$f":"K142","v":0},2109.1167127492017,0,2880.7309999999998,0,0,0,0,0,0,0,0,0,0,0]
[null,null,null,null,"Rate 3 units"]
[null,null,null,null,null,"No residual","MWh",null,null,{"$f":"J107","v":0},{"$f":"K107","v":82.999714316345589},0,0,0,0,0,0,507.5761148805301,0,0,0,0,0,0,0]
[null,null,null,null,null,"Residual band 1","MWh",null,null,{"$f":"J116","v":73752.726063647118},{"$f":"K116","v":0},1162.9071665288359,0,4310.2619999999997,0,0,3.7674268151621209,0,0,0,0,0,0,0,0]
[null,null,null,null,null,"Residual band 2","MWh",null,null,{"$f":"J125","v":0},{"$f":"K125","v":0},1464.8371894631355,0,2659.9619999999995,0,0,0,0,0,0,0,0,0,0,0]
[null,null,null,null,null,"Residual band 3 ","MWh",null,null,{"$f":"J134","v":0},{"$f":"K134","v":0},746.81876837538869,0,5374.3689999999997,0,0,0,0,0,0,0,0,0,0,0]
[null,null,null,null,null,"Residual band 4","MWh",null,null,{"$f":"J143","v":0},{"$f":"K143","v":0},1595.177318911821,0,2849.9900000000002,0,0,0,0,0,0,0,0,0,0,0]
[null,null,null,null,"MPANs"]
[null,null,null,null,null,"No residual","MPANs",null,null,{"$f":"J108","v":0},{"$f":"K108","v":41},0,0,0,0,0,0,550,0,0,0,0,0,0,0]
[null,null,null,null,null,"Residual band 1","MPANs",null,null,{"$f":"J117","v":65616},{"$f":"K117","v":0},1034,0,41,0,0,0,0,0,0,0,0,0,0,0]
[null,null,null,null,null,"Residual band 2","MPANs",null,null,{"$f":"J126","v":0},{"$f":"K126","v":0},566,0,80,0,0,0,0,0,0,0,0,0,0,0]
[null,null,null,null,null,"Residual band 3 ","MPANs",null,null,{"$f":"J135","v":0},{"$f":"K135","v":0},239,0,78,0,0,0,0,0,0,0,0,0,0,0]
[null,null,null,null,null,"Residual band 4","MPANs",null,null,{"$f":"J144","v":0},{"$f":"K144","v":0},181,0,27,0,0,0,0,0,0,0,0,0,0,0]
[null,null,null,null,"Import capacity"]
[null,null,null,null,null,"No residual","kVA",null,null,{"$f":"J109","v":0},{"$f":"K109","v":0},0,0,0,0,0,0,0,0,0,0,0,0,0,0]
[null,null,null,null,null,"Residual band 1","kVA",null,null,{"$f":"J118","v":0},{"$f":"K118","v":0},0,0,2333,0,0,0,0,0,0,0,0,0,0,0]
[null,null,null,null,null,"Residual band 2","kVA",null,null,{"$f":"J127","v":0},{"$f":"K127","v":0},0,0,9330,0,0,0,0,0,0,0,0,0,0,0]
[null,null,null,null,null,"Residual band 3 ","kVA",null,null,{"$f":"J136","v":0},{"$f":"K136","v":0},0,0,14701,0,0,0,0,0,0,0,0,0,0,0]
[null,null,null,null,null,"Residual band 4","kVA",null,null,{"$f":"J145","v":0},{"$f":"K145","v":0},0,0,11229,0,0,0,0,0,0,0,0,0,0,0]
[null,null,null,null,"Exceeded capacity"]
[null,null,null,null,null,"No residual","kVA",null,null,{"$f":"J110","v":0},{"$f":"K110","v":0},0,0,0,0,0,0,0,0,0,0,0,0,0,0]
[null,null,null,null,null,"Residual band 1","kVA",null,null,{"$f":"J119","v":0},{"$f":"K119","v":0},0,0,1428,0,0,0,0,0,0,0,0,0,0,0]
[null,null,null,null,null,"Residual band 2","kVA",null,null,{"$f":"J128","v":0},{"$f":"K128","v":0},0,0,25.666666666666668,0,0,0,0,0,0,0,0,0,0,0]
[null,null,null,null,null,"Residual band 3 ","kVA",null,null,{"$f":"J137","v":0},{"$f":"K137","v":0},0,0,27.333333333333332,0,0,0,0,0,0,0,0,0,0,0]
[null,null,null,null,null,"Residual band 4","kVA",null,null,{"$f":"J146","v":0},{"$f":"K146","v":0},0,0,0,0,0,0,0,0,0,0,0,0,0,0]
[null,null,null,null,"Reactive power units"]
[null,null,null,null,null,"No residual","MVArh",null,null,{"$f":"J111","v":0},{"$f":"K111","v":0},0,0,0,0,0,0,0,0,0,0,0,0,0,0]
[null,null,null,null,null,"Residual band 1","MVArh",null,null,{"$f":"J120","v":0},{"$f":"K120","v":0},0,0,339.49200000000002,0,0,0,0,0,0,0,0,0,0,0]
[null,null,null,null,null,"Residual band 2","MVArh",null,null,{"$f":"J129","v":0},{"$f":"K129","v":0},0,0,593.11692000000005,0,0,0,0,0,0,0,0,0,0,0]
[null,null,null,null,null,"Residual band 3 ","MVArh",null,null,{"$f":"J138","v":0},{"$f":"K138","v":0},0,0,913.97219999999993,0,0,0,0,0,0,0,0,0,0,0]
[null,null,null,null,null,"Residual band 4","MVArh",null,null,{"$f":"J147","v":0},{"$f":"K147","v":0},0,0,364.93763999999999,0,0,0,0,0,0,0,0,0,0,0]
[]
[null,null,null,"LDNO HV volumes"]
[null,null,null,null,"Rate 1 units"]
[null,null,null,null,null,"No residual","MWh",null,null,{"$f":"J152","v":0},{"$f":"K152","v":0},0,0,0,0,0,0,905.15075417043056,0,1.3919999999999999,0,0,0,0,0]
[null,null,null,null,null,"Residual band 1","MWh",null,null,{"$f":"J161","v":37668.804468348229},{"$f":"K161","v":0},417.28256153537467,0,1290.8150000000001,0,1021.7430000000001,0.61362232212232248,0,0,0,0,0,0,0,0]
[null,null,null,null,null,"Residual band 2","MWh",null,null,{"$f":"J170","v":0},{"$f":"K170","v":0},499.93810010868759,0,2907.3960000000002,131.60499999999999,1614.0330000000001,0,0,0,0,0,0,0,0,0]
[null,null,null,null,null,"Residual band 3 ","MWh",null,null,{"$f":"J179","v":0},{"$f":"K179","v":0},532.59682027534109,0,3254.9690000000001,130.94299999999998,1108.5050000000001,0,0,0,0,0,0,0,0,0]
[null,null,null,null,null,"Residual band 4","MWh",null,null,{"$f":"J188","v":0},{"$f":"K188","v":0},1171.8405958152541,0,10123.692999999999,4890.4009999999998,2106.7460000000001,0,0,0,0,0,0,0,0,0]
[null,null,null,null,"Rate 2 units"]
[null,null,null,null,null,"No residual","MWh",null,null,{"$f":"J153","v":0},{"$f":"K153","v":5.9875880158909522},0,0,0,0,0,0,5617.9084552036666,0,9.7500000000000018,0,0,0,0,0]
[null,null,null,null,null,"Residual band 1","MWh",null,null,{"$f":"J162","v":134158.01377456856},{"$f":"K162","v":0},2256.0449224299396,0,5610.9470000000001,0,4467.5060000000003,10.331821757458917,0,0,0,0,0,0,0,0]
[null,null,null,null,null,"Residual band 2","MWh",null,null,{"$f":"J171","v":0},{"$f":"K171","v":0},2675.2319858336336,0,12448.427999999998,535.16899999999998,6862.0569999999998,0,0,0,0,0,0,0,0,0]
[null,null,null,null,null,"Residual band 3 ","MWh",null,null,{"$f":"J180","v":0},{"$f":"K180","v":0},2863.5206820137428,0,14277.290999999997,572.56700000000001,4990.7900000000009,0,0,0,0,0,0,0,0,0]
[null,null,null,null,null,"Residual band 4","MWh",null,null,{"$f":"J189","v":0},{"$f":"K189","v":0},6244.6974058527676,0,46194.21,22137.865999999995,10577.475,0,0,0,0,0,0,0,0,0]
[null,null,null,null,"Rate 3 units"]
[null,null,null,null,null,"No residual","MWh",null,null,{"$f":"J154","v":0},{"$f":"K154","v":100.333000048454},0,0,0,0,0,0,2475.496018252958,0,11.099999999999998,0,0,0,0,0]
[null,null,null,null,null,"Residual band 1","MWh",null,null,{"$f":"J163","v":130925.22660729867},{"$f":"K163","v":0},1652.0280800118378,0,6722.7350000000006,0,5018.8490000000002,10.927907737515858,0,0,0,0,0,0,0,0]
[null,null,null,null,null,"Residual band 2","MWh",null,null,{"$f":"J172","v":0},{"$f":"K172","v":0},1923.2661061466847,0,10760.525000000001,558.27299999999991,7223.697000000001,0,0,0,0,0,0,0,0,0]
[null,null,null,null,null,"Residual band 3 ","MWh",null,null,{"$f":"J181","v":0},{"$f":"K181","v":0},2148.839699374063,0,13615.569000000001,519.61299999999983,6762.5339999999987,0,0,0,0,0,0,0,0,0]
[null,null,null,null,null,"Residual band 4","MWh",null,null,{"$f":"J190","v":0},{"$f":"K190","v":0},4726.4689262620568,0,42303.555999999997,21122.558999999997,14591.350999999999,0,0,0,0,0,0,0,0,0]
[null,null,null,null,"MPANs"]
[null,null,null,null,null,"No residual","MPANs",null,null,{"$f":"J155","v":0},{"$f":"K155","v":33},0,0,0,0,0,0,3296,0,2,0,0,0,0,0]
[null,null,null,null,null,"Residual band 1","MPANs",null,null,{"$f":"J164","v":110214},{"$f":"K164","v":0},1087,0,115,0,11,0,0,0,0,0,0,0,0,0]
[null,null,null,null,null,"Residual band 2","MPANs",null,null,{"$f":"J173","v":0},{"$f":"K173","v":0},722,0,175,4,11,0,0,0,0,0,0,0,0,0]
[null,null,null,null,null,"Residual band 3 ","MPANs",null,null,{"$f":"J182","v":0},{"$f":"K182","v":0},450,0,117,3,6,0,0,0,0,0,0,0,0,0]
[null,null,null,null,null,"Residual band 4","MPANs",null,null,{"$f":"J191","v":0},{"$f":"K191","v":0},409,0,229,59,10,0,0,0,0,0,0,0,0,0]
[null,null,null,null,"Import capacity"]
[null,null,null,null,null,"No residual","kVA",null,null,{"$f":"J156","v":0},{"$f":"K156","v":0},0,0,0,0,0,0,0,0,0,0,0,0,0,0]
[null,null,null,null,null,"Residual band 1","kVA",null,null,{"$f":"J165","v":0},{"$f":"K165","v":0},0,0,6780,0,3402,0,0,0,0,0,0,0,0,0]
[null,null,null,null,null,"Residual band 2","kVA",null,null,{"$f":"J174","v":0},{"$f":"K174","v":0},0,0,20249,447,7820,0,0,0,0,0,0,0,0,0]
[null,null,null,null,null,"Residual band 3 ","kVA",null,null,{"$f":"J183","v":0},{"$f":"K183","v":0},0,0,22053,671,9000,0,0,0,0,0,0,0,0,0]
[null,null,null,null,null,"Residual band 4","kVA",null,null,{"$f":"J192","v":0},{"$f":"K192","v":0},0,0,128058,47105,27700,0,0,0,0,0,0,0,0,0]
[null,null,null,null,"Exceeded capacity"]
[null,null,null,null,null,"No residual","kVA",null,null,{"$f":"J157","v":0},{"$f":"K157","v":0},0,0,0,0,0,0,0,0,0,0,0,0,0,0]
[null,null,null,null,null,"Residual band 1","kVA",null,null,{"$f":"J166","v":0},{"$f":"K166","v":0},0,0,1609.6666666666667,0,17.666666666666668,0,0,0,0,0,0,0,0,0]
[null,null,null,null,null,"Residual band 2","kVA",null,null,{"$f":"J175","v":0},{"$f":"K175","v":0},0,0,10.666666666666666,0,340.33333333333331,0,0,0,0,0,0,0,0,0]
[null,null,null,null,null,"Residual band 3 ","kVA",null,null,{"$f":"J184","v":0},{"$f":"K184","v":0},0,0,4.666666666666667,0,0,0,0,0,0,0,0,0,0,0]
[null,null,null,null,null,"Residual band 4","kVA",null,null,{"$f":"J193","v":0},{"$f":"K193","v":0},0,0,0,0,0,0,0,0,0,0,0,0,0,0]
[null,null,null,null,"Reactive power units"]
[null,null,null,null,null,"No residual","MVArh",null,null,{"$f":"J158","v":0},{"$f":"K158","v":0},0,0,0,0,0,0,0,0,2.5190000000000001,0,0,0,0,0]
[null,null,null,null,null,"Residual band 1","MVArh",null,null,{"$f":"J167","v":0},{"$f":"K167","v":0},0,0,613.08291999999994,0,968.48800000000006,0,0,0,0,0,0,0,0,0]
[null,null,null,null,null,"Residual band 2","MVArh",null,null,{"$f":"J176","v":0},{"$f":"K176","v":0},0,0,1514.06098,19.510000000000002,265.79844000000003,0,0,0,0,0,0,0,0,0]
[null,null,null,null,null,"Residual band 3 ","MVArh",null,null,{"$f":"J185","v":0},{"$f":"K185","v":0},0,0,1248.79458,82.263999999999996,151.846,0,0,0,0,0,0,0,0,0]
[null,null,null,null,null,"Residual band 4","MVArh",null,null,{"$f":"J194","v":0},{"$f":"K194","v":0},0,0,7208.3624799999998,2166.0920000000001,227.428,0,0,0,0,0,0,0,0,0]
[]
[null,null,{"$f":"INDEX('Version control'!$H$29:$H$55,MATCH($A$1,'Version control'!$F$29:$F$55,0),1)&\"-K: Non-domestic aggregated (related MPAN) distribution across bands\"","v":"Section 507-K: Non-domestic aggregated (related MPAN) distribution across bands"}]
[]
[null,null,null,"During revenue matching, residual revenue is apportioned to tariffs based on total volumes for each tariff. For this",null,null,null,null,">",null,null,null,null,null,null,null,null,null,null,null,null,null,null,null,null,null,"Paragraph 92 (a)"]
[null,null,null,"calculation, the volumes associated with non-domestic aggregated (related MPAN) tariffs are counted towards the"]
[null,null,null,"relevant non-domestic aggregated residual band. This section determines the total proportion for each band, accounting"]
[null,null,null,"for LDNO discounts."]
[]
[null,null,null,null,"All the way non-domestic aggregated (related MPAN) distribution by bands",null,null,null,null,"No residual","Band 1","Band 2","Band 3","Band 4"]
[null,null,null,null,null,"Rate 1 units","%",null,null,{"$f":"'Inputs by customer type'!J172","v":0},{"$f":"'Inputs by customer type'!K172","v":9.272725992895102E-2},{"$f":"'Inputs by customer type'!L172","v":0.1618979376611088},{"$f":"'Inputs by customer type'!M172","v":0.17913665363215273},{"$f":"'Inputs by customer type'!N172","v":0.56623814877778744}]
[null,null,null,null,null,"Rate 2 units","%",null,null,{"$f":"'Inputs by customer type'!J173","v":0},{"$f":"'Inputs by customer type'!K173","v":9.272725992895102E-2},{"$f":"'Inputs by customer type'!L173","v":0.1618979376611088},{"$f":"'Inputs by customer type'!M173","v":0.17913665363215273},{"$f":"'Inputs by customer type'!N173","v":0.56623814877778744}]
[null,null,null,null,null,"Rate 3 units","%",null,null,{"$f":"'Inputs by customer type'!J174","v":0},{"$f":"'Inputs by customer type'!K174","v":9.272725992895102E-2},{"$f":"'Inputs by customer type'!L174","v":0.1618979376611088},{"$f":"'Inputs by customer type'!M174","v":0.17913665363215273},{"$f":"'Inputs by customer type'!N174","v":0.56623814877778744}]
[]
[null,null,null,null,"LDNO LV non-domestic aggregated (related MPAN) distribution by bands",null,null,null,null,"No residual","Band 1","Band 2","Band 3","Band 4"]
[null,null,null,null,null,"Rate 1 units","%",null,null,{"$f":"'Inputs by customer type'!J177","v":0},{"$f":"'Inputs by customer type'!K177","v":0.23559016217323522},{"$f":"'Inputs by customer type'!L177","v":0.2976424275091018},{"$f":"'Inputs by customer type'!M177","v":0.15185257640779012},{"$f":"'Inputs by customer type'!N177","v":0.31491483390987285}]
[null,null,null,null,null,"Rate 2 units","%",null,null,{"$f":"'Inputs by customer type'!J178","v":0},{"$f":"'Inputs by customer type'!K178","v":0.23559016217323522},{"$f":"'Inputs by customer type'!L178","v":0.2976424275091018},{"$f":"'Inputs by customer type'!M178","v":0.15185257640779012},{"$f":"'Inputs by customer type'!N178","v":0.31491483390987285}]
[null,null,null,null,null,"Rate 3 units","%",null,null,{"$f":"'Inputs by customer type'!J179","v":0},{"$f":"'Inputs by customer type'!K179","v":0.23559016217323522},{"$f":"'Inputs by customer type'!L179","v":0.2976424275091018},{"$f":"'Inputs by customer type'!M179","v":0.15185257640779012},{"$f":"'Inputs by customer type'!N179","v":0.31491483390987285}]
[]
[null,null,null,null,"LDNO HV non-domestic aggregated (related MPAN) distribution by bands",null,null,null,null,"No residual","Band 1","Band 2","Band 3","Band 4"]
[null,null,null,null,null,"Rate 1 units","%",null,null,{"$f":"'Inputs by customer type'!J182","v":0},{"$f":"'Inputs by customer type'!K182","v":0.15953800934984907},{"$f":"'Inputs by customer type'!L182","v":0.18805260026650639},{"$f":"'Inputs by customer type'!M182","v":0.20452224581278861},{"$f":"'Inputs by customer type'!N182","v":0.44788714457085593}]
[null,null,null,null,null,"Rate 2 units","%",null,null,{"$f":"'Inputs by customer type'!J183","v":0},{"$f":"'Inputs by customer type'!K183","v":0.15953800934984907},{"$f":"'Inputs by customer type'!L183","v":0.18805260026650639},{"$f":"'Inputs by customer type'!M183","v":0.20452224581278861},{"$f":"'Inputs by customer type'!N183","v":0.44788714457085593}]
[null,null,null,null,null,"Rate 3 units","%",null,null,{"$f":"'Inputs by customer type'!J184","v":0},{"$f":"'Inputs by customer type'!K184","v":0.15953800934984907},{"$f":"'Inputs by customer type'!L184","v":0.18805260026650639},{"$f":"'Inputs by customer type'!M184","v":0.20452224581278861},{"$f":"'Inputs by customer type'!N184","v":0.44788714457085593}]
[]
[null,null,null,null,"Total after discounting non-domestic aggregated (related MPAN) units by band",null,null,null,null,"No residual","Band 1","Band 2","Band 3","Band 4"]
[null,null,null,null,null,"Rate 1 units","MWh",null,null,{"$f":" $M58 * J665  + $M105 * J670 + $M152 * J675","v":0},31.704006533267929,55.353876273959067,61.247896696754808,193.60022049601821]
[null,null,null,null,null,"Rate 2 units","MWh",null,null,0,613.53362441030163,1071.2041804522328,1185.2648342232837,3746.5373609141816]
[null,null,null,null,null,"Rate 3 units","MWh",null,null,0,2584.7162705272526,4512.8070640511232,4993.3258423208099,15783.545823100814]
[]
[null,null,null,null,null,null,null,null,null,"No residual","Band 1","Band 2","Band 3","Band 4"]
[null,null,null,null,"Total after discounting non-domestic aggregated (related MPAN) units",null,"MWh",null,null,{"$f":"SUM(J680:J682)","v":0},{"$f":"SUM(K680:K682)","v":3229.9539014708221},{"$f":"SUM(L680:L682)","v":5639.3651207773146},6239.8385732408487,19723.683404511015]
[]
[null,null,null,null,"Total non-domestic aggregated (related MPAN) units",null,"MWh",{"$f":"SUM(J685:N685)","v":34832.841}]
[null,null,null,null,null,null,null,null,null,"No residual","Band 1","Band 2","Band 3","Band 4"]
[null,null,null,null,"Total after discounting non-domestic aggregated (related MPAN) units by band",null,"%",null,null,{"$f":"IF($H687 <> 0, J685/$H687, 0)","v":0},{"$f":"IF($H687 <> 0, K685/$H687, 0)","v":9.272725992895102E-2},{"$f":"IF($H687 <> 0, L685/$H687, 0)","v":0.1618979376611088},{"$f":"IF($H687 <> 0, M685/$H687, 0)","v":0.17913665363215273},{"$f":"IF($H687 <> 0, N685/$H687, 0)","v":0.56623814877778744}]
[]
[null,"Checks"]
[]
[null,null,null,null,"Check for error values",null,"number of issues",{"$f":"SUM(IF(ISERROR(H22:Y309), 1))","v":0}]
[]
[null,"End of sheet"]

{"sheet":"Pseudo-load coefficients","index":22,"n_rows":308,"n_cols":27,"rows_kept":308,"cut":false,"hidden":true,"merged":[]}
[{"$f":"MID(CELL(\"filename\",A1),FIND(\"]\",CELL(\"filename\",A1))+1,255)","v":"Pseudo-load coefficients"}]
[{"$f":"Cover!D23 & \" - \" & TEXT(CIRP_submission_date, \"mmm\") & \"-\" & RIGHT(YEAR(CIRP_submission_date), 2) & \" - \" & Cover!D25","v":"SP Distribution - Jan-26 - V1"}]
[{"$f":"Cover!D2&\" - \"&Cover!D8&\" v\"&Cover!D10&\" - \"&Cover!D19","v":"Cost Information Review Pack (CIRP) - Release for charge setting v1 - 2027/28"}]
[{"$f":"H306 & IF(H306 = 1, \" issue\", \" issues\") &\" identified in checks on this sheet\"","v":"0 issues identified in checks on this sheet"}]
[null,"Click here to return to model map",null,null,null,null,"Units","Constants",null,"Domestic Aggregated or CT","Domestic Aggregated (Related MPAN)","Non-Domestic Aggregated or CT","Non-Domestic Aggregated (Related MPAN)","LV Site Specific","LV Sub Site Specific","HV Site Specific","Unmetered Supplies","LV Generation Aggregated","LV Sub Generation Aggregated","LV Generation Site Specific","LV Generation Site Specific no RP Charge","LV Sub Generation Site Specific","LV Sub Generation Site Specific no RP Charge","HV Generation Site Specific","HV Generation Site Specific no RP Charge",null,"Legal text reference"]
[]
[null,"Description"]
[]
[null,null,"This sheet calculates the pseudo load coefficients used in the calculation of unit rates and system simultaneous peak demand."]
[null,null,"The pseudo load coefficient is specified by customer category, network level and unit rate."]
[null,null,"The calculations in this sheet follow the steps set out in Paragraph 70."]
[]
[null,"Step 1: Ratio of coincidence to load factor assuming units evenly spread within time bands, and peak falls in Red period"]
[]
[null,null,"This section first calculates the split of MWh by unit rate, aggregating \"related MPAN\" and \"Aggregated\" tariffs.",null,null,null,null,null,">",null,null,null,null,null,null,null,null,null,null,null,null,null,null,null,null,null,"Paragraphs 52A & 70 (c) i"]
[null,null,"The last part of this section then calculates the ratio of coincidence to load factor based on a simplified load profile."]
[]
[null,null,{"$f":"INDEX('Version control'!$H$29:$H$55,MATCH($A$1,'Version control'!$F$29:$F$55,0),1)&\"-A: Flags and hours in timebands\"","v":"Section 508-A: Flags and hours in timebands"}]
[]
[null,null,null,null,"Flag for unmetered customers",null,"TRUE/FALSE",null,null,{"$f":"'Fixed inputs'!J132","v":false},{"$f":"'Fixed inputs'!K132","v":false},{"$f":"'Fixed inputs'!L132","v":false},{"$f":"'Fixed inputs'!M132","v":false},{"$f":"'Fixed inputs'!N132","v":false},{"$f":"'Fixed inputs'!O132","v":false},{"$f":"'Fixed inputs'!P132","v":false},{"$f":"'Fixed inputs'!Q132","v":true},{"$f":"'Fixed inputs'!R132","v":false},{"$f":"'Fixed inputs'!S132","v":false},{"$f":"'Fixed inputs'!T132","v":false},{"$f":"'Fixed inputs'!U132","v":false},{"$f":"'Fixed inputs'!V132","v":false},{"$f":"'Fixed inputs'!W132","v":false},{"$f":"'Fixed inputs'!X132","v":false},{"$f":"'Fixed inputs'!Y132","v":false}]
[]
[null,null,null,null,"Hours per timeband",null,null,null,">",null,null,null,null,null,null,null,null,null,null,null,null,null,null,null,null,null,"Paragraph 40"]
[null,null,null,null,"UMS customers use Black & Yellow timebands, other customers use Red & Amber"]
[null,null,null,null,null,"Red or Black","hours",null,null,{"$f":"IF(J$20, 'General inputs'!$H19, 'General inputs'!$H24)","v":786},{"$f":"IF(K$20, 'General inputs'!$H19, 'General inputs'!$H24)","v":786},{"$f":"IF(L$20, 'General inputs'!$H19, 'General inputs'!$H24)","v":786},{"$f":"IF(M$20, 'General inputs'!$H19, 'General inputs'!$H24)","v":786},{"$f":"IF(N$20, 'General inputs'!$H19, 'General inputs'!$H24)","v":786},{"$f":"IF(O$20, 'General inputs'!$H19, 'General inputs'!$H24)","v":786},{"$f":"IF(P$20, 'General inputs'!$H19, 'General inputs'!$H24)","v":786},{"$f":"IF(Q$20, 'General inputs'!$H19, 'General inputs'!$H24)","v":261},{"$f":"IF(R$20, 'General inputs'!$H19, 'General inputs'!$H24)","v":786},{"$f":"IF(S$20, 'General inputs'!$H19, 'General inputs'!$H24)","v":786},{"$f":"IF(T$20, 'General inputs'!$H19, 'General inputs'!$H24)","v":786},{"$f":"IF(U$20, 'General inputs'!$H19, 'General inputs'!$H24)","v":786},{"$f":"IF(V$20, 'General inputs'!$H19, 'General inputs'!$H24)","v":786},{"$f":"IF(W$20, 'General inputs'!$H19, 'General inputs'!$H24)","v":786},{"$f":"IF(X$20, 'General inputs'!$H19, 'General inputs'!$H24)","v":786},{"$f":"IF(Y$20, 'General inputs'!$H19, 'General inputs'!$H24)","v":786}]
[null,null,null,null,null,"Amber or Yellow","hours",null,null,{"$f":"IF(J$20, 'General inputs'!$H20, 'General inputs'!$H25)","v":3429},{"$f":"IF(K$20, 'General inputs'!$H20, 'General inputs'!$H25)","v":3429},{"$f":"IF(L$20, 'General inputs'!$H20, 'General inputs'!$H25)","v":3429},{"$f":"IF(M$20, 'General inputs'!$H20, 'General inputs'!$H25)","v":3429},{"$f":"IF(N$20, 'General inputs'!$H20, 'General inputs'!$H25)","v":3429},{"$f":"IF(O$20, 'General inputs'!$H20, 'General inputs'!$H25)","v":3429},{"$f":"IF(P$20, 'General inputs'!$H20, 'General inputs'!$H25)","v":3429},{"$f":"IF(Q$20, 'General inputs'!$H20, 'General inputs'!$H25)","v":3954},{"$f":"IF(R$20, 'General inputs'!$H20, 'General inputs'!$H25)","v":3429},{"$f":"IF(S$20, 'General inputs'!$H20, 'General inputs'!$H25)","v":3429},{"$f":"IF(T$20, 'General inputs'!$H20, 'General inputs'!$H25)","v":3429},{"$f":"IF(U$20, 'General inputs'!$H20, 'General inputs'!$H25)","v":3429},{"$f":"IF(V$20, 'General inputs'!$H20, 'General inputs'!$H25)","v":3429},{"$f":"IF(W$20, 'General inputs'!$H20, 'General inputs'!$H25)","v":3429},{"$f":"IF(X$20, 'General inputs'!$H20, 'General inputs'!$H25)","v":3429},{"$f":"IF(Y$20, 'General inputs'!$H20, 'General inputs'!$H25)","v":3429}]
[null,null,null,null,null,"Green","hours",null,null,{"$f":"IF(J$20, 'General inputs'!$H21, 'General inputs'!$H26)","v":4569},{"$f":"IF(K$20, 'General inputs'!$H21, 'General inputs'!$H26)","v":4569},{"$f":"IF(L$20, 'General inputs'!$H21, 'General inputs'!$H26)","v":4569},{"$f":"IF(M$20, 'General inputs'!$H21, 'General inputs'!$H26)","v":4569},{"$f":"IF(N$20, 'General inputs'!$H21, 'General inputs'!$H26)","v":4569},{"$f":"IF(O$20, 'General inputs'!$H21, 'General inputs'!$H26)","v":4569},{"$f":"IF(P$20, 'General inputs'!$H21, 'General inputs'!$H26)","v":4569},{"$f":"IF(Q$20, 'General inputs'!$H21, 'General inputs'!$H26)","v":4569},{"$f":"IF(R$20, 'General inputs'!$H21, 'General inputs'!$H26)","v":4569},{"$f":"IF(S$20, 'General inputs'!$H21, 'General inputs'!$H26)","v":4569},{"$f":"IF(T$20, 'General inputs'!$H21, 'General inputs'!$H26)","v":4569},{"$f":"IF(U$20, 'General inputs'!$H21, 'General inputs'!$H26)","v":4569},{"$f":"IF(V$20, 'General inputs'!$H21, 'General inputs'!$H26)","v":4569},{"$f":"IF(W$20, 'General inputs'!$H21, 'General inputs'!$H26)","v":4569},{"$f":"IF(X$20, 'General inputs'!$H21, 'General inputs'!$H26)","v":4569},{"$f":"IF(Y$20, 'General inputs'!$H21, 'General inputs'!$H26)","v":4569}]
[]
[null,null,{"$f":"INDEX('Version control'!$H$29:$H$55,MATCH($A$1,'Version control'!$F$29:$F$55,0),1)&\"-B: Average load by timeband\"","v":"Section 508-B: Average load by timeband"}]
[]
[null,null,null,null,"Split of units by time pattern regime"]
[null,null,null,null,null,"Unit rate 1","MWh",null,null,{"$f":"'Volume adjustments'!J238","v":707229.33820484916},{"$f":"'Volume adjustments'!K238","v":451.5290967967498},{"$f":"'Volume adjustments'!L238","v":171432.31642989253},{"$f":"'Volume adjustments'!M238","v":341.90600000000001},{"$f":"'Volume adjustments'!N238","v":238677.8533091844},{"$f":"'Volume adjustments'!O238","v":27189.364874667641},{"$f":"'Volume adjustments'!P238","v":282979.89363327925},{"$f":"'Volume adjustments'!Q238","v":9988.9167123288153},{"$f":"'Volume adjustments'!R238","v":8003.0200145111739},{"$f":"'Volume adjustments'!S238","v":14.658926785947987},{"$f":"'Volume adjustments'!T238","v":5980.8440000000001},{"$f":"'Volume adjustments'!U238","v":0},{"$f":"'Volume adjustments'!V238","v":76.418999999999997},{"$f":"'Volume adjustments'!W238","v":0},{"$f":"'Volume adjustments'!X238","v":110295.99099999999},{"$f":"'Volume adjustments'!Y238","v":0}]
[null,null,null,null,null,"Unit rate 2","MWh",null,null,{"$f":"'Volume adjustments'!J249","v":2489637.9882059051},{"$f":"'Volume adjustments'!K249","v":11178.916329571792},{"$f":"'Volume adjustments'!L249","v":913719.44541926903},{"$f":"'Volume adjustments'!M249","v":6616.54},{"$f":"'Volume adjustments'!N249","v":1147639.8550571094},{"$f":"'Volume adjustments'!O249","v":126491.79905838602},{"$f":"'Volume adjustments'!P249","v":1316782.225363679},{"$f":"'Volume adjustments'!Q249","v":61153.198525766631},{"$f":"'Volume adjustments'!R249","v":48858.348150675512},{"$f":"'Volume adjustments'!S249","v":69.692749320236075},{"$f":"'Volume adjustments'!T249","v":30749.954999999994},{"$f":"'Volume adjustments'!U249","v":0},{"$f":"'Volume adjustments'!V249","v":447.91699999999997},{"$f":"'Volume adjustments'!W249","v":0},{"$f":"'Volume adjustments'!X249","v":353394.92799999996},{"$f":"'Volume adjustments'!Y249","v":0}]
[null,null,null,null,null,"Unit rate 3","MWh",null,null,{"$f":"'Volume adjustments'!J260","v":2429500.6428217776},{"$f":"'Volume adjustments'!K260","v":132183.03831601172},{"$f":"'Volume adjustments'!L260","v":733724.96463830164},{"$f":"'Volume adjustments'!M260","v":27874.395},{"$f":"'Volume adjustments'!N260","v":1032482.5091777217},{"$f":"'Volume adjustments'!O260","v":127845.20448204463},{"$f":"'Volume adjustments'!P260","v":1451050.1143581993},{"$f":"'Volume adjustments'!Q260","v":136408.95488193643},{"$f":"'Volume adjustments'!R260","v":22200.103733723437},{"$f":"'Volume adjustments'!S260","v":63.286158755382779},{"$f":"'Volume adjustments'!T260","v":29476.701999999994},{"$f":"'Volume adjustments'!U260","v":0},{"$f":"'Volume adjustments'!V260","v":427.12099999999998},{"$f":"'Volume adjustments'!W260","v":0},{"$f":"'Volume adjustments'!X260","v":394088.42299999995},{"$f":"'Volume adjustments'!Y260","v":0}]
[null,null,null,null,null,"Total units","MWh",null,null,{"$f":"SUM(J31:J33)","v":5626367.9692325313},143813.48374238025,1818876.7264874631,34832.841,2418800.2175440155,281526.36841509829,3050812.2333551575,207551.07012003189,79061.471898910124,147.63783486156683,66207.500999999989,0,951.45699999999999,0,857779.34199999995,0]
[]
[null,null,{"$f":"INDEX('Version control'!$H$29:$H$55,MATCH($A$1,'Version control'!$F$29:$F$55,0),1)&\"-C: Aggregated groups for pseudo-load coefficients\"","v":"Section 508-C: Aggregated groups for pseudo-load coefficients"}]
[]
[null,null,null,null,"Pseudo-load coefficient aggregation group",null,"integer",null,">",{"$f":"'Fixed inputs'!J154","v":1},{"$f":"'Fixed inputs'!K154","v":1},{"$f":"'Fixed inputs'!L154","v":2},{"$f":"'Fixed inputs'!M154","v":2},{"$f":"'Fixed inputs'!N154","v":3},{"$f":"'Fixed inputs'!O154","v":4},{"$f":"'Fixed inputs'!P154","v":5},null,null,null,null,null,null,null,null,null,null,"Paragraphs 52A & 70 (c) iv"]
[]
[null,null,null,null,"Split of total units by timeband for aggregate groups"]
[null,null,null,null,"UMS customers use Black & Yellow timebands, other customers use Red & Amber"]
[null,null,null,null,null,"Red or Black","%",null,null,{"$f":"SUMIF($J$38:$Y$38, J$38, $J31:$Y31) / SUMIF($J$38:$Y$38, J$38, $J$34:$Y$34)","v":0.12264447367366402},0.12264447367366402,9.2665121571723366E-2,9.2665121571723366E-2,9.8676133554978535E-2,9.6578395223633595E-2,9.2755591622257799E-2]
[null,null,null,null,null,"Amber or Yellow","%",null,null,0.43340351164279933,0.43340351164279933,0.4964833766633151,0.4964833766633151,0.47446657509498325,0.44930711027351944,0.43161693498112669]
[null,null,null,null,null,"Green","%",null,null,0.44395201468353673,0.44395201468353673,0.4108515017649616,0.4108515017649616,0.42685729135003825,0.45411449450284702,0.47562747339661549]
[]
[null,null,null,null,"Final split of total units by timeband"]
[null,null,null,null,"UMS customers use Black & Yellow timebands, other customers use Red & Amber"]
[null,null,null,null,null,"Red or Black","%",null,null,{"$f":"IF(ISNUMBER(J$38), J42, IF(J$34 = 0, 0, J31 / J$34))","v":0.12264447367366402},{"$f":"IF(ISNUMBER(K$38), K42, IF(K$34 = 0, 0, K31 / K$34))","v":0.12264447367366402},9.2665121571723366E-2,9.2665121571723366E-2,9.8676133554978535E-2,9.6578395223633595E-2,9.2755591622257799E-2,4.8127512455377747E-2,0.10122528486117771,9.9289770807686153E-2,9.0334839854475116E-2,0,8.0317870381951054E-2,0,0.12858317471581171,0]
[null,null,null,null,null,"Amber or Yellow","%",null,null,{"$f":"IF(ISNUMBER(J$38), J43, IF(J$34 = 0, 0, J32 / J$34))","v":0.43340351164279933},0.43340351164279933,0.4964833766633151,0.4964833766633151,0.47446657509498325,0.44930711027351944,0.43161693498112669,0.29464169223700093,0.61797923789158593,0.47205209549153671,0.46444820504552797,0,0.4707695670955177,0,0.4119881544081298,0]
[null,null,null,null,null,"Green","%",null,null,0.44395201468353673,0.44395201468353673,0.4108515017649616,0.4108515017649616,0.42685729135003825,0.45411449450284702,0.47562747339661549,0.6572307953076213,0.28079547724723641,0.42865813370077721,0.44521695509999687,0,0.4489125625225312,0,0.45942867087605843,0]
[]
[null,null,{"$f":"INDEX('Version control'!$H$29:$H$55,MATCH($A$1,'Version control'!$F$29:$F$55,0),1)&\"-D: Ratio of coincidence to load factor assuming units evenly spread within time bands, and peak falls in Red period\"","v":"Section 508-D: Ratio of coincidence to load factor assuming units evenly spread within time bands, and peak falls in Red period"}]
[]
[null,null,null,null,"Ratio of coincidence to load factor",null,"scalar",null,null,{"$f":"J48 * hours_in_year / J24","v":1.3706222096049168},1.3706222096049168,1.0355857861145268,1.0355857861145268,1.1027622864464777,1.0793188595984702,1.0365968407250794,1.6197397295327132,1.1312505117310241,1.109620034064523,1.0095435537935236,0,0.89759818503188038,0,1.4369905937705982,0]
[]
[null,"Step 2: Calculate correction factor"]
[]
[null,null,"This section calculates the correction factor described in Paragraph 70 (c) ii"]
[]
[null,null,{"$f":"INDEX('Version control'!$H$29:$H$55,MATCH($A$1,'Version control'!$F$29:$F$55,0),1)&\"-E: Load characteristics for all customers\"","v":"Section 508-E: Load characteristics for all customers"}]
[]
[null,null,null,null,"Load factor",null,"%",null,null,{"$f":"'Inputs by customer type'!J18","v":0.46633333333333332},{"$f":"'Inputs by customer type'!K18","v":7.6666666666666675E-2},{"$f":"'Inputs by customer type'!L18","v":0.40566666666666662},{"$f":"'Inputs by customer type'!M18","v":0.2253333333333333},{"$f":"'Inputs by customer type'!N18","v":0.53166666666666673},{"$f":"'Inputs by customer type'!O18","v":0.65933333333333344},{"$f":"'Inputs by customer type'!P18","v":0.72800000000000009},{"$f":"'Inputs by customer type'!Q18","v":0.52666666666666673}]
[null,null,null,null,"Coincidence factor",null,"%",null,null,{"$f":"'Inputs by customer type'!J19","v":0.91500000000000004},null,{"$f":"'Inputs by customer type'!L19","v":0.66166666666666663},null,{"$f":"'Inputs by customer type'!N19","v":0.77566666666666662},{"$f":"'Inputs by customer type'!O19","v":0.80200000000000005},{"$f":"'Inputs by customer type'!P19","v":0.83266666666666678},{"$f":"'Inputs by customer type'!Q19","v":0.95133333333333336}]
[]
[null,null,{"$f":"INDEX('Version control'!$H$29:$H$55,MATCH($A$1,'Version control'!$F$29:$F$55,0),1)&\"-F: Aggregated load characteristics for grouped customers\"","v":"Section 508-F: Aggregated load characteristics for grouped customers"}]
[]
[null,null,null,"Calculation of maximum load"]
[]
[null,null,null,null,"Average load",null,"MW",null,null,{"$f":"J34 / hours_in_year","v":640.52458666126267},16.372208987065147,207.06702259647804,3.9654873633879784,275.36432349089432,32.049905329587695,347.31468958961267]
[]
[null,null,null,null,"Maximum load",null,"MW",null,null,{"$f":"IF(J62 = 0, 0, J34 / (J62 * hours_in_year))","v":1373.533781260749},213.55055200519755,510.43637451884484,17.59831670142594,517.92662725560047,48.609563189465653,477.08061756814919]
[]
[null,null,null,null,"System peak load",null,"MW",null,null,{"$f":"J71 * J63","v":1256.7834098535855},{"$f":"K71 * K63","v":0},337.73873447330232,0,401.73842054126072,38.984869677951458,397.24912756174564]
[]
[null,null,null,"Load and coincidence factor for aggregate groups"]
[]
[null,null,null,null,"Load factor",null,"%",null,null,{"$f":"SUMIF($J$38:$Y$38, J$38, $J$69:$Y$69) / SUMIF($J$38:$Y$38, J$38, $J$71:$Y$71)","v":0.413901631992389},0.413901631992389,0.3996565253547581,0.3996565253547581,0.53166666666666684,0.65933333333333344,0.72800000000000009]
[]
[null,null,null,null,"Coincidence factor",null,"%",null,null,{"$f":"SUMIF($J$38:$Y$38, J$38, $J$73:$Y$73) / SUMIF($J$38:$Y$38, J$38, $J$71:$Y$71)","v":0.79188193312156352},0.79188193312156352,0.63961466943166023,0.63961466943166023,0.77566666666666662,0.80200000000000005,0.83266666666666678]
[]
[null,null,null,"Final load and coincidence factor "]
[]
[null,null,null,null,"Load factor",null,"%",null,null,{"$f":"IF(J$38 = 0, J62, J77)","v":0.413901631992389},{"$f":"IF(K$38 = 0, K62, K77)","v":0.413901631992389},0.3996565253547581,{"$f":"IF(M$38 = 0, M62, M77)","v":0.3996565253547581},0.53166666666666684,0.65933333333333344,0.72800000000000009,0.52666666666666673,0,0,0,0,0,0,0,0]
[]
[null,null,null,null,"Coincidence factor",null,"%",null,null,{"$f":"IF(J38 = 0, J63, J79)","v":0.79188193312156352},{"$f":"IF(K38 = 0, K63, K79)","v":0.79188193312156352},0.63961466943166023,0.63961466943166023,0.77566666666666662,0.80200000000000005,0.83266666666666678,0.95133333333333336,0,0,0,0,0,0,0,0]
[]
[null,null,{"$f":"INDEX('Version control'!$H$29:$H$55,MATCH($A$1,'Version control'!$F$29:$F$55,0),1)&\"-G: Calculation of correction factor\"","v":"Section 508-G: Calculation of correction factor"}]
[]
[null,null,null,null,"Load coefficient",null,"scalar",null,null,{"$f":"IF(AND(J62 = 0, J63 = 0), 1, J63 / J62)","v":1.9621157969978558},0,1.6310599835661463,0,1.4589341692789966,1.2163801820020221,1.1437728937728937,1.8063291139240505,1,1,1,1,1,1,1,1]
[]
[null,null,null,null,"Load coefficient, adjusted for aggregate groups",null,"scalar",null,">",{"$f":"IF(AND(J83 = 0, J85 = 0), 1, J85 / J83)","v":1.9132128793735343},{"$f":"IF(AND(K83 = 0, K85 = 0), 1, K85 / K83)","v":1.9132128793735343},1.6004109250159284,1.6004109250159284,{"$f":"IF(AND(N83 = 0, N85 = 0), 1, N85 / N83)","v":1.4589341692789963},1.2163801820020221,1.1437728937728937,1.8063291139240505,1,1,1,1,1,1,1,1,null,"Paragraphs 52A & 70 (c) iv"]
[]
[null,null,null,null,"Correction factor",null,"scalar",null,">",{"$f":"IF(OR(J54 = 0, J85 = 0), 1, J91 / J54)","v":1.3958717916332466},{"$f":"IF(OR(K54 = 0, K85 = 0), 1, K91 / K54)","v":1.3958717916332466},1.5454160789716911,1.5454160789716911,{"$f":"IF(OR(N54 = 0, N85 = 0), 1, N91 / N54)","v":1.32298155931705},1.1269887218078833,1.1033922242834995,1.1151971400029606,1,1,1,1,1,1,1,1,null,"Paragraph 70 (c.ii)"]
[]
[null,"Step 3: Ratio of coincidence factor (to network asset peak) to load factor, given peaking probabilities, multiplied by correction factor"]
[]
[null,null,"This section calculates the pseudo load coefficient in line with Paragraph 70 (c) iii",null,null,null,null,null,">",null,null,null,null,null,null,null,null,null,null,null,null,null,null,null,null,null,"Paragraph 70 (c.iii)"]
[null,null,"Mathematical simplifications have been used to avoid errors when estimated volumes are zero"]
[]
[null,null,{"$f":"INDEX('Version control'!$H$29:$H$55,MATCH($A$1,'Version control'!$F$29:$F$55,0),1)&\"-H: Peaking probabilities, by network level\"","v":"Section 508-H: Peaking probabilities, by network level"}]
[]
[null,null,null,null,"GSPs peaking probabilities"]
[null,null,null,null,null,"Red","%",{"$f":"'Inputs by network level'!K43","v":0.76967160503936027}]
[null,null,null,null,null,"Amber","%",{"$f":"'Inputs by network level'!K44","v":0.22076803763015043}]
[null,null,null,null,null,"Green","%",{"$f":"'Inputs by network level'!K45","v":9.5603573304894624E-3}]
[null,null,null,null,null,"Black","%",{"$f":"'Inputs by network level'!K46","v":0.74038510188731843}]
[null,null,null,null,null,"Yellow","%",{"$f":"SUM(H103:H104) - H106","v":0.25005454078219225}]
[null,null,null,null,null,"Green","%",{"$f":"H105","v":9.5603573304894624E-3}]
[]
[null,null,null,null,"132kV peaking probabilities"]
[null,null,null,null,null,"Red or Black","%",{"$f":"'Inputs by network level'!L43","v":0}]
[null,null,null,null,null,"Amber or Yellow","%",{"$f":"'Inputs by network level'!L44","v":0}]
[null,null,null,null,null,"Green","%",{"$f":"'Inputs by network level'!L45","v":0}]
[null,null,null,null,null,"Black","%",{"$f":"'Inputs by network level'!L46","v":0}]
[null,null,null,null,null,"Yellow","%",{"$f":"SUM(H111:H112) - H114","v":0}]
[null,null,null,null,null,"Green","%",{"$f":"H113","v":0}]
[]
[null,null,null,null,"132kV/EHV peaking probabilities"]
[null,null,null,null,null,"Red or Black","%",{"$f":"'Inputs by network level'!M43","v":0}]
[null,null,null,null,null,"Amber or Yellow","%",{"$f":"'Inputs by network level'!M44","v":0}]
[null,null,null,null,null,"Green","%",{"$f":"'Inputs by network level'!M45","v":0}]
[null,null,null,null,null,"Black","%",{"$f":"'Inputs by network level'!M46","v":0}]
[null,null,null,null,null,"Yellow","%",{"$f":"SUM(H119:H120) - H122","v":0}]
[null,null,null,null,null,"Green","%",{"$f":"H121","v":0}]
[]
[null,null,null,null,"EHV peaking probabilities"]
[null,null,null,null,null,"Red or Black","%",{"$f":"'Inputs by network level'!N43","v":0.76967160503936027}]
[null,null,null,null,null,"Amber or Yellow","%",{"$f":"'Inputs by network level'!N44","v":0.22076803763015043}]
[null,null,null,null,null,"Green","%",{"$f":"'Inputs by network level'!N45","v":9.5603573304894624E-3}]
[null,null,null,null,null,"Black","%",{"$f":"'Inputs by network level'!N46","v":0.74038510188731843}]
[null,null,null,null,null,"Yellow","%",{"$f":"SUM(H127:H128) - H130","v":0.25005454078219225}]
[null,null,null,null,null,"Green","%",{"$f":"H129","v":9.5603573304894624E-3}]
[]
[null,null,null,null,"EHV/HV peaking probabilities"]
[null,null,null,null,null,"Red or Black","%",{"$f":"'Inputs by network level'!O43","v":0.59670716638348686}]
[null,null,null,null,null,"Amber or Yellow","%",{"$f":"'Inputs by network level'!O44","v":0.39324040659813542}]
[null,null,null,null,null,"Green","%",{"$f":"'Inputs by network level'!O45","v":1.0052427018378092E-2}]
[null,null,null,null,null,"Black","%",{"$f":"'Inputs by network level'!O46","v":0.58981550082627798}]
[null,null,null,null,null,"Yellow","%",{"$f":"SUM(H135:H136) - H138","v":0.4001320721553443}]
[null,null,null,null,null,"Green","%",{"$f":"H137","v":1.0052427018378092E-2}]
[]
[null,null,null,null,"132kV/HV peaking probabilities"]
[null,null,null,null,null,"Red or Black","%",{"$f":"'Inputs by network level'!P43","v":0}]
[null,null,null,null,null,"Amber or Yellow","%",{"$f":"'Inputs by network level'!P44","v":0}]
[null,null,null,null,null,"Green","%",{"$f":"'Inputs by network level'!P45","v":0}]
[null,null,null,null,null,"Black","%",{"$f":"'Inputs by network level'!P46","v":0}]
[null,null,null,null,null,"Yellow","%",{"$f":"SUM(H143:H144) - H146","v":0}]
[null,null,null,null,null,"Green","%",{"$f":"H145","v":0}]
[]
[null,null,null,null,"HV peaking probabilities"]
[null,null,null,null,null,"Red or Black","%",{"$f":"'Inputs by network level'!Q43","v":0.59670716638348686}]
[null,null,null,null,null,"Amber or Yellow","%",{"$f":"'Inputs by network level'!Q44","v":0.39324040659813542}]
[null,null,null,null,null,"Green","%",{"$f":"'Inputs by network level'!Q45","v":1.0052427018378092E-2}]
[null,null,null,null,null,"Black","%",{"$f":"'Inputs by network level'!Q46","v":0.58981550082627798}]
[null,null,null,null,null,"Yellow","%",{"$f":"SUM(H151:H152) - H154","v":0.4001320721553443}]
[null,null,null,null,null,"Green","%",{"$f":"H153","v":1.0052427018378092E-2}]
[]
[null,null,null,null,"HV/LV peaking probabilities"]
[null,null,null,null,null,"Red or Black","%",{"$f":"'Inputs by network level'!R43","v":0.59670716638348686}]
[null,null,null,null,null,"Amber or Yellow","%",{"$f":"'Inputs by network level'!R44","v":0.39324040659813542}]
[null,null,null,null,null,"Green","%",{"$f":"'Inputs by network level'!R45","v":1.0052427018378092E-2}]
[null,null,null,null,null,"Black","%",{"$f":"'Inputs by network level'!R46","v":0.58981550082627798}]
[null,null,null,null,null,"Yellow","%",{"$f":"SUM(H159:H160) - H162","v":0.4001320721553443}]
[null,null,null,null,null,"Green","%",{"$f":"H161","v":1.0052427018378092E-2}]
[]
[null,null,null,null,"LV circuits peaking probabilities"]
[null,null,null,null,null,"Red or Black","%",{"$f":"'Inputs by network level'!S43","v":0.59670716638348686}]
[null,null,null,null,null,"Amber or Yellow","%",{"$f":"'Inputs by network level'!S44","v":0.39324040659813542}]
[null,null,null,null,null,"Green","%",{"$f":"'Inputs by network level'!S45","v":1.0052427018378092E-2}]
[null,null,null,null,null,"Black","%",{"$f":"'Inputs by network level'!S46","v":0.58981550082627798}]
[null,null,null,null,null,"Yellow","%",{"$f":"SUM(H167:H168) - H170","v":0.4001320721553443}]
[null,null,null,null,null,"Green","%",{"$f":"H169","v":1.0052427018378092E-2}]
[]
[null,null,{"$f":"INDEX('Version control'!$H$29:$H$55,MATCH($A$1,'Version control'!$F$29:$F$55,0),1)&\"-I: Peaking probabilities, by network level and customer type\"","v":"Section 508-I: Peaking probabilities, by network level and customer type"}]
[]
[null,null,null,null,"GSPs peaking probabilities"]
[null,null,null,null,null,"Red or Black","%",null,null,{"$f":"IF(J$20, $H106, $H103)","v":0.76967160503936027},0.76967160503936027,0.76967160503936027,0.76967160503936027,0.76967160503936027,0.76967160503936027,0.76967160503936027,0.74038510188731843,0.76967160503936027,0.76967160503936027,0.76967160503936027,0.76967160503936027,0.76967160503936027,0.76967160503936027,0.76967160503936027,0.76967160503936027]
[null,null,null,null,null,"Amber or Yellow","%",null,null,0.22076803763015043,0.22076803763015043,0.22076803763015043,0.22076803763015043,0.22076803763015043,0.22076803763015043,0.22076803763015043,0.25005454078219225,0.22076803763015043,0.22076803763015043,0.22076803763015043,0.22076803763015043,0.22076803763015043,0.22076803763015043,0.22076803763015043,0.22076803763015043]
[null,null,null,null,null,"Green","%",null,null,9.5603573304894624E-3,9.5603573304894624E-3,9.5603573304894624E-3,9.5603573304894624E-3,9.5603573304894624E-3,9.5603573304894624E-3,9.5603573304894624E-3,9.5603573304894624E-3,9.5603573304894624E-3,9.5603573304894624E-3,9.5603573304894624E-3,9.5603573304894624E-3,9.5603573304894624E-3,9.5603573304894624E-3,9.5603573304894624E-3,9.5603573304894624E-3]
[]
[null,null,null,null,"132kV peaking probabilities"]
[null,null,null,null,null,"Red or Black","%",null,null,{"$f":"IF(J$20, $H114, $H111)","v":0},0,0,0,0,0,0,0,0,0,0,0,0,0,0,0]
[null,null,null,null,null,"Amber or Yellow","%",null,null,0,0,0,0,0,0,0,0,0,0,0,0,0,0,0,0]
[null,null,null,null,null,"Green","%",null,null,0,0,0,0,0,0,0,0,0,0,0,0,0,0,0,0]
[]
[null,null,null,null,"132kV/EHV peaking probabilities"]
[null,null,null,null,null,"Red or Black","%",null,null,{"$f":"IF(J$20, $H122, $H119)","v":0},0,0,0,0,0,0,0,0,0,0,0,0,0,0,0]
[null,null,null,null,null,"Amber or Yellow","%",null,null,0,0,0,0,0,0,0,0,0,0,0,0,0,0,0,0]
[null,null,null,null,null,"Green","%",null,null,0,0,0,0,0,0,0,0,0,0,0,0,0,0,0,0]
[]
[null,null,null,null,"EHV peaking probabilities"]
[null,null,null,null,null,"Red or Black","%",null,null,{"$f":"IF(J$20, $H130, $H127)","v":0.76967160503936027},0.76967160503936027,0.76967160503936027,0.76967160503936027,0.76967160503936027,0.76967160503936027,0.76967160503936027,0.74038510188731843,0.76967160503936027,0.76967160503936027,0.76967160503936027,0.76967160503936027,0.76967160503936027,0.76967160503936027,0.76967160503936027,0.76967160503936027]
[null,null,null,null,null,"Amber or Yellow","%",null,null,0.22076803763015043,0.22076803763015043,0.22076803763015043,0.22076803763015043,0.22076803763015043,0.22076803763015043,0.22076803763015043,0.25005454078219225,0.22076803763015043,0.22076803763015043,0.22076803763015043,0.22076803763015043,0.22076803763015043,0.22076803763015043,0.22076803763015043,0.22076803763015043]
[null,null,null,null,null,"Green","%",null,null,9.5603573304894624E-3,9.5603573304894624E-3,9.5603573304894624E-3,9.5603573304894624E-3,9.5603573304894624E-3,9.5603573304894624E-3,9.5603573304894624E-3,9.5603573304894624E-3,9.5603573304894624E-3,9.5603573304894624E-3,9.5603573304894624E-3,9.5603573304894624E-3,9.5603573304894624E-3,9.5603573304894624E-3,9.5603573304894624E-3,9.5603573304894624E-3]
[]
[null,null,null,null,"EHV/HV peaking probabilities"]
[null,null,null,null,null,"Red or Black","%",null,null,{"$f":"IF(J$20, $H138, $H135)","v":0.59670716638348686},0.59670716638348686,0.59670716638348686,0.59670716638348686,0.59670716638348686,0.59670716638348686,0.59670716638348686,0.58981550082627798,0.59670716638348686,0.59670716638348686,0.59670716638348686,0.59670716638348686,0.59670716638348686,0.59670716638348686,0.59670716638348686,0.59670716638348686]
[null,null,null,null,null,"Amber or Yellow","%",null,null,0.39324040659813542,0.39324040659813542,0.39324040659813542,0.39324040659813542,0.39324040659813542,0.39324040659813542,0.39324040659813542,0.4001320721553443,0.39324040659813542,0.39324040659813542,0.39324040659813542,0.39324040659813542,0.39324040659813542,0.39324040659813542,0.39324040659813542,0.39324040659813542]
[null,null,null,null,null,"Green","%",null,null,1.0052427018378092E-2,1.0052427018378092E-2,1.0052427018378092E-2,1.0052427018378092E-2,1.0052427018378092E-2,1.0052427018378092E-2,1.0052427018378092E-2,1.0052427018378092E-2,1.0052427018378092E-2,1.0052427018378092E-2,1.0052427018378092E-2,1.0052427018378092E-2,1.0052427018378092E-2,1.0052427018378092E-2,1.0052427018378092E-2,1.0052427018378092E-2]
[]
[null,null,null,null,"132kV/HV peaking probabilities"]
[null,null,null,null,null,"Red or Black","%",null,null,{"$f":"IF(J$20, $H146, $H143)","v":0},0,0,0,0,0,0,0,0,0,0,0,0,0,0,0]
[null,null,null,null,null,"Amber or Yellow","%",null,null,0,0,0,0,0,0,0,0,0,0,0,0,0,0,0,0]
[null,null,null,null,null,"Green","%",null,null,0,0,0,0,0,0,0,0,0,0,0,0,0,0,0,0]
[]
[null,null,null,null,"HV peaking probabilities"]
[null,null,null,null,null,"Red or Black","%",null,null,{"$f":"IF(J$20, $H154, $H151)","v":0.59670716638348686},0.59670716638348686,0.59670716638348686,0.59670716638348686,0.59670716638348686,0.59670716638348686,0.59670716638348686,0.58981550082627798,0.59670716638348686,0.59670716638348686,0.59670716638348686,0.59670716638348686,0.59670716638348686,0.59670716638348686,0.59670716638348686,0.59670716638348686]
[null,null,null,null,null,"Amber or Yellow","%",null,null,0.39324040659813542,0.39324040659813542,0.39324040659813542,0.39324040659813542,0.39324040659813542,0.39324040659813542,0.39324040659813542,0.4001320721553443,0.39324040659813542,0.39324040659813542,0.39324040659813542,0.39324040659813542,0.39324040659813542,0.39324040659813542,0.39324040659813542,0.39324040659813542]
[null,null,null,null,null,"Green","%",null,null,1.0052427018378092E-2,1.0052427018378092E-2,1.0052427018378092E-2,1.0052427018378092E-2,1.0052427018378092E-2,1.0052427018378092E-2,1.0052427018378092E-2,1.0052427018378092E-2,1.0052427018378092E-2,1.0052427018378092E-2,1.0052427018378092E-2,1.0052427018378092E-2,1.0052427018378092E-2,1.0052427018378092E-2,1.0052427018378092E-2,1.0052427018378092E-2]
[]
[null,null,null,null,"HV/LV peaking probabilities"]
[null,null,null,null,null,"Red or Black","%",null,null,{"$f":"IF(J$20, $H162, $H159)","v":0.59670716638348686},0.59670716638348686,0.59670716638348686,0.59670716638348686,0.59670716638348686,0.59670716638348686,0.59670716638348686,0.58981550082627798,0.59670716638348686,0.59670716638348686,0.59670716638348686,0.59670716638348686,0.59670716638348686,0.59670716638348686,0.59670716638348686,0.59670716638348686]
[null,null,null,null,null,"Amber or Yellow","%",null,null,0.39324040659813542,0.39324040659813542,0.39324040659813542,0.39324040659813542,0.39324040659813542,0.39324040659813542,0.39324040659813542,0.4001320721553443,0.39324040659813542,0.39324040659813542,0.39324040659813542,0.39324040659813542,0.39324040659813542,0.39324040659813542,0.39324040659813542,0.39324040659813542]
[null,null,null,null,null,"Green","%",null,null,1.0052427018378092E-2,1.0052427018378092E-2,1.0052427018378092E-2,1.0052427018378092E-2,1.0052427018378092E-2,1.0052427018378092E-2,1.0052427018378092E-2,1.0052427018378092E-2,1.0052427018378092E-2,1.0052427018378092E-2,1.0052427018378092E-2,1.0052427018378092E-2,1.0052427018378092E-2,1.0052427018378092E-2,1.0052427018378092E-2,1.0052427018378092E-2]
[]
[null,null,null,null,"LV circuits peaking probabilities"]
[null,null,null,null,null,"Red or Black","%",null,null,{"$f":"IF(J$20, $H170, $H167)","v":0.59670716638348686},0.59670716638348686,0.59670716638348686,0.59670716638348686,0.59670716638348686,0.59670716638348686,0.59670716638348686,0.58981550082627798,0.59670716638348686,0.59670716638348686,0.59670716638348686,0.59670716638348686,0.59670716638348686,0.59670716638348686,0.59670716638348686,0.59670716638348686]
[null,null,null,null,null,"Amber or Yellow","%",null,null,0.39324040659813542,0.39324040659813542,0.39324040659813542,0.39324040659813542,0.39324040659813542,0.39324040659813542,0.39324040659813542,0.4001320721553443,0.39324040659813542,0.39324040659813542,0.39324040659813542,0.39324040659813542,0.39324040659813542,0.39324040659813542,0.39324040659813542,0.39324040659813542]
[null,null,null,null,null,"Green","%",null,null,1.0052427018378092E-2,1.0052427018378092E-2,1.0052427018378092E-2,1.0052427018378092E-2,1.0052427018378092E-2,1.0052427018378092E-2,1.0052427018378092E-2,1.0052427018378092E-2,1.0052427018378092E-2,1.0052427018378092E-2,1.0052427018378092E-2,1.0052427018378092E-2,1.0052427018378092E-2,1.0052427018378092E-2,1.0052427018378092E-2,1.0052427018378092E-2]
[]
[null,null,{"$f":"INDEX('Version control'!$H$29:$H$55,MATCH($A$1,'Version control'!$F$29:$F$55,0),1)&\"-J: Ratio of coincidence factor to load factor, based on uniform distribution in timebands and peaking probabilities\"","v":"Section 508-J: Ratio of coincidence factor to load factor, based on uniform distribution in timebands and peaking probabilities"}]
[]
[null,null,null,null,"Inverse of hours in timeband"]
[null,null,null,null,null,"Red or Black","1 / hours",null,null,{"$f":"1 / J24","v":1.2722646310432571E-3},1.2722646310432571E-3,1.2722646310432571E-3,1.2722646310432571E-3,1.2722646310432571E-3,1.2722646310432571E-3,1.2722646310432571E-3,3.8314176245210726E-3,1.2722646310432571E-3,1.2722646310432571E-3,1.2722646310432571E-3,1.2722646310432571E-3,1.2722646310432571E-3,1.2722646310432571E-3,1.2722646310432571E-3,1.2722646310432571E-3]
[null,null,null,null,null,"Amber or Yellow","1 / hours",null,null,2.9163021289005544E-4,2.9163021289005544E-4,2.9163021289005544E-4,2.9163021289005544E-4,2.9163021289005544E-4,2.9163021289005544E-4,2.9163021289005544E-4,2.5290844714213456E-4,2.9163021289005544E-4,2.9163021289005544E-4,2.9163021289005544E-4,2.9163021289005544E-4,2.9163021289005544E-4,2.9163021289005544E-4,2.9163021289005544E-4,2.9163021289005544E-4]
[null,null,null,null,null,"Green","1 / hours",null,null,2.1886627270737579E-4,2.1886627270737579E-4,2.1886627270737579E-4,2.1886627270737579E-4,2.1886627270737579E-4,2.1886627270737579E-4,2.1886627270737579E-4,2.1886627270737579E-4,2.1886627270737579E-4,2.1886627270737579E-4,2.1886627270737579E-4,2.1886627270737579E-4,2.1886627270737579E-4,2.1886627270737579E-4,2.1886627270737579E-4,2.1886627270737579E-4]
[]
[null,null,null,null,"Unit rate 1"]
[null,null,null,null,null,"GSPs","scalar",null,null,{"$f":"J177 * J$224 * hours_in_year","v":8.6015208379971249},{"$f":"K177 * K$224 * hours_in_year","v":8.6015208379971249},8.6015208379971249,8.6015208379971249,8.6015208379971249,8.6015208379971249,8.6015208379971249,24.917788256621474,8.6015208379971249,8.6015208379971249,8.6015208379971249,8.6015208379971249,8.6015208379971249,8.6015208379971249,8.6015208379971249,8.6015208379971249]
[null,null,null,null,null,"132kV","scalar",null,null,{"$f":"J182 * J224 * hours_in_year","v":0},0,0,0,0,0,0,0,0,0,0,0,0,0,0,0]
[null,null,null,null,null,"132kV/EHV","scalar",null,null,{"$f":"J187 * J224 * hours_in_year","v":0},0,0,0,0,0,0,0,0,0,0,0,0,0,0,0]
[null,null,null,null,null,"EHV","scalar",null,null,{"$f":"J192 * J224 * hours_in_year","v":8.6015208379971249},8.6015208379971249,8.6015208379971249,8.6015208379971249,8.6015208379971249,8.6015208379971249,8.6015208379971249,24.917788256621474,8.6015208379971249,8.6015208379971249,8.6015208379971249,8.6015208379971249,8.6015208379971249,8.6015208379971249,8.6015208379971249,8.6015208379971249]
[null,null,null,null,null,"EHV/HV","scalar",null,null,{"$f":"J197 * J224 * hours_in_year","v":6.668544210575762},6.668544210575762,6.668544210575762,6.668544210575762,6.668544210575762,6.668544210575762,6.668544210575762,19.850342372636113,6.668544210575762,6.668544210575762,6.668544210575762,6.668544210575762,6.668544210575762,6.668544210575762,6.668544210575762,6.668544210575762]
[null,null,null,null,null,"132kV/HV","scalar",null,null,{"$f":"J202 * J224 * hours_in_year","v":0},0,0,0,0,0,0,0,0,0,0,0,0,0,0,0]
[null,null,null,null,null,"HV","scalar",null,null,{"$f":"J207 * J224 * hours_in_year","v":6.668544210575762},6.668544210575762,6.668544210575762,6.668544210575762,6.668544210575762,6.668544210575762,6.668544210575762,19.850342372636113,6.668544210575762,6.668544210575762,6.668544210575762,6.668544210575762,6.668544210575762,6.668544210575762,6.668544210575762,6.668544210575762]
[null,null,null,null,null,"HV/LV","scalar",null,null,{"$f":"J212 * J224 * hours_in_year","v":6.668544210575762},6.668544210575762,6.668544210575762,6.668544210575762,6.668544210575762,6.668544210575762,6.668544210575762,19.850342372636113,6.668544210575762,6.668544210575762,6.668544210575762,6.668544210575762,6.668544210575762,6.668544210575762,6.668544210575762,6.668544210575762]
[null,null,null,null,null,"LV circuits","scalar",null,null,{"$f":"J217 * J224 * hours_in_year","v":6.668544210575762},6.668544210575762,6.668544210575762,6.668544210575762,6.668544210575762,6.668544210575762,6.668544210575762,19.850342372636113,6.668544210575762,6.668544210575762,6.668544210575762,6.668544210575762,6.668544210575762,6.668544210575762,6.668544210575762,6.668544210575762]
[]
[null,null,null,null,"Unit rate 2"]
[null,null,null,null,null,"GSPs","scalar",null,null,{"$f":"J178 * J225 * hours_in_year","v":0.56553702028091035},0.56553702028091035,0.56553702028091035,0.56553702028091035,0.56553702028091035,0.56553702028091035,0.56553702028091035,0.55550811487880036,0.56553702028091035,0.56553702028091035,0.56553702028091035,0.56553702028091035,0.56553702028091035,0.56553702028091035,0.56553702028091035,0.56553702028091035]
[null,null,null,null,null,"132kV","scalar",null,null,{"$f":"J183 * J225 * hours_in_year","v":0},0,0,0,0,0,0,0,0,0,0,0,0,0,0,0]
[null,null,null,null,null,"132kV/EHV","scalar",null,null,{"$f":"J188 * J225 * hours_in_year","v":0},0,0,0,0,0,0,0,0,0,0,0,0,0,0,0]
[null,null,null,null,null,"EHV","scalar",null,null,{"$f":"J193 * J225 * hours_in_year","v":0.56553702028091035},0.56553702028091035,0.56553702028091035,0.56553702028091035,0.56553702028091035,0.56553702028091035,0.56553702028091035,0.55550811487880036,0.56553702028091035,0.56553702028091035,0.56553702028091035,0.56553702028091035,0.56553702028091035,0.56553702028091035,0.56553702028091035,0.56553702028091035]
[null,null,null,null,null,"EHV/HV","scalar",null,null,{"$f":"J198 * J225 * hours_in_year","v":1.0073560022041474},1.0073560022041474,1.0073560022041474,1.0073560022041474,1.0073560022041474,1.0073560022041474,1.0073560022041474,0.88891252448471025,1.0073560022041474,1.0073560022041474,1.0073560022041474,1.0073560022041474,1.0073560022041474,1.0073560022041474,1.0073560022041474,1.0073560022041474]
[null,null,null,null,null,"132kV/HV","scalar",null,null,{"$f":"J203 * J225 * hours_in_year","v":0},0,0,0,0,0,0,0,0,0,0,0,0,0,0,0]
[null,null,null,null,null,"HV","scalar",null,null,{"$f":"J208 * J225 * hours_in_year","v":1.0073560022041474},1.0073560022041474,1.0073560022041474,1.0073560022041474,1.0073560022041474,1.0073560022041474,1.0073560022041474,0.88891252448471025,1.0073560022041474,1.0073560022041474,1.0073560022041474,1.0073560022041474,1.0073560022041474,1.0073560022041474,1.0073560022041474,1.0073560022041474]
[null,null,null,null,null,"HV/LV","scalar",null,null,{"$f":"J213 * J225 * hours_in_year","v":1.0073560022041474},1.0073560022041474,1.0073560022041474,1.0073560022041474,1.0073560022041474,1.0073560022041474,1.0073560022041474,0.88891252448471025,1.0073560022041474,1.0073560022041474,1.0073560022041474,1.0073560022041474,1.0073560022041474,1.0073560022041474,1.0073560022041474,1.0073560022041474]
[null,null,null,null,null,"LV circuits","scalar",null,null,{"$f":"J218 * J225 * hours_in_year","v":1.0073560022041474},1.0073560022041474,1.0073560022041474,1.0073560022041474,1.0073560022041474,1.0073560022041474,1.0073560022041474,0.88891252448471025,1.0073560022041474,1.0073560022041474,1.0073560022041474,1.0073560022041474,1.0073560022041474,1.0073560022041474,1.0073560022041474,1.0073560022041474]
[]
[null,null,null,null,"Unit rate 3"]
[null,null,null,null,null,"GSPs","scalar",null,null,{"$f":"J179 * J226 * hours_in_year","v":1.8379990980744023E-2},1.8379990980744023E-2,1.8379990980744023E-2,1.8379990980744023E-2,1.8379990980744023E-2,1.8379990980744023E-2,1.8379990980744023E-2,1.8379990980744023E-2,1.8379990980744023E-2,1.8379990980744023E-2,1.8379990980744023E-2,1.8379990980744023E-2,1.8379990980744023E-2,1.8379990980744023E-2,1.8379990980744023E-2,1.8379990980744023E-2]
[null,null,null,null,null,"132kV","scalar",null,null,{"$f":"J184 * J226 * hours_in_year","v":0},0,0,0,0,0,0,0,0,0,0,0,0,0,0,0]
[null,null,null,null,null,"132kV/EHV","scalar",null,null,{"$f":"J189 * J226 * hours_in_year","v":0},0,0,0,0,0,0,0,0,0,0,0,0,0,0,0]
[null,null,null,null,null,"EHV","scalar",null,null,{"$f":"J194 * J226 * hours_in_year","v":1.8379990980744023E-2},1.8379990980744023E-2,1.8379990980744023E-2,1.8379990980744023E-2,1.8379990980744023E-2,1.8379990980744023E-2,1.8379990980744023E-2,1.8379990980744023E-2,1.8379990980744023E-2,1.8379990980744023E-2,1.8379990980744023E-2,1.8379990980744023E-2,1.8379990980744023E-2,1.8379990980744023E-2,1.8379990980744023E-2,1.8379990980744023E-2]
[null,null,null,null,null,"EHV/HV","scalar",null,null,{"$f":"J199 * J226 * hours_in_year","v":1.9326005456212113E-2},1.9326005456212113E-2,1.9326005456212113E-2,1.9326005456212113E-2,1.9326005456212113E-2,1.9326005456212113E-2,1.9326005456212113E-2,1.9326005456212113E-2,1.9326005456212113E-2,1.9326005456212113E-2,1.9326005456212113E-2,1.9326005456212113E-2,1.9326005456212113E-2,1.9326005456212113E-2,1.9326005456212113E-2,1.9326005456212113E-2]
[null,null,null,null,null,"132kV/HV","scalar",null,null,{"$f":"J204 * J226 * hours_in_year","v":0},0,0,0,0,0,0,0,0,0,0,0,0,0,0,0]
[null,null,null,null,null,"HV","scalar",null,null,{"$f":"J209 * J226 * hours_in_year","v":1.9326005456212113E-2},1.9326005456212113E-2,1.9326005456212113E-2,1.9326005456212113E-2,1.9326005456212113E-2,1.9326005456212113E-2,1.9326005456212113E-2,1.9326005456212113E-2,1.9326005456212113E-2,1.9326005456212113E-2,1.9326005456212113E-2,1.9326005456212113E-2,1.9326005456212113E-2,1.9326005456212113E-2,1.9326005456212113E-2,1.9326005456212113E-2]
[null,null,null,null,null,"HV/LV","scalar",null,null,{"$f":"J214 * J226 * hours_in_year","v":1.9326005456212113E-2},1.9326005456212113E-2,1.9326005456212113E-2,1.9326005456212113E-2,1.9326005456212113E-2,1.9326005456212113E-2,1.9326005456212113E-2,1.9326005456212113E-2,1.9326005456212113E-2,1.9326005456212113E-2,1.9326005456212113E-2,1.9326005456212113E-2,1.9326005456212113E-2,1.9326005456212113E-2,1.9326005456212113E-2,1.9326005456212113E-2]
[null,null,null,null,null,"LV circuits","scalar",null,null,{"$f":"J219 * J226 * hours_in_year","v":1.9326005456212113E-2},1.9326005456212113E-2,1.9326005456212113E-2,1.9326005456212113E-2,1.9326005456212113E-2,1.9326005456212113E-2,1.9326005456212113E-2,1.9326005456212113E-2,1.9326005456212113E-2,1.9326005456212113E-2,1.9326005456212113E-2,1.9326005456212113E-2,1.9326005456212113E-2,1.9326005456212113E-2,1.9326005456212113E-2,1.9326005456212113E-2]
[]
[null,"Step 4: Results of Step 3"]
[]
[null,null,"This section combines the load coefficient, and pseudo load coefficients"]
[]
[null,null,{"$f":"INDEX('Version control'!$H$29:$H$55,MATCH($A$1,'Version control'!$F$29:$F$55,0),1)&\"-K: Load coefficient\"","v":"Section 508-K: Load coefficient"}]
[]
[null,null,null,null,"Load coefficient",null,"scalar",null,null,{"$f":"J91","v":1.9132128793735343},{"$f":"K91","v":1.9132128793735343},1.6004109250159284,1.6004109250159284,1.4589341692789963,1.2163801820020221,1.1437728937728937,1.8063291139240505,1,1,1,1,1,1,1,1]
[]
[null,null,{"$f":"INDEX('Version control'!$H$29:$H$55,MATCH($A$1,'Version control'!$F$29:$F$55,0),1)&\"-L: Pseudo load coefficients, by unit rate\"","v":"Section 508-L: Pseudo load coefficients, by unit rate"}]
[]
[null,null,null,null,"Unit rate 1"]
[null,null,null,null,null,"GSPs","scalar",null,null,{"$f":"J229 * J$93","v":12.006620302905752},{"$f":"K229 * K$93","v":12.006620302905752},13.292928606650811,13.292928606650811,11.379653450751535,9.6938169748182528,9.4908512096585174,27.788246198983625,8.6015208379971249,8.6015208379971249,8.6015208379971249,8.6015208379971249,8.6015208379971249,8.6015208379971249,8.6015208379971249,8.6015208379971249]
[null,null,null,null,null,"132kV","scalar",null,null,{"$f":"J230 * J$93","v":0},0,0,0,0,0,0,0,0,0,0,0,0,0,0,0]
[null,null,null,null,null,"132kV/EHV","scalar",null,null,0,0,0,0,0,0,0,0,0,0,0,0,0,0,0,0]
[null,null,null,null,null,"EHV","scalar",null,null,12.006620302905752,12.006620302905752,13.292928606650811,13.292928606650811,11.379653450751535,9.6938169748182528,9.4908512096585174,27.788246198983625,8.6015208379971249,8.6015208379971249,8.6015208379971249,8.6015208379971249,8.6015208379971249,8.6015208379971249,8.6015208379971249,8.6015208379971249]
[null,null,null,null,null,"EHV/HV","scalar",null,null,9.3084327548019026,9.3084327548019026,10.305675446357364,10.305675446357364,8.8223610180822067,7.5153741161961385,7.3580198292400434,22.137045042043376,6.668544210575762,6.668544210575762,6.668544210575762,6.668544210575762,6.668544210575762,6.668544210575762,6.668544210575762,6.668544210575762]
[null,null,null,null,null,"132kV/HV","scalar",null,null,0,0,0,0,0,0,0,0,0,0,0,0,0,0,0,0]
[null,null,null,null,null,"HV","scalar",null,null,9.3084327548019026,9.3084327548019026,10.305675446357364,10.305675446357364,8.8223610180822067,7.5153741161961385,7.3580198292400434,22.137045042043376,6.668544210575762,6.668544210575762,6.668544210575762,6.668544210575762,6.668544210575762,6.668544210575762,6.668544210575762,6.668544210575762]
[null,null,null,null,null,"HV/LV","scalar",null,null,9.3084327548019026,9.3084327548019026,10.305675446357364,10.305675446357364,8.8223610180822067,7.5153741161961385,7.3580198292400434,22.137045042043376,6.668544210575762,6.668544210575762,6.668544210575762,6.668544210575762,6.668544210575762,6.668544210575762,6.668544210575762,6.668544210575762]
[null,null,null,null,null,"LV circuits","scalar",null,null,9.3084327548019026,9.3084327548019026,10.305675446357364,10.305675446357364,8.8223610180822067,7.5153741161961385,7.3580198292400434,22.137045042043376,6.668544210575762,6.668544210575762,6.668544210575762,6.668544210575762,6.668544210575762,6.668544210575762,6.668544210575762,6.668544210575762]
[]
[null,null,null,null,"Unit rate 2"]
[null,null,null,null,null,"GSPs","scalar",null,null,{"$f":"J240 * J$93","v":0.78941717373444209},{"$f":"K240 * K$93","v":0.78941717373444209},0.87399000439585817,0.87399000439585817,0.7481950489427569,0.63735384362142211,0.62400915072241625,0.61950106096127422,0.56553702028091035,0.56553702028091035,0.56553702028091035,0.56553702028091035,0.56553702028091035,0.56553702028091035,0.56553702028091035,0.56553702028091035]
[null,null,null,null,null,"132kV","scalar",null,null,{"$f":"J241 * J$93","v":0},0,0,0,0,0,0,0,0,0,0,0,0,0,0,0]
[null,null,null,null,null,"132kV/EHV","scalar",null,null,0,0,0,0,0,0,0,0,0,0,0,0,0,0,0,0]
[null,null,null,null,null,"EHV","scalar",null,null,0.78941717373444209,0.78941717373444209,0.87399000439585817,0.87399000439585817,0.7481950489427569,0.63735384362142211,0.62400915072241625,0.61950106096127422,0.56553702028091035,0.56553702028091035,0.56553702028091035,0.56553702028091035,0.56553702028091035,0.56553702028091035,0.56553702028091035,0.56553702028091035]
[null,null,null,null,null,"EHV/HV","scalar",null,null,1.4061398276092081,1.4061398276092081,1.5567841630549317,1.5567841630549317,1.3327134145834325,1.1352788533295515,1.111508779917368,0.99131270501816049,1.0073560022041474,1.0073560022041474,1.0073560022041474,1.0073560022041474,1.0073560022041474,1.0073560022041474,1.0073560022041474,1.0073560022041474]
[null,null,null,null,null,"132kV/HV","scalar",null,null,0,0,0,0,0,0,0,0,0,0,0,0,0,0,0,0]
[null,null,null,null,null,"HV","scalar",null,null,1.4061398276092081,1.4061398276092081,1.5567841630549317,1.5567841630549317,1.3327134145834325,1.1352788533295515,1.111508779917368,0.99131270501816049,1.0073560022041474,1.0073560022041474,1.0073560022041474,1.0073560022041474,1.0073560022041474,1.0073560022041474,1.0073560022041474,1.0073560022041474]
[null,null,null,null,null,"HV/LV","scalar",null,null,1.4061398276092081,1.4061398276092081,1.5567841630549317,1.5567841630549317,1.3327134145834325,1.1352788533295515,1.111508779917368,0.99131270501816049,1.0073560022041474,1.0073560022041474,1.0073560022041474,1.0073560022041474,1.0073560022041474,1.0073560022041474,1.0073560022041474,1.0073560022041474]
[null,null,null,null,null,"LV circuits","scalar",null,null,1.4061398276092081,1.4061398276092081,1.5567841630549317,1.5567841630549317,1.3327134145834325,1.1352788533295515,1.111508779917368,0.99131270501816049,1.0073560022041474,1.0073560022041474,1.0073560022041474,1.0073560022041474,1.0073560022041474,1.0073560022041474,1.0073560022041474,1.0073560022041474]
[]
[null,null,null,null,"Unit rate 3"]
[null,null,null,null,null,"GSPs","scalar",null,null,{"$f":"J251 * J$93","v":2.5656110940494074E-2},{"$f":"K251 * K$93","v":2.5656110940494074E-2},2.8404733592996476E-2,2.8404733592996476E-2,2.4316389127938043E-2,2.0714042542229132E-2,2.0280339130553805E-2,2.0497313375005946E-2,1.8379990980744023E-2,1.8379990980744023E-2,1.8379990980744023E-2,1.8379990980744023E-2,1.8379990980744023E-2,1.8379990980744023E-2,1.8379990980744023E-2,1.8379990980744023E-2]
[null,null,null,null,null,"132kV","scalar",null,null,{"$f":"J252 * J$93","v":0},0,0,0,0,0,0,0,0,0,0,0,0,0,0,0]
[null,null,null,null,null,"132kV/EHV","scalar",null,null,0,0,0,0,0,0,0,0,0,0,0,0,0,0,0,0]
[null,null,null,null,null,"EHV","scalar",null,null,2.5656110940494074E-2,2.5656110940494074E-2,2.8404733592996476E-2,2.8404733592996476E-2,2.4316389127938043E-2,2.0714042542229132E-2,2.0280339130553805E-2,2.0497313375005946E-2,1.8379990980744023E-2,1.8379990980744023E-2,1.8379990980744023E-2,1.8379990980744023E-2,1.8379990980744023E-2,1.8379990980744023E-2,1.8379990980744023E-2,1.8379990980744023E-2]
[null,null,null,null,null,"EHV/HV","scalar",null,null,2.6976625861276703E-2,2.6976625861276703E-2,2.9866719574324834E-2,2.9866719574324834E-2,2.5567948833829318E-2,2.178019018674867E-2,2.1324164146844932E-2,2.1552306012449361E-2,1.9326005456212113E-2,1.9326005456212113E-2,1.9326005456212113E-2,1.9326005456212113E-2,1.9326005456212113E-2,1.9326005456212113E-2,1.9326005456212113E-2,1.9326005456212113E-2]
[null,null,null,null,null,"132kV/HV","scalar",null,null,0,0,0,0,0,0,0,0,0,0,0,0,0,0,0,0]
[null,null,null,null,null,"HV","scalar",null,null,2.6976625861276703E-2,2.6976625861276703E-2,2.9866719574324834E-2,2.9866719574324834E-2,2.5567948833829318E-2,2.178019018674867E-2,2.1324164146844932E-2,2.1552306012449361E-2,1.9326005456212113E-2,1.9326005456212113E-2,1.9326005456212113E-2,1.9326005456212113E-2,1.9326005456212113E-2,1.9326005456212113E-2,1.9326005456212113E-2,1.9326005456212113E-2]
[null,null,null,null,null,"HV/LV","scalar",null,null,2.6976625861276703E-2,2.6976625861276703E-2,2.9866719574324834E-2,2.9866719574324834E-2,2.5567948833829318E-2,2.178019018674867E-2,2.1324164146844932E-2,2.1552306012449361E-2,1.9326005456212113E-2,1.9326005456212113E-2,1.9326005456212113E-2,1.9326005456212113E-2,1.9326005456212113E-2,1.9326005456212113E-2,1.9326005456212113E-2,1.9326005456212113E-2]
[null,null,null,null,null,"LV circuits","scalar",null,null,2.6976625861276703E-2,2.6976625861276703E-2,2.9866719574324834E-2,2.9866719574324834E-2,2.5567948833829318E-2,2.178019018674867E-2,2.1324164146844932E-2,2.1552306012449361E-2,1.9326005456212113E-2,1.9326005456212113E-2,1.9326005456212113E-2,1.9326005456212113E-2,1.9326005456212113E-2,1.9326005456212113E-2,1.9326005456212113E-2,1.9326005456212113E-2]
[]
[null,"Checks"]
[]
[null,null,null,null,"Check for error values",null,"number of issues",{"$f":"SUM(IF(ISERROR(H20:Y302), 1))","v":0}]
[]
[null,"End of sheet"]

{"sheet":"System peak demand","index":23,"n_rows":283,"n_cols":27,"rows_kept":283,"cut":false,"hidden":true,"merged":[]}
[{"$f":"MID(CELL(\"filename\",A1),FIND(\"]\",CELL(\"filename\",A1))+1,255)","v":"System peak demand"}]
[{"$f":"Cover!D23 & \" - \" & TEXT(CIRP_submission_date, \"mmm\") & \"-\" & RIGHT(YEAR(CIRP_submission_date), 2) & \" - \" & Cover!D25","v":"SP Distribution - Jan-26 - V1"}]
[{"$f":"Cover!D2&\" - \"&Cover!D8&\" v\"&Cover!D10&\" - \"&Cover!D19","v":"Cost Information Review Pack (CIRP) - Release for charge setting v1 - 2027/28"}]
[{"$f":"H281 & IF(H281 = 1, \" issue\", \" issues\") &\" identified in checks on this sheet\"","v":"0 issues identified in checks on this sheet"}]
[null,"Click here to return to model map",null,null,null,null,"Units","Constants",null,"Domestic Aggregated or CT","Domestic Aggregated (Related MPAN)","Non-Domestic Aggregated or CT","Non-Domestic Aggregated (Related MPAN)","LV Site Specific","LV Sub Site Specific","HV Site Specific","Unmetered Supplies","LV Generation Aggregated","LV Sub Generation Aggregated","LV Generation Site Specific","LV Generation Site Specific no RP Charge","LV Sub Generation Site Specific","LV Sub Generation Site Specific no RP Charge","HV Generation Site Specific","HV Generation Site Specific no RP Charge",null,"Legal text reference"]
[]
[null,"Description"]
[]
[null,null,"This sheet calculates load at system peak based on chargeable load."]
[null,null,"This is used to calculate notional asset values used in the allocation of other operating costs in the 'Unit costs' tab."]
[null,null,"Chargeable volumes are made up of three components:"]
[null,null,null,"1. Load charged to unit rates"]
[null,null,null,"2.  Import and exceeded capacity charged to capacity charges."]
[null,null,null,"3. Estimated maximum load (i.e. capacity) used to calculate fixed charges."]
[]
[null,"Common inputs for chargeable load calculations"]
[]
[null,null,{"$f":"INDEX('Version control'!$H$29:$H$55,MATCH($A$1,'Version control'!$F$29:$F$55,0),1)&\"-A: Common inputs for chargeable load calculations\"","v":"Section 509-A: Common inputs for chargeable load calculations"}]
[]
[null,null,null,"This section brings in common inputs used for the three elements of chargeable load"]
[]
[null,null,null,null,"Standing charges factors adapted to use 132kV/HV, by network level"]
[null,null,null,null,null,"GSPs","%",null,null,{"$f":"'Standing charge factors'!J44","v":0},{"$f":"'Standing charge factors'!K44","v":0},{"$f":"'Standing charge factors'!L44","v":0},{"$f":"'Standing charge factors'!M44","v":0},{"$f":"'Standing charge factors'!N44","v":0},{"$f":"'Standing charge factors'!O44","v":0},{"$f":"'Standing charge factors'!P44","v":0},{"$f":"'Standing charge factors'!Q44","v":0},{"$f":"'Standing charge factors'!R44","v":0},{"$f":"'Standing charge factors'!S44","v":0},{"$f":"'Standing charge factors'!T44","v":0},{"$f":"'Standing charge factors'!U44","v":0},{"$f":"'Standing charge factors'!V44","v":0},{"$f":"'Standing charge factors'!W44","v":0},{"$f":"'Standing charge factors'!X44","v":0},{"$f":"'Standing charge factors'!Y44","v":0}]
[null,null,null,null,null,"132kV","%",null,null,{"$f":"'Standing charge factors'!J45","v":0},{"$f":"'Standing charge factors'!K45","v":0},{"$f":"'Standing charge factors'!L45","v":0},{"$f":"'Standing charge factors'!M45","v":0},{"$f":"'Standing charge factors'!N45","v":0},{"$f":"'Standing charge factors'!O45","v":0},{"$f":"'Standing charge factors'!P45","v":0},{"$f":"'Standing charge factors'!Q45","v":0},{"$f":"'Standing charge factors'!R45","v":0},{"$f":"'Standing charge factors'!S45","v":0},{"$f":"'Standing charge factors'!T45","v":0},{"$f":"'Standing charge factors'!U45","v":0},{"$f":"'Standing charge factors'!V45","v":0},{"$f":"'Standing charge factors'!W45","v":0},{"$f":"'Standing charge factors'!X45","v":0},{"$f":"'Standing charge factors'!Y45","v":0}]
[null,null,null,null,null,"132kV/EHV","%",null,null,{"$f":"'Standing charge factors'!J46","v":0},{"$f":"'Standing charge factors'!K46","v":0},{"$f":"'Standing charge factors'!L46","v":0},{"$f":"'Standing charge factors'!M46","v":0},{"$f":"'Standing charge factors'!N46","v":0},{"$f":"'Standing charge factors'!O46","v":0},{"$f":"'Standing charge factors'!P46","v":0},{"$f":"'Standing charge factors'!Q46","v":0},{"$f":"'Standing charge factors'!R46","v":0},{"$f":"'Standing charge factors'!S46","v":0},{"$f":"'Standing charge factors'!T46","v":0},{"$f":"'Standing charge factors'!U46","v":0},{"$f":"'Standing charge factors'!V46","v":0},{"$f":"'Standing charge factors'!W46","v":0},{"$f":"'Standing charge factors'!X46","v":0},{"$f":"'Standing charge factors'!Y46","v":0}]
[null,null,null,null,null,"EHV","%",null,null,{"$f":"'Standing charge factors'!J47","v":0},{"$f":"'Standing charge factors'!K47","v":0},{"$f":"'Standing charge factors'!L47","v":0},{"$f":"'Standing charge factors'!M47","v":0},{"$f":"'Standing charge factors'!N47","v":0},{"$f":"'Standing charge factors'!O47","v":0},{"$f":"'Standing charge factors'!P47","v":0.2},{"$f":"'Standing charge factors'!Q47","v":0},{"$f":"'Standing charge factors'!R47","v":0},{"$f":"'Standing charge factors'!S47","v":0},{"$f":"'Standing charge factors'!T47","v":0},{"$f":"'Standing charge factors'!U47","v":0},{"$f":"'Standing charge factors'!V47","v":0},{"$f":"'Standing charge factors'!W47","v":0},{"$f":"'Standing charge factors'!X47","v":0},{"$f":"'Standing charge factors'!Y47","v":0}]
[null,null,null,null,null,"EHV/HV","%",null,null,{"$f":"'Standing charge factors'!J48","v":0},{"$f":"'Standing charge factors'!K48","v":0},{"$f":"'Standing charge factors'!L48","v":0},{"$f":"'Standing charge factors'!M48","v":0},{"$f":"'Standing charge factors'!N48","v":0},{"$f":"'Standing charge factors'!O48","v":0},{"$f":"'Standing charge factors'!P48","v":1},{"$f":"'Standing charge factors'!Q48","v":0},{"$f":"'Standing charge factors'!R48","v":0},{"$f":"'Standing charge factors'!S48","v":0},{"$f":"'Standing charge factors'!T48","v":0},{"$f":"'Standing charge factors'!U48","v":0},{"$f":"'Standing charge factors'!V48","v":0},{"$f":"'Standing charge factors'!W48","v":0},{"$f":"'Standing charge factors'!X48","v":0},{"$f":"'Standing charge factors'!Y48","v":0}]
[null,null,null,null,null,"132kV/HV","%",null,null,{"$f":"'Standing charge factors'!J49","v":0},{"$f":"'Standing charge factors'!K49","v":0},{"$f":"'Standing charge factors'!L49","v":0},{"$f":"'Standing charge factors'!M49","v":0},{"$f":"'Standing charge factors'!N49","v":0},{"$f":"'Standing charge factors'!O49","v":0},{"$f":"'Standing charge factors'!P49","v":1},{"$f":"'Standing charge factors'!Q49","v":0},{"$f":"'Standing charge factors'!R49","v":0},{"$f":"'Standing charge factors'!S49","v":0},{"$f":"'Standing charge factors'!T49","v":0},{"$f":"'Standing charge factors'!U49","v":0},{"$f":"'Standing charge factors'!V49","v":0},{"$f":"'Standing charge factors'!W49","v":0},{"$f":"'Standing charge factors'!X49","v":0},{"$f":"'Standing charge factors'!Y49","v":0}]
[null,null,null,null,null,"HV","%",null,null,{"$f":"'Standing charge factors'!J50","v":0},{"$f":"'Standing charge factors'!K50","v":0},{"$f":"'Standing charge factors'!L50","v":0},{"$f":"'Standing charge factors'!M50","v":0},{"$f":"'Standing charge factors'!N50","v":0.2},{"$f":"'Standing charge factors'!O50","v":1},{"$f":"'Standing charge factors'!P50","v":1},{"$f":"'Standing charge factors'!Q50","v":0},{"$f":"'Standing charge factors'!R50","v":0},{"$f":"'Standing charge factors'!S50","v":0},{"$f":"'Standing charge factors'!T50","v":0},{"$f":"'Standing charge factors'!U50","v":0},{"$f":"'Standing charge factors'!V50","v":0},{"$f":"'Standing charge factors'!W50","v":0},{"$f":"'Standing charge factors'!X50","v":0},{"$f":"'Standing charge factors'!Y50","v":0}]
[null,null,null,null,null,"HV/LV","%",null,null,{"$f":"'Standing charge factors'!J51","v":0},{"$f":"'Standing charge factors'!K51","v":0},{"$f":"'Standing charge factors'!L51","v":0},{"$f":"'Standing charge factors'!M51","v":0},{"$f":"'Standing charge factors'!N51","v":1},{"$f":"'Standing charge factors'!O51","v":1},{"$f":"'Standing charge factors'!P51","v":0},{"$f":"'Standing charge factors'!Q51","v":0},{"$f":"'Standing charge factors'!R51","v":0},{"$f":"'Standing charge factors'!S51","v":0},{"$f":"'Standing charge factors'!T51","v":0},{"$f":"'Standing charge factors'!U51","v":0},{"$f":"'Standing charge factors'!V51","v":0},{"$f":"'Standing charge factors'!W51","v":0},{"$f":"'Standing charge factors'!X51","v":0},{"$f":"'Standing charge factors'!Y51","v":0}]
[null,null,null,null,null,"LV circuits","%",null,null,{"$f":"'Standing charge factors'!J52","v":1},{"$f":"'Standing charge factors'!K52","v":1},{"$f":"'Standing charge factors'!L52","v":1},{"$f":"'Standing charge factors'!M52","v":1},{"$f":"'Standing charge factors'!N52","v":1},{"$f":"'Standing charge factors'!O52","v":0},{"$f":"'Standing charge factors'!P52","v":0},{"$f":"'Standing charge factors'!Q52","v":0},{"$f":"'Standing charge factors'!R52","v":0},{"$f":"'Standing charge factors'!S52","v":0},{"$f":"'Standing charge factors'!T52","v":0},{"$f":"'Standing charge factors'!U52","v":0},{"$f":"'Standing charge factors'!V52","v":0},{"$f":"'Standing charge factors'!W52","v":0},{"$f":"'Standing charge factors'!X52","v":0},{"$f":"'Standing charge factors'!Y52","v":0}]
[]
[null,null,null,null,"User loss factor",null,null,null,">",null,null,null,null,null,null,null,null,null,null,null,null,null,null,null,null,null,"Paragraph 61 (b)"]
[null,null,null,null,null,"GSPs","scalar",null,null,{"$f":"TRANSPOSE('Load & loss characteristics'!K145:S160)","v":1.1299999999999999},1.1299999999999999,1.1299999999999999,1.1299999999999999,1.1299999999999999,1.0449999999999999,1.0249999999999999,1.1299999999999999,-1.1299999999999999,-1.0449999999999999,-1.1299999999999999,-1.1299999999999999,-1.0449999999999999,-1.0449999999999999,-1.0249999999999999,-1.0249999999999999]
[null,null,null,null,null,"132kV","scalar",null,null,1.1299999999999999,1.1299999999999999,1.1299999999999999,1.1299999999999999,1.1299999999999999,1.0449999999999999,1.0249999999999999,1.1299999999999999,-1.1299999999999999,-1.0449999999999999,-1.1299999999999999,-1.1299999999999999,-1.0449999999999999,-1.0449999999999999,-1.0249999999999999,-1.0249999999999999]
[null,null,null,null,null,"132kV/EHV","scalar",null,null,1.1299999999999999,1.1299999999999999,1.1299999999999999,1.1299999999999999,1.1299999999999999,1.0449999999999999,1.0249999999999999,1.1299999999999999,-1.1299999999999999,-1.0449999999999999,-1.1299999999999999,-1.1299999999999999,-1.0449999999999999,-1.0449999999999999,-1.0249999999999999,-1.0249999999999999]
[null,null,null,null,null,"EHV","scalar",null,null,1.1299999999999999,1.1299999999999999,1.1299999999999999,1.1299999999999999,1.1299999999999999,1.0449999999999999,1.0249999999999999,1.1299999999999999,-1.1299999999999999,-1.0449999999999999,-1.1299999999999999,-1.1299999999999999,-1.0449999999999999,-1.0449999999999999,-1.0249999999999999,-1.0249999999999999]
[null,null,null,null,null,"EHV/HV","scalar",null,null,1.1299999999999999,1.1299999999999999,1.1299999999999999,1.1299999999999999,1.1299999999999999,1.0449999999999999,1.0249999999999999,1.1299999999999999,-1.1299999999999999,-1.0449999999999999,-1.1299999999999999,-1.1299999999999999,-1.0449999999999999,-1.0449999999999999,-1.0249999999999999,-1.0249999999999999]
[null,null,null,null,null,"132kV/HV","scalar",null,null,0,0,0,0,0,0,0,0,0,0,0,0,0,0,0,0]
[null,null,null,null,null,"HV","scalar",null,null,1.1299999999999999,1.1299999999999999,1.1299999999999999,1.1299999999999999,1.1299999999999999,1.0449999999999999,1.0249999999999999,1.1299999999999999,-1.1299999999999999,-1.0449999999999999,-1.1299999999999999,-1.1299999999999999,-1.0449999999999999,-1.0449999999999999,0,0]
[null,null,null,null,null,"HV/LV","scalar",null,null,1.1299999999999999,1.1299999999999999,1.1299999999999999,1.1299999999999999,1.1299999999999999,1.0449999999999999,0,1.1299999999999999,-1.1299999999999999,0,-1.1299999999999999,-1.1299999999999999,0,0,0,0]
[null,null,null,null,null,"LV circuits","scalar",null,null,1.1299999999999999,1.1299999999999999,1.1299999999999999,1.1299999999999999,1.1299999999999999,0,0,1.1299999999999999,0,0,0,0,0,0,0,0]
[]
[null,null,null,null,"Network loss factor"]
[null,null,null,null,null,"GSPs","scalar",{"$f":"'Load & loss characteristics'!K29","v":1}]
[null,null,null,null,null,"132kV","scalar",{"$f":"'Load & loss characteristics'!L29","v":1}]
[null,null,null,null,null,"132kV/EHV","scalar",{"$f":"'Load & loss characteristics'!M29","v":1}]
[null,null,null,null,null,"EHV","scalar",{"$f":"'Load & loss characteristics'!N29","v":1.0029999999999999}]
[null,null,null,null,null,"EHV/HV","scalar",{"$f":"'Load & loss characteristics'!O29","v":1.0129999999999999}]
[null,null,null,null,null,"132kV/HV","scalar",{"$f":"'Load & loss characteristics'!P29","v":1.0129999999999999}]
[null,null,null,null,null,"HV","scalar",{"$f":"'Load & loss characteristics'!Q29","v":1.0249999999999999}]
[null,null,null,null,null,"HV/LV","scalar",{"$f":"'Load & loss characteristics'!R29","v":1.0449999999999999}]
[null,null,null,null,null,"LV circuits","scalar",{"$f":"'Load & loss characteristics'!S29","v":1.1299999999999999}]
[]
[null,null,null,null,"Discounted volumes (MWh)",null,null,null,">",null,null,null,null,null,null,null,null,null,null,null,null,null,null,null,null,null,"Paragraph 61 (a)"]
[null,null,null,null,null,"Unit rate 1","MWh",null,null,{"$f":"'Volume adjustments'!J238","v":707229.33820484916},{"$f":"'Volume adjustments'!K238","v":451.5290967967498},{"$f":"'Volume adjustments'!L238","v":171432.31642989253},{"$f":"'Volume adjustments'!M238","v":341.90600000000001},{"$f":"'Volume adjustments'!N238","v":238677.8533091844},{"$f":"'Volume adjustments'!O238","v":27189.364874667641},{"$f":"'Volume adjustments'!P238","v":282979.89363327925},{"$f":"'Volume adjustments'!Q238","v":9988.9167123288153},{"$f":"'Volume adjustments'!R238","v":8003.0200145111739},{"$f":"'Volume adjustments'!S238","v":14.658926785947987},{"$f":"'Volume adjustments'!T238","v":5980.8440000000001},{"$f":"'Volume adjustments'!U238","v":0},{"$f":"'Volume adjustments'!V238","v":76.418999999999997},{"$f":"'Volume adjustments'!W238","v":0},{"$f":"'Volume adjustments'!X238","v":110295.99099999999},{"$f":"'Volume adjustments'!Y238","v":0}]
[null,null,null,null,null,"Unit rate 2","MWh",null,null,{"$f":"'Volume adjustments'!J249","v":2489637.9882059051},{"$f":"'Volume adjustments'!K249","v":11178.916329571792},{"$f":"'Volume adjustments'!L249","v":913719.44541926903},{"$f":"'Volume adjustments'!M249","v":6616.54},{"$f":"'Volume adjustments'!N249","v":1147639.8550571094},{"$f":"'Volume adjustments'!O249","v":126491.79905838602},{"$f":"'Volume adjustments'!P249","v":1316782.225363679},{"$f":"'Volume adjustments'!Q249","v":61153.198525766631},{"$f":"'Volume adjustments'!R249","v":48858.348150675512},{"$f":"'Volume adjustments'!S249","v":69.692749320236075},{"$f":"'Volume adjustments'!T249","v":30749.954999999994},{"$f":"'Volume adjustments'!U249","v":0},{"$f":"'Volume adjustments'!V249","v":447.91699999999997},{"$f":"'Volume adjustments'!W249","v":0},{"$f":"'Volume adjustments'!X249","v":353394.92799999996},{"$f":"'Volume adjustments'!Y249","v":0}]
[null,null,null,null,null,"Unit rate 3","MWh",null,null,{"$f":"'Volume adjustments'!J260","v":2429500.6428217776},{"$f":"'Volume adjustments'!K260","v":132183.03831601172},{"$f":"'Volume adjustments'!L260","v":733724.96463830164},{"$f":"'Volume adjustments'!M260","v":27874.395},{"$f":"'Volume adjustments'!N260","v":1032482.5091777217},{"$f":"'Volume adjustments'!O260","v":127845.20448204463},{"$f":"'Volume adjustments'!P260","v":1451050.1143581993},{"$f":"'Volume adjustments'!Q260","v":136408.95488193643},{"$f":"'Volume adjustments'!R260","v":22200.103733723437},{"$f":"'Volume adjustments'!S260","v":63.286158755382779},{"$f":"'Volume adjustments'!T260","v":29476.701999999994},{"$f":"'Volume adjustments'!U260","v":0},{"$f":"'Volume adjustments'!V260","v":427.12099999999998},{"$f":"'Volume adjustments'!W260","v":0},{"$f":"'Volume adjustments'!X260","v":394088.42299999995},{"$f":"'Volume adjustments'!Y260","v":0}]
[null,null,null,null,null,"Total discounted MWh","MWh",null,null,{"$f":"SUM(J56:J58)","v":5626367.9692325313},143813.48374238025,1818876.7264874631,34832.841,2418800.2175440155,281526.36841509829,3050812.2333551575,207551.07012003189,79061.471898910124,147.63783486156683,66207.500999999989,0,951.45699999999999,0,857779.34199999995,0]
[]
[null,null,null,null,"Load factor",null,"%",null,">",{"$f":"'Inputs by customer type'!J18","v":0.46633333333333332},{"$f":"'Inputs by customer type'!K18","v":7.6666666666666675E-2},{"$f":"'Inputs by customer type'!L18","v":0.40566666666666662},{"$f":"'Inputs by customer type'!M18","v":0.2253333333333333},{"$f":"'Inputs by customer type'!N18","v":0.53166666666666673},{"$f":"'Inputs by customer type'!O18","v":0.65933333333333344},{"$f":"'Inputs by customer type'!P18","v":0.72800000000000009},{"$f":"'Inputs by customer type'!Q18","v":0.52666666666666673},null,null,null,null,null,null,null,null,null,"Paragraph 61 (c) "]
[]
[null,"Load at system peak charged to unit rates"]
[]
[null,null,"This section calculates the system peak load based on load charged to unit rates"]
[]
[null,null,{"$f":"INDEX('Version control'!$H$29:$H$55,MATCH($A$1,'Version control'!$F$29:$F$55,0),1)&\"-B: System peak load, by unit rate\"","v":"Section 509-B: System peak load, by unit rate"}]
[]
[null,null,null,null,"Pseudo load coefficient, unit rate 1"]
[null,null,null,null,null,"GSPs","scalar",null,null,{"$f":"'Pseudo-load coefficients'!J272","v":12.006620302905752},{"$f":"'Pseudo-load coefficients'!K272","v":12.006620302905752},{"$f":"'Pseudo-load coefficients'!L272","v":13.292928606650811},{"$f":"'Pseudo-load coefficients'!M272","v":13.292928606650811},{"$f":"'Pseudo-load coefficients'!N272","v":11.379653450751535},{"$f":"'Pseudo-load coefficients'!O272","v":9.6938169748182528},{"$f":"'Pseudo-load coefficients'!P272","v":9.4908512096585174},{"$f":"'Pseudo-load coefficients'!Q272","v":27.788246198983625},{"$f":"'Pseudo-load coefficients'!R272","v":8.6015208379971249},{"$f":"'Pseudo-load coefficients'!S272","v":8.6015208379971249},{"$f":"'Pseudo-load coefficients'!T272","v":8.6015208379971249},{"$f":"'Pseudo-load coefficients'!U272","v":8.6015208379971249},{"$f":"'Pseudo-load coefficients'!V272","v":8.6015208379971249},{"$f":"'Pseudo-load coefficients'!W272","v":8.6015208379971249},{"$f":"'Pseudo-load coefficients'!X272","v":8.6015208379971249},{"$f":"'Pseudo-load coefficients'!Y272","v":8.6015208379971249}]
[null,null,null,null,null,"132kV","scalar",null,null,{"$f":"'Pseudo-load coefficients'!J273","v":0},{"$f":"'Pseudo-load coefficients'!K273","v":0},{"$f":"'Pseudo-load coefficients'!L273","v":0},{"$f":"'Pseudo-load coefficients'!M273","v":0},{"$f":"'Pseudo-load coefficients'!N273","v":0},{"$f":"'Pseudo-load coefficients'!O273","v":0},{"$f":"'Pseudo-load coefficients'!P273","v":0},{"$f":"'Pseudo-load coefficients'!Q273","v":0},{"$f":"'Pseudo-load coefficients'!R273","v":0},{"$f":"'Pseudo-load coefficients'!S273","v":0},{"$f":"'Pseudo-load coefficients'!T273","v":0},{"$f":"'Pseudo-load coefficients'!U273","v":0},{"$f":"'Pseudo-load coefficients'!V273","v":0},{"$f":"'Pseudo-load coefficients'!W273","v":0},{"$f":"'Pseudo-load coefficients'!X273","v":0},{"$f":"'Pseudo-load coefficients'!Y273","v":0}]
[null,null,null,null,null,"132kV/EHV","scalar",null,null,{"$f":"'Pseudo-load coefficients'!J274","v":0},{"$f":"'Pseudo-load coefficients'!K274","v":0},{"$f":"'Pseudo-load coefficients'!L274","v":0},{"$f":"'Pseudo-load coefficients'!M274","v":0},{"$f":"'Pseudo-load coefficients'!N274","v":0},{"$f":"'Pseudo-load coefficients'!O274","v":0},{"$f":"'Pseudo-load coefficients'!P274","v":0},{"$f":"'Pseudo-load coefficients'!Q274","v":0},{"$f":"'Pseudo-load coefficients'!R274","v":0},{"$f":"'Pseudo-load coefficients'!S274","v":0},{"$f":"'Pseudo-load coefficients'!T274","v":0},{"$f":"'Pseudo-load coefficients'!U274","v":0},{"$f":"'Pseudo-load coefficients'!V274","v":0},{"$f":"'Pseudo-load coefficients'!W274","v":0},{"$f":"'Pseudo-load coefficients'!X274","v":0},{"$f":"'Pseudo-load coefficients'!Y274","v":0}]
[null,null,null,null,null,"EHV","scalar",null,null,{"$f":"'Pseudo-load coefficients'!J275","v":12.006620302905752},{"$f":"'Pseudo-load coefficients'!K275","v":12.006620302905752},{"$f":"'Pseudo-load coefficients'!L275","v":13.292928606650811},{"$f":"'Pseudo-load coefficients'!M275","v":13.292928606650811},{"$f":"'Pseudo-load coefficients'!N275","v":11.379653450751535},{"$f":"'Pseudo-load coefficients'!O275","v":9.6938169748182528},{"$f":"'Pseudo-load coefficients'!P275","v":9.4908512096585174},{"$f":"'Pseudo-load coefficients'!Q275","v":27.788246198983625},{"$f":"'Pseudo-load coefficients'!R275","v":8.6015208379971249},{"$f":"'Pseudo-load coefficients'!S275","v":8.6015208379971249},{"$f":"'Pseudo-load coefficients'!T275","v":8.6015208379971249},{"$f":"'Pseudo-load coefficients'!U275","v":8.6015208379971249},{"$f":"'Pseudo-load coefficients'!V275","v":8.6015208379971249},{"$f":"'Pseudo-load coefficients'!W275","v":8.6015208379971249},{"$f":"'Pseudo-load coefficients'!X275","v":8.6015208379971249},{"$f":"'Pseudo-load coefficients'!Y275","v":8.6015208379971249}]
[null,null,null,null,null,"EHV/HV","scalar",null,null,{"$f":"'Pseudo-load coefficients'!J276","v":9.3084327548019026},{"$f":"'Pseudo-load coefficients'!K276","v":9.3084327548019026},{"$f":"'Pseudo-load coefficients'!L276","v":10.305675446357364},{"$f":"'Pseudo-load coefficients'!M276","v":10.305675446357364},{"$f":"'Pseudo-load coefficients'!N276","v":8.8223610180822067},{"$f":"'Pseudo-load coefficients'!O276","v":7.5153741161961385},{"$f":"'Pseudo-load coefficients'!P276","v":7.3580198292400434},{"$f":"'Pseudo-load coefficients'!Q276","v":22.137045042043376},{"$f":"'Pseudo-load coefficients'!R276","v":6.668544210575762},{"$f":"'Pseudo-load coefficients'!S276","v":6.668544210575762},{"$f":"'Pseudo-load coefficients'!T276","v":6.668544210575762},{"$f":"'Pseudo-load coefficients'!U276","v":6.668544210575762},{"$f":"'Pseudo-load coefficients'!V276","v":6.668544210575762},{"$f":"'Pseudo-load coefficients'!W276","v":6.668544210575762},{"$f":"'Pseudo-load coefficients'!X276","v":6.668544210575762},{"$f":"'Pseudo-load coefficients'!Y276","v":6.668544210575762}]
[null,null,null,null,null,"132kV/HV","scalar",null,null,{"$f":"'Pseudo-load coefficients'!J277","v":0},{"$f":"'Pseudo-load coefficients'!K277","v":0},{"$f":"'Pseudo-load coefficients'!L277","v":0},{"$f":"'Pseudo-load coefficients'!M277","v":0},{"$f":"'Pseudo-load coefficients'!N277","v":0},{"$f":"'Pseudo-load coefficients'!O277","v":0},{"$f":"'Pseudo-load coefficients'!P277","v":0},{"$f":"'Pseudo-load coefficients'!Q277","v":0},{"$f":"'Pseudo-load coefficients'!R277","v":0},{"$f":"'Pseudo-load coefficients'!S277","v":0},{"$f":"'Pseudo-load coefficients'!T277","v":0},{"$f":"'Pseudo-load coefficients'!U277","v":0},{"$f":"'Pseudo-load coefficients'!V277","v":0},{"$f":"'Pseudo-load coefficients'!W277","v":0},{"$f":"'Pseudo-load coefficients'!X277","v":0},{"$f":"'Pseudo-load coefficients'!Y277","v":0}]
[null,null,null,null,null,"HV","scalar",null,null,{"$f":"'Pseudo-load coefficients'!J278","v":9.3084327548019026},{"$f":"'Pseudo-load coefficients'!K278","v":9.3084327548019026},{"$f":"'Pseudo-load coefficients'!L278","v":10.305675446357364},{"$f":"'Pseudo-load coefficients'!M278","v":10.305675446357364},{"$f":"'Pseudo-load coefficients'!N278","v":8.8223610180822067},{"$f":"'Pseudo-load coefficients'!O278","v":7.5153741161961385},{"$f":"'Pseudo-load coefficients'!P278","v":7.3580198292400434},{"$f":"'Pseudo-load coefficients'!Q278","v":22.137045042043376},{"$f":"'Pseudo-load coefficients'!R278","v":6.668544210575762},{"$f":"'Pseudo-load coefficients'!S278","v":6.668544210575762},{"$f":"'Pseudo-load coefficients'!T278","v":6.668544210575762},{"$f":"'Pseudo-load coefficients'!U278","v":6.668544210575762},{"$f":"'Pseudo-load coefficients'!V278","v":6.668544210575762},{"$f":"'Pseudo-load coefficients'!W278","v":6.668544210575762},{"$f":"'Pseudo-load coefficients'!X278","v":6.668544210575762},{"$f":"'Pseudo-load coefficients'!Y278","v":6.668544210575762}]
[null,null,null,null,null,"HV/LV","scalar",null,null,{"$f":"'Pseudo-load coefficients'!J279","v":9.3084327548019026},{"$f":"'Pseudo-load coefficients'!K279","v":9.3084327548019026},{"$f":"'Pseudo-load coefficients'!L279","v":10.305675446357364},{"$f":"'Pseudo-load coefficients'!M279","v":10.305675446357364},{"$f":"'Pseudo-load coefficients'!N279","v":8.8223610180822067},{"$f":"'Pseudo-load coefficients'!O279","v":7.5153741161961385},{"$f":"'Pseudo-load coefficients'!P279","v":7.3580198292400434},{"$f":"'Pseudo-load coefficients'!Q279","v":22.137045042043376},{"$f":"'Pseudo-load coefficients'!R279","v":6.668544210575762},{"$f":"'Pseudo-load coefficients'!S279","v":6.668544210575762},{"$f":"'Pseudo-load coefficients'!T279","v":6.668544210575762},{"$f":"'Pseudo-load coefficients'!U279","v":6.668544210575762},{"$f":"'Pseudo-load coefficients'!V279","v":6.668544210575762},{"$f":"'Pseudo-load coefficients'!W279","v":6.668544210575762},{"$f":"'Pseudo-load coefficients'!X279","v":6.668544210575762},{"$f":"'Pseudo-load coefficients'!Y279","v":6.668544210575762}]
[null,null,null,null,null,"LV circuits","scalar",null,null,{"$f":"'Pseudo-load coefficients'!J280","v":9.3084327548019026},{"$f":"'Pseudo-load coefficients'!K280","v":9.3084327548019026},{"$f":"'Pseudo-load coefficients'!L280","v":10.305675446357364},{"$f":"'Pseudo-load coefficients'!M280","v":10.305675446357364},{"$f":"'Pseudo-load coefficients'!N280","v":8.8223610180822067},{"$f":"'Pseudo-load coefficients'!O280","v":7.5153741161961385},{"$f":"'Pseudo-load coefficients'!P280","v":7.3580198292400434},{"$f":"'Pseudo-load coefficients'!Q280","v":22.137045042043376},{"$f":"'Pseudo-load coefficients'!R280","v":6.668544210575762},{"$f":"'Pseudo-load coefficients'!S280","v":6.668544210575762},{"$f":"'Pseudo-load coefficients'!T280","v":6.668544210575762},{"$f":"'Pseudo-load coefficients'!U280","v":6.668544210575762},{"$f":"'Pseudo-load coefficients'!V280","v":6.668544210575762},{"$f":"'Pseudo-load coefficients'!W280","v":6.668544210575762},{"$f":"'Pseudo-load coefficients'!X280","v":6.668544210575762},{"$f":"'Pseudo-load coefficients'!Y280","v":6.668544210575762}]
[]
[null,null,null,null,"System peak load, based on unit rate 1 MWh"]
[null,null,null,null,"This is the load charged to unit rate 1, before application of standing charge factors"]
[null,null,null,null,null,"GSPs","MW",null,null,{"$f":"J$56 * J34 * J70 / hours_in_year / $H45","v":1092.3634526318374},0.69741716936206566,293.15646901048785,0.58467363552478069,349.4035200866856,31.355796842056741,313.39515795120764,35.708009887929045,-8.8555444064834106,-1.5000349738336301E-2,-6.6179554136083087,0,-7.8198884774618935E-2,0,-110.70481518185271,0]
[null,null,null,null,null,"132kV","MW",null,null,{"$f":"J$56 * J35 * J71 / hours_in_year / $H46","v":0},0,0,0,0,0,0,0,0,0,0,0,0,0,0,0]
[null,null,null,null,null,"132kV/EHV","MW",null,null,{"$f":"J$56 * J36 * J72 / hours_in_year / $H47","v":0},0,0,0,0,0,0,0,0,0,0,0,0,0,0,0]
[null,null,null,null,null,"EHV","MW",null,null,{"$f":"J$56 * J37 * J73 / hours_in_year / $H48","v":1089.0961641394192},0.69533117583456205,292.27963012012748,0.58292486094195484,348.35844475242834,31.26201080962786,312.45778459741541,35.601206269121683,-8.829057234779075,-1.495548328847089E-2,-6.5981609308158617,0,-7.7964989805203333E-2,0,-110.37369409955406,0]
[null,null,null,null,null,"EHV/HV","MW",null,null,{"$f":"J$56 * J38 * J74 / hours_in_year / $H49","v":836.01391301741592},0.533751340141565,224.36020373379131,0.44746580700364241,267.40752205317386,23.997399721264689,239.84939416295524,28.081138513948495,-6.7773764430938552,-1.1480154385577805E-2,-5.0648918985485105,0,-5.9847622598978377E-2,0,-84.725249189788826,0]
[null,null,null,null,null,"132kV/HV","MW",null,null,{"$f":"J$56 * J39 * J75 / hours_in_year / $H50","v":0},0,0,0,0,0,0,0,0,0,0,0,0,0,0,0]
[null,null,null,null,null,"HV","MW",null,null,{"$f":"J$56 * J40 * J76 / hours_in_year / $H51","v":826.22643306013879},0.52750254396429785,221.73354769007861,0.44222718292164859,{"$f":"N$56 * N40 * N76 / hours_in_year / $H51","v":264.27689740474648},23.716454553796225,237.04140125568162,27.752383721590075,-6.6980315481503174,-1.1345752578136895E-2,-5.0055956031508693,0,-5.9146967505136677E-2,0,0,0]
[null,null,null,null,null,"HV/LV","MW",null,null,{"$f":"J$56 * J41 * J77 / hours_in_year / $H52","v":810.41348697286344},0.51740680149608165,217.48984342806753,0.43376350477960746,259.2189663539379,23.262551117359934,0,27.221237621655334,-6.5698395567981578,0,-4.9097947303632932,0,0,0,0,0]
[null,null,null,null,null,"LV circuits","MW",null,null,{"$f":"J$56 * J42 * J78 / hours_in_year / $H53","v":749.45318043065686},0.4784868208525711,201.12998794896512,0.40113527654397324,239.72019454855322,0,0,25.173622402327279,0,0,0,0,0,0,0,0]
[]
[null,null,null,null,"Pseudo load coefficient, unit rate 2"]
[null,null,null,null,null,"GSPs","scalar",null,null,{"$f":"'Pseudo-load coefficients'!J283","v":0.78941717373444209},{"$f":"'Pseudo-load coefficients'!K283","v":0.78941717373444209},{"$f":"'Pseudo-load coefficients'!L283","v":0.87399000439585817},{"$f":"'Pseudo-load coefficients'!M283","v":0.87399000439585817},{"$f":"'Pseudo-load coefficients'!N283","v":0.7481950489427569},{"$f":"'Pseudo-load coefficients'!O283","v":0.63735384362142211},{"$f":"'Pseudo-load coefficients'!P283","v":0.62400915072241625},{"$f":"'Pseudo-load coefficients'!Q283","v":0.61950106096127422},{"$f":"'Pseudo-load coefficients'!R283","v":0.56553702028091035},{"$f":"'Pseudo-load coefficients'!S283","v":0.56553702028091035},{"$f":"'Pseudo-load coefficients'!T283","v":0.56553702028091035},{"$f":"'Pseudo-load coefficients'!U283","v":0.56553702028091035},{"$f":"'Pseudo-load coefficients'!V283","v":0.56553702028091035},{"$f":"'Pseudo-load coefficients'!W283","v":0.56553702028091035},{"$f":"'Pseudo-load coefficients'!X283","v":0.56553702028091035},{"$f":"'Pseudo-load coefficients'!Y283","v":0.56553702028091035}]
[null,null,null,null,null,"132kV","scalar",null,null,{"$f":"'Pseudo-load coefficients'!J284","v":0},{"$f":"'Pseudo-load coefficients'!K284","v":0},{"$f":"'Pseudo-load coefficients'!L284","v":0},{"$f":"'Pseudo-load coefficients'!M284","v":0},{"$f":"'Pseudo-load coefficients'!N284","v":0},{"$f":"'Pseudo-load coefficients'!O284","v":0},{"$f":"'Pseudo-load coefficients'!P284","v":0},{"$f":"'Pseudo-load coefficients'!Q284","v":0},{"$f":"'Pseudo-load coefficients'!R284","v":0},{"$f":"'Pseudo-load coefficients'!S284","v":0},{"$f":"'Pseudo-load coefficients'!T284","v":0},{"$f":"'Pseudo-load coefficients'!U284","v":0},{"$f":"'Pseudo-load coefficients'!V284","v":0},{"$f":"'Pseudo-load coefficients'!W284","v":0},{"$f":"'Pseudo-load coefficients'!X284","v":0},{"$f":"'Pseudo-load coefficients'!Y284","v":0}]
[null,null,null,null,null,"132kV/EHV","scalar",null,null,{"$f":"'Pseudo-load coefficients'!J285","v":0},{"$f":"'Pseudo-load coefficients'!K285","v":0},{"$f":"'Pseudo-load coefficients'!L285","v":0},{"$f":"'Pseudo-load coefficients'!M285","v":0},{"$f":"'Pseudo-load coefficients'!N285","v":0},{"$f":"'Pseudo-load coefficients'!O285","v":0},{"$f":"'Pseudo-load coefficients'!P285","v":0},{"$f":"'Pseudo-load coefficients'!Q285","v":0},{"$f":"'Pseudo-load coefficients'!R285","v":0},{"$f":"'Pseudo-load coefficients'!S285","v":0},{"$f":"'Pseudo-load coefficients'!T285","v":0},{"$f":"'Pseudo-load coefficients'!U285","v":0},{"$f":"'Pseudo-load coefficients'!V285","v":0},{"$f":"'Pseudo-load coefficients'!W285","v":0},{"$f":"'Pseudo-load coefficients'!X285","v":0},{"$f":"'Pseudo-load coefficients'!Y285","v":0}]
[null,null,null,null,null,"EHV","scalar",null,null,{"$f":"'Pseudo-load coefficients'!J286","v":0.78941717373444209},{"$f":"'Pseudo-load coefficients'!K286","v":0.78941717373444209},{"$f":"'Pseudo-load coefficients'!L286","v":0.87399000439585817},{"$f":"'Pseudo-load coefficients'!M286","v":0.87399000439585817},{"$f":"'Pseudo-load coefficients'!N286","v":0.7481950489427569},{"$f":"'Pseudo-load coefficients'!O286","v":0.63735384362142211},{"$f":"'Pseudo-load coefficients'!P286","v":0.62400915072241625},{"$f":"'Pseudo-load coefficients'!Q286","v":0.61950106096127422},{"$f":"'Pseudo-load coefficients'!R286","v":0.56553702028091035},{"$f":"'Pseudo-load coefficients'!S286","v":0.56553702028091035},{"$f":"'Pseudo-load coefficients'!T286","v":0.56553702028091035},{"$f":"'Pseudo-load coefficients'!U286","v":0.56553702028091035},{"$f":"'Pseudo-load coefficients'!V286","v":0.56553702028091035},{"$f":"'Pseudo-load coefficients'!W286","v":0.56553702028091035},{"$f":"'Pseudo-load coefficients'!X286","v":0.56553702028091035},{"$f":"'Pseudo-load coefficients'!Y286","v":0.56553702028091035}]
[null,null,null,null,null,"EHV/HV","scalar",null,null,{"$f":"'Pseudo-load coefficients'!J287","v":1.4061398276092081},{"$f":"'Pseudo-load coefficients'!K287","v":1.4061398276092081},{"$f":"'Pseudo-load coefficients'!L287","v":1.5567841630549317},{"$f":"'Pseudo-load coefficients'!M287","v":1.5567841630549317},{"$f":"'Pseudo-load coefficients'!N287","v":1.3327134145834325},{"$f":"'Pseudo-load coefficients'!O287","v":1.1352788533295515},{"$f":"'Pseudo-load coefficients'!P287","v":1.111508779917368},{"$f":"'Pseudo-load coefficients'!Q287","v":0.99131270501816049},{"$f":"'Pseudo-load coefficients'!R287","v":1.0073560022041474},{"$f":"'Pseudo-load coefficients'!S287","v":1.0073560022041474},{"$f":"'Pseudo-load coefficients'!T287","v":1.0073560022041474},{"$f":"'Pseudo-load coefficients'!U287","v":1.0073560022041474},{"$f":"'Pseudo-load coefficients'!V287","v":1.0073560022041474},{"$f":"'Pseudo-load coefficients'!W287","v":1.0073560022041474},{"$f":"'Pseudo-load coefficients'!X287","v":1.0073560022041474},{"$f":"'Pseudo-load coefficients'!Y287","v":1.0073560022041474}]
[null,null,null,null,null,"132kV/HV","scalar",null,null,{"$f":"'Pseudo-load coefficients'!J288","v":0},{"$f":"'Pseudo-load coefficients'!K288","v":0},{"$f":"'Pseudo-load coefficients'!L288","v":0},{"$f":"'Pseudo-load coefficients'!M288","v":0},{"$f":"'Pseudo-load coefficients'!N288","v":0},{"$f":"'Pseudo-load coefficients'!O288","v":0},{"$f":"'Pseudo-load coefficients'!P288","v":0},{"$f":"'Pseudo-load coefficients'!Q288","v":0},{"$f":"'Pseudo-load coefficients'!R288","v":0},{"$f":"'Pseudo-load coefficients'!S288","v":0},{"$f":"'Pseudo-load coefficients'!T288","v":0},{"$f":"'Pseudo-load coefficients'!U288","v":0},{"$f":"'Pseudo-load coefficients'!V288","v":0},{"$f":"'Pseudo-load coefficients'!W288","v":0},{"$f":"'Pseudo-load coefficients'!X288","v":0},{"$f":"'Pseudo-load coefficients'!Y288","v":0}]
[null,null,null,null,null,"HV","scalar",null,null,{"$f":"'Pseudo-load coefficients'!J289","v":1.4061398276092081},{"$f":"'Pseudo-load coefficients'!K289","v":1.4061398276092081},{"$f":"'Pseudo-load coefficients'!L289","v":1.5567841630549317},{"$f":"'Pseudo-load coefficients'!M289","v":1.5567841630549317},{"$f":"'Pseudo-load coefficients'!N289","v":1.3327134145834325},{"$f":"'Pseudo-load coefficients'!O289","v":1.1352788533295515},{"$f":"'Pseudo-load coefficients'!P289","v":1.111508779917368},{"$f":"'Pseudo-load coefficients'!Q289","v":0.99131270501816049},{"$f":"'Pseudo-load coefficients'!R289","v":1.0073560022041474},{"$f":"'Pseudo-load coefficients'!S289","v":1.0073560022041474},{"$f":"'Pseudo-load coefficients'!T289","v":1.0073560022041474},{"$f":"'Pseudo-load coefficients'!U289","v":1.0073560022041474},{"$f":"'Pseudo-load coefficients'!V289","v":1.0073560022041474},{"$f":"'Pseudo-load coefficients'!W289","v":1.0073560022041474},{"$f":"'Pseudo-load coefficients'!X289","v":1.0073560022041474},{"$f":"'Pseudo-load coefficients'!Y289","v":1.0073560022041474}]
[null,null,null,null,null,"HV/LV","scalar",null,null,{"$f":"'Pseudo-load coefficients'!J290","v":1.4061398276092081},{"$f":"'Pseudo-load coefficients'!K290","v":1.4061398276092081},{"$f":"'Pseudo-load coefficients'!L290","v":1.5567841630549317},{"$f":"'Pseudo-load coefficients'!M290","v":1.5567841630549317},{"$f":"'Pseudo-load coefficients'!N290","v":1.3327134145834325},{"$f":"'Pseudo-load coefficients'!O290","v":1.1352788533295515},{"$f":"'Pseudo-load coefficients'!P290","v":1.111508779917368},{"$f":"'Pseudo-load coefficients'!Q290","v":0.99131270501816049},{"$f":"'Pseudo-load coefficients'!R290","v":1.0073560022041474},{"$f":"'Pseudo-load coefficients'!S290","v":1.0073560022041474},{"$f":"'Pseudo-load coefficients'!T290","v":1.0073560022041474},{"$f":"'Pseudo-load coefficients'!U290","v":1.0073560022041474},{"$f":"'Pseudo-load coefficients'!V290","v":1.0073560022041474},{"$f":"'Pseudo-load coefficients'!W290","v":1.0073560022041474},{"$f":"'Pseudo-load coefficients'!X290","v":1.0073560022041474},{"$f":"'Pseudo-load coefficients'!Y290","v":1.0073560022041474}]
[null,null,null,null,null,"LV circuits","scalar",null,null,{"$f":"'Pseudo-load coefficients'!J291","v":1.4061398276092081},{"$f":"'Pseudo-load coefficients'!K291","v":1.4061398276092081},{"$f":"'Pseudo-load coefficients'!L291","v":1.5567841630549317},{"$f":"'Pseudo-load coefficients'!M291","v":1.5567841630549317},{"$f":"'Pseudo-load coefficients'!N291","v":1.3327134145834325},{"$f":"'Pseudo-load coefficients'!O291","v":1.1352788533295515},{"$f":"'Pseudo-load coefficients'!P291","v":1.111508779917368},{"$f":"'Pseudo-load coefficients'!Q291","v":0.99131270501816049},{"$f":"'Pseudo-load coefficients'!R291","v":1.0073560022041474},{"$f":"'Pseudo-load coefficients'!S291","v":1.0073560022041474},{"$f":"'Pseudo-load coefficients'!T291","v":1.0073560022041474},{"$f":"'Pseudo-load coefficients'!U291","v":1.0073560022041474},{"$f":"'Pseudo-load coefficients'!V291","v":1.0073560022041474},{"$f":"'Pseudo-load coefficients'!W291","v":1.0073560022041474},{"$f":"'Pseudo-load coefficients'!X291","v":1.0073560022041474},{"$f":"'Pseudo-load coefficients'!Y291","v":1.0073560022041474}]
[]
[null,null,null,null,"System peak load, based on unit rate 2 MWh"]
[null,null,null,null,"This is the load charged to unit rate 2, before application of standing charge factors"]
[null,null,null,null,null,"GSPs","MW",null,null,{"$f":"J$57 * J34 * J93 / hours_in_year / $H45","v":252.83016532635367},1.1352523046179344,102.7319305776391,0.74391535755515359,110.4603890028594,9.5910673794047359,95.881860438177554,4.8735715671349356,-3.5545607047754779,-4.6889175917702109E-3,-2.2371321555844093,0,-3.013578774604473E-2,0,-23.321307198041268,0]
[null,null,null,null,null,"132kV","MW",null,null,{"$f":"J$57 * J35 * J94 / hours_in_year / $H46","v":0},0,0,0,0,0,0,0,0,0,0,0,0,0,0,0]
[null,null,null,null,null,"132kV/EHV","MW",null,null,{"$f":"J$57 * J36 * J95 / hours_in_year / $H47","v":0},0,0,0,0,0,0,0,0,0,0,0,0,0,0,0]
[null,null,null,null,null,"EHV","MW",null,null,{"$f":"J$57 * J37 * J96 / hours_in_year / $H48","v":252.0739434958661},1.1318567344146904,102.42465660781566,0.74169028669506842,110.12999900584188,9.5623802386886716,95.595075212539939,4.8589945833847814,-3.5439289180214142,-4.6748929130311177E-3,-2.230440833085154,0,-3.0045650793663743E-2,0,-23.251552540420011,0]
[null,null,null,null,null,"EHV/HV","MW",null,null,{"$f":"J$57 * J38 * J97 / hours_in_year / $H49","v":444.57125881820275},1.9962038370255084,180.64167160897182,1.3080851588084421,194.23123077565324,16.864731677758062,168.59665197706801,7.6985072018823644,-6.2502649754152371,-8.24489432887625E-3,-3.9337262516403215,0,-5.299013698165228E-2,0,-41.007697340767095,0]
[null,null,null,null,null,"132kV/HV","MW",null,null,{"$f":"J$57 * J39 * J98 / hours_in_year / $H50","v":0},0,0,0,0,0,0,0,0,0,0,0,0,0,0,0]
[null,null,null,null,null,"HV","MW",null,null,{"$f":"J$57 * J40 * J99 / hours_in_year / $H51","v":439.36652212959939},1.9728336457627706,178.526842282818,1.2927709910955627,191.95730417145046,16.6672909166526,166.62283751489747,7.6083783370798388,-6.1770911415567173,-8.1483687367333094E-3,-3.8876728711333128,0,-5.2369764646257332E-2,0,0,0]
[null,null,null,null,null,"HV/LV","MW",null,null,{"$f":"J$57 * J41 * J100 / hours_in_year / $H52","v":430.95759347640131},1.9350760640256841,175.11006061233346,1.2680289625578487,188.28348016816912,16.348299702936764,0,7.4627634406763965,-6.0588693015269239,0,-3.813267648719278,0,0,0,0,0]
[null,null,null,null,null,"LV circuits","MW",null,null,{"$f":"J$57 * J42 * J101 / hours_in_year / $H53","v":398.54042936534461},1.7895172450503007,161.93806490255616,1.1726462529849131,174.12056351835108,0,0,6.9014051287671103,0,0,0,0,0,0,0,0]
[]
[null,null,null,null,"Pseudo load coefficient, unit rate 3"]
[null,null,null,null,null,"GSPs","scalar",null,null,{"$f":"'Pseudo-load coefficients'!J294","v":2.5656110940494074E-2},{"$f":"'Pseudo-load coefficients'!K294","v":2.5656110940494074E-2},{"$f":"'Pseudo-load coefficients'!L294","v":2.8404733592996476E-2},{"$f":"'Pseudo-load coefficients'!M294","v":2.8404733592996476E-2},{"$f":"'Pseudo-load coefficients'!N294","v":2.4316389127938043E-2},{"$f":"'Pseudo-load coefficients'!O294","v":2.0714042542229132E-2},{"$f":"'Pseudo-load coefficients'!P294","v":2.0280339130553805E-2},{"$f":"'Pseudo-load coefficients'!Q294","v":2.0497313375005946E-2},{"$f":"'Pseudo-load coefficients'!R294","v":1.8379990980744023E-2},{"$f":"'Pseudo-load coefficients'!S294","v":1.8379990980744023E-2},{"$f":"'Pseudo-load coefficients'!T294","v":1.8379990980744023E-2},{"$f":"'Pseudo-load coefficients'!U294","v":1.8379990980744023E-2},{"$f":"'Pseudo-load coefficients'!V294","v":1.8379990980744023E-2},{"$f":"'Pseudo-load coefficients'!W294","v":1.8379990980744023E-2},{"$f":"'Pseudo-load coefficients'!X294","v":1.8379990980744023E-2},{"$f":"'Pseudo-load coefficients'!Y294","v":1.8379990980744023E-2}]
[null,null,null,null,null,"132kV","scalar",null,null,{"$f":"'Pseudo-load coefficients'!J295","v":0},{"$f":"'Pseudo-load coefficients'!K295","v":0},{"$f":"'Pseudo-load coefficients'!L295","v":0},{"$f":"'Pseudo-load coefficients'!M295","v":0},{"$f":"'Pseudo-load coefficients'!N295","v":0},{"$f":"'Pseudo-load coefficients'!O295","v":0},{"$f":"'Pseudo-load coefficients'!P295","v":0},{"$f":"'Pseudo-load coefficients'!Q295","v":0},{"$f":"'Pseudo-load coefficients'!R295","v":0},{"$f":"'Pseudo-load coefficients'!S295","v":0},{"$f":"'Pseudo-load coefficients'!T295","v":0},{"$f":"'Pseudo-load coefficients'!U295","v":0},{"$f":"'Pseudo-load coefficients'!V295","v":0},{"$f":"'Pseudo-load coefficients'!W295","v":0},{"$f":"'Pseudo-load coefficients'!X295","v":0},{"$f":"'Pseudo-load coefficients'!Y295","v":0}]
[null,null,null,null,null,"132kV/EHV","scalar",null,null,{"$f":"'Pseudo-load coefficients'!J296","v":0},{"$f":"'Pseudo-load coefficients'!K296","v":0},{"$f":"'Pseudo-load coefficients'!L296","v":0},{"$f":"'Pseudo-load coefficients'!M296","v":0},{"$f":"'Pseudo-load coefficients'!N296","v":0},{"$f":"'Pseudo-load coefficients'!O296","v":0},{"$f":"'Pseudo-load coefficients'!P296","v":0},{"$f":"'Pseudo-load coefficients'!Q296","v":0},{"$f":"'Pseudo-load coefficients'!R296","v":0},{"$f":"'Pseudo-load coefficients'!S296","v":0},{"$f":"'Pseudo-load coefficients'!T296","v":0},{"$f":"'Pseudo-load coefficients'!U296","v":0},{"$f":"'Pseudo-load coefficients'!V296","v":0},{"$f":"'Pseudo-load coefficients'!W296","v":0},{"$f":"'Pseudo-load coefficients'!X296","v":0},{"$f":"'Pseudo-load coefficients'!Y296","v":0}]
[null,null,null,null,null,"EHV","scalar",null,null,{"$f":"'Pseudo-load coefficients'!J297","v":2.5656110940494074E-2},{"$f":"'Pseudo-load coefficients'!K297","v":2.5656110940494074E-2},{"$f":"'Pseudo-load coefficients'!L297","v":2.8404733592996476E-2},{"$f":"'Pseudo-load coefficients'!M297","v":2.8404733592996476E-2},{"$f":"'Pseudo-load coefficients'!N297","v":2.4316389127938043E-2},{"$f":"'Pseudo-load coefficients'!O297","v":2.0714042542229132E-2},{"$f":"'Pseudo-load coefficients'!P297","v":2.0280339130553805E-2},{"$f":"'Pseudo-load coefficients'!Q297","v":2.0497313375005946E-2},{"$f":"'Pseudo-load coefficients'!R297","v":1.8379990980744023E-2},{"$f":"'Pseudo-load coefficients'!S297","v":1.8379990980744023E-2},{"$f":"'Pseudo-load coefficients'!T297","v":1.8379990980744023E-2},{"$f":"'Pseudo-load coefficients'!U297","v":1.8379990980744023E-2},{"$f":"'Pseudo-load coefficients'!V297","v":1.8379990980744023E-2},{"$f":"'Pseudo-load coefficients'!W297","v":1.8379990980744023E-2},{"$f":"'Pseudo-load coefficients'!X297","v":1.8379990980744023E-2},{"$f":"'Pseudo-load coefficients'!Y297","v":1.8379990980744023E-2}]
[null,null,null,null,null,"EHV/HV","scalar",null,null,{"$f":"'Pseudo-load coefficients'!J298","v":2.6976625861276703E-2},{"$f":"'Pseudo-load coefficients'!K298","v":2.6976625861276703E-2},{"$f":"'Pseudo-load coefficients'!L298","v":2.9866719574324834E-2},{"$f":"'Pseudo-load coefficients'!M298","v":2.9866719574324834E-2},{"$f":"'Pseudo-load coefficients'!N298","v":2.5567948833829318E-2},{"$f":"'Pseudo-load coefficients'!O298","v":2.178019018674867E-2},{"$f":"'Pseudo-load coefficients'!P298","v":2.1324164146844932E-2},{"$f":"'Pseudo-load coefficients'!Q298","v":2.1552306012449361E-2},{"$f":"'Pseudo-load coefficients'!R298","v":1.9326005456212113E-2},{"$f":"'Pseudo-load coefficients'!S298","v":1.9326005456212113E-2},{"$f":"'Pseudo-load coefficients'!T298","v":1.9326005456212113E-2},{"$f":"'Pseudo-load coefficients'!U298","v":1.9326005456212113E-2},{"$f":"'Pseudo-load coefficients'!V298","v":1.9326005456212113E-2},{"$f":"'Pseudo-load coefficients'!W298","v":1.9326005456212113E-2},{"$f":"'Pseudo-load coefficients'!X298","v":1.9326005456212113E-2},{"$f":"'Pseudo-load coefficients'!Y298","v":1.9326005456212113E-2}]
[null,null,null,null,null,"132kV/HV","scalar",null,null,{"$f":"'Pseudo-load coefficients'!J299","v":0},{"$f":"'Pseudo-load coefficients'!K299","v":0},{"$f":"'Pseudo-load coefficients'!L299","v":0},{"$f":"'Pseudo-load coefficients'!M299","v":0},{"$f":"'Pseudo-load coefficients'!N299","v":0},{"$f":"'Pseudo-load coefficients'!O299","v":0},{"$f":"'Pseudo-load coefficients'!P299","v":0},{"$f":"'Pseudo-load coefficients'!Q299","v":0},{"$f":"'Pseudo-load coefficients'!R299","v":0},{"$f":"'Pseudo-load coefficients'!S299","v":0},{"$f":"'Pseudo-load coefficients'!T299","v":0},{"$f":"'Pseudo-load coefficients'!U299","v":0},{"$f":"'Pseudo-load coefficients'!V299","v":0},{"$f":"'Pseudo-load coefficients'!W299","v":0},{"$f":"'Pseudo-load coefficients'!X299","v":0},{"$f":"'Pseudo-load coefficients'!Y299","v":0}]
[null,null,null,null,null,"HV","scalar",null,null,{"$f":"'Pseudo-load coefficients'!J300","v":2.6976625861276703E-2},{"$f":"'Pseudo-load coefficients'!K300","v":2.6976625861276703E-2},{"$f":"'Pseudo-load coefficients'!L300","v":2.9866719574324834E-2},{"$f":"'Pseudo-load coefficients'!M300","v":2.9866719574324834E-2},{"$f":"'Pseudo-load coefficients'!N300","v":2.5567948833829318E-2},{"$f":"'Pseudo-load coefficients'!O300","v":2.178019018674867E-2},{"$f":"'Pseudo-load coefficients'!P300","v":2.1324164146844932E-2},{"$f":"'Pseudo-load coefficients'!Q300","v":2.1552306012449361E-2},{"$f":"'Pseudo-load coefficients'!R300","v":1.9326005456212113E-2},{"$f":"'Pseudo-load coefficients'!S300","v":1.9326005456212113E-2},{"$f":"'Pseudo-load coefficients'!T300","v":1.9326005456212113E-2},{"$f":"'Pseudo-load coefficients'!U300","v":1.9326005456212113E-2},{"$f":"'Pseudo-load coefficients'!V300","v":1.9326005456212113E-2},{"$f":"'Pseudo-load coefficients'!W300","v":1.9326005456212113E-2},{"$f":"'Pseudo-load coefficients'!X300","v":1.9326005456212113E-2},{"$f":"'Pseudo-load coefficients'!Y300","v":1.9326005456212113E-2}]
[null,null,null,null,null,"HV/LV","scalar",null,null,{"$f":"'Pseudo-load coefficients'!J301","v":2.6976625861276703E-2},{"$f":"'Pseudo-load coefficients'!K301","v":2.6976625861276703E-2},{"$f":"'Pseudo-load coefficients'!L301","v":2.9866719574324834E-2},{"$f":"'Pseudo-load coefficients'!M301","v":2.9866719574324834E-2},{"$f":"'Pseudo-load coefficients'!N301","v":2.5567948833829318E-2},{"$f":"'Pseudo-load coefficients'!O301","v":2.178019018674867E-2},{"$f":"'Pseudo-load coefficients'!P301","v":2.1324164146844932E-2},{"$f":"'Pseudo-load coefficients'!Q301","v":2.1552306012449361E-2},{"$f":"'Pseudo-load coefficients'!R301","v":1.9326005456212113E-2},{"$f":"'Pseudo-load coefficients'!S301","v":1.9326005456212113E-2},{"$f":"'Pseudo-load coefficients'!T301","v":1.9326005456212113E-2},{"$f":"'Pseudo-load coefficients'!U301","v":1.9326005456212113E-2},{"$f":"'Pseudo-load coefficients'!V301","v":1.9326005456212113E-2},{"$f":"'Pseudo-load coefficients'!W301","v":1.9326005456212113E-2},{"$f":"'Pseudo-load coefficients'!X301","v":1.9326005456212113E-2},{"$f":"'Pseudo-load coefficients'!Y301","v":1.9326005456212113E-2}]
[null,null,null,null,null,"LV circuits","scalar",null,null,{"$f":"'Pseudo-load coefficients'!J302","v":2.6976625861276703E-2},{"$f":"'Pseudo-load coefficients'!K302","v":2.6976625861276703E-2},{"$f":"'Pseudo-load coefficients'!L302","v":2.9866719574324834E-2},{"$f":"'Pseudo-load coefficients'!M302","v":2.9866719574324834E-2},{"$f":"'Pseudo-load coefficients'!N302","v":2.5567948833829318E-2},{"$f":"'Pseudo-load coefficients'!O302","v":2.178019018674867E-2},{"$f":"'Pseudo-load coefficients'!P302","v":2.1324164146844932E-2},{"$f":"'Pseudo-load coefficients'!Q302","v":2.1552306012449361E-2},{"$f":"'Pseudo-load coefficients'!R302","v":1.9326005456212113E-2},{"$f":"'Pseudo-load coefficients'!S302","v":1.9326005456212113E-2},{"$f":"'Pseudo-load coefficients'!T302","v":1.9326005456212113E-2},{"$f":"'Pseudo-load coefficients'!U302","v":1.9326005456212113E-2},{"$f":"'Pseudo-load coefficients'!V302","v":1.9326005456212113E-2},{"$f":"'Pseudo-load coefficients'!W302","v":1.9326005456212113E-2},{"$f":"'Pseudo-load coefficients'!X302","v":1.9326005456212113E-2},{"$f":"'Pseudo-load coefficients'!Y302","v":1.9326005456212113E-2}]
[]
[null,null,null,null,"System peak load, based on unit rate 3 MWh"]
[null,null,null,null,"This is the load charged to unit rate 3, before application of standing charge factors"]
[null,null,null,null,null,"GSPs","MW",null,null,{"$f":"J$58 * J34 * J116 / hours_in_year / $H45","v":8.0185152510391653},0.43626730941490305,2.6810822211660219,0.10185498444515902,3.2297425433606026,0.31504549176477709,3.4339120133172236,0.35968799154946157,-5.2491189461416538E-2,-1.3838148717562772E-4,-6.9696392770873111E-2,0,-9.3394259260385401E-4,0,-0.84522144829969548,0]
[null,null,null,null,null,"132kV","MW",null,null,{"$f":"J$58 * J35 * J117 / hours_in_year / $H46","v":0},0,0,0,0,0,0,0,0,0,0,0,0,0,0,0]
[null,null,null,null,null,"132kV/EHV","MW",null,null,{"$f":"J$58 * J36 * J118 / hours_in_year / $H47","v":0},0,0,0,0,0,0,0,0,0,0,0,0,0,0,0]
[null,null,null,null,null,"EHV","MW",null,null,{"$f":"J$58 * J37 * J119 / hours_in_year / $H48","v":7.9945316560709534},0.43496242214845771,2.6730630320698126,0.10155033344482456,3.2200822964711895,0.31410318221812278,3.4236410900470826,0.35861215508420896,-5.2334186900714397E-2,-1.3796758442236065E-4,-6.9487928983921352E-2,0,-9.3114914516834906E-4,0,-0.8426933681951102,0]
[null,null,null,null,null,"EHV/HV","MW",null,null,{"$f":"J$58 * J38 * J120 / hours_in_year / $H49","v":8.3230272795172127},0.45283504535970587,2.7828992982836196,0.10572304068162695,3.3523956059974953,0.32700969445775357,3.5643186384907364,0.37334754278766946,-5.4484600720196626E-2,-1.4363667794903157E-4,-7.2343190747282862E-2,0,-9.6941010054667264E-4,0,-0.87731967218241946,0]
[null,null,null,null,null,"132kV/HV","MW",null,null,{"$f":"J$58 * J39 * J121 / hours_in_year / $H50","v":0},0,0,0,0,0,0,0,0,0,0,0,0,0,0,0]
[null,null,null,null,null,"HV","MW",null,null,{"$f":"J$58 * J40 * J122 / hours_in_year / $H51","v":8.225586960147254},0.44753356190183613,2.750319013815909,0.10448530752242741,3.3131480476833781,0.32318128827873593,3.5225900300401132,0.36897664472576502,-5.3846732223960178E-2,-1.4195507781694536E-4,-7.1496246075119549E-2,0,-9.5806090912563843E-4,0,0,0]
[null,null,null,null,null,"HV/LV","MW",null,null,{"$f":"J$58 * J41 * J123 / hours_in_year / $H52","v":8.0681594585176413},0.43896832626735122,2.6976813293409636,0.10248558871817043,3.2497385156702991,0.31699600046478882,0,0.36191489075972172,-5.2816172755559027E-2,0,-7.0127896867940229E-2,0,0,0,0,0]
[null,null,null,null,null,"LV circuits","MW",null,null,{"$f":"J$58 * J42 * J124 / hours_in_year / $H53","v":7.4612625080981729},0.40594858491095753,2.4947583974878822,9.4776495761493898E-2,3.0052891582968693,0,0,0.33469120428664528,0,0,0,0,0,0,0,0]
[]
[null,null,{"$f":"INDEX('Version control'!$H$29:$H$55,MATCH($A$1,'Version control'!$F$29:$F$55,0),1)&\"-C: System peak load, all unit rates\"","v":"Section 509-C: System peak load, all unit rates"}]
[]
[null,null,null,null,"System peak load, all unit rates, by customer category"]
[null,null,null,null,"This is the load charged to unit rates, before application of standing charge factors"]
[null,null,null,null,null,"GSPs","MW",null,null,{"$f":"J82 + J105 + J128","v":1353.2121332092302},2.2689367833949032,398.56948180929299,1.4304439775250932,463.09365163290562,41.261909713226252,412.71093040270245,40.941269446613447,-12.462596300720305,-1.9827648817282138E-2,-8.9247839619635911,0,-0.10926861511326752,0,-134.87134382819369,0]
[null,null,null,null,null,"132kV","MW",null,null,0,0,0,0,0,0,0,0,0,0,0,0,0,0,0,0]
[null,null,null,null,null,"132kV/EHV","MW",null,null,0,0,0,0,0,0,0,0,0,0,0,0,0,0,0,0]
[null,null,null,null,null,"EHV","MW",null,null,1349.1646392913563,2.2621503323977099,397.37734976001298,1.4261654810818478,461.70852605474141,41.138494230534654,411.47650090000241,40.81881300759067,-12.425320339701203,-1.9768343785924368E-2,-8.8980896928849376,0,-0.10894178974403543,0,-134.46794000816919,0]
[null,null,null,null,null,"EHV/HV","MW",null,null,1288.9081991151359,2.9827902225267788,407.78477464104674,1.8612740064937114,464.99114843482465,41.189141093480501,412.01036477851397,36.15299325861853,-13.082126019229287,-1.9868685392403086E-2,-9.0709613409361154,0,-0.11380716968117734,0,-126.61026620273834,0]
[null,null,null,null,null,"132kV/HV","MW",null,null,0,0,0,0,0,0,0,0,0,0,0,0,0,0,0,0]
[null,null,null,null,null,"HV","MW",null,null,1273.8185421498854,2.9478697516289047,403.01070898671253,1.8394834815396388,{"$f":"N88 + N111 + N134","v":459.54734962388034},40.706926758727562,407.18682880061925,35.729738703395675,-12.928969421930994,-1.9636076392687149E-2,-8.9647647203593017,0,-0.11247479306051965,0,0,0]
[null,null,null,null,null,"HV/LV","MW",null,null,1249.4392399077824,2.891451191789117,395.29758536974197,1.8042780560556264,450.75218503777728,39.927846820761488,0,35.045915953091452,-12.681525031080641,0,-8.7931902759505114,0,0,0,0,0]
[null,null,null,null,null,"LV circuits","MW",null,null,1155.4548723040996,2.6739526508138294,365.5628112490092,1.6685580252903802,416.84604722520118,0,0,32.409718735381034,0,0,0,0,0,0,0,0]
[]
[null,null,null,null,"System peak load, all unit rates, total"]
[null,null,null,null,"This step sums system peak load by network level in kW, which is an input to the EDCM model"]
[null,null,null,null,null,"GSPs","kW",{"$f":"SUM(J142:Y142) * thousand","v":2557100.9366200827}]
[null,null,null,null,null,"132kV","kW",0]
[null,null,null,null,null,"132kV/EHV","kW",0]
[null,null,null,null,null,"EHV","kW",2549452.5788834323]
[null,null,null,null,null,"EHV/HV","kW",2506983.6561326631]
[null,null,null,null,null,"132kV/HV","kW",0]
[null,null,null,null,null,"HV","kW",2602761.6032446465]
[null,null,null,null,null,"HV/LV","kW",2153683.7870299681]
[null,null,null,null,null,"LV circuits","kW",1974615.9601897954]
[]
[null,null,{"$f":"INDEX('Version control'!$H$29:$H$55,MATCH($A$1,'Version control'!$F$29:$F$55,0),1)&\"-D: Unit rate contributions to chargeable peak load\"","v":"Section 509-D: Unit rate contributions to chargeable peak load"}]
[]
[null,null,null,null,"Unit rate contributions to chargeable peak load"]
[null,null,null,null,"This is the load charged to unit rates (adjusted for standing charge factors)"]
[null,null,null,null,null,"GSPs","MW",null,null,{"$f":"J142 * (1 - J23)","v":1353.2121332092302},2.2689367833949032,398.56948180929299,1.4304439775250932,463.09365163290562,41.261909713226252,412.71093040270245,40.941269446613447,-12.462596300720305,-1.9827648817282138E-2,-8.9247839619635911,0,-0.10926861511326752,0,-134.87134382819369,0]
[null,null,null,null,null,"132kV","MW",null,null,0,0,0,0,0,0,0,0,0,0,0,0,0,0,0,0]
[null,null,null,null,null,"132kV/EHV","MW",null,null,0,0,0,0,0,0,0,0,0,0,0,0,0,0,0,0]
[null,null,null,null,null,"EHV","MW",null,null,1349.1646392913563,2.2621503323977099,397.37734976001298,1.4261654810818478,461.70852605474141,41.138494230534654,329.18120072000193,40.81881300759067,-12.425320339701203,-1.9768343785924368E-2,-8.8980896928849376,0,-0.10894178974403543,0,-134.46794000816919,0]
[null,null,null,null,null,"EHV/HV","MW",null,null,1288.9081991151359,2.9827902225267788,407.78477464104674,1.8612740064937114,464.99114843482465,41.189141093480501,0,36.15299325861853,-13.082126019229287,-1.9868685392403086E-2,-9.0709613409361154,0,-0.11380716968117734,0,-126.61026620273834,0]
[null,null,null,null,null,"132kV/HV","MW",null,null,0,0,0,0,0,0,0,0,0,0,0,0,0,0,0,0]
[null,null,null,null,null,"HV","MW",null,null,1273.8185421498854,2.9478697516289047,403.01070898671253,1.8394834815396388,367.6378796991043,0,0,35.729738703395675,-12.928969421930994,-1.9636076392687149E-2,-8.9647647203593017,0,-0.11247479306051965,0,0,0]
[null,null,null,null,null,"HV/LV","MW",null,null,1249.4392399077824,2.891451191789117,395.29758536974197,1.8042780560556264,0,0,0,35.045915953091452,-12.681525031080641,0,-8.7931902759505114,0,0,0,0,0]
[null,null,null,null,null,"LV circuits","MW",null,null,0,0,0,0,0,0,0,32.409718735381034,0,0,0,0,0,0,0,0]
[null,null,null,null,null,"Total","MW",null,null,{"$f":"SUM(J168:J176)","v":6514.5427536733905},13.353198281737413,2002.0399005668071,8.3616450026959175,1757.431205821576,123.58954503724141,741.89213112270431,221.09844910469079,-63.580537112662427,-7.9100754388296751E-2,-44.65178999209445,0,-0.44449236759899996,0,-395.94955003910121,0]
[]
[null,"Load at system peak charged to standing charges"]
[]
[null,null,"This section calculates load subject to fixed and capacity charges"]
[null,null,"As part of this, it also calculates the LV diversity factor in line with Paragraph 80"]
[]
[null,null,{"$f":"INDEX('Version control'!$H$29:$H$55,MATCH($A$1,'Version control'!$F$29:$F$55,0),1)&\"-E: Adjustment of import and exceeded capacity\"","v":"Section 509-E: Adjustment of import and exceeded capacity"}]
[]
[null,null,null,"This brings in import and exceeded capacity (in kVA), and converts it to MW"]
[]
[null,null,null,null,"Import capacity",null,"kVA",null,null,{"$f":"'Volume adjustments'!J286","v":0},{"$f":"'Volume adjustments'!K286","v":0},{"$f":"'Volume adjustments'!L286","v":0},{"$f":"'Volume adjustments'!M286","v":0},{"$f":"'Volume adjustments'!N286","v":1678018.971264696},{"$f":"'Volume adjustments'!O286","v":149220.34535947547},{"$f":"'Volume adjustments'!P286","v":1362633.4387871278},{"$f":"'Volume adjustments'!Q286","v":0},{"$f":"'Volume adjustments'!R286","v":0},{"$f":"'Volume adjustments'!S286","v":0},{"$f":"'Volume adjustments'!T286","v":0},{"$f":"'Volume adjustments'!U286","v":0},{"$f":"'Volume adjustments'!V286","v":0},{"$f":"'Volume adjustments'!W286","v":0},{"$f":"'Volume adjustments'!X286","v":0},{"$f":"'Volume adjustments'!Y286","v":0}]
[null,null,null,null,"Exceeded capacity",null,"kVA",null,null,{"$f":"'Volume adjustments'!J297","v":0},{"$f":"'Volume adjustments'!K297","v":0},{"$f":"'Volume adjustments'!L297","v":0},{"$f":"'Volume adjustments'!M297","v":0},{"$f":"'Volume adjustments'!N297","v":25228.638647878095},{"$f":"'Volume adjustments'!O297","v":1012.9166666666667},{"$f":"'Volume adjustments'!P297","v":12745.978811105375},{"$f":"'Volume adjustments'!Q297","v":0},{"$f":"'Volume adjustments'!R297","v":0},{"$f":"'Volume adjustments'!S297","v":0},{"$f":"'Volume adjustments'!T297","v":0},{"$f":"'Volume adjustments'!U297","v":0},{"$f":"'Volume adjustments'!V297","v":0},{"$f":"'Volume adjustments'!W297","v":0},{"$f":"'Volume adjustments'!X297","v":0},{"$f":"'Volume adjustments'!Y297","v":0}]
[]
[null,null,null,null,"Import and exceeded capacity",null,"kVA",null,null,{"$f":"SUM(J188:J189)","v":0},0,0,0,1703247.6099125741,150233.26202614213,1375379.4175982333,0,0,0,0,0,0,0,0,0]
[null,null,null,null,"Adjusted import capacities and exceeded capacity",null,"MW",null,null,{"$f":"J191 * PowerFactor / thousand","v":0},0,0,0,1618.0852294169451,142.72159892483501,1306.6104467183216,0,0,0,0,0,0,0,0,0]
[]
[null,null,{"$f":"INDEX('Version control'!$H$29:$H$55,MATCH($A$1,'Version control'!$F$29:$F$55,0),1)&\"-F: Calculation of LV circuit diversity factor\"","v":"Section 509-F: Calculation of LV circuit diversity factor"}]
[]
[null,null,null,"Recalculates LV diversity factor in line with Paragraph 80. See the User Guide for additional detail."]
[]
[null,null,null,null,"Flag for customers included in aggregate maximum demand",null,"TRUE / FALSE",null,">",{"$f":"'Fixed inputs'!J136","v":true},{"$f":"'Fixed inputs'!K136","v":false},{"$f":"'Fixed inputs'!L136","v":true},{"$f":"'Fixed inputs'!M136","v":false},{"$f":"'Fixed inputs'!N136","v":true},{"$f":"'Fixed inputs'!O136","v":true},{"$f":"'Fixed inputs'!P136","v":true},{"$f":"'Fixed inputs'!Q136","v":true},{"$f":"'Fixed inputs'!R136","v":true},{"$f":"'Fixed inputs'!S136","v":true},{"$f":"'Fixed inputs'!T136","v":true},{"$f":"'Fixed inputs'!U136","v":true},{"$f":"'Fixed inputs'!V136","v":true},{"$f":"'Fixed inputs'!W136","v":true},{"$f":"'Fixed inputs'!X136","v":true},{"$f":"'Fixed inputs'!Y136","v":true},null,"Paragraph 80"]
[]
[null,null,null,null,"Estimated capacity (maximum load)",null,"MW",null,">",{"$f":"IF(J61 = 0, 0, J59 / (hours_in_year * J61))","v":1373.533781260749},213.55055200519755,510.43637451884484,17.59831670142594,517.92662725560047,48.609563189465653,477.08061756814919,44.863878683343678,null,null,null,null,null,null,null,null,null,"Paragraph 80"]
[]
[null,null,null,null,"Import + exceeded capacity, LV circuits",null,"MW",null,">",{"$f":"J192 * J42 / $H53","v":0},0,0,0,1618.0852294169451,0,0,0,0,0,0,0,0,0,0,0,null,"Paragraph 80"]
[]
[null,null,null,null,"Estimated capacity, LV circuits, excluding related MPANs",null,"MW",null,null,{"$f":"IF(J198, J$200 * J42 / $H53, 0)","v":1373.533781260749},0,510.43637451884484,0,517.92662725560047,0,0,44.863878683343678,0,0,0,0,0,0,0,0]
[]
[null,null,null,null,"Aggregate maximum load, LV circuits",null,"MW",null,null,{"$f":"IF(J202 = 0, J204, J202)","v":1373.533781260749},0,510.43637451884484,0,1618.0852294169451,0,0,44.863878683343678,0,0,0,0,0,0,0,0]
[]
[null,null,null,null,"LV peak load",null,"MW",null,">",{"$f":"J150","v":1155.4548723040996},2.6739526508138294,365.5628112490092,1.6685580252903802,416.84604722520118,0,0,32.409718735381034,0,0,0,0,0,0,0,0,null,"Paragraph 80"]
[]
[null,null,null,null,"Calculated LV diversity factor",null,"%",{"$f":"SUM(J206:Y206) / SUM(J208:Y208) - 1","v":0.7962577713283352}]
[]
[null,null,null,null,"Adjusted network model cumulative diversity factor",null,null,null,null,null,null,null,null,null,null,null,null,null,null,null,null,null,null,null,null,null,"Paragraph 80"]
[null,null,null,null,"Cumulative diversity factor from the network model"]
[null,null,null,null,null,"GSPs","%",{"$f":"TRANSPOSE('Load & loss characteristics'!K23:S23)","v":0.1160000000000001}]
[null,null,null,null,null,"132kV","%",0.1160000000000001]
[null,null,null,null,null,"132kV/EHV","%",0.1160000000000001]
[null,null,null,null,null,"EHV","%",0.26107999999999998]
[null,null,null,null,null,"EHV/HV","%",0.26107999999999998]
[null,null,null,null,null,"132kV/HV","%",0.1160000000000001]
[null,null,null,null,null,"HV","%",0.57634999999999992]
[null,null,null,null,null,"HV/LV","%",0.57634999999999992]
[null,null,null,null,null,"LV circuits","%",0.57634999999999992]
[]
[null,null,null,null,"Network model diversity factor, with calculated LV value",null,null,null,null,null,null,null,null,null,null,null,null,null,null,null,null,null,null,null,null,null,"Paragraph 80"]
[null,null,null,null,"Substitutes the calculated LV diversity factor for the LV diversity factor from the network model"]
[null,null,null,null,null,"GSPs","%",{"$f":"IF(F226 = $F$234, $H$210, H214)","v":0.1160000000000001}]
[null,null,null,null,null,"132kV","%",0.1160000000000001]
[null,null,null,null,null,"132kV/EHV","%",0.1160000000000001]
[null,null,null,null,null,"EHV","%",0.26107999999999998]
[null,null,null,null,null,"EHV/HV","%",0.26107999999999998]
[null,null,null,null,null,"132kV/HV","%",0.1160000000000001]
[null,null,null,null,null,"HV","%",0.57634999999999992]
[null,null,null,null,null,"HV/LV","%",0.57634999999999992]
[null,null,null,null,null,"LV circuits","%",{"$f":"IF(F234 = $F$234, $H$210, H222)","v":0.7962577713283352}]
[]
[null,null,{"$f":"INDEX('Version control'!$H$29:$H$55,MATCH($A$1,'Version control'!$F$29:$F$55,0),1)&\"-G: Import/exceeded capacity contribution to system peak\"","v":"Section 509-G: Import/exceeded capacity contribution to system peak"}]
[]
[null,null,null,null,"System peak load based on load charged to import & exceeded capacity charges"]
[null,null,null,null,null,"GSPs","MW",null,null,{"$f":"J$192 * J23 * J34 / (1 + $H226) / $H45","v":0},0,0,0,0,0,0,0,0,0,0,0,0,0,0,0]
[null,null,null,null,null,"132kV","MW",null,null,0,0,0,0,0,0,0,0,0,0,0,0,0,0,0,0]
[null,null,null,null,null,"132kV/EHV","MW",null,null,0,0,0,0,0,0,0,0,0,0,0,0,0,0,0,0]
[null,null,null,null,null,"EHV","MW",null,null,0,0,0,0,0,0,211.76608909691771,0,0,0,0,0,0,0,0,0]
[null,null,null,null,null,"EHV/HV","MW",null,null,0,0,0,0,0,0,1048.3780225281755,0,0,0,0,0,0,0,0,0]
[null,null,null,null,null,"132kV/HV","MW",null,null,0,0,0,0,0,0,0,0,0,0,0,0,0,0,0,0]
[null,null,null,null,null,"HV","MW",null,null,0,0,0,0,226.32541018158165,92.305903264613349,828.88346288471564,0,0,0,0,0,0,0,0,0]
[null,null,null,null,null,"HV/LV","MW",null,null,0,0,0,0,1109.9691169192402,90.53928310643893,0,0,0,0,0,0,0,0,0,0]
[null,null,null,null,null,"LV circuits","MW",null,null,0,0,0,0,900.80903489724017,0,0,0,0,0,0,0,0,0,0,0]
[]
[null,null,{"$f":"INDEX('Version control'!$H$29:$H$55,MATCH($A$1,'Version control'!$F$29:$F$55,0),1)&\"-H: Estimated capacity contribution to system peak\"","v":"Section 509-H: Estimated capacity contribution to system peak"}]
[]
[null,null,null,null,"System peak load based on load used to determine fixed charges"]
[null,null,null,null,null,"GSPs","MW",null,null,{"$f":"IF(AND(J$192 = 0, J$198), J$200 * J23 * J34 / (1 + $H226) / $H45, 0)","v":0},0,0,0,0,0,0,0,0,0,0,0,0,0,0,0]
[null,null,null,null,null,"132kV","MW",null,null,0,0,0,0,0,0,0,0,0,0,0,0,0,0,0,0]
[null,null,null,null,null,"132kV/EHV","MW",null,null,0,0,0,0,0,0,0,0,0,0,0,0,0,0,0,0]
[null,null,null,null,null,"EHV","MW",null,null,0,0,0,0,0,0,0,0,0,0,0,0,0,0,0,0]
[null,null,null,null,null,"EHV/HV","MW",null,null,0,0,0,0,0,0,0,0,0,0,0,0,0,0,0,0]
[null,null,null,null,null,"132kV/HV","MW",null,null,0,0,0,0,0,0,0,0,0,0,0,0,0,0,0,0]
[null,null,null,null,null,"HV","MW",null,null,0,0,0,0,0,0,0,0,0,0,0,0,0,0,0,0]
[null,null,null,null,null,"HV/LV","MW",null,null,0,0,0,0,0,0,0,0,0,0,0,0,0,0,0,0]
[null,null,null,null,null,"LV circuits","MW",null,null,764.66407170782554,0,284.16655040627961,0,0,0,0,0,0,0,0,0,0,0,0,0]
[]
[null,"System peak based on chargeable load"]
[]
[null,null,"This section aggregates the system peak load charged to unit rates, capacity charges, and fixed charges"]
[]
[null,null,{"$f":"INDEX('Version control'!$H$29:$H$55,MATCH($A$1,'Version control'!$F$29:$F$55,0),1)&\"-I: System peak based on chargeable load\"","v":"Section 509-I: System peak based on chargeable load"}]
[]
[null,null,null,null,"System peak load charged to unit rates, capacity charges, and fixed charges",null,null,"Sum"]
[null,null,null,null,null,"GSPs","MW",{"$f":"SUM(J269:Y269)","v":2557.1009366200828},null,{"$f":"J239 + J252 + J168","v":1353.2121332092302},2.2689367833949032,398.56948180929299,1.4304439775250932,463.09365163290562,41.261909713226252,412.71093040270245,40.941269446613447,-12.462596300720305,-1.9827648817282138E-2,-8.9247839619635911,0,-0.10926861511326752,0,-134.87134382819369,0]
[null,null,null,null,null,"132kV","MW",0,null,0,0,0,0,0,0,0,0,0,0,0,0,0,0,0,0]
[null,null,null,null,null,"132kV/EHV","MW",0,null,0,0,0,0,0,0,0,0,0,0,0,0,0,0,0,0]
[null,null,null,null,null,"EHV","MW",2678.9233678003493,null,1349.1646392913563,2.2621503323977099,397.37734976001298,1.4261654810818478,461.70852605474141,41.138494230534654,540.94728981691969,40.81881300759067,-12.425320339701203,-1.9768343785924368E-2,-8.8980896928849376,0,-0.10894178974403543,0,-134.46794000816919,0]
[null,null,null,null,null,"EHV/HV","MW",3143.351313882325,null,1288.9081991151359,2.9827902225267788,407.78477464104674,1.8612740064937114,464.99114843482465,41.189141093480501,1048.3780225281755,36.15299325861853,-13.082126019229287,-1.9868685392403086E-2,-9.0709613409361154,0,-0.11380716968117734,0,-126.61026620273834,0]
[null,null,null,null,null,"132kV/HV","MW",0,null,0,0,0,0,0,0,0,0,0,0,0,0,0,0,0,0]
[null,null,null,null,null,"HV","MW",3210.473154091434,null,1273.8185421498854,2.9478697516289047,403.01070898671253,1.8394834815396388,593.96328988068592,92.305903264613349,828.88346288471564,35.729738703395675,-12.928969421930994,-1.9636076392687149E-2,-8.9647647203593017,0,-0.11247479306051965,0,0,0]
[null,null,null,null,null,"HV/LV","MW",2863.5121551971088,null,1249.4392399077824,2.891451191789117,395.29758536974197,1.8042780560556264,1109.9691169192402,90.53928310643893,0,35.045915953091452,-12.681525031080641,0,-8.7931902759505114,0,0,0,0,0]
[null,null,null,null,null,"LV circuits","MW",1982.0493757467261,null,764.66407170782554,0,284.16655040627961,0,900.80903489724017,0,0,32.409718735381034,0,0,0,0,0,0,0,0]
[]
[null,"Checks"]
[]
[null,null,null,null,"Check for error values",null,"number of issues",{"$f":"SUM(IF(ISERROR(H23:Y277), 1))","v":0}]
[]
[null,"End of sheet"]

{"sheet":"Service model assets","index":24,"n_rows":40,"n_cols":27,"rows_kept":40,"cut":false,"hidden":true,"merged":[]}
[{"$f":"MID(CELL(\"filename\",A1),FIND(\"]\",CELL(\"filename\",A1))+1,255)","v":"Service model assets"}]
[{"$f":"Cover!D23 & \" - \" & TEXT(CIRP_submission_date, \"mmm\") & \"-\" & RIGHT(YEAR(CIRP_submission_date), 2) & \" - \" & Cover!D25","v":"SP Distribution - Jan-26 - V1"}]
[{"$f":"Cover!D2&\" - \"&Cover!D8&\" v\"&Cover!D10&\" - \"&Cover!D19","v":"Cost Information Review Pack (CIRP) - Release for charge setting v1 - 2027/28"}]
[{"$f":"H38 & IF(H38 = 1, \" issue\", \" issues\") &\" identified in checks on this sheet\"","v":"0 issues identified in checks on this sheet"}]
[null,"Click here to return to model map",null,null,null,null,"Units","Constants",null,"Domestic Aggregated or CT","Domestic Aggregated (Related MPAN)","Non-Domestic Aggregated or CT","Non-Domestic Aggregated (Related MPAN)","LV Site Specific","LV Sub Site Specific","HV Site Specific","Unmetered Supplies","LV Generation Aggregated","LV Sub Generation Aggregated","LV Generation Site Specific","LV Generation Site Specific no RP Charge","LV Sub Generation Site Specific","LV Sub Generation Site Specific no RP Charge","HV Generation Site Specific","HV Generation Site Specific no RP Charge",null,"Legal text reference"]
[]
[null,"Description"]
[]
[null,null,"This sheet calculates the notional asset value of the typical service models used by HV and LV customers"]
[null,null,"Service model and network model notional asset values are combined on the 'Unit costs' sheet"]
[]
[null,"Service model notional asset values"]
[]
[null,null,{"$f":"INDEX('Version control'!$H$29:$H$55,MATCH($A$1,'Version control'!$F$29:$F$55,0),1)&\"-A: Service model notional asset values\"","v":"Section 510-A: Service model notional asset values"}]
[]
[null,null,null,null,"Discounted MPANs",null,"MPANs",null,null,{"$f":"'Volume adjustments'!J275","v":1943630.1666889538},{"$f":"'Volume adjustments'!K275","v":65894.737632469667},{"$f":"'Volume adjustments'!L275","v":122513.00628941884},{"$f":"'Volume adjustments'!M275","v":4053},{"$f":"'Volume adjustments'!N275","v":11870.553376824102},{"$f":"'Volume adjustments'!O275","v":355.04287982343243},{"$f":"'Volume adjustments'!P275","v":1327.5419780875352},{"$f":"'Volume adjustments'!Q275","v":565},{"$f":"'Volume adjustments'!R275","v":29908.231691690049},{"$f":"'Volume adjustments'!S275","v":7},{"$f":"'Volume adjustments'!T275","v":661},{"$f":"'Volume adjustments'!U275","v":0},{"$f":"'Volume adjustments'!V275","v":15},{"$f":"'Volume adjustments'!W275","v":0},{"$f":"'Volume adjustments'!X275","v":272},{"$f":"'Volume adjustments'!Y275","v":0}]
[null,null,null,null,"Discounted annual load",null,"MWh",null,null,{"$f":"'Volume adjustments'!J264","v":5626367.9692325322},{"$f":"'Volume adjustments'!K264","v":143813.48374238028},{"$f":"'Volume adjustments'!L264","v":1818876.7264874633},{"$f":"'Volume adjustments'!M264","v":34832.841},{"$f":"'Volume adjustments'!N264","v":2418800.2175440155},{"$f":"'Volume adjustments'!O264","v":281526.36841509829},{"$f":"'Volume adjustments'!P264","v":3050812.2333551571},{"$f":"'Volume adjustments'!Q264","v":207551.07012003189},{"$f":"'Volume adjustments'!R264","v":79061.471898910124},{"$f":"'Volume adjustments'!S264","v":147.63783486156683},{"$f":"'Volume adjustments'!T264","v":66207.500999999989},{"$f":"'Volume adjustments'!U264","v":0},{"$f":"'Volume adjustments'!V264","v":951.45699999999999},{"$f":"'Volume adjustments'!W264","v":0},{"$f":"'Volume adjustments'!X264","v":857779.34199999995},{"$f":"'Volume adjustments'!Y264","v":0}]
[]
[null,null,null,null,"Service model costs per MPAN / unit"]
[null,null,null,null,"Presents service model costs per customer for metered customers and per MWh for unmetered customers"]
[null,null,null,null,null,"LV customers","£ per MPAN",null,null,{"$f":"'Inputs by customer type'!J190","v":377.70000000000005},{"$f":"'Inputs by customer type'!K190","v":0},{"$f":"'Inputs by customer type'!L190","v":508.75},{"$f":"'Inputs by customer type'!M190","v":0},{"$f":"'Inputs by customer type'!N190","v":2380},{"$f":"'Inputs by customer type'!O190","v":840},{"$f":"'Inputs by customer type'!P190","v":0},null,{"$f":"'Inputs by customer type'!R190","v":0},{"$f":"'Inputs by customer type'!S190","v":0},{"$f":"'Inputs by customer type'!T190","v":0},{"$f":"'Inputs by customer type'!U190","v":0},{"$f":"'Inputs by customer type'!V190","v":0},{"$f":"'Inputs by customer type'!W190","v":0},{"$f":"'Inputs by customer type'!X190","v":0},{"$f":"'Inputs by customer type'!Y190","v":0}]
[null,null,null,null,null,"HV customers","£ per MPAN",null,null,{"$f":"'Inputs by customer type'!J191","v":0},{"$f":"'Inputs by customer type'!K191","v":0},{"$f":"'Inputs by customer type'!L191","v":0},{"$f":"'Inputs by customer type'!M191","v":0},{"$f":"'Inputs by customer type'!N191","v":0},{"$f":"'Inputs by customer type'!O191","v":0},{"$f":"'Inputs by customer type'!P191","v":12718.10554},null,{"$f":"'Inputs by customer type'!R191","v":0},{"$f":"'Inputs by customer type'!S191","v":0},{"$f":"'Inputs by customer type'!T191","v":0},{"$f":"'Inputs by customer type'!U191","v":0},{"$f":"'Inputs by customer type'!V191","v":0},{"$f":"'Inputs by customer type'!W191","v":0},{"$f":"'Inputs by customer type'!X191","v":9287},{"$f":"'Inputs by customer type'!Y191","v":9287}]
[null,null,null,null,null,"LV UMS customers","£/MWh/year",null,null,null,null,null,null,null,null,null,{"$f":"'Inputs by customer type'!Q193","v":120.51}]
[]
[null,null,null,null,"Service model notional asset value"]
[null,null,null,null,"Converts cost per customer / MWh to £s of notional asset value",null,null,null,">",null,null,null,null,null,null,null,null,null,null,null,null,null,null,null,null,null,"Paragraph 64"]
[null,null,null,null,null,"LV customers","£",null,null,{"$f":"J21 * J$16","v":734109113.95841789},0,62328491.94974184,0,28251917.036841363,298236.01905168325,0,0,0,0,0,0,0,0,0,0]
[null,null,null,null,null,"HV customers","£",null,null,0,0,0,0,0,0,16883818.986097641,0,0,0,0,0,0,0,2526064,0]
[null,null,null,null,null,"LV UMS customers","£",null,null,null,null,null,null,null,null,null,{"$f":"Q23 * Q$17","v":25011979.460165042}]
[]
[null,null,null,null,"Total service model notional asset value"]
[null,null,null,null,"Sums across customer categories to give total service model notional asset value",null,null,"Sum"]
[null,null,null,null,null,"Total LV customers","£",{"$f":"SUM(J33:Y33)","v":849999738.42421782},null,{"$f":"J27 +J29","v":734109113.95841789},0,62328491.94974184,0,28251917.036841363,298236.01905168325,0,25011979.460165042,0,0,0,0,0,0,0,0]
[null,null,null,null,null,"Total HV customers","£",{"$f":"SUM(J34:Y34)","v":19409882.986097641},null,{"$f":"J28","v":0},0,0,0,0,0,16883818.986097641,0,0,0,0,0,0,0,2526064,0]
[]
[null,"Checks"]
[]
[null,null,null,null,"Check for error values",null,"number of issues",{"$f":"SUM(IF(ISERROR(H16:Y35), 1))","v":0}]
[]
[null,"End of sheet"]

{"sheet":"Unit costs","index":25,"n_rows":133,"n_cols":23,"rows_kept":133,"cut":false,"hidden":true,"merged":[]}
[{"$f":"MID(CELL(\"filename\",A1),FIND(\"]\",CELL(\"filename\",A1))+1,255)","v":"Unit costs"}]
[{"$f":"Cover!D23 & \" - \" & TEXT(CIRP_submission_date, \"mmm\") & \"-\" & RIGHT(YEAR(CIRP_submission_date), 2) & \" - \" & Cover!D25","v":"SP Distribution - Jan-26 - V1"}]
[{"$f":"Cover!D2&\" - \"&Cover!D8&\" v\"&Cover!D10&\" - \"&Cover!D19","v":"Cost Information Review Pack (CIRP) - Release for charge setting v1 - 2027/28"}]
[{"$f":"H131 & IF(H131 = 1, \" issue\", \" issues\") &\" identified in checks on this sheet\"","v":"0 issues identified in checks on this sheet"}]
[null,"Click here to return to model map",null,null,null,null,"Units","Constants",null,"Transmission exit","GSPs","132kV","132kV/EHV","EHV","EHV/HV","132kV/HV","HV","HV/LV","LV circuits","LV customers","HV customers",null,"Legal text reference"]
[]
[null,"Description"]
[]
[null,null,"This sheet calculates unit costs used in the calculation of unit rates."]
[null,null,"Two types of unit costs are calculated:"]
[null,null,null,"1. Cost per kW for incremental assets in the 500MW model."]
[null,null,null,"2. Cost per kW for other operating costs, based on notional asset values and estimated system peak load."]
[null,null,"This sheet covers areas in Schedule 16 from Paragraph 57 to 66."]
[]
[null,"500MW model costs"]
[]
[null,null,"This section calculates the incremental asset cost, per kW, based on the 500MW distribution reinforcement model"]
[]
[null,null,{"$f":"INDEX('Version control'!$H$29:$H$55,MATCH($A$1,'Version control'!$F$29:$F$55,0),1)&\"-A: Financial data\"","v":"Section 511-A: Financial data"}]
[]
[null,null,null,"Calculates the annuity rate to be applied to asset costs",null,null,null,null,">",null,null,null,null,null,null,null,null,null,null,null,null,null,"Paragraph 57"]
[]
[null,null,null,null,"Real pre-tax cost of capital",null,"%",{"$f":"'General inputs'!H99","v":4.87E-2}]
[null,null,null,null,"Annualisation period",null,"years",{"$f":"'Fixed inputs'!H40","v":40}]
[null,null,null,null,"Annuity rate",null,"%",{"$f":"H23 / (1 - (1 + H23) ^ -H24)","v":5.7244416563034098E-2}]
[]
[null,null,{"$f":"INDEX('Version control'!$H$29:$H$55,MATCH($A$1,'Version control'!$F$29:$F$55,0),1)&\"-B: Diversity and loss adjustment factors\"","v":"Section 511-B: Diversity and loss adjustment factors"}]
[]
[null,null,null,"Brings in loss adjustment factors, and calculates the coincidence factor to for GSPs"]
[]
[null,null,null,null,"Loss adjustment factor to transmission for each DRM level",null,"no.",null,null,null,{"$f":"'Load & loss characteristics'!K29","v":1},{"$f":"'Load & loss characteristics'!L29","v":1},{"$f":"'Load & loss characteristics'!M29","v":1},{"$f":"'Load & loss characteristics'!N29","v":1.0029999999999999},{"$f":"'Load & loss characteristics'!O29","v":1.0129999999999999},{"$f":"'Load & loss characteristics'!P29","v":1.0129999999999999},{"$f":"'Load & loss characteristics'!Q29","v":1.0249999999999999},{"$f":"'Load & loss characteristics'!R29","v":1.0449999999999999},{"$f":"'Load & loss characteristics'!S29","v":1.1299999999999999}]
[null,null,null,null,"Diversity allowance between top and bottom network level",null,"%",null,null,null,{"$f":"'Load & loss characteristics'!$K$23","v":0.1160000000000001}]
[null,null,null,null,"Coincidence to system peak",null,"%",null,null,null,{"$f":" 1 / (1 + K32)","v":0.8960573476702508}]
[]
[null,null,{"$f":"INDEX('Version control'!$H$29:$H$55,MATCH($A$1,'Version control'!$F$29:$F$55,0),1)&\"-C: Maximum demand\"","v":"Section 511-C: Maximum demand"}]
[]
[null,null,null,"Calculates additional simultaneous load at each network level from an increment of 500MW at GSP"]
[]
[null,null,null,null,"Network model GSP peak demand",null,"MW",{"$f":"'Fixed inputs'!H46","v":500}]
[null,null,null,null,"Exit load at system peak, assuming single stage transformation at each network level",null,"MW",null,">",null,{"$f":"$H$39 * $K$33 / K31","v":448.0286738351254},448.0286738351254,448.0286738351254,446.68860801109219,442.27904623408239,442.27904623408239,437.10114520500042,428.73557304796691,396.48555206648268,null,null,null,"Paragraph 60"]
[]
[null,null,{"$f":"INDEX('Version control'!$H$29:$H$55,MATCH($A$1,'Version control'!$F$29:$F$55,0),1)&\"-D: Rerouting matrix\"","v":"Section 511-D: Rerouting matrix"}]
[]
[null,null,null,"Adjusts load going through 132/EHV transformation for networks also containing 132/HV transformation"]
[]
[null,null,null,null,"Proportion of load going through 132kV/HV direct transformation",null,"%",null,null,null,null,null,null,null,null,{"$f":"'Inputs by network level'!P20","v":0}]
[null,null,null,null,"Rerouting for DRM network levels",null,"%",null,null,null,null,null,{"$f":"IF(M46 = \"\", 1 - $P$46, M46)","v":1},{"$f":"IF(N46 = \"\", 1 - $P$46, N46)","v":1},{"$f":"IF(O46 = \"\", 1 - $P$46, O46)","v":1},{"$f":"IF(P46 = \"\", 1 - $P$46, P46)","v":0}]
[null,null,null,null,"GSP simultaneous maximum load assumed through each network level",null,"MW",null,null,null,{"$f":"IF(K47 = \"\", K40, K47 * K40)","v":448.0286738351254},448.0286738351254,448.0286738351254,446.68860801109219,442.27904623408239,0,437.10114520500042,428.73557304796691,396.48555206648268]
[]
[null,null,{"$f":"INDEX('Version control'!$H$29:$H$55,MATCH($A$1,'Version control'!$F$29:$F$55,0),1)&\"-E: Annuitised cost of assets\"","v":"Section 511-E: Annuitised cost of assets"}]
[]
[null,null,null,"Calculates the annuitised asset cost per kW of simultaneous load from the 500MW model"]
[]
[null,null,null,null,"Gross assets",null,"£",null,null,null,null,{"$f":"'Inputs by network level'!L36","v":0},{"$f":"'Inputs by network level'!M36","v":0},{"$f":"'Inputs by network level'!N36","v":141269535.36136067},{"$f":"'Inputs by network level'!O36","v":36199599.838147812},{"$f":"'Inputs by network level'!P36","v":0},{"$f":"'Inputs by network level'!Q36","v":155731692.62012157},{"$f":"'Inputs by network level'!R36","v":39139783.964567825},{"$f":"'Inputs by network level'!S36","v":65834354.069705926}]
[null,null,null,null,"Network level assets per kW (simultaneous peak)",null,"£/kW",null,null,null,null,{"$f":"IF(L48 = 0, 0, L54 / (L48 * thousand))","v":0},0,316.25954373533671,81.847874427649614,0,356.28296637631416,91.291197710316581,166.0447744604495]
[null,null,null,null,"Network level assets per kW (simultaneous peak) per year",null,"£/kW/year",null,">",null,null,{"$f":"L55 * $H$25","v":0},0,18.104093063620716,4.6853338185352804,0,20.395210541559198,5.2259113502676673,9.5051362373290171,null,null,null,"Paragraph 59"]
[]
[null,"Allocation of other costs"]
[]
[null,null,"This section allocates operating costs based on notional asset value (£) by network level, then divides this by load on each network level at time of system peak"]
[]
[null,null,{"$f":"INDEX('Version control'!$H$29:$H$55,MATCH($A$1,'Version control'!$F$29:$F$55,0),1)&\"-F: System simultaneous peak load based on chargeable units\"","v":"Section 511-F: System simultaneous peak load based on chargeable units"}]
[]
[null,null,null,null,"Estimated load at system peak",null,"MW",null,null,null,{"$f":"TRANSPOSE('System peak demand'!H269:H277)","v":2557.1009366200828},0,0,2678.9233678003493,3143.351313882325,0,3210.473154091434,2863.5121551971088,1982.0493757467261]
[null,null,null,null,"Adjustment for transmission exit level",null,"MW",null,null,{"$f":"K64","v":2557.1009366200828}]
[]
[null,null,null,null,"Estimated load at system peak",null,"kW",null,null,{"$f":"SUM(J64:J65) * thousand","v":2557100.9366200827},2557100.9366200827,0,0,2678923.3678003494,3143351.3138823248,0,3210473.1540914341,2863512.1551971086,1982049.3757467261]
[]
[null,null,{"$f":"INDEX('Version control'!$H$29:$H$55,MATCH($A$1,'Version control'!$F$29:$F$55,0),1)&\"-G: Notional asset values, by network level\"","v":"Section 511-G: Notional asset values, by network level"}]
[]
[null,null,null,"Calculates the notional asset value, and its relative shares, by network level"]
[]
[null,null,null,null,"Notional asset value (network model)",null,"£",null,null,null,null,{"$f":"L67 * L55","v":0},0,847235082.00247014,257276623.62062794,0,1143836898.8112178,261413454.30599397,329108941.56533986]
[null,null,null,null,"Notional asset value (service model)",null,"£",null,null,null,null,null,null,null,null,null,null,null,null,{"$f":"'Service model assets'!H33","v":849999738.42421782},{"$f":"'Service model assets'!H34","v":19409882.986097641}]
[]
[null,null,null,null,"Total notional asset value",null,"£",null,">",null,{"$f":"K73 + K74","v":0},0,0,847235082.00247014,257276623.62062794,0,1143836898.8112178,261413454.30599397,329108941.56533986,849999738.42421782,19409882.986097641,null,"Paragraph 63"]
[]
[null,null,null,null,"Share of total notional asset value",null,"%",null,null,null,{"$f":"K76 / SUM($K$76:$U$76)","v":0},0,0,0.22847113485451961,6.9378952098176447E-2,0,0.30845478416946776,7.0494517802977871E-2,8.8749740145892306E-2,0.229216670779055,5.2342001499109678E-3]
[]
[null,null,{"$f":"INDEX('Version control'!$H$29:$H$55,MATCH($A$1,'Version control'!$F$29:$F$55,0),1)&\"-H: Other operating costs\"","v":"Section 511-H: Other operating costs"}]
[]
[null,null,null,"Calculates other operating costs to be allocated to charges"]
[]
[null,null,null,null,"Indirect cost proportion",null,"%",{"$f":"'Fixed inputs'!H44","v":0.6}]
[]
[null,null,null,null,"Direct cost",null,"£ per year",{"$f":"'General inputs'!H110","v":25963150.658752657}]
[null,null,null,null,"Indirect cost",null,"£ per year",{"$f":"'General inputs'!H111","v":138619386.11953011}]
[null,null,null,null,"Network rates",null,"£ per year",{"$f":"'General inputs'!H112","v":42995962.116087213}]
[]
[null,null,null,null,"Other operating costs for allocation",null,"£ per year",{"$f":"H86 + H87 * H84 + H88","v":152130744.44655794}]
[]
[null,null,{"$f":"INDEX('Version control'!$H$29:$H$55,MATCH($A$1,'Version control'!$F$29:$F$55,0),1)&\"-I: Other operating costs by network level\"","v":"Section 511-I: Other operating costs by network level"}]
[]
[null,null,null,"Calculates operating costs per kW for unit rates, based on share of notional asset values by network level."]
[null,null,null,"Costs allocated to service model users are ignored here as they form part of fixed/capacity charges"]
[]
[null,null,null,null,"Other operating costs (allocated)",null,"£ per year",null,">",null,{"$f":"K78 * $H$90","v":0},0,0,34757483.829967998,10554671.631617665,0,46925455.943803482,10724383.472768156,13501564.037833165,34870902.765179224,796282.76538824069,null,"Paragraph 65"]
[null,null,null,null,"Transmission exit charges",null,"£ per year",null,null,{"$f":"'General inputs'!$H$105","v":30835587.118306771}]
[]
[null,null,null,null,"Other operating costs (excl. service models)",null,"£/kW/ year",null,">",{"$f":"IF(J$67 = 0, 0, SUM(J97:J98) / J$67)","v":12.058807173667748},0,0,0,12.974422578764242,3.3577766459014362,0,14.616367647865729,3.7451852450858367,6.811921137305939,null,null,null,"Paragraph 66"]
[]
[null,"Outputs"]
[]
[null,null,{"$f":"INDEX('Version control'!$H$29:$H$55,MATCH($A$1,'Version control'!$F$29:$F$55,0),1)&\"-J: Notional asset values by network level\"","v":"Section 511-J: Notional asset values by network level"}]
[]
[null,null,null,"Exported to 'Output to other models'!"]
[]
[null,null,null,null,"Total notional asset value",null,"£",null,null,null,{"$f":"K76","v":0},0,0,847235082.00247014,257276623.62062794,0,1143836898.8112178,261413454.30599397,329108941.56533986,849999738.42421782,19409882.986097641]
[]
[null,null,{"$f":"INDEX('Version control'!$H$29:$H$55,MATCH($A$1,'Version control'!$F$29:$F$55,0),1)&\"-K: Unit costs\"","v":"Section 511-K: Unit costs"}]
[]
[null,null,null,"Exported to 'Initial unit rates'!"]
[]
[null,null,null,null,"Network level assets per kW (simultaneous peak) per year",null,"£/kW/ year",null,null,null,null,{"$f":"L56","v":0},0,18.104093063620716,4.6853338185352804,0,20.395210541559198,5.2259113502676673,9.5051362373290171]
[null,null,null,null,"Other operating costs (excl. service models)",null,"£/kW/ year",null,null,{"$f":"J100","v":12.058807173667748},0,0,0,12.974422578764242,3.3577766459014362,0,14.616367647865729,3.7451852450858367,6.811921137305939]
[]
[null,null,{"$f":"INDEX('Version control'!$H$29:$H$55,MATCH($A$1,'Version control'!$F$29:$F$55,0),1)&\"-L: Values used for allocating costs to service models\"","v":"Section 511-L: Values used for allocating costs to service models"}]
[]
[null,null,null,"Exported to 'Service model charges'!"]
[]
[null,null,null,null,"Annuity rate",null,"%",{"$f":"H25","v":5.7244416563034098E-2}]
[null,null,null,null,"Other operating costs for allocation",null,"£ per year",{"$f":"H90","v":152130744.44655794}]
[null,null,null,null,"Total notional asset value",null,"£",{"$f":"SUM(K76:U76)","v":3708280621.7159653}]
[]
[null,"Checks"]
[]
[null,null,null,null,"Check for error values",null,"number of issues",{"$f":"SUM(IF(ISERROR(H23:U123), 1))","v":0}]
[]
[null,null,null,null,"Check for DRM assets with zero load (and vice versa)",null,"number of issues",{"$f":"SUM(J129:U129)","v":0},null,null,null,null,null,{"$f":"IFERROR(IF(OR(AND(N54>0, N48=0), AND(N48>0, N54=0)), 1, 0),1)","v":0},0,0,0,0,0,0,0]
[]
[null,null,null,null,"Summary of checks",null,"number of issues",{"$f":"H127 + H129","v":0}]
[]
[null,"End of sheet"]

{"sheet":"Initial unit rates","index":26,"n_rows":243,"n_cols":27,"rows_kept":243,"cut":false,"hidden":true,"merged":[]}
[{"$f":"MID(CELL(\"filename\",A1),FIND(\"]\",CELL(\"filename\",A1))+1,255)","v":"Initial unit rates"}]
[{"$f":"Cover!D23 & \" - \" & TEXT(CIRP_submission_date, \"mmm\") & \"-\" & RIGHT(YEAR(CIRP_submission_date), 2) & \" - \" & Cover!D25","v":"SP Distribution - Jan-26 - V1"}]
[{"$f":"Cover!D2&\" - \"&Cover!D8&\" v\"&Cover!D10&\" - \"&Cover!D19","v":"Cost Information Review Pack (CIRP) - Release for charge setting v1 - 2027/28"}]
[{"$f":"H241 & IF(H241 = 1, \" issue\", \" issues\") &\" identified in checks on this sheet\"","v":"0 issues identified in checks on this sheet"}]
[null,"Click here to return to model map",null,null,null,null,"Units","Constants",null,"Domestic Aggregated or CT","Domestic Aggregated (Related MPAN)","Non-Domestic Aggregated or CT","Non-Domestic Aggregated (Related MPAN)","LV Site Specific","LV Sub Site Specific","HV Site Specific","Unmetered Supplies","LV Generation Aggregated","LV Sub Generation Aggregated","LV Generation Site Specific","LV Generation Site Specific no RP Charge","LV Sub Generation Site Specific","LV Sub Generation Site Specific no RP Charge","HV Generation Site Specific","HV Generation Site Specific no RP Charge",null,"Legal text reference"]
[]
[null,"Description"]
[]
[null,null,"This sheet calculates yardstick charges and unit rates 1, 2 and 3 (before application of standing charge factors)."]
[]
[null,"Inputs for yardstick and unit rate calculations"]
[]
[null,null,{"$f":"INDEX('Version control'!$H$29:$H$55,MATCH($A$1,'Version control'!$F$29:$F$55,0),1)&\"-A: Inputs for yardstick and unit rate calculations\"","v":"Section 512-A: Inputs for yardstick and unit rate calculations"}]
[]
[null,null,null,"This section brings in inputs for calculating unit rates"]
[]
[null,null,null,null,"Network level assets per kW per year",null,null,null,">",null,null,null,null,null,null,null,null,null,null,null,null,null,null,null,null,null,"Paragraph 67"]
[null,null,null,null,null,"Transmission exit","£/kW/year"]
[null,null,null,null,null,"GSPs","£/kW/year"]
[null,null,null,null,null,"132kV","£/kW/year",{"$f":"TRANSPOSE('Unit costs'!L114:S114)","v":0}]
[null,null,null,null,null,"132kV/EHV","£/kW/year",0]
[null,null,null,null,null,"EHV","£/kW/year",18.104093063620716]
[null,null,null,null,null,"EHV/HV","£/kW/year",4.6853338185352804]
[null,null,null,null,null,"132kV/HV","£/kW/year",0]
[null,null,null,null,null,"HV","£/kW/year",20.395210541559198]
[null,null,null,null,null,"HV/LV","£/kW/year",5.2259113502676673]
[null,null,null,null,null,"LV circuits","£/kW/year",9.5051362373290171]
[]
[null,null,null,null,"Other operating costs (excl. service models) per kW per year"]
[null,null,null,null,null,"Transmission exit","£/kW/ year",{"$f":"TRANSPOSE('Unit costs'!J115:S115)","v":12.058807173667748}]
[null,null,null,null,null,"GSPs","£/kW/ year",0]
[null,null,null,null,null,"132kV","£/kW/ year",0]
[null,null,null,null,null,"132kV/EHV","£/kW/ year",0]
[null,null,null,null,null,"EHV","£/kW/ year",12.974422578764242]
[null,null,null,null,null,"EHV/HV","£/kW/ year",3.3577766459014362]
[null,null,null,null,null,"132kV/HV","£/kW/ year",0]
[null,null,null,null,null,"HV","£/kW/ year",14.616367647865729]
[null,null,null,null,null,"HV/LV","£/kW/ year",3.7451852450858367]
[null,null,null,null,null,"LV circuits","£/kW/ year",6.811921137305939]
[]
[null,null,null,null,"Loss adjustment factors,  by network level"]
[null,null,null,null,"Loss adjustment factor to transmission for each core level"]
[null,null,null,null,null,"Transmission exit","scalar",{"$f":"TRANSPOSE('Load & loss characteristics'!J29:S29)","v":1}]
[null,null,null,null,null,"GSPs","scalar",1]
[null,null,null,null,null,"132kV","scalar",1]
[null,null,null,null,null,"132kV/EHV","scalar",1]
[null,null,null,null,null,"EHV","scalar",1.0029999999999999]
[null,null,null,null,null,"EHV/HV","scalar",1.0129999999999999]
[null,null,null,null,null,"132kV/HV","scalar",1.0129999999999999]
[null,null,null,null,null,"HV","scalar",1.0249999999999999]
[null,null,null,null,null,"HV/LV","scalar",1.0449999999999999]
[null,null,null,null,null,"LV circuits","scalar",1.1299999999999999]
[]
[null,null,null,null,"User loss factor (assuming generation does not contribute at level of connection)"]
[null,null,null,null,null,"Transmission exit","scalar",null,null,{"$f":"TRANSPOSE('Load & loss characteristics'!J145:S160)","v":1.1299999999999999},1.1299999999999999,1.1299999999999999,1.1299999999999999,1.1299999999999999,1.0449999999999999,1.0249999999999999,1.1299999999999999,-1.1299999999999999,-1.0449999999999999,-1.1299999999999999,-1.1299999999999999,-1.0449999999999999,-1.0449999999999999,-1.0249999999999999,-1.0249999999999999]
[null,null,null,null,null,"GSPs","scalar",null,null,1.1299999999999999,1.1299999999999999,1.1299999999999999,1.1299999999999999,1.1299999999999999,1.0449999999999999,1.0249999999999999,1.1299999999999999,-1.1299999999999999,-1.0449999999999999,-1.1299999999999999,-1.1299999999999999,-1.0449999999999999,-1.0449999999999999,-1.0249999999999999,-1.0249999999999999]
[null,null,null,null,null,"132kV","scalar",null,null,1.1299999999999999,1.1299999999999999,1.1299999999999999,1.1299999999999999,1.1299999999999999,1.0449999999999999,1.0249999999999999,1.1299999999999999,-1.1299999999999999,-1.0449999999999999,-1.1299999999999999,-1.1299999999999999,-1.0449999999999999,-1.0449999999999999,-1.0249999999999999,-1.0249999999999999]
[null,null,null,null,null,"132kV/EHV","scalar",null,null,1.1299999999999999,1.1299999999999999,1.1299999999999999,1.1299999999999999,1.1299999999999999,1.0449999999999999,1.0249999999999999,1.1299999999999999,-1.1299999999999999,-1.0449999999999999,-1.1299999999999999,-1.1299999999999999,-1.0449999999999999,-1.0449999999999999,-1.0249999999999999,-1.0249999999999999]
[null,null,null,null,null,"EHV","scalar",null,null,1.1299999999999999,1.1299999999999999,1.1299999999999999,1.1299999999999999,1.1299999999999999,1.0449999999999999,1.0249999999999999,1.1299999999999999,-1.1299999999999999,-1.0449999999999999,-1.1299999999999999,-1.1299999999999999,-1.0449999999999999,-1.0449999999999999,-1.0249999999999999,-1.0249999999999999]
[null,null,null,null,null,"EHV/HV","scalar",null,null,1.1299999999999999,1.1299999999999999,1.1299999999999999,1.1299999999999999,1.1299999999999999,1.0449999999999999,1.0249999999999999,1.1299999999999999,-1.1299999999999999,-1.0449999999999999,-1.1299999999999999,-1.1299999999999999,-1.0449999999999999,-1.0449999999999999,-1.0249999999999999,-1.0249999999999999]
[null,null,null,null,null,"132kV/HV","scalar",null,null,0,0,0,0,0,0,0,0,0,0,0,0,0,0,0,0]
[null,null,null,null,null,"HV","scalar",null,null,1.1299999999999999,1.1299999999999999,1.1299999999999999,1.1299999999999999,1.1299999999999999,1.0449999999999999,1.0249999999999999,1.1299999999999999,-1.1299999999999999,-1.0449999999999999,-1.1299999999999999,-1.1299999999999999,-1.0449999999999999,-1.0449999999999999,0,0]
[null,null,null,null,null,"HV/LV","scalar",null,null,1.1299999999999999,1.1299999999999999,1.1299999999999999,1.1299999999999999,1.1299999999999999,1.0449999999999999,0,1.1299999999999999,-1.1299999999999999,0,-1.1299999999999999,-1.1299999999999999,0,0,0,0]
[null,null,null,null,null,"LV circuits","scalar",null,null,1.1299999999999999,1.1299999999999999,1.1299999999999999,1.1299999999999999,1.1299999999999999,0,0,1.1299999999999999,0,0,0,0,0,0,0,0]
[]
[null,null,null,null,"Customer contributions, by network level"]
[null,null,null,null,null,"Transmission exit","%"]
[null,null,null,null,null,"GSPs","%"]
[null,null,null,null,null,"132kV","%",null,null,{"$f":"TRANSPOSE('Customer contributions'!L51:S66)","v":0},0,0,0,0,0,0,0,0,0,0,0,0,0,0,0]
[null,null,null,null,null,"132kV/EHV","%",null,null,0,0,0,0,0,0,0,0,0,0,0,0,0,0,0,0]
[null,null,null,null,null,"EHV","%",null,null,0,0,0,0,0,0,0,0,0,0,0,0,0,0,0,0]
[null,null,null,null,null,"EHV/HV","%",null,null,0,0,0,0,0,0,0,0,0,0,0,0,0,0,0,0]
[null,null,null,null,null,"132kV/HV","%",null,null,0,0,0,0,0,0,0,0,0,0,0,0,0,0,0,0]
[null,null,null,null,null,"HV","%",null,null,0,0,0,0,0,0,0,0,0,0,0,0,0,0,0,0]
[null,null,null,null,null,"HV/LV","%",null,null,0,0,0,0,0,0,0,0,0,0,0,0,0,0,0,0]
[null,null,null,null,null,"LV circuits","%",null,null,0,0,0,0,0,0,0,0,0,0,0,0,0,0,0,0]
[]
[null,null,null,null,"Load coefficient",null,"scalar",null,null,{"$f":"'Pseudo-load coefficients'!J267","v":1.9132128793735343},{"$f":"'Pseudo-load coefficients'!K267","v":1.9132128793735343},{"$f":"'Pseudo-load coefficients'!L267","v":1.6004109250159284},{"$f":"'Pseudo-load coefficients'!M267","v":1.6004109250159284},{"$f":"'Pseudo-load coefficients'!N267","v":1.4589341692789963},{"$f":"'Pseudo-load coefficients'!O267","v":1.2163801820020221},{"$f":"'Pseudo-load coefficients'!P267","v":1.1437728937728937},{"$f":"'Pseudo-load coefficients'!Q267","v":1.8063291139240505},{"$f":"'Pseudo-load coefficients'!R267","v":1},{"$f":"'Pseudo-load coefficients'!S267","v":1},{"$f":"'Pseudo-load coefficients'!T267","v":1},{"$f":"'Pseudo-load coefficients'!U267","v":1},{"$f":"'Pseudo-load coefficients'!V267","v":1},{"$f":"'Pseudo-load coefficients'!W267","v":1},{"$f":"'Pseudo-load coefficients'!X267","v":1},{"$f":"'Pseudo-load coefficients'!Y267","v":1}]
[]
[null,null,null,null,"Pseudo load coefficient, unit rate 1"]
[null,null,null,null,null,"Transmission exit","scalar",null,null,{"$f":"'Pseudo-load coefficients'!J272","v":12.006620302905752},{"$f":"'Pseudo-load coefficients'!K272","v":12.006620302905752},{"$f":"'Pseudo-load coefficients'!L272","v":13.292928606650811},{"$f":"'Pseudo-load coefficients'!M272","v":13.292928606650811},{"$f":"'Pseudo-load coefficients'!N272","v":11.379653450751535},{"$f":"'Pseudo-load coefficients'!O272","v":9.6938169748182528},{"$f":"'Pseudo-load coefficients'!P272","v":9.4908512096585174},{"$f":"'Pseudo-load coefficients'!Q272","v":27.788246198983625},{"$f":"'Pseudo-load coefficients'!R272","v":8.6015208379971249},{"$f":"'Pseudo-load coefficients'!S272","v":8.6015208379971249},{"$f":"'Pseudo-load coefficients'!T272","v":8.6015208379971249},{"$f":"'Pseudo-load coefficients'!U272","v":8.6015208379971249},{"$f":"'Pseudo-load coefficients'!V272","v":8.6015208379971249},{"$f":"'Pseudo-load coefficients'!W272","v":8.6015208379971249},{"$f":"'Pseudo-load coefficients'!X272","v":8.6015208379971249},{"$f":"'Pseudo-load coefficients'!Y272","v":8.6015208379971249}]
[null,null,null,null,null,"GSPs","scalar",null,null,{"$f":"'Pseudo-load coefficients'!J272","v":12.006620302905752},{"$f":"'Pseudo-load coefficients'!K272","v":12.006620302905752},{"$f":"'Pseudo-load coefficients'!L272","v":13.292928606650811},{"$f":"'Pseudo-load coefficients'!M272","v":13.292928606650811},{"$f":"'Pseudo-load coefficients'!N272","v":11.379653450751535},{"$f":"'Pseudo-load coefficients'!O272","v":9.6938169748182528},{"$f":"'Pseudo-load coefficients'!P272","v":9.4908512096585174},{"$f":"'Pseudo-load coefficients'!Q272","v":27.788246198983625},{"$f":"'Pseudo-load coefficients'!R272","v":8.6015208379971249},{"$f":"'Pseudo-load coefficients'!S272","v":8.6015208379971249},{"$f":"'Pseudo-load coefficients'!T272","v":8.6015208379971249},{"$f":"'Pseudo-load coefficients'!U272","v":8.6015208379971249},{"$f":"'Pseudo-load coefficients'!V272","v":8.6015208379971249},{"$f":"'Pseudo-load coefficients'!W272","v":8.6015208379971249},{"$f":"'Pseudo-load coefficients'!X272","v":8.6015208379971249},{"$f":"'Pseudo-load coefficients'!Y272","v":8.6015208379971249}]
[null,null,null,null,null,"132kV","scalar",null,null,{"$f":"'Pseudo-load coefficients'!J273","v":0},{"$f":"'Pseudo-load coefficients'!K273","v":0},{"$f":"'Pseudo-load coefficients'!L273","v":0},{"$f":"'Pseudo-load coefficients'!M273","v":0},{"$f":"'Pseudo-load coefficients'!N273","v":0},{"$f":"'Pseudo-load coefficients'!O273","v":0},{"$f":"'Pseudo-load coefficients'!P273","v":0},{"$f":"'Pseudo-load coefficients'!Q273","v":0},{"$f":"'Pseudo-load coefficients'!R273","v":0},{"$f":"'Pseudo-load coefficients'!S273","v":0},{"$f":"'Pseudo-load coefficients'!T273","v":0},{"$f":"'Pseudo-load coefficients'!U273","v":0},{"$f":"'Pseudo-load coefficients'!V273","v":0},{"$f":"'Pseudo-load coefficients'!W273","v":0},{"$f":"'Pseudo-load coefficients'!X273","v":0},{"$f":"'Pseudo-load coefficients'!Y273","v":0}]
[null,null,null,null,null,"132kV/EHV","scalar",null,null,{"$f":"'Pseudo-load coefficients'!J274","v":0},{"$f":"'Pseudo-load coefficients'!K274","v":0},{"$f":"'Pseudo-load coefficients'!L274","v":0},{"$f":"'Pseudo-load coefficients'!M274","v":0},{"$f":"'Pseudo-load coefficients'!N274","v":0},{"$f":"'Pseudo-load coefficients'!O274","v":0},{"$f":"'Pseudo-load coefficients'!P274","v":0},{"$f":"'Pseudo-load coefficients'!Q274","v":0},{"$f":"'Pseudo-load coefficients'!R274","v":0},{"$f":"'Pseudo-load coefficients'!S274","v":0},{"$f":"'Pseudo-load coefficients'!T274","v":0},{"$f":"'Pseudo-load coefficients'!U274","v":0},{"$f":"'Pseudo-load coefficients'!V274","v":0},{"$f":"'Pseudo-load coefficients'!W274","v":0},{"$f":"'Pseudo-load coefficients'!X274","v":0},{"$f":"'Pseudo-load coefficients'!Y274","v":0}]
[null,null,null,null,null,"EHV","scalar",null,null,{"$f":"'Pseudo-load coefficients'!J275","v":12.006620302905752},{"$f":"'Pseudo-load coefficients'!K275","v":12.006620302905752},{"$f":"'Pseudo-load coefficients'!L275","v":13.292928606650811},{"$f":"'Pseudo-load coefficients'!M275","v":13.292928606650811},{"$f":"'Pseudo-load coefficients'!N275","v":11.379653450751535},{"$f":"'Pseudo-load coefficients'!O275","v":9.6938169748182528},{"$f":"'Pseudo-load coefficients'!P275","v":9.4908512096585174},{"$f":"'Pseudo-load coefficients'!Q275","v":27.788246198983625},{"$f":"'Pseudo-load coefficients'!R275","v":8.6015208379971249},{"$f":"'Pseudo-load coefficients'!S275","v":8.6015208379971249},{"$f":"'Pseudo-load coefficients'!T275","v":8.6015208379971249},{"$f":"'Pseudo-load coefficients'!U275","v":8.6015208379971249},{"$f":"'Pseudo-load coefficients'!V275","v":8.6015208379971249},{"$f":"'Pseudo-load coefficients'!W275","v":8.6015208379971249},{"$f":"'Pseudo-load coefficients'!X275","v":8.6015208379971249},{"$f":"'Pseudo-load coefficients'!Y275","v":8.6015208379971249}]
[null,null,null,null,null,"EHV/HV","scalar",null,null,{"$f":"'Pseudo-load coefficients'!J276","v":9.3084327548019026},{"$f":"'Pseudo-load coefficients'!K276","v":9.3084327548019026},{"$f":"'Pseudo-load coefficients'!L276","v":10.305675446357364},{"$f":"'Pseudo-load coefficients'!M276","v":10.305675446357364},{"$f":"'Pseudo-load coefficients'!N276","v":8.8223610180822067},{"$f":"'Pseudo-load coefficients'!O276","v":7.5153741161961385},{"$f":"'Pseudo-load coefficients'!P276","v":7.3580198292400434},{"$f":"'Pseudo-load coefficients'!Q276","v":22.137045042043376},{"$f":"'Pseudo-load coefficients'!R276","v":6.668544210575762},{"$f":"'Pseudo-load coefficients'!S276","v":6.668544210575762},{"$f":"'Pseudo-load coefficients'!T276","v":6.668544210575762},{"$f":"'Pseudo-load coefficients'!U276","v":6.668544210575762},{"$f":"'Pseudo-load coefficients'!V276","v":6.668544210575762},{"$f":"'Pseudo-load coefficients'!W276","v":6.668544210575762},{"$f":"'Pseudo-load coefficients'!X276","v":6.668544210575762},{"$f":"'Pseudo-load coefficients'!Y276","v":6.668544210575762}]
[null,null,null,null,null,"132kV/HV","scalar",null,null,{"$f":"'Pseudo-load coefficients'!J277","v":0},{"$f":"'Pseudo-load coefficients'!K277","v":0},{"$f":"'Pseudo-load coefficients'!L277","v":0},{"$f":"'Pseudo-load coefficients'!M277","v":0},{"$f":"'Pseudo-load coefficients'!N277","v":0},{"$f":"'Pseudo-load coefficients'!O277","v":0},{"$f":"'Pseudo-load coefficients'!P277","v":0},{"$f":"'Pseudo-load coefficients'!Q277","v":0},{"$f":"'Pseudo-load coefficients'!R277","v":0},{"$f":"'Pseudo-load coefficients'!S277","v":0},{"$f":"'Pseudo-load coefficients'!T277","v":0},{"$f":"'Pseudo-load coefficients'!U277","v":0},{"$f":"'Pseudo-load coefficients'!V277","v":0},{"$f":"'Pseudo-load coefficients'!W277","v":0},{"$f":"'Pseudo-load coefficients'!X277","v":0},{"$f":"'Pseudo-load coefficients'!Y277","v":0}]
[null,null,null,null,null,"HV","scalar",null,null,{"$f":"'Pseudo-load coefficients'!J278","v":9.3084327548019026},{"$f":"'Pseudo-load coefficients'!K278","v":9.3084327548019026},{"$f":"'Pseudo-load coefficients'!L278","v":10.305675446357364},{"$f":"'Pseudo-load coefficients'!M278","v":10.305675446357364},{"$f":"'Pseudo-load coefficients'!N278","v":8.8223610180822067},{"$f":"'Pseudo-load coefficients'!O278","v":7.5153741161961385},{"$f":"'Pseudo-load coefficients'!P278","v":7.3580198292400434},{"$f":"'Pseudo-load coefficients'!Q278","v":22.137045042043376},{"$f":"'Pseudo-load coefficients'!R278","v":6.668544210575762},{"$f":"'Pseudo-load coefficients'!S278","v":6.668544210575762},{"$f":"'Pseudo-load coefficients'!T278","v":6.668544210575762},{"$f":"'Pseudo-load coefficients'!U278","v":6.668544210575762},{"$f":"'Pseudo-load coefficients'!V278","v":6.668544210575762},{"$f":"'Pseudo-load coefficients'!W278","v":6.668544210575762},{"$f":"'Pseudo-load coefficients'!X278","v":6.668544210575762},{"$f":"'Pseudo-load coefficients'!Y278","v":6.668544210575762}]
[null,null,null,null,null,"HV/LV","scalar",null,null,{"$f":"'Pseudo-load coefficients'!J279","v":9.3084327548019026},{"$f":"'Pseudo-load coefficients'!K279","v":9.3084327548019026},{"$f":"'Pseudo-load coefficients'!L279","v":10.305675446357364},{"$f":"'Pseudo-load coefficients'!M279","v":10.305675446357364},{"$f":"'Pseudo-load coefficients'!N279","v":8.8223610180822067},{"$f":"'Pseudo-load coefficients'!O279","v":7.5153741161961385},{"$f":"'Pseudo-load coefficients'!P279","v":7.3580198292400434},{"$f":"'Pseudo-load coefficients'!Q279","v":22.137045042043376},{"$f":"'Pseudo-load coefficients'!R279","v":6.668544210575762},{"$f":"'Pseudo-load coefficients'!S279","v":6.668544210575762},{"$f":"'Pseudo-load coefficients'!T279","v":6.668544210575762},{"$f":"'Pseudo-load coefficients'!U279","v":6.668544210575762},{"$f":"'Pseudo-load coefficients'!V279","v":6.668544210575762},{"$f":"'Pseudo-load coefficients'!W279","v":6.668544210575762},{"$f":"'Pseudo-load coefficients'!X279","v":6.668544210575762},{"$f":"'Pseudo-load coefficients'!Y279","v":6.668544210575762}]
[null,null,null,null,null,"LV circuits","scalar",null,null,{"$f":"'Pseudo-load coefficients'!J280","v":9.3084327548019026},{"$f":"'Pseudo-load coefficients'!K280","v":9.3084327548019026},{"$f":"'Pseudo-load coefficients'!L280","v":10.305675446357364},{"$f":"'Pseudo-load coefficients'!M280","v":10.305675446357364},{"$f":"'Pseudo-load coefficients'!N280","v":8.8223610180822067},{"$f":"'Pseudo-load coefficients'!O280","v":7.5153741161961385},{"$f":"'Pseudo-load coefficients'!P280","v":7.3580198292400434},{"$f":"'Pseudo-load coefficients'!Q280","v":22.137045042043376},{"$f":"'Pseudo-load coefficients'!R280","v":6.668544210575762},{"$f":"'Pseudo-load coefficients'!S280","v":6.668544210575762},{"$f":"'Pseudo-load coefficients'!T280","v":6.668544210575762},{"$f":"'Pseudo-load coefficients'!U280","v":6.668544210575762},{"$f":"'Pseudo-load coefficients'!V280","v":6.668544210575762},{"$f":"'Pseudo-load coefficients'!W280","v":6.668544210575762},{"$f":"'Pseudo-load coefficients'!X280","v":6.668544210575762},{"$f":"'Pseudo-load coefficients'!Y280","v":6.668544210575762}]
[]
[null,null,null,null,"Pseudo load coefficient, unit rate 2"]
[null,null,null,null,null,"Transmission exit","scalar",null,null,{"$f":"'Pseudo-load coefficients'!J283","v":0.78941717373444209},{"$f":"'Pseudo-load coefficients'!K283","v":0.78941717373444209},{"$f":"'Pseudo-load coefficients'!L283","v":0.87399000439585817},{"$f":"'Pseudo-load coefficients'!M283","v":0.87399000439585817},{"$f":"'Pseudo-load coefficients'!N283","v":0.7481950489427569},{"$f":"'Pseudo-load coefficients'!O283","v":0.63735384362142211},{"$f":"'Pseudo-load coefficients'!P283","v":0.62400915072241625},{"$f":"'Pseudo-load coefficients'!Q283","v":0.61950106096127422},{"$f":"'Pseudo-load coefficients'!R283","v":0.56553702028091035},{"$f":"'Pseudo-load coefficients'!S283","v":0.56553702028091035},{"$f":"'Pseudo-load coefficients'!T283","v":0.56553702028091035},{"$f":"'Pseudo-load coefficients'!U283","v":0.56553702028091035},{"$f":"'Pseudo-load coefficients'!V283","v":0.56553702028091035},{"$f":"'Pseudo-load coefficients'!W283","v":0.56553702028091035},{"$f":"'Pseudo-load coefficients'!X283","v":0.56553702028091035},{"$f":"'Pseudo-load coefficients'!Y283","v":0.56553702028091035}]
[null,null,null,null,null,"GSPs","scalar",null,null,{"$f":"'Pseudo-load coefficients'!J283","v":0.78941717373444209},{"$f":"'Pseudo-load coefficients'!K283","v":0.78941717373444209},{"$f":"'Pseudo-load coefficients'!L283","v":0.87399000439585817},{"$f":"'Pseudo-load coefficients'!M283","v":0.87399000439585817},{"$f":"'Pseudo-load coefficients'!N283","v":0.7481950489427569},{"$f":"'Pseudo-load coefficients'!O283","v":0.63735384362142211},{"$f":"'Pseudo-load coefficients'!P283","v":0.62400915072241625},{"$f":"'Pseudo-load coefficients'!Q283","v":0.61950106096127422},{"$f":"'Pseudo-load coefficients'!R283","v":0.56553702028091035},{"$f":"'Pseudo-load coefficients'!S283","v":0.56553702028091035},{"$f":"'Pseudo-load coefficients'!T283","v":0.56553702028091035},{"$f":"'Pseudo-load coefficients'!U283","v":0.56553702028091035},{"$f":"'Pseudo-load coefficients'!V283","v":0.56553702028091035},{"$f":"'Pseudo-load coefficients'!W283","v":0.56553702028091035},{"$f":"'Pseudo-load coefficients'!X283","v":0.56553702028091035},{"$f":"'Pseudo-load coefficients'!Y283","v":0.56553702028091035}]
[null,null,null,null,null,"132kV","scalar",null,null,{"$f":"'Pseudo-load coefficients'!J284","v":0},{"$f":"'Pseudo-load coefficients'!K284","v":0},{"$f":"'Pseudo-load coefficients'!L284","v":0},{"$f":"'Pseudo-load coefficients'!M284","v":0},{"$f":"'Pseudo-load coefficients'!N284","v":0},{"$f":"'Pseudo-load coefficients'!O284","v":0},{"$f":"'Pseudo-load coefficients'!P284","v":0},{"$f":"'Pseudo-load coefficients'!Q284","v":0},{"$f":"'Pseudo-load coefficients'!R284","v":0},{"$f":"'Pseudo-load coefficients'!S284","v":0},{"$f":"'Pseudo-load coefficients'!T284","v":0},{"$f":"'Pseudo-load coefficients'!U284","v":0},{"$f":"'Pseudo-load coefficients'!V284","v":0},{"$f":"'Pseudo-load coefficients'!W284","v":0},{"$f":"'Pseudo-load coefficients'!X284","v":0},{"$f":"'Pseudo-load coefficients'!Y284","v":0}]
[null,null,null,null,null,"132kV/EHV","scalar",null,null,{"$f":"'Pseudo-load coefficients'!J285","v":0},{"$f":"'Pseudo-load coefficients'!K285","v":0},{"$f":"'Pseudo-load coefficients'!L285","v":0},{"$f":"'Pseudo-load coefficients'!M285","v":0},{"$f":"'Pseudo-load coefficients'!N285","v":0},{"$f":"'Pseudo-load coefficients'!O285","v":0},{"$f":"'Pseudo-load coefficients'!P285","v":0},{"$f":"'Pseudo-load coefficients'!Q285","v":0},{"$f":"'Pseudo-load coefficients'!R285","v":0},{"$f":"'Pseudo-load coefficients'!S285","v":0},{"$f":"'Pseudo-load coefficients'!T285","v":0},{"$f":"'Pseudo-load coefficients'!U285","v":0},{"$f":"'Pseudo-load coefficients'!V285","v":0},{"$f":"'Pseudo-load coefficients'!W285","v":0},{"$f":"'Pseudo-load coefficients'!X285","v":0},{"$f":"'Pseudo-load coefficients'!Y285","v":0}]
[null,null,null,null,null,"EHV","scalar",null,null,{"$f":"'Pseudo-load coefficients'!J286","v":0.78941717373444209},{"$f":"'Pseudo-load coefficients'!K286","v":0.78941717373444209},{"$f":"'Pseudo-load coefficients'!L286","v":0.87399000439585817},{"$f":"'Pseudo-load coefficients'!M286","v":0.87399000439585817},{"$f":"'Pseudo-load coefficients'!N286","v":0.7481950489427569},{"$f":"'Pseudo-load coefficients'!O286","v":0.63735384362142211},{"$f":"'Pseudo-load coefficients'!P286","v":0.62400915072241625},{"$f":"'Pseudo-load coefficients'!Q286","v":0.61950106096127422},{"$f":"'Pseudo-load coefficients'!R286","v":0.56553702028091035},{"$f":"'Pseudo-load coefficients'!S286","v":0.56553702028091035},{"$f":"'Pseudo-load coefficients'!T286","v":0.56553702028091035},{"$f":"'Pseudo-load coefficients'!U286","v":0.56553702028091035},{"$f":"'Pseudo-load coefficients'!V286","v":0.56553702028091035},{"$f":"'Pseudo-load coefficients'!W286","v":0.56553702028091035},{"$f":"'Pseudo-load coefficients'!X286","v":0.56553702028091035},{"$f":"'Pseudo-load coefficients'!Y286","v":0.56553702028091035}]
[null,null,null,null,null,"EHV/HV","scalar",null,null,{"$f":"'Pseudo-load coefficients'!J287","v":1.4061398276092081},{"$f":"'Pseudo-load coefficients'!K287","v":1.4061398276092081},{"$f":"'Pseudo-load coefficients'!L287","v":1.5567841630549317},{"$f":"'Pseudo-load coefficients'!M287","v":1.5567841630549317},{"$f":"'Pseudo-load coefficients'!N287","v":1.3327134145834325},{"$f":"'Pseudo-load coefficients'!O287","v":1.1352788533295515},{"$f":"'Pseudo-load coefficients'!P287","v":1.111508779917368},{"$f":"'Pseudo-load coefficients'!Q287","v":0.99131270501816049},{"$f":"'Pseudo-load coefficients'!R287","v":1.0073560022041474},{"$f":"'Pseudo-load coefficients'!S287","v":1.0073560022041474},{"$f":"'Pseudo-load coefficients'!T287","v":1.0073560022041474},{"$f":"'Pseudo-load coefficients'!U287","v":1.0073560022041474},{"$f":"'Pseudo-load coefficients'!V287","v":1.0073560022041474},{"$f":"'Pseudo-load coefficients'!W287","v":1.0073560022041474},{"$f":"'Pseudo-load coefficients'!X287","v":1.0073560022041474},{"$f":"'Pseudo-load coefficients'!Y287","v":1.0073560022041474}]
[null,null,null,null,null,"132kV/HV","scalar",null,null,{"$f":"'Pseudo-load coefficients'!J288","v":0},{"$f":"'Pseudo-load coefficients'!K288","v":0},{"$f":"'Pseudo-load coefficients'!L288","v":0},{"$f":"'Pseudo-load coefficients'!M288","v":0},{"$f":"'Pseudo-load coefficients'!N288","v":0},{"$f":"'Pseudo-load coefficients'!O288","v":0},{"$f":"'Pseudo-load coefficients'!P288","v":0},{"$f":"'Pseudo-load coefficients'!Q288","v":0},{"$f":"'Pseudo-load coefficients'!R288","v":0},{"$f":"'Pseudo-load coefficients'!S288","v":0},{"$f":"'Pseudo-load coefficients'!T288","v":0},{"$f":"'Pseudo-load coefficients'!U288","v":0},{"$f":"'Pseudo-load coefficients'!V288","v":0},{"$f":"'Pseudo-load coefficients'!W288","v":0},{"$f":"'Pseudo-load coefficients'!X288","v":0},{"$f":"'Pseudo-load coefficients'!Y288","v":0}]
[null,null,null,null,null,"HV","scalar",null,null,{"$f":"'Pseudo-load coefficients'!J289","v":1.4061398276092081},{"$f":"'Pseudo-load coefficients'!K289","v":1.4061398276092081},{"$f":"'Pseudo-load coefficients'!L289","v":1.5567841630549317},{"$f":"'Pseudo-load coefficients'!M289","v":1.5567841630549317},{"$f":"'Pseudo-load coefficients'!N289","v":1.3327134145834325},{"$f":"'Pseudo-load coefficients'!O289","v":1.1352788533295515},{"$f":"'Pseudo-load coefficients'!P289","v":1.111508779917368},{"$f":"'Pseudo-load coefficients'!Q289","v":0.99131270501816049},{"$f":"'Pseudo-load coefficients'!R289","v":1.0073560022041474},{"$f":"'Pseudo-load coefficients'!S289","v":1.0073560022041474},{"$f":"'Pseudo-load coefficients'!T289","v":1.0073560022041474},{"$f":"'Pseudo-load coefficients'!U289","v":1.0073560022041474},{"$f":"'Pseudo-load coefficients'!V289","v":1.0073560022041474},{"$f":"'Pseudo-load coefficients'!W289","v":1.0073560022041474},{"$f":"'Pseudo-load coefficients'!X289","v":1.0073560022041474},{"$f":"'Pseudo-load coefficients'!Y289","v":1.0073560022041474}]
[null,null,null,null,null,"HV/LV","scalar",null,null,{"$f":"'Pseudo-load coefficients'!J290","v":1.4061398276092081},{"$f":"'Pseudo-load coefficients'!K290","v":1.4061398276092081},{"$f":"'Pseudo-load coefficients'!L290","v":1.5567841630549317},{"$f":"'Pseudo-load coefficients'!M290","v":1.5567841630549317},{"$f":"'Pseudo-load coefficients'!N290","v":1.3327134145834325},{"$f":"'Pseudo-load coefficients'!O290","v":1.1352788533295515},{"$f":"'Pseudo-load coefficients'!P290","v":1.111508779917368},{"$f":"'Pseudo-load coefficients'!Q290","v":0.99131270501816049},{"$f":"'Pseudo-load coefficients'!R290","v":1.0073560022041474},{"$f":"'Pseudo-load coefficients'!S290","v":1.0073560022041474},{"$f":"'Pseudo-load coefficients'!T290","v":1.0073560022041474},{"$f":"'Pseudo-load coefficients'!U290","v":1.0073560022041474},{"$f":"'Pseudo-load coefficients'!V290","v":1.0073560022041474},{"$f":"'Pseudo-load coefficients'!W290","v":1.0073560022041474},{"$f":"'Pseudo-load coefficients'!X290","v":1.0073560022041474},{"$f":"'Pseudo-load coefficients'!Y290","v":1.0073560022041474}]
[null,null,null,null,null,"LV circuits","scalar",null,null,{"$f":"'Pseudo-load coefficients'!J291","v":1.4061398276092081},{"$f":"'Pseudo-load coefficients'!K291","v":1.4061398276092081},{"$f":"'Pseudo-load coefficients'!L291","v":1.5567841630549317},{"$f":"'Pseudo-load coefficients'!M291","v":1.5567841630549317},{"$f":"'Pseudo-load coefficients'!N291","v":1.3327134145834325},{"$f":"'Pseudo-load coefficients'!O291","v":1.1352788533295515},{"$f":"'Pseudo-load coefficients'!P291","v":1.111508779917368},{"$f":"'Pseudo-load coefficients'!Q291","v":0.99131270501816049},{"$f":"'Pseudo-load coefficients'!R291","v":1.0073560022041474},{"$f":"'Pseudo-load coefficients'!S291","v":1.0073560022041474},{"$f":"'Pseudo-load coefficients'!T291","v":1.0073560022041474},{"$f":"'Pseudo-load coefficients'!U291","v":1.0073560022041474},{"$f":"'Pseudo-load coefficients'!V291","v":1.0073560022041474},{"$f":"'Pseudo-load coefficients'!W291","v":1.0073560022041474},{"$f":"'Pseudo-load coefficients'!X291","v":1.0073560022041474},{"$f":"'Pseudo-load coefficients'!Y291","v":1.0073560022041474}]
[]
[null,null,null,null,"Pseudo load coefficient, unit rate 3"]
[null,null,null,null,null,"Transmission exit","scalar",null,null,{"$f":"'Pseudo-load coefficients'!J294","v":2.5656110940494074E-2},{"$f":"'Pseudo-load coefficients'!K294","v":2.5656110940494074E-2},{"$f":"'Pseudo-load coefficients'!L294","v":2.8404733592996476E-2},{"$f":"'Pseudo-load coefficients'!M294","v":2.8404733592996476E-2},{"$f":"'Pseudo-load coefficients'!N294","v":2.4316389127938043E-2},{"$f":"'Pseudo-load coefficients'!O294","v":2.0714042542229132E-2},{"$f":"'Pseudo-load coefficients'!P294","v":2.0280339130553805E-2},{"$f":"'Pseudo-load coefficients'!Q294","v":2.0497313375005946E-2},{"$f":"'Pseudo-load coefficients'!R294","v":1.8379990980744023E-2},{"$f":"'Pseudo-load coefficients'!S294","v":1.8379990980744023E-2},{"$f":"'Pseudo-load coefficients'!T294","v":1.8379990980744023E-2},{"$f":"'Pseudo-load coefficients'!U294","v":1.8379990980744023E-2},{"$f":"'Pseudo-load coefficients'!V294","v":1.8379990980744023E-2},{"$f":"'Pseudo-load coefficients'!W294","v":1.8379990980744023E-2},{"$f":"'Pseudo-load coefficients'!X294","v":1.8379990980744023E-2},{"$f":"'Pseudo-load coefficients'!Y294","v":1.8379990980744023E-2}]
[null,null,null,null,null,"GSPs","scalar",null,null,{"$f":"'Pseudo-load coefficients'!J294","v":2.5656110940494074E-2},{"$f":"'Pseudo-load coefficients'!K294","v":2.5656110940494074E-2},{"$f":"'Pseudo-load coefficients'!L294","v":2.8404733592996476E-2},{"$f":"'Pseudo-load coefficients'!M294","v":2.8404733592996476E-2},{"$f":"'Pseudo-load coefficients'!N294","v":2.4316389127938043E-2},{"$f":"'Pseudo-load coefficients'!O294","v":2.0714042542229132E-2},{"$f":"'Pseudo-load coefficients'!P294","v":2.0280339130553805E-2},{"$f":"'Pseudo-load coefficients'!Q294","v":2.0497313375005946E-2},{"$f":"'Pseudo-load coefficients'!R294","v":1.8379990980744023E-2},{"$f":"'Pseudo-load coefficients'!S294","v":1.8379990980744023E-2},{"$f":"'Pseudo-load coefficients'!T294","v":1.8379990980744023E-2},{"$f":"'Pseudo-load coefficients'!U294","v":1.8379990980744023E-2},{"$f":"'Pseudo-load coefficients'!V294","v":1.8379990980744023E-2},{"$f":"'Pseudo-load coefficients'!W294","v":1.8379990980744023E-2},{"$f":"'Pseudo-load coefficients'!X294","v":1.8379990980744023E-2},{"$f":"'Pseudo-load coefficients'!Y294","v":1.8379990980744023E-2}]
[null,null,null,null,null,"132kV","scalar",null,null,{"$f":"'Pseudo-load coefficients'!J295","v":0},{"$f":"'Pseudo-load coefficients'!K295","v":0},{"$f":"'Pseudo-load coefficients'!L295","v":0},{"$f":"'Pseudo-load coefficients'!M295","v":0},{"$f":"'Pseudo-load coefficients'!N295","v":0},{"$f":"'Pseudo-load coefficients'!O295","v":0},{"$f":"'Pseudo-load coefficients'!P295","v":0},{"$f":"'Pseudo-load coefficients'!Q295","v":0},{"$f":"'Pseudo-load coefficients'!R295","v":0},{"$f":"'Pseudo-load coefficients'!S295","v":0},{"$f":"'Pseudo-load coefficients'!T295","v":0},{"$f":"'Pseudo-load coefficients'!U295","v":0},{"$f":"'Pseudo-load coefficients'!V295","v":0},{"$f":"'Pseudo-load coefficients'!W295","v":0},{"$f":"'Pseudo-load coefficients'!X295","v":0},{"$f":"'Pseudo-load coefficients'!Y295","v":0}]
[null,null,null,null,null,"132kV/EHV","scalar",null,null,{"$f":"'Pseudo-load coefficients'!J296","v":0},{"$f":"'Pseudo-load coefficients'!K296","v":0},{"$f":"'Pseudo-load coefficients'!L296","v":0},{"$f":"'Pseudo-load coefficients'!M296","v":0},{"$f":"'Pseudo-load coefficients'!N296","v":0},{"$f":"'Pseudo-load coefficients'!O296","v":0},{"$f":"'Pseudo-load coefficients'!P296","v":0},{"$f":"'Pseudo-load coefficients'!Q296","v":0},{"$f":"'Pseudo-load coefficients'!R296","v":0},{"$f":"'Pseudo-load coefficients'!S296","v":0},{"$f":"'Pseudo-load coefficients'!T296","v":0},{"$f":"'Pseudo-load coefficients'!U296","v":0},{"$f":"'Pseudo-load coefficients'!V296","v":0},{"$f":"'Pseudo-load coefficients'!W296","v":0},{"$f":"'Pseudo-load coefficients'!X296","v":0},{"$f":"'Pseudo-load coefficients'!Y296","v":0}]
[null,null,null,null,null,"EHV","scalar",null,null,{"$f":"'Pseudo-load coefficients'!J297","v":2.5656110940494074E-2},{"$f":"'Pseudo-load coefficients'!K297","v":2.5656110940494074E-2},{"$f":"'Pseudo-load coefficients'!L297","v":2.8404733592996476E-2},{"$f":"'Pseudo-load coefficients'!M297","v":2.8404733592996476E-2},{"$f":"'Pseudo-load coefficients'!N297","v":2.4316389127938043E-2},{"$f":"'Pseudo-load coefficients'!O297","v":2.0714042542229132E-2},{"$f":"'Pseudo-load coefficients'!P297","v":2.0280339130553805E-2},{"$f":"'Pseudo-load coefficients'!Q297","v":2.0497313375005946E-2},{"$f":"'Pseudo-load coefficients'!R297","v":1.8379990980744023E-2},{"$f":"'Pseudo-load coefficients'!S297","v":1.8379990980744023E-2},{"$f":"'Pseudo-load coefficients'!T297","v":1.8379990980744023E-2},{"$f":"'Pseudo-load coefficients'!U297","v":1.8379990980744023E-2},{"$f":"'Pseudo-load coefficients'!V297","v":1.8379990980744023E-2},{"$f":"'Pseudo-load coefficients'!W297","v":1.8379990980744023E-2},{"$f":"'Pseudo-load coefficients'!X297","v":1.8379990980744023E-2},{"$f":"'Pseudo-load coefficients'!Y297","v":1.8379990980744023E-2}]
[null,null,null,null,null,"EHV/HV","scalar",null,null,{"$f":"'Pseudo-load coefficients'!J298","v":2.6976625861276703E-2},{"$f":"'Pseudo-load coefficients'!K298","v":2.6976625861276703E-2},{"$f":"'Pseudo-load coefficients'!L298","v":2.9866719574324834E-2},{"$f":"'Pseudo-load coefficients'!M298","v":2.9866719574324834E-2},{"$f":"'Pseudo-load coefficients'!N298","v":2.5567948833829318E-2},{"$f":"'Pseudo-load coefficients'!O298","v":2.178019018674867E-2},{"$f":"'Pseudo-load coefficients'!P298","v":2.1324164146844932E-2},{"$f":"'Pseudo-load coefficients'!Q298","v":2.1552306012449361E-2},{"$f":"'Pseudo-load coefficients'!R298","v":1.9326005456212113E-2},{"$f":"'Pseudo-load coefficients'!S298","v":1.9326005456212113E-2},{"$f":"'Pseudo-load coefficients'!T298","v":1.9326005456212113E-2},{"$f":"'Pseudo-load coefficients'!U298","v":1.9326005456212113E-2},{"$f":"'Pseudo-load coefficients'!V298","v":1.9326005456212113E-2},{"$f":"'Pseudo-load coefficients'!W298","v":1.9326005456212113E-2},{"$f":"'Pseudo-load coefficients'!X298","v":1.9326005456212113E-2},{"$f":"'Pseudo-load coefficients'!Y298","v":1.9326005456212113E-2}]
[null,null,null,null,null,"132kV/HV","scalar",null,null,{"$f":"'Pseudo-load coefficients'!J299","v":0},{"$f":"'Pseudo-load coefficients'!K299","v":0},{"$f":"'Pseudo-load coefficients'!L299","v":0},{"$f":"'Pseudo-load coefficients'!M299","v":0},{"$f":"'Pseudo-load coefficients'!N299","v":0},{"$f":"'Pseudo-load coefficients'!O299","v":0},{"$f":"'Pseudo-load coefficients'!P299","v":0},{"$f":"'Pseudo-load coefficients'!Q299","v":0},{"$f":"'Pseudo-load coefficients'!R299","v":0},{"$f":"'Pseudo-load coefficients'!S299","v":0},{"$f":"'Pseudo-load coefficients'!T299","v":0},{"$f":"'Pseudo-load coefficients'!U299","v":0},{"$f":"'Pseudo-load coefficients'!V299","v":0},{"$f":"'Pseudo-load coefficients'!W299","v":0},{"$f":"'Pseudo-load coefficients'!X299","v":0},{"$f":"'Pseudo-load coefficients'!Y299","v":0}]
[null,null,null,null,null,"HV","scalar",null,null,{"$f":"'Pseudo-load coefficients'!J300","v":2.6976625861276703E-2},{"$f":"'Pseudo-load coefficients'!K300","v":2.6976625861276703E-2},{"$f":"'Pseudo-load coefficients'!L300","v":2.9866719574324834E-2},{"$f":"'Pseudo-load coefficients'!M300","v":2.9866719574324834E-2},{"$f":"'Pseudo-load coefficients'!N300","v":2.5567948833829318E-2},{"$f":"'Pseudo-load coefficients'!O300","v":2.178019018674867E-2},{"$f":"'Pseudo-load coefficients'!P300","v":2.1324164146844932E-2},{"$f":"'Pseudo-load coefficients'!Q300","v":2.1552306012449361E-2},{"$f":"'Pseudo-load coefficients'!R300","v":1.9326005456212113E-2},{"$f":"'Pseudo-load coefficients'!S300","v":1.9326005456212113E-2},{"$f":"'Pseudo-load coefficients'!T300","v":1.9326005456212113E-2},{"$f":"'Pseudo-load coefficients'!U300","v":1.9326005456212113E-2},{"$f":"'Pseudo-load coefficients'!V300","v":1.9326005456212113E-2},{"$f":"'Pseudo-load coefficients'!W300","v":1.9326005456212113E-2},{"$f":"'Pseudo-load coefficients'!X300","v":1.9326005456212113E-2},{"$f":"'Pseudo-load coefficients'!Y300","v":1.9326005456212113E-2}]
[null,null,null,null,null,"HV/LV","scalar",null,null,{"$f":"'Pseudo-load coefficients'!J301","v":2.6976625861276703E-2},{"$f":"'Pseudo-load coefficients'!K301","v":2.6976625861276703E-2},{"$f":"'Pseudo-load coefficients'!L301","v":2.9866719574324834E-2},{"$f":"'Pseudo-load coefficients'!M301","v":2.9866719574324834E-2},{"$f":"'Pseudo-load coefficients'!N301","v":2.5567948833829318E-2},{"$f":"'Pseudo-load coefficients'!O301","v":2.178019018674867E-2},{"$f":"'Pseudo-load coefficients'!P301","v":2.1324164146844932E-2},{"$f":"'Pseudo-load coefficients'!Q301","v":2.1552306012449361E-2},{"$f":"'Pseudo-load coefficients'!R301","v":1.9326005456212113E-2},{"$f":"'Pseudo-load coefficients'!S301","v":1.9326005456212113E-2},{"$f":"'Pseudo-load coefficients'!T301","v":1.9326005456212113E-2},{"$f":"'Pseudo-load coefficients'!U301","v":1.9326005456212113E-2},{"$f":"'Pseudo-load coefficients'!V301","v":1.9326005456212113E-2},{"$f":"'Pseudo-load coefficients'!W301","v":1.9326005456212113E-2},{"$f":"'Pseudo-load coefficients'!X301","v":1.9326005456212113E-2},{"$f":"'Pseudo-load coefficients'!Y301","v":1.9326005456212113E-2}]
[null,null,null,null,null,"LV circuits","scalar",null,null,{"$f":"'Pseudo-load coefficients'!J302","v":2.6976625861276703E-2},{"$f":"'Pseudo-load coefficients'!K302","v":2.6976625861276703E-2},{"$f":"'Pseudo-load coefficients'!L302","v":2.9866719574324834E-2},{"$f":"'Pseudo-load coefficients'!M302","v":2.9866719574324834E-2},{"$f":"'Pseudo-load coefficients'!N302","v":2.5567948833829318E-2},{"$f":"'Pseudo-load coefficients'!O302","v":2.178019018674867E-2},{"$f":"'Pseudo-load coefficients'!P302","v":2.1324164146844932E-2},{"$f":"'Pseudo-load coefficients'!Q302","v":2.1552306012449361E-2},{"$f":"'Pseudo-load coefficients'!R302","v":1.9326005456212113E-2},{"$f":"'Pseudo-load coefficients'!S302","v":1.9326005456212113E-2},{"$f":"'Pseudo-load coefficients'!T302","v":1.9326005456212113E-2},{"$f":"'Pseudo-load coefficients'!U302","v":1.9326005456212113E-2},{"$f":"'Pseudo-load coefficients'!V302","v":1.9326005456212113E-2},{"$f":"'Pseudo-load coefficients'!W302","v":1.9326005456212113E-2},{"$f":"'Pseudo-load coefficients'!X302","v":1.9326005456212113E-2},{"$f":"'Pseudo-load coefficients'!Y302","v":1.9326005456212113E-2}]
[]
[null,"Calculation of yardstick & unit rate charges"]
[]
[null,null,{"$f":"INDEX('Version control'!$H$29:$H$55,MATCH($A$1,'Version control'!$F$29:$F$55,0),1)&\"-B: Yardstick charges\"","v":"Section 512-B: Yardstick charges"}]
[]
[null,null,null,"Calculates yardstick charges using formulae in Paragraphs 68 & 71, except using the load coefficient"]
[null,null,null,null,null,null,null,null,">",null,null,null,null,null,null,null,null,null,null,null,null,null,null,null,null,null,"Paragraph 67"]
[null,null,null,null,"Asset costs"]
[null,null,null,null,null,"Transmission exit","p/kWh",null,null,{"$f":"hundred * $H18 * J55 / $H43 * J$78 * (1 - J67) / hours_in_year","v":0},0,0,0,0,0,0,0,0,0,0,0,0,0,0,0]
[null,null,null,null,null,"GSPs","p/kWh",null,null,{"$f":"hundred * $H19 * J56 / $H44 * J$78 * (1 - J68) / hours_in_year","v":0},0,0,0,0,0,0,0,0,0,0,0,0,0,0,0]
[null,null,null,null,null,"132kV","p/kWh",null,null,{"$f":"hundred * $H20 * J57 / $H45 * J$78 * (1 - J69) / hours_in_year","v":0},0,0,0,0,0,0,0,0,0,0,0,0,0,0,0]
[null,null,null,null,null,"132kV/EHV","p/kWh",null,null,{"$f":"hundred * $H21 * J58 / $H46 * J$78 * (1 - J70) / hours_in_year","v":0},0,0,0,0,0,0,0,0,0,0,0,0,0,0,0]
[null,null,null,null,null,"EHV","p/kWh",null,null,{"$f":"hundred * $H22 * J59 / $H47 * J$78 * (1 - J71) / hours_in_year","v":0.4442477660498324},0.4442477660498324,0.37161519549924638,0.37161519549924638,0.33876431237917781,0.26119757435815727,0.24090575706083051,0.41942937049132284,-0.23219986172960411,-0.21473350044905867,-0.23219986172960411,-0.23219986172960411,-0.21473350044905867,-0.21473350044905867,-0.21062376838304794,-0.21062376838304794]
[null,null,null,null,null,"EHV/HV","p/kWh",null,null,{"$f":"hundred * $H23 * J60 / $H48 * J$78 * (1 - J72) / hours_in_year","v":0.11383623028743674},0.11383623028743674,9.5224503545208075E-2,9.5224503545208075E-2,8.6806631848848639E-2,6.6930549791036562E-2,6.1730874827336302E-2,0.10747664266973271,-5.9500033433138644E-2,-5.5024367201442367E-2,-5.9500033433138644E-2,-5.9500033433138644E-2,-5.5024367201442367E-2,-5.5024367201442367E-2,-5.3971269264572651E-2,-5.3971269264572651E-2]
[null,null,null,null,null,"132kV/HV","p/kWh",null,null,{"$f":"hundred * $H24 * J61 / $H49 * J$78 * (1 - J73) / hours_in_year","v":0},0,0,0,0,0,0,0,0,0,0,0,0,0,0,0]
[null,null,null,null,null,"HV","p/kWh",null,null,{"$f":"hundred * $H25 * J62 / $H50 * J$78 * (1 - J74) / hours_in_year","v":0.48972665177017977},0.48972665177017977,0.40965848192549476,0.40965848192549476,0.37344456206465731,0.28793710023195557,0.26556795287143203,0.46236752767767181,-0.25597081069751981,-0.23671636918487454,-0.25597081069751981,-0.25597081069751981,-0.23671636918487454,-0.23671636918487454,0,0]
[null,null,null,null,null,"HV/LV","p/kWh",null,null,{"$f":"hundred * $H26 * J63 / $H51 * J$78 * (1 - J75) / hours_in_year","v":0.12308217440834114},0.12308217440834114,0.10295877616207832,0.10295877616207832,9.3857192688502095E-2,7.236674634978392E-2,0,0.1162060518386555,-6.4332712650692264E-2,0,-6.4332712650692264E-2,-6.4332712650692264E-2,0,0,0,0]
[null,null,null,null,null,"LV circuits","p/kWh",null,null,{"$f":"hundred * $H27 * J64 / $H52 * J$78 * (1 - J76) / hours_in_year","v":0.20702810871423008},0.20702810871423008,0.17317991664374036,0.17317991664374036,0.157870765486012,0,0,0.19546225315689783,0,0,0,0,0,0,0,0]
[]
[null,null,null,null,"Other operating costs"]
[null,null,null,null,null,"Transmission exit","p/kWh",null,null,{"$f":"hundred * $H30 * J55 / $H43 * J$78 / hours_in_year","v":0.29679307456550214},0.29679307456550214,0.2482687024139355,0.2482687024139355,0.22632168242080977,0.17450089136545724,0.16094433283113813,0.28021239935110703,-0.15512809774868574,-0.14345917004192621,-0.15512809774868574,-0.15512809774868574,-0.14345917004192621,-0.14345917004192621,-0.14071353999327688,-0.14071353999327688]
[null,null,null,null,null,"GSPs","p/kWh",null,null,{"$f":"hundred * $H31 * J56 / $H44 * J$78 / hours_in_year","v":0},0,0,0,0,0,0,0,0,0,0,0,0,0,0,0]
[null,null,null,null,null,"132kV","p/kWh",null,null,{"$f":"hundred * $H32 * J57 / $H45 * J$78 / hours_in_year","v":0},0,0,0,0,0,0,0,0,0,0,0,0,0,0,0]
[null,null,null,null,null,"132kV/EHV","p/kWh",null,null,{"$f":"hundred * $H33 * J58 / $H46 * J$78 / hours_in_year","v":0},0,0,0,0,0,0,0,0,0,0,0,0,0,0,0]
[null,null,null,null,null,"EHV","p/kWh",null,null,{"$f":"hundred * $H34 * J59 / $H47 * J$78 / hours_in_year","v":0.3183732113035096},0.3183732113035096,0.26632058099534756,0.26632058099534756,0.24277777008581714,0.1871890347868754,0.17264676461728415,0.30058693774805151,-0.16640762496213085,-0.15389023724374049,-0.16640762496213085,-0.16640762496213085,-0.15389023724374049,-0.15389023724374049,-0.15094496954529568,-0.15094496954529568]
[null,null,null,null,null,"EHV/HV","p/kWh",null,null,{"$f":"hundred * $H35 * J60 / $H48 * J$78 / hours_in_year","v":8.1581515921976891E-2},8.1581515921976891E-2,6.8243294182529654E-2,6.8243294182529654E-2,6.2210568642587928E-2,4.7966237986420121E-2,4.4239855227880792E-2,7.7023873797137599E-2,-4.2641107427987879E-2,-3.9433590497564008E-2,-4.2641107427987879E-2,-4.2641107427987879E-2,-3.9433590497564008E-2,-3.9433590497564008E-2,-3.8678880631581931E-2,-3.8678880631581931E-2]
[null,null,null,null,null,"132kV/HV","p/kWh",null,null,{"$f":"hundred * $H36 * J61 / $H49 * J$78 / hours_in_year","v":0},0,0,0,0,0,0,0,0,0,0,0,0,0,0,0]
[null,null,null,null,null,"HV","p/kWh",null,null,{"$f":"hundred * $H37 * J62 / $H50 * J$78 / hours_in_year","v":0.35096596696785243},0.35096596696785243,0.29358456338013528,0.29358456338013528,0.26763160910306305,0.20635209957135767,0.19032109655109161,0.33135886286638599,-0.18344323872771195,-0.16964441103580444,-0.18344323872771195,-0.18344323872771195,-0.16964441103580444,-0.16964441103580444,0,0]
[null,null,null,null,null,"HV/LV","p/kWh",null,null,{"$f":"hundred * $H38 * J63 / $H51 * J$78 / hours_in_year","v":8.8207685249691498E-2},8.8207685249691498E-2,7.3786113749243154E-2,7.3786113749243154E-2,6.7263401470473091E-2,5.1862125569772287E-2,0,8.3279864805498677E-2,-4.6104480165622956E-2,0,-4.6104480165622956E-2,-4.6104480165622956E-2,0,0,0,0]
[null,null,null,null,null,"LV circuits","p/kWh",null,null,{"$f":"hundred * $H39 * J64 / $H52 * J$78 / hours_in_year","v":0.14836811535940955},0.14836811535940955,0.12411057614402723,0.12411057614402723,0.1131391678694157,0,0,0.14007936557457135,0,0,0,0,0,0,0,0]
[]
[null,null,{"$f":"INDEX('Version control'!$H$29:$H$55,MATCH($A$1,'Version control'!$F$29:$F$55,0),1)&\"-C: Unit rate 1\"","v":"Section 512-C: Unit rate 1"}]
[]
[null,null,null,"Calculates unit rate 1 value using formulae in Paragraphs 68 & 71"]
[null,null,null,"As explained in the User Guide, there is a deviation from the legal text for generation"]
[null,null,null,null,null,null,null,null,">",null,null,null,null,null,null,null,null,null,null,null,null,null,null,null,null,null,"Paragraphs 68 & 71"]
[null,null,null,null,"Asset costs"]
[null,null,null,null,null,"Transmission exit","p/kWh",null,null,{"$f":"hundred * $H18 * J55 / $H43 * J81 * (1 - J67) / hours_in_year","v":0},0,0,0,0,0,0,0,0,0,0,0,0,0,0,0]
[null,null,null,null,null,"GSPs","p/kWh",null,null,{"$f":"hundred * $H19 * J56 / $H44 * J82 * (1 - J68) / hours_in_year","v":0},0,0,0,0,0,0,0,0,0,0,0,0,0,0,0]
[null,null,null,null,null,"132kV","p/kWh",null,null,{"$f":"hundred * $H20 * J57 / $H45 * J83 * (1 - J69) / hours_in_year","v":0},0,0,0,0,0,0,0,0,0,0,0,0,0,0,0]
[null,null,null,null,null,"132kV/EHV","p/kWh",null,null,{"$f":"hundred * $H21 * J58 / $H46 * J84 * (1 - J70) / hours_in_year","v":0},0,0,0,0,0,0,0,0,0,0,0,0,0,0,0]
[null,null,null,null,null,"EHV","p/kWh",null,null,{"$f":"hundred * $H22 * J59 / $H47 * J85 * (1 - J71) / hours_in_year","v":2.7879355741745728},2.7879355741745728,3.0866161844458175,3.0866161844458175,2.6423539577953186,2.0815872517152276,1.998998846941086,6.4524269251121948,-1.9972719492472406,-1.8470346787286431,-1.9972719492472406,-1.9972719492472406,-1.8470346787286431,-1.8470346787286431,-1.8116847327242669,-1.8116847327242669]
[null,null,null,null,null,"EHV/HV","p/kWh",null,null,{"$f":"hundred * $H23 * J60 / $H48 * J86 * (1 - J72) / hours_in_year","v":0.5538520601208361},0.5538520601208361,0.61318803360933916,0.61318803360933916,0.52493077553511036,0.41352870502579175,0.39712166945797922,1.3171549201124768,-0.39677860347962096,-0.36693242534177334,-0.39677860347962096,-0.39677860347962096,-0.36693242534177334,-0.36693242534177334,-0.35990979519169153,-0.35990979519169153]
[null,null,null,null,null,"132kV/HV","p/kWh",null,null,{"$f":"hundred * $H24 * J61 / $H49 * J87 * (1 - J73) / hours_in_year","v":0},0,0,0,0,0,0,0,0,0,0,0,0,0,0,0]
[null,null,null,null,null,"HV","p/kWh",null,null,{"$f":"hundred * $H25 * J62 / $H50 * J88 * (1 - J74) / hours_in_year","v":2.3826870785699907},2.3826870785699907,2.637952098789619,2.637952098789619,2.2582669020646984,1.7790120738519353,1.7084285472030754,5.6664373658593545,-1.70695266775333,-1.5785535732763099,-1.70695266775333,-1.70695266775333,-1.5785535732763099,-1.5785535732763099,0,0]
[null,null,null,null,null,"HV/LV","p/kWh",null,null,{"$f":"hundred * $H26 * J63 / $H51 * J89 * (1 - J75) / hours_in_year","v":0.59883672964296253},0.59883672964296253,0.66299205716180309,0.66299205716180309,0.56756641627695137,0.44711610764272819,0,1.4241361576252083,-0.42900553849740797,0,-0.42900553849740797,-0.42900553849740797,0,0,0,0]
[null,null,null,null,null,"LV circuits","p/kWh",null,null,{"$f":"hundred * $H27 * J64 / $H52 * J90 * (1 - J76) / hours_in_year","v":1.0072623120492707},1.0072623120492707,1.1151736012673417,1.1151736012673417,0.95466465632709585,0,0,2.3954420425376952,0,0,0,0,0,0,0,0]
[]
[null,null,null,null,"Other operating costs"]
[null,null,null,null,null,"Transmission exit","p/kWh",null,null,{"$f":"hundred * $H30 * J55 / $H43 * J81 / hours_in_year","v":1.8625641679805183},1.8625641679805183,2.0621067282588283,2.0621067282588283,1.765303992854353,1.3906669377457623,1.3354912712605242,4.3107377726204765,-1.3343375653441751,-1.2339670405174012,-1.3343375653441751,-1.3343375653441751,-1.2339670405174012,-1.2339670405174012,-1.210350446440513,-1.210350446440513]
[null,null,null,null,null,"GSPs","p/kWh",null,null,{"$f":"hundred * $H31 * J56 / $H44 * J82 / hours_in_year","v":0},0,0,0,0,0,0,0,0,0,0,0,0,0,0,0]
[null,null,null,null,null,"132kV","p/kWh",null,null,{"$f":"hundred * $H32 * J57 / $H45 * J83 / hours_in_year","v":0},0,0,0,0,0,0,0,0,0,0,0,0,0,0,0]
[null,null,null,null,null,"132kV/EHV","p/kWh",null,null,{"$f":"hundred * $H33 * J58 / $H46 * J84 / hours_in_year","v":0},0,0,0,0,0,0,0,0,0,0,0,0,0,0,0]
[null,null,null,null,null,"EHV","p/kWh",null,null,{"$f":"hundred * $H34 * J59 / $H47 * J85 / hours_in_year","v":1.9979931684286465},1.9979931684286465,2.2120446782239287,2.2120446782239287,1.8936611036316797,1.4917837940521794,1.4325962468008375,4.6241760518358248,-1.4313586537133789,-1.3236900824163549,-1.4313586537133789,-1.4313586537133789,-1.3236900824163549,-1.3236900824163549,-1.2983563009347023,-1.2983563009347023]
[null,null,null,null,null,"EHV/HV","p/kWh",null,null,{"$f":"hundred * $H35 * J60 / $H48 * J86 / hours_in_year","v":0.39692188108370907},0.39692188108370907,0.43944541382610131,0.43944541382610131,0.37619524394053588,0.29635818533407055,0.28459997065998849,0.94394811577597804,-0.28435411007144767,-0.26296464161474586,-0.28435411007144767,-0.28435411007144767,-0.26296464161474586,-0.26296464161474586,-0.25793182550728666,-0.25793182550728666]
[null,null,null,null,null,"132kV/HV","p/kWh",null,null,{"$f":"hundred * $H36 * J61 / $H49 * J87 / hours_in_year","v":0},0,0,0,0,0,0,0,0,0,0,0,0,0,0,0]
[null,null,null,null,null,"HV","p/kWh",null,null,{"$f":"hundred * $H37 * J62 / $H50 * J88 / hours_in_year","v":1.7075690520199789},1.7075690520199789,1.8905064811564534,1.8905064811564534,1.618402478382114,1.2749412156558233,1.2243570467265332,4.0608912383736753,-1.2232993475869509,-1.1312812550693485,-1.2232993475869509,-1.2232993475869509,-1.1312812550693485,-1.1312812550693485,0,0]
[null,null,null,null,null,"HV/LV","p/kWh",null,null,{"$f":"hundred * $H38 * J63 / $H51 * J89 / hours_in_year","v":0.42916045331679936},0.42916045331679936,0.47513780920993059,0.47513780920993059,0.40675036857213626,0.32042882799724259,0,1.0206169540663907,-0.30744976429007004,0,-0.30744976429007004,-0.30744976429007004,0,0,0,0]
[null,null,null,null,null,"LV circuits","p/kWh",null,null,{"$f":"hundred * $H39 * J64 / $H52 * J90 / hours_in_year","v":0.72186145079264608},0.72186145079264608,0.79919681702250156,0.79919681702250156,0.68416697973608975,0,0,1.7167099845103473,0,0,0,0,0,0,0,0]
[]
[null,null,{"$f":"INDEX('Version control'!$H$29:$H$55,MATCH($A$1,'Version control'!$F$29:$F$55,0),1)&\"-D: Unit rate 2\"","v":"Section 512-D: Unit rate 2"}]
[]
[null,null,null,"Calculates unit rate 2 value using formulae in Paragraph 68 & 71"]
[null,null,null,"As explained in the User Guide, there is a deviation from the legal text for generation"]
[null,null,null,null,null,null,null,null,">",null,null,null,null,null,null,null,null,null,null,null,null,null,null,null,null,null,"Paragraphs 68 & 71"]
[null,null,null,null,"Asset costs"]
[null,null,null,null,null,"Transmission exit","p/kWh",null,null,{"$f":"hundred * $H18 * J55 / $H43 * J93 * (1 - J67) / hours_in_year","v":0},0,0,0,0,0,0,0,0,0,0,0,0,0,0,0]
[null,null,null,null,null,"GSPs","p/kWh",null,null,{"$f":"hundred * $H19 * J56 / $H44 * J94 * (1 - J68) / hours_in_year","v":0},0,0,0,0,0,0,0,0,0,0,0,0,0,0,0]
[null,null,null,null,null,"132kV","p/kWh",null,null,{"$f":"hundred * $H20 * J57 / $H45 * J95 * (1 - J69) / hours_in_year","v":0},0,0,0,0,0,0,0,0,0,0,0,0,0,0,0]
[null,null,null,null,null,"132kV/EHV","p/kWh",null,null,{"$f":"hundred * $H21 * J58 / $H46 * J96 * (1 - J70) / hours_in_year","v":0},0,0,0,0,0,0,0,0,0,0,0,0,0,0,0]
[null,null,null,null,null,"EHV","p/kWh",null,null,{"$f":"hundred * $H22 * J59 / $H47 * J97 * (1 - J71) / hours_in_year","v":0.18330255858811231},0.18330255858811231,0.20294035817377434,0.20294035817377434,0.17373078691128252,0.13686122186548993,0.13143115883066067,0.14384806069655093,-0.1313176179121997,-0.12143974399845017,-0.1313176179121997,-0.1313176179121997,-0.12143974399845017,-0.12143974399845017,-0.11911553837168556,-0.11911553837168556]
[null,null,null,null,null,"EHV/HV","p/kWh",null,null,{"$f":"hundred * $H23 * J60 / $H48 * J98 * (1 - J72) / hours_in_year","v":8.3665366754415688E-2},8.3665366754415688E-2,9.262870974994919E-2,9.262870974994919E-2,7.929649272450659E-2,6.2468000501637679E-2,5.9989539650856884E-2,5.8983139091275651E-2,-5.9937715810219665E-2,-5.5429126567857992E-2,-5.9937715810219665E-2,-5.9937715810219665E-2,-5.5429126567857992E-2,-5.5429126567857992E-2,-5.4368282040243479E-2,-5.4368282040243479E-2]
[null,null,null,null,null,"132kV/HV","p/kWh",null,null,{"$f":"hundred * $H24 * J61 / $H49 * J99 * (1 - J73) / hours_in_year","v":0},0,0,0,0,0,0,0,0,0,0,0,0,0,0,0]
[null,null,null,null,null,"HV","p/kWh",null,null,{"$f":"hundred * $H25 * J62 / $H50 * J100 * (1 - J74) / hours_in_year","v":0.35993075162719973},0.35993075162719973,0.39849130429823076,0.39849130429823076,0.34113573315838108,0.26873908817253911,0.25807668015945245,0.25374711675824985,-0.25785373254520816,-0.23845765531835625,-0.25785373254520816,-0.25785373254520816,-0.23845765531835625,-0.23845765531835625,0,0]
[null,null,null,null,null,"HV/LV","p/kWh",null,null,{"$f":"hundred * $H26 * J63 / $H51 * J101 * (1 - J75) / hours_in_year","v":9.0460789476277143E-2},9.0460789476277143E-2,0.10015214822096137,0.10015214822096137,8.5737069146118866E-2,6.7541742319373474E-2,0,6.3773835398913778E-2,-6.480594422674954E-2,0,-6.480594422674954E-2,-6.480594422674954E-2,0,0,0,0]
[null,null,null,null,null,"LV circuits","p/kWh",null,null,{"$f":"hundred * $H27 * J64 / $H52 * J102 * (1 - J76) / hours_in_year","v":0.15215790790254849},0.15215790790254849,0.16845907971258375,0.16845907971258375,0.14421246096233462,0,0,0.10726960741111985,0,0,0,0,0,0,0,0]
[]
[null,null,null,null,"Other operating costs"]
[null,null,null,null,null,"Transmission exit","p/kWh",null,null,{"$f":"hundred * $H30 * J55 / $H43 * J93 / hours_in_year","v":0.12246078449156776},0.12246078449156776,0.13558040683329498,0.13558040683329498,0.11606607468747471,9.1434253428960832E-2,8.7806536586349473E-2,9.6102021140215071E-2,-8.7730682162637533E-2,-8.1131471557483389E-2,-8.7730682162637533E-2,-8.7730682162637533E-2,-8.1131471557483389E-2,-8.1131471557483389E-2,-7.9578716120976514E-2,-7.9578716120976514E-2]
[null,null,null,null,null,"GSPs","p/kWh",null,null,{"$f":"hundred * $H31 * J56 / $H44 * J94 / hours_in_year","v":0},0,0,0,0,0,0,0,0,0,0,0,0,0,0,0]
[null,null,null,null,null,"132kV","p/kWh",null,null,{"$f":"hundred * $H32 * J57 / $H45 * J95 / hours_in_year","v":0},0,0,0,0,0,0,0,0,0,0,0,0,0,0,0]
[null,null,null,null,null,"132kV/EHV","p/kWh",null,null,{"$f":"hundred * $H33 * J58 / $H46 * J96 / hours_in_year","v":0},0,0,0,0,0,0,0,0,0,0,0,0,0,0,0]
[null,null,null,null,null,"EHV","p/kWh",null,null,{"$f":"hundred * $H34 * J59 / $H47 * J97 / hours_in_year","v":0.13136503698546634},0.13136503698546634,0.14543860087215707,0.14543860087215707,0.12450536110298943,9.8082534203110514E-2,9.4191042251780946E-2,0.10308970021608588,-9.4109672373106718E-2,-8.7030626221147364E-2,-9.4109672373106718E-2,-9.4109672373106718E-2,-8.7030626221147364E-2,-8.7030626221147364E-2,-8.5364968303039274E-2,-8.5364968303039274E-2]
[null,null,null,null,null,"EHV/HV","p/kWh",null,null,{"$f":"hundred * $H35 * J60 / $H48 * J98 / hours_in_year","v":5.9959359447856589E-2},5.9959359447856589E-2,6.6383000739015541E-2,6.6383000739015541E-2,5.682837588197269E-2,4.4768121402741563E-2,4.2991915419379141E-2,4.2270671549408632E-2,-4.2954775508215443E-2,-3.9723664076181539E-2,-4.2954775508215443E-2,-4.2954775508215443E-2,-3.9723664076181539E-2,-3.9723664076181539E-2,-3.8963402562761804E-2,-3.8963402562761804E-2]
[null,null,null,null,null,"132kV/HV","p/kWh",null,null,{"$f":"hundred * $H36 * J61 / $H49 * J99 / hours_in_year","v":0},0,0,0,0,0,0,0,0,0,0,0,0,0,0,0]
[null,null,null,null,null,"HV","p/kWh",null,null,{"$f":"hundred * $H37 * J62 / $H50 * J100 / hours_in_year","v":0.25794684408065971},0.25794684408065971,0.28558152887080707,0.28558152887080707,0.24447726506705281,0.19259371243449519,0.18495242453441399,0.18184961320046031,-0.18479264759612896,-0.17089231569730509,-0.18479264759612896,-0.18479264759612896,-0.17089231569730509,-0.17089231569730509,0,0]
[null,null,null,null,null,"HV/LV","p/kWh",null,null,{"$f":"hundred * $H38 * J63 / $H51 * J101 / hours_in_year","v":6.4829345792101215E-2},6.4829345792101215E-2,7.1774724567722034E-2,7.1774724567722034E-2,6.1444059189121512E-2,4.840425330769358E-2,0,4.5703956946439819E-2,-4.6443624823342348E-2,0,-4.6443624823342348E-2,-4.6443624823342348E-2,0,0,0,0]
[null,null,null,null,null,"LV circuits","p/kWh",null,null,{"$f":"hundred * $H39 * J64 / $H52 * J102 / hours_in_year","v":0.10904500926342092},0.10904500926342092,0.12072735594873663,0.12072735594873663,0.10335085016817004,0,0,7.6875500557754259E-2,0,0,0,0,0,0,0,0]
[]
[null,null,{"$f":"INDEX('Version control'!$H$29:$H$55,MATCH($A$1,'Version control'!$F$29:$F$55,0),1)&\"-E: Unit rate 3\"","v":"Section 512-E: Unit rate 3"}]
[]
[null,null,"Calculates unit rate 3 value using formulae in Paragraph 68 & 71",null,null,null,null,null,">",null,null,null,null,null,null,null,null,null,null,null,null,null,null,null,null,null,"Paragraphs 68 & 71"]
[null,null,"As explained in the User Guide, there is a deviation from the current legal text for generation"]
[]
[null,null,null,null,"Asset costs"]
[null,null,null,null,null,"Transmission exit","p/kWh",null,null,{"$f":"hundred * $H18 * J55 / $H43 * J105 * (1 - J67) / hours_in_year","v":0},0,0,0,0,0,0,0,0,0,0,0,0,0,0,0]
[null,null,null,null,null,"GSPs","p/kWh",null,null,{"$f":"hundred * $H19 * J56 / $H44 * J106 * (1 - J68) / hours_in_year","v":0},0,0,0,0,0,0,0,0,0,0,0,0,0,0,0]
[null,null,null,null,null,"132kV","p/kWh",null,null,{"$f":"hundred * $H20 * J57 / $H45 * J107 * (1 - J69) / hours_in_year","v":0},0,0,0,0,0,0,0,0,0,0,0,0,0,0,0]
[null,null,null,null,null,"132kV/EHV","p/kWh",null,null,{"$f":"hundred * $H21 * J58 / $H46 * J108 * (1 - J70) / hours_in_year","v":0},0,0,0,0,0,0,0,0,0,0,0,0,0,0,0]
[null,null,null,null,null,"EHV","p/kWh",null,null,{"$f":"hundred * $H22 * J59 / $H47 * J109 * (1 - J71) / hours_in_year","v":5.9573454129021076E-3},5.9573454129021076E-3,6.5955752127600225E-3,6.5955752127600225E-3,5.6462621932704621E-3,4.4479988635435803E-3,4.2715214517634291E-3,4.7594733315047457E-3,-4.2678313643201328E-3,-3.9467998015172909E-3,-4.2678313643201328E-3,-4.2678313643201328E-3,-3.9467998015172909E-3,-3.9467998015172909E-3,-3.8712629632107398E-3,-3.8712629632107398E-3]
[null,null,null,null,null,"EHV/HV","p/kWh",null,null,{"$f":"hundred * $H23 * J60 / $H48 * J110 * (1 - J72) / hours_in_year","v":1.6051101406592363E-3},1.6051101406592363E-3,1.7770708132105039E-3,1.7770708132105039E-3,1.5212938104296227E-3,1.1984411825529105E-3,1.1508922050113138E-3,1.282362928301972E-3,-1.1498979707736405E-3,-1.063401220759694E-3,-1.1498979707736405E-3,-1.1498979707736405E-3,-1.063401220759694E-3,-1.063401220759694E-3,-1.0430490442858242E-3,-1.0430490442858242E-3]
[null,null,null,null,null,"132kV/HV","p/kWh",null,null,{"$f":"hundred * $H24 * J61 / $H49 * J111 * (1 - J73) / hours_in_year","v":0},0,0,0,0,0,0,0,0,0,0,0,0,0,0,0]
[null,null,null,null,null,"HV","p/kWh",null,null,{"$f":"hundred * $H25 * J62 / $H50 * J112 * (1 - J74) / hours_in_year","v":6.9052287915946763E-3},6.9052287915946763E-3,7.6450084223154118E-3,7.6450084223154118E-3,6.544648590867997E-3,5.1557275411631791E-3,4.951170507714828E-3,5.5167612424076931E-3,-4.9468932841713054E-3,-4.574781842441606E-3,-4.9468932841713054E-3,-4.9468932841713054E-3,-4.574781842441606E-3,-4.574781842441606E-3,0,0]
[null,null,null,null,null,"HV/LV","p/kWh",null,null,{"$f":"hundred * $H26 * J63 / $H51 * J113 * (1 - J75) / hours_in_year","v":1.7354795198187478E-3},1.7354795198187478E-3,1.9214070881938454E-3,1.9214070881938454E-3,1.644855505394344E-3,1.2957803177130961E-3,0,1.3865183096586919E-3,-1.2432943557002048E-3,0,-1.2432943557002048E-3,-1.2432943557002048E-3,0,0,0,0]
[null,null,null,null,null,"LV circuits","p/kWh",null,null,{"$f":"hundred * $H27 * J64 / $H52 * J114 * (1 - J76) / hours_in_year","v":2.9191314211622073E-3},2.9191314211622073E-3,3.2318674694451145E-3,3.2318674694451145E-3,2.7666989637363986E-3,0,0,2.3321676329341582E-3,0,0,0,0,0,0,0,0]
[]
[null,null,null,null,"Other operating costs"]
[null,null,null,null,null,"Transmission exit","p/kWh",null,null,{"$f":"hundred * $H30 * J55 / $H43 * J105 / hours_in_year","v":3.9799836858280899E-3},3.9799836858280899E-3,4.4063722893397349E-3,4.4063722893397349E-3,3.7721551895338518E-3,2.9716193513213422E-3,2.853718311324401E-3,3.1797092328233662E-3,-2.8512530374808212E-3,-2.6367782514756266E-3,-2.8512530374808212E-3,-2.8512530374808212E-3,-2.6367782514756266E-3,-2.6367782514756266E-3,-2.5863135959449928E-3,-2.5863135959449928E-3]
[null,null,null,null,null,"GSPs","p/kWh",null,null,{"$f":"hundred * $H31 * J56 / $H44 * J106 / hours_in_year","v":0},0,0,0,0,0,0,0,0,0,0,0,0,0,0,0]
[null,null,null,null,null,"132kV","p/kWh",null,null,{"$f":"hundred * $H32 * J57 / $H45 * J107 / hours_in_year","v":0},0,0,0,0,0,0,0,0,0,0,0,0,0,0,0]
[null,null,null,null,null,"132kV/EHV","p/kWh",null,null,{"$f":"hundred * $H33 * J58 / $H46 * J108 / hours_in_year","v":0},0,0,0,0,0,0,0,0,0,0,0,0,0,0,0]
[null,null,null,null,null,"EHV","p/kWh",null,null,{"$f":"hundred * $H34 * J59 / $H47 * J109 / hours_in_year","v":4.2693724873725603E-3},4.2693724873725603E-3,4.7267642548925971E-3,4.7267642548925971E-3,4.0464325624351505E-3,3.1876889211005744E-3,3.0612151724297124E-3,3.410909236839258E-3,-3.0585706459309988E-3,-2.8285011725645076E-3,-3.0585706459309988E-3,-3.0585706459309988E-3,-2.8285011725645076E-3,-2.8285011725645076E-3,-2.7743671788312157E-3,-2.7743671788312157E-3]
[null,null,null,null,null,"EHV/HV","p/kWh",null,null,{"$f":"hundred * $H35 * J60 / $H48 * J110 / hours_in_year","v":1.150313201395336E-3},1.150313201395336E-3,1.2735499978903735E-3,1.2735499978903735E-3,1.0902456529366133E-3,8.588711007833092E-4,8.2479479960407415E-4,9.1901419599772229E-4,-8.2408227481222058E-4,-7.620937851139562E-4,-8.2408227481222058E-4,-8.2408227481222058E-4,-7.620937851139562E-4,-7.620937851139562E-4,-7.4750825812612944E-4,-7.4750825812612944E-4]
[null,null,null,null,null,"132kV/HV","p/kWh",null,null,{"$f":"hundred * $H36 * J61 / $H49 * J111 / hours_in_year","v":0},0,0,0,0,0,0,0,0,0,0,0,0,0,0,0]
[null,null,null,null,null,"HV","p/kWh",null,null,{"$f":"hundred * $H37 * J62 / $H50 * J112 / hours_in_year","v":4.9486796179383508E-3},4.9486796179383508E-3,5.4788477688864981E-3,5.4788477688864981E-3,4.6902673417020769E-3,3.6948875364787854E-3,3.5482903341726157E-3,3.9536248169744501E-3,-3.5452250325569827E-3,-3.2785488132938468E-3,-3.5452250325569827E-3,-3.5452250325569827E-3,-3.2785488132938468E-3,-3.2785488132938468E-3,0,0]
[null,null,null,null,null,"HV/LV","p/kWh",null,null,{"$f":"hundred * $H38 * J63 / $H51 * J113 / hours_in_year","v":1.243743311956663E-3},1.243743311956663E-3,1.3769895802266821E-3,1.3769895802266821E-3,1.1787969898849463E-3,9.2862986022967269E-4,0,9.9365786507440794E-4,-8.9101543523665238E-4,0,-8.9101543523665238E-4,-8.9101543523665238E-4,0,0,0,0]
[null,null,null,null,null,"LV circuits","p/kWh",null,null,{"$f":"hundred * $H39 * J64 / $H52 * J114 / hours_in_year","v":2.0920155728327049E-3},2.0920155728327049E-3,2.3161400087697219E-3,2.3161400087697219E-3,1.9827738057686547E-3,0,0,1.6713639444887259E-3,0,0,0,0,0,0,0,0]
[]
[null,"Checks"]
[]
[null,null,null,"Other checks"]
[]
[null,null,null,null,"Check for error values",null,"number of issues",{"$f":"SUM(IF(ISERROR(H18:Y232), 1))","v":0}]
[]
[null,null,null,null,"Non-zero tariff check",null,"number of issues",{"$f":"SUM(J239:Y239)","v":0},null,{"$f":"IF(ABS(IFERROR(SUM(J152:J231), 1)) > 0, 0, 1)","v":0},0,{"$f":"IF(ABS(IFERROR(SUM(L152:L231), 1)) > 0, 0, 1)","v":0},0,0,0,0,0,0,0,0,0,0,0,0,0]
[]
[null,null,null,null,"Check summary",null,"number of issues",{"$f":"SUM(H239, H237)","v":0}]
[]
[null,"End of sheet"]

{"sheet":"Service model charges","index":27,"n_rows":50,"n_cols":27,"rows_kept":50,"cut":false,"hidden":true,"merged":[]}
[{"$f":"MID(CELL(\"filename\",A1),FIND(\"]\",CELL(\"filename\",A1))+1,255)","v":"Service model charges"}]
[{"$f":"Cover!D23 & \" - \" & TEXT(CIRP_submission_date, \"mmm\") & \"-\" & RIGHT(YEAR(CIRP_submission_date), 2) & \" - \" & Cover!D25","v":"SP Distribution - Jan-26 - V1"}]
[{"$f":"Cover!D2&\" - \"&Cover!D8&\" v\"&Cover!D10&\" - \"&Cover!D19","v":"Cost Information Review Pack (CIRP) - Release for charge setting v1 - 2027/28"}]
[{"$f":"H48 & IF(H48 = 1, \" issue\", \" issues\") &\" identified in checks on this sheet\"","v":"0 issues identified in checks on this sheet"}]
[null,"Click here to return to model map",null,null,null,null,"Units","Constants",null,"Domestic Aggregated or CT","Domestic Aggregated (Related MPAN)","Non-Domestic Aggregated or CT","Non-Domestic Aggregated (Related MPAN)","LV Site Specific","LV Sub Site Specific","HV Site Specific","Unmetered Supplies","LV Generation Aggregated","LV Sub Generation Aggregated","LV Generation Site Specific","LV Generation Site Specific no RP Charge","LV Sub Generation Site Specific","LV Sub Generation Site Specific no RP Charge","HV Generation Site Specific","HV Generation Site Specific no RP Charge",null,"Legal text reference"]
[]
[null,"Description"]
[]
[null,null,"This sheet calculates costs allocated to service models."]
[null,null,"Costs allocated to service models are attributed to either fixed charges, or to unit charges (in the case"]
[null,null,"of UMS customers)."]
[]
[null,"Inputs to service model charge calculation"]
[]
[null,null,"Brings in inputs used in allocation of costs to service models."]
[]
[null,null,{"$f":"INDEX('Version control'!$H$29:$H$55,MATCH($A$1,'Version control'!$F$29:$F$55,0),1)&\"-A: Inputs to service model charge calculation\"","v":"Section 513-A: Inputs to service model charge calculation"}]
[]
[null,null,null,null,"Annuity rate",null,"%",{"$f":"'Unit costs'!$H$121","v":5.7244416563034098E-2}]
[null,null,null,null,"Other operating costs for allocation",null,"£ per year",{"$f":"'Unit costs'!$H$122","v":152130744.44655794}]
[null,null,null,null,"Notional asset value",null,"£ per year",{"$f":"'Unit costs'!$H$123","v":3708280621.7159653}]
[]
[null,null,null,null,"Service model asset values"]
[null,null,null,null,"This table pulls in service model costs per customer (or per MWh for UMS)"]
[null,null,null,null,null,"LV customers","£ per MPAN",null,null,{"$f":"'Inputs by customer type'!J190","v":377.70000000000005},{"$f":"'Inputs by customer type'!K190","v":0},{"$f":"'Inputs by customer type'!L190","v":508.75},{"$f":"'Inputs by customer type'!M190","v":0},{"$f":"'Inputs by customer type'!N190","v":2380},{"$f":"'Inputs by customer type'!O190","v":840},{"$f":"'Inputs by customer type'!P190","v":0},null,{"$f":"'Inputs by customer type'!R190","v":0},{"$f":"'Inputs by customer type'!S190","v":0},{"$f":"'Inputs by customer type'!T190","v":0},{"$f":"'Inputs by customer type'!U190","v":0},{"$f":"'Inputs by customer type'!V190","v":0},{"$f":"'Inputs by customer type'!W190","v":0},{"$f":"'Inputs by customer type'!X190","v":0},{"$f":"'Inputs by customer type'!Y190","v":0}]
[null,null,null,null,null,"HV customers","£ per MPAN",null,null,{"$f":"'Inputs by customer type'!J191","v":0},{"$f":"'Inputs by customer type'!K191","v":0},{"$f":"'Inputs by customer type'!L191","v":0},{"$f":"'Inputs by customer type'!M191","v":0},{"$f":"'Inputs by customer type'!N191","v":0},{"$f":"'Inputs by customer type'!O191","v":0},{"$f":"'Inputs by customer type'!P191","v":12718.10554},null,{"$f":"'Inputs by customer type'!R191","v":0},{"$f":"'Inputs by customer type'!S191","v":0},{"$f":"'Inputs by customer type'!T191","v":0},{"$f":"'Inputs by customer type'!U191","v":0},{"$f":"'Inputs by customer type'!V191","v":0},{"$f":"'Inputs by customer type'!W191","v":0},{"$f":"'Inputs by customer type'!X191","v":9287},{"$f":"'Inputs by customer type'!Y191","v":9287}]
[null,null,null,null,null,"LV UMS customers","£/MWh/year",null,null,null,null,null,null,null,null,null,{"$f":"'Inputs by customer type'!Q193","v":120.51}]
[]
[null,"Allocation of service model costs"]
[]
[null,null,"This section allocates other operating costs to service model customers"]
[]
[null,null,{"$f":"INDEX('Version control'!$H$29:$H$55,MATCH($A$1,'Version control'!$F$29:$F$55,0),1)&\"-B: Calculation of other operating expenditure per £ of notional asset value\"","v":"Section 513-B: Calculation of other operating expenditure per £ of notional asset value"}]
[]
[null,null,null,null,"Other operating expenditure per £ of notional asset value",null,"£",{"$f":"IF(H21 <> 0, H20  /H21, 0)","v":4.1024604113202509E-2},">",null,null,null,null,null,null,null,null,null,null,null,null,null,null,null,null,null,"Paragraphs 66, 85 & 86"]
[]
[null,null,{"$f":"INDEX('Version control'!$H$29:$H$55,MATCH($A$1,'Version control'!$F$29:$F$55,0),1)&\"-C: Calculation of service model charges\"","v":"Section 513-C: Calculation of service model charges"}]
[]
[null,null,null,null,"LV and HV added to fixed charges in 'Fixed charges' tab. For UMS, added to unit rates in 'Unit rate charges' tab."]
[]
[null,null,null,null,"Operating expenditure for customer assets",null,null,null,">",null,null,null,null,null,null,null,null,null,null,null,null,null,null,null,null,null,"Paragraphs 66 & 85"]
[null,null,null,null,null,"LV customers","p/MPAN/day",null,null,{"$f":"J25 * $H$35 / days_in_year * hundred","v":4.2336046375837677},0,{"$f":"L25 * $H$35 / days_in_year * hundred","v":5.7025320608174255},0,{"$f":"N25 * $H$35 / days_in_year * hundred","v":26.677201581809278},9.4154829112268068,0,{"$f":"Q25 * $H$35 / days_in_year * hundred","v":0},0,0,{"$f":"T25 * $H$35 / days_in_year * hundred","v":0},0,{"$f":"V25 * $H$35 / days_in_year * hundred","v":0},0,{"$f":"X25 * $H$35 / days_in_year * hundred","v":0},0]
[null,null,null,null,null,"HV customers","p/MPAN/day",null,null,{"$f":"J26 * $H$35 / days_in_year * hundred","v":0},0,{"$f":"L26 * $H$35 / days_in_year * hundred","v":0},0,{"$f":"N26 * $H$35 / days_in_year * hundred","v":0},0,142.55607782743925,{"$f":"Q26 * $H$35 / days_in_year * hundred","v":0},0,0,{"$f":"T26 * $H$35 / days_in_year * hundred","v":0},0,{"$f":"V26 * $H$35 / days_in_year * hundred","v":0},0,{"$f":"X26 * $H$35 / days_in_year * hundred","v":104.09713071019446},104.09713071019446]
[null,null,null,null,null,"LV UMS customers","p/kWh",null,null,null,null,null,null,null,null,null,{"$f":"Q27*$H$35/ten","v":0.49438750416820348}]
[]
[null,"Checks"]
[]
[null,null,null,null,"Check for error values",null,"number of issues",{"$f":"SUM(IF(ISERROR(H19:Y45), 1))","v":0}]
[]
[null,"End of sheet"]

{"sheet":"Unit rate charges","index":28,"n_rows":225,"n_cols":27,"rows_kept":225,"cut":false,"hidden":true,"merged":[]}
[{"$f":"MID(CELL(\"filename\",A1),FIND(\"]\",CELL(\"filename\",A1))+1,255)","v":"Unit rate charges"}]
[{"$f":"Cover!D23 & \" - \" & TEXT(CIRP_submission_date, \"mmm\") & \"-\" & RIGHT(YEAR(CIRP_submission_date), 2) & \" - \" & Cover!D25","v":"SP Distribution - Jan-26 - V1"}]
[{"$f":"Cover!D2&\" - \"&Cover!D8&\" v\"&Cover!D10&\" - \"&Cover!D19","v":"Cost Information Review Pack (CIRP) - Release for charge setting v1 - 2027/28"}]
[{"$f":"H223 & IF(H223 = 1, \" issue\", \" issues\") &\" identified in checks on this sheet\"","v":"0 issues identified in checks on this sheet"}]
[null,"Click here to return to model map",null,null,null,null,"Units","Constants",null,"Domestic Aggregated or CT","Domestic Aggregated (Related MPAN)","Non-Domestic Aggregated or CT","Non-Domestic Aggregated (Related MPAN)","LV Site Specific","LV Sub Site Specific","HV Site Specific","Unmetered Supplies","LV Generation Aggregated","LV Sub Generation Aggregated","LV Generation Site Specific","LV Generation Site Specific no RP Charge","LV Sub Generation Site Specific","LV Sub Generation Site Specific no RP Charge","HV Generation Site Specific","HV Generation Site Specific no RP Charge",null,"Legal text reference"]
[]
[null,"Description"]
[]
[null,null,"This sheet adjusts unit rates 1, 2 and 3 to account for costs that will be recovered through fixed "]
[null,null,"or capacity charges instead. This is done by multiplying unit rates by (1 - [standing charge factors]). "]
[null,null,"Where these factors are greater than zero, unit charges are reduced; where they are equal "]
[null,null,"to one, unit charges will be zero."]
[null,null,"Unit rates 1, 2 and 3, are summarised at the bottom. These are scaled later in the model for revenue matching."]
[]
[null,"Inputs to unit rate charge calculations"]
[]
[null,null,"Brings in inputs used in the application of standing charges to unit rates"]
[]
[null,null,{"$f":"INDEX('Version control'!$H$29:$H$55,MATCH($A$1,'Version control'!$F$29:$F$55,0),1)&\"-A: Initial unit rate 1\"","v":"Section 514-A: Initial unit rate 1"}]
[]
[null,null,null,null,"Asset costs"]
[null,null,null,null,null,"Transmission exit","p/kWh",null,null,{"$f":"'Initial unit rates'!J152","v":0},{"$f":"'Initial unit rates'!K152","v":0},{"$f":"'Initial unit rates'!L152","v":0},{"$f":"'Initial unit rates'!M152","v":0},{"$f":"'Initial unit rates'!N152","v":0},{"$f":"'Initial unit rates'!O152","v":0},{"$f":"'Initial unit rates'!P152","v":0},{"$f":"'Initial unit rates'!Q152","v":0},{"$f":"'Initial unit rates'!R152","v":0},{"$f":"'Initial unit rates'!S152","v":0},{"$f":"'Initial unit rates'!T152","v":0},{"$f":"'Initial unit rates'!U152","v":0},{"$f":"'Initial unit rates'!V152","v":0},{"$f":"'Initial unit rates'!W152","v":0},{"$f":"'Initial unit rates'!X152","v":0},{"$f":"'Initial unit rates'!Y152","v":0}]
[null,null,null,null,null,"GSPs","p/kWh",null,null,{"$f":"'Initial unit rates'!J153","v":0},{"$f":"'Initial unit rates'!K153","v":0},{"$f":"'Initial unit rates'!L153","v":0},{"$f":"'Initial unit rates'!M153","v":0},{"$f":"'Initial unit rates'!N153","v":0},{"$f":"'Initial unit rates'!O153","v":0},{"$f":"'Initial unit rates'!P153","v":0},{"$f":"'Initial unit rates'!Q153","v":0},{"$f":"'Initial unit rates'!R153","v":0},{"$f":"'Initial unit rates'!S153","v":0},{"$f":"'Initial unit rates'!T153","v":0},{"$f":"'Initial unit rates'!U153","v":0},{"$f":"'Initial unit rates'!V153","v":0},{"$f":"'Initial unit rates'!W153","v":0},{"$f":"'Initial unit rates'!X153","v":0},{"$f":"'Initial unit rates'!Y153","v":0}]
[null,null,null,null,null,"132kV","p/kWh",null,null,{"$f":"'Initial unit rates'!J154","v":0},{"$f":"'Initial unit rates'!K154","v":0},{"$f":"'Initial unit rates'!L154","v":0},{"$f":"'Initial unit rates'!M154","v":0},{"$f":"'Initial unit rates'!N154","v":0},{"$f":"'Initial unit rates'!O154","v":0},{"$f":"'Initial unit rates'!P154","v":0},{"$f":"'Initial unit rates'!Q154","v":0},{"$f":"'Initial unit rates'!R154","v":0},{"$f":"'Initial unit rates'!S154","v":0},{"$f":"'Initial unit rates'!T154","v":0},{"$f":"'Initial unit rates'!U154","v":0},{"$f":"'Initial unit rates'!V154","v":0},{"$f":"'Initial unit rates'!W154","v":0},{"$f":"'Initial unit rates'!X154","v":0},{"$f":"'Initial unit rates'!Y154","v":0}]
[null,null,null,null,null,"132kV/EHV","p/kWh",null,null,{"$f":"'Initial unit rates'!J155","v":0},{"$f":"'Initial unit rates'!K155","v":0},{"$f":"'Initial unit rates'!L155","v":0},{"$f":"'Initial unit rates'!M155","v":0},{"$f":"'Initial unit rates'!N155","v":0},{"$f":"'Initial unit rates'!O155","v":0},{"$f":"'Initial unit rates'!P155","v":0},{"$f":"'Initial unit rates'!Q155","v":0},{"$f":"'Initial unit rates'!R155","v":0},{"$f":"'Initial unit rates'!S155","v":0},{"$f":"'Initial unit rates'!T155","v":0},{"$f":"'Initial unit rates'!U155","v":0},{"$f":"'Initial unit rates'!V155","v":0},{"$f":"'Initial unit rates'!W155","v":0},{"$f":"'Initial unit rates'!X155","v":0},{"$f":"'Initial unit rates'!Y155","v":0}]
[null,null,null,null,null,"EHV","p/kWh",null,null,{"$f":"'Initial unit rates'!J156","v":2.7879355741745728},{"$f":"'Initial unit rates'!K156","v":2.7879355741745728},{"$f":"'Initial unit rates'!L156","v":3.0866161844458175},{"$f":"'Initial unit rates'!M156","v":3.0866161844458175},{"$f":"'Initial unit rates'!N156","v":2.6423539577953186},{"$f":"'Initial unit rates'!O156","v":2.0815872517152276},{"$f":"'Initial unit rates'!P156","v":1.998998846941086},{"$f":"'Initial unit rates'!Q156","v":6.4524269251121948},{"$f":"'Initial unit rates'!R156","v":-1.9972719492472406},{"$f":"'Initial unit rates'!S156","v":-1.8470346787286431},{"$f":"'Initial unit rates'!T156","v":-1.9972719492472406},{"$f":"'Initial unit rates'!U156","v":-1.9972719492472406},{"$f":"'Initial unit rates'!V156","v":-1.8470346787286431},{"$f":"'Initial unit rates'!W156","v":-1.8470346787286431},{"$f":"'Initial unit rates'!X156","v":-1.8116847327242669},{"$f":"'Initial unit rates'!Y156","v":-1.8116847327242669}]
[null,null,null,null,null,"EHV/HV","p/kWh",null,null,{"$f":"'Initial unit rates'!J157","v":0.5538520601208361},{"$f":"'Initial unit rates'!K157","v":0.5538520601208361},{"$f":"'Initial unit rates'!L157","v":0.61318803360933916},{"$f":"'Initial unit rates'!M157","v":0.61318803360933916},{"$f":"'Initial unit rates'!N157","v":0.52493077553511036},{"$f":"'Initial unit rates'!O157","v":0.41352870502579175},{"$f":"'Initial unit rates'!P157","v":0.39712166945797922},{"$f":"'Initial unit rates'!Q157","v":1.3171549201124768},{"$f":"'Initial unit rates'!R157","v":-0.39677860347962096},{"$f":"'Initial unit rates'!S157","v":-0.36693242534177334},{"$f":"'Initial unit rates'!T157","v":-0.39677860347962096},{"$f":"'Initial unit rates'!U157","v":-0.39677860347962096},{"$f":"'Initial unit rates'!V157","v":-0.36693242534177334},{"$f":"'Initial unit rates'!W157","v":-0.36693242534177334},{"$f":"'Initial unit rates'!X157","v":-0.35990979519169153},{"$f":"'Initial unit rates'!Y157","v":-0.35990979519169153}]
[null,null,null,null,null,"132kV/HV","p/kWh",null,null,{"$f":"'Initial unit rates'!J158","v":0},{"$f":"'Initial unit rates'!K158","v":0},{"$f":"'Initial unit rates'!L158","v":0},{"$f":"'Initial unit rates'!M158","v":0},{"$f":"'Initial unit rates'!N158","v":0},{"$f":"'Initial unit rates'!O158","v":0},{"$f":"'Initial unit rates'!P158","v":0},{"$f":"'Initial unit rates'!Q158","v":0},{"$f":"'Initial unit rates'!R158","v":0},{"$f":"'Initial unit rates'!S158","v":0},{"$f":"'Initial unit rates'!T158","v":0},{"$f":"'Initial unit rates'!U158","v":0},{"$f":"'Initial unit rates'!V158","v":0},{"$f":"'Initial unit rates'!W158","v":0},{"$f":"'Initial unit rates'!X158","v":0},{"$f":"'Initial unit rates'!Y158","v":0}]
[null,null,null,null,null,"HV","p/kWh",null,null,{"$f":"'Initial unit rates'!J159","v":2.3826870785699907},{"$f":"'Initial unit rates'!K159","v":2.3826870785699907},{"$f":"'Initial unit rates'!L159","v":2.637952098789619},{"$f":"'Initial unit rates'!M159","v":2.637952098789619},{"$f":"'Initial unit rates'!N159","v":2.2582669020646984},{"$f":"'Initial unit rates'!O159","v":1.7790120738519353},{"$f":"'Initial unit rates'!P159","v":1.7084285472030754},{"$f":"'Initial unit rates'!Q159","v":5.6664373658593545},{"$f":"'Initial unit rates'!R159","v":-1.70695266775333},{"$f":"'Initial unit rates'!S159","v":-1.5785535732763099},{"$f":"'Initial unit rates'!T159","v":-1.70695266775333},{"$f":"'Initial unit rates'!U159","v":-1.70695266775333},{"$f":"'Initial unit rates'!V159","v":-1.5785535732763099},{"$f":"'Initial unit rates'!W159","v":-1.5785535732763099},{"$f":"'Initial unit rates'!X159","v":0},{"$f":"'Initial unit rates'!Y159","v":0}]
[null,null,null,null,null,"HV/LV","p/kWh",null,null,{"$f":"'Initial unit rates'!J160","v":0.59883672964296253},{"$f":"'Initial unit rates'!K160","v":0.59883672964296253},{"$f":"'Initial unit rates'!L160","v":0.66299205716180309},{"$f":"'Initial unit rates'!M160","v":0.66299205716180309},{"$f":"'Initial unit rates'!N160","v":0.56756641627695137},{"$f":"'Initial unit rates'!O160","v":0.44711610764272819},{"$f":"'Initial unit rates'!P160","v":0},{"$f":"'Initial unit rates'!Q160","v":1.4241361576252083},{"$f":"'Initial unit rates'!R160","v":-0.42900553849740797},{"$f":"'Initial unit rates'!S160","v":0},{"$f":"'Initial unit rates'!T160","v":-0.42900553849740797},{"$f":"'Initial unit rates'!U160","v":-0.42900553849740797},{"$f":"'Initial unit rates'!V160","v":0},{"$f":"'Initial unit rates'!W160","v":0},{"$f":"'Initial unit rates'!X160","v":0},{"$f":"'Initial unit rates'!Y160","v":0}]
[null,null,null,null,null,"LV circuits","p/kWh",null,null,{"$f":"'Initial unit rates'!J161","v":1.0072623120492707},{"$f":"'Initial unit rates'!K161","v":1.0072623120492707},{"$f":"'Initial unit rates'!L161","v":1.1151736012673417},{"$f":"'Initial unit rates'!M161","v":1.1151736012673417},{"$f":"'Initial unit rates'!N161","v":0.95466465632709585},{"$f":"'Initial unit rates'!O161","v":0},{"$f":"'Initial unit rates'!P161","v":0},{"$f":"'Initial unit rates'!Q161","v":2.3954420425376952},{"$f":"'Initial unit rates'!R161","v":0},{"$f":"'Initial unit rates'!S161","v":0},{"$f":"'Initial unit rates'!T161","v":0},{"$f":"'Initial unit rates'!U161","v":0},{"$f":"'Initial unit rates'!V161","v":0},{"$f":"'Initial unit rates'!W161","v":0},{"$f":"'Initial unit rates'!X161","v":0},{"$f":"'Initial unit rates'!Y161","v":0}]
[null,null,null,null,null,"LV customers","p/kWh"]
[null,null,null,null,null,"HV customers","p/kWh"]
[]
[null,null,null,null,"Other operating costs"]
[null,null,null,null,null,"Transmission exit","p/kWh",null,null,{"$f":"'Initial unit rates'!J164","v":1.8625641679805183},{"$f":"'Initial unit rates'!K164","v":1.8625641679805183},{"$f":"'Initial unit rates'!L164","v":2.0621067282588283},{"$f":"'Initial unit rates'!M164","v":2.0621067282588283},{"$f":"'Initial unit rates'!N164","v":1.765303992854353},{"$f":"'Initial unit rates'!O164","v":1.3906669377457623},{"$f":"'Initial unit rates'!P164","v":1.3354912712605242},{"$f":"'Initial unit rates'!Q164","v":4.3107377726204765},{"$f":"'Initial unit rates'!R164","v":-1.3343375653441751},{"$f":"'Initial unit rates'!S164","v":-1.2339670405174012},{"$f":"'Initial unit rates'!T164","v":-1.3343375653441751},{"$f":"'Initial unit rates'!U164","v":-1.3343375653441751},{"$f":"'Initial unit rates'!V164","v":-1.2339670405174012},{"$f":"'Initial unit rates'!W164","v":-1.2339670405174012},{"$f":"'Initial unit rates'!X164","v":-1.210350446440513},{"$f":"'Initial unit rates'!Y164","v":-1.210350446440513}]
[null,null,null,null,null,"GSPs","p/kWh",null,null,{"$f":"'Initial unit rates'!J165","v":0},{"$f":"'Initial unit rates'!K165","v":0},{"$f":"'Initial unit rates'!L165","v":0},{"$f":"'Initial unit rates'!M165","v":0},{"$f":"'Initial unit rates'!N165","v":0},{"$f":"'Initial unit rates'!O165","v":0},{"$f":"'Initial unit rates'!P165","v":0},{"$f":"'Initial unit rates'!Q165","v":0},{"$f":"'Initial unit rates'!R165","v":0},{"$f":"'Initial unit rates'!S165","v":0},{"$f":"'Initial unit rates'!T165","v":0},{"$f":"'Initial unit rates'!U165","v":0},{"$f":"'Initial unit rates'!V165","v":0},{"$f":"'Initial unit rates'!W165","v":0},{"$f":"'Initial unit rates'!X165","v":0},{"$f":"'Initial unit rates'!Y165","v":0}]
[null,null,null,null,null,"132kV","p/kWh",null,null,{"$f":"'Initial unit rates'!J166","v":0},{"$f":"'Initial unit rates'!K166","v":0},{"$f":"'Initial unit rates'!L166","v":0},{"$f":"'Initial unit rates'!M166","v":0},{"$f":"'Initial unit rates'!N166","v":0},{"$f":"'Initial unit rates'!O166","v":0},{"$f":"'Initial unit rates'!P166","v":0},{"$f":"'Initial unit rates'!Q166","v":0},{"$f":"'Initial unit rates'!R166","v":0},{"$f":"'Initial unit rates'!S166","v":0},{"$f":"'Initial unit rates'!T166","v":0},{"$f":"'Initial unit rates'!U166","v":0},{"$f":"'Initial unit rates'!V166","v":0},{"$f":"'Initial unit rates'!W166","v":0},{"$f":"'Initial unit rates'!X166","v":0},{"$f":"'Initial unit rates'!Y166","v":0}]
[null,null,null,null,null,"132kV/EHV","p/kWh",null,null,{"$f":"'Initial unit rates'!J167","v":0},{"$f":"'Initial unit rates'!K167","v":0},{"$f":"'Initial unit rates'!L167","v":0},{"$f":"'Initial unit rates'!M167","v":0},{"$f":"'Initial unit rates'!N167","v":0},{"$f":"'Initial unit rates'!O167","v":0},{"$f":"'Initial unit rates'!P167","v":0},{"$f":"'Initial unit rates'!Q167","v":0},{"$f":"'Initial unit rates'!R167","v":0},{"$f":"'Initial unit rates'!S167","v":0},{"$f":"'Initial unit rates'!T167","v":0},{"$f":"'Initial unit rates'!U167","v":0},{"$f":"'Initial unit rates'!V167","v":0},{"$f":"'Initial unit rates'!W167","v":0},{"$f":"'Initial unit rates'!X167","v":0},{"$f":"'Initial unit rates'!Y167","v":0}]
[null,null,null,null,null,"EHV","p/kWh",null,null,{"$f":"'Initial unit rates'!J168","v":1.9979931684286465},{"$f":"'Initial unit rates'!K168","v":1.9979931684286465},{"$f":"'Initial unit rates'!L168","v":2.2120446782239287},{"$f":"'Initial unit rates'!M168","v":2.2120446782239287},{"$f":"'Initial unit rates'!N168","v":1.8936611036316797},{"$f":"'Initial unit rates'!O168","v":1.4917837940521794},{"$f":"'Initial unit rates'!P168","v":1.4325962468008375},{"$f":"'Initial unit rates'!Q168","v":4.6241760518358248},{"$f":"'Initial unit rates'!R168","v":-1.4313586537133789},{"$f":"'Initial unit rates'!S168","v":-1.3236900824163549},{"$f":"'Initial unit rates'!T168","v":-1.4313586537133789},{"$f":"'Initial unit rates'!U168","v":-1.4313586537133789},{"$f":"'Initial unit rates'!V168","v":-1.3236900824163549},{"$f":"'Initial unit rates'!W168","v":-1.3236900824163549},{"$f":"'Initial unit rates'!X168","v":-1.2983563009347023},{"$f":"'Initial unit rates'!Y168","v":-1.2983563009347023}]
[null,null,null,null,null,"EHV/HV","p/kWh",null,null,{"$f":"'Initial unit rates'!J169","v":0.39692188108370907},{"$f":"'Initial unit rates'!K169","v":0.39692188108370907},{"$f":"'Initial unit rates'!L169","v":0.43944541382610131},{"$f":"'Initial unit rates'!M169","v":0.43944541382610131},{"$f":"'Initial unit rates'!N169","v":0.37619524394053588},{"$f":"'Initial unit rates'!O169","v":0.29635818533407055},{"$f":"'Initial unit rates'!P169","v":0.28459997065998849},{"$f":"'Initial unit rates'!Q169","v":0.94394811577597804},{"$f":"'Initial unit rates'!R169","v":-0.28435411007144767},{"$f":"'Initial unit rates'!S169","v":-0.26296464161474586},{"$f":"'Initial unit rates'!T169","v":-0.28435411007144767},{"$f":"'Initial unit rates'!U169","v":-0.28435411007144767},{"$f":"'Initial unit rates'!V169","v":-0.26296464161474586},{"$f":"'Initial unit rates'!W169","v":-0.26296464161474586},{"$f":"'Initial unit rates'!X169","v":-0.25793182550728666},{"$f":"'Initial unit rates'!Y169","v":-0.25793182550728666}]
[null,null,null,null,null,"132kV/HV","p/kWh",null,null,{"$f":"'Initial unit rates'!J170","v":0},{"$f":"'Initial unit rates'!K170","v":0},{"$f":"'Initial unit rates'!L170","v":0},{"$f":"'Initial unit rates'!M170","v":0},{"$f":"'Initial unit rates'!N170","v":0},{"$f":"'Initial unit rates'!O170","v":0},{"$f":"'Initial unit rates'!P170","v":0},{"$f":"'Initial unit rates'!Q170","v":0},{"$f":"'Initial unit rates'!R170","v":0},{"$f":"'Initial unit rates'!S170","v":0},{"$f":"'Initial unit rates'!T170","v":0},{"$f":"'Initial unit rates'!U170","v":0},{"$f":"'Initial unit rates'!V170","v":0},{"$f":"'Initial unit rates'!W170","v":0},{"$f":"'Initial unit rates'!X170","v":0},{"$f":"'Initial unit rates'!Y170","v":0}]
[null,null,null,null,null,"HV","p/kWh",null,null,{"$f":"'Initial unit rates'!J171","v":1.7075690520199789},{"$f":"'Initial unit rates'!K171","v":1.7075690520199789},{"$f":"'Initial unit rates'!L171","v":1.8905064811564534},{"$f":"'Initial unit rates'!M171","v":1.8905064811564534},{"$f":"'Initial unit rates'!N171","v":1.618402478382114},{"$f":"'Initial unit rates'!O171","v":1.2749412156558233},{"$f":"'Initial unit rates'!P171","v":1.2243570467265332},{"$f":"'Initial unit rates'!Q171","v":4.0608912383736753},{"$f":"'Initial unit rates'!R171","v":-1.2232993475869509},{"$f":"'Initial unit rates'!S171","v":-1.1312812550693485},{"$f":"'Initial unit rates'!T171","v":-1.2232993475869509},{"$f":"'Initial unit rates'!U171","v":-1.2232993475869509},{"$f":"'Initial unit rates'!V171","v":-1.1312812550693485},{"$f":"'Initial unit rates'!W171","v":-1.1312812550693485},{"$f":"'Initial unit rates'!X171","v":0},{"$f":"'Initial unit rates'!Y171","v":0}]
[null,null,null,null,null,"HV/LV","p/kWh",null,null,{"$f":"'Initial unit rates'!J172","v":0.42916045331679936},{"$f":"'Initial unit rates'!K172","v":0.42916045331679936},{"$f":"'Initial unit rates'!L172","v":0.47513780920993059},{"$f":"'Initial unit rates'!M172","v":0.47513780920993059},{"$f":"'Initial unit rates'!N172","v":0.40675036857213626},{"$f":"'Initial unit rates'!O172","v":0.32042882799724259},{"$f":"'Initial unit rates'!P172","v":0},{"$f":"'Initial unit rates'!Q172","v":1.0206169540663907},{"$f":"'Initial unit rates'!R172","v":-0.30744976429007004},{"$f":"'Initial unit rates'!S172","v":0},{"$f":"'Initial unit rates'!T172","v":-0.30744976429007004},{"$f":"'Initial unit rates'!U172","v":-0.30744976429007004},{"$f":"'Initial unit rates'!V172","v":0},{"$f":"'Initial unit rates'!W172","v":0},{"$f":"'Initial unit rates'!X172","v":0},{"$f":"'Initial unit rates'!Y172","v":0}]
[null,null,null,null,null,"LV circuits","p/kWh",null,null,{"$f":"'Initial unit rates'!J173","v":0.72186145079264608},{"$f":"'Initial unit rates'!K173","v":0.72186145079264608},{"$f":"'Initial unit rates'!L173","v":0.79919681702250156},{"$f":"'Initial unit rates'!M173","v":0.79919681702250156},{"$f":"'Initial unit rates'!N173","v":0.68416697973608975},{"$f":"'Initial unit rates'!O173","v":0},{"$f":"'Initial unit rates'!P173","v":0},{"$f":"'Initial unit rates'!Q173","v":1.7167099845103473},{"$f":"'Initial unit rates'!R173","v":0},{"$f":"'Initial unit rates'!S173","v":0},{"$f":"'Initial unit rates'!T173","v":0},{"$f":"'Initial unit rates'!U173","v":0},{"$f":"'Initial unit rates'!V173","v":0},{"$f":"'Initial unit rates'!W173","v":0},{"$f":"'Initial unit rates'!X173","v":0},{"$f":"'Initial unit rates'!Y173","v":0}]
[null,null,null,null,null,"LV customers","p/kWh",null,">",null,null,null,null,null,null,null,{"$f":"'Service model charges'!$Q$44","v":0.49438750416820348},null,null,null,null,null,null,null,null,null,"Paragraph 86"]
[null,null,null,null,null,"HV customers","p/kWh"]
[]
[null,null,{"$f":"INDEX('Version control'!$H$29:$H$55,MATCH($A$1,'Version control'!$F$29:$F$55,0),1)&\"-B: Initial unit rate 2\"","v":"Section 514-B: Initial unit rate 2"}]
[]
[null,null,null,null,"Asset costs"]
[null,null,null,null,null,"Transmission exit","p/kWh",null,null,{"$f":"'Initial unit rates'!J181","v":0},{"$f":"'Initial unit rates'!K181","v":0},{"$f":"'Initial unit rates'!L181","v":0},{"$f":"'Initial unit rates'!M181","v":0},{"$f":"'Initial unit rates'!N181","v":0},{"$f":"'Initial unit rates'!O181","v":0},{"$f":"'Initial unit rates'!P181","v":0},{"$f":"'Initial unit rates'!Q181","v":0},{"$f":"'Initial unit rates'!R181","v":0},{"$f":"'Initial unit rates'!S181","v":0},{"$f":"'Initial unit rates'!T181","v":0},{"$f":"'Initial unit rates'!U181","v":0},{"$f":"'Initial unit rates'!V181","v":0},{"$f":"'Initial unit rates'!W181","v":0},{"$f":"'Initial unit rates'!X181","v":0},{"$f":"'Initial unit rates'!Y181","v":0}]
[null,null,null,null,null,"GSPs","p/kWh",null,null,{"$f":"'Initial unit rates'!J182","v":0},{"$f":"'Initial unit rates'!K182","v":0},{"$f":"'Initial unit rates'!L182","v":0},{"$f":"'Initial unit rates'!M182","v":0},{"$f":"'Initial unit rates'!N182","v":0},{"$f":"'Initial unit rates'!O182","v":0},{"$f":"'Initial unit rates'!P182","v":0},{"$f":"'Initial unit rates'!Q182","v":0},{"$f":"'Initial unit rates'!R182","v":0},{"$f":"'Initial unit rates'!S182","v":0},{"$f":"'Initial unit rates'!T182","v":0},{"$f":"'Initial unit rates'!U182","v":0},{"$f":"'Initial unit rates'!V182","v":0},{"$f":"'Initial unit rates'!W182","v":0},{"$f":"'Initial unit rates'!X182","v":0},{"$f":"'Initial unit rates'!Y182","v":0}]
[null,null,null,null,null,"132kV","p/kWh",null,null,{"$f":"'Initial unit rates'!J183","v":0},{"$f":"'Initial unit rates'!K183","v":0},{"$f":"'Initial unit rates'!L183","v":0},{"$f":"'Initial unit rates'!M183","v":0},{"$f":"'Initial unit rates'!N183","v":0},{"$f":"'Initial unit rates'!O183","v":0},{"$f":"'Initial unit rates'!P183","v":0},{"$f":"'Initial unit rates'!Q183","v":0},{"$f":"'Initial unit rates'!R183","v":0},{"$f":"'Initial unit rates'!S183","v":0},{"$f":"'Initial unit rates'!T183","v":0},{"$f":"'Initial unit rates'!U183","v":0},{"$f":"'Initial unit rates'!V183","v":0},{"$f":"'Initial unit rates'!W183","v":0},{"$f":"'Initial unit rates'!X183","v":0},{"$f":"'Initial unit rates'!Y183","v":0}]
[null,null,null,null,null,"132kV/EHV","p/kWh",null,null,{"$f":"'Initial unit rates'!J184","v":0},{"$f":"'Initial unit rates'!K184","v":0},{"$f":"'Initial unit rates'!L184","v":0},{"$f":"'Initial unit rates'!M184","v":0},{"$f":"'Initial unit rates'!N184","v":0},{"$f":"'Initial unit rates'!O184","v":0},{"$f":"'Initial unit rates'!P184","v":0},{"$f":"'Initial unit rates'!Q184","v":0},{"$f":"'Initial unit rates'!R184","v":0},{"$f":"'Initial unit rates'!S184","v":0},{"$f":"'Initial unit rates'!T184","v":0},{"$f":"'Initial unit rates'!U184","v":0},{"$f":"'Initial unit rates'!V184","v":0},{"$f":"'Initial unit rates'!W184","v":0},{"$f":"'Initial unit rates'!X184","v":0},{"$f":"'Initial unit rates'!Y184","v":0}]
[null,null,null,null,null,"EHV","p/kWh",null,null,{"$f":"'Initial unit rates'!J185","v":0.18330255858811231},{"$f":"'Initial unit rates'!K185","v":0.18330255858811231},{"$f":"'Initial unit rates'!L185","v":0.20294035817377434},{"$f":"'Initial unit rates'!M185","v":0.20294035817377434},{"$f":"'Initial unit rates'!N185","v":0.17373078691128252},{"$f":"'Initial unit rates'!O185","v":0.13686122186548993},{"$f":"'Initial unit rates'!P185","v":0.13143115883066067},{"$f":"'Initial unit rates'!Q185","v":0.14384806069655093},{"$f":"'Initial unit rates'!R185","v":-0.1313176179121997},{"$f":"'Initial unit rates'!S185","v":-0.12143974399845017},{"$f":"'Initial unit rates'!T185","v":-0.1313176179121997},{"$f":"'Initial unit rates'!U185","v":-0.1313176179121997},{"$f":"'Initial unit rates'!V185","v":-0.12143974399845017},{"$f":"'Initial unit rates'!W185","v":-0.12143974399845017},{"$f":"'Initial unit rates'!X185","v":-0.11911553837168556},{"$f":"'Initial unit rates'!Y185","v":-0.11911553837168556}]
[null,null,null,null,null,"EHV/HV","p/kWh",null,null,{"$f":"'Initial unit rates'!J186","v":8.3665366754415688E-2},{"$f":"'Initial unit rates'!K186","v":8.3665366754415688E-2},{"$f":"'Initial unit rates'!L186","v":9.262870974994919E-2},{"$f":"'Initial unit rates'!M186","v":9.262870974994919E-2},{"$f":"'Initial unit rates'!N186","v":7.929649272450659E-2},{"$f":"'Initial unit rates'!O186","v":6.2468000501637679E-2},{"$f":"'Initial unit rates'!P186","v":5.9989539650856884E-2},{"$f":"'Initial unit rates'!Q186","v":5.8983139091275651E-2},{"$f":"'Initial unit rates'!R186","v":-5.9937715810219665E-2},{"$f":"'Initial unit rates'!S186","v":-5.5429126567857992E-2},{"$f":"'Initial unit rates'!T186","v":-5.9937715810219665E-2},{"$f":"'Initial unit rates'!U186","v":-5.9937715810219665E-2},{"$f":"'Initial unit rates'!V186","v":-5.5429126567857992E-2},{"$f":"'Initial unit rates'!W186","v":-5.5429126567857992E-2},{"$f":"'Initial unit rates'!X186","v":-5.4368282040243479E-2},{"$f":"'Initial unit rates'!Y186","v":-5.4368282040243479E-2}]
[null,null,null,null,null,"132kV/HV","p/kWh",null,null,{"$f":"'Initial unit rates'!J187","v":0},{"$f":"'Initial unit rates'!K187","v":0},{"$f":"'Initial unit rates'!L187","v":0},{"$f":"'Initial unit rates'!M187","v":0},{"$f":"'Initial unit rates'!N187","v":0},{"$f":"'Initial unit rates'!O187","v":0},{"$f":"'Initial unit rates'!P187","v":0},{"$f":"'Initial unit rates'!Q187","v":0},{"$f":"'Initial unit rates'!R187","v":0},{"$f":"'Initial unit rates'!S187","v":0},{"$f":"'Initial unit rates'!T187","v":0},{"$f":"'Initial unit rates'!U187","v":0},{"$f":"'Initial unit rates'!V187","v":0},{"$f":"'Initial unit rates'!W187","v":0},{"$f":"'Initial unit rates'!X187","v":0},{"$f":"'Initial unit rates'!Y187","v":0}]
[null,null,null,null,null,"HV","p/kWh",null,null,{"$f":"'Initial unit rates'!J188","v":0.35993075162719973},{"$f":"'Initial unit rates'!K188","v":0.35993075162719973},{"$f":"'Initial unit rates'!L188","v":0.39849130429823076},{"$f":"'Initial unit rates'!M188","v":0.39849130429823076},{"$f":"'Initial unit rates'!N188","v":0.34113573315838108},{"$f":"'Initial unit rates'!O188","v":0.26873908817253911},{"$f":"'Initial unit rates'!P188","v":0.25807668015945245},{"$f":"'Initial unit rates'!Q188","v":0.25374711675824985},{"$f":"'Initial unit rates'!R188","v":-0.25785373254520816},{"$f":"'Initial unit rates'!S188","v":-0.23845765531835625},{"$f":"'Initial unit rates'!T188","v":-0.25785373254520816},{"$f":"'Initial unit rates'!U188","v":-0.25785373254520816},{"$f":"'Initial unit rates'!V188","v":-0.23845765531835625},{"$f":"'Initial unit rates'!W188","v":-0.23845765531835625},{"$f":"'Initial unit rates'!X188","v":0},{"$f":"'Initial unit rates'!Y188","v":0}]
[null,null,null,null,null,"HV/LV","p/kWh",null,null,{"$f":"'Initial unit rates'!J189","v":9.0460789476277143E-2},{"$f":"'Initial unit rates'!K189","v":9.0460789476277143E-2},{"$f":"'Initial unit rates'!L189","v":0.10015214822096137},{"$f":"'Initial unit rates'!M189","v":0.10015214822096137},{"$f":"'Initial unit rates'!N189","v":8.5737069146118866E-2},{"$f":"'Initial unit rates'!O189","v":6.7541742319373474E-2},{"$f":"'Initial unit rates'!P189","v":0},{"$f":"'Initial unit rates'!Q189","v":6.3773835398913778E-2},{"$f":"'Initial unit rates'!R189","v":-6.480594422674954E-2},{"$f":"'Initial unit rates'!S189","v":0},{"$f":"'Initial unit rates'!T189","v":-6.480594422674954E-2},{"$f":"'Initial unit rates'!U189","v":-6.480594422674954E-2},{"$f":"'Initial unit rates'!V189","v":0},{"$f":"'Initial unit rates'!W189","v":0},{"$f":"'Initial unit rates'!X189","v":0},{"$f":"'Initial unit rates'!Y189","v":0}]
[null,null,null,null,null,"LV circuits","p/kWh",null,null,{"$f":"'Initial unit rates'!J190","v":0.15215790790254849},{"$f":"'Initial unit rates'!K190","v":0.15215790790254849},{"$f":"'Initial unit rates'!L190","v":0.16845907971258375},{"$f":"'Initial unit rates'!M190","v":0.16845907971258375},{"$f":"'Initial unit rates'!N190","v":0.14421246096233462},{"$f":"'Initial unit rates'!O190","v":0},{"$f":"'Initial unit rates'!P190","v":0},{"$f":"'Initial unit rates'!Q190","v":0.10726960741111985},{"$f":"'Initial unit rates'!R190","v":0},{"$f":"'Initial unit rates'!S190","v":0},{"$f":"'Initial unit rates'!T190","v":0},{"$f":"'Initial unit rates'!U190","v":0},{"$f":"'Initial unit rates'!V190","v":0},{"$f":"'Initial unit rates'!W190","v":0},{"$f":"'Initial unit rates'!X190","v":0},{"$f":"'Initial unit rates'!Y190","v":0}]
[null,null,null,null,null,"LV customers","p/kWh"]
[null,null,null,null,null,"HV customers","p/kWh"]
[]
[null,null,null,null,"Other operating costs"]
[null,null,null,null,null,"Transmission exit","p/kWh",null,null,{"$f":"'Initial unit rates'!J193","v":0.12246078449156776},{"$f":"'Initial unit rates'!K193","v":0.12246078449156776},{"$f":"'Initial unit rates'!L193","v":0.13558040683329498},{"$f":"'Initial unit rates'!M193","v":0.13558040683329498},{"$f":"'Initial unit rates'!N193","v":0.11606607468747471},{"$f":"'Initial unit rates'!O193","v":9.1434253428960832E-2},{"$f":"'Initial unit rates'!P193","v":8.7806536586349473E-2},{"$f":"'Initial unit rates'!Q193","v":9.6102021140215071E-2},{"$f":"'Initial unit rates'!R193","v":-8.7730682162637533E-2},{"$f":"'Initial unit rates'!S193","v":-8.1131471557483389E-2},{"$f":"'Initial unit rates'!T193","v":-8.7730682162637533E-2},{"$f":"'Initial unit rates'!U193","v":-8.7730682162637533E-2},{"$f":"'Initial unit rates'!V193","v":-8.1131471557483389E-2},{"$f":"'Initial unit rates'!W193","v":-8.1131471557483389E-2},{"$f":"'Initial unit rates'!X193","v":-7.9578716120976514E-2},{"$f":"'Initial unit rates'!Y193","v":-7.9578716120976514E-2}]
[null,null,null,null,null,"GSPs","p/kWh",null,null,{"$f":"'Initial unit rates'!J194","v":0},{"$f":"'Initial unit rates'!K194","v":0},{"$f":"'Initial unit rates'!L194","v":0},{"$f":"'Initial unit rates'!M194","v":0},{"$f":"'Initial unit rates'!N194","v":0},{"$f":"'Initial unit rates'!O194","v":0},{"$f":"'Initial unit rates'!P194","v":0},{"$f":"'Initial unit rates'!Q194","v":0},{"$f":"'Initial unit rates'!R194","v":0},{"$f":"'Initial unit rates'!S194","v":0},{"$f":"'Initial unit rates'!T194","v":0},{"$f":"'Initial unit rates'!U194","v":0},{"$f":"'Initial unit rates'!V194","v":0},{"$f":"'Initial unit rates'!W194","v":0},{"$f":"'Initial unit rates'!X194","v":0},{"$f":"'Initial unit rates'!Y194","v":0}]
[null,null,null,null,null,"132kV","p/kWh",null,null,{"$f":"'Initial unit rates'!J195","v":0},{"$f":"'Initial unit rates'!K195","v":0},{"$f":"'Initial unit rates'!L195","v":0},{"$f":"'Initial unit rates'!M195","v":0},{"$f":"'Initial unit rates'!N195","v":0},{"$f":"'Initial unit rates'!O195","v":0},{"$f":"'Initial unit rates'!P195","v":0},{"$f":"'Initial unit rates'!Q195","v":0},{"$f":"'Initial unit rates'!R195","v":0},{"$f":"'Initial unit rates'!S195","v":0},{"$f":"'Initial unit rates'!T195","v":0},{"$f":"'Initial unit rates'!U195","v":0},{"$f":"'Initial unit rates'!V195","v":0},{"$f":"'Initial unit rates'!W195","v":0},{"$f":"'Initial unit rates'!X195","v":0},{"$f":"'Initial unit rates'!Y195","v":0}]
[null,null,null,null,null,"132kV/EHV","p/kWh",null,null,{"$f":"'Initial unit rates'!J196","v":0},{"$f":"'Initial unit rates'!K196","v":0},{"$f":"'Initial unit rates'!L196","v":0},{"$f":"'Initial unit rates'!M196","v":0},{"$f":"'Initial unit rates'!N196","v":0},{"$f":"'Initial unit rates'!O196","v":0},{"$f":"'Initial unit rates'!P196","v":0},{"$f":"'Initial unit rates'!Q196","v":0},{"$f":"'Initial unit rates'!R196","v":0},{"$f":"'Initial unit rates'!S196","v":0},{"$f":"'Initial unit rates'!T196","v":0},{"$f":"'Initial unit rates'!U196","v":0},{"$f":"'Initial unit rates'!V196","v":0},{"$f":"'Initial unit rates'!W196","v":0},{"$f":"'Initial unit rates'!X196","v":0},{"$f":"'Initial unit rates'!Y196","v":0}]
[null,null,null,null,null,"EHV","p/kWh",null,null,{"$f":"'Initial unit rates'!J197","v":0.13136503698546634},{"$f":"'Initial unit rates'!K197","v":0.13136503698546634},{"$f":"'Initial unit rates'!L197","v":0.14543860087215707},{"$f":"'Initial unit rates'!M197","v":0.14543860087215707},{"$f":"'Initial unit rates'!N197","v":0.12450536110298943},{"$f":"'Initial unit rates'!O197","v":9.8082534203110514E-2},{"$f":"'Initial unit rates'!P197","v":9.4191042251780946E-2},{"$f":"'Initial unit rates'!Q197","v":0.10308970021608588},{"$f":"'Initial unit rates'!R197","v":-9.4109672373106718E-2},{"$f":"'Initial unit rates'!S197","v":-8.7030626221147364E-2},{"$f":"'Initial unit rates'!T197","v":-9.4109672373106718E-2},{"$f":"'Initial unit rates'!U197","v":-9.4109672373106718E-2},{"$f":"'Initial unit rates'!V197","v":-8.7030626221147364E-2},{"$f":"'Initial unit rates'!W197","v":-8.7030626221147364E-2},{"$f":"'Initial unit rates'!X197","v":-8.5364968303039274E-2},{"$f":"'Initial unit rates'!Y197","v":-8.5364968303039274E-2}]
[null,null,null,null,null,"EHV/HV","p/kWh",null,null,{"$f":"'Initial unit rates'!J198","v":5.9959359447856589E-2},{"$f":"'Initial unit rates'!K198","v":5.9959359447856589E-2},{"$f":"'Initial unit rates'!L198","v":6.6383000739015541E-2},{"$f":"'Initial unit rates'!M198","v":6.6383000739015541E-2},{"$f":"'Initial unit rates'!N198","v":5.682837588197269E-2},{"$f":"'Initial unit rates'!O198","v":4.4768121402741563E-2},{"$f":"'Initial unit rates'!P198","v":4.2991915419379141E-2},{"$f":"'Initial unit rates'!Q198","v":4.2270671549408632E-2},{"$f":"'Initial unit rates'!R198","v":-4.2954775508215443E-2},{"$f":"'Initial unit rates'!S198","v":-3.9723664076181539E-2},{"$f":"'Initial unit rates'!T198","v":-4.2954775508215443E-2},{"$f":"'Initial unit rates'!U198","v":-4.2954775508215443E-2},{"$f":"'Initial unit rates'!V198","v":-3.9723664076181539E-2},{"$f":"'Initial unit rates'!W198","v":-3.9723664076181539E-2},{"$f":"'Initial unit rates'!X198","v":-3.8963402562761804E-2},{"$f":"'Initial unit rates'!Y198","v":-3.8963402562761804E-2}]
[null,null,null,null,null,"132kV/HV","p/kWh",null,null,{"$f":"'Initial unit rates'!J199","v":0},{"$f":"'Initial unit rates'!K199","v":0},{"$f":"'Initial unit rates'!L199","v":0},{"$f":"'Initial unit rates'!M199","v":0},{"$f":"'Initial unit rates'!N199","v":0},{"$f":"'Initial unit rates'!O199","v":0},{"$f":"'Initial unit rates'!P199","v":0},{"$f":"'Initial unit rates'!Q199","v":0},{"$f":"'Initial unit rates'!R199","v":0},{"$f":"'Initial unit rates'!S199","v":0},{"$f":"'Initial unit rates'!T199","v":0},{"$f":"'Initial unit rates'!U199","v":0},{"$f":"'Initial unit rates'!V199","v":0},{"$f":"'Initial unit rates'!W199","v":0},{"$f":"'Initial unit rates'!X199","v":0},{"$f":"'Initial unit rates'!Y199","v":0}]
[null,null,null,null,null,"HV","p/kWh",null,null,{"$f":"'Initial unit rates'!J200","v":0.25794684408065971},{"$f":"'Initial unit rates'!K200","v":0.25794684408065971},{"$f":"'Initial unit rates'!L200","v":0.28558152887080707},{"$f":"'Initial unit rates'!M200","v":0.28558152887080707},{"$f":"'Initial unit rates'!N200","v":0.24447726506705281},{"$f":"'Initial unit rates'!O200","v":0.19259371243449519},{"$f":"'Initial unit rates'!P200","v":0.18495242453441399},{"$f":"'Initial unit rates'!Q200","v":0.18184961320046031},{"$f":"'Initial unit rates'!R200","v":-0.18479264759612896},{"$f":"'Initial unit rates'!S200","v":-0.17089231569730509},{"$f":"'Initial unit rates'!T200","v":-0.18479264759612896},{"$f":"'Initial unit rates'!U200","v":-0.18479264759612896},{"$f":"'Initial unit rates'!V200","v":-0.17089231569730509},{"$f":"'Initial unit rates'!W200","v":-0.17089231569730509},{"$f":"'Initial unit rates'!X200","v":0},{"$f":"'Initial unit rates'!Y200","v":0}]
[null,null,null,null,null,"HV/LV","p/kWh",null,null,{"$f":"'Initial unit rates'!J201","v":6.4829345792101215E-2},{"$f":"'Initial unit rates'!K201","v":6.4829345792101215E-2},{"$f":"'Initial unit rates'!L201","v":7.1774724567722034E-2},{"$f":"'Initial unit rates'!M201","v":7.1774724567722034E-2},{"$f":"'Initial unit rates'!N201","v":6.1444059189121512E-2},{"$f":"'Initial unit rates'!O201","v":4.840425330769358E-2},{"$f":"'Initial unit rates'!P201","v":0},{"$f":"'Initial unit rates'!Q201","v":4.5703956946439819E-2},{"$f":"'Initial unit rates'!R201","v":-4.6443624823342348E-2},{"$f":"'Initial unit rates'!S201","v":0},{"$f":"'Initial unit rates'!T201","v":-4.6443624823342348E-2},{"$f":"'Initial unit rates'!U201","v":-4.6443624823342348E-2},{"$f":"'Initial unit rates'!V201","v":0},{"$f":"'Initial unit rates'!W201","v":0},{"$f":"'Initial unit rates'!X201","v":0},{"$f":"'Initial unit rates'!Y201","v":0}]
[null,null,null,null,null,"LV circuits","p/kWh",null,null,{"$f":"'Initial unit rates'!J202","v":0.10904500926342092},{"$f":"'Initial unit rates'!K202","v":0.10904500926342092},{"$f":"'Initial unit rates'!L202","v":0.12072735594873663},{"$f":"'Initial unit rates'!M202","v":0.12072735594873663},{"$f":"'Initial unit rates'!N202","v":0.10335085016817004},{"$f":"'Initial unit rates'!O202","v":0},{"$f":"'Initial unit rates'!P202","v":0},{"$f":"'Initial unit rates'!Q202","v":7.6875500557754259E-2},{"$f":"'Initial unit rates'!R202","v":0},{"$f":"'Initial unit rates'!S202","v":0},{"$f":"'Initial unit rates'!T202","v":0},{"$f":"'Initial unit rates'!U202","v":0},{"$f":"'Initial unit rates'!V202","v":0},{"$f":"'Initial unit rates'!W202","v":0},{"$f":"'Initial unit rates'!X202","v":0},{"$f":"'Initial unit rates'!Y202","v":0}]
[null,null,null,null,null,"LV customers","p/kWh",null,">",null,null,null,null,null,null,null,{"$f":"'Service model charges'!$Q$44","v":0.49438750416820348},null,null,null,null,null,null,null,null,null,"Paragraph 86"]
[null,null,null,null,null,"HV customers","p/kWh"]
[]
[null,null,{"$f":"INDEX('Version control'!$H$29:$H$55,MATCH($A$1,'Version control'!$F$29:$F$55,0),1)&\"-C: Initial unit rate 3\"","v":"Section 514-C: Initial unit rate 3"}]
[]
[null,null,null,null,"Asset costs"]
[null,null,null,null,null,"Transmission exit","p/kWh",null,null,{"$f":"'Initial unit rates'!J210","v":0},{"$f":"'Initial unit rates'!K210","v":0},{"$f":"'Initial unit rates'!L210","v":0},{"$f":"'Initial unit rates'!M210","v":0},{"$f":"'Initial unit rates'!N210","v":0},{"$f":"'Initial unit rates'!O210","v":0},{"$f":"'Initial unit rates'!P210","v":0},{"$f":"'Initial unit rates'!Q210","v":0},{"$f":"'Initial unit rates'!R210","v":0},{"$f":"'Initial unit rates'!S210","v":0},{"$f":"'Initial unit rates'!T210","v":0},{"$f":"'Initial unit rates'!U210","v":0},{"$f":"'Initial unit rates'!V210","v":0},{"$f":"'Initial unit rates'!W210","v":0},{"$f":"'Initial unit rates'!X210","v":0},{"$f":"'Initial unit rates'!Y210","v":0}]
[null,null,null,null,null,"GSPs","p/kWh",null,null,{"$f":"'Initial unit rates'!J211","v":0},{"$f":"'Initial unit rates'!K211","v":0},{"$f":"'Initial unit rates'!L211","v":0},{"$f":"'Initial unit rates'!M211","v":0},{"$f":"'Initial unit rates'!N211","v":0},{"$f":"'Initial unit rates'!O211","v":0},{"$f":"'Initial unit rates'!P211","v":0},{"$f":"'Initial unit rates'!Q211","v":0},{"$f":"'Initial unit rates'!R211","v":0},{"$f":"'Initial unit rates'!S211","v":0},{"$f":"'Initial unit rates'!T211","v":0},{"$f":"'Initial unit rates'!U211","v":0},{"$f":"'Initial unit rates'!V211","v":0},{"$f":"'Initial unit rates'!W211","v":0},{"$f":"'Initial unit rates'!X211","v":0},{"$f":"'Initial unit rates'!Y211","v":0}]
[null,null,null,null,null,"132kV","p/kWh",null,null,{"$f":"'Initial unit rates'!J212","v":0},{"$f":"'Initial unit rates'!K212","v":0},{"$f":"'Initial unit rates'!L212","v":0},{"$f":"'Initial unit rates'!M212","v":0},{"$f":"'Initial unit rates'!N212","v":0},{"$f":"'Initial unit rates'!O212","v":0},{"$f":"'Initial unit rates'!P212","v":0},{"$f":"'Initial unit rates'!Q212","v":0},{"$f":"'Initial unit rates'!R212","v":0},{"$f":"'Initial unit rates'!S212","v":0},{"$f":"'Initial unit rates'!T212","v":0},{"$f":"'Initial unit rates'!U212","v":0},{"$f":"'Initial unit rates'!V212","v":0},{"$f":"'Initial unit rates'!W212","v":0},{"$f":"'Initial unit rates'!X212","v":0},{"$f":"'Initial unit rates'!Y212","v":0}]
[null,null,null,null,null,"132kV/EHV","p/kWh",null,null,{"$f":"'Initial unit rates'!J213","v":0},{"$f":"'Initial unit rates'!K213","v":0},{"$f":"'Initial unit rates'!L213","v":0},{"$f":"'Initial unit rates'!M213","v":0},{"$f":"'Initial unit rates'!N213","v":0},{"$f":"'Initial unit rates'!O213","v":0},{"$f":"'Initial unit rates'!P213","v":0},{"$f":"'Initial unit rates'!Q213","v":0},{"$f":"'Initial unit rates'!R213","v":0},{"$f":"'Initial unit rates'!S213","v":0},{"$f":"'Initial unit rates'!T213","v":0},{"$f":"'Initial unit rates'!U213","v":0},{"$f":"'Initial unit rates'!V213","v":0},{"$f":"'Initial unit rates'!W213","v":0},{"$f":"'Initial unit rates'!X213","v":0},{"$f":"'Initial unit rates'!Y213","v":0}]
[null,null,null,null,null,"EHV","p/kWh",null,null,{"$f":"'Initial unit rates'!J214","v":5.9573454129021076E-3},{"$f":"'Initial unit rates'!K214","v":5.9573454129021076E-3},{"$f":"'Initial unit rates'!L214","v":6.5955752127600225E-3},{"$f":"'Initial unit rates'!M214","v":6.5955752127600225E-3},{"$f":"'Initial unit rates'!N214","v":5.6462621932704621E-3},{"$f":"'Initial unit rates'!O214","v":4.4479988635435803E-3},{"$f":"'Initial unit rates'!P214","v":4.2715214517634291E-3},{"$f":"'Initial unit rates'!Q214","v":4.7594733315047457E-3},{"$f":"'Initial unit rates'!R214","v":-4.2678313643201328E-3},{"$f":"'Initial unit rates'!S214","v":-3.9467998015172909E-3},{"$f":"'Initial unit rates'!T214","v":-4.2678313643201328E-3},{"$f":"'Initial unit rates'!U214","v":-4.2678313643201328E-3},{"$f":"'Initial unit rates'!V214","v":-3.9467998015172909E-3},{"$f":"'Initial unit rates'!W214","v":-3.9467998015172909E-3},{"$f":"'Initial unit rates'!X214","v":-3.8712629632107398E-3},{"$f":"'Initial unit rates'!Y214","v":-3.8712629632107398E-3}]
[null,null,null,null,null,"EHV/HV","p/kWh",null,null,{"$f":"'Initial unit rates'!J215","v":1.6051101406592363E-3},{"$f":"'Initial unit rates'!K215","v":1.6051101406592363E-3},{"$f":"'Initial unit rates'!L215","v":1.7770708132105039E-3},{"$f":"'Initial unit rates'!M215","v":1.7770708132105039E-3},{"$f":"'Initial unit rates'!N215","v":1.5212938104296227E-3},{"$f":"'Initial unit rates'!O215","v":1.1984411825529105E-3},{"$f":"'Initial unit rates'!P215","v":1.1508922050113138E-3},{"$f":"'Initial unit rates'!Q215","v":1.282362928301972E-3},{"$f":"'Initial unit rates'!R215","v":-1.1498979707736405E-3},{"$f":"'Initial unit rates'!S215","v":-1.063401220759694E-3},{"$f":"'Initial unit rates'!T215","v":-1.1498979707736405E-3},{"$f":"'Initial unit rates'!U215","v":-1.1498979707736405E-3},{"$f":"'Initial unit rates'!V215","v":-1.063401220759694E-3},{"$f":"'Initial unit rates'!W215","v":-1.063401220759694E-3},{"$f":"'Initial unit rates'!X215","v":-1.0430490442858242E-3},{"$f":"'Initial unit rates'!Y215","v":-1.0430490442858242E-3}]
[null,null,null,null,null,"132kV/HV","p/kWh",null,null,{"$f":"'Initial unit rates'!J216","v":0},{"$f":"'Initial unit rates'!K216","v":0},{"$f":"'Initial unit rates'!L216","v":0},{"$f":"'Initial unit rates'!M216","v":0},{"$f":"'Initial unit rates'!N216","v":0},{"$f":"'Initial unit rates'!O216","v":0},{"$f":"'Initial unit rates'!P216","v":0},{"$f":"'Initial unit rates'!Q216","v":0},{"$f":"'Initial unit rates'!R216","v":0},{"$f":"'Initial unit rates'!S216","v":0},{"$f":"'Initial unit rates'!T216","v":0},{"$f":"'Initial unit rates'!U216","v":0},{"$f":"'Initial unit rates'!V216","v":0},{"$f":"'Initial unit rates'!W216","v":0},{"$f":"'Initial unit rates'!X216","v":0},{"$f":"'Initial unit rates'!Y216","v":0}]
[null,null,null,null,null,"HV","p/kWh",null,null,{"$f":"'Initial unit rates'!J217","v":6.9052287915946763E-3},{"$f":"'Initial unit rates'!K217","v":6.9052287915946763E-3},{"$f":"'Initial unit rates'!L217","v":7.6450084223154118E-3},{"$f":"'Initial unit rates'!M217","v":7.6450084223154118E-3},{"$f":"'Initial unit rates'!N217","v":6.544648590867997E-3},{"$f":"'Initial unit rates'!O217","v":5.1557275411631791E-3},{"$f":"'Initial unit rates'!P217","v":4.951170507714828E-3},{"$f":"'Initial unit rates'!Q217","v":5.5167612424076931E-3},{"$f":"'Initial unit rates'!R217","v":-4.9468932841713054E-3},{"$f":"'Initial unit rates'!S217","v":-4.574781842441606E-3},{"$f":"'Initial unit rates'!T217","v":-4.9468932841713054E-3},{"$f":"'Initial unit rates'!U217","v":-4.9468932841713054E-3},{"$f":"'Initial unit rates'!V217","v":-4.574781842441606E-3},{"$f":"'Initial unit rates'!W217","v":-4.574781842441606E-3},{"$f":"'Initial unit rates'!X217","v":0},{"$f":"'Initial unit rates'!Y217","v":0}]
[null,null,null,null,null,"HV/LV","p/kWh",null,null,{"$f":"'Initial unit rates'!J218","v":1.7354795198187478E-3},{"$f":"'Initial unit rates'!K218","v":1.7354795198187478E-3},{"$f":"'Initial unit rates'!L218","v":1.9214070881938454E-3},{"$f":"'Initial unit rates'!M218","v":1.9214070881938454E-3},{"$f":"'Initial unit rates'!N218","v":1.644855505394344E-3},{"$f":"'Initial unit rates'!O218","v":1.2957803177130961E-3},{"$f":"'Initial unit rates'!P218","v":0},{"$f":"'Initial unit rates'!Q218","v":1.3865183096586919E-3},{"$f":"'Initial unit rates'!R218","v":-1.2432943557002048E-3},{"$f":"'Initial unit rates'!S218","v":0},{"$f":"'Initial unit rates'!T218","v":-1.2432943557002048E-3},{"$f":"'Initial unit rates'!U218","v":-1.2432943557002048E-3},{"$f":"'Initial unit rates'!V218","v":0},{"$f":"'Initial unit rates'!W218","v":0},{"$f":"'Initial unit rates'!X218","v":0},{"$f":"'Initial unit rates'!Y218","v":0}]
[null,null,null,null,null,"LV circuits","p/kWh",null,null,{"$f":"'Initial unit rates'!J219","v":2.9191314211622073E-3},{"$f":"'Initial unit rates'!K219","v":2.9191314211622073E-3},{"$f":"'Initial unit rates'!L219","v":3.2318674694451145E-3},{"$f":"'Initial unit rates'!M219","v":3.2318674694451145E-3},{"$f":"'Initial unit rates'!N219","v":2.7666989637363986E-3},{"$f":"'Initial unit rates'!O219","v":0},{"$f":"'Initial unit rates'!P219","v":0},{"$f":"'Initial unit rates'!Q219","v":2.3321676329341582E-3},{"$f":"'Initial unit rates'!R219","v":0},{"$f":"'Initial unit rates'!S219","v":0},{"$f":"'Initial unit rates'!T219","v":0},{"$f":"'Initial unit rates'!U219","v":0},{"$f":"'Initial unit rates'!V219","v":0},{"$f":"'Initial unit rates'!W219","v":0},{"$f":"'Initial unit rates'!X219","v":0},{"$f":"'Initial unit rates'!Y219","v":0}]
[null,null,null,null,null,"LV customers","p/kWh"]
[null,null,null,null,null,"HV customers","p/kWh"]
[]
[null,null,null,null,"Other operating costs"]
[null,null,null,null,null,"Transmission exit","p/kWh",null,null,{"$f":"'Initial unit rates'!J222","v":3.9799836858280899E-3},{"$f":"'Initial unit rates'!K222","v":3.9799836858280899E-3},{"$f":"'Initial unit rates'!L222","v":4.4063722893397349E-3},{"$f":"'Initial unit rates'!M222","v":4.4063722893397349E-3},{"$f":"'Initial unit rates'!N222","v":3.7721551895338518E-3},{"$f":"'Initial unit rates'!O222","v":2.9716193513213422E-3},{"$f":"'Initial unit rates'!P222","v":2.853718311324401E-3},{"$f":"'Initial unit rates'!Q222","v":3.1797092328233662E-3},{"$f":"'Initial unit rates'!R222","v":-2.8512530374808212E-3},{"$f":"'Initial unit rates'!S222","v":-2.6367782514756266E-3},{"$f":"'Initial unit rates'!T222","v":-2.8512530374808212E-3},{"$f":"'Initial unit rates'!U222","v":-2.8512530374808212E-3},{"$f":"'Initial unit rates'!V222","v":-2.6367782514756266E-3},{"$f":"'Initial unit rates'!W222","v":-2.6367782514756266E-3},{"$f":"'Initial unit rates'!X222","v":-2.5863135959449928E-3},{"$f":"'Initial unit rates'!Y222","v":-2.5863135959449928E-3}]
[null,null,null,null,null,"GSPs","p/kWh",null,null,{"$f":"'Initial unit rates'!J223","v":0},{"$f":"'Initial unit rates'!K223","v":0},{"$f":"'Initial unit rates'!L223","v":0},{"$f":"'Initial unit rates'!M223","v":0},{"$f":"'Initial unit rates'!N223","v":0},{"$f":"'Initial unit rates'!O223","v":0},{"$f":"'Initial unit rates'!P223","v":0},{"$f":"'Initial unit rates'!Q223","v":0},{"$f":"'Initial unit rates'!R223","v":0},{"$f":"'Initial unit rates'!S223","v":0},{"$f":"'Initial unit rates'!T223","v":0},{"$f":"'Initial unit rates'!U223","v":0},{"$f":"'Initial unit rates'!V223","v":0},{"$f":"'Initial unit rates'!W223","v":0},{"$f":"'Initial unit rates'!X223","v":0},{"$f":"'Initial unit rates'!Y223","v":0}]
[null,null,null,null,null,"132kV","p/kWh",null,null,{"$f":"'Initial unit rates'!J224","v":0},{"$f":"'Initial unit rates'!K224","v":0},{"$f":"'Initial unit rates'!L224","v":0},{"$f":"'Initial unit rates'!M224","v":0},{"$f":"'Initial unit rates'!N224","v":0},{"$f":"'Initial unit rates'!O224","v":0},{"$f":"'Initial unit rates'!P224","v":0},{"$f":"'Initial unit rates'!Q224","v":0},{"$f":"'Initial unit rates'!R224","v":0},{"$f":"'Initial unit rates'!S224","v":0},{"$f":"'Initial unit rates'!T224","v":0},{"$f":"'Initial unit rates'!U224","v":0},{"$f":"'Initial unit rates'!V224","v":0},{"$f":"'Initial unit rates'!W224","v":0},{"$f":"'Initial unit rates'!X224","v":0},{"$f":"'Initial unit rates'!Y224","v":0}]
[null,null,null,null,null,"132kV/EHV","p/kWh",null,null,{"$f":"'Initial unit rates'!J225","v":0},{"$f":"'Initial unit rates'!K225","v":0},{"$f":"'Initial unit rates'!L225","v":0},{"$f":"'Initial unit rates'!M225","v":0},{"$f":"'Initial unit rates'!N225","v":0},{"$f":"'Initial unit rates'!O225","v":0},{"$f":"'Initial unit rates'!P225","v":0},{"$f":"'Initial unit rates'!Q225","v":0},{"$f":"'Initial unit rates'!R225","v":0},{"$f":"'Initial unit rates'!S225","v":0},{"$f":"'Initial unit rates'!T225","v":0},{"$f":"'Initial unit rates'!U225","v":0},{"$f":"'Initial unit rates'!V225","v":0},{"$f":"'Initial unit rates'!W225","v":0},{"$f":"'Initial unit rates'!X225","v":0},{"$f":"'Initial unit rates'!Y225","v":0}]
[null,null,null,null,null,"EHV","p/kWh",null,null,{"$f":"'Initial unit rates'!J226","v":4.2693724873725603E-3},{"$f":"'Initial unit rates'!K226","v":4.2693724873725603E-3},{"$f":"'Initial unit rates'!L226","v":4.7267642548925971E-3},{"$f":"'Initial unit rates'!M226","v":4.7267642548925971E-3},{"$f":"'Initial unit rates'!N226","v":4.0464325624351505E-3},{"$f":"'Initial unit rates'!O226","v":3.1876889211005744E-3},{"$f":"'Initial unit rates'!P226","v":3.0612151724297124E-3},{"$f":"'Initial unit rates'!Q226","v":3.410909236839258E-3},{"$f":"'Initial unit rates'!R226","v":-3.0585706459309988E-3},{"$f":"'Initial unit rates'!S226","v":-2.8285011725645076E-3},{"$f":"'Initial unit rates'!T226","v":-3.0585706459309988E-3},{"$f":"'Initial unit rates'!U226","v":-3.0585706459309988E-3},{"$f":"'Initial unit rates'!V226","v":-2.8285011725645076E-3},{"$f":"'Initial unit rates'!W226","v":-2.8285011725645076E-3},{"$f":"'Initial unit rates'!X226","v":-2.7743671788312157E-3},{"$f":"'Initial unit rates'!Y226","v":-2.7743671788312157E-3}]
[null,null,null,null,null,"EHV/HV","p/kWh",null,null,{"$f":"'Initial unit rates'!J227","v":1.150313201395336E-3},{"$f":"'Initial unit rates'!K227","v":1.150313201395336E-3},{"$f":"'Initial unit rates'!L227","v":1.2735499978903735E-3},{"$f":"'Initial unit rates'!M227","v":1.2735499978903735E-3},{"$f":"'Initial unit rates'!N227","v":1.0902456529366133E-3},{"$f":"'Initial unit rates'!O227","v":8.588711007833092E-4},{"$f":"'Initial unit rates'!P227","v":8.2479479960407415E-4},{"$f":"'Initial unit rates'!Q227","v":9.1901419599772229E-4},{"$f":"'Initial unit rates'!R227","v":-8.2408227481222058E-4},{"$f":"'Initial unit rates'!S227","v":-7.620937851139562E-4},{"$f":"'Initial unit rates'!T227","v":-8.2408227481222058E-4},{"$f":"'Initial unit rates'!U227","v":-8.2408227481222058E-4},{"$f":"'Initial unit rates'!V227","v":-7.620937851139562E-4},{"$f":"'Initial unit rates'!W227","v":-7.620937851139562E-4},{"$f":"'Initial unit rates'!X227","v":-7.4750825812612944E-4},{"$f":"'Initial unit rates'!Y227","v":-7.4750825812612944E-4}]
[null,null,null,null,null,"132kV/HV","p/kWh",null,null,{"$f":"'Initial unit rates'!J228","v":0},{"$f":"'Initial unit rates'!K228","v":0},{"$f":"'Initial unit rates'!L228","v":0},{"$f":"'Initial unit rates'!M228","v":0},{"$f":"'Initial unit rates'!N228","v":0},{"$f":"'Initial unit rates'!O228","v":0},{"$f":"'Initial unit rates'!P228","v":0},{"$f":"'Initial unit rates'!Q228","v":0},{"$f":"'Initial unit rates'!R228","v":0},{"$f":"'Initial unit rates'!S228","v":0},{"$f":"'Initial unit rates'!T228","v":0},{"$f":"'Initial unit rates'!U228","v":0},{"$f":"'Initial unit rates'!V228","v":0},{"$f":"'Initial unit rates'!W228","v":0},{"$f":"'Initial unit rates'!X228","v":0},{"$f":"'Initial unit rates'!Y228","v":0}]
[null,null,null,null,null,"HV","p/kWh",null,null,{"$f":"'Initial unit rates'!J229","v":4.9486796179383508E-3},{"$f":"'Initial unit rates'!K229","v":4.9486796179383508E-3},{"$f":"'Initial unit rates'!L229","v":5.4788477688864981E-3},{"$f":"'Initial unit rates'!M229","v":5.4788477688864981E-3},{"$f":"'Initial unit rates'!N229","v":4.6902673417020769E-3},{"$f":"'Initial unit rates'!O229","v":3.6948875364787854E-3},{"$f":"'Initial unit rates'!P229","v":3.5482903341726157E-3},{"$f":"'Initial unit rates'!Q229","v":3.9536248169744501E-3},{"$f":"'Initial unit rates'!R229","v":-3.5452250325569827E-3},{"$f":"'Initial unit rates'!S229","v":-3.2785488132938468E-3},{"$f":"'Initial unit rates'!T229","v":-3.5452250325569827E-3},{"$f":"'Initial unit rates'!U229","v":-3.5452250325569827E-3},{"$f":"'Initial unit rates'!V229","v":-3.2785488132938468E-3},{"$f":"'Initial unit rates'!W229","v":-3.2785488132938468E-3},{"$f":"'Initial unit rates'!X229","v":0},{"$f":"'Initial unit rates'!Y229","v":0}]
[null,null,null,null,null,"HV/LV","p/kWh",null,null,{"$f":"'Initial unit rates'!J230","v":1.243743311956663E-3},{"$f":"'Initial unit rates'!K230","v":1.243743311956663E-3},{"$f":"'Initial unit rates'!L230","v":1.3769895802266821E-3},{"$f":"'Initial unit rates'!M230","v":1.3769895802266821E-3},{"$f":"'Initial unit rates'!N230","v":1.1787969898849463E-3},{"$f":"'Initial unit rates'!O230","v":9.2862986022967269E-4},{"$f":"'Initial unit rates'!P230","v":0},{"$f":"'Initial unit rates'!Q230","v":9.9365786507440794E-4},{"$f":"'Initial unit rates'!R230","v":-8.9101543523665238E-4},{"$f":"'Initial unit rates'!S230","v":0},{"$f":"'Initial unit rates'!T230","v":-8.9101543523665238E-4},{"$f":"'Initial unit rates'!U230","v":-8.9101543523665238E-4},{"$f":"'Initial unit rates'!V230","v":0},{"$f":"'Initial unit rates'!W230","v":0},{"$f":"'Initial unit rates'!X230","v":0},{"$f":"'Initial unit rates'!Y230","v":0}]
[null,null,null,null,null,"LV circuits","p/kWh",null,null,{"$f":"'Initial unit rates'!J231","v":2.0920155728327049E-3},{"$f":"'Initial unit rates'!K231","v":2.0920155728327049E-3},{"$f":"'Initial unit rates'!L231","v":2.3161400087697219E-3},{"$f":"'Initial unit rates'!M231","v":2.3161400087697219E-3},{"$f":"'Initial unit rates'!N231","v":1.9827738057686547E-3},{"$f":"'Initial unit rates'!O231","v":0},{"$f":"'Initial unit rates'!P231","v":0},{"$f":"'Initial unit rates'!Q231","v":1.6713639444887259E-3},{"$f":"'Initial unit rates'!R231","v":0},{"$f":"'Initial unit rates'!S231","v":0},{"$f":"'Initial unit rates'!T231","v":0},{"$f":"'Initial unit rates'!U231","v":0},{"$f":"'Initial unit rates'!V231","v":0},{"$f":"'Initial unit rates'!W231","v":0},{"$f":"'Initial unit rates'!X231","v":0},{"$f":"'Initial unit rates'!Y231","v":0}]
[null,null,null,null,null,"LV customers","p/kWh",null,">",null,null,null,null,null,null,null,{"$f":"'Service model charges'!$Q$44","v":0.49438750416820348},null,null,null,null,null,null,null,null,null,"Paragraph 86"]
[null,null,null,null,null,"HV customers","p/kWh"]
[]
[null,null,{"$f":"INDEX('Version control'!$H$29:$H$55,MATCH($A$1,'Version control'!$F$29:$F$55,0),1)&\"-D: Standing charge factors\"","v":"Section 514-D: Standing charge factors"}]
[]
[null,null,null,null,"Standing charge factors",null,null,null,">",null,null,null,null,null,null,null,null,null,null,null,null,null,null,null,null,null,"Paragraph 74"]
[null,null,null,null,null,"GSPs","%",null,null,{"$f":"'Standing charge factors'!J44","v":0},{"$f":"'Standing charge factors'!K44","v":0},{"$f":"'Standing charge factors'!L44","v":0},{"$f":"'Standing charge factors'!M44","v":0},{"$f":"'Standing charge factors'!N44","v":0},{"$f":"'Standing charge factors'!O44","v":0},{"$f":"'Standing charge factors'!P44","v":0},{"$f":"'Standing charge factors'!Q44","v":0},{"$f":"'Standing charge factors'!R44","v":0},{"$f":"'Standing charge factors'!S44","v":0},{"$f":"'Standing charge factors'!T44","v":0},{"$f":"'Standing charge factors'!U44","v":0},{"$f":"'Standing charge factors'!V44","v":0},{"$f":"'Standing charge factors'!W44","v":0},{"$f":"'Standing charge factors'!X44","v":0},{"$f":"'Standing charge factors'!Y44","v":0}]
[null,null,null,null,null,"132kV","%",null,null,{"$f":"'Standing charge factors'!J45","v":0},{"$f":"'Standing charge factors'!K45","v":0},{"$f":"'Standing charge factors'!L45","v":0},{"$f":"'Standing charge factors'!M45","v":0},{"$f":"'Standing charge factors'!N45","v":0},{"$f":"'Standing charge factors'!O45","v":0},{"$f":"'Standing charge factors'!P45","v":0},{"$f":"'Standing charge factors'!Q45","v":0},{"$f":"'Standing charge factors'!R45","v":0},{"$f":"'Standing charge factors'!S45","v":0},{"$f":"'Standing charge factors'!T45","v":0},{"$f":"'Standing charge factors'!U45","v":0},{"$f":"'Standing charge factors'!V45","v":0},{"$f":"'Standing charge factors'!W45","v":0},{"$f":"'Standing charge factors'!X45","v":0},{"$f":"'Standing charge factors'!Y45","v":0}]
[null,null,null,null,null,"132kV/EHV","%",null,null,{"$f":"'Standing charge factors'!J46","v":0},{"$f":"'Standing charge factors'!K46","v":0},{"$f":"'Standing charge factors'!L46","v":0},{"$f":"'Standing charge factors'!M46","v":0},{"$f":"'Standing charge factors'!N46","v":0},{"$f":"'Standing charge factors'!O46","v":0},{"$f":"'Standing charge factors'!P46","v":0},{"$f":"'Standing charge factors'!Q46","v":0},{"$f":"'Standing charge factors'!R46","v":0},{"$f":"'Standing charge factors'!S46","v":0},{"$f":"'Standing charge factors'!T46","v":0},{"$f":"'Standing charge factors'!U46","v":0},{"$f":"'Standing charge factors'!V46","v":0},{"$f":"'Standing charge factors'!W46","v":0},{"$f":"'Standing charge factors'!X46","v":0},{"$f":"'Standing charge factors'!Y46","v":0}]
[null,null,null,null,null,"EHV","%",null,null,{"$f":"'Standing charge factors'!J47","v":0},{"$f":"'Standing charge factors'!K47","v":0},{"$f":"'Standing charge factors'!L47","v":0},{"$f":"'Standing charge factors'!M47","v":0},{"$f":"'Standing charge factors'!N47","v":0},{"$f":"'Standing charge factors'!O47","v":0},{"$f":"'Standing charge factors'!P47","v":0.2},{"$f":"'Standing charge factors'!Q47","v":0},{"$f":"'Standing charge factors'!R47","v":0},{"$f":"'Standing charge factors'!S47","v":0},{"$f":"'Standing charge factors'!T47","v":0},{"$f":"'Standing charge factors'!U47","v":0},{"$f":"'Standing charge factors'!V47","v":0},{"$f":"'Standing charge factors'!W47","v":0},{"$f":"'Standing charge factors'!X47","v":0},{"$f":"'Standing charge factors'!Y47","v":0}]
[null,null,null,null,null,"EHV/HV","%",null,null,{"$f":"'Standing charge factors'!J48","v":0},{"$f":"'Standing charge factors'!K48","v":0},{"$f":"'Standing charge factors'!L48","v":0},{"$f":"'Standing charge factors'!M48","v":0},{"$f":"'Standing charge factors'!N48","v":0},{"$f":"'Standing charge factors'!O48","v":0},{"$f":"'Standing charge factors'!P48","v":1},{"$f":"'Standing charge factors'!Q48","v":0},{"$f":"'Standing charge factors'!R48","v":0},{"$f":"'Standing charge factors'!S48","v":0},{"$f":"'Standing charge factors'!T48","v":0},{"$f":"'Standing charge factors'!U48","v":0},{"$f":"'Standing charge factors'!V48","v":0},{"$f":"'Standing charge factors'!W48","v":0},{"$f":"'Standing charge factors'!X48","v":0},{"$f":"'Standing charge factors'!Y48","v":0}]
[null,null,null,null,null,"132kV/HV","%",null,null,{"$f":"'Standing charge factors'!J49","v":0},{"$f":"'Standing charge factors'!K49","v":0},{"$f":"'Standing charge factors'!L49","v":0},{"$f":"'Standing charge factors'!M49","v":0},{"$f":"'Standing charge factors'!N49","v":0},{"$f":"'Standing charge factors'!O49","v":0},{"$f":"'Standing charge factors'!P49","v":1},{"$f":"'Standing charge factors'!Q49","v":0},{"$f":"'Standing charge factors'!R49","v":0},{"$f":"'Standing charge factors'!S49","v":0},{"$f":"'Standing charge factors'!T49","v":0},{"$f":"'Standing charge factors'!U49","v":0},{"$f":"'Standing charge factors'!V49","v":0},{"$f":"'Standing charge factors'!W49","v":0},{"$f":"'Standing charge factors'!X49","v":0},{"$f":"'Standing charge factors'!Y49","v":0}]
[null,null,null,null,null,"HV","%",null,null,{"$f":"'Standing charge factors'!J50","v":0},{"$f":"'Standing charge factors'!K50","v":0},{"$f":"'Standing charge factors'!L50","v":0},{"$f":"'Standing charge factors'!M50","v":0},{"$f":"'Standing charge factors'!N50","v":0.2},{"$f":"'Standing charge factors'!O50","v":1},{"$f":"'Standing charge factors'!P50","v":1},{"$f":"'Standing charge factors'!Q50","v":0},{"$f":"'Standing charge factors'!R50","v":0},{"$f":"'Standing charge factors'!S50","v":0},{"$f":"'Standing charge factors'!T50","v":0},{"$f":"'Standing charge factors'!U50","v":0},{"$f":"'Standing charge factors'!V50","v":0},{"$f":"'Standing charge factors'!W50","v":0},{"$f":"'Standing charge factors'!X50","v":0},{"$f":"'Standing charge factors'!Y50","v":0}]
[null,null,null,null,null,"HV/LV","%",null,null,{"$f":"'Standing charge factors'!J51","v":0},{"$f":"'Standing charge factors'!K51","v":0},{"$f":"'Standing charge factors'!L51","v":0},{"$f":"'Standing charge factors'!M51","v":0},{"$f":"'Standing charge factors'!N51","v":1},{"$f":"'Standing charge factors'!O51","v":1},{"$f":"'Standing charge factors'!P51","v":0},{"$f":"'Standing charge factors'!Q51","v":0},{"$f":"'Standing charge factors'!R51","v":0},{"$f":"'Standing charge factors'!S51","v":0},{"$f":"'Standing charge factors'!T51","v":0},{"$f":"'Standing charge factors'!U51","v":0},{"$f":"'Standing charge factors'!V51","v":0},{"$f":"'Standing charge factors'!W51","v":0},{"$f":"'Standing charge factors'!X51","v":0},{"$f":"'Standing charge factors'!Y51","v":0}]
[null,null,null,null,null,"LV circuits","%",null,null,{"$f":"'Standing charge factors'!J52","v":1},{"$f":"'Standing charge factors'!K52","v":1},{"$f":"'Standing charge factors'!L52","v":1},{"$f":"'Standing charge factors'!M52","v":1},{"$f":"'Standing charge factors'!N52","v":1},{"$f":"'Standing charge factors'!O52","v":0},{"$f":"'Standing charge factors'!P52","v":0},{"$f":"'Standing charge factors'!Q52","v":0},{"$f":"'Standing charge factors'!R52","v":0},{"$f":"'Standing charge factors'!S52","v":0},{"$f":"'Standing charge factors'!T52","v":0},{"$f":"'Standing charge factors'!U52","v":0},{"$f":"'Standing charge factors'!V52","v":0},{"$f":"'Standing charge factors'!W52","v":0},{"$f":"'Standing charge factors'!X52","v":0},{"$f":"'Standing charge factors'!Y52","v":0}]
[]
[null,"Application of standing charges to unit rates"]
[]
[null,null,{"$f":"INDEX('Version control'!$H$29:$H$55,MATCH($A$1,'Version control'!$F$29:$F$55,0),1)&\"-E: Contributions to unit rate 1 p/kWh by network level (taking account of standing charges)\"","v":"Section 514-E: Contributions to unit rate 1 p/kWh by network level (taking account of standing charges)"}]
[null,null,null,null,null,null,null,null,">",null,null,null,null,null,null,null,null,null,null,null,null,null,null,null,null,null,"Paragraph 77"]
[null,null,null,null,"Asset costs"]
[null,null,null,null,null,"Transmission exit","p/kWh",null,null,{"$f":"J22 * (1 - J$112)","v":0},0,0,0,0,0,0,0,0,0,0,0,0,0,0,0]
[null,null,null,null,null,"GSPs","p/kWh",null,null,0,0,0,0,0,0,0,0,0,0,0,0,0,0,0,0]
[null,null,null,null,null,"132kV","p/kWh",null,null,{"$f":"J24 * (1 - J$113)","v":0},0,0,0,0,0,0,0,0,0,0,0,0,0,0,0]
[null,null,null,null,null,"132kV/EHV","p/kWh",null,null,{"$f":"J25 * (1 - J$114)","v":0},0,0,0,0,0,0,0,0,0,0,0,0,0,0,0]
[null,null,null,null,null,"EHV","p/kWh",null,null,{"$f":"J26 * (1 - J$115)","v":2.7879355741745728},2.7879355741745728,3.0866161844458175,3.0866161844458175,2.6423539577953186,2.0815872517152276,1.5991990775528688,6.4524269251121948,-1.9972719492472406,-1.8470346787286431,-1.9972719492472406,-1.9972719492472406,-1.8470346787286431,-1.8470346787286431,-1.8116847327242669,-1.8116847327242669]
[null,null,null,null,null,"EHV/HV","p/kWh",null,null,{"$f":"J27 * (1 - J$116)","v":0.5538520601208361},0.5538520601208361,0.61318803360933916,0.61318803360933916,0.52493077553511036,0.41352870502579175,0,1.3171549201124768,-0.39677860347962096,-0.36693242534177334,-0.39677860347962096,-0.39677860347962096,-0.36693242534177334,-0.36693242534177334,-0.35990979519169153,-0.35990979519169153]
[null,null,null,null,null,"132kV/HV","p/kWh",null,null,{"$f":"J28 * (1 - J$117)","v":0},0,0,0,0,0,0,0,0,0,0,0,0,0,0,0]
[null,null,null,null,null,"HV","p/kWh",null,null,{"$f":"J29 * (1 - J$118)","v":2.3826870785699907},2.3826870785699907,2.637952098789619,2.637952098789619,1.8066135216517587,0,0,5.6664373658593545,-1.70695266775333,-1.5785535732763099,-1.70695266775333,-1.70695266775333,-1.5785535732763099,-1.5785535732763099,0,0]
[null,null,null,null,null,"HV/LV","p/kWh",null,null,{"$f":"J30 * (1 - J$119)","v":0.59883672964296253},0.59883672964296253,0.66299205716180309,0.66299205716180309,0,0,0,1.4241361576252083,-0.42900553849740797,0,-0.42900553849740797,-0.42900553849740797,0,0,0,0]
[null,null,null,null,null,"LV circuits","p/kWh",null,null,{"$f":"J31 * (1 - J$120)","v":0},0,0,0,0,0,0,2.3954420425376952,0,0,0,0,0,0,0,0]
[null,null,null,null,null,"LV customers","p/kWh"]
[null,null,null,null,null,"HV customers","p/kWh"]
[]
[null,null,null,null,"Other operating costs"]
[null,null,null,null,null,"Transmission exit","p/kWh",null,null,{"$f":"J36 * (1 - J$112)","v":1.8625641679805183},1.8625641679805183,2.0621067282588283,2.0621067282588283,1.765303992854353,1.3906669377457623,1.3354912712605242,4.3107377726204765,-1.3343375653441751,-1.2339670405174012,-1.3343375653441751,-1.3343375653441751,-1.2339670405174012,-1.2339670405174012,-1.210350446440513,-1.210350446440513]
[null,null,null,null,null,"GSPs","p/kWh",null,null,0,0,0,0,0,0,0,0,0,0,0,0,0,0,0,0]
[null,null,null,null,null,"132kV","p/kWh",null,null,{"$f":"J38 * (1 - J$113)","v":0},0,0,0,0,0,0,0,0,0,0,0,0,0,0,0]
[null,null,null,null,null,"132kV/EHV","p/kWh",null,null,{"$f":"J39 * (1 - J$114)","v":0},0,0,0,0,0,0,0,0,0,0,0,0,0,0,0]
[null,null,null,null,null,"EHV","p/kWh",null,null,{"$f":"J40 * (1 - J$115)","v":1.9979931684286465},1.9979931684286465,2.2120446782239287,2.2120446782239287,1.8936611036316797,1.4917837940521794,1.1460769974406702,4.6241760518358248,-1.4313586537133789,-1.3236900824163549,-1.4313586537133789,-1.4313586537133789,-1.3236900824163549,-1.3236900824163549,-1.2983563009347023,-1.2983563009347023]
[null,null,null,null,null,"EHV/HV","p/kWh",null,null,{"$f":"J41 * (1 - J$116)","v":0.39692188108370907},0.39692188108370907,0.43944541382610131,0.43944541382610131,0.37619524394053588,0.29635818533407055,0,0.94394811577597804,-0.28435411007144767,-0.26296464161474586,-0.28435411007144767,-0.28435411007144767,-0.26296464161474586,-0.26296464161474586,-0.25793182550728666,-0.25793182550728666]
[null,null,null,null,null,"132kV/HV","p/kWh",null,null,{"$f":"J42 * (1 - J$117)","v":0},0,0,0,0,0,0,0,0,0,0,0,0,0,0,0]
[null,null,null,null,null,"HV","p/kWh",null,null,{"$f":"J43 * (1 - J$118)","v":1.7075690520199789},1.7075690520199789,1.8905064811564534,1.8905064811564534,1.2947219827056913,0,0,4.0608912383736753,-1.2232993475869509,-1.1312812550693485,-1.2232993475869509,-1.2232993475869509,-1.1312812550693485,-1.1312812550693485,0,0]
[null,null,null,null,null,"HV/LV","p/kWh",null,null,{"$f":"J44 * (1 - J$119)","v":0.42916045331679936},0.42916045331679936,0.47513780920993059,0.47513780920993059,0,0,0,1.0206169540663907,-0.30744976429007004,0,-0.30744976429007004,-0.30744976429007004,0,0,0,0]
[null,null,null,null,null,"LV circuits","p/kWh",null,null,{"$f":"J45 * (1 - J$120)","v":0},0,0,0,0,0,0,1.7167099845103473,0,0,0,0,0,0,0,0]
[null,null,null,null,null,"LV customers","p/kWh",null,">",null,null,null,null,null,null,null,{"$f":"Q46","v":0.49438750416820348},null,null,null,null,null,null,null,null,null,"Paragraph 86"]
[null,null,null,null,null,"HV customers","p/kWh"]
[]
[null,null,{"$f":"INDEX('Version control'!$H$29:$H$55,MATCH($A$1,'Version control'!$F$29:$F$55,0),1)&\"-F: Contributions to unit rate 2 p/kWh by network level (taking account of standing charges)\"","v":"Section 514-F: Contributions to unit rate 2 p/kWh by network level (taking account of standing charges)"}]
[null,null,null,null,null,null,null,null,">",null,null,null,null,null,null,null,null,null,null,null,null,null,null,null,null,null,"Paragraph 77"]
[null,null,null,null,"Asset costs"]
[null,null,null,null,null,"Transmission exit","p/kWh",null,null,{"$f":"J52 * (1 - J$112)","v":0},0,0,0,0,0,0,0,0,0,0,0,0,0,0,0]
[null,null,null,null,null,"GSPs","p/kWh",null,null,0,0,0,0,0,0,0,0,0,0,0,0,0,0,0,0]
[null,null,null,null,null,"132kV","p/kWh",null,null,{"$f":"J54 * (1 - J$113)","v":0},0,0,0,0,0,0,0,0,0,0,0,0,0,0,0]
[null,null,null,null,null,"132kV/EHV","p/kWh",null,null,{"$f":"J55 * (1 - J$114)","v":0},0,0,0,0,0,0,0,0,0,0,0,0,0,0,0]
[null,null,null,null,null,"EHV","p/kWh",null,null,{"$f":"J56 * (1 - J$115)","v":0.18330255858811231},0.18330255858811231,0.20294035817377434,0.20294035817377434,0.17373078691128252,0.13686122186548993,0.10514492706452855,0.14384806069655093,-0.1313176179121997,-0.12143974399845017,-0.1313176179121997,-0.1313176179121997,-0.12143974399845017,-0.12143974399845017,-0.11911553837168556,-0.11911553837168556]
[null,null,null,null,null,"EHV/HV","p/kWh",null,null,{"$f":"J57 * (1 - J$116)","v":8.3665366754415688E-2},8.3665366754415688E-2,9.262870974994919E-2,9.262870974994919E-2,7.929649272450659E-2,6.2468000501637679E-2,0,5.8983139091275651E-2,-5.9937715810219665E-2,-5.5429126567857992E-2,-5.9937715810219665E-2,-5.9937715810219665E-2,-5.5429126567857992E-2,-5.5429126567857992E-2,-5.4368282040243479E-2,-5.4368282040243479E-2]
[null,null,null,null,null,"132kV/HV","p/kWh",null,null,{"$f":"J58 * (1 - J$117)","v":0},0,0,0,0,0,0,0,0,0,0,0,0,0,0,0]
[null,null,null,null,null,"HV","p/kWh",null,null,{"$f":"J59 * (1 - J$118)","v":0.35993075162719973},0.35993075162719973,0.39849130429823076,0.39849130429823076,0.27290858652670485,0,0,0.25374711675824985,-0.25785373254520816,-0.23845765531835625,-0.25785373254520816,-0.25785373254520816,-0.23845765531835625,-0.23845765531835625,0,0]
[null,null,null,null,null,"HV/LV","p/kWh",null,null,{"$f":"J60 * (1 - J$119)","v":9.0460789476277143E-2},9.0460789476277143E-2,0.10015214822096137,0.10015214822096137,0,0,0,6.3773835398913778E-2,-6.480594422674954E-2,0,-6.480594422674954E-2,-6.480594422674954E-2,0,0,0,0]
[null,null,null,null,null,"LV circuits","p/kWh",null,null,{"$f":"J61 * (1 - J$120)","v":0},0,0,0,0,0,0,0.10726960741111985,0,0,0,0,0,0,0,0]
[null,null,null,null,null,"LV customers","p/kWh"]
[null,null,null,null,null,"HV customers","p/kWh"]
[]
[null,null,null,null,"Other operating costs"]
[null,null,null,null,null,"Transmission exit","p/kWh",null,null,{"$f":"J66 * (1 - J$112)","v":0.12246078449156776},0.12246078449156776,0.13558040683329498,0.13558040683329498,0.11606607468747471,9.1434253428960832E-2,8.7806536586349473E-2,9.6102021140215071E-2,-8.7730682162637533E-2,-8.1131471557483389E-2,-8.7730682162637533E-2,-8.7730682162637533E-2,-8.1131471557483389E-2,-8.1131471557483389E-2,-7.9578716120976514E-2,-7.9578716120976514E-2]
[null,null,null,null,null,"GSPs","p/kWh",null,null,0,0,0,0,0,0,0,0,0,0,0,0,0,0,0,0]
[null,null,null,null,null,"132kV","p/kWh",null,null,{"$f":"J68 * (1 - J$113)","v":0},0,0,0,0,0,0,0,0,0,0,0,0,0,0,0]
[null,null,null,null,null,"132kV/EHV","p/kWh",null,null,{"$f":"J69 * (1 - J$114)","v":0},0,0,0,0,0,0,0,0,0,0,0,0,0,0,0]
[null,null,null,null,null,"EHV","p/kWh",null,null,{"$f":"J70 * (1 - J$115)","v":0.13136503698546634},0.13136503698546634,0.14543860087215707,0.14543860087215707,0.12450536110298943,9.8082534203110514E-2,7.5352833801424768E-2,0.10308970021608588,-9.4109672373106718E-2,-8.7030626221147364E-2,-9.4109672373106718E-2,-9.4109672373106718E-2,-8.7030626221147364E-2,-8.7030626221147364E-2,-8.5364968303039274E-2,-8.5364968303039274E-2]
[null,null,null,null,null,"EHV/HV","p/kWh",null,null,{"$f":"J71 * (1 - J$116)","v":5.9959359447856589E-2},5.9959359447856589E-2,6.6383000739015541E-2,6.6383000739015541E-2,5.682837588197269E-2,4.4768121402741563E-2,0,4.2270671549408632E-2,-4.2954775508215443E-2,-3.9723664076181539E-2,-4.2954775508215443E-2,-4.2954775508215443E-2,-3.9723664076181539E-2,-3.9723664076181539E-2,-3.8963402562761804E-2,-3.8963402562761804E-2]
[null,null,null,null,null,"132kV/HV","p/kWh",null,null,{"$f":"J72 * (1 - J$117)","v":0},0,0,0,0,0,0,0,0,0,0,0,0,0,0,0]
[null,null,null,null,null,"HV","p/kWh",null,null,{"$f":"J73 * (1 - J$118)","v":0.25794684408065971},0.25794684408065971,0.28558152887080707,0.28558152887080707,0.19558181205364225,0,0,0.18184961320046031,-0.18479264759612896,-0.17089231569730509,-0.18479264759612896,-0.18479264759612896,-0.17089231569730509,-0.17089231569730509,0,0]
[null,null,null,null,null,"HV/LV","p/kWh",null,null,{"$f":"J74 * (1 - J$119)","v":6.4829345792101215E-2},6.4829345792101215E-2,7.1774724567722034E-2,7.1774724567722034E-2,0,0,0,4.5703956946439819E-2,-4.6443624823342348E-2,0,-4.6443624823342348E-2,-4.6443624823342348E-2,0,0,0,0]
[null,null,null,null,null,"LV circuits","p/kWh",null,null,{"$f":"J75 * (1 - J$120)","v":0},0,0,0,0,0,0,7.6875500557754259E-2,0,0,0,0,0,0,0,0]
[null,null,null,null,null,"LV customers","p/kWh",null,">",null,null,null,null,null,null,null,{"$f":"Q76","v":0.49438750416820348},null,null,null,null,null,null,null,null,null,"Paragraph 86"]
[null,null,null,null,null,"HV customers","p/kWh"]
[]
[null,null,{"$f":"INDEX('Version control'!$H$29:$H$55,MATCH($A$1,'Version control'!$F$29:$F$55,0),1)&\"-G: Contributions to unit rate 3 p/kWh by network level (taking account of standing charges)\"","v":"Section 514-G: Contributions to unit rate 3 p/kWh by network level (taking account of standing charges)"}]
[null,null,null,null,null,null,null,null,">",null,null,null,null,null,null,null,null,null,null,null,null,null,null,null,null,null,"Paragraph 77"]
[null,null,null,null,"Asset costs"]
[null,null,null,null,null,"Transmission exit","p/kWh",null,null,{"$f":"J82 * (1 - J$112)","v":0},0,0,0,0,0,0,0,0,0,0,0,0,0,0,0]
[null,null,null,null,null,"GSPs","p/kWh",null,null,0,0,0,0,0,0,0,0,0,0,0,0,0,0,0,0]
[null,null,null,null,null,"132kV","p/kWh",null,null,{"$f":"J84 * (1 - J$113)","v":0},0,0,0,0,0,0,0,0,0,0,0,0,0,0,0]
[null,null,null,null,null,"132kV/EHV","p/kWh",null,null,{"$f":"J85 * (1 - J$114)","v":0},0,0,0,0,0,0,0,0,0,0,0,0,0,0,0]
[null,null,null,null,null,"EHV","p/kWh",null,null,{"$f":"J86 * (1 - J$115)","v":5.9573454129021076E-3},5.9573454129021076E-3,6.5955752127600225E-3,6.5955752127600225E-3,5.6462621932704621E-3,4.4479988635435803E-3,3.4172171614107434E-3,4.7594733315047457E-3,-4.2678313643201328E-3,-3.9467998015172909E-3,-4.2678313643201328E-3,-4.2678313643201328E-3,-3.9467998015172909E-3,-3.9467998015172909E-3,-3.8712629632107398E-3,-3.8712629632107398E-3]
[null,null,null,null,null,"EHV/HV","p/kWh",null,null,{"$f":"J87 * (1 - J$116)","v":1.6051101406592363E-3},1.6051101406592363E-3,1.7770708132105039E-3,1.7770708132105039E-3,1.5212938104296227E-3,1.1984411825529105E-3,0,1.282362928301972E-3,-1.1498979707736405E-3,-1.063401220759694E-3,-1.1498979707736405E-3,-1.1498979707736405E-3,-1.063401220759694E-3,-1.063401220759694E-3,-1.0430490442858242E-3,-1.0430490442858242E-3]
[null,null,null,null,null,"132kV/HV","p/kWh",null,null,{"$f":"J88 * (1 - J$117)","v":0},0,0,0,0,0,0,0,0,0,0,0,0,0,0,0]
[null,null,null,null,null,"HV","p/kWh",null,null,{"$f":"J89 * (1 - J$118)","v":6.9052287915946763E-3},6.9052287915946763E-3,7.6450084223154118E-3,7.6450084223154118E-3,5.235718872694398E-3,0,0,5.5167612424076931E-3,-4.9468932841713054E-3,-4.574781842441606E-3,-4.9468932841713054E-3,-4.9468932841713054E-3,-4.574781842441606E-3,-4.574781842441606E-3,0,0]
[null,null,null,null,null,"HV/LV","p/kWh",null,null,{"$f":"J90 * (1 - J$119)","v":1.7354795198187478E-3},1.7354795198187478E-3,1.9214070881938454E-3,1.9214070881938454E-3,0,0,0,1.3865183096586919E-3,-1.2432943557002048E-3,0,-1.2432943557002048E-3,-1.2432943557002048E-3,0,0,0,0]
[null,null,null,null,null,"LV circuits","p/kWh",null,null,{"$f":"J91 * (1 - J$120)","v":0},0,0,0,0,0,0,2.3321676329341582E-3,0,0,0,0,0,0,0,0]
[null,null,null,null,null,"LV customers","p/kWh"]
[null,null,null,null,null,"HV customers","p/kWh"]
[]
[null,null,null,null,"Other operating costs"]
[null,null,null,null,null,"Transmission exit","p/kWh",null,null,{"$f":"J96 * (1 - J$112)","v":3.9799836858280899E-3},3.9799836858280899E-3,4.4063722893397349E-3,4.4063722893397349E-3,3.7721551895338518E-3,2.9716193513213422E-3,2.853718311324401E-3,3.1797092328233662E-3,-2.8512530374808212E-3,-2.6367782514756266E-3,-2.8512530374808212E-3,-2.8512530374808212E-3,-2.6367782514756266E-3,-2.6367782514756266E-3,-2.5863135959449928E-3,-2.5863135959449928E-3]
[null,null,null,null,null,"GSPs","p/kWh",null,null,0,0,0,0,0,0,0,0,0,0,0,0,0,0,0,0]
[null,null,null,null,null,"132kV","p/kWh",null,null,{"$f":"J98 * (1 - J$113)","v":0},0,0,0,0,0,0,0,0,0,0,0,0,0,0,0]
[null,null,null,null,null,"132kV/EHV","p/kWh",null,null,{"$f":"J99 * (1 - J$114)","v":0},0,0,0,0,0,0,0,0,0,0,0,0,0,0,0]
[null,null,null,null,null,"EHV","p/kWh",null,null,{"$f":"J100 * (1 - J$115)","v":4.2693724873725603E-3},4.2693724873725603E-3,4.7267642548925971E-3,4.7267642548925971E-3,4.0464325624351505E-3,3.1876889211005744E-3,2.4489721379437699E-3,3.410909236839258E-3,-3.0585706459309988E-3,-2.8285011725645076E-3,-3.0585706459309988E-3,-3.0585706459309988E-3,-2.8285011725645076E-3,-2.8285011725645076E-3,-2.7743671788312157E-3,-2.7743671788312157E-3]
[null,null,null,null,null,"EHV/HV","p/kWh",null,null,{"$f":"J101 * (1 - J$116)","v":1.150313201395336E-3},1.150313201395336E-3,1.2735499978903735E-3,1.2735499978903735E-3,1.0902456529366133E-3,8.588711007833092E-4,0,9.1901419599772229E-4,-8.2408227481222058E-4,-7.620937851139562E-4,-8.2408227481222058E-4,-8.2408227481222058E-4,-7.620937851139562E-4,-7.620937851139562E-4,-7.4750825812612944E-4,-7.4750825812612944E-4]
[null,null,null,null,null,"132kV/HV","p/kWh",null,null,{"$f":"J102 * (1 - J$117)","v":0},0,0,0,0,0,0,0,0,0,0,0,0,0,0,0]
[null,null,null,null,null,"HV","p/kWh",null,null,{"$f":"J103 * (1 - J$118)","v":4.9486796179383508E-3},4.9486796179383508E-3,5.4788477688864981E-3,5.4788477688864981E-3,3.7522138733616615E-3,0,0,3.9536248169744501E-3,-3.5452250325569827E-3,-3.2785488132938468E-3,-3.5452250325569827E-3,-3.5452250325569827E-3,-3.2785488132938468E-3,-3.2785488132938468E-3,0,0]
[null,null,null,null,null,"HV/LV","p/kWh",null,null,{"$f":"J104 * (1 - J$119)","v":1.243743311956663E-3},1.243743311956663E-3,1.3769895802266821E-3,1.3769895802266821E-3,0,0,0,9.9365786507440794E-4,-8.9101543523665238E-4,0,-8.9101543523665238E-4,-8.9101543523665238E-4,0,0,0,0]
[null,null,null,null,null,"LV circuits","p/kWh",null,null,{"$f":"J105 * (1 - J$120)","v":0},0,0,0,0,0,0,1.6713639444887259E-3,0,0,0,0,0,0,0,0]
[null,null,null,null,null,"LV customers","p/kWh",null,">",null,null,null,null,null,null,null,{"$f":"Q106","v":0.49438750416820348},null,null,null,null,null,null,null,null,null,"Paragraph 86"]
[null,null,null,null,null,"HV customers","p/kWh"]
[]
[null,null,{"$f":"INDEX('Version control'!$H$29:$H$55,MATCH($A$1,'Version control'!$F$29:$F$55,0),1)&\"-H: Unit rates, post application of standing charges\"","v":"Section 514-H: Unit rates, post application of standing charges"}]
[]
[null,null,null,null,"Unit rates"]
[null,null,null,null,null,"Total unit rate 1","p/kWh",null,null,{"$f":"SUM(J127:J138,J141:J152)","v":12.717520165338014},12.717520165338014,14.079989484681821,14.079989484681821,10.303780578114448,5.6739248738730312,4.0807673462540635,34.427065032597824,-9.1108081999836212,-7.7444236969645761,-9.1108081999836212,-9.1108081999836212,-7.7444236969645761,-7.7444236969645761,-4.9382331007984606,-4.9382331007984606]
[null,null,null,null,null,"Total unit rate 2","p/kWh",null,null,{"$f":"SUM(J157:J168,J171:J182)","v":1.3539208372436566},1.3539208372436566,1.4989707823259124,1.4989707823259124,1.0189174898885729,0.43361413140194049,0.26830429745230278,1.6679007271346775,-0.96994641295780804,-0.79410460343678191,-0.96994641295780804,-0.96994641295780804,-0.79410460343678191,-0.79410460343678191,-0.37739090739870668,-0.37739090739870668]
[null,null,null,null,null,"Total unit rate 3","p/kWh",null,null,{"$f":"SUM(J187:J198,J201:J212)","v":3.1795256169465769E-2},3.1795256169465769E-2,3.5201585427715669E-2,3.5201585427715669E-2,2.5064322154661763E-2,1.2664619419301717E-2,8.7199076106789144E-3,0.52379306690520866,-2.277806340098296E-2,-1.9090904887166527E-2,-2.277806340098296E-2,-2.277806340098296E-2,-1.9090904887166527E-2,-1.9090904887166527E-2,-1.1022501040398902E-2,-1.1022501040398902E-2]
[]
[null,"Checks"]
[]
[null,null,null,null,"Check for error values",null,"number of issues",{"$f":"SUM(IF(ISERROR(H22:Y219), 1))","v":0}]
[]
[null,"End of sheet"]

{"sheet":"Capacity charges","index":29,"n_rows":297,"n_cols":27,"rows_kept":297,"cut":false,"hidden":true,"merged":[]}
[{"$f":"MID(CELL(\"filename\",A1),FIND(\"]\",CELL(\"filename\",A1))+1,255)","v":"Capacity charges"}]
[{"$f":"Cover!D23 & \" - \" & TEXT(CIRP_submission_date, \"mmm\") & \"-\" & RIGHT(YEAR(CIRP_submission_date), 2) & \" - \" & Cover!D25","v":"SP Distribution - Jan-26 - V1"}]
[{"$f":"Cover!D2&\" - \"&Cover!D8&\" v\"&Cover!D10&\" - \"&Cover!D19","v":"Cost Information Review Pack (CIRP) - Release for charge setting v1 - 2027/28"}]
[{"$f":"H295 & IF(H295 = 1, \" issue\", \" issues\") &\" identified in checks on this sheet\"","v":"0 issues identified in checks on this sheet"}]
[null,"Click here to return to model map",null,null,null,null,"Units","Constants",null,"Domestic Aggregated or CT","Domestic Aggregated (Related MPAN)","Non-Domestic Aggregated or CT","Non-Domestic Aggregated (Related MPAN)","LV Site Specific","LV Sub Site Specific","HV Site Specific","Unmetered Supplies","LV Generation Aggregated","LV Sub Generation Aggregated","LV Generation Site Specific","LV Generation Site Specific no RP Charge","LV Sub Generation Site Specific","LV Sub Generation Site Specific no RP Charge","HV Generation Site Specific","HV Generation Site Specific no RP Charge",null,"Legal text reference"]
[]
[null,"Description"]
[]
[null,null,null,"For demand users (other than UMS), this sheet allocates unit rates to capacity charge elements"]
[null,null,null,"(p/kVA/day) in line with Paragraph 78. "]
[null,null,null,"As per DCUSA Schedule 16, Paragraphs 81 to 82, non half-hourly settled tariff forecast "]
[null,null,null,"recover capacity-related costs through a fixed charge (p/MPAN/day). For these tariff forecast, the"]
[null,null,null,"elements calculated here are further transformed into fixed charges on a separate sheet. "]
[null,null,null,"Exceeded capacity charges (p/kVA/day) are calculated for half-hourly settled tariff forecast in accordance with "]
[null,null,null,"Paragraph 81."]
[]
[null,"Inputs to capacity charge calculations"]
[]
[null,null,{"$f":"INDEX('Version control'!$H$29:$H$55,MATCH($A$1,'Version control'!$F$29:$F$55,0),1)&\"-A: Inputs to capacity charge calculations\"","v":"Section 515-A: Inputs to capacity charge calculations"}]
[]
[null,null,null,null,"Network model diversity factor"]
[null,null,null,null,"Uses re-calculated LV circuit value in line with Paragraph 80"]
[null,null,null,null,null,"Transmission exit","%",{"$f":"'System peak demand'!H226","v":0.1160000000000001}]
[null,null,null,null,null,"GSPs","%",{"$f":"'System peak demand'!H226","v":0.1160000000000001}]
[null,null,null,null,null,"132kV","%",{"$f":"'System peak demand'!H227","v":0.1160000000000001}]
[null,null,null,null,null,"132kV/EHV","%",{"$f":"'System peak demand'!H228","v":0.1160000000000001}]
[null,null,null,null,null,"EHV","%",{"$f":"'System peak demand'!H229","v":0.26107999999999998}]
[null,null,null,null,null,"EHV/HV","%",{"$f":"'System peak demand'!H230","v":0.26107999999999998}]
[null,null,null,null,null,"132kV/HV","%",{"$f":"'System peak demand'!H231","v":0.1160000000000001}]
[null,null,null,null,null,"HV","%",{"$f":"'System peak demand'!H232","v":0.57634999999999992}]
[null,null,null,null,null,"HV/LV","%",{"$f":"'System peak demand'!H233","v":0.57634999999999992}]
[null,null,null,null,null,"LV circuits","%",{"$f":"'System peak demand'!H234","v":0.7962577713283352}]
[null,null,null,null,null,"LV customers","%"]
[null,null,null,null,null,"HV customers","%"]
[]
[null,null,null,null,"Loss adjustment factor to transmission for each DRM network level"]
[null,null,null,null,null,"Transmission exit","scalar",{"$f":"TRANSPOSE('Load & loss characteristics'!J29:S29)","v":1}]
[null,null,null,null,null,"GSPs","scalar",1]
[null,null,null,null,null,"132kV","scalar",1]
[null,null,null,null,null,"132kV/EHV","scalar",1]
[null,null,null,null,null,"EHV","scalar",1.0029999999999999]
[null,null,null,null,null,"EHV/HV","scalar",1.0129999999999999]
[null,null,null,null,null,"132kV/HV","scalar",1.0129999999999999]
[null,null,null,null,null,"HV","scalar",1.0249999999999999]
[null,null,null,null,null,"HV/LV","scalar",1.0449999999999999]
[null,null,null,null,null,"LV circuits","scalar",1.1299999999999999]
[null,null,null,null,null,"LV customers","scalar"]
[null,null,null,null,null,"HV customers","scalar"]
[]
[null,null,null,null,"Network level assets per kW (simultaneous peak) per year"]
[null,null,null,null,null,"Transmission exit","£/kW/year"]
[null,null,null,null,null,"GSPs","£/kW/year"]
[null,null,null,null,null,"132kV","£/kW/year",{"$f":"TRANSPOSE('Unit costs'!L114:S114)","v":0}]
[null,null,null,null,null,"132kV/EHV","£/kW/year",0]
[null,null,null,null,null,"EHV","£/kW/year",18.104093063620716]
[null,null,null,null,null,"EHV/HV","£/kW/year",4.6853338185352804]
[null,null,null,null,null,"132kV/HV","£/kW/year",0]
[null,null,null,null,null,"HV","£/kW/year",20.395210541559198]
[null,null,null,null,null,"HV/LV","£/kW/year",5.2259113502676673]
[null,null,null,null,null,"LV circuits","£/kW/year",9.5051362373290171]
[null,null,null,null,null,"LV customers","£/kW/year"]
[null,null,null,null,null,"HV customers","£/kW/year"]
[]
[null,null,null,null,"Other operating costs (excl. service models)"]
[null,null,null,null,null,"Transmission exit","£/kW/year",{"$f":"TRANSPOSE('Unit costs'!J115:S115)","v":12.058807173667748}]
[null,null,null,null,null,"GSPs","£/kW/year",0]
[null,null,null,null,null,"132kV","£/kW/year",0]
[null,null,null,null,null,"132kV/EHV","£/kW/year",0]
[null,null,null,null,null,"EHV","£/kW/year",12.974422578764242]
[null,null,null,null,null,"EHV/HV","£/kW/year",3.3577766459014362]
[null,null,null,null,null,"132kV/HV","£/kW/year",0]
[null,null,null,null,null,"HV","£/kW/year",14.616367647865729]
[null,null,null,null,null,"HV/LV","£/kW/year",3.7451852450858367]
[null,null,null,null,null,"LV circuits","£/kW/year",6.811921137305939]
[null,null,null,null,null,"LV customers","£/kW/year"]
[null,null,null,null,null,"HV customers","£/kW/year"]
[]
[null,null,null,null,"User loss factor (assuming generation does not contribute at level of connection)"]
[null,null,null,null,"These have been adjusted for the share of load going through 132/HV transformation"]
[null,null,null,null,null,"Transmission exit","scalar",null,null,{"$f":"TRANSPOSE('Load & loss characteristics'!J145:S160)","v":1.1299999999999999},1.1299999999999999,1.1299999999999999,1.1299999999999999,1.1299999999999999,1.0449999999999999,1.0249999999999999,1.1299999999999999,-1.1299999999999999,-1.0449999999999999,-1.1299999999999999,-1.1299999999999999,-1.0449999999999999,-1.0449999999999999,-1.0249999999999999,-1.0249999999999999]
[null,null,null,null,null,"GSPs","scalar",null,null,1.1299999999999999,1.1299999999999999,1.1299999999999999,1.1299999999999999,1.1299999999999999,1.0449999999999999,1.0249999999999999,1.1299999999999999,-1.1299999999999999,-1.0449999999999999,-1.1299999999999999,-1.1299999999999999,-1.0449999999999999,-1.0449999999999999,-1.0249999999999999,-1.0249999999999999]
[null,null,null,null,null,"132kV","scalar",null,null,1.1299999999999999,1.1299999999999999,1.1299999999999999,1.1299999999999999,1.1299999999999999,1.0449999999999999,1.0249999999999999,1.1299999999999999,-1.1299999999999999,-1.0449999999999999,-1.1299999999999999,-1.1299999999999999,-1.0449999999999999,-1.0449999999999999,-1.0249999999999999,-1.0249999999999999]
[null,null,null,null,null,"132kV/EHV","scalar",null,null,1.1299999999999999,1.1299999999999999,1.1299999999999999,1.1299999999999999,1.1299999999999999,1.0449999999999999,1.0249999999999999,1.1299999999999999,-1.1299999999999999,-1.0449999999999999,-1.1299999999999999,-1.1299999999999999,-1.0449999999999999,-1.0449999999999999,-1.0249999999999999,-1.0249999999999999]
[null,null,null,null,null,"EHV","scalar",null,null,1.1299999999999999,1.1299999999999999,1.1299999999999999,1.1299999999999999,1.1299999999999999,1.0449999999999999,1.0249999999999999,1.1299999999999999,-1.1299999999999999,-1.0449999999999999,-1.1299999999999999,-1.1299999999999999,-1.0449999999999999,-1.0449999999999999,-1.0249999999999999,-1.0249999999999999]
[null,null,null,null,null,"EHV/HV","scalar",null,null,1.1299999999999999,1.1299999999999999,1.1299999999999999,1.1299999999999999,1.1299999999999999,1.0449999999999999,1.0249999999999999,1.1299999999999999,-1.1299999999999999,-1.0449999999999999,-1.1299999999999999,-1.1299999999999999,-1.0449999999999999,-1.0449999999999999,-1.0249999999999999,-1.0249999999999999]
[null,null,null,null,null,"132kV/HV","scalar",null,null,0,0,0,0,0,0,0,0,0,0,0,0,0,0,0,0]
[null,null,null,null,null,"HV","scalar",null,null,1.1299999999999999,1.1299999999999999,1.1299999999999999,1.1299999999999999,1.1299999999999999,1.0449999999999999,1.0249999999999999,1.1299999999999999,-1.1299999999999999,-1.0449999999999999,-1.1299999999999999,-1.1299999999999999,-1.0449999999999999,-1.0449999999999999,0,0]
[null,null,null,null,null,"HV/LV","scalar",null,null,1.1299999999999999,1.1299999999999999,1.1299999999999999,1.1299999999999999,1.1299999999999999,1.0449999999999999,0,1.1299999999999999,-1.1299999999999999,0,-1.1299999999999999,-1.1299999999999999,0,0,0,0]
[null,null,null,null,null,"LV circuits","scalar",null,null,1.1299999999999999,1.1299999999999999,1.1299999999999999,1.1299999999999999,1.1299999999999999,0,0,1.1299999999999999,0,0,0,0,0,0,0,0]
[null,null,null,null,null,"LV customers","scalar"]
[null,null,null,null,null,"HV customers","scalar"]
[]
[null,null,null,null,"Standing charge factors"]
[null,null,null,null,null,"GSPs","%",null,null,{"$f":"'Standing charge factors'!J44","v":0},{"$f":"'Standing charge factors'!K44","v":0},{"$f":"'Standing charge factors'!L44","v":0},{"$f":"'Standing charge factors'!M44","v":0},{"$f":"'Standing charge factors'!N44","v":0},{"$f":"'Standing charge factors'!O44","v":0},{"$f":"'Standing charge factors'!P44","v":0},{"$f":"'Standing charge factors'!Q44","v":0},{"$f":"'Standing charge factors'!R44","v":0},{"$f":"'Standing charge factors'!S44","v":0},{"$f":"'Standing charge factors'!T44","v":0},{"$f":"'Standing charge factors'!U44","v":0},{"$f":"'Standing charge factors'!V44","v":0},{"$f":"'Standing charge factors'!W44","v":0},{"$f":"'Standing charge factors'!X44","v":0},{"$f":"'Standing charge factors'!Y44","v":0}]
[null,null,null,null,null,"132kV","%",null,null,{"$f":"'Standing charge factors'!J45","v":0},{"$f":"'Standing charge factors'!K45","v":0},{"$f":"'Standing charge factors'!L45","v":0},{"$f":"'Standing charge factors'!M45","v":0},{"$f":"'Standing charge factors'!N45","v":0},{"$f":"'Standing charge factors'!O45","v":0},{"$f":"'Standing charge factors'!P45","v":0},{"$f":"'Standing charge factors'!Q45","v":0},{"$f":"'Standing charge factors'!R45","v":0},{"$f":"'Standing charge factors'!S45","v":0},{"$f":"'Standing charge factors'!T45","v":0},{"$f":"'Standing charge factors'!U45","v":0},{"$f":"'Standing charge factors'!V45","v":0},{"$f":"'Standing charge factors'!W45","v":0},{"$f":"'Standing charge factors'!X45","v":0},{"$f":"'Standing charge factors'!Y45","v":0}]
[null,null,null,null,null,"132kV/EHV","%",null,null,{"$f":"'Standing charge factors'!J46","v":0},{"$f":"'Standing charge factors'!K46","v":0},{"$f":"'Standing charge factors'!L46","v":0},{"$f":"'Standing charge factors'!M46","v":0},{"$f":"'Standing charge factors'!N46","v":0},{"$f":"'Standing charge factors'!O46","v":0},{"$f":"'Standing charge factors'!P46","v":0},{"$f":"'Standing charge factors'!Q46","v":0},{"$f":"'Standing charge factors'!R46","v":0},{"$f":"'Standing charge factors'!S46","v":0},{"$f":"'Standing charge factors'!T46","v":0},{"$f":"'Standing charge factors'!U46","v":0},{"$f":"'Standing charge factors'!V46","v":0},{"$f":"'Standing charge factors'!W46","v":0},{"$f":"'Standing charge factors'!X46","v":0},{"$f":"'Standing charge factors'!Y46","v":0}]
[null,null,null,null,null,"EHV","%",null,null,{"$f":"'Standing charge factors'!J47","v":0},{"$f":"'Standing charge factors'!K47","v":0},{"$f":"'Standing charge factors'!L47","v":0},{"$f":"'Standing charge factors'!M47","v":0},{"$f":"'Standing charge factors'!N47","v":0},{"$f":"'Standing charge factors'!O47","v":0},{"$f":"'Standing charge factors'!P47","v":0.2},{"$f":"'Standing charge factors'!Q47","v":0},{"$f":"'Standing charge factors'!R47","v":0},{"$f":"'Standing charge factors'!S47","v":0},{"$f":"'Standing charge factors'!T47","v":0},{"$f":"'Standing charge factors'!U47","v":0},{"$f":"'Standing charge factors'!V47","v":0},{"$f":"'Standing charge factors'!W47","v":0},{"$f":"'Standing charge factors'!X47","v":0},{"$f":"'Standing charge factors'!Y47","v":0}]
[null,null,null,null,null,"EHV/HV","%",null,null,{"$f":"'Standing charge factors'!J48","v":0},{"$f":"'Standing charge factors'!K48","v":0},{"$f":"'Standing charge factors'!L48","v":0},{"$f":"'Standing charge factors'!M48","v":0},{"$f":"'Standing charge factors'!N48","v":0},{"$f":"'Standing charge factors'!O48","v":0},{"$f":"'Standing charge factors'!P48","v":1},{"$f":"'Standing charge factors'!Q48","v":0},{"$f":"'Standing charge factors'!R48","v":0},{"$f":"'Standing charge factors'!S48","v":0},{"$f":"'Standing charge factors'!T48","v":0},{"$f":"'Standing charge factors'!U48","v":0},{"$f":"'Standing charge factors'!V48","v":0},{"$f":"'Standing charge factors'!W48","v":0},{"$f":"'Standing charge factors'!X48","v":0},{"$f":"'Standing charge factors'!Y48","v":0}]
[null,null,null,null,null,"132kV/HV","%",null,null,{"$f":"'Standing charge factors'!J49","v":0},{"$f":"'Standing charge factors'!K49","v":0},{"$f":"'Standing charge factors'!L49","v":0},{"$f":"'Standing charge factors'!M49","v":0},{"$f":"'Standing charge factors'!N49","v":0},{"$f":"'Standing charge factors'!O49","v":0},{"$f":"'Standing charge factors'!P49","v":1},{"$f":"'Standing charge factors'!Q49","v":0},{"$f":"'Standing charge factors'!R49","v":0},{"$f":"'Standing charge factors'!S49","v":0},{"$f":"'Standing charge factors'!T49","v":0},{"$f":"'Standing charge factors'!U49","v":0},{"$f":"'Standing charge factors'!V49","v":0},{"$f":"'Standing charge factors'!W49","v":0},{"$f":"'Standing charge factors'!X49","v":0},{"$f":"'Standing charge factors'!Y49","v":0}]
[null,null,null,null,null,"HV","%",null,null,{"$f":"'Standing charge factors'!J50","v":0},{"$f":"'Standing charge factors'!K50","v":0},{"$f":"'Standing charge factors'!L50","v":0},{"$f":"'Standing charge factors'!M50","v":0},{"$f":"'Standing charge factors'!N50","v":0.2},{"$f":"'Standing charge factors'!O50","v":1},{"$f":"'Standing charge factors'!P50","v":1},{"$f":"'Standing charge factors'!Q50","v":0},{"$f":"'Standing charge factors'!R50","v":0},{"$f":"'Standing charge factors'!S50","v":0},{"$f":"'Standing charge factors'!T50","v":0},{"$f":"'Standing charge factors'!U50","v":0},{"$f":"'Standing charge factors'!V50","v":0},{"$f":"'Standing charge factors'!W50","v":0},{"$f":"'Standing charge factors'!X50","v":0},{"$f":"'Standing charge factors'!Y50","v":0}]
[null,null,null,null,null,"HV/LV","%",null,null,{"$f":"'Standing charge factors'!J51","v":0},{"$f":"'Standing charge factors'!K51","v":0},{"$f":"'Standing charge factors'!L51","v":0},{"$f":"'Standing charge factors'!M51","v":0},{"$f":"'Standing charge factors'!N51","v":1},{"$f":"'Standing charge factors'!O51","v":1},{"$f":"'Standing charge factors'!P51","v":0},{"$f":"'Standing charge factors'!Q51","v":0},{"$f":"'Standing charge factors'!R51","v":0},{"$f":"'Standing charge factors'!S51","v":0},{"$f":"'Standing charge factors'!T51","v":0},{"$f":"'Standing charge factors'!U51","v":0},{"$f":"'Standing charge factors'!V51","v":0},{"$f":"'Standing charge factors'!W51","v":0},{"$f":"'Standing charge factors'!X51","v":0},{"$f":"'Standing charge factors'!Y51","v":0}]
[null,null,null,null,null,"LV circuits","%",null,null,{"$f":"'Standing charge factors'!J52","v":1},{"$f":"'Standing charge factors'!K52","v":1},{"$f":"'Standing charge factors'!L52","v":1},{"$f":"'Standing charge factors'!M52","v":1},{"$f":"'Standing charge factors'!N52","v":1},{"$f":"'Standing charge factors'!O52","v":0},{"$f":"'Standing charge factors'!P52","v":0},{"$f":"'Standing charge factors'!Q52","v":0},{"$f":"'Standing charge factors'!R52","v":0},{"$f":"'Standing charge factors'!S52","v":0},{"$f":"'Standing charge factors'!T52","v":0},{"$f":"'Standing charge factors'!U52","v":0},{"$f":"'Standing charge factors'!V52","v":0},{"$f":"'Standing charge factors'!W52","v":0},{"$f":"'Standing charge factors'!X52","v":0},{"$f":"'Standing charge factors'!Y52","v":0}]
[]
[null,null,null,null,"Customer contributions by network level"]
[null,null,null,null,null,"Transmission exit","%"]
[null,null,null,null,null,"GSPs","%"]
[null,null,null,null,null,"132kV","%",null,null,{"$f":"TRANSPOSE('Customer contributions'!L51:S66)","v":0},0,0,0,0,0,0,0,0,0,0,0,0,0,0,0]
[null,null,null,null,null,"132kV/EHV","%",null,null,0,0,0,0,0,0,0,0,0,0,0,0,0,0,0,0]
[null,null,null,null,null,"EHV","%",null,null,0,0,0,0,0,0,0,0,0,0,0,0,0,0,0,0]
[null,null,null,null,null,"EHV/HV","%",null,null,0,0,0,0,0,0,0,0,0,0,0,0,0,0,0,0]
[null,null,null,null,null,"132kV/HV","%",null,null,0,0,0,0,0,0,0,0,0,0,0,0,0,0,0,0]
[null,null,null,null,null,"HV","%",null,null,0,0,0,0,0,0,0,0,0,0,0,0,0,0,0,0]
[null,null,null,null,null,"HV/LV","%",null,null,0,0,0,0,0,0,0,0,0,0,0,0,0,0,0,0]
[null,null,null,null,null,"LV circuits","%",null,null,0,0,0,0,0,0,0,0,0,0,0,0,0,0,0,0]
[null,null,null,null,null,"LV customers","%"]
[null,null,null,null,null,"HV customers","%"]
[]
[null,null,null,null,"Flag for applicability of capacity charges and exceeded capacity charges",null,null,null,">",null,null,null,null,null,null,null,null,null,null,null,null,null,null,null,null,null,"Paragraphs 141, 146 & 81 to 84"]
[null,null,null,null,"These flags are used to filter customers into those that receive capacity charges, exceeded "]
[null,null,null,null,"capacity charges, and fixed charges"]
[null,null,null,null,null,"Capacity charge flag","0 or 1",null,null,{"$f":"'Fixed inputs'!J141","v":0},{"$f":"'Fixed inputs'!K141","v":0},{"$f":"'Fixed inputs'!L141","v":0},{"$f":"'Fixed inputs'!M141","v":0},{"$f":"'Fixed inputs'!N141","v":1},{"$f":"'Fixed inputs'!O141","v":1},{"$f":"'Fixed inputs'!P141","v":1},{"$f":"'Fixed inputs'!Q141","v":0},{"$f":"'Fixed inputs'!R141","v":0},{"$f":"'Fixed inputs'!S141","v":0},{"$f":"'Fixed inputs'!T141","v":0},{"$f":"'Fixed inputs'!U141","v":0},{"$f":"'Fixed inputs'!V141","v":0},{"$f":"'Fixed inputs'!W141","v":0},{"$f":"'Fixed inputs'!X141","v":0},{"$f":"'Fixed inputs'!Y141","v":0}]
[null,null,null,null,null,"Exceeded capacity charge flag","0 or 1",null,null,{"$f":"'Fixed inputs'!J142","v":0},{"$f":"'Fixed inputs'!K142","v":0},{"$f":"'Fixed inputs'!L142","v":0},{"$f":"'Fixed inputs'!M142","v":0},{"$f":"'Fixed inputs'!N142","v":1},{"$f":"'Fixed inputs'!O142","v":1},{"$f":"'Fixed inputs'!P142","v":1},{"$f":"'Fixed inputs'!Q142","v":0},{"$f":"'Fixed inputs'!R142","v":0},{"$f":"'Fixed inputs'!S142","v":0},{"$f":"'Fixed inputs'!T142","v":0},{"$f":"'Fixed inputs'!U142","v":0},{"$f":"'Fixed inputs'!V142","v":0},{"$f":"'Fixed inputs'!W142","v":0},{"$f":"'Fixed inputs'!X142","v":0},{"$f":"'Fixed inputs'!Y142","v":0}]
[null,null,null,null,null,"Capacity charge allocated to fixed charge","0 or 1",null,null,{"$f":"'Fixed inputs'!J144","v":1},{"$f":"'Fixed inputs'!K144","v":0},{"$f":"'Fixed inputs'!L144","v":1},{"$f":"'Fixed inputs'!M144","v":0},{"$f":"'Fixed inputs'!N144","v":0},{"$f":"'Fixed inputs'!O144","v":0},{"$f":"'Fixed inputs'!P144","v":0},{"$f":"'Fixed inputs'!Q144","v":0},{"$f":"'Fixed inputs'!R144","v":0},{"$f":"'Fixed inputs'!S144","v":0},{"$f":"'Fixed inputs'!T144","v":0},{"$f":"'Fixed inputs'!U144","v":0},{"$f":"'Fixed inputs'!V144","v":0},{"$f":"'Fixed inputs'!W144","v":0},{"$f":"'Fixed inputs'!X144","v":0},{"$f":"'Fixed inputs'!Y144","v":0}]
[]
[null,"Calculation of capacity charges"]
[]
[null,null,"Calculates capacity element of charges in line with Paragraph 78"]
[]
[null,null,{"$f":"INDEX('Version control'!$H$29:$H$55,MATCH($A$1,'Version control'!$F$29:$F$55,0),1)&\"-B: Capacity-based charge elements (to be split between capacity & fixed charges)\"","v":"Section 515-B: Capacity-based charge elements (to be split between capacity & fixed charges)"}]
[]
[null,null,null,null,"Asset costs",null,null,null,">",null,null,null,null,null,null,null,null,null,null,null,null,null,null,null,null,null,"Paragraph 73 and 78"]
[null,null,null,null,null,"Transmission exit","p/kVA/day"]
[null,null,null,null,null,"GSPs","p/kVA/day"]
[null,null,null,null,null,"132kV","p/kVA/day",null,null,{"$f":"hundred*J95*$H53*J82/$H39*(1-J107)/days_in_year/(1+$H25)*PowerFactor","v":0},0,{"$f":"hundred*L95*$H53*L82/$H39*(1-L107)/days_in_year/(1+$H25)*PowerFactor","v":0},0,{"$f":"hundred*N95*$H53*N82/$H39*(1-N107)/days_in_year/(1+$H25)*PowerFactor","v":0},0,0,{"$f":"hundred*Q95*$H53*Q82/$H39*(1-Q107)/days_in_year/(1+$H25)*PowerFactor","v":0}]
[null,null,null,null,null,"132kV/EHV","p/kVA/day",null,null,{"$f":"hundred*J96*$H54*J83/$H40*(1-J108)/days_in_year/(1+$H26)*PowerFactor","v":0},0,{"$f":"hundred*L96*$H54*L83/$H40*(1-L108)/days_in_year/(1+$H26)*PowerFactor","v":0},0,{"$f":"hundred*N96*$H54*N83/$H40*(1-N108)/days_in_year/(1+$H26)*PowerFactor","v":0},0,0,{"$f":"hundred*Q96*$H54*Q83/$H40*(1-Q108)/days_in_year/(1+$H26)*PowerFactor","v":0}]
[null,null,null,null,null,"EHV","p/kVA/day",null,null,{"$f":"hundred*J97*$H55*J84/$H41*(1-J109)/days_in_year/(1+$H27)*PowerFactor","v":0},0,{"$f":"hundred*L97*$H55*L84/$H41*(1-L109)/days_in_year/(1+$H27)*PowerFactor","v":0},0,{"$f":"hundred*N97*$H55*N84/$H41*(1-N109)/days_in_year/(1+$H27)*PowerFactor","v":0},0,0.76160464350136292,{"$f":"hundred*Q97*$H55*Q84/$H41*(1-Q109)/days_in_year/(1+$H27)*PowerFactor","v":0}]
[null,null,null,null,null,"EHV/HV","p/kVA/day",null,null,{"$f":"hundred*J98*$H56*J85/$H42*(1-J110)/days_in_year/(1+$H28)*PowerFactor","v":0},0,{"$f":"hundred*L98*$H56*L85/$H42*(1-L110)/days_in_year/(1+$H28)*PowerFactor","v":0},0,{"$f":"hundred*N98*$H56*N85/$H42*(1-N110)/days_in_year/(1+$H28)*PowerFactor","v":0},0,0.97578657914823519,{"$f":"hundred*Q98*$H56*Q85/$H42*(1-Q110)/days_in_year/(1+$H28)*PowerFactor","v":0}]
[null,null,null,null,null,"132kV/HV","p/kVA/day",null,null,{"$f":"hundred*J99*$H57*J86/$H43*(1-J111)/days_in_year/(1+$H29)*PowerFactor","v":0},0,{"$f":"hundred*L99*$H57*L86/$H43*(1-L111)/days_in_year/(1+$H29)*PowerFactor","v":0},0,{"$f":"hundred*N99*$H57*N86/$H43*(1-N111)/days_in_year/(1+$H29)*PowerFactor","v":0},0,0,{"$f":"hundred*Q99*$H57*Q86/$H43*(1-Q111)/days_in_year/(1+$H29)*PowerFactor","v":0}]
[null,null,null,null,null,"HV","p/kVA/day",null,null,{"$f":"hundred*J100*$H58*J87/$H44*(1-J112)/days_in_year/(1+$H30)*PowerFactor","v":0},0,{"$f":"hundred*L100*$H58*L87/$H44*(1-L112)/days_in_year/(1+$H30)*PowerFactor","v":0},0,{"$f":"hundred*N100*$H58*N87/$H44*(1-N112)/days_in_year/(1+$H30)*PowerFactor","v":0.74046176089110305},3.4238165492531096,3.3582889597937196,{"$f":"hundred*Q100*$H58*Q87/$H44*(1-Q112)/days_in_year/(1+$H30)*PowerFactor","v":0}]
[null,null,null,null,null,"HV/LV","p/kVA/day",null,null,{"$f":"hundred*J101*$H59*J88/$H45*(1-J113)/days_in_year/(1+$H31)*PowerFactor","v":0},0,{"$f":"hundred*L101*$H59*L88/$H45*(1-L113)/days_in_year/(1+$H31)*PowerFactor","v":0},0,{"$f":"hundred*N101*$H59*N88/$H45*(1-N113)/days_in_year/(1+$H31)*PowerFactor","v":0.93049503500858533},0.86050204564953259,0,{"$f":"hundred*Q101*$H59*Q88/$H45*(1-Q113)/days_in_year/(1+$H31)*PowerFactor","v":0}]
[null,null,null,null,null,"LV circuits","p/kVA/day",null,null,{"$f":"hundred*J102*$H60*J89/$H46*(1-J114)/days_in_year/(1+$H32)*PowerFactor","v":1.3735112021627764},1.3735112021627764,{"$f":"hundred*L102*$H60*L89/$H46*(1-L114)/days_in_year/(1+$H32)*PowerFactor","v":1.3735112021627764},1.3735112021627764,{"$f":"hundred*N102*$H60*N89/$H46*(1-N114)/days_in_year/(1+$H32)*PowerFactor","v":1.3735112021627764},0,0,{"$f":"hundred*Q102*$H60*Q89/$H46*(1-Q114)/days_in_year/(1+$H32)*PowerFactor","v":0}]
[null,null,null,null,null,"LV customers","p/kVA/day"]
[null,null,null,null,null,"HV customers","p/kVA/day"]
[]
[null,null,null,null,"Other operating costs"]
[null,null,null,null,null,"Transmission exit","p/kVA/day",null,null,{"$f":"hundred*J94*$H65*J80/$H37/days_in_year/(1+$H23)*PowerFactor","v":0},0,{"$f":"hundred*L94*$H65*L80/$H37/days_in_year/(1+$H23)*PowerFactor","v":0},0,{"$f":"hundred*N94*$H65*N80/$H37/days_in_year/(1+$H23)*PowerFactor","v":0},0,0,{"$f":"hundred*Q94*$H65*Q80/$H37/days_in_year/(1+$H23)*PowerFactor","v":0}]
[null,null,null,null,null,"GSPs","p/kVA/day",null,null,{"$f":"hundred*J94*$H66*J81/$H38/days_in_year/(1+$H24)*PowerFactor","v":0},0,{"$f":"hundred*L94*$H66*L81/$H38/days_in_year/(1+$H24)*PowerFactor","v":0},0,{"$f":"hundred*N94*$H66*N81/$H38/days_in_year/(1+$H24)*PowerFactor","v":0},0,0,{"$f":"hundred*Q94*$H66*Q81/$H38/days_in_year/(1+$H24)*PowerFactor","v":0}]
[null,null,null,null,null,"132kV","p/kVA/day",null,null,{"$f":"hundred*J95*$H67*J82/$H39/days_in_year/(1+$H25)*PowerFactor","v":0},0,{"$f":"hundred*L95*$H67*L82/$H39/days_in_year/(1+$H25)*PowerFactor","v":0},0,{"$f":"hundred*N95*$H67*N82/$H39/days_in_year/(1+$H25)*PowerFactor","v":0},0,0,{"$f":"hundred*Q95*$H67*Q82/$H39/days_in_year/(1+$H25)*PowerFactor","v":0}]
[null,null,null,null,null,"132kV/EHV","p/kVA/day",null,null,{"$f":"hundred*J96*$H68*J83/$H40/days_in_year/(1+$H26)*PowerFactor","v":0},0,{"$f":"hundred*L96*$H68*L83/$H40/days_in_year/(1+$H26)*PowerFactor","v":0},0,{"$f":"hundred*N96*$H68*N83/$H40/days_in_year/(1+$H26)*PowerFactor","v":0},0,0,{"$f":"hundred*Q96*$H68*Q83/$H40/days_in_year/(1+$H26)*PowerFactor","v":0}]
[null,null,null,null,null,"EHV","p/kVA/day",null,null,{"$f":"hundred*J97*$H69*J84/$H41/days_in_year/(1+$H27)*PowerFactor","v":0},0,{"$f":"hundred*L97*$H69*L84/$H41/days_in_year/(1+$H27)*PowerFactor","v":0},0,{"$f":"hundred*N97*$H69*N84/$H41/days_in_year/(1+$H27)*PowerFactor","v":0},0,0.54580919618624368,{"$f":"hundred*Q97*$H69*Q84/$H41/days_in_year/(1+$H27)*PowerFactor","v":0}]
[null,null,null,null,null,"EHV/HV","p/kVA/day",null,null,{"$f":"hundred*J98*$H70*J85/$H42/days_in_year/(1+$H28)*PowerFactor","v":0},0,{"$f":"hundred*L98*$H70*L85/$H42/days_in_year/(1+$H28)*PowerFactor","v":0},0,{"$f":"hundred*N98*$H70*N85/$H42/days_in_year/(1+$H28)*PowerFactor","v":0},0,0.69930415072800134,{"$f":"hundred*Q98*$H70*Q85/$H42/days_in_year/(1+$H28)*PowerFactor","v":0}]
[null,null,null,null,null,"132kV/HV","p/kVA/day",null,null,{"$f":"hundred*J99*$H71*J86/$H43/days_in_year/(1+$H29)*PowerFactor","v":0},0,{"$f":"hundred*L99*$H71*L86/$H43/days_in_year/(1+$H29)*PowerFactor","v":0},0,{"$f":"hundred*N99*$H71*N86/$H43/days_in_year/(1+$H29)*PowerFactor","v":0},0,0,{"$f":"hundred*Q99*$H71*Q86/$H43/days_in_year/(1+$H29)*PowerFactor","v":0}]
[null,null,null,null,null,"HV","p/kVA/day",null,null,{"$f":"hundred*J100*$H72*J87/$H44/days_in_year/(1+$H30)*PowerFactor","v":0},0,{"$f":"hundred*L100*$H72*L87/$H44/days_in_year/(1+$H30)*PowerFactor","v":0},0,{"$f":"hundred*N100*$H72*N87/$H44/days_in_year/(1+$H30)*PowerFactor","v":0.53065700421757012},2.453701634545844,2.4067408377124306,{"$f":"hundred*Q100*$H72*Q87/$H44/days_in_year/(1+$H30)*PowerFactor","v":0}]
[null,null,null,null,null,"HV/LV","p/kVA/day",null,null,{"$f":"hundred*J101*$H73*J88/$H45/days_in_year/(1+$H31)*PowerFactor","v":0},0,{"$f":"hundred*L101*$H73*L88/$H45/days_in_year/(1+$H31)*PowerFactor","v":0},0,{"$f":"hundred*N101*$H73*N88/$H45/days_in_year/(1+$H31)*PowerFactor","v":0.66684565469356638},0.6166846983670593,0,{"$f":"hundred*Q101*$H73*Q88/$H45/days_in_year/(1+$H31)*PowerFactor","v":0}]
[null,null,null,null,null,"LV circuits","p/kVA/day",null,null,{"$f":"hundred*J102*$H74*J89/$H46/days_in_year/(1+$H32)*PowerFactor","v":0.98433623219358002},0.98433623219358002,{"$f":"hundred*L102*$H74*L89/$H46/days_in_year/(1+$H32)*PowerFactor","v":0.98433623219358002},0.98433623219358002,{"$f":"hundred*N102*$H74*N89/$H46/days_in_year/(1+$H32)*PowerFactor","v":0.98433623219358002},0,0,{"$f":"hundred*Q102*$H74*Q89/$H46/days_in_year/(1+$H32)*PowerFactor","v":0}]
[null,null,null,null,null,"LV customers","p/kVA/day"]
[null,null,null,null,null,"HV customers","p/kVA/day"]
[]
[null,null,{"$f":"INDEX('Version control'!$H$29:$H$55,MATCH($A$1,'Version control'!$F$29:$F$55,0),1)&\"-C: Exceeded capacity-based charge elements\"","v":"Section 515-C: Exceeded capacity-based charge elements"}]
[]
[null,null,null,null,"Asset costs"]
[null,null,null,null,null,"Transmission exit","p/kVA/day"]
[null,null,null,null,null,"GSPs","p/kVA/day"]
[null,null,null,null,null,"132kV","p/kVA/day",null,null,{"$f":"hundred*J95*$H53*J82/$H39/days_in_year/(1+$H25)*PowerFactor","v":0},0,{"$f":"hundred*L95*$H53*L82/$H39/days_in_year/(1+$H25)*PowerFactor","v":0},0,{"$f":"hundred*N95*$H53*N82/$H39/days_in_year/(1+$H25)*PowerFactor","v":0},0,0,{"$f":"hundred*Q95*$H53*Q82/$H39/days_in_year/(1+$H25)*PowerFactor","v":0}]
[null,null,null,null,null,"132kV/EHV","p/kVA/day",null,null,{"$f":"hundred*J96*$H54*J83/$H40/days_in_year/(1+$H26)*PowerFactor","v":0},0,{"$f":"hundred*L96*$H54*L83/$H40/days_in_year/(1+$H26)*PowerFactor","v":0},0,{"$f":"hundred*N96*$H54*N83/$H40/days_in_year/(1+$H26)*PowerFactor","v":0},0,0,{"$f":"hundred*Q96*$H54*Q83/$H40/days_in_year/(1+$H26)*PowerFactor","v":0}]
[null,null,null,null,null,"EHV","p/kVA/day",null,null,{"$f":"hundred*J97*$H55*J84/$H41/days_in_year/(1+$H27)*PowerFactor","v":0},0,{"$f":"hundred*L97*$H55*L84/$H41/days_in_year/(1+$H27)*PowerFactor","v":0},0,{"$f":"hundred*N97*$H55*N84/$H41/days_in_year/(1+$H27)*PowerFactor","v":0},0,0.76160464350136292,{"$f":"hundred*Q97*$H55*Q84/$H41/days_in_year/(1+$H27)*PowerFactor","v":0}]
[null,null,null,null,null,"EHV/HV","p/kVA/day",null,null,{"$f":"hundred*J98*$H56*J85/$H42/days_in_year/(1+$H28)*PowerFactor","v":0},0,{"$f":"hundred*L98*$H56*L85/$H42/days_in_year/(1+$H28)*PowerFactor","v":0},0,{"$f":"hundred*N98*$H56*N85/$H42/days_in_year/(1+$H28)*PowerFactor","v":0},0,0.97578657914823519,{"$f":"hundred*Q98*$H56*Q85/$H42/days_in_year/(1+$H28)*PowerFactor","v":0}]
[null,null,null,null,null,"132kV/HV","p/kVA/day",null,null,{"$f":"hundred*J99*$H57*J86/$H43/days_in_year/(1+$H29)*PowerFactor","v":0},0,{"$f":"hundred*L99*$H57*L86/$H43/days_in_year/(1+$H29)*PowerFactor","v":0},0,{"$f":"hundred*N99*$H57*N86/$H43/days_in_year/(1+$H29)*PowerFactor","v":0},0,0,{"$f":"hundred*Q99*$H57*Q86/$H43/days_in_year/(1+$H29)*PowerFactor","v":0}]
[null,null,null,null,null,"HV","p/kVA/day",null,null,{"$f":"hundred*J100*$H58*J87/$H44/days_in_year/(1+$H30)*PowerFactor","v":0},0,{"$f":"hundred*L100*$H58*L87/$H44/days_in_year/(1+$H30)*PowerFactor","v":0},0,{"$f":"hundred*N100*$H58*N87/$H44/days_in_year/(1+$H30)*PowerFactor","v":0.74046176089110305},3.4238165492531096,3.3582889597937196,{"$f":"hundred*Q100*$H58*Q87/$H44/days_in_year/(1+$H30)*PowerFactor","v":0}]
[null,null,null,null,null,"HV/LV","p/kVA/day",null,null,{"$f":"hundred*J101*$H59*J88/$H45/days_in_year/(1+$H31)*PowerFactor","v":0},0,{"$f":"hundred*L101*$H59*L88/$H45/days_in_year/(1+$H31)*PowerFactor","v":0},0,{"$f":"hundred*N101*$H59*N88/$H45/days_in_year/(1+$H31)*PowerFactor","v":0.93049503500858533},0.86050204564953259,0,{"$f":"hundred*Q101*$H59*Q88/$H45/days_in_year/(1+$H31)*PowerFactor","v":0}]
[null,null,null,null,null,"LV circuits","p/kVA/day",null,null,{"$f":"hundred*J102*$H60*J89/$H46/days_in_year/(1+$H32)*PowerFactor","v":1.3735112021627764},1.3735112021627764,{"$f":"hundred*L102*$H60*L89/$H46/days_in_year/(1+$H32)*PowerFactor","v":1.3735112021627764},1.3735112021627764,{"$f":"hundred*N102*$H60*N89/$H46/days_in_year/(1+$H32)*PowerFactor","v":1.3735112021627764},0,0,{"$f":"hundred*Q102*$H60*Q89/$H46/days_in_year/(1+$H32)*PowerFactor","v":0}]
[null,null,null,null,null,"LV customers","p/kVA/day"]
[null,null,null,null,null,"HV customers","p/kVA/day"]
[]
[null,null,null,null,"Other operating costs"]
[null,null,null,null,null,"Transmission exit","p/kVA/day",null,null,{"$f":"hundred*J94*$H65*J80/$H37/days_in_year/(1+$H23)*PowerFactor","v":0},0,{"$f":"hundred*L94*$H65*L80/$H37/days_in_year/(1+$H23)*PowerFactor","v":0},0,{"$f":"hundred*N94*$H65*N80/$H37/days_in_year/(1+$H23)*PowerFactor","v":0},0,0,{"$f":"hundred*Q94*$H65*Q80/$H37/days_in_year/(1+$H23)*PowerFactor","v":0}]
[null,null,null,null,null,"GSPs","p/kVA/day",null,null,{"$f":"hundred*J94*$H66*J81/$H38/days_in_year/(1+$H24)*PowerFactor","v":0},0,{"$f":"hundred*L94*$H66*L81/$H38/days_in_year/(1+$H24)*PowerFactor","v":0},0,{"$f":"hundred*N94*$H66*N81/$H38/days_in_year/(1+$H24)*PowerFactor","v":0},0,0,{"$f":"hundred*Q94*$H66*Q81/$H38/days_in_year/(1+$H24)*PowerFactor","v":0}]
[null,null,null,null,null,"132kV","p/kVA/day",null,null,{"$f":"hundred*J95*$H67*J82/$H39/days_in_year/(1+$H25)*PowerFactor","v":0},0,{"$f":"hundred*L95*$H67*L82/$H39/days_in_year/(1+$H25)*PowerFactor","v":0},0,{"$f":"hundred*N95*$H67*N82/$H39/days_in_year/(1+$H25)*PowerFactor","v":0},0,0,{"$f":"hundred*Q95*$H67*Q82/$H39/days_in_year/(1+$H25)*PowerFactor","v":0}]
[null,null,null,null,null,"132kV/EHV","p/kVA/day",null,null,{"$f":"hundred*J96*$H68*J83/$H40/days_in_year/(1+$H26)*PowerFactor","v":0},0,{"$f":"hundred*L96*$H68*L83/$H40/days_in_year/(1+$H26)*PowerFactor","v":0},0,{"$f":"hundred*N96*$H68*N83/$H40/days_in_year/(1+$H26)*PowerFactor","v":0},0,0,{"$f":"hundred*Q96*$H68*Q83/$H40/days_in_year/(1+$H26)*PowerFactor","v":0}]
[null,null,null,null,null,"EHV","p/kVA/day",null,null,{"$f":"hundred*J97*$H69*J84/$H41/days_in_year/(1+$H27)*PowerFactor","v":0},0,{"$f":"hundred*L97*$H69*L84/$H41/days_in_year/(1+$H27)*PowerFactor","v":0},0,{"$f":"hundred*N97*$H69*N84/$H41/days_in_year/(1+$H27)*PowerFactor","v":0},0,0.54580919618624368,{"$f":"hundred*Q97*$H69*Q84/$H41/days_in_year/(1+$H27)*PowerFactor","v":0}]
[null,null,null,null,null,"EHV/HV","p/kVA/day",null,null,{"$f":"hundred*J98*$H70*J85/$H42/days_in_year/(1+$H28)*PowerFactor","v":0},0,{"$f":"hundred*L98*$H70*L85/$H42/days_in_year/(1+$H28)*PowerFactor","v":0},0,{"$f":"hundred*N98*$H70*N85/$H42/days_in_year/(1+$H28)*PowerFactor","v":0},0,0.69930415072800134,{"$f":"hundred*Q98*$H70*Q85/$H42/days_in_year/(1+$H28)*PowerFactor","v":0}]
[null,null,null,null,null,"132kV/HV","p/kVA/day",null,null,{"$f":"hundred*J99*$H71*J86/$H43/days_in_year/(1+$H29)*PowerFactor","v":0},0,{"$f":"hundred*L99*$H71*L86/$H43/days_in_year/(1+$H29)*PowerFactor","v":0},0,{"$f":"hundred*N99*$H71*N86/$H43/days_in_year/(1+$H29)*PowerFactor","v":0},0,0,{"$f":"hundred*Q99*$H71*Q86/$H43/days_in_year/(1+$H29)*PowerFactor","v":0}]
[null,null,null,null,null,"HV","p/kVA/day",null,null,{"$f":"hundred*J100*$H72*J87/$H44/days_in_year/(1+$H30)*PowerFactor","v":0},0,{"$f":"hundred*L100*$H72*L87/$H44/days_in_year/(1+$H30)*PowerFactor","v":0},0,{"$f":"hundred*N100*$H72*N87/$H44/days_in_year/(1+$H30)*PowerFactor","v":0.53065700421757012},2.453701634545844,2.4067408377124306,{"$f":"hundred*Q100*$H72*Q87/$H44/days_in_year/(1+$H30)*PowerFactor","v":0}]
[null,null,null,null,null,"HV/LV","p/kVA/day",null,null,{"$f":"hundred*J101*$H73*J88/$H45/days_in_year/(1+$H31)*PowerFactor","v":0},0,{"$f":"hundred*L101*$H73*L88/$H45/days_in_year/(1+$H31)*PowerFactor","v":0},0,{"$f":"hundred*N101*$H73*N88/$H45/days_in_year/(1+$H31)*PowerFactor","v":0.66684565469356638},0.6166846983670593,0,{"$f":"hundred*Q101*$H73*Q88/$H45/days_in_year/(1+$H31)*PowerFactor","v":0}]
[null,null,null,null,null,"LV circuits","p/kVA/day",null,null,{"$f":"hundred*J102*$H74*J89/$H46/days_in_year/(1+$H32)*PowerFactor","v":0.98433623219358002},0.98433623219358002,{"$f":"hundred*L102*$H74*L89/$H46/days_in_year/(1+$H32)*PowerFactor","v":0.98433623219358002},0.98433623219358002,{"$f":"hundred*N102*$H74*N89/$H46/days_in_year/(1+$H32)*PowerFactor","v":0.98433623219358002},0,0,{"$f":"hundred*Q102*$H74*Q89/$H46/days_in_year/(1+$H32)*PowerFactor","v":0}]
[null,null,null,null,null,"LV customers","p/kVA/day"]
[null,null,null,null,null,"HV customers","p/kVA/day"]
[]
[null,null,{"$f":"INDEX('Version control'!$H$29:$H$55,MATCH($A$1,'Version control'!$F$29:$F$55,0),1)&\"-D: Capacity charges for eligible customers, by network level\"","v":"Section 515-D: Capacity charges for eligible customers, by network level"}]
[null,null,null,null,null,null,null,null,">",null,null,null,null,null,null,null,null,null,null,null,null,null,null,null,null,null,"Paragraph 73, 78"]
[null,null,null,null,"Asset costs"]
[null,null,null,null,null,"Transmission exit","p/kVA/day"]
[null,null,null,null,null,"GSPs","p/kVA/day"]
[null,null,null,null,null,"132kV","p/kVA/day",null,null,{"$f":"J$121 * J134","v":0},0,0,0,0,0,0,0]
[null,null,null,null,null,"132kV/EHV","p/kVA/day",null,null,0,0,0,0,0,0,0,0]
[null,null,null,null,null,"EHV","p/kVA/day",null,null,0,0,0,0,0,0,0.76160464350136292,0]
[null,null,null,null,null,"EHV/HV","p/kVA/day",null,null,0,0,0,0,0,0,0.97578657914823519,0]
[null,null,null,null,null,"132kV/HV","p/kVA/day",null,null,0,0,0,0,0,0,0,0]
[null,null,null,null,null,"HV","p/kVA/day",null,null,0,0,0,0,0.74046176089110305,3.4238165492531096,3.3582889597937196,0]
[null,null,null,null,null,"HV/LV","p/kVA/day",null,null,0,0,0,0,0.93049503500858533,0.86050204564953259,0,0]
[null,null,null,null,null,"LV circuits","p/kVA/day",null,null,0,0,0,0,1.3735112021627764,0,0,0]
[null,null,null,null,null,"LV customers","p/kVA/day"]
[null,null,null,null,null,"HV customers","p/kVA/day"]
[]
[null,null,null,null,"Other operating costs"]
[null,null,null,null,null,"Transmission exit","p/kVA/day",null,null,{"$f":"J$121 * J146","v":0},0,0,0,0,0,0,0]
[null,null,null,null,null,"GSPs","p/kVA/day",null,null,0,0,0,0,0,0,0,0]
[null,null,null,null,null,"132kV","p/kVA/day",null,null,0,0,0,0,0,0,0,0]
[null,null,null,null,null,"132kV/EHV","p/kVA/day",null,null,0,0,0,0,0,0,0,0]
[null,null,null,null,null,"EHV","p/kVA/day",null,null,0,0,0,0,0,0,0.54580919618624368,0]
[null,null,null,null,null,"EHV/HV","p/kVA/day",null,null,0,0,0,0,0,0,0.69930415072800134,0]
[null,null,null,null,null,"132kV/HV","p/kVA/day",null,null,0,0,0,0,0,0,0,0]
[null,null,null,null,null,"HV","p/kVA/day",null,null,0,0,0,0,0.53065700421757012,2.453701634545844,2.4067408377124306,0]
[null,null,null,null,null,"HV/LV","p/kVA/day",null,null,0,0,0,0,0.66684565469356638,0.6166846983670593,0,0]
[null,null,null,null,null,"LV circuits","p/kVA/day",null,null,0,0,0,0,0.98433623219358002,0,0,0]
[null,null,null,null,null,"LV customers","p/kVA/day"]
[null,null,null,null,null,"HV customers","p/kVA/day"]
[]
[null,null,{"$f":"INDEX('Version control'!$H$29:$H$55,MATCH($A$1,'Version control'!$F$29:$F$55,0),1)&\"-E: Exceeded capacity charges for eligible customers, by network level\"","v":"Section 515-E: Exceeded capacity charges for eligible customers, by network level"}]
[null,null,null,null,null,null,null,null,">",null,null,null,null,null,null,null,null,null,null,null,null,null,null,null,null,null,"Paragraphs 81 & 153"]
[null,null,null,null,"Asset costs"]
[null,null,null,null,null,"Transmission exit","p/kVA/day"]
[null,null,null,null,null,"GSPs","p/kVA/day"]
[null,null,null,null,null,"132kV","p/kVA/day",null,null,{"$f":"J$122 * J164","v":0},0,0,0,0,0,0,0]
[null,null,null,null,null,"132kV/EHV","p/kVA/day",null,null,0,0,0,0,0,0,0,0]
[null,null,null,null,null,"EHV","p/kVA/day",null,null,0,0,0,0,0,0,0.76160464350136292,0]
[null,null,null,null,null,"EHV/HV","p/kVA/day",null,null,0,0,0,0,0,0,0.97578657914823519,0]
[null,null,null,null,null,"132kV/HV","p/kVA/day",null,null,0,0,0,0,0,0,0,0]
[null,null,null,null,null,"HV","p/kVA/day",null,null,0,0,0,0,0.74046176089110305,3.4238165492531096,3.3582889597937196,0]
[null,null,null,null,null,"HV/LV","p/kVA/day",null,null,0,0,0,0,0.93049503500858533,0.86050204564953259,0,0]
[null,null,null,null,null,"LV circuits","p/kVA/day",null,null,0,0,0,0,1.3735112021627764,0,0,0]
[null,null,null,null,null,"LV customers","p/kVA/day"]
[null,null,null,null,null,"HV customers","p/kVA/day"]
[]
[null,null,null,null,"Other operating costs"]
[null,null,null,null,null,"Transmission exit","p/kVA/day",null,null,{"$f":"J$122 * J176","v":0},0,0,0,0,0,0,0]
[null,null,null,null,null,"GSPs","p/kVA/day",null,null,0,0,0,0,0,0,0,0]
[null,null,null,null,null,"132kV","p/kVA/day",null,null,0,0,0,0,0,0,0,0]
[null,null,null,null,null,"132kV/EHV","p/kVA/day",null,null,0,0,0,0,0,0,0,0]
[null,null,null,null,null,"EHV","p/kVA/day",null,null,0,0,0,0,0,0,0.54580919618624368,0]
[null,null,null,null,null,"EHV/HV","p/kVA/day",null,null,0,0,0,0,0,0,0.69930415072800134,0]
[null,null,null,null,null,"132kV/HV","p/kVA/day",null,null,0,0,0,0,0,0,0,0]
[null,null,null,null,null,"HV","p/kVA/day",null,null,0,0,0,0,0.53065700421757012,2.453701634545844,2.4067408377124306,0]
[null,null,null,null,null,"HV/LV","p/kVA/day",null,null,0,0,0,0,0.66684565469356638,0.6166846983670593,0,0]
[null,null,null,null,null,"LV circuits","p/kVA/day",null,null,0,0,0,0,0.98433623219358002,0,0,0]
[null,null,null,null,null,"LV customers","p/kVA/day"]
[null,null,null,null,null,"HV customers","p/kVA/day"]
[]
[null,"Capacity charges (and elements allocated to fixed charges)"]
[]
[null,null,"Exports capacity and exceeded capacity charges"]
[null,null,"Exports capacity element of charges that is allocated to fixed charges"]
[]
[null,null,{"$f":"INDEX('Version control'!$H$29:$H$55,MATCH($A$1,'Version control'!$F$29:$F$55,0),1)&\"-F: Capacity and exceeded capacity charges\"","v":"Section 515-F: Capacity and exceeded capacity charges"}]
[]
[null,null,null,null,"Total capacity charge",null,"p/kVA/day",null,">",{"$f":"SUM(J192:J203,J206:J217)","v":0},0,0,0,5.2263068891671809,7.3547049278155461,8.7475343670699921,0,null,null,null,null,null,null,null,null,null,"Paragraph 81"]
[null,null,null,null,"Total exceeded capacity charge",null,"p/kVA/day",null,">",{"$f":"SUM(J222:J233,J236:J247)","v":0},0,0,0,5.2263068891671809,7.3547049278155461,8.7475343670699921,0,null,null,null,null,null,null,null,null,null,"Paragraph 81"]
[]
[null,null,{"$f":"INDEX('Version control'!$H$29:$H$55,MATCH($A$1,'Version control'!$F$29:$F$55,0),1)&\"-G: Capacity elements allocated to fixed charges\"","v":"Section 515-G: Capacity elements allocated to fixed charges"}]
[null,null,null,null,null,null,null,null,">",null,null,null,null,null,null,null,null,null,null,null,null,null,null,null,null,null,"Paragraphs 73 & 78"]
[null,null,null,null,"Asset costs"]
[null,null,null,null,null,"Transmission exit","p/kVA/day"]
[null,null,null,null,null,"GSPs","p/kVA/day"]
[null,null,null,null,null,"132kV","p/kVA/day",null,null,{"$f":"J$123 * J134","v":0},0,0,0,0,0,0,0]
[null,null,null,null,null,"132kV/EHV","p/kVA/day",null,null,0,0,0,0,0,0,0,0]
[null,null,null,null,null,"EHV","p/kVA/day",null,null,0,0,0,0,0,0,0,0]
[null,null,null,null,null,"EHV/HV","p/kVA/day",null,null,0,0,0,0,0,0,0,0]
[null,null,null,null,null,"132kV/HV","p/kVA/day",null,null,0,0,0,0,0,0,0,0]
[null,null,null,null,null,"HV","p/kVA/day",null,null,0,0,0,0,0,0,0,0]
[null,null,null,null,null,"HV/LV","p/kVA/day",null,null,0,0,0,0,0,0,0,0]
[null,null,null,null,null,"LV circuits","p/kVA/day",null,null,1.3735112021627764,0,1.3735112021627764,0,0,0,0,0]
[null,null,null,null,null,"LV customers","p/kVA/day"]
[null,null,null,null,null,"HV customers","p/kVA/day"]
[]
[null,null,null,null,"Other costs"]
[null,null,null,null,null,"Transmission exit","p/kVA/day",null,null,{"$f":"J$123 * J146","v":0},0,0,0,0,0,0,0]
[null,null,null,null,null,"GSPs","p/kVA/day",null,null,0,0,0,0,0,0,0,0]
[null,null,null,null,null,"132kV","p/kVA/day",null,null,0,0,0,0,0,0,0,0]
[null,null,null,null,null,"132kV/EHV","p/kVA/day",null,null,0,0,0,0,0,0,0,0]
[null,null,null,null,null,"EHV","p/kVA/day",null,null,0,0,0,0,0,0,0,0]
[null,null,null,null,null,"EHV/HV","p/kVA/day",null,null,0,0,0,0,0,0,0,0]
[null,null,null,null,null,"132kV/HV","p/kVA/day",null,null,0,0,0,0,0,0,0,0]
[null,null,null,null,null,"HV","p/kVA/day",null,null,0,0,0,0,0,0,0,0]
[null,null,null,null,null,"HV/LV","p/kVA/day",null,null,0,0,0,0,0,0,0,0]
[null,null,null,null,null,"LV circuits","p/kVA/day",null,null,0.98433623219358002,0,0.98433623219358002,0,0,0,0,0]
[null,null,null,null,null,"LV customers","p/kVA/day"]
[null,null,null,null,null,"HV customers","p/kVA/day"]
[]
[null,"Checks"]
[]
[null,null,null,null,"Check for error values",null,"number of issues",{"$f":"SUM(IF(ISERROR(H51:Y287), 1))","v":0}]
[]
[null,null,null,null,"Check that costs are not allocated to both capacity and fixed charges",null,"number of issues",{"$f":"SUM(J293:Y293)","v":0},null,{"$f":"IF(J121 + J123 < 2, 0, 1)","v":0},0,0,0,0,0,0,0,0,0,0,0,0,0,0,0]
[]
[null,null,null,null,"Summary of checks",null,"number of issues",{"$f":"H291 + H293","v":0}]
[]
[null,"End of sheet"]

{"sheet":"Reactive power charges","index":30,"n_rows":256,"n_cols":27,"rows_kept":256,"cut":false,"hidden":true,"merged":[]}
[{"$f":"MID(CELL(\"filename\",A1),FIND(\"]\",CELL(\"filename\",A1))+1,255)","v":"Reactive power charges"}]
[{"$f":"Cover!D23 & \" - \" & TEXT(CIRP_submission_date, \"mmm\") & \"-\" & RIGHT(YEAR(CIRP_submission_date), 2) & \" - \" & Cover!D25","v":"SP Distribution - Jan-26 - V1"}]
[{"$f":"Cover!D2&\" - \"&Cover!D8&\" v\"&Cover!D10&\" - \"&Cover!D19","v":"Cost Information Review Pack (CIRP) - Release for charge setting v1 - 2027/28"}]
[{"$f":"H254 & IF(H254 = 1, \" issue\", \" issues\") &\" identified in checks on this sheet\"","v":"0 issues identified in checks on this sheet"}]
[null,"Click here to return to model map",null,null,null,null,"Units","Constants",null,"Domestic Aggregated or CT","Domestic Aggregated (Related MPAN)","Non-Domestic Aggregated or CT","Non-Domestic Aggregated (Related MPAN)","LV Site Specific","LV Sub Site Specific","HV Site Specific","Unmetered Supplies","LV Generation Aggregated","LV Sub Generation Aggregated","LV Generation Site Specific","LV Generation Site Specific no RP Charge","LV Sub Generation Site Specific","LV Sub Generation Site Specific no RP Charge","HV Generation Site Specific","HV Generation Site Specific no RP Charge",null,"Legal text reference"]
[]
[null,"Description"]
[]
[null,null,"This sheet calculates reactive power charges (p/kVArh) in line with Paragraph 87-88."]
[null,null,"Reactive charges are based on yardstick charges. For generation, yardstick charges are "]
[null,null,"re-calculated to account for a contribution at the network level they are connected (para 88)."]
[]
[null,"Inputs to reactive power charge calculations"]
[]
[null,null,"Bring in inputs required to calculate reactive power charges"]
[]
[null,null,{"$f":"INDEX('Version control'!$H$29:$H$55,MATCH($A$1,'Version control'!$F$29:$F$55,0),1)&\"-A: Inputs to reactive power charge calculations\"","v":"Section 516-A: Inputs to reactive power charge calculations"}]
[]
[null,null,null,"Average kVAr by kVA, by network level"]
[null,null,null,"This table transposes 'Average kVAr by kVA, by network level' from DNO inputs. "]
[null,null,null,null,"Transmission exit",null,"kVAr/ kVA"]
[null,null,null,null,"GSPs",null,"kVAr/ kVA",{"$f":"TRANSPOSE('Inputs by network level'!K24:S24)","v":0.12509349051851895}]
[null,null,null,null,"132kV",null,"kVAr/ kVA",0]
[null,null,null,null,"132kV/EHV",null,"kVAr/ kVA",0]
[null,null,null,null,"EHV",null,"kVAr/ kVA",0.12509349051851895]
[null,null,null,null,"EHV/HV",null,"kVAr/ kVA",0.17242530530783179]
[null,null,null,null,"132kV/HV",null,"kVAr/ kVA",0]
[null,null,null,null,"HV",null,"kVAr/ kVA",0.17242530530783179]
[null,null,null,null,"HV/LV",null,"kVAr/ kVA",0.17242530530783179]
[null,null,null,null,"LV circuits",null,"kVAr/ kVA",0.17242530530783179]
[null,null,null,null,"LV customers",null,"kVAr/ kVA"]
[null,null,null,null,"HV customers",null,"kVAr/ kVA"]
[]
[null,null,null,"Loss adjustment factor to transmission for each DRM network level"]
[null,null,null,null,"Transmission exit",null,"scalar",{"$f":"TRANSPOSE('Load & loss characteristics'!J29:S29)","v":1}]
[null,null,null,null,"GSPs",null,"scalar",1]
[null,null,null,null,"132kV",null,"scalar",1]
[null,null,null,null,"132kV/EHV",null,"scalar",1]
[null,null,null,null,"EHV",null,"scalar",1.0029999999999999]
[null,null,null,null,"EHV/HV",null,"scalar",1.0129999999999999]
[null,null,null,null,"132kV/HV",null,"scalar",1.0129999999999999]
[null,null,null,null,"HV",null,"scalar",1.0249999999999999]
[null,null,null,null,"HV/LV",null,"scalar",1.0449999999999999]
[null,null,null,null,"LV circuits",null,"scalar",1.1299999999999999]
[null,null,null,null,"LV customers",null,"scalar"]
[null,null,null,null,"HV customers",null,"scalar"]
[]
[null,null,null,"Network level assets per kW of system simultaneous peak load per year"]
[null,null,null,null,"Transmission exit",null,"£/kW/year"]
[null,null,null,null,"GSPs",null,"£/kW/year"]
[null,null,null,null,"132kV",null,"£/kW/year",{"$f":"TRANSPOSE('Unit costs'!L114:S114)","v":0}]
[null,null,null,null,"132kV/EHV",null,"£/kW/year",0]
[null,null,null,null,"EHV",null,"£/kW/year",18.104093063620716]
[null,null,null,null,"EHV/HV",null,"£/kW/year",4.6853338185352804]
[null,null,null,null,"132kV/HV",null,"£/kW/year",0]
[null,null,null,null,"HV",null,"£/kW/year",20.395210541559198]
[null,null,null,null,"HV/LV",null,"£/kW/year",5.2259113502676673]
[null,null,null,null,"LV circuits",null,"£/kW/year",9.5051362373290171]
[null,null,null,null,"LV customers",null,"£/kW/year"]
[null,null,null,null,"HV customers",null,"£/kW/year"]
[]
[null,null,null,"Other operating costs (excl. service models) per kW of system simultaneous peak load per year"]
[null,null,null,null,"Transmission exit",null,"£/kW/year",{"$f":"TRANSPOSE('Unit costs'!J115:S115)","v":12.058807173667748}]
[null,null,null,null,"GSPs",null,"£/kW/year",0]
[null,null,null,null,"132kV",null,"£/kW/year",0]
[null,null,null,null,"132kV/EHV",null,"£/kW/year",0]
[null,null,null,null,"EHV",null,"£/kW/year",12.974422578764242]
[null,null,null,null,"EHV/HV",null,"£/kW/year",3.3577766459014362]
[null,null,null,null,"132kV/HV",null,"£/kW/year",0]
[null,null,null,null,"HV",null,"£/kW/year",14.616367647865729]
[null,null,null,null,"HV/LV",null,"£/kW/year",3.7451852450858367]
[null,null,null,null,"LV circuits",null,"£/kW/year",6.811921137305939]
[null,null,null,null,"LV customers",null,"£/kW/year"]
[null,null,null,null,"HV customers",null,"£/kW/year"]
[]
[null,null,null,"Flag for applicability of reactive charges"]
[null,null,null,"This flag is used to filter out customers that do not receive reactive power charges"]
[null,null,null,null,"Reactive power charge flag",null,"0 or 1",null,">",{"$f":"'Fixed inputs'!J143","v":0},{"$f":"'Fixed inputs'!K143","v":0},{"$f":"'Fixed inputs'!L143","v":0},{"$f":"'Fixed inputs'!M143","v":0},{"$f":"'Fixed inputs'!N143","v":1},{"$f":"'Fixed inputs'!O143","v":1},{"$f":"'Fixed inputs'!P143","v":1},{"$f":"'Fixed inputs'!Q143","v":0},{"$f":"'Fixed inputs'!R143","v":0},{"$f":"'Fixed inputs'!S143","v":0},{"$f":"'Fixed inputs'!T143","v":1},{"$f":"'Fixed inputs'!U143","v":0},{"$f":"'Fixed inputs'!V143","v":1},{"$f":"'Fixed inputs'!W143","v":0},{"$f":"'Fixed inputs'!X143","v":1},{"$f":"'Fixed inputs'!Y143","v":0},null,"Paragraphs 141 & 146"]
[]
[null,null,null,"Standing charge factors"]
[null,null,null,null,"GSPs",null,"%",null,null,{"$f":"'Standing charge factors'!J44","v":0},{"$f":"'Standing charge factors'!K44","v":0},{"$f":"'Standing charge factors'!L44","v":0},{"$f":"'Standing charge factors'!M44","v":0},{"$f":"'Standing charge factors'!N44","v":0},{"$f":"'Standing charge factors'!O44","v":0},{"$f":"'Standing charge factors'!P44","v":0},{"$f":"'Standing charge factors'!Q44","v":0},{"$f":"'Standing charge factors'!R44","v":0},{"$f":"'Standing charge factors'!S44","v":0},{"$f":"'Standing charge factors'!T44","v":0},{"$f":"'Standing charge factors'!U44","v":0},{"$f":"'Standing charge factors'!V44","v":0},{"$f":"'Standing charge factors'!W44","v":0},{"$f":"'Standing charge factors'!X44","v":0},{"$f":"'Standing charge factors'!Y44","v":0}]
[null,null,null,null,"132kV",null,"%",null,null,{"$f":"'Standing charge factors'!J45","v":0},{"$f":"'Standing charge factors'!K45","v":0},{"$f":"'Standing charge factors'!L45","v":0},{"$f":"'Standing charge factors'!M45","v":0},{"$f":"'Standing charge factors'!N45","v":0},{"$f":"'Standing charge factors'!O45","v":0},{"$f":"'Standing charge factors'!P45","v":0},{"$f":"'Standing charge factors'!Q45","v":0},{"$f":"'Standing charge factors'!R45","v":0},{"$f":"'Standing charge factors'!S45","v":0},{"$f":"'Standing charge factors'!T45","v":0},{"$f":"'Standing charge factors'!U45","v":0},{"$f":"'Standing charge factors'!V45","v":0},{"$f":"'Standing charge factors'!W45","v":0},{"$f":"'Standing charge factors'!X45","v":0},{"$f":"'Standing charge factors'!Y45","v":0}]
[null,null,null,null,"132kV/EHV",null,"%",null,null,{"$f":"'Standing charge factors'!J46","v":0},{"$f":"'Standing charge factors'!K46","v":0},{"$f":"'Standing charge factors'!L46","v":0},{"$f":"'Standing charge factors'!M46","v":0},{"$f":"'Standing charge factors'!N46","v":0},{"$f":"'Standing charge factors'!O46","v":0},{"$f":"'Standing charge factors'!P46","v":0},{"$f":"'Standing charge factors'!Q46","v":0},{"$f":"'Standing charge factors'!R46","v":0},{"$f":"'Standing charge factors'!S46","v":0},{"$f":"'Standing charge factors'!T46","v":0},{"$f":"'Standing charge factors'!U46","v":0},{"$f":"'Standing charge factors'!V46","v":0},{"$f":"'Standing charge factors'!W46","v":0},{"$f":"'Standing charge factors'!X46","v":0},{"$f":"'Standing charge factors'!Y46","v":0}]
[null,null,null,null,"EHV",null,"%",null,null,{"$f":"'Standing charge factors'!J47","v":0},{"$f":"'Standing charge factors'!K47","v":0},{"$f":"'Standing charge factors'!L47","v":0},{"$f":"'Standing charge factors'!M47","v":0},{"$f":"'Standing charge factors'!N47","v":0},{"$f":"'Standing charge factors'!O47","v":0},{"$f":"'Standing charge factors'!P47","v":0.2},{"$f":"'Standing charge factors'!Q47","v":0},{"$f":"'Standing charge factors'!R47","v":0},{"$f":"'Standing charge factors'!S47","v":0},{"$f":"'Standing charge factors'!T47","v":0},{"$f":"'Standing charge factors'!U47","v":0},{"$f":"'Standing charge factors'!V47","v":0},{"$f":"'Standing charge factors'!W47","v":0},{"$f":"'Standing charge factors'!X47","v":0},{"$f":"'Standing charge factors'!Y47","v":0}]
[null,null,null,null,"EHV/HV",null,"%",null,null,{"$f":"'Standing charge factors'!J48","v":0},{"$f":"'Standing charge factors'!K48","v":0},{"$f":"'Standing charge factors'!L48","v":0},{"$f":"'Standing charge factors'!M48","v":0},{"$f":"'Standing charge factors'!N48","v":0},{"$f":"'Standing charge factors'!O48","v":0},{"$f":"'Standing charge factors'!P48","v":1},{"$f":"'Standing charge factors'!Q48","v":0},{"$f":"'Standing charge factors'!R48","v":0},{"$f":"'Standing charge factors'!S48","v":0},{"$f":"'Standing charge factors'!T48","v":0},{"$f":"'Standing charge factors'!U48","v":0},{"$f":"'Standing charge factors'!V48","v":0},{"$f":"'Standing charge factors'!W48","v":0},{"$f":"'Standing charge factors'!X48","v":0},{"$f":"'Standing charge factors'!Y48","v":0}]
[null,null,null,null,"132kV/HV",null,"%",null,null,{"$f":"'Standing charge factors'!J49","v":0},{"$f":"'Standing charge factors'!K49","v":0},{"$f":"'Standing charge factors'!L49","v":0},{"$f":"'Standing charge factors'!M49","v":0},{"$f":"'Standing charge factors'!N49","v":0},{"$f":"'Standing charge factors'!O49","v":0},{"$f":"'Standing charge factors'!P49","v":1},{"$f":"'Standing charge factors'!Q49","v":0},{"$f":"'Standing charge factors'!R49","v":0},{"$f":"'Standing charge factors'!S49","v":0},{"$f":"'Standing charge factors'!T49","v":0},{"$f":"'Standing charge factors'!U49","v":0},{"$f":"'Standing charge factors'!V49","v":0},{"$f":"'Standing charge factors'!W49","v":0},{"$f":"'Standing charge factors'!X49","v":0},{"$f":"'Standing charge factors'!Y49","v":0}]
[null,null,null,null,"HV",null,"%",null,null,{"$f":"'Standing charge factors'!J50","v":0},{"$f":"'Standing charge factors'!K50","v":0},{"$f":"'Standing charge factors'!L50","v":0},{"$f":"'Standing charge factors'!M50","v":0},{"$f":"'Standing charge factors'!N50","v":0.2},{"$f":"'Standing charge factors'!O50","v":1},{"$f":"'Standing charge factors'!P50","v":1},{"$f":"'Standing charge factors'!Q50","v":0},{"$f":"'Standing charge factors'!R50","v":0},{"$f":"'Standing charge factors'!S50","v":0},{"$f":"'Standing charge factors'!T50","v":0},{"$f":"'Standing charge factors'!U50","v":0},{"$f":"'Standing charge factors'!V50","v":0},{"$f":"'Standing charge factors'!W50","v":0},{"$f":"'Standing charge factors'!X50","v":0},{"$f":"'Standing charge factors'!Y50","v":0}]
[null,null,null,null,"HV/LV",null,"%",null,null,{"$f":"'Standing charge factors'!J51","v":0},{"$f":"'Standing charge factors'!K51","v":0},{"$f":"'Standing charge factors'!L51","v":0},{"$f":"'Standing charge factors'!M51","v":0},{"$f":"'Standing charge factors'!N51","v":1},{"$f":"'Standing charge factors'!O51","v":1},{"$f":"'Standing charge factors'!P51","v":0},{"$f":"'Standing charge factors'!Q51","v":0},{"$f":"'Standing charge factors'!R51","v":0},{"$f":"'Standing charge factors'!S51","v":0},{"$f":"'Standing charge factors'!T51","v":0},{"$f":"'Standing charge factors'!U51","v":0},{"$f":"'Standing charge factors'!V51","v":0},{"$f":"'Standing charge factors'!W51","v":0},{"$f":"'Standing charge factors'!X51","v":0},{"$f":"'Standing charge factors'!Y51","v":0}]
[null,null,null,null,"LV circuits",null,"%",null,null,{"$f":"'Standing charge factors'!J52","v":1},{"$f":"'Standing charge factors'!K52","v":1},{"$f":"'Standing charge factors'!L52","v":1},{"$f":"'Standing charge factors'!M52","v":1},{"$f":"'Standing charge factors'!N52","v":1},{"$f":"'Standing charge factors'!O52","v":0},{"$f":"'Standing charge factors'!P52","v":0},{"$f":"'Standing charge factors'!Q52","v":0},{"$f":"'Standing charge factors'!R52","v":0},{"$f":"'Standing charge factors'!S52","v":0},{"$f":"'Standing charge factors'!T52","v":0},{"$f":"'Standing charge factors'!U52","v":0},{"$f":"'Standing charge factors'!V52","v":0},{"$f":"'Standing charge factors'!W52","v":0},{"$f":"'Standing charge factors'!X52","v":0},{"$f":"'Standing charge factors'!Y52","v":0}]
[]
[null,null,null,"User loss factor (assuming generation contributes at level of connection)",null,null,null,null,">",null,null,null,null,null,null,null,null,null,null,null,null,null,null,null,null,null,"Paragraphs 146 & 88"]
[null,null,null,"These have been adjusted for the share of load going through 132/HV transformation"]
[null,null,null,null,"Transmission exit",null,"scalar",null,null,null,null,null,null,null,null,null,null,{"$f":"TRANSPOSE('Load & loss characteristics'!J172:S179)","v":-1.1299999999999999},-1.0449999999999999,-1.1299999999999999,-1.1299999999999999,-1.0449999999999999,-1.0449999999999999,-1.0249999999999999,-1.0249999999999999]
[null,null,null,null,"GSPs",null,"scalar",null,null,null,null,null,null,null,null,null,null,-1.1299999999999999,-1.0449999999999999,-1.1299999999999999,-1.1299999999999999,-1.0449999999999999,-1.0449999999999999,-1.0249999999999999,-1.0249999999999999]
[null,null,null,null,"132kV",null,"scalar",null,null,null,null,null,null,null,null,null,null,-1.1299999999999999,-1.0449999999999999,-1.1299999999999999,-1.1299999999999999,-1.0449999999999999,-1.0449999999999999,-1.0249999999999999,-1.0249999999999999]
[null,null,null,null,"132kV/EHV",null,"scalar",null,null,null,null,null,null,null,null,null,null,-1.1299999999999999,-1.0449999999999999,-1.1299999999999999,-1.1299999999999999,-1.0449999999999999,-1.0449999999999999,-1.0249999999999999,-1.0249999999999999]
[null,null,null,null,"EHV",null,"scalar",null,null,null,null,null,null,null,null,null,null,-1.1299999999999999,-1.0449999999999999,-1.1299999999999999,-1.1299999999999999,-1.0449999999999999,-1.0449999999999999,-1.0249999999999999,-1.0249999999999999]
[null,null,null,null,"EHV/HV",null,"scalar",null,null,null,null,null,null,null,null,null,null,-1.1299999999999999,-1.0449999999999999,-1.1299999999999999,-1.1299999999999999,-1.0449999999999999,-1.0449999999999999,-1.0249999999999999,-1.0249999999999999]
[null,null,null,null,"132kV/HV",null,"scalar",null,null,null,null,null,null,null,null,null,null,0,0,0,0,0,0,0,0]
[null,null,null,null,"HV",null,"scalar",null,null,null,null,null,null,null,null,null,null,-1.1299999999999999,-1.0449999999999999,-1.1299999999999999,-1.1299999999999999,-1.0449999999999999,-1.0449999999999999,-1.0249999999999999,-1.0249999999999999]
[null,null,null,null,"HV/LV",null,"scalar",null,null,null,null,null,null,null,null,null,null,-1.1299999999999999,-1.0449999999999999,-1.1299999999999999,-1.1299999999999999,-1.0449999999999999,-1.0449999999999999,0,0]
[null,null,null,null,"LV circuits",null,"scalar",null,null,null,null,null,null,null,null,null,null,-1.1299999999999999,0,-1.1299999999999999,-1.1299999999999999,0,0,0,0]
[null,null,null,null,"LV customers",null,"scalar"]
[null,null,null,null,"HV customers",null,"scalar"]
[]
[null,null,null,"Customer contributions, by network level"]
[null,null,null,null,"Transmission exit",null,"%"]
[null,null,null,null,"GSPs",null,"%"]
[null,null,null,null,"132kV",null,"%",null,null,{"$f":"TRANSPOSE('Customer contributions'!L51:S66)","v":0},0,0,0,0,0,0,0,0,0,0,0,0,0,0,0]
[null,null,null,null,"132kV/EHV",null,"%",null,null,0,0,0,0,0,0,0,0,0,0,0,0,0,0,0,0]
[null,null,null,null,"EHV",null,"%",null,null,0,0,0,0,0,0,0,0,0,0,0,0,0,0,0,0]
[null,null,null,null,"EHV/HV",null,"%",null,null,0,0,0,0,0,0,0,0,0,0,0,0,0,0,0,0]
[null,null,null,null,"132kV/HV",null,"%",null,null,0,0,0,0,0,0,0,0,0,0,0,0,0,0,0,0]
[null,null,null,null,"HV",null,"%",null,null,0,0,0,0,0,0,0,0,0,0,0,0,0,0,0,0]
[null,null,null,null,"HV/LV",null,"%",null,null,0,0,0,0,0,0,0,0,0,0,0,0,0,0,0,0]
[null,null,null,null,"LV circuits",null,"%",null,null,0,0,0,0,0,0,0,0,0,0,0,0,0,0,0,0]
[null,null,null,null,"LV customers",null,"%"]
[null,null,null,null,"HV customers",null,"%"]
[]
[null,null,{"$f":"INDEX('Version control'!$H$29:$H$55,MATCH($A$1,'Version control'!$F$29:$F$55,0),1)&\"-B: Yardstick charge (demand)\"","v":"Section 516-B: Yardstick charge (demand)"}]
[]
[null,null,null,"Asset costs"]
[null,null,null,null,"Transmission exit",null,"p/kWh"]
[null,null,null,null,"GSPs",null,"p/kWh"]
[null,null,null,null,"132kV",null,"p/kWh",null,null,{"$f":"'Initial unit rates'!J125","v":0},{"$f":"'Initial unit rates'!K125","v":0},{"$f":"'Initial unit rates'!L125","v":0},{"$f":"'Initial unit rates'!M125","v":0},{"$f":"'Initial unit rates'!N125","v":0},{"$f":"'Initial unit rates'!O125","v":0},{"$f":"'Initial unit rates'!P125","v":0},{"$f":"'Initial unit rates'!Q125","v":0}]
[null,null,null,null,"132kV/EHV",null,"p/kWh",null,null,{"$f":"'Initial unit rates'!J126","v":0},{"$f":"'Initial unit rates'!K126","v":0},{"$f":"'Initial unit rates'!L126","v":0},{"$f":"'Initial unit rates'!M126","v":0},{"$f":"'Initial unit rates'!N126","v":0},{"$f":"'Initial unit rates'!O126","v":0},{"$f":"'Initial unit rates'!P126","v":0},{"$f":"'Initial unit rates'!Q126","v":0}]
[null,null,null,null,"EHV",null,"p/kWh",null,null,{"$f":"'Initial unit rates'!J127","v":0.4442477660498324},{"$f":"'Initial unit rates'!K127","v":0.4442477660498324},{"$f":"'Initial unit rates'!L127","v":0.37161519549924638},{"$f":"'Initial unit rates'!M127","v":0.37161519549924638},{"$f":"'Initial unit rates'!N127","v":0.33876431237917781},{"$f":"'Initial unit rates'!O127","v":0.26119757435815727},{"$f":"'Initial unit rates'!P127","v":0.24090575706083051},{"$f":"'Initial unit rates'!Q127","v":0.41942937049132284}]
[null,null,null,null,"EHV/HV",null,"p/kWh",null,null,{"$f":"'Initial unit rates'!J128","v":0.11383623028743674},{"$f":"'Initial unit rates'!K128","v":0.11383623028743674},{"$f":"'Initial unit rates'!L128","v":9.5224503545208075E-2},{"$f":"'Initial unit rates'!M128","v":9.5224503545208075E-2},{"$f":"'Initial unit rates'!N128","v":8.6806631848848639E-2},{"$f":"'Initial unit rates'!O128","v":6.6930549791036562E-2},{"$f":"'Initial unit rates'!P128","v":6.1730874827336302E-2},{"$f":"'Initial unit rates'!Q128","v":0.10747664266973271}]
[null,null,null,null,"132kV/HV",null,"p/kWh",null,null,{"$f":"'Initial unit rates'!J129","v":0},{"$f":"'Initial unit rates'!K129","v":0},{"$f":"'Initial unit rates'!L129","v":0},{"$f":"'Initial unit rates'!M129","v":0},{"$f":"'Initial unit rates'!N129","v":0},{"$f":"'Initial unit rates'!O129","v":0},{"$f":"'Initial unit rates'!P129","v":0},{"$f":"'Initial unit rates'!Q129","v":0}]
[null,null,null,null,"HV",null,"p/kWh",null,null,{"$f":"'Initial unit rates'!J130","v":0.48972665177017977},{"$f":"'Initial unit rates'!K130","v":0.48972665177017977},{"$f":"'Initial unit rates'!L130","v":0.40965848192549476},{"$f":"'Initial unit rates'!M130","v":0.40965848192549476},{"$f":"'Initial unit rates'!N130","v":0.37344456206465731},{"$f":"'Initial unit rates'!O130","v":0.28793710023195557},{"$f":"'Initial unit rates'!P130","v":0.26556795287143203},{"$f":"'Initial unit rates'!Q130","v":0.46236752767767181}]
[null,null,null,null,"HV/LV",null,"p/kWh",null,null,{"$f":"'Initial unit rates'!J131","v":0.12308217440834114},{"$f":"'Initial unit rates'!K131","v":0.12308217440834114},{"$f":"'Initial unit rates'!L131","v":0.10295877616207832},{"$f":"'Initial unit rates'!M131","v":0.10295877616207832},{"$f":"'Initial unit rates'!N131","v":9.3857192688502095E-2},{"$f":"'Initial unit rates'!O131","v":7.236674634978392E-2},{"$f":"'Initial unit rates'!P131","v":0},{"$f":"'Initial unit rates'!Q131","v":0.1162060518386555}]
[null,null,null,null,"LV circuits",null,"p/kWh",null,null,{"$f":"'Initial unit rates'!J132","v":0.20702810871423008},{"$f":"'Initial unit rates'!K132","v":0.20702810871423008},{"$f":"'Initial unit rates'!L132","v":0.17317991664374036},{"$f":"'Initial unit rates'!M132","v":0.17317991664374036},{"$f":"'Initial unit rates'!N132","v":0.157870765486012},{"$f":"'Initial unit rates'!O132","v":0},{"$f":"'Initial unit rates'!P132","v":0},{"$f":"'Initial unit rates'!Q132","v":0.19546225315689783}]
[null,null,null,null,"LV customers",null,"p/kWh"]
[null,null,null,null,"HV customers",null,"p/kWh"]
[]
[null,null,null,"Other operating costs"]
[null,null,null,null,"Transmission exit",null,"p/kWh",null,null,{"$f":"'Initial unit rates'!J135","v":0.29679307456550214},{"$f":"'Initial unit rates'!K135","v":0.29679307456550214},{"$f":"'Initial unit rates'!L135","v":0.2482687024139355},{"$f":"'Initial unit rates'!M135","v":0.2482687024139355},{"$f":"'Initial unit rates'!N135","v":0.22632168242080977},{"$f":"'Initial unit rates'!O135","v":0.17450089136545724},{"$f":"'Initial unit rates'!P135","v":0.16094433283113813},{"$f":"'Initial unit rates'!Q135","v":0.28021239935110703}]
[null,null,null,null,"GSPs",null,"p/kWh",null,null,{"$f":"'Initial unit rates'!J136","v":0},{"$f":"'Initial unit rates'!K136","v":0},{"$f":"'Initial unit rates'!L136","v":0},{"$f":"'Initial unit rates'!M136","v":0},{"$f":"'Initial unit rates'!N136","v":0},{"$f":"'Initial unit rates'!O136","v":0},{"$f":"'Initial unit rates'!P136","v":0},{"$f":"'Initial unit rates'!Q136","v":0}]
[null,null,null,null,"132kV",null,"p/kWh",null,null,{"$f":"'Initial unit rates'!J137","v":0},{"$f":"'Initial unit rates'!K137","v":0},{"$f":"'Initial unit rates'!L137","v":0},{"$f":"'Initial unit rates'!M137","v":0},{"$f":"'Initial unit rates'!N137","v":0},{"$f":"'Initial unit rates'!O137","v":0},{"$f":"'Initial unit rates'!P137","v":0},{"$f":"'Initial unit rates'!Q137","v":0}]
[null,null,null,null,"132kV/EHV",null,"p/kWh",null,null,{"$f":"'Initial unit rates'!J138","v":0},{"$f":"'Initial unit rates'!K138","v":0},{"$f":"'Initial unit rates'!L138","v":0},{"$f":"'Initial unit rates'!M138","v":0},{"$f":"'Initial unit rates'!N138","v":0},{"$f":"'Initial unit rates'!O138","v":0},{"$f":"'Initial unit rates'!P138","v":0},{"$f":"'Initial unit rates'!Q138","v":0}]
[null,null,null,null,"EHV",null,"p/kWh",null,null,{"$f":"'Initial unit rates'!J139","v":0.3183732113035096},{"$f":"'Initial unit rates'!K139","v":0.3183732113035096},{"$f":"'Initial unit rates'!L139","v":0.26632058099534756},{"$f":"'Initial unit rates'!M139","v":0.26632058099534756},{"$f":"'Initial unit rates'!N139","v":0.24277777008581714},{"$f":"'Initial unit rates'!O139","v":0.1871890347868754},{"$f":"'Initial unit rates'!P139","v":0.17264676461728415},{"$f":"'Initial unit rates'!Q139","v":0.30058693774805151}]
[null,null,null,null,"EHV/HV",null,"p/kWh",null,null,{"$f":"'Initial unit rates'!J140","v":8.1581515921976891E-2},{"$f":"'Initial unit rates'!K140","v":8.1581515921976891E-2},{"$f":"'Initial unit rates'!L140","v":6.8243294182529654E-2},{"$f":"'Initial unit rates'!M140","v":6.8243294182529654E-2},{"$f":"'Initial unit rates'!N140","v":6.2210568642587928E-2},{"$f":"'Initial unit rates'!O140","v":4.7966237986420121E-2},{"$f":"'Initial unit rates'!P140","v":4.4239855227880792E-2},{"$f":"'Initial unit rates'!Q140","v":7.7023873797137599E-2}]
[null,null,null,null,"132kV/HV",null,"p/kWh",null,null,{"$f":"'Initial unit rates'!J141","v":0},{"$f":"'Initial unit rates'!K141","v":0},{"$f":"'Initial unit rates'!L141","v":0},{"$f":"'Initial unit rates'!M141","v":0},{"$f":"'Initial unit rates'!N141","v":0},{"$f":"'Initial unit rates'!O141","v":0},{"$f":"'Initial unit rates'!P141","v":0},{"$f":"'Initial unit rates'!Q141","v":0}]
[null,null,null,null,"HV",null,"p/kWh",null,null,{"$f":"'Initial unit rates'!J142","v":0.35096596696785243},{"$f":"'Initial unit rates'!K142","v":0.35096596696785243},{"$f":"'Initial unit rates'!L142","v":0.29358456338013528},{"$f":"'Initial unit rates'!M142","v":0.29358456338013528},{"$f":"'Initial unit rates'!N142","v":0.26763160910306305},{"$f":"'Initial unit rates'!O142","v":0.20635209957135767},{"$f":"'Initial unit rates'!P142","v":0.19032109655109161},{"$f":"'Initial unit rates'!Q142","v":0.33135886286638599}]
[null,null,null,null,"HV/LV",null,"p/kWh",null,null,{"$f":"'Initial unit rates'!J143","v":8.8207685249691498E-2},{"$f":"'Initial unit rates'!K143","v":8.8207685249691498E-2},{"$f":"'Initial unit rates'!L143","v":7.3786113749243154E-2},{"$f":"'Initial unit rates'!M143","v":7.3786113749243154E-2},{"$f":"'Initial unit rates'!N143","v":6.7263401470473091E-2},{"$f":"'Initial unit rates'!O143","v":5.1862125569772287E-2},{"$f":"'Initial unit rates'!P143","v":0},{"$f":"'Initial unit rates'!Q143","v":8.3279864805498677E-2}]
[null,null,null,null,"LV circuits",null,"p/kWh",null,null,{"$f":"'Initial unit rates'!J144","v":0.14836811535940955},{"$f":"'Initial unit rates'!K144","v":0.14836811535940955},{"$f":"'Initial unit rates'!L144","v":0.12411057614402723},{"$f":"'Initial unit rates'!M144","v":0.12411057614402723},{"$f":"'Initial unit rates'!N144","v":0.1131391678694157},{"$f":"'Initial unit rates'!O144","v":0},{"$f":"'Initial unit rates'!P144","v":0},{"$f":"'Initial unit rates'!Q144","v":0.14007936557457135}]
[null,null,null,null,"LV customers",null,"p/kWh"]
[null,null,null,null,"HV customers",null,"p/kWh"]
[]
[null,"Calculation of yardstick charges for generation"]
[]
[null,null,"Recalculates yardstick charge for generation assuming a full contribution at the network level in which they are "]
[null,null,"connected, and all levels above that"]
[]
[null,null,{"$f":"INDEX('Version control'!$H$29:$H$55,MATCH($A$1,'Version control'!$F$29:$F$55,0),1)&\"-C: Yardstick charge used for generation\"","v":"Section 516-C: Yardstick charge used for generation"}]
[null,null,null,null,null,null,null,null,">",null,null,null,null,null,null,null,null,null,null,null,null,null,null,null,null,null,"Paragraphs 87 (a)"]
[null,null,null,null,"Asset costs"]
[null,null,null,null,null,"Transmission exit","p/kWh"]
[null,null,null,null,null,"GSPs","p/kWh"]
[null,null,null,null,null,"132kV","p/kWh",null,null,null,null,null,null,null,null,null,null,{"$f":"hundred * $H51 * R95 / $H37 * (1 - R109) / hours_in_year","v":0},0,{"$f":"hundred * $H51 * T95 / $H37 * (1 - T109) / hours_in_year","v":0},0,{"$f":"hundred * $H51 * V95 / $H37 * (1 - V109) / hours_in_year","v":0},0,{"$f":"hundred * $H51 * X95 / $H37 * (1 - X109) / hours_in_year","v":0},0]
[null,null,null,null,null,"132kV/EHV","p/kWh",null,null,null,null,null,null,null,null,null,null,{"$f":"hundred * $H52 * R96 / $H38 * (1 - R110) / hours_in_year","v":0},0,{"$f":"hundred * $H52 * T96 / $H38 * (1 - T110) / hours_in_year","v":0},0,{"$f":"hundred * $H52 * V96 / $H38 * (1 - V110) / hours_in_year","v":0},0,{"$f":"hundred * $H52 * X96 / $H38 * (1 - X110) / hours_in_year","v":0},0]
[null,null,null,null,null,"EHV","p/kWh",null,null,null,null,null,null,null,null,null,null,{"$f":"hundred * $H53 * R97 / $H39 * (1 - R111) / hours_in_year","v":-0.23219986172960411},-0.21473350044905867,{"$f":"hundred * $H53 * T97 / $H39 * (1 - T111) / hours_in_year","v":-0.23219986172960411},-0.23219986172960411,{"$f":"hundred * $H53 * V97 / $H39 * (1 - V111) / hours_in_year","v":-0.21473350044905867},-0.21473350044905867,{"$f":"hundred * $H53 * X97 / $H39 * (1 - X111) / hours_in_year","v":-0.21062376838304794},-0.21062376838304794]
[null,null,null,null,null,"EHV/HV","p/kWh",null,null,null,null,null,null,null,null,null,null,{"$f":"hundred * $H54 * R98 / $H40 * (1 - R112) / hours_in_year","v":-5.9500033433138644E-2},-5.5024367201442367E-2,{"$f":"hundred * $H54 * T98 / $H40 * (1 - T112) / hours_in_year","v":-5.9500033433138644E-2},-5.9500033433138644E-2,{"$f":"hundred * $H54 * V98 / $H40 * (1 - V112) / hours_in_year","v":-5.5024367201442367E-2},-5.5024367201442367E-2,{"$f":"hundred * $H54 * X98 / $H40 * (1 - X112) / hours_in_year","v":-5.3971269264572651E-2},-5.3971269264572651E-2]
[null,null,null,null,null,"132kV/HV","p/kWh",null,null,null,null,null,null,null,null,null,null,{"$f":"hundred * $H55 * R99 / $H41 * (1 - R113) / hours_in_year","v":0},0,{"$f":"hundred * $H55 * T99 / $H41 * (1 - T113) / hours_in_year","v":0},0,{"$f":"hundred * $H55 * V99 / $H41 * (1 - V113) / hours_in_year","v":0},0,{"$f":"hundred * $H55 * X99 / $H41 * (1 - X113) / hours_in_year","v":0},0]
[null,null,null,null,null,"HV","p/kWh",null,null,null,null,null,null,null,null,null,null,{"$f":"hundred * $H56 * R100 / $H42 * (1 - R114) / hours_in_year","v":-0.25597081069751981},-0.23671636918487454,{"$f":"hundred * $H56 * T100 / $H42 * (1 - T114) / hours_in_year","v":-0.25597081069751981},-0.25597081069751981,{"$f":"hundred * $H56 * V100 / $H42 * (1 - V114) / hours_in_year","v":-0.23671636918487454},-0.23671636918487454,{"$f":"hundred * $H56 * X100 / $H42 * (1 - X114) / hours_in_year","v":-0.23218591235836974},-0.23218591235836974]
[null,null,null,null,null,"HV/LV","p/kWh",null,null,null,null,null,null,null,null,null,null,{"$f":"hundred * $H57 * R101 / $H43 * (1 - R115) / hours_in_year","v":-6.4332712650692264E-2},-5.9493526300861424E-2,{"$f":"hundred * $H57 * T101 / $H43 * (1 - T115) / hours_in_year","v":-6.4332712650692264E-2},-6.4332712650692264E-2,{"$f":"hundred * $H57 * V101 / $H43 * (1 - V115) / hours_in_year","v":-5.9493526300861424E-2},-5.9493526300861424E-2,{"$f":"hundred * $H57 * X101 / $H43 * (1 - X115) / hours_in_year","v":0},0]
[null,null,null,null,null,"LV circuits","p/kWh",null,null,null,null,null,null,null,null,null,null,{"$f":"hundred * $H58 * R102 / $H44 * (1 - R116) / hours_in_year","v":-0.10820965661804437},0,{"$f":"hundred * $H58 * T102 / $H44 * (1 - T116) / hours_in_year","v":-0.10820965661804437},-0.10820965661804437,{"$f":"hundred * $H58 * V102 / $H44 * (1 - V116) / hours_in_year","v":0},0,{"$f":"hundred * $H58 * X102 / $H44 * (1 - X116) / hours_in_year","v":0},0]
[null,null,null,null,null,"LV customers","p/kWh"]
[null,null,null,null,null,"HV customers","p/kWh"]
[]
[null,null,null,null,"Other operating costs"]
[null,null,null,null,null,"Transmission exit","p/kWh",null,null,null,null,null,null,null,null,null,null,{"$f":"hundred * $H63 * R93 / $H35 / hours_in_year","v":-0.15512809774868574},-0.14345917004192621,{"$f":"hundred * $H63 * T93 / $H35 / hours_in_year","v":-0.15512809774868574},-0.15512809774868574,{"$f":"hundred * $H63 * V93 / $H35 / hours_in_year","v":-0.14345917004192621},-0.14345917004192621,{"$f":"hundred * $H63 * X93 / $H35 / hours_in_year","v":-0.14071353999327688},-0.14071353999327688]
[null,null,null,null,null,"GSPs","p/kWh",null,null,null,null,null,null,null,null,null,null,{"$f":"hundred * $H64 * R94 / $H36 / hours_in_year","v":0},0,{"$f":"hundred * $H64 * T94 / $H36 / hours_in_year","v":0},0,{"$f":"hundred * $H64 * V94 / $H36 / hours_in_year","v":0},0,{"$f":"hundred * $H64 * X94 / $H36 / hours_in_year","v":0},0]
[null,null,null,null,null,"132kV","p/kWh",null,null,null,null,null,null,null,null,null,null,{"$f":"hundred * $H65 * R95 / $H37 / hours_in_year","v":0},0,{"$f":"hundred * $H65 * T95 / $H37 / hours_in_year","v":0},0,{"$f":"hundred * $H65 * V95 / $H37 / hours_in_year","v":0},0,{"$f":"hundred * $H65 * X95 / $H37 / hours_in_year","v":0},0]
[null,null,null,null,null,"132kV/EHV","p/kWh",null,null,null,null,null,null,null,null,null,null,{"$f":"hundred * $H66 * R96 / $H38 / hours_in_year","v":0},0,{"$f":"hundred * $H66 * T96 / $H38 / hours_in_year","v":0},0,{"$f":"hundred * $H66 * V96 / $H38 / hours_in_year","v":0},0,{"$f":"hundred * $H66 * X96 / $H38 / hours_in_year","v":0},0]
[null,null,null,null,null,"EHV","p/kWh",null,null,null,null,null,null,null,null,null,null,{"$f":"hundred * $H67 * R97 / $H39 / hours_in_year","v":-0.16640762496213085},-0.15389023724374049,{"$f":"hundred * $H67 * T97 / $H39 / hours_in_year","v":-0.16640762496213085},-0.16640762496213085,{"$f":"hundred * $H67 * V97 / $H39 / hours_in_year","v":-0.15389023724374049},-0.15389023724374049,{"$f":"hundred * $H67 * X97 / $H39 / hours_in_year","v":-0.15094496954529568},-0.15094496954529568]
[null,null,null,null,null,"EHV/HV","p/kWh",null,null,null,null,null,null,null,null,null,null,{"$f":"hundred * $H68 * R98 / $H40 / hours_in_year","v":-4.2641107427987879E-2},-3.9433590497564008E-2,{"$f":"hundred * $H68 * T98 / $H40 / hours_in_year","v":-4.2641107427987879E-2},-4.2641107427987879E-2,{"$f":"hundred * $H68 * V98 / $H40 / hours_in_year","v":-3.9433590497564008E-2},-3.9433590497564008E-2,{"$f":"hundred * $H68 * X98 / $H40 / hours_in_year","v":-3.8678880631581931E-2},-3.8678880631581931E-2]
[null,null,null,null,null,"132kV/HV","p/kWh",null,null,null,null,null,null,null,null,null,null,{"$f":"hundred * $H69 * R99 / $H41 / hours_in_year","v":0},0,{"$f":"hundred * $H69 * T99 / $H41 / hours_in_year","v":0},0,{"$f":"hundred * $H69 * V99 / $H41 / hours_in_year","v":0},0,{"$f":"hundred * $H69 * X99 / $H41 / hours_in_year","v":0},0]
[null,null,null,null,null,"HV","p/kWh",null,null,null,null,null,null,null,null,null,null,{"$f":"hundred * $H70 * R100 / $H42 / hours_in_year","v":-0.18344323872771195},-0.16964441103580444,{"$f":"hundred * $H70 * T100 / $H42 / hours_in_year","v":-0.18344323872771195},-0.18344323872771195,{"$f":"hundred * $H70 * V100 / $H42 / hours_in_year","v":-0.16964441103580444},-0.16964441103580444,{"$f":"hundred * $H70 * X100 / $H42 / hours_in_year","v":-0.16639762804947325},-0.16639762804947325]
[null,null,null,null,null,"HV/LV","p/kWh",null,null,null,null,null,null,null,null,null,null,{"$f":"hundred * $H71 * R101 / $H43 / hours_in_year","v":-4.6104480165622956E-2},-4.2636444046969903E-2,{"$f":"hundred * $H71 * T101 / $H43 / hours_in_year","v":-4.6104480165622956E-2},-4.6104480165622956E-2,{"$f":"hundred * $H71 * V101 / $H43 / hours_in_year","v":-4.2636444046969903E-2},-4.2636444046969903E-2,{"$f":"hundred * $H71 * X101 / $H43 / hours_in_year","v":0},0]
[null,null,null,null,null,"LV circuits","p/kWh",null,null,null,null,null,null,null,null,null,null,{"$f":"hundred * $H72 * R102 / $H44 / hours_in_year","v":-7.7549193275340836E-2},0,{"$f":"hundred * $H72 * T102 / $H44 / hours_in_year","v":-7.7549193275340836E-2},-7.7549193275340836E-2,{"$f":"hundred * $H72 * V102 / $H44 / hours_in_year","v":0},0,{"$f":"hundred * $H72 * X102 / $H44 / hours_in_year","v":0},0]
[null,null,null,null,null,"LV customers","p/kWh"]
[null,null,null,null,null,"HV customers","p/kWh"]
[]
[null,"Calculation of reactive power charges"]
[]
[null,null,"Calculates reactive power charges for demand and generation"]
[null,null,"Average kVAr by kVA at transmission exit is assumed equal to kVAr by kVA at the GSP, as per Paragraph 51",null,null,null,null,null,">",null,null,null,null,null,null,null,null,null,null,null,null,null,null,null,null,null,"Paragraph 51"]
[]
[null,null,{"$f":"INDEX('Version control'!$H$29:$H$55,MATCH($A$1,'Version control'!$F$29:$F$55,0),1)&\"-D: Reactive power charges, all customer categories\"","v":"Section 516-D: Reactive power charges, all customer categories"}]
[null,null,null,null,null,null,null,null,">",null,null,null,null,null,null,null,null,null,null,null,null,null,null,null,null,null,"Paragraphs 146, 87 & 88"]
[null,null,null,null,"Asset costs"]
[null,null,null,null,null,"Transmission exit","p/kVArh"]
[null,null,null,null,null,"GSPs","p/kVArh"]
[null,null,null,null,null,"132kV","p/kVArh",null,null,{"$f":"ABS(J125 + J160)*(1-J82)*PowerFactor*$H23","v":0},0,{"$f":"ABS(L125 + L160)*(1-L82)*PowerFactor*$H23","v":0},0,{"$f":"ABS(N125 + N160)*(1-N82)*PowerFactor*$H23","v":0},0,0,{"$f":"ABS(Q125 + Q160)*(1-Q82)*PowerFactor*$H23","v":0},0,0,{"$f":"ABS(T125 + T160)*(1-T82)*PowerFactor*$H23","v":0},0,{"$f":"ABS(V125 + V160)*(1-V82)*PowerFactor*$H23","v":0},0,{"$f":"ABS(X125 + X160)*(1-X82)*PowerFactor*$H23","v":0},0]
[null,null,null,null,null,"132kV/EHV","p/kVArh",null,null,{"$f":"ABS(J126 + J161)*(1-J83)*PowerFactor*$H24","v":0},0,{"$f":"ABS(L126 + L161)*(1-L83)*PowerFactor*$H24","v":0},0,{"$f":"ABS(N126 + N161)*(1-N83)*PowerFactor*$H24","v":0},0,0,{"$f":"ABS(Q126 + Q161)*(1-Q83)*PowerFactor*$H24","v":0},0,0,{"$f":"ABS(T126 + T161)*(1-T83)*PowerFactor*$H24","v":0},0,{"$f":"ABS(V126 + V161)*(1-V83)*PowerFactor*$H24","v":0},0,{"$f":"ABS(X126 + X161)*(1-X83)*PowerFactor*$H24","v":0},0]
[null,null,null,null,null,"EHV","p/kVArh",null,null,{"$f":"ABS(J127 + J162)*(1-J84)*PowerFactor*$H25","v":5.2793878524716537E-2},5.2793878524716537E-2,{"$f":"ABS(L127 + L162)*(1-L84)*PowerFactor*$H25","v":4.4162309837986413E-2},4.4162309837986413E-2,{"$f":"ABS(N127 + N162)*(1-N84)*PowerFactor*$H25","v":4.0258349783686406E-2},3.104041047686068E-2,2.2903163947926679E-2,{"$f":"ABS(Q127 + Q162)*(1-Q84)*PowerFactor*$H25","v":4.9844489781707434E-2},2.7594356641589959E-2,2.5518674947311071E-2,{"$f":"ABS(T127 + T162)*(1-T84)*PowerFactor*$H25","v":2.7594356641589959E-2},2.7594356641589959E-2,{"$f":"ABS(V127 + V162)*(1-V84)*PowerFactor*$H25","v":2.5518674947311071E-2},2.5518674947311071E-2,{"$f":"ABS(X127 + X162)*(1-X84)*PowerFactor*$H25","v":2.5030279254539562E-2},2.5030279254539562E-2]
[null,null,null,null,null,"EHV/HV","p/kVArh",null,null,{"$f":"ABS(J128 + J163)*(1-J85)*PowerFactor*$H26","v":1.8646834424283731E-2},1.8646834424283731E-2,{"$f":"ABS(L128 + L163)*(1-L85)*PowerFactor*$H26","v":1.5598158391740752E-2},1.5598158391740752E-2,{"$f":"ABS(N128 + N163)*(1-N85)*PowerFactor*$H26","v":1.4219276999318168E-2},1.096349445803349E-2,0,{"$f":"ABS(Q128 + Q163)*(1-Q85)*PowerFactor*$H26","v":1.7605108279499935E-2},9.7463458590083731E-3,9.0132136483749986E-3,{"$f":"ABS(T128 + T163)*(1-T85)*PowerFactor*$H26","v":9.7463458590083731E-3},9.7463458590083731E-3,{"$f":"ABS(V128 + V163)*(1-V85)*PowerFactor*$H26","v":9.0132136483749986E-3},9.0132136483749986E-3,{"$f":"ABS(X128 + X163)*(1-X85)*PowerFactor*$H26","v":8.8407119517553805E-3},8.8407119517553805E-3]
[null,null,null,null,null,"132kV/HV","p/kVArh",null,null,{"$f":"ABS(J129 + J164)*(1-J86)*PowerFactor*$H27","v":0},0,{"$f":"ABS(L129 + L164)*(1-L86)*PowerFactor*$H27","v":0},0,{"$f":"ABS(N129 + N164)*(1-N86)*PowerFactor*$H27","v":0},0,0,{"$f":"ABS(Q129 + Q164)*(1-Q86)*PowerFactor*$H27","v":0},0,0,{"$f":"ABS(T129 + T164)*(1-T86)*PowerFactor*$H27","v":0},0,{"$f":"ABS(V129 + V164)*(1-V86)*PowerFactor*$H27","v":0},0,{"$f":"ABS(X129 + X164)*(1-X86)*PowerFactor*$H27","v":0},0]
[null,null,null,null,null,"HV","p/kVArh",null,null,{"$f":"ABS(J130 + J165)*(1-J87)*PowerFactor*$H28","v":8.0219204076412684E-2},8.0219204076412684E-2,{"$f":"ABS(L130 + L165)*(1-L87)*PowerFactor*$H28","v":6.7103714377048998E-2},6.7103714377048998E-2,{"$f":"ABS(N130 + N165)*(1-N87)*PowerFactor*$H28","v":4.8937382398456533E-2},0,0,{"$f":"ABS(Q130 + Q165)*(1-Q87)*PowerFactor*$H28","v":7.5737669018037426E-2},4.192905292519241E-2,3.8775097616660245E-2,{"$f":"ABS(T130 + T165)*(1-T87)*PowerFactor*$H28","v":4.192905292519241E-2},4.192905292519241E-2,{"$f":"ABS(V130 + V165)*(1-V87)*PowerFactor*$H28","v":3.8775097616660245E-2},3.8775097616660245E-2,{"$f":"ABS(X130 + X165)*(1-X87)*PowerFactor*$H28","v":3.8032990485240906E-2},3.8032990485240906E-2]
[null,null,null,null,null,"HV/LV","p/kVArh",null,null,{"$f":"ABS(J131 + J166)*(1-J88)*PowerFactor*$H29","v":2.016135742529452E-2},2.016135742529452E-2,{"$f":"ABS(L131 + L166)*(1-L88)*PowerFactor*$H29","v":1.6865063493173713E-2},1.6865063493173713E-2,{"$f":"ABS(N131 + N166)*(1-N88)*PowerFactor*$H29","v":0},0,0,{"$f":"ABS(Q131 + Q166)*(1-Q88)*PowerFactor*$H29","v":1.9035020768553006E-2},1.0537958239072795E-2,9.745279964452274E-3,{"$f":"ABS(T131 + T166)*(1-T88)*PowerFactor*$H29","v":1.0537958239072795E-2},1.0537958239072795E-2,{"$f":"ABS(V131 + V166)*(1-V88)*PowerFactor*$H29","v":9.745279964452274E-3},9.745279964452274E-3,{"$f":"ABS(X131 + X166)*(1-X88)*PowerFactor*$H29","v":0},0]
[null,null,null,null,null,"LV circuits","p/kVArh",null,null,{"$f":"ABS(J132 + J167)*(1-J89)*PowerFactor*$H30","v":0},0,{"$f":"ABS(L132 + L167)*(1-L89)*PowerFactor*$H30","v":0},0,{"$f":"ABS(N132 + N167)*(1-N89)*PowerFactor*$H30","v":0},0,0,{"$f":"ABS(Q132 + Q167)*(1-Q89)*PowerFactor*$H30","v":3.2017506742898078E-2},1.7725178925640843E-2,0,{"$f":"ABS(T132 + T167)*(1-T89)*PowerFactor*$H30","v":1.7725178925640843E-2},1.7725178925640843E-2,{"$f":"ABS(V132 + V167)*(1-V89)*PowerFactor*$H30","v":0},0,{"$f":"ABS(X132 + X167)*(1-X89)*PowerFactor*$H30","v":0},0]
[null,null,null,null,null,"LV customers","p/kVArh"]
[null,null,null,null,null,"HV customers","p/kVArh"]
[]
[null,null,null,null,"Other operating costs"]
[null,null,null,null,null,"Transmission exit","p/kVArh",null,null,{"$f":"ABS(J137 + J172)*(1-J81)*PowerFactor*$H22","v":3.5270537576165641E-2},3.5270537576165641E-2,{"$f":"ABS(L137 + L172)*(1-L81)*PowerFactor*$H22","v":2.9503958642889509E-2},2.9503958642889509E-2,{"$f":"ABS(N137 + N172)*(1-N81)*PowerFactor*$H22","v":2.6895800772340682E-2},2.0737479319523033E-2,1.9126433954370269E-2,{"$f":"ABS(Q137 + Q172)*(1-Q81)*PowerFactor*$H22","v":3.330010976532919E-2},1.8435239463637048E-2,1.7048517911062579E-2,{"$f":"ABS(T137 + T172)*(1-T81)*PowerFactor*$H22","v":1.8435239463637048E-2},1.8435239463637048E-2,{"$f":"ABS(V137 + V172)*(1-V81)*PowerFactor*$H22","v":1.7048517911062579E-2},1.7048517911062579E-2,{"$f":"ABS(X137 + X172)*(1-X81)*PowerFactor*$H22","v":1.6722230486927406E-2},1.6722230486927406E-2]
[null,null,null,null,null,"GSPs","p/kVArh",null,null,{"$f":"ABS(J138 + J173)*(1-J81)*PowerFactor*$H22","v":0},0,{"$f":"ABS(L138 + L173)*(1-L81)*PowerFactor*$H22","v":0},0,{"$f":"ABS(N138 + N173)*(1-N81)*PowerFactor*$H22","v":0},0,0,{"$f":"ABS(Q138 + Q173)*(1-Q81)*PowerFactor*$H22","v":0},0,0,{"$f":"ABS(T138 + T173)*(1-T81)*PowerFactor*$H22","v":0},0,{"$f":"ABS(V138 + V173)*(1-V81)*PowerFactor*$H22","v":0},0,{"$f":"ABS(X138 + X173)*(1-X81)*PowerFactor*$H22","v":0},0]
[null,null,null,null,null,"132kV","p/kVArh",null,null,{"$f":"ABS(J139 + J174)*(1-J82)*PowerFactor*$H23","v":0},0,{"$f":"ABS(L139 + L174)*(1-L82)*PowerFactor*$H23","v":0},0,{"$f":"ABS(N139 + N174)*(1-N82)*PowerFactor*$H23","v":0},0,0,{"$f":"ABS(Q139 + Q174)*(1-Q82)*PowerFactor*$H23","v":0},0,0,{"$f":"ABS(T139 + T174)*(1-T82)*PowerFactor*$H23","v":0},0,{"$f":"ABS(V139 + V174)*(1-V82)*PowerFactor*$H23","v":0},0,{"$f":"ABS(X139 + X174)*(1-X82)*PowerFactor*$H23","v":0},0]
[null,null,null,null,null,"132kV/EHV","p/kVArh",null,null,{"$f":"ABS(J140 + J175)*(1-J83)*PowerFactor*$H24","v":0},0,{"$f":"ABS(L140 + L175)*(1-L83)*PowerFactor*$H24","v":0},0,{"$f":"ABS(N140 + N175)*(1-N83)*PowerFactor*$H24","v":0},0,0,{"$f":"ABS(Q140 + Q175)*(1-Q83)*PowerFactor*$H24","v":0},0,0,{"$f":"ABS(T140 + T175)*(1-T83)*PowerFactor*$H24","v":0},0,{"$f":"ABS(V140 + V175)*(1-V83)*PowerFactor*$H24","v":0},0,{"$f":"ABS(X140 + X175)*(1-X83)*PowerFactor*$H24","v":0},0]
[null,null,null,null,null,"EHV","p/kVArh",null,null,{"$f":"ABS(J141 + J176)*(1-J84)*PowerFactor*$H25","v":3.7835095475068706E-2},3.7835095475068706E-2,{"$f":"ABS(L141 + L176)*(1-L84)*PowerFactor*$H25","v":3.164922251994657E-2},3.164922251994657E-2,{"$f":"ABS(N141 + N176)*(1-N84)*PowerFactor*$H25","v":2.8851422746320472E-2},2.2245323260868578E-2,1.6413709673655959E-2,{"$f":"ABS(Q141 + Q176)*(1-Q84)*PowerFactor*$H25","v":3.57213957848177E-2},1.9775685122639095E-2,1.8288133586865356E-2,{"$f":"ABS(T141 + T176)*(1-T84)*PowerFactor*$H25","v":1.9775685122639095E-2},1.9775685122639095E-2,{"$f":"ABS(V141 + V176)*(1-V84)*PowerFactor*$H25","v":1.8288133586865356E-2},1.8288133586865356E-2,{"$f":"ABS(X141 + X176)*(1-X84)*PowerFactor*$H25","v":1.7938121460800947E-2},1.7938121460800947E-2]
[null,null,null,null,null,"EHV/HV","p/kVArh",null,null,{"$f":"ABS(J142 + J177)*(1-J85)*PowerFactor*$H26","v":1.3363381900806473E-2},1.3363381900806473E-2,{"$f":"ABS(L142 + L177)*(1-L85)*PowerFactor*$H26","v":1.1178527292903112E-2},1.1178527292903112E-2,{"$f":"ABS(N142 + N177)*(1-N85)*PowerFactor*$H26","v":1.0190342476993448E-2},7.8570635678127769E-3,0,{"$f":"ABS(Q142 + Q177)*(1-Q85)*PowerFactor*$H26","v":1.2616821707690188E-2},6.9847856685881201E-3,6.4593814368801641E-3,{"$f":"ABS(T142 + T177)*(1-T85)*PowerFactor*$H26","v":6.9847856685881201E-3},6.9847856685881201E-3,{"$f":"ABS(V142 + V177)*(1-V85)*PowerFactor*$H26","v":6.4593814368801641E-3},6.4593814368801641E-3,{"$f":"ABS(X142 + X177)*(1-X85)*PowerFactor*$H26","v":6.3357569117724107E-3},6.3357569117724107E-3]
[null,null,null,null,null,"132kV/HV","p/kVArh",null,null,{"$f":"ABS(J143 + J178)*(1-J86)*PowerFactor*$H27","v":0},0,{"$f":"ABS(L143 + L178)*(1-L86)*PowerFactor*$H27","v":0},0,{"$f":"ABS(N143 + N178)*(1-N86)*PowerFactor*$H27","v":0},0,0,{"$f":"ABS(Q143 + Q178)*(1-Q86)*PowerFactor*$H27","v":0},0,0,{"$f":"ABS(T143 + T178)*(1-T86)*PowerFactor*$H27","v":0},0,{"$f":"ABS(V143 + V178)*(1-V86)*PowerFactor*$H27","v":0},0,{"$f":"ABS(X143 + X178)*(1-X86)*PowerFactor*$H27","v":0},0]
[null,null,null,null,null,"HV","p/kVArh",null,null,{"$f":"ABS(J144 + J179)*(1-J87)*PowerFactor*$H28","v":5.7489643306735845E-2},5.7489643306735845E-2,{"$f":"ABS(L144 + L179)*(1-L87)*PowerFactor*$H28","v":4.8090337575761997E-2},4.8090337575761997E-2,{"$f":"ABS(N144 + N179)*(1-N87)*PowerFactor*$H28","v":3.5071311051312677E-2},0,0,{"$f":"ABS(Q144 + Q179)*(1-Q87)*PowerFactor*$H28","v":5.4277920441382937E-2},3.0048743622069048E-2,2.778843989828509E-2,{"$f":"ABS(T144 + T179)*(1-T87)*PowerFactor*$H28","v":3.0048743622069048E-2},3.0048743622069048E-2,{"$f":"ABS(V144 + V179)*(1-V87)*PowerFactor*$H28","v":2.778843989828509E-2},2.778843989828509E-2,{"$f":"ABS(X144 + X179)*(1-X87)*PowerFactor*$H28","v":2.7256603727982987E-2},2.7256603727982987E-2]
[null,null,null,null,null,"HV/LV","p/kVArh",null,null,{"$f":"ABS(J145 + J180)*(1-J88)*PowerFactor*$H29","v":1.4448775206691427E-2},1.4448775206691427E-2,{"$f":"ABS(L145 + L180)*(1-L88)*PowerFactor*$H29","v":1.2086463531157072E-2},1.2086463531157072E-2,{"$f":"ABS(N145 + N180)*(1-N88)*PowerFactor*$H29","v":0},0,0,{"$f":"ABS(Q145 + Q180)*(1-Q88)*PowerFactor*$H29","v":1.3641578309328909E-2},7.5521001151855928E-3,6.9840217879371183E-3,{"$f":"ABS(T145 + T180)*(1-T88)*PowerFactor*$H29","v":7.5521001151855928E-3},7.5521001151855928E-3,{"$f":"ABS(V145 + V180)*(1-V88)*PowerFactor*$H29","v":6.9840217879371183E-3},6.9840217879371183E-3,{"$f":"ABS(X145 + X180)*(1-X88)*PowerFactor*$H29","v":0},0]
[null,null,null,null,null,"LV circuits","p/kVArh",null,null,{"$f":"ABS(J146 + J181)*(1-J89)*PowerFactor*$H30","v":0},0,{"$f":"ABS(L146 + L181)*(1-L89)*PowerFactor*$H30","v":0},0,{"$f":"ABS(N146 + N181)*(1-N89)*PowerFactor*$H30","v":0},0,0,{"$f":"ABS(Q146 + Q181)*(1-Q89)*PowerFactor*$H30","v":2.2945566007696705E-2},1.2702871160532864E-2,0,{"$f":"ABS(T146 + T181)*(1-T89)*PowerFactor*$H30","v":1.2702871160532864E-2},1.2702871160532864E-2,{"$f":"ABS(V146 + V181)*(1-V89)*PowerFactor*$H30","v":0},0,{"$f":"ABS(X146 + X181)*(1-X89)*PowerFactor*$H30","v":0},0]
[null,null,null,null,null,"LV customers","p/kVArh"]
[null,null,null,null,null,"HV customers","p/kVArh"]
[]
[null,null,{"$f":"INDEX('Version control'!$H$29:$H$55,MATCH($A$1,'Version control'!$F$29:$F$55,0),1)&\"-E: Reactive power charges for applicable customers\"","v":"Section 516-E: Reactive power charges for applicable customers"}]
[]
[null,null,null,null,"Asset costs"]
[null,null,null,null,null,"Transmission exit","p/kVArh"]
[null,null,null,null,null,"GSPs","p/kVArh"]
[null,null,null,null,null,"132kV","p/kVArh",null,null,{"$f":"J$78 * J195","v":0},0,0,0,0,0,0,0,0,0,0,0,0,0,0,0]
[null,null,null,null,null,"132kV/EHV","p/kVArh",null,null,0,0,0,0,0,0,0,0,0,0,0,0,0,0,0,0]
[null,null,null,null,null,"EHV","p/kVArh",null,null,0,0,0,0,4.0258349783686406E-2,3.104041047686068E-2,2.2903163947926679E-2,0,0,0,2.7594356641589959E-2,0,2.5518674947311071E-2,0,2.5030279254539562E-2,0]
[null,null,null,null,null,"EHV/HV","p/kVArh",null,null,0,0,0,0,1.4219276999318168E-2,1.096349445803349E-2,0,0,0,0,9.7463458590083731E-3,0,9.0132136483749986E-3,0,8.8407119517553805E-3,0]
[null,null,null,null,null,"132kV/HV","p/kVArh",null,null,0,0,0,0,0,0,0,0,0,0,0,0,0,0,0,0]
[null,null,null,null,null,"HV","p/kVArh",null,null,0,0,0,0,4.8937382398456533E-2,0,0,0,0,0,4.192905292519241E-2,0,3.8775097616660245E-2,0,3.8032990485240906E-2,0]
[null,null,null,null,null,"HV/LV","p/kVArh",null,null,0,0,0,0,0,0,0,0,0,0,1.0537958239072795E-2,0,9.745279964452274E-3,0,0,0]
[null,null,null,null,null,"LV circuits","p/kVArh",null,null,0,0,0,0,0,0,0,0,0,0,1.7725178925640843E-2,0,0,0,0,0]
[null,null,null,null,null,"LV customers","p/kVArh"]
[null,null,null,null,null,"HV customers","p/kVArh"]
[]
[null,null,null,null,"Other operating costs"]
[null,null,null,null,null,"Transmission exit","p/kVArh",null,null,{"$f":"J$78 * J207","v":0},0,0,0,2.6895800772340682E-2,2.0737479319523033E-2,1.9126433954370269E-2,0,0,0,1.8435239463637048E-2,0,1.7048517911062579E-2,0,1.6722230486927406E-2,0]
[null,null,null,null,null,"GSPs","p/kVArh",null,null,0,0,0,0,0,0,0,0,0,0,0,0,0,0,0,0]
[null,null,null,null,null,"132kV","p/kVArh",null,null,0,0,0,0,0,0,0,0,0,0,0,0,0,0,0,0]
[null,null,null,null,null,"132kV/EHV","p/kVArh",null,null,0,0,0,0,0,0,0,0,0,0,0,0,0,0,0,0]
[null,null,null,null,null,"EHV","p/kVArh",null,null,0,0,0,0,2.8851422746320472E-2,2.2245323260868578E-2,1.6413709673655959E-2,0,0,0,1.9775685122639095E-2,0,1.8288133586865356E-2,0,1.7938121460800947E-2,0]
[null,null,null,null,null,"EHV/HV","p/kVArh",null,null,0,0,0,0,1.0190342476993448E-2,7.8570635678127769E-3,0,0,0,0,6.9847856685881201E-3,0,6.4593814368801641E-3,0,6.3357569117724107E-3,0]
[null,null,null,null,null,"132kV/HV","p/kVArh",null,null,0,0,0,0,0,0,0,0,0,0,0,0,0,0,0,0]
[null,null,null,null,null,"HV","p/kVArh",null,null,0,0,0,0,3.5071311051312677E-2,0,0,0,0,0,3.0048743622069048E-2,0,2.778843989828509E-2,0,2.7256603727982987E-2,0]
[null,null,null,null,null,"HV/LV","p/kVArh",null,null,0,0,0,0,0,0,0,0,0,0,7.5521001151855928E-3,0,6.9840217879371183E-3,0,0,0]
[null,null,null,null,null,"LV circuits","p/kVArh",null,null,0,0,0,0,0,0,0,0,0,0,1.2702871160532864E-2,0,0,0,0,0]
[null,null,null,null,null,"LV customers","p/kVArh"]
[null,null,null,null,null,"HV customers","p/kVArh"]
[]
[null,null,null,null,"Reactive charge",null,"p/kVArh",null,">",{"$f":"SUM(J223:J234,J237:J248)","v":0},0,0,0,0.20442388622842836,9.2843771083098561E-2,5.844330757595291E-2,0,0,0,0.20303231774315611,0,0.15962076079782889,0,0.14015669427901961,0,null,"Paragraphs 146, 87 & 88"]
[]
[null,"Checks"]
[]
[null,null,null,null,"Check for error values",null,"number of issues",{"$f":"SUM(IF(ISERROR(H21:Y250), 1))","v":0}]
[]
[null,"End of sheet"]

{"sheet":"Fixed charges","index":31,"n_rows":167,"n_cols":27,"rows_kept":167,"cut":false,"hidden":true,"merged":[]}
[{"$f":"MID(CELL(\"filename\",A1),FIND(\"]\",CELL(\"filename\",A1))+1,255)","v":"Fixed charges"}]
[{"$f":"Cover!D23 & \" - \" & TEXT(CIRP_submission_date, \"mmm\") & \"-\" & RIGHT(YEAR(CIRP_submission_date), 2) & \" - \" & Cover!D25","v":"SP Distribution - Jan-26 - V1"}]
[{"$f":"Cover!D2&\" - \"&Cover!D8&\" v\"&Cover!D10&\" - \"&Cover!D19","v":"Cost Information Review Pack (CIRP) - Release for charge setting v1 - 2027/28"}]
[{"$f":"H165 & IF(H165 = 1, \" issue\", \" issues\") &\" identified in checks on this sheet\"","v":"0 issues identified in checks on this sheet"}]
[null,"Click here to return to model map",null,null,null,null,"Units","Constants",null,"Domestic Aggregated or CT","Domestic Aggregated (Related MPAN)","Non-Domestic Aggregated or CT","Non-Domestic Aggregated (Related MPAN)","LV Site Specific","LV Sub Site Specific","HV Site Specific","Unmetered Supplies","LV Generation Aggregated","LV Sub Generation Aggregated","LV Generation Site Specific","LV Generation Site Specific no RP Charge","LV Sub Generation Site Specific","LV Sub Generation Site Specific no RP Charge","HV Generation Site Specific","HV Generation Site Specific no RP Charge",null,"Legal text reference"]
[]
[null,"Description"]
[]
[null,null,null,"This sheet calculates fixed charges (p/MPAN/day) for non half-hourly settled demand"]
[null,null,null,"users (pre-matching) in accordance with Paragraphs 82 to 86. "]
[null,null,null,"The calculations transform capacity elements of the yardstick charge into a fixed charge. As"]
[null,null,null,"explained in, Paragraphs 83 to 84, this calculation differs slightly by customer type."]
[]
[null,"Inputs to fixed charge calculations"]
[]
[null,null,{"$f":"INDEX('Version control'!$H$29:$H$55,MATCH($A$1,'Version control'!$F$29:$F$55,0),1)&\"-A: Volumes (discounted MPANs & maximum load)\"","v":"Section 517-A: Volumes (discounted MPANs & maximum load)"}]
[null,null,null,null,null,null,null,null,">",null,null,null,null,null,null,null,null,null,null,null,null,null,null,null,null,null,"Paragraph 73 & 78"]
[null,null,null,null,"Discounted MPANs",null,"MPANs",null,null,{"$f":"'Volume adjustments'!J275","v":1943630.1666889538},{"$f":"'Volume adjustments'!K275","v":65894.737632469667},{"$f":"'Volume adjustments'!L275","v":122513.00628941884},{"$f":"'Volume adjustments'!M275","v":4053},{"$f":"'Volume adjustments'!N275","v":11870.553376824102},{"$f":"'Volume adjustments'!O275","v":355.04287982343243},{"$f":"'Volume adjustments'!P275","v":1327.5419780875352},{"$f":"'Volume adjustments'!Q275","v":565},{"$f":"'Volume adjustments'!R275","v":29908.231691690049},{"$f":"'Volume adjustments'!S275","v":7},{"$f":"'Volume adjustments'!T275","v":661},{"$f":"'Volume adjustments'!U275","v":0},{"$f":"'Volume adjustments'!V275","v":15},{"$f":"'Volume adjustments'!W275","v":0},{"$f":"'Volume adjustments'!X275","v":272},{"$f":"'Volume adjustments'!Y275","v":0}]
[]
[null,null,null,null,"Maximum load",null,"MW",null,null,{"$f":"'System peak demand'!J200","v":1373.533781260749},{"$f":"'System peak demand'!K200","v":213.55055200519755},{"$f":"'System peak demand'!L200","v":510.43637451884484},{"$f":"'System peak demand'!M200","v":17.59831670142594},{"$f":"'System peak demand'!N200","v":517.92662725560047},{"$f":"'System peak demand'!O200","v":48.609563189465653},{"$f":"'System peak demand'!P200","v":477.08061756814919},{"$f":"'System peak demand'!Q200","v":44.863878683343678},{"$f":"'System peak demand'!R200","v":0},{"$f":"'System peak demand'!S200","v":0},{"$f":"'System peak demand'!T200","v":0},{"$f":"'System peak demand'!U200","v":0},{"$f":"'System peak demand'!V200","v":0},{"$f":"'System peak demand'!W200","v":0},{"$f":"'System peak demand'!X200","v":0},{"$f":"'System peak demand'!Y200","v":0}]
[]
[null,null,{"$f":"INDEX('Version control'!$H$29:$H$55,MATCH($A$1,'Version control'!$F$29:$F$55,0),1)&\"-B: Capacity elements allocated to fixed charges\"","v":"Section 517-B: Capacity elements allocated to fixed charges"}]
[null,null,null,null,null,null,null,null,">",null,null,null,null,null,null,null,null,null,null,null,null,null,null,null,null,null,"Paragraph 73 & 78"]
[null,null,null,null,"Asset costs"]
[null,null,null,null,null,"Transmission exit","p/kVA/day"]
[null,null,null,null,null,"GSPs","p/kVA/day"]
[null,null,null,null,null,"132kV","p/kVA/day",null,null,{"$f":"'Capacity charges'!J264","v":0},{"$f":"'Capacity charges'!K264","v":0},{"$f":"'Capacity charges'!L264","v":0},{"$f":"'Capacity charges'!M264","v":0},{"$f":"'Capacity charges'!N264","v":0},{"$f":"'Capacity charges'!O264","v":0},{"$f":"'Capacity charges'!P264","v":0},{"$f":"'Capacity charges'!Q264","v":0},{"$f":"'Capacity charges'!R264","v":0},{"$f":"'Capacity charges'!S264","v":0},{"$f":"'Capacity charges'!T264","v":0},{"$f":"'Capacity charges'!U264","v":0},{"$f":"'Capacity charges'!V264","v":0},{"$f":"'Capacity charges'!W264","v":0},{"$f":"'Capacity charges'!X264","v":0},{"$f":"'Capacity charges'!Y264","v":0}]
[null,null,null,null,null,"132kV/EHV","p/kVA/day",null,null,{"$f":"'Capacity charges'!J265","v":0},{"$f":"'Capacity charges'!K265","v":0},{"$f":"'Capacity charges'!L265","v":0},{"$f":"'Capacity charges'!M265","v":0},{"$f":"'Capacity charges'!N265","v":0},{"$f":"'Capacity charges'!O265","v":0},{"$f":"'Capacity charges'!P265","v":0},{"$f":"'Capacity charges'!Q265","v":0},{"$f":"'Capacity charges'!R265","v":0},{"$f":"'Capacity charges'!S265","v":0},{"$f":"'Capacity charges'!T265","v":0},{"$f":"'Capacity charges'!U265","v":0},{"$f":"'Capacity charges'!V265","v":0},{"$f":"'Capacity charges'!W265","v":0},{"$f":"'Capacity charges'!X265","v":0},{"$f":"'Capacity charges'!Y265","v":0}]
[null,null,null,null,null,"EHV","p/kVA/day",null,null,{"$f":"'Capacity charges'!J266","v":0},{"$f":"'Capacity charges'!K266","v":0},{"$f":"'Capacity charges'!L266","v":0},{"$f":"'Capacity charges'!M266","v":0},{"$f":"'Capacity charges'!N266","v":0},{"$f":"'Capacity charges'!O266","v":0},{"$f":"'Capacity charges'!P266","v":0},{"$f":"'Capacity charges'!Q266","v":0},{"$f":"'Capacity charges'!R266","v":0},{"$f":"'Capacity charges'!S266","v":0},{"$f":"'Capacity charges'!T266","v":0},{"$f":"'Capacity charges'!U266","v":0},{"$f":"'Capacity charges'!V266","v":0},{"$f":"'Capacity charges'!W266","v":0},{"$f":"'Capacity charges'!X266","v":0},{"$f":"'Capacity charges'!Y266","v":0}]
[null,null,null,null,null,"EHV/HV","p/kVA/day",null,null,{"$f":"'Capacity charges'!J267","v":0},{"$f":"'Capacity charges'!K267","v":0},{"$f":"'Capacity charges'!L267","v":0},{"$f":"'Capacity charges'!M267","v":0},{"$f":"'Capacity charges'!N267","v":0},{"$f":"'Capacity charges'!O267","v":0},{"$f":"'Capacity charges'!P267","v":0},{"$f":"'Capacity charges'!Q267","v":0},{"$f":"'Capacity charges'!R267","v":0},{"$f":"'Capacity charges'!S267","v":0},{"$f":"'Capacity charges'!T267","v":0},{"$f":"'Capacity charges'!U267","v":0},{"$f":"'Capacity charges'!V267","v":0},{"$f":"'Capacity charges'!W267","v":0},{"$f":"'Capacity charges'!X267","v":0},{"$f":"'Capacity charges'!Y267","v":0}]
[null,null,null,null,null,"132kV/HV","p/kVA/day",null,null,{"$f":"'Capacity charges'!J268","v":0},{"$f":"'Capacity charges'!K268","v":0},{"$f":"'Capacity charges'!L268","v":0},{"$f":"'Capacity charges'!M268","v":0},{"$f":"'Capacity charges'!N268","v":0},{"$f":"'Capacity charges'!O268","v":0},{"$f":"'Capacity charges'!P268","v":0},{"$f":"'Capacity charges'!Q268","v":0},{"$f":"'Capacity charges'!R268","v":0},{"$f":"'Capacity charges'!S268","v":0},{"$f":"'Capacity charges'!T268","v":0},{"$f":"'Capacity charges'!U268","v":0},{"$f":"'Capacity charges'!V268","v":0},{"$f":"'Capacity charges'!W268","v":0},{"$f":"'Capacity charges'!X268","v":0},{"$f":"'Capacity charges'!Y268","v":0}]
[null,null,null,null,null,"HV","p/kVA/day",null,null,{"$f":"'Capacity charges'!J269","v":0},{"$f":"'Capacity charges'!K269","v":0},{"$f":"'Capacity charges'!L269","v":0},{"$f":"'Capacity charges'!M269","v":0},{"$f":"'Capacity charges'!N269","v":0},{"$f":"'Capacity charges'!O269","v":0},{"$f":"'Capacity charges'!P269","v":0},{"$f":"'Capacity charges'!Q269","v":0},{"$f":"'Capacity charges'!R269","v":0},{"$f":"'Capacity charges'!S269","v":0},{"$f":"'Capacity charges'!T269","v":0},{"$f":"'Capacity charges'!U269","v":0},{"$f":"'Capacity charges'!V269","v":0},{"$f":"'Capacity charges'!W269","v":0},{"$f":"'Capacity charges'!X269","v":0},{"$f":"'Capacity charges'!Y269","v":0}]
[null,null,null,null,null,"HV/LV","p/kVA/day",null,null,{"$f":"'Capacity charges'!J270","v":0},{"$f":"'Capacity charges'!K270","v":0},{"$f":"'Capacity charges'!L270","v":0},{"$f":"'Capacity charges'!M270","v":0},{"$f":"'Capacity charges'!N270","v":0},{"$f":"'Capacity charges'!O270","v":0},{"$f":"'Capacity charges'!P270","v":0},{"$f":"'Capacity charges'!Q270","v":0},{"$f":"'Capacity charges'!R270","v":0},{"$f":"'Capacity charges'!S270","v":0},{"$f":"'Capacity charges'!T270","v":0},{"$f":"'Capacity charges'!U270","v":0},{"$f":"'Capacity charges'!V270","v":0},{"$f":"'Capacity charges'!W270","v":0},{"$f":"'Capacity charges'!X270","v":0},{"$f":"'Capacity charges'!Y270","v":0}]
[null,null,null,null,null,"LV circuits","p/kVA/day",null,null,{"$f":"'Capacity charges'!J271","v":1.3735112021627764},{"$f":"'Capacity charges'!K271","v":0},{"$f":"'Capacity charges'!L271","v":1.3735112021627764},{"$f":"'Capacity charges'!M271","v":0},{"$f":"'Capacity charges'!N271","v":0},{"$f":"'Capacity charges'!O271","v":0},{"$f":"'Capacity charges'!P271","v":0},{"$f":"'Capacity charges'!Q271","v":0},{"$f":"'Capacity charges'!R271","v":0},{"$f":"'Capacity charges'!S271","v":0},{"$f":"'Capacity charges'!T271","v":0},{"$f":"'Capacity charges'!U271","v":0},{"$f":"'Capacity charges'!V271","v":0},{"$f":"'Capacity charges'!W271","v":0},{"$f":"'Capacity charges'!X271","v":0},{"$f":"'Capacity charges'!Y271","v":0}]
[null,null,null,null,null,"LV customers","p/kVA/day"]
[null,null,null,null,null,"HV customers","p/kVA/day"]
[]
[null,null,null,null,"Other operating costs"]
[null,null,null,null,null,"Transmission exit","p/kVA/day",null,null,{"$f":"'Capacity charges'!J276","v":0},{"$f":"'Capacity charges'!K276","v":0},{"$f":"'Capacity charges'!L276","v":0},{"$f":"'Capacity charges'!M276","v":0},{"$f":"'Capacity charges'!N276","v":0},{"$f":"'Capacity charges'!O276","v":0},{"$f":"'Capacity charges'!P276","v":0},{"$f":"'Capacity charges'!Q276","v":0},{"$f":"'Capacity charges'!R276","v":0},{"$f":"'Capacity charges'!S276","v":0},{"$f":"'Capacity charges'!T276","v":0},{"$f":"'Capacity charges'!U276","v":0},{"$f":"'Capacity charges'!V276","v":0},{"$f":"'Capacity charges'!W276","v":0},{"$f":"'Capacity charges'!X276","v":0},{"$f":"'Capacity charges'!Y276","v":0}]
[null,null,null,null,null,"GSPs","p/kVA/day",null,null,{"$f":"'Capacity charges'!J277","v":0},{"$f":"'Capacity charges'!K277","v":0},{"$f":"'Capacity charges'!L277","v":0},{"$f":"'Capacity charges'!M277","v":0},{"$f":"'Capacity charges'!N277","v":0},{"$f":"'Capacity charges'!O277","v":0},{"$f":"'Capacity charges'!P277","v":0},{"$f":"'Capacity charges'!Q277","v":0},{"$f":"'Capacity charges'!R277","v":0},{"$f":"'Capacity charges'!S277","v":0},{"$f":"'Capacity charges'!T277","v":0},{"$f":"'Capacity charges'!U277","v":0},{"$f":"'Capacity charges'!V277","v":0},{"$f":"'Capacity charges'!W277","v":0},{"$f":"'Capacity charges'!X277","v":0},{"$f":"'Capacity charges'!Y277","v":0}]
[null,null,null,null,null,"132kV","p/kVA/day",null,null,{"$f":"'Capacity charges'!J278","v":0},{"$f":"'Capacity charges'!K278","v":0},{"$f":"'Capacity charges'!L278","v":0},{"$f":"'Capacity charges'!M278","v":0},{"$f":"'Capacity charges'!N278","v":0},{"$f":"'Capacity charges'!O278","v":0},{"$f":"'Capacity charges'!P278","v":0},{"$f":"'Capacity charges'!Q278","v":0},{"$f":"'Capacity charges'!R278","v":0},{"$f":"'Capacity charges'!S278","v":0},{"$f":"'Capacity charges'!T278","v":0},{"$f":"'Capacity charges'!U278","v":0},{"$f":"'Capacity charges'!V278","v":0},{"$f":"'Capacity charges'!W278","v":0},{"$f":"'Capacity charges'!X278","v":0},{"$f":"'Capacity charges'!Y278","v":0}]
[null,null,null,null,null,"132kV/EHV","p/kVA/day",null,null,{"$f":"'Capacity charges'!J279","v":0},{"$f":"'Capacity charges'!K279","v":0},{"$f":"'Capacity charges'!L279","v":0},{"$f":"'Capacity charges'!M279","v":0},{"$f":"'Capacity charges'!N279","v":0},{"$f":"'Capacity charges'!O279","v":0},{"$f":"'Capacity charges'!P279","v":0},{"$f":"'Capacity charges'!Q279","v":0},{"$f":"'Capacity charges'!R279","v":0},{"$f":"'Capacity charges'!S279","v":0},{"$f":"'Capacity charges'!T279","v":0},{"$f":"'Capacity charges'!U279","v":0},{"$f":"'Capacity charges'!V279","v":0},{"$f":"'Capacity charges'!W279","v":0},{"$f":"'Capacity charges'!X279","v":0},{"$f":"'Capacity charges'!Y279","v":0}]
[null,null,null,null,null,"EHV","p/kVA/day",null,null,{"$f":"'Capacity charges'!J280","v":0},{"$f":"'Capacity charges'!K280","v":0},{"$f":"'Capacity charges'!L280","v":0},{"$f":"'Capacity charges'!M280","v":0},{"$f":"'Capacity charges'!N280","v":0},{"$f":"'Capacity charges'!O280","v":0},{"$f":"'Capacity charges'!P280","v":0},{"$f":"'Capacity charges'!Q280","v":0},{"$f":"'Capacity charges'!R280","v":0},{"$f":"'Capacity charges'!S280","v":0},{"$f":"'Capacity charges'!T280","v":0},{"$f":"'Capacity charges'!U280","v":0},{"$f":"'Capacity charges'!V280","v":0},{"$f":"'Capacity charges'!W280","v":0},{"$f":"'Capacity charges'!X280","v":0},{"$f":"'Capacity charges'!Y280","v":0}]
[null,null,null,null,null,"EHV/HV","p/kVA/day",null,null,{"$f":"'Capacity charges'!J281","v":0},{"$f":"'Capacity charges'!K281","v":0},{"$f":"'Capacity charges'!L281","v":0},{"$f":"'Capacity charges'!M281","v":0},{"$f":"'Capacity charges'!N281","v":0},{"$f":"'Capacity charges'!O281","v":0},{"$f":"'Capacity charges'!P281","v":0},{"$f":"'Capacity charges'!Q281","v":0},{"$f":"'Capacity charges'!R281","v":0},{"$f":"'Capacity charges'!S281","v":0},{"$f":"'Capacity charges'!T281","v":0},{"$f":"'Capacity charges'!U281","v":0},{"$f":"'Capacity charges'!V281","v":0},{"$f":"'Capacity charges'!W281","v":0},{"$f":"'Capacity charges'!X281","v":0},{"$f":"'Capacity charges'!Y281","v":0}]
[null,null,null,null,null,"132kV/HV","p/kVA/day",null,null,{"$f":"'Capacity charges'!J282","v":0},{"$f":"'Capacity charges'!K282","v":0},{"$f":"'Capacity charges'!L282","v":0},{"$f":"'Capacity charges'!M282","v":0},{"$f":"'Capacity charges'!N282","v":0},{"$f":"'Capacity charges'!O282","v":0},{"$f":"'Capacity charges'!P282","v":0},{"$f":"'Capacity charges'!Q282","v":0},{"$f":"'Capacity charges'!R282","v":0},{"$f":"'Capacity charges'!S282","v":0},{"$f":"'Capacity charges'!T282","v":0},{"$f":"'Capacity charges'!U282","v":0},{"$f":"'Capacity charges'!V282","v":0},{"$f":"'Capacity charges'!W282","v":0},{"$f":"'Capacity charges'!X282","v":0},{"$f":"'Capacity charges'!Y282","v":0}]
[null,null,null,null,null,"HV","p/kVA/day",null,null,{"$f":"'Capacity charges'!J283","v":0},{"$f":"'Capacity charges'!K283","v":0},{"$f":"'Capacity charges'!L283","v":0},{"$f":"'Capacity charges'!M283","v":0},{"$f":"'Capacity charges'!N283","v":0},{"$f":"'Capacity charges'!O283","v":0},{"$f":"'Capacity charges'!P283","v":0},{"$f":"'Capacity charges'!Q283","v":0},{"$f":"'Capacity charges'!R283","v":0},{"$f":"'Capacity charges'!S283","v":0},{"$f":"'Capacity charges'!T283","v":0},{"$f":"'Capacity charges'!U283","v":0},{"$f":"'Capacity charges'!V283","v":0},{"$f":"'Capacity charges'!W283","v":0},{"$f":"'Capacity charges'!X283","v":0},{"$f":"'Capacity charges'!Y283","v":0}]
[null,null,null,null,null,"HV/LV","p/kVA/day",null,null,{"$f":"'Capacity charges'!J284","v":0},{"$f":"'Capacity charges'!K284","v":0},{"$f":"'Capacity charges'!L284","v":0},{"$f":"'Capacity charges'!M284","v":0},{"$f":"'Capacity charges'!N284","v":0},{"$f":"'Capacity charges'!O284","v":0},{"$f":"'Capacity charges'!P284","v":0},{"$f":"'Capacity charges'!Q284","v":0},{"$f":"'Capacity charges'!R284","v":0},{"$f":"'Capacity charges'!S284","v":0},{"$f":"'Capacity charges'!T284","v":0},{"$f":"'Capacity charges'!U284","v":0},{"$f":"'Capacity charges'!V284","v":0},{"$f":"'Capacity charges'!W284","v":0},{"$f":"'Capacity charges'!X284","v":0},{"$f":"'Capacity charges'!Y284","v":0}]
[null,null,null,null,null,"LV circuits","p/kVA/day",null,null,{"$f":"'Capacity charges'!J285","v":0.98433623219358002},{"$f":"'Capacity charges'!K285","v":0},{"$f":"'Capacity charges'!L285","v":0.98433623219358002},{"$f":"'Capacity charges'!M285","v":0},{"$f":"'Capacity charges'!N285","v":0},{"$f":"'Capacity charges'!O285","v":0},{"$f":"'Capacity charges'!P285","v":0},{"$f":"'Capacity charges'!Q285","v":0},{"$f":"'Capacity charges'!R285","v":0},{"$f":"'Capacity charges'!S285","v":0},{"$f":"'Capacity charges'!T285","v":0},{"$f":"'Capacity charges'!U285","v":0},{"$f":"'Capacity charges'!V285","v":0},{"$f":"'Capacity charges'!W285","v":0},{"$f":"'Capacity charges'!X285","v":0},{"$f":"'Capacity charges'!Y285","v":0}]
[null,null,null,null,null,"LV customers","p/kVA/day"]
[null,null,null,null,null,"HV customers","p/kVA/day"]
[]
[null,null,{"$f":"INDEX('Version control'!$H$29:$H$55,MATCH($A$1,'Version control'!$F$29:$F$55,0),1)&\"-C: Service model costs allocated to fixed charges\"","v":"Section 517-C: Service model costs allocated to fixed charges"}]
[]
[null,null,null,null,"Other operating costs",null,null,null,">",null,null,null,null,null,null,null,null,null,null,null,null,null,null,null,null,null,"Paragraphs 85 & 86"]
[null,null,null,null,null,"LV customers","p/MPAN/day",null,null,{"$f":"'Service model charges'!J42","v":4.2336046375837677},{"$f":"'Service model charges'!K42","v":0},{"$f":"'Service model charges'!L42","v":5.7025320608174255},{"$f":"'Service model charges'!M42","v":0},{"$f":"'Service model charges'!N42","v":26.677201581809278},{"$f":"'Service model charges'!O42","v":9.4154829112268068},{"$f":"'Service model charges'!P42","v":0},null,{"$f":"'Service model charges'!R42","v":0},{"$f":"'Service model charges'!S42","v":0},{"$f":"'Service model charges'!T42","v":0},{"$f":"'Service model charges'!U42","v":0},{"$f":"'Service model charges'!V42","v":0},{"$f":"'Service model charges'!W42","v":0},{"$f":"'Service model charges'!X42","v":0},{"$f":"'Service model charges'!Y42","v":0}]
[null,null,null,null,null,"HV customers","p/MPAN/day",null,null,{"$f":"'Service model charges'!J43","v":0},{"$f":"'Service model charges'!K43","v":0},{"$f":"'Service model charges'!L43","v":0},{"$f":"'Service model charges'!M43","v":0},{"$f":"'Service model charges'!N43","v":0},{"$f":"'Service model charges'!O43","v":0},{"$f":"'Service model charges'!P43","v":142.55607782743925},null,{"$f":"'Service model charges'!R43","v":0},{"$f":"'Service model charges'!S43","v":0},{"$f":"'Service model charges'!T43","v":0},{"$f":"'Service model charges'!U43","v":0},{"$f":"'Service model charges'!V43","v":0},{"$f":"'Service model charges'!W43","v":0},{"$f":"'Service model charges'!X43","v":104.09713071019446},{"$f":"'Service model charges'!Y43","v":104.09713071019446}]
[]
[null,null,{"$f":"INDEX('Version control'!$H$29:$H$55,MATCH($A$1,'Version control'!$F$29:$F$55,0),1)&\"-D: Flags\"","v":"Section 517-D: Flags"}]
[]
[null,null,null,"This table flags user categories to be summed together for the sake of setting a common fixed "]
[null,null,null,"charge, as identified in Schedule 16, Paragraph 83."]
[]
[null,null,null,null,"Aggregation group identified",null,"integer",null,">",{"$f":"'Fixed inputs'!J150","v":1},{"$f":"'Fixed inputs'!K150","v":0},{"$f":"'Fixed inputs'!L150","v":1},{"$f":"'Fixed inputs'!M150","v":0},{"$f":"'Fixed inputs'!N150","v":0},{"$f":"'Fixed inputs'!O150","v":0},{"$f":"'Fixed inputs'!P150","v":0},{"$f":"'Fixed inputs'!Q150","v":0},{"$f":"'Fixed inputs'!R150","v":0},{"$f":"'Fixed inputs'!S150","v":0},{"$f":"'Fixed inputs'!T150","v":0},{"$f":"'Fixed inputs'!U150","v":0},{"$f":"'Fixed inputs'!V150","v":0},{"$f":"'Fixed inputs'!W150","v":0},{"$f":"'Fixed inputs'!X150","v":0},{"$f":"'Fixed inputs'!Y150","v":0},null,"Paragraphs 83 & 84"]
[]
[null,"Calculation of fixed charges"]
[]
[null,null,{"$f":"INDEX('Version control'!$H$29:$H$55,MATCH($A$1,'Version control'!$F$29:$F$55,0),1)&\"-E: Revenue allocated to fixed charges\"","v":"Section 517-E: Revenue allocated to fixed charges"}]
[null,null,null,null,null,null,null,null,">",null,null,null,null,null,null,null,null,null,null,null,null,null,null,null,null,null,"Paragraphs 83 & 84"]
[null,null,null,null,"Asset costs"]
[null,null,null,null,null,"Transmission exit","pence per day"]
[null,null,null,null,null,"GSPs","pence per day"]
[null,null,null,null,null,"132kV","pence per day",null,null,{"$f":"J$20 * J27 * thousand / PowerFactor","v":0},0,{"$f":"L$20 * L27 * thousand / PowerFactor","v":0},0,{"$f":"N$20 * N27 * thousand / PowerFactor","v":0},0,0,{"$f":"Q$20 * Q27 * thousand / PowerFactor","v":0},0,0,{"$f":"T$20 * T27 * thousand / PowerFactor","v":0},0,{"$f":"V$20 * V27 * thousand / PowerFactor","v":0},0,{"$f":"X$20 * X27 * thousand / PowerFactor","v":0},0]
[null,null,null,null,null,"132kV/EHV","pence per day",null,null,{"$f":"J$20 * J28 * thousand / PowerFactor","v":0},0,{"$f":"L$20 * L28 * thousand / PowerFactor","v":0},0,{"$f":"N$20 * N28 * thousand / PowerFactor","v":0},0,0,{"$f":"Q$20 * Q28 * thousand / PowerFactor","v":0},0,0,{"$f":"T$20 * T28 * thousand / PowerFactor","v":0},0,{"$f":"V$20 * V28 * thousand / PowerFactor","v":0},0,{"$f":"X$20 * X28 * thousand / PowerFactor","v":0},0]
[null,null,null,null,null,"EHV","pence per day",null,null,{"$f":"J$20 * J29 * thousand / PowerFactor","v":0},0,{"$f":"L$20 * L29 * thousand / PowerFactor","v":0},0,{"$f":"N$20 * N29 * thousand / PowerFactor","v":0},0,0,{"$f":"Q$20 * Q29 * thousand / PowerFactor","v":0},0,0,{"$f":"T$20 * T29 * thousand / PowerFactor","v":0},0,{"$f":"V$20 * V29 * thousand / PowerFactor","v":0},0,{"$f":"X$20 * X29 * thousand / PowerFactor","v":0},0]
[null,null,null,null,null,"EHV/HV","pence per day",null,null,{"$f":"J$20 * J30 * thousand / PowerFactor","v":0},0,{"$f":"L$20 * L30 * thousand / PowerFactor","v":0},0,{"$f":"N$20 * N30 * thousand / PowerFactor","v":0},0,0,{"$f":"Q$20 * Q30 * thousand / PowerFactor","v":0},0,0,{"$f":"T$20 * T30 * thousand / PowerFactor","v":0},0,{"$f":"V$20 * V30 * thousand / PowerFactor","v":0},0,{"$f":"X$20 * X30 * thousand / PowerFactor","v":0},0]
[null,null,null,null,null,"132kV/HV","pence per day",null,null,{"$f":"J$20 * J31 * thousand / PowerFactor","v":0},0,{"$f":"L$20 * L31 * thousand / PowerFactor","v":0},0,{"$f":"N$20 * N31 * thousand / PowerFactor","v":0},0,0,{"$f":"Q$20 * Q31 * thousand / PowerFactor","v":0},0,0,{"$f":"T$20 * T31 * thousand / PowerFactor","v":0},0,{"$f":"V$20 * V31 * thousand / PowerFactor","v":0},0,{"$f":"X$20 * X31 * thousand / PowerFactor","v":0},0]
[null,null,null,null,null,"HV","pence per day",null,null,{"$f":"J$20 * J32 * thousand / PowerFactor","v":0},0,{"$f":"L$20 * L32 * thousand / PowerFactor","v":0},0,{"$f":"N$20 * N32 * thousand / PowerFactor","v":0},0,0,{"$f":"Q$20 * Q32 * thousand / PowerFactor","v":0},0,0,{"$f":"T$20 * T32 * thousand / PowerFactor","v":0},0,{"$f":"V$20 * V32 * thousand / PowerFactor","v":0},0,{"$f":"X$20 * X32 * thousand / PowerFactor","v":0},0]
[null,null,null,null,null,"HV/LV","pence per day",null,null,{"$f":"J$20 * J33 * thousand / PowerFactor","v":0},0,{"$f":"L$20 * L33 * thousand / PowerFactor","v":0},0,{"$f":"N$20 * N33 * thousand / PowerFactor","v":0},0,0,{"$f":"Q$20 * Q33 * thousand / PowerFactor","v":0},0,0,{"$f":"T$20 * T33 * thousand / PowerFactor","v":0},0,{"$f":"V$20 * V33 * thousand / PowerFactor","v":0},0,{"$f":"X$20 * X33 * thousand / PowerFactor","v":0},0]
[null,null,null,null,null,"LV circuits","pence per day",null,null,{"$f":"J$20 * J34 * thousand / PowerFactor","v":1985856.879063827},0,{"$f":"L$20 * L34 * thousand / PowerFactor","v":737989.55620314495},0,{"$f":"N$20 * N34 * thousand / PowerFactor","v":0},0,0,{"$f":"Q$20 * Q34 * thousand / PowerFactor","v":0},0,0,{"$f":"T$20 * T34 * thousand / PowerFactor","v":0},0,{"$f":"V$20 * V34 * thousand / PowerFactor","v":0},0,{"$f":"X$20 * X34 * thousand / PowerFactor","v":0},0]
[null,null,null,null,null,"LV customers","pence per day"]
[null,null,null,null,null,"HV customers","pence per day"]
[]
[null,null,null,null,"Other operating costs"]
[null,null,null,null,null,"Transmission exit","pence per day",null,null,{"$f":"J$20 * J39 * thousand / PowerFactor","v":0},0,{"$f":"L$20 * L39 * thousand / PowerFactor","v":0},0,{"$f":"N$20 * N39 * thousand / PowerFactor","v":0},0,0,{"$f":"Q$20 * Q39 * thousand / PowerFactor","v":0},0,0,{"$f":"T$20 * T39 * thousand / PowerFactor","v":0},0,{"$f":"V$20 * V39 * thousand / PowerFactor","v":0},0,{"$f":"X$20 * X39 * thousand / PowerFactor","v":0},0]
[null,null,null,null,null,"GSPs","pence per day",null,null,{"$f":"J$20 * J40 * thousand / PowerFactor","v":0},0,{"$f":"L$20 * L40 * thousand / PowerFactor","v":0},0,{"$f":"N$20 * N40 * thousand / PowerFactor","v":0},0,0,{"$f":"Q$20 * Q40 * thousand / PowerFactor","v":0},0,0,{"$f":"T$20 * T40 * thousand / PowerFactor","v":0},0,{"$f":"V$20 * V40 * thousand / PowerFactor","v":0},0,{"$f":"X$20 * X40 * thousand / PowerFactor","v":0},0]
[null,null,null,null,null,"132kV","pence per day",null,null,{"$f":"J$20 * J41 * thousand / PowerFactor","v":0},0,{"$f":"L$20 * L41 * thousand / PowerFactor","v":0},0,{"$f":"N$20 * N41 * thousand / PowerFactor","v":0},0,0,{"$f":"Q$20 * Q41 * thousand / PowerFactor","v":0},0,0,{"$f":"T$20 * T41 * thousand / PowerFactor","v":0},0,{"$f":"V$20 * V41 * thousand / PowerFactor","v":0},0,{"$f":"X$20 * X41 * thousand / PowerFactor","v":0},0]
[null,null,null,null,null,"132kV/EHV","pence per day",null,null,{"$f":"J$20 * J42 * thousand / PowerFactor","v":0},0,{"$f":"L$20 * L42 * thousand / PowerFactor","v":0},0,{"$f":"N$20 * N42 * thousand / PowerFactor","v":0},0,0,{"$f":"Q$20 * Q42 * thousand / PowerFactor","v":0},0,0,{"$f":"T$20 * T42 * thousand / PowerFactor","v":0},0,{"$f":"V$20 * V42 * thousand / PowerFactor","v":0},0,{"$f":"X$20 * X42 * thousand / PowerFactor","v":0},0]
[null,null,null,null,null,"EHV","pence per day",null,null,{"$f":"J$20 * J43 * thousand / PowerFactor","v":0},0,{"$f":"L$20 * L43 * thousand / PowerFactor","v":0},0,{"$f":"N$20 * N43 * thousand / PowerFactor","v":0},0,0,{"$f":"Q$20 * Q43 * thousand / PowerFactor","v":0},0,0,{"$f":"T$20 * T43 * thousand / PowerFactor","v":0},0,{"$f":"V$20 * V43 * thousand / PowerFactor","v":0},0,{"$f":"X$20 * X43 * thousand / PowerFactor","v":0},0]
[null,null,null,null,null,"EHV/HV","pence per day",null,null,{"$f":"J$20 * J44 * thousand / PowerFactor","v":0},0,{"$f":"L$20 * L44 * thousand / PowerFactor","v":0},0,{"$f":"N$20 * N44 * thousand / PowerFactor","v":0},0,0,{"$f":"Q$20 * Q44 * thousand / PowerFactor","v":0},0,0,{"$f":"T$20 * T44 * thousand / PowerFactor","v":0},0,{"$f":"V$20 * V44 * thousand / PowerFactor","v":0},0,{"$f":"X$20 * X44 * thousand / PowerFactor","v":0},0]
[null,null,null,null,null,"132kV/HV","pence per day",null,null,{"$f":"J$20 * J45 * thousand / PowerFactor","v":0},0,{"$f":"L$20 * L45 * thousand / PowerFactor","v":0},0,{"$f":"N$20 * N45 * thousand / PowerFactor","v":0},0,0,{"$f":"Q$20 * Q45 * thousand / PowerFactor","v":0},0,0,{"$f":"T$20 * T45 * thousand / PowerFactor","v":0},0,{"$f":"V$20 * V45 * thousand / PowerFactor","v":0},0,{"$f":"X$20 * X45 * thousand / PowerFactor","v":0},0]
[null,null,null,null,null,"HV","pence per day",null,null,{"$f":"J$20 * J46 * thousand / PowerFactor","v":0},0,{"$f":"L$20 * L46 * thousand / PowerFactor","v":0},0,{"$f":"N$20 * N46 * thousand / PowerFactor","v":0},0,0,{"$f":"Q$20 * Q46 * thousand / PowerFactor","v":0},0,0,{"$f":"T$20 * T46 * thousand / PowerFactor","v":0},0,{"$f":"V$20 * V46 * thousand / PowerFactor","v":0},0,{"$f":"X$20 * X46 * thousand / PowerFactor","v":0},0]
[null,null,null,null,null,"HV/LV","pence per day",null,null,{"$f":"J$20 * J47 * thousand / PowerFactor","v":0},0,{"$f":"L$20 * L47 * thousand / PowerFactor","v":0},0,{"$f":"N$20 * N47 * thousand / PowerFactor","v":0},0,0,{"$f":"Q$20 * Q47 * thousand / PowerFactor","v":0},0,0,{"$f":"T$20 * T47 * thousand / PowerFactor","v":0},0,{"$f":"V$20 * V47 * thousand / PowerFactor","v":0},0,{"$f":"X$20 * X47 * thousand / PowerFactor","v":0},0]
[null,null,null,null,null,"LV circuits","pence per day",null,null,{"$f":"J$20 * J48 * thousand / PowerFactor","v":1423177.9653019018},0,{"$f":"L$20 * L48 * thousand / PowerFactor","v":528885.28175624309},0,{"$f":"N$20 * N48 * thousand / PowerFactor","v":0},0,0,{"$f":"Q$20 * Q48 * thousand / PowerFactor","v":0},0,0,{"$f":"T$20 * T48 * thousand / PowerFactor","v":0},0,{"$f":"V$20 * V48 * thousand / PowerFactor","v":0},0,{"$f":"X$20 * X48 * thousand / PowerFactor","v":0},0]
[null,null,null,null,null,"LV customers","pence per day"]
[null,null,null,null,null,"HV customers","pence per day"]
[]
[null,null,{"$f":"INDEX('Version control'!$H$29:$H$55,MATCH($A$1,'Version control'!$F$29:$F$55,0),1)&\"-F: Revenue allocated to fixed charges, by aggregation group\"","v":"Section 517-F: Revenue allocated to fixed charges, by aggregation group"}]
[null,null,null,null,null,null,null,null,">",null,null,null,null,null,null,null,null,null,null,null,null,null,null,null,null,null,"Paragraphs 83 & 84"]
[null,null,null,null,"Asset costs"]
[null,null,null,null,null,"Transmission exit","pence per day"]
[null,null,null,null,null,"GSPs","pence per day"]
[null,null,null,null,null,"132kV","pence per day",null,null,{"$f":"SUMIFS($J72:$Y72,$J$63:$Y$63,J$63)","v":0},0,0,0,0,0,0,0,0,0,0,0,0,0,0,0]
[null,null,null,null,null,"132kV/EHV","pence per day",null,null,0,0,0,0,0,0,0,0,0,0,0,0,0,0,0,0]
[null,null,null,null,null,"EHV","pence per day",null,null,0,0,0,0,0,0,0,0,0,0,0,0,0,0,0,0]
[null,null,null,null,null,"EHV/HV","pence per day",null,null,0,0,0,0,0,0,0,0,0,0,0,0,0,0,0,0]
[null,null,null,null,null,"132kV/HV","pence per day",null,null,0,0,0,0,0,0,0,0,0,0,0,0,0,0,0,0]
[null,null,null,null,null,"HV","pence per day",null,null,0,0,0,0,0,0,0,0,0,0,0,0,0,0,0,0]
[null,null,null,null,null,"HV/LV","pence per day",null,null,0,0,0,0,0,0,0,0,0,0,0,0,0,0,0,0]
[null,null,null,null,null,"LV circuits","pence per day",null,null,2723846.4352669721,0,2723846.4352669721,0,0,0,0,0,0,0,0,0,0,0,0,0]
[null,null,null,null,null,"LV customers","pence per day"]
[null,null,null,null,null,"HV customers","pence per day"]
[]
[null,null,null,null,"Other operating costs"]
[null,null,null,null,null,"Transmission exit","pence per day",null,null,{"$f":"SUMIFS($J84:$Y84,$J$63:$Y$63,J$63)","v":0},0,0,0,0,0,0,0,0,0,0,0,0,0,0,0]
[null,null,null,null,null,"GSPs","pence per day",null,null,0,0,0,0,0,0,0,0,0,0,0,0,0,0,0,0]
[null,null,null,null,null,"132kV","pence per day",null,null,0,0,0,0,0,0,0,0,0,0,0,0,0,0,0,0]
[null,null,null,null,null,"132kV/EHV","pence per day",null,null,0,0,0,0,0,0,0,0,0,0,0,0,0,0,0,0]
[null,null,null,null,null,"EHV","pence per day",null,null,0,0,0,0,0,0,0,0,0,0,0,0,0,0,0,0]
[null,null,null,null,null,"EHV/HV","pence per day",null,null,0,0,0,0,0,0,0,0,0,0,0,0,0,0,0,0]
[null,null,null,null,null,"132kV/HV","pence per day",null,null,0,0,0,0,0,0,0,0,0,0,0,0,0,0,0,0]
[null,null,null,null,null,"HV","pence per day",null,null,0,0,0,0,0,0,0,0,0,0,0,0,0,0,0,0]
[null,null,null,null,null,"HV/LV","pence per day",null,null,0,0,0,0,0,0,0,0,0,0,0,0,0,0,0,0]
[null,null,null,null,null,"LV circuits","pence per day",null,null,1952063.2470581448,0,1952063.2470581448,0,0,0,0,0,0,0,0,0,0,0,0,0]
[null,null,null,null,null,"LV customers","pence per day"]
[null,null,null,null,null,"HV customers","pence per day"]
[]
[null,null,{"$f":"INDEX('Version control'!$H$29:$H$55,MATCH($A$1,'Version control'!$F$29:$F$55,0),1)&\"-G: Fixed charges, by network level\"","v":"Section 517-G: Fixed charges, by network level"}]
[]
[null,null,null,null,"Total MPANs by aggregation group",null,"MPANs",null,null,{"$f":"SUMIFS($J$18:$Y$18,$J$63:$Y$63,J63)","v":2066143.1729783725},114929.10755889479,2066143.1729783725,114929.10755889479,114929.10755889479,114929.10755889479,114929.10755889479,114929.10755889479,114929.10755889479,114929.10755889479,114929.10755889479,114929.10755889479,114929.10755889479,114929.10755889479,114929.10755889479,114929.10755889479]
[]
[null,null,null,null,"Asset costs",null,null,null,">",null,null,null,null,null,null,null,null,null,null,null,null,null,null,null,null,null,"Paragraphs 83 & 84"]
[null,null,null,null,null,"Transmission exit","p/MPAN/day",null,null,{"$f":"IF(J$129 = 0, 0, J100 / J$129)","v":0},0,0,0,0,0,0,0,0,0,0,0,0,0,0,0]
[null,null,null,null,null,"GSPs","p/MPAN/day",null,null,0,0,0,0,0,0,0,0,0,0,0,0,0,0,0,0]
[null,null,null,null,null,"132kV","p/MPAN/day",null,null,0,0,0,0,0,0,0,0,0,0,0,0,0,0,0,0]
[null,null,null,null,null,"132kV/EHV","p/MPAN/day",null,null,0,0,0,0,0,0,0,0,0,0,0,0,0,0,0,0]
[null,null,null,null,null,"EHV","p/MPAN/day",null,null,0,0,0,0,0,0,0,0,0,0,0,0,0,0,0,0]
[null,null,null,null,null,"EHV/HV","p/MPAN/day",null,null,0,0,0,0,0,0,0,0,0,0,0,0,0,0,0,0]
[null,null,null,null,null,"132kV/HV","p/MPAN/day",null,null,0,0,0,0,0,0,0,0,0,0,0,0,0,0,0,0]
[null,null,null,null,null,"HV","p/MPAN/day",null,null,0,0,0,0,0,0,0,0,0,0,0,0,0,0,0,0]
[null,null,null,null,null,"HV/LV","p/MPAN/day",null,null,0,0,0,0,0,0,0,0,0,0,0,0,0,0,0,0]
[null,null,null,null,null,"LV circuits","p/MPAN/day",null,null,1.3183241465984721,0,1.3183241465984721,0,0,0,0,0,0,0,0,0,0,0,0,0]
[null,null,null,null,null,"LV customers","p/MPAN/day"]
[null,null,null,null,null,"HV customers","p/MPAN/day"]
[]
[null,null,null,null,"Other operating costs"]
[null,null,null,null,null,"Transmission exit","p/MPAN/day",null,null,{"$f":"IF(J$129 = 0, 0, J114 / J$129)","v":0},0,0,0,0,0,0,0,0,0,0,0,0,0,0,0]
[null,null,null,null,null,"GSPs","p/MPAN/day",null,null,0,0,0,0,0,0,0,0,0,0,0,0,0,0,0,0]
[null,null,null,null,null,"132kV","p/MPAN/day",null,null,0,0,0,0,0,0,0,0,0,0,0,0,0,0,0,0]
[null,null,null,null,null,"132kV/EHV","p/MPAN/day",null,null,0,0,0,0,0,0,0,0,0,0,0,0,0,0,0,0]
[null,null,null,null,null,"EHV","p/MPAN/day",null,null,0,0,0,0,0,0,0,0,0,0,0,0,0,0,0,0]
[null,null,null,null,null,"EHV/HV","p/MPAN/day",null,null,0,0,0,0,0,0,0,0,0,0,0,0,0,0,0,0]
[null,null,null,null,null,"132kV/HV","p/MPAN/day",null,null,0,0,0,0,0,0,0,0,0,0,0,0,0,0,0,0]
[null,null,null,null,null,"HV","p/MPAN/day",null,null,0,0,0,0,0,0,0,0,0,0,0,0,0,0,0,0]
[null,null,null,null,null,"HV/LV","p/MPAN/day",null,null,0,0,0,0,0,0,0,0,0,0,0,0,0,0,0,0]
[null,null,null,null,null,"LV circuits","p/MPAN/day",null,null,0.94478604996391413,0,0.94478604996391413,0,0,0,0,0,0,0,0,0,0,0,0,0]
[null,null,null,null,null,"LV customers","p/MPAN/day",null,null,{"$f":"J55","v":4.2336046375837677},0,5.7025320608174255,0,26.677201581809278,9.4154829112268068,0,0,0,0,0,0,0,0,0,0]
[null,null,null,null,null,"HV customers","p/MPAN/day",null,null,0,0,0,0,0,0,142.55607782743925,0,0,0,0,0,0,0,104.09713071019446,104.09713071019446]
[]
[null,null,{"$f":"INDEX('Version control'!$H$29:$H$55,MATCH($A$1,'Version control'!$F$29:$F$55,0),1)&\"-H: Aggregated fixed charges\"","v":"Section 517-H: Aggregated fixed charges"}]
[]
[null,null,null,null,"Fixed charge",null,"p/MPAN/day",null,null,{"$f":"SUM(J132:J143,J146:J157)","v":6.4967148341461538},0,7.9656422573798116,0,26.677201581809278,9.4154829112268068,142.55607782743925,0,0,0,0,0,0,0,104.09713071019446,{"$f":"SUM(Y132:Y143,Y146:Y157)","v":104.09713071019446}]
[]
[null,"Checks"]
[]
[null,null,null,null,"Check for error values",null,"number of issues",{"$f":"SUM(IF(ISERROR(H18:Y161), 1))","v":0}]
[]
[null,"End of sheet"]

{"sheet":"SoLR & bad debt adders","index":32,"n_rows":68,"n_cols":27,"rows_kept":68,"cut":false,"hidden":true,"merged":[]}
[{"$f":"MID(CELL(\"filename\",A1),FIND(\"]\",CELL(\"filename\",A1))+1,255)","v":"SoLR & bad debt adders"}]
[{"$f":"Cover!D23 & \" - \" & TEXT(CIRP_submission_date, \"mmm\") & \"-\" & RIGHT(YEAR(CIRP_submission_date), 2) & \" - \" & Cover!D25","v":"SP Distribution - Jan-26 - V1"}]
[{"$f":"Cover!D2&\" - \"&Cover!D8&\" v\"&Cover!D10&\" - \"&Cover!D19","v":"Cost Information Review Pack (CIRP) - Release for charge setting v1 - 2027/28"}]
[{"$f":"H66 & IF(H66 = 1, \" issue\", \" issues\") &\" identified in checks on this sheet\"","v":"0 issues identified in checks on this sheet"}]
[null,"Click here to return to model map",null,null,null,null,"Units","Constants",null,"Domestic Aggregated or CT","Domestic Aggregated (Related MPAN)","Non-Domestic Aggregated or CT","Non-Domestic Aggregated (Related MPAN)","LV Site Specific","LV Sub Site Specific","HV Site Specific","Unmetered Supplies","LV Generation Aggregated","LV Sub Generation Aggregated","LV Generation Site Specific","LV Generation Site Specific no RP Charge","LV Sub Generation Site Specific","LV Sub Generation Site Specific no RP Charge","HV Generation Site Specific","HV Generation Site Specific no RP Charge",null,"Legal text reference"]
[]
[null,"Description"]
[]
[null,null,"This sheet calculates the fixed charge adders for recovering revenue associated with Supplier of Last Resort and Bad Debt"]
[null,null,"costs."]
[]
[null,"Fixed tariff adjustments"]
[]
[null,null,"Tariff adjustments for fixed adders to account for Supplier of Last Resort and Eligible Bad Debt costs"]
[]
[null,null,{"$f":"INDEX('Version control'!$H$29:$H$53,MATCH($A$1,'Version control'!$F$29:$F$53,0),1)&\"-A: Inputs for fixed tariff adjustments\"","v":"Section 518-A: Inputs for fixed tariff adjustments"}]
[]
[null,null,null,null,"MPANs"]
[null,null,null,null,"All-the-way MPANs, plus LDNO-connected MPANs from designated properties"]
[null,null,null,null,null,"All the way customers","MPANs",null,null,{"$f":"'Volume adjustments'!J202","v":1860667},{"$f":"'Volume adjustments'!K202","v":65857},{"$f":"'Volume adjustments'!L202","v":120244},{"$f":"'Volume adjustments'!M202","v":4053},{"$f":"'Volume adjustments'!N202","v":11484},{"$f":"'Volume adjustments'!O202","v":312},{"$f":"'Volume adjustments'!P202","v":1299},{"$f":"'Volume adjustments'!Q202","v":565},{"$f":"'Volume adjustments'!R202","v":29908.231691690049},{"$f":"'Volume adjustments'!S202","v":7},{"$f":"'Volume adjustments'!T202","v":661},{"$f":"'Volume adjustments'!U202","v":0},{"$f":"'Volume adjustments'!V202","v":15},{"$f":"'Volume adjustments'!W202","v":0},{"$f":"'Volume adjustments'!X202","v":272},{"$f":"'Volume adjustments'!Y202","v":0}]
[null,null,null,null,null,"LDNO LV","MPANs",null,null,{"$f":"'Volume adjustments'!J211","v":65616},{"$f":"'Volume adjustments'!K211","v":41},{"$f":"'Volume adjustments'!L211","v":2020},{"$f":"'Volume adjustments'!M211","v":0},{"$f":"'Volume adjustments'!N211","v":226},{"$f":"'Volume adjustments'!O211","v":0},{"$f":"'Volume adjustments'!P211","v":0},{"$f":"'Volume adjustments'!Q211","v":0},{"$f":"'Volume adjustments'!R211","v":550},{"$f":"'Volume adjustments'!S211","v":0},{"$f":"'Volume adjustments'!T211","v":0},{"$f":"'Volume adjustments'!U211","v":0},{"$f":"'Volume adjustments'!V211","v":0},{"$f":"'Volume adjustments'!W211","v":0},{"$f":"'Volume adjustments'!X211","v":0},{"$f":"'Volume adjustments'!Y211","v":0}]
[null,null,null,null,null,"LDNO HV","MPANs",null,null,{"$f":"'Volume adjustments'!J220","v":110214},{"$f":"'Volume adjustments'!K220","v":33},{"$f":"'Volume adjustments'!L220","v":2668},{"$f":"'Volume adjustments'!M220","v":0},{"$f":"'Volume adjustments'!N220","v":636},{"$f":"'Volume adjustments'!O220","v":66},{"$f":"'Volume adjustments'!P220","v":38},{"$f":"'Volume adjustments'!Q220","v":0},{"$f":"'Volume adjustments'!R220","v":3296},{"$f":"'Volume adjustments'!S220","v":0},{"$f":"'Volume adjustments'!T220","v":2},{"$f":"'Volume adjustments'!U220","v":0},{"$f":"'Volume adjustments'!V220","v":0},{"$f":"'Volume adjustments'!W220","v":0},{"$f":"'Volume adjustments'!X220","v":0},{"$f":"'Volume adjustments'!Y220","v":0}]
[null,null,null,null,null,"LDNO designated customers from EDCM","MPANs",null,null,{"$f":"'Inputs by customer type'!J164","v":3135},{"$f":"'Inputs by customer type'!K164","v":0},{"$f":"'Inputs by customer type'!L164","v":96},{"$f":"'Inputs by customer type'!M164","v":0},{"$f":"'Inputs by customer type'!N164","v":69},{"$f":"'Inputs by customer type'!O164","v":0},{"$f":"'Inputs by customer type'!P164","v":6},{"$f":"'Inputs by customer type'!Q164","v":0},{"$f":"'Inputs by customer type'!R164","v":5},{"$f":"'Inputs by customer type'!S164","v":0},{"$f":"'Inputs by customer type'!T164","v":0},{"$f":"'Inputs by customer type'!U164","v":0},{"$f":"'Inputs by customer type'!V164","v":0},{"$f":"'Inputs by customer type'!W164","v":0},{"$f":"'Inputs by customer type'!X164","v":1},{"$f":"'Inputs by customer type'!Y164","v":0}]
[]
[null,null,null,null,"Map of applicable MPANs"]
[null,null,null,null,null,"Supplier of Last Resort Net Costs","1 or 0",null,null,{"$f":"'Fixed inputs'!J163","v":1},{"$f":"'Fixed inputs'!K163","v":0},{"$f":"'Fixed inputs'!L163","v":0},{"$f":"'Fixed inputs'!M163","v":0},{"$f":"'Fixed inputs'!N163","v":0},{"$f":"'Fixed inputs'!O163","v":0},{"$f":"'Fixed inputs'!P163","v":0},{"$f":"'Fixed inputs'!Q163","v":0},{"$f":"'Fixed inputs'!R163","v":0},{"$f":"'Fixed inputs'!S163","v":0},{"$f":"'Fixed inputs'!T163","v":0},{"$f":"'Fixed inputs'!U163","v":0},{"$f":"'Fixed inputs'!V163","v":0},{"$f":"'Fixed inputs'!W163","v":0},{"$f":"'Fixed inputs'!X163","v":0},{"$f":"'Fixed inputs'!Y163","v":0}]
[null,null,null,null,null,"Valid Bad Debt Claims","1 or 0",null,null,{"$f":"'Fixed inputs'!J164","v":1},{"$f":"'Fixed inputs'!K164","v":0},{"$f":"'Fixed inputs'!L164","v":1},{"$f":"'Fixed inputs'!M164","v":0},{"$f":"'Fixed inputs'!N164","v":1},{"$f":"'Fixed inputs'!O164","v":1},{"$f":"'Fixed inputs'!P164","v":1},{"$f":"'Fixed inputs'!Q164","v":0},{"$f":"'Fixed inputs'!R164","v":0},{"$f":"'Fixed inputs'!S164","v":0},{"$f":"'Fixed inputs'!T164","v":0},{"$f":"'Fixed inputs'!U164","v":0},{"$f":"'Fixed inputs'!V164","v":0},{"$f":"'Fixed inputs'!W164","v":0},{"$f":"'Fixed inputs'!X164","v":0},{"$f":"'Fixed inputs'!Y164","v":0}]
[]
[null,null,null,null,"Pass-through costs not allocated through revenue matching"]
[null,null,null,null,null,"Supplier of Last Resort Net Costs","£",{"$f":"'General inputs'!H92","v":0}]
[null,null,null,null,null,"Valid Bad Debt Claims","£",{"$f":"'General inputs'!H93","v":0}]
[]
[null,null,{"$f":"INDEX('Version control'!$H$29:$H$53,MATCH($A$1,'Version control'!$F$29:$F$53,0),1)&\"-B: Calculation of fixed tariff adjustments\"","v":"Section 518-B: Calculation of fixed tariff adjustments"}]
[]
[null,null,null,null,"MPANs to be charged for allocated pass-through costs"]
[null,null,null,null,null,"Supplier of Last Resort Net Costs","MPANs",null,null,{"$f":"SUM( J$20:J$23 ) * J26","v":2039632},0,0,0,0,0,0,0,0,0,0,0,0,0,0,0]
[null,null,null,null,null,"Valid Bad Debt Claims","MPANs",null,null,{"$f":"SUM( J$20:J$23 ) * J27","v":2039632},0,125028,0,12415,378,1343,0,0,0,0,0,0,0,0,0]
[]
[null,null,null,null,"Adder to fixed charge for allocated pass-through costs",null,null,null,">",null,null,null,null,null,null,null,null,null,null,null,null,null,null,null,null,null,"Paragraphs 101 and 102"]
[null,null,null,null,null,"Supplier of Last Resort Net Costs","p/MPAN/day",{"$f":"H30 / SUM( J36:Y36 ) * hundred / days_in_year","v":0}]
[null,null,null,null,null,"Valid Bad Debt Claims","p/MPAN/day",{"$f":"H31 / SUM( J37:Y37 ) * hundred / days_in_year","v":0}]
[]
[null,null,null,null,"Adder to fixed charge for allocated pass-through costs, mapped to tariffs"]
[null,null,null,null,null,"Supplier of Last Resort Net Costs","p/MPAN/day",null,null,{"$f":"IF( J26 = 1, $H40, 0)","v":0},0,0,0,0,0,0,0,0,0,0,0,0,0,0,0]
[null,null,null,null,null,"Valid Bad Debt Claims","p/MPAN/day",null,null,{"$f":"IF( J27 = 1, $H41, 0)","v":0},0,0,0,0,0,0,0,0,0,0,0,0,0,0,0]
[null,null,null,null,null,"Sum","p/MPAN/day",null,null,{"$f":" J44 + J45","v":0},0,0,0,0,0,0,0,0,0,0,0,0,0,0,0]
[]
[null,null,{"$f":"INDEX('Version control'!$H$29:$H$53,MATCH($A$1,'Version control'!$F$29:$F$53,0),1)&\"-C: Calculation of fixed charge adder revenue\"","v":"Section 518-C: Calculation of fixed charge adder revenue"}]
[]
[null,null,null,null,"Revenue from fixed charge adder, by CDCM tariff",null,"£",null,null,{"$f":"J46 / hundred * days_in_year * SUM( J20:J22 )","v":0},0,0,0,0,0,0,0,0,0,0,0,0,0,0,0]
[]
[null,null,null,null,"Revenue from fixed charge adder, CDCM total",null,"£",{"$f":"SUM( J50:Y50 )","v":0}]
[]
[null,null,null,null,"Revenue from fixed charge adder, by EDCM tariff",null,"£",null,null,{"$f":"J46 / hundred * days_in_year * J23","v":0},0,0,0,0,0,0,0,0,0,0,0,0,0,0,0]
[]
[null,null,null,null,"Revenue from fixed charge adder, EDCM total",null,"£",{"$f":"SUM( J54:Y54 )","v":0}]
[]
[null,"Checks"]
[]
[null,null,null,null,"Revenue from fixed charge adder, by tariff",null,"£",null,null,{"$f":" J50 + J54","v":0},{"$f":" K50 + K54","v":0},0,0,0,0,0,0,0,0,0,0,0,0,0,0]
[]
[null,null,null,null,"Revenue from fixed charge adder, total",null,"£",{"$f":"SUM( J60:Y60 )","v":0}]
[]
[null,null,null,null,"Revenue from fixed adder equals allocated costs",null,"number of issues",{"$f":"IF( ABS( IFERROR( H62, 0 ) - ( H30 + H31 ) ) < 10^-check_decimals, 0, 1)","v":0}]
[]
[null,null,null,null,"Check for error values",null,"number of issues",{"$f":"SUM( IF( ISERROR( H20:Y57 ), 1 )) + H64","v":0}]
[]
[null,"End of sheet"]

{"sheet":"Revenue matching","index":33,"n_rows":434,"n_cols":43,"rows_kept":434,"cut":false,"hidden":true,"merged":[]}
[{"$f":"MID(CELL(\"filename\",A1),FIND(\"]\",CELL(\"filename\",A1))+1,255)","v":"Revenue matching"}]
[{"$f":"Cover!D23 & \" - \" & TEXT(CIRP_submission_date, \"mmm\") & \"-\" & RIGHT(YEAR(CIRP_submission_date), 2) & \" - \" & Cover!D25","v":"SP Distribution - Jan-26 - V1"}]
[{"$f":"Cover!D2&\" - \"&Cover!D8&\" v\"&Cover!D10&\" - \"&Cover!D19","v":"Cost Information Review Pack (CIRP) - Release for charge setting v1 - 2027/28"}]
[{"$f":"H432 & IF(H432 = 1, \" issue\", \" issues\") &\" identified in checks on this sheet\"","v":"0 issues identified in checks on this sheet"}]
[null,"Click here to return to model map",null,null,null,null,"Units","Constants",null,"Domestic Aggregated or CT with Residual","Domestic Aggregated (Related MPAN)","Non-Domestic Aggregated or CT No Residual","Non-Domestic Aggregated or CT Band 1","Non-Domestic Aggregated or CT Band 2","Non-Domestic Aggregated or CT Band 3","Non-Domestic Aggregated or CT Band 4","Non-Domestic Aggregated (Related MPAN)","LV Site Specific No Residual","LV Site Specific Band 1","LV Site Specific Band 2","LV Site Specific Band 3","LV Site Specific Band 4","LV Sub Site Specific No Residual","LV Sub Site Specific Band 1","LV Sub Site Specific Band 2","LV Sub Site Specific Band 3","LV Sub Site Specific Band 4","HV Site Specific No Residual","HV Site Specific Band 1","HV Site Specific Band 2","HV Site Specific Band 3","HV Site Specific Band 4","Unmetered Supplies","LV Generation Aggregated","LV Sub Generation Aggregated","LV Generation Site Specific","LV Generation Site Specific no RP Charge","LV Sub Generation Site Specific","LV Sub Generation Site Specific no RP Charge","HV Generation Site Specific","HV Generation Site Specific no RP Charge",null,"Legal text reference"]
[]
[null,"Description"]
[]
[null,null,null,"This sheet adjusts unit charges for demand only, such that expected revenue to be collected "]
[null,null,null,"through the CDCM matches allowed revenue determined through the company's price control."]
[null,null,null,"This is done by applying an algorithm that complies with Paragraphs 89-95."]
[]
[null,"Pre-matching net revenue calculations"]
[]
[null,null,{"$f":"INDEX('Version control'!$H$29:$H$55,MATCH($A$1,'Version control'!$F$29:$F$55,0),1)&\"-A: Inputs to revenue matching\"","v":"Section 519-A: Inputs to revenue matching"}]
[]
[null,null,null,"Brings in charges, volumes, fixed inputs and calculates revenues"]
[]
[null,null,null,null,"Summary of charges before revenue matching",null,null,null,null,"Domestic Aggregated or CT","Domestic Aggregated (Related MPAN)","Non-Domestic Aggregated or CT","Non-Domestic Aggregated (Related MPAN)","LV Site Specific","LV Sub Site Specific","HV Site Specific","Unmetered Supplies","LV Generation Aggregated","LV Sub Generation Aggregated","LV Generation Site Specific","LV Generation Site Specific no RP Charge","LV Sub Generation Site Specific","LV Sub Generation Site Specific no RP Charge","HV Generation Site Specific","HV Generation Site Specific no RP Charge"]
[null,null,null,null,null,"Unit rate 1","p/kWh",null,null,{"$f":"'Unit rate charges'!J217","v":12.717520165338014},{"$f":"'Unit rate charges'!K217","v":12.717520165338014},{"$f":"'Unit rate charges'!L217","v":14.079989484681821},{"$f":"'Unit rate charges'!M217","v":14.079989484681821},{"$f":"'Unit rate charges'!N217","v":10.303780578114448},{"$f":"'Unit rate charges'!O217","v":5.6739248738730312},{"$f":"'Unit rate charges'!P217","v":4.0807673462540635},{"$f":"'Unit rate charges'!Q217","v":34.427065032597824},{"$f":"'Unit rate charges'!R217","v":-9.1108081999836212},{"$f":"'Unit rate charges'!S217","v":-7.7444236969645761},{"$f":"'Unit rate charges'!T217","v":-9.1108081999836212},{"$f":"'Unit rate charges'!U217","v":-9.1108081999836212},{"$f":"'Unit rate charges'!V217","v":-7.7444236969645761},{"$f":"'Unit rate charges'!W217","v":-7.7444236969645761},{"$f":"'Unit rate charges'!X217","v":-4.9382331007984606},{"$f":"'Unit rate charges'!Y217","v":-4.9382331007984606}]
[null,null,null,null,null,"Unit rate 2","p/kWh",null,null,{"$f":"'Unit rate charges'!J218","v":1.3539208372436566},{"$f":"'Unit rate charges'!K218","v":1.3539208372436566},{"$f":"'Unit rate charges'!L218","v":1.4989707823259124},{"$f":"'Unit rate charges'!M218","v":1.4989707823259124},{"$f":"'Unit rate charges'!N218","v":1.0189174898885729},{"$f":"'Unit rate charges'!O218","v":0.43361413140194049},{"$f":"'Unit rate charges'!P218","v":0.26830429745230278},{"$f":"'Unit rate charges'!Q218","v":1.6679007271346775},{"$f":"'Unit rate charges'!R218","v":-0.96994641295780804},{"$f":"'Unit rate charges'!S218","v":-0.79410460343678191},{"$f":"'Unit rate charges'!T218","v":-0.96994641295780804},{"$f":"'Unit rate charges'!U218","v":-0.96994641295780804},{"$f":"'Unit rate charges'!V218","v":-0.79410460343678191},{"$f":"'Unit rate charges'!W218","v":-0.79410460343678191},{"$f":"'Unit rate charges'!X218","v":-0.37739090739870668},{"$f":"'Unit rate charges'!Y218","v":-0.37739090739870668}]
[null,null,null,null,null,"Unit rate 3","p/kWh",null,null,{"$f":"'Unit rate charges'!J219","v":3.1795256169465769E-2},{"$f":"'Unit rate charges'!K219","v":3.1795256169465769E-2},{"$f":"'Unit rate charges'!L219","v":3.5201585427715669E-2},{"$f":"'Unit rate charges'!M219","v":3.5201585427715669E-2},{"$f":"'Unit rate charges'!N219","v":2.5064322154661763E-2},{"$f":"'Unit rate charges'!O219","v":1.2664619419301717E-2},{"$f":"'Unit rate charges'!P219","v":8.7199076106789144E-3},{"$f":"'Unit rate charges'!Q219","v":0.52379306690520866},{"$f":"'Unit rate charges'!R219","v":-2.277806340098296E-2},{"$f":"'Unit rate charges'!S219","v":-1.9090904887166527E-2},{"$f":"'Unit rate charges'!T219","v":-2.277806340098296E-2},{"$f":"'Unit rate charges'!U219","v":-2.277806340098296E-2},{"$f":"'Unit rate charges'!V219","v":-1.9090904887166527E-2},{"$f":"'Unit rate charges'!W219","v":-1.9090904887166527E-2},{"$f":"'Unit rate charges'!X219","v":-1.1022501040398902E-2},{"$f":"'Unit rate charges'!Y219","v":-1.1022501040398902E-2}]
[null,null,null,null,null,"Fixed charge","p/MPAN/day",null,null,{"$f":"'Fixed charges'!J161","v":6.4967148341461538},{"$f":"'Fixed charges'!K161","v":0},{"$f":"'Fixed charges'!L161","v":7.9656422573798116},{"$f":"'Fixed charges'!M161","v":0},{"$f":"'Fixed charges'!N161","v":26.677201581809278},{"$f":"'Fixed charges'!O161","v":9.4154829112268068},{"$f":"'Fixed charges'!P161","v":142.55607782743925},{"$f":"'Fixed charges'!Q161","v":0},{"$f":"'Fixed charges'!R161","v":0},{"$f":"'Fixed charges'!S161","v":0},{"$f":"'Fixed charges'!T161","v":0},{"$f":"'Fixed charges'!U161","v":0},{"$f":"'Fixed charges'!V161","v":0},{"$f":"'Fixed charges'!W161","v":0},{"$f":"'Fixed charges'!X161","v":104.09713071019446},{"$f":"'Fixed charges'!Y161","v":104.09713071019446}]
[null,null,null,null,null,"Capacity charge","p/kVA/day",null,null,{"$f":"'Capacity charges'!J256","v":0},{"$f":"'Capacity charges'!K256","v":0},{"$f":"'Capacity charges'!L256","v":0},{"$f":"'Capacity charges'!M256","v":0},{"$f":"'Capacity charges'!N256","v":5.2263068891671809},{"$f":"'Capacity charges'!O256","v":7.3547049278155461},{"$f":"'Capacity charges'!P256","v":8.7475343670699921},{"$f":"'Capacity charges'!Q256","v":0},{"$f":"'Capacity charges'!R256","v":0},{"$f":"'Capacity charges'!S256","v":0},{"$f":"'Capacity charges'!T256","v":0},{"$f":"'Capacity charges'!U256","v":0},{"$f":"'Capacity charges'!V256","v":0},{"$f":"'Capacity charges'!W256","v":0},{"$f":"'Capacity charges'!X256","v":0},{"$f":"'Capacity charges'!Y256","v":0}]
[null,null,null,null,null,"Exceeded capacity charge","p/kVA/day",null,null,{"$f":"'Capacity charges'!J257","v":0},{"$f":"'Capacity charges'!K257","v":0},{"$f":"'Capacity charges'!L257","v":0},{"$f":"'Capacity charges'!M257","v":0},{"$f":"'Capacity charges'!N257","v":5.2263068891671809},{"$f":"'Capacity charges'!O257","v":7.3547049278155461},{"$f":"'Capacity charges'!P257","v":8.7475343670699921},{"$f":"'Capacity charges'!Q257","v":0},{"$f":"'Capacity charges'!R257","v":0},{"$f":"'Capacity charges'!S257","v":0},{"$f":"'Capacity charges'!T257","v":0},{"$f":"'Capacity charges'!U257","v":0},{"$f":"'Capacity charges'!V257","v":0},{"$f":"'Capacity charges'!W257","v":0},{"$f":"'Capacity charges'!X257","v":0},{"$f":"'Capacity charges'!Y257","v":0}]
[null,null,null,null,null,"Reactive power charge","p/kVArh",null,null,{"$f":"'Reactive power charges'!J250","v":0},{"$f":"'Reactive power charges'!K250","v":0},{"$f":"'Reactive power charges'!L250","v":0},{"$f":"'Reactive power charges'!M250","v":0},{"$f":"'Reactive power charges'!N250","v":0.20442388622842836},{"$f":"'Reactive power charges'!O250","v":9.2843771083098561E-2},{"$f":"'Reactive power charges'!P250","v":5.844330757595291E-2},{"$f":"'Reactive power charges'!Q250","v":0},{"$f":"'Reactive power charges'!R250","v":0},{"$f":"'Reactive power charges'!S250","v":0},{"$f":"'Reactive power charges'!T250","v":0.20303231774315611},{"$f":"'Reactive power charges'!U250","v":0},{"$f":"'Reactive power charges'!V250","v":0.15962076079782889},{"$f":"'Reactive power charges'!W250","v":0},{"$f":"'Reactive power charges'!X250","v":0.14015669427901961},{"$f":"'Reactive power charges'!Y250","v":0}]
[]
[null,null,null,null,null,null,null,null,null,"Domestic Aggregated or CT","Domestic Aggregated (Related MPAN)","Non-Domestic Aggregated or CT","Non-Domestic Aggregated (Related MPAN)","LV Site Specific","LV Sub Site Specific","HV Site Specific","Unmetered Supplies","LV Generation Aggregated","LV Sub Generation Aggregated","LV Generation Site Specific","LV Generation Site Specific no RP Charge","LV Sub Generation Site Specific","LV Sub Generation Site Specific no RP Charge","HV Generation Site Specific","HV Generation Site Specific no RP Charge"]
[null,null,null,null,"Adder to fixed charge for allocated pass-through costs",null,"p/MPAN/day",null,null,{"$f":"'SoLR & bad debt adders'!J46","v":0},{"$f":"'SoLR & bad debt adders'!K46","v":0},{"$f":"'SoLR & bad debt adders'!L46","v":0},{"$f":"'SoLR & bad debt adders'!M46","v":0},{"$f":"'SoLR & bad debt adders'!N46","v":0},{"$f":"'SoLR & bad debt adders'!O46","v":0},{"$f":"'SoLR & bad debt adders'!P46","v":0},{"$f":"'SoLR & bad debt adders'!Q46","v":0},{"$f":"'SoLR & bad debt adders'!R46","v":0},{"$f":"'SoLR & bad debt adders'!S46","v":0},{"$f":"'SoLR & bad debt adders'!T46","v":0},{"$f":"'SoLR & bad debt adders'!U46","v":0},{"$f":"'SoLR & bad debt adders'!V46","v":0},{"$f":"'SoLR & bad debt adders'!W46","v":0},{"$f":"'SoLR & bad debt adders'!X46","v":0},{"$f":"'SoLR & bad debt adders'!Y46","v":0}]
[]
[null,null,null,null,{"$f":"'Fixed inputs'!E168","v":"Flags for calculation of revenue matching"}]
[null,null,null,null,null,"Flag for residual tariffs","TRUE or FALSE",null,null,{"$f":"'Fixed inputs'!J169","v":true},{"$f":"'Fixed inputs'!K169","v":false},{"$f":"'Fixed inputs'!L169","v":false},{"$f":"'Fixed inputs'!M169","v":true},{"$f":"'Fixed inputs'!N169","v":true},{"$f":"'Fixed inputs'!O169","v":true},{"$f":"'Fixed inputs'!P169","v":true},{"$f":"'Fixed inputs'!Q169","v":false},{"$f":"'Fixed inputs'!R169","v":false},{"$f":"'Fixed inputs'!S169","v":true},{"$f":"'Fixed inputs'!T169","v":true},{"$f":"'Fixed inputs'!U169","v":true},{"$f":"'Fixed inputs'!V169","v":true},{"$f":"'Fixed inputs'!W169","v":false},{"$f":"'Fixed inputs'!X169","v":true},{"$f":"'Fixed inputs'!Y169","v":true},{"$f":"'Fixed inputs'!Z169","v":true},{"$f":"'Fixed inputs'!AA169","v":true},{"$f":"'Fixed inputs'!AB169","v":false},{"$f":"'Fixed inputs'!AC169","v":true},{"$f":"'Fixed inputs'!AD169","v":true},{"$f":"'Fixed inputs'!AE169","v":true},{"$f":"'Fixed inputs'!AF169","v":true},{"$f":"'Fixed inputs'!AG169","v":true},{"$f":"'Fixed inputs'!AH169","v":false},{"$f":"'Fixed inputs'!AI169","v":false},{"$f":"'Fixed inputs'!AJ169","v":false},{"$f":"'Fixed inputs'!AK169","v":false},{"$f":"'Fixed inputs'!AL169","v":false},{"$f":"'Fixed inputs'!AM169","v":false},{"$f":"'Fixed inputs'!AN169","v":false},{"$f":"'Fixed inputs'!AO169","v":false}]
[null,null,null,null,null,"Flag for residual fixed charge","TRUE or FALSE",null,null,{"$f":"'Fixed inputs'!J170","v":true},null,null,{"$f":"'Fixed inputs'!M170","v":true},{"$f":"'Fixed inputs'!N170","v":true},{"$f":"'Fixed inputs'!O170","v":true},{"$f":"'Fixed inputs'!P170","v":true},null,null,{"$f":"'Fixed inputs'!S170","v":true},{"$f":"'Fixed inputs'!T170","v":true},{"$f":"'Fixed inputs'!U170","v":true},{"$f":"'Fixed inputs'!V170","v":true},null,{"$f":"'Fixed inputs'!X170","v":true},{"$f":"'Fixed inputs'!Y170","v":true},{"$f":"'Fixed inputs'!Z170","v":true},{"$f":"'Fixed inputs'!AA170","v":true},null,{"$f":"'Fixed inputs'!AC170","v":true},{"$f":"'Fixed inputs'!AD170","v":true},{"$f":"'Fixed inputs'!AE170","v":true},{"$f":"'Fixed inputs'!AF170","v":true},{"$f":"'Fixed inputs'!AG170","v":false}]
[null,null,null,null,null,"Flag for residual unit rate only","TRUE or FALSE",null,null,{"$f":"'Fixed inputs'!J171","v":false},null,null,{"$f":"'Fixed inputs'!M171","v":false},{"$f":"'Fixed inputs'!N171","v":false},{"$f":"'Fixed inputs'!O171","v":false},{"$f":"'Fixed inputs'!P171","v":false},null,null,{"$f":"'Fixed inputs'!S171","v":false},{"$f":"'Fixed inputs'!T171","v":false},{"$f":"'Fixed inputs'!U171","v":false},{"$f":"'Fixed inputs'!V171","v":false},null,{"$f":"'Fixed inputs'!X171","v":false},{"$f":"'Fixed inputs'!Y171","v":false},{"$f":"'Fixed inputs'!Z171","v":false},{"$f":"'Fixed inputs'!AA171","v":false},null,{"$f":"'Fixed inputs'!AC171","v":false},{"$f":"'Fixed inputs'!AD171","v":false},{"$f":"'Fixed inputs'!AE171","v":false},{"$f":"'Fixed inputs'!AF171","v":false},{"$f":"'Fixed inputs'!AG171","v":true}]
[null,null,null,null,null,"Residual group","integer",null,null,{"$f":"'Fixed inputs'!J172","v":1},null,null,{"$f":"'Fixed inputs'!M172","v":2},{"$f":"'Fixed inputs'!N172","v":2},{"$f":"'Fixed inputs'!O172","v":2},{"$f":"'Fixed inputs'!P172","v":2},null,null,{"$f":"'Fixed inputs'!S172","v":3},{"$f":"'Fixed inputs'!T172","v":3},{"$f":"'Fixed inputs'!U172","v":3},{"$f":"'Fixed inputs'!V172","v":3},null,{"$f":"'Fixed inputs'!X172","v":3},{"$f":"'Fixed inputs'!Y172","v":3},{"$f":"'Fixed inputs'!Z172","v":3},{"$f":"'Fixed inputs'!AA172","v":3},null,{"$f":"'Fixed inputs'!AC172","v":4},{"$f":"'Fixed inputs'!AD172","v":4},{"$f":"'Fixed inputs'!AE172","v":4},{"$f":"'Fixed inputs'!AF172","v":4},{"$f":"'Fixed inputs'!AG172","v":5}]
[null,null,null,null,null,"Residual band","integer",null,null,{"$f":"'Fixed inputs'!J173","v":1},null,null,{"$f":"'Fixed inputs'!M173","v":1},{"$f":"'Fixed inputs'!N173","v":2},{"$f":"'Fixed inputs'!O173","v":3},{"$f":"'Fixed inputs'!P173","v":4},null,null,{"$f":"'Fixed inputs'!S173","v":1},{"$f":"'Fixed inputs'!T173","v":2},{"$f":"'Fixed inputs'!U173","v":3},{"$f":"'Fixed inputs'!V173","v":4},null,{"$f":"'Fixed inputs'!X173","v":1},{"$f":"'Fixed inputs'!Y173","v":2},{"$f":"'Fixed inputs'!Z173","v":3},{"$f":"'Fixed inputs'!AA173","v":4},null,{"$f":"'Fixed inputs'!AC173","v":1},{"$f":"'Fixed inputs'!AD173","v":2},{"$f":"'Fixed inputs'!AE173","v":3},{"$f":"'Fixed inputs'!AF173","v":4},{"$f":"'Fixed inputs'!AG173","v":1}]
[null,null,null,null,null,"Tariff before revenue matching index","integer",null,null,{"$f":"'Fixed inputs'!J174","v":1},{"$f":"'Fixed inputs'!K174","v":2},{"$f":"'Fixed inputs'!L174","v":3},{"$f":"'Fixed inputs'!M174","v":3},{"$f":"'Fixed inputs'!N174","v":3},{"$f":"'Fixed inputs'!O174","v":3},{"$f":"'Fixed inputs'!P174","v":3},{"$f":"'Fixed inputs'!Q174","v":4},{"$f":"'Fixed inputs'!R174","v":5},{"$f":"'Fixed inputs'!S174","v":5},{"$f":"'Fixed inputs'!T174","v":5},{"$f":"'Fixed inputs'!U174","v":5},{"$f":"'Fixed inputs'!V174","v":5},{"$f":"'Fixed inputs'!W174","v":6},{"$f":"'Fixed inputs'!X174","v":6},{"$f":"'Fixed inputs'!Y174","v":6},{"$f":"'Fixed inputs'!Z174","v":6},{"$f":"'Fixed inputs'!AA174","v":6},{"$f":"'Fixed inputs'!AB174","v":7},{"$f":"'Fixed inputs'!AC174","v":7},{"$f":"'Fixed inputs'!AD174","v":7},{"$f":"'Fixed inputs'!AE174","v":7},{"$f":"'Fixed inputs'!AF174","v":7},{"$f":"'Fixed inputs'!AG174","v":8},{"$f":"'Fixed inputs'!AH174","v":9},{"$f":"'Fixed inputs'!AI174","v":10},{"$f":"'Fixed inputs'!AJ174","v":11},{"$f":"'Fixed inputs'!AK174","v":12},{"$f":"'Fixed inputs'!AL174","v":13},{"$f":"'Fixed inputs'!AM174","v":14},{"$f":"'Fixed inputs'!AN174","v":15},{"$f":"'Fixed inputs'!AO174","v":16}]
[]
[null,null,null,null,"Summary of charges before revenue matching"]
[null,null,null,null,null,"Unit rate 1","p/kWh",null,null,{"$f":"INDEX($J20:$Y20,J$37)","v":12.717520165338014},12.717520165338014,14.079989484681821,14.079989484681821,14.079989484681821,14.079989484681821,14.079989484681821,14.079989484681821,10.303780578114448,10.303780578114448,10.303780578114448,10.303780578114448,10.303780578114448,5.6739248738730312,5.6739248738730312,5.6739248738730312,5.6739248738730312,5.6739248738730312,4.0807673462540635,4.0807673462540635,4.0807673462540635,4.0807673462540635,4.0807673462540635,34.427065032597824,-9.1108081999836212,-7.7444236969645761,-9.1108081999836212,-9.1108081999836212,-7.7444236969645761,-7.7444236969645761,-4.9382331007984606,-4.9382331007984606]
[null,null,null,null,null,"Unit rate 2","p/kWh",null,null,1.3539208372436566,1.3539208372436566,1.4989707823259124,1.4989707823259124,1.4989707823259124,1.4989707823259124,1.4989707823259124,1.4989707823259124,1.0189174898885729,1.0189174898885729,1.0189174898885729,1.0189174898885729,1.0189174898885729,0.43361413140194049,0.43361413140194049,0.43361413140194049,0.43361413140194049,0.43361413140194049,0.26830429745230278,0.26830429745230278,0.26830429745230278,0.26830429745230278,0.26830429745230278,1.6679007271346775,-0.96994641295780804,-0.79410460343678191,-0.96994641295780804,-0.96994641295780804,-0.79410460343678191,-0.79410460343678191,-0.37739090739870668,-0.37739090739870668]
[null,null,null,null,null,"Unit rate 3","p/kWh",null,null,3.1795256169465769E-2,3.1795256169465769E-2,3.5201585427715669E-2,3.5201585427715669E-2,3.5201585427715669E-2,3.5201585427715669E-2,3.5201585427715669E-2,3.5201585427715669E-2,2.5064322154661763E-2,2.5064322154661763E-2,2.5064322154661763E-2,2.5064322154661763E-2,2.5064322154661763E-2,1.2664619419301717E-2,1.2664619419301717E-2,1.2664619419301717E-2,1.2664619419301717E-2,1.2664619419301717E-2,8.7199076106789144E-3,8.7199076106789144E-3,8.7199076106789144E-3,8.7199076106789144E-3,8.7199076106789144E-3,0.52379306690520866,-2.277806340098296E-2,-1.9090904887166527E-2,-2.277806340098296E-2,-2.277806340098296E-2,-1.9090904887166527E-2,-1.9090904887166527E-2,-1.1022501040398902E-2,-1.1022501040398902E-2]
[null,null,null,null,null,"Fixed charge","p/MPAN/day",null,null,6.4967148341461538,0,7.9656422573798116,7.9656422573798116,7.9656422573798116,7.9656422573798116,7.9656422573798116,0,26.677201581809278,26.677201581809278,26.677201581809278,26.677201581809278,26.677201581809278,9.4154829112268068,9.4154829112268068,9.4154829112268068,9.4154829112268068,9.4154829112268068,142.55607782743925,142.55607782743925,142.55607782743925,142.55607782743925,142.55607782743925,0,0,0,0,0,0,0,104.09713071019446,104.09713071019446]
[null,null,null,null,null,"Capacity charge","p/kVA/day",null,null,0,0,0,0,0,0,0,0,5.2263068891671809,5.2263068891671809,5.2263068891671809,5.2263068891671809,5.2263068891671809,7.3547049278155461,7.3547049278155461,7.3547049278155461,7.3547049278155461,7.3547049278155461,8.7475343670699921,8.7475343670699921,8.7475343670699921,8.7475343670699921,8.7475343670699921,0,0,0,0,0,0,0,0,0]
[null,null,null,null,null,"Exceeded capacity charge","p/kVA/day",null,null,0,0,0,0,0,0,0,0,5.2263068891671809,5.2263068891671809,5.2263068891671809,5.2263068891671809,5.2263068891671809,7.3547049278155461,7.3547049278155461,7.3547049278155461,7.3547049278155461,7.3547049278155461,8.7475343670699921,8.7475343670699921,8.7475343670699921,8.7475343670699921,8.7475343670699921,0,0,0,0,0,0,0,0,0]
[null,null,null,null,null,"Reactive power charge","p/kVArh",null,null,0,0,0,0,0,0,0,0,0.20442388622842836,0.20442388622842836,0.20442388622842836,0.20442388622842836,0.20442388622842836,9.2843771083098561E-2,9.2843771083098561E-2,9.2843771083098561E-2,9.2843771083098561E-2,9.2843771083098561E-2,5.844330757595291E-2,5.844330757595291E-2,5.844330757595291E-2,5.844330757595291E-2,5.844330757595291E-2,0,0,0,0.20303231774315611,0,0.15962076079782889,0,0.14015669427901961,0]
[]
[null,null,null,null,"Adder to fixed charge for allocated pass-through costs",null,"p/MPAN/day",null,null,{"$f":"INDEX($J29:$Y29,J$37)","v":0},0,0,0,0,0,0,0,0,0,0,0,0,0,0,0,0,0,0,0,0,0,0,0,0,0,0,0,0,0,0,0]
[]
[null,null,null,null,"Volumes (discounted)"]
[null,null,null,null,null,"Fixed inputs in column H are used to direct an INDEX function, which helps map between pre- and post-revenue"]
[null,null,null,null,null,"matching tariffs"]
[null,null,null,null,null,"Unit rate 1","MWh",0,null,{"$f":"INDEX('Volume adjustments'!$J$481:$Y$521, J$36 + 1 + $H53*$H$59, J$37)","v":707229.33820484916},{"$f":"INDEX('Volume adjustments'!$J$481:$Y$521, K$36 + 1 + $H53*$H$59, K$37)","v":451.5290967967498},{"$f":"INDEX('Volume adjustments'!$J$481:$Y$521, L$36 + 1 + $H53*$H$59, L$37)","v":20.158836784220245},{"$f":"INDEX('Volume adjustments'!$J$481:$Y$521, M$36 + 1 + $H53*$H$59, M$37)","v":16072.458534945301},{"$f":"INDEX('Volume adjustments'!$J$481:$Y$521, N$36 + 1 + $H53*$H$59, N$37)","v":27885.052447321599},{"$f":"INDEX('Volume adjustments'!$J$481:$Y$521, O$36 + 1 + $H53*$H$59, O$37)","v":30710.652210384975},{"$f":"INDEX('Volume adjustments'!$J$481:$Y$521, P$36 + 1 + $H53*$H$59, P$37)","v":96743.994400456417},{"$f":"INDEX('Volume adjustments'!$J$481:$Y$521, Q$36 + 1 + $H53*$H$59, Q$37)","v":341.90600000000001},{"$f":"INDEX('Volume adjustments'!$J$481:$Y$521, R$36 + 1 + $H53*$H$59, R$37)","v":37.80228458951715},{"$f":"INDEX('Volume adjustments'!$J$481:$Y$521, S$36 + 1 + $H53*$H$59, S$37)","v":46119.128837468968},{"$f":"INDEX('Volume adjustments'!$J$481:$Y$521, T$36 + 1 + $H53*$H$59, T$37)","v":66647.700862582875},{"$f":"INDEX('Volume adjustments'!$J$481:$Y$521, U$36 + 1 + $H53*$H$59, U$37)","v":37263.390046806737},{"$f":"INDEX('Volume adjustments'!$J$481:$Y$521, V$36 + 1 + $H53*$H$59, V$37)","v":88609.831277736303},{"$f":"INDEX('Volume adjustments'!$J$481:$Y$521, W$36 + 1 + $H53*$H$59, W$37)","v":0.19494712650074275},{"$f":"INDEX('Volume adjustments'!$J$481:$Y$521, X$36 + 1 + $H53*$H$59, X$37)","v":130.896811640133},{"$f":"INDEX('Volume adjustments'!$J$481:$Y$521, Y$36 + 1 + $H53*$H$59, Y$37)","v":769.04800111136535},{"$f":"INDEX('Volume adjustments'!$J$481:$Y$521, Z$36 + 1 + $H53*$H$59, Z$37)","v":2190.7371279685294},{"$f":"INDEX('Volume adjustments'!$J$481:$Y$521, AA$36 + 1 + $H53*$H$59, AA$37)","v":24098.487986821114},{"$f":"INDEX('Volume adjustments'!$J$481:$Y$521, AB$36 + 1 + $H53*$H$59, AB$37)","v":1903.1550949912194},{"$f":"INDEX('Volume adjustments'!$J$481:$Y$521, AC$36 + 1 + $H53*$H$59, AC$37)","v":15889.32813937786},{"$f":"INDEX('Volume adjustments'!$J$481:$Y$521, AD$36 + 1 + $H53*$H$59, AD$37)","v":59185.40746157791},{"$f":"INDEX('Volume adjustments'!$J$481:$Y$521, AE$36 + 1 + $H53*$H$59, AE$37)","v":52564.516382291069},{"$f":"INDEX('Volume adjustments'!$J$481:$Y$521, AF$36 + 1 + $H53*$H$59, AF$37)","v":153437.48655504125},{"$f":"INDEX('Volume adjustments'!$J$481:$Y$521, AG$36 + 1 + $H53*$H$59, AG$37)","v":9988.9167123288153},{"$f":"INDEX('Volume adjustments'!$J$481:$Y$521, AH$36 + 1 + $H53*$H$59, AH$37)","v":8003.0200145111739},{"$f":"INDEX('Volume adjustments'!$J$481:$Y$521, AI$36 + 1 + $H53*$H$59, AI$37)","v":14.658926785947987},{"$f":"INDEX('Volume adjustments'!$J$481:$Y$521, AJ$36 + 1 + $H53*$H$59, AJ$37)","v":5980.8440000000001},{"$f":"INDEX('Volume adjustments'!$J$481:$Y$521, AK$36 + 1 + $H53*$H$59, AK$37)","v":0},{"$f":"INDEX('Volume adjustments'!$J$481:$Y$521, AL$36 + 1 + $H53*$H$59, AL$37)","v":76.418999999999997},{"$f":"INDEX('Volume adjustments'!$J$481:$Y$521, AM$36 + 1 + $H53*$H$59, AM$37)","v":0},{"$f":"INDEX('Volume adjustments'!$J$481:$Y$521, AN$36 + 1 + $H53*$H$59, AN$37)","v":110295.99099999999},{"$f":"INDEX('Volume adjustments'!$J$481:$Y$521, AO$36 + 1 + $H53*$H$59, AO$37)","v":0}]
[null,null,null,null,null,"Unit rate 2","MWh",1,null,{"$f":"INDEX('Volume adjustments'!$J$481:$Y$521, J$36 + 1 + $H54*$H$59, J$37)","v":2489637.9882059051},{"$f":"INDEX('Volume adjustments'!$J$481:$Y$521, K$36 + 1 + $H54*$H$59, K$37)","v":11178.916329571792},{"$f":"INDEX('Volume adjustments'!$J$481:$Y$521, L$36 + 1 + $H54*$H$59, L$37)","v":107.43939606428286},{"$f":"INDEX('Volume adjustments'!$J$481:$Y$521, M$36 + 1 + $H54*$H$59, M$37)","v":85682.454192132747},{"$f":"INDEX('Volume adjustments'!$J$481:$Y$521, N$36 + 1 + $H54*$H$59, N$37)","v":148635.17409822164},{"$f":"INDEX('Volume adjustments'!$J$481:$Y$521, O$36 + 1 + $H54*$H$59, O$37)","v":163690.70787853637},{"$f":"INDEX('Volume adjustments'!$J$481:$Y$521, P$36 + 1 + $H54*$H$59, P$37)","v":515603.66985431401},{"$f":"INDEX('Volume adjustments'!$J$481:$Y$521, Q$36 + 1 + $H54*$H$59, Q$37)","v":6616.54},{"$f":"INDEX('Volume adjustments'!$J$481:$Y$521, R$36 + 1 + $H54*$H$59, R$37)","v":121.98743699318861},{"$f":"INDEX('Volume adjustments'!$J$481:$Y$521, S$36 + 1 + $H54*$H$59, S$37)","v":221036.104393969},{"$f":"INDEX('Volume adjustments'!$J$481:$Y$521, T$36 + 1 + $H54*$H$59, T$37)","v":310023.28839393798},{"$f":"INDEX('Volume adjustments'!$J$481:$Y$521, U$36 + 1 + $H54*$H$59, U$37)","v":180414.88735479928},{"$f":"INDEX('Volume adjustments'!$J$481:$Y$521, V$36 + 1 + $H54*$H$59, V$37)","v":436043.58747740969},{"$f":"INDEX('Volume adjustments'!$J$481:$Y$521, W$36 + 1 + $H54*$H$59, W$37)","v":0.69443852027130226},{"$f":"INDEX('Volume adjustments'!$J$481:$Y$521, X$36 + 1 + $H54*$H$59, X$37)","v":615.46165676966552},{"$f":"INDEX('Volume adjustments'!$J$481:$Y$521, Y$36 + 1 + $H54*$H$59, Y$37)","v":3244.2674135601346},{"$f":"INDEX('Volume adjustments'!$J$481:$Y$521, Z$36 + 1 + $H54*$H$59, Z$37)","v":9760.5952136097603},{"$f":"INDEX('Volume adjustments'!$J$481:$Y$521, AA$36 + 1 + $H54*$H$59, AA$37)","v":112870.7803359262},{"$f":"INDEX('Volume adjustments'!$J$481:$Y$521, AB$36 + 1 + $H54*$H$59, AB$37)","v":8236.6957918683675},{"$f":"INDEX('Volume adjustments'!$J$481:$Y$521, AC$36 + 1 + $H54*$H$59, AC$37)","v":76854.081883414823},{"$f":"INDEX('Volume adjustments'!$J$481:$Y$521, AD$36 + 1 + $H54*$H$59, AD$37)","v":282682.48347942217},{"$f":"INDEX('Volume adjustments'!$J$481:$Y$521, AE$36 + 1 + $H54*$H$59, AE$37)","v":244549.80097135372},{"$f":"INDEX('Volume adjustments'!$J$481:$Y$521, AF$36 + 1 + $H54*$H$59, AF$37)","v":704459.1632376198},{"$f":"INDEX('Volume adjustments'!$J$481:$Y$521, AG$36 + 1 + $H54*$H$59, AG$37)","v":61153.198525766631},{"$f":"INDEX('Volume adjustments'!$J$481:$Y$521, AH$36 + 1 + $H54*$H$59, AH$37)","v":48858.348150675512},{"$f":"INDEX('Volume adjustments'!$J$481:$Y$521, AI$36 + 1 + $H54*$H$59, AI$37)","v":69.692749320236075},{"$f":"INDEX('Volume adjustments'!$J$481:$Y$521, AJ$36 + 1 + $H54*$H$59, AJ$37)","v":30749.954999999994},{"$f":"INDEX('Volume adjustments'!$J$481:$Y$521, AK$36 + 1 + $H54*$H$59, AK$37)","v":0},{"$f":"INDEX('Volume adjustments'!$J$481:$Y$521, AL$36 + 1 + $H54*$H$59, AL$37)","v":447.91699999999997},{"$f":"INDEX('Volume adjustments'!$J$481:$Y$521, AM$36 + 1 + $H54*$H$59, AM$37)","v":0},{"$f":"INDEX('Volume adjustments'!$J$481:$Y$521, AN$36 + 1 + $H54*$H$59, AN$37)","v":353394.92799999996},{"$f":"INDEX('Volume adjustments'!$J$481:$Y$521, AO$36 + 1 + $H54*$H$59, AO$37)","v":0}]
[null,null,null,null,null,"Unit rate 3","MWh",2,null,{"$f":"INDEX('Volume adjustments'!$J$481:$Y$521, J$36 + 1 + $H55*$H$59, J$37)","v":2429500.6428217776},{"$f":"INDEX('Volume adjustments'!$J$481:$Y$521, K$36 + 1 + $H55*$H$59, K$37)","v":132183.03831601172},{"$f":"INDEX('Volume adjustments'!$J$481:$Y$521, L$36 + 1 + $H55*$H$59, L$37)","v":86.347856530068981},{"$f":"INDEX('Volume adjustments'!$J$481:$Y$521, M$36 + 1 + $H55*$H$59, M$37)","v":68720.860205814024},{"$f":"INDEX('Volume adjustments'!$J$481:$Y$521, N$36 + 1 + $H55*$H$59, N$37)","v":119264.30706850049},{"$f":"INDEX('Volume adjustments'!$J$481:$Y$521, O$36 + 1 + $H55*$H$59, O$37)","v":131443.74016302673},{"$f":"INDEX('Volume adjustments'!$J$481:$Y$521, P$36 + 1 + $H55*$H$59, P$37)","v":414209.70934443019},{"$f":"INDEX('Volume adjustments'!$J$481:$Y$521, Q$36 + 1 + $H55*$H$59, Q$37)","v":27874.395},{"$f":"INDEX('Volume adjustments'!$J$481:$Y$521, R$36 + 1 + $H55*$H$59, R$37)","v":124.41409226933219},{"$f":"INDEX('Volume adjustments'!$J$481:$Y$521, S$36 + 1 + $H55*$H$59, S$37)","v":197285.26401461425},{"$f":"INDEX('Volume adjustments'!$J$481:$Y$521, T$36 + 1 + $H55*$H$59, T$37)","v":275161.18063057243},{"$f":"INDEX('Volume adjustments'!$J$481:$Y$521, U$36 + 1 + $H55*$H$59, U$37)","v":165945.55145317773},{"$f":"INDEX('Volume adjustments'!$J$481:$Y$521, V$36 + 1 + $H55*$H$59, V$37)","v":393966.09898708784},{"$f":"INDEX('Volume adjustments'!$J$481:$Y$521, W$36 + 1 + $H55*$H$59, W$37)","v":0.985404380720172},{"$f":"INDEX('Volume adjustments'!$J$481:$Y$521, X$36 + 1 + $H55*$H$59, X$37)","v":627.69386154293602},{"$f":"INDEX('Volume adjustments'!$J$481:$Y$521, Y$36 + 1 + $H55*$H$59, Y$37)","v":3177.0382461883614},{"$f":"INDEX('Volume adjustments'!$J$481:$Y$521, Z$36 + 1 + $H55*$H$59, Z$37)","v":10991.314851778454},{"$f":"INDEX('Volume adjustments'!$J$481:$Y$521, AA$36 + 1 + $H55*$H$59, AA$37)","v":113048.17211815417},{"$f":"INDEX('Volume adjustments'!$J$481:$Y$521, AB$36 + 1 + $H55*$H$59, AB$37)","v":8356.9822485519762},{"$f":"INDEX('Volume adjustments'!$J$481:$Y$521, AC$36 + 1 + $H55*$H$59, AC$37)","v":79727.77145733466},{"$f":"INDEX('Volume adjustments'!$J$481:$Y$521, AD$36 + 1 + $H55*$H$59, AD$37)","v":285605.40687436756},{"$f":"INDEX('Volume adjustments'!$J$481:$Y$521, AE$36 + 1 + $H55*$H$59, AE$37)","v":257111.67941348912},{"$f":"INDEX('Volume adjustments'!$J$481:$Y$521, AF$36 + 1 + $H55*$H$59, AF$37)","v":820248.27436445572},{"$f":"INDEX('Volume adjustments'!$J$481:$Y$521, AG$36 + 1 + $H55*$H$59, AG$37)","v":136408.95488193643},{"$f":"INDEX('Volume adjustments'!$J$481:$Y$521, AH$36 + 1 + $H55*$H$59, AH$37)","v":22200.103733723437},{"$f":"INDEX('Volume adjustments'!$J$481:$Y$521, AI$36 + 1 + $H55*$H$59, AI$37)","v":63.286158755382779},{"$f":"INDEX('Volume adjustments'!$J$481:$Y$521, AJ$36 + 1 + $H55*$H$59, AJ$37)","v":29476.701999999994},{"$f":"INDEX('Volume adjustments'!$J$481:$Y$521, AK$36 + 1 + $H55*$H$59, AK$37)","v":0},{"$f":"INDEX('Volume adjustments'!$J$481:$Y$521, AL$36 + 1 + $H55*$H$59, AL$37)","v":427.12099999999998},{"$f":"INDEX('Volume adjustments'!$J$481:$Y$521, AM$36 + 1 + $H55*$H$59, AM$37)","v":0},{"$f":"INDEX('Volume adjustments'!$J$481:$Y$521, AN$36 + 1 + $H55*$H$59, AN$37)","v":394088.42299999995},{"$f":"INDEX('Volume adjustments'!$J$481:$Y$521, AO$36 + 1 + $H55*$H$59, AO$37)","v":0}]
[null,null,null,null,null,"MPANs","MPANs",3,null,{"$f":"INDEX('Volume adjustments'!$J$481:$Y$521, J$36 + 1 + $H56*$H$59, J$37)","v":1943630.1666889538},{"$f":"INDEX('Volume adjustments'!$J$481:$Y$521, K$36 + 1 + $H56*$H$59, K$37)","v":65894.737632469667},{"$f":"INDEX('Volume adjustments'!$J$481:$Y$521, L$36 + 1 + $H56*$H$59, L$37)","v":65},{"$f":"INDEX('Volume adjustments'!$J$481:$Y$521, M$36 + 1 + $H56*$H$59, M$37)","v":43925.886377075745},{"$f":"INDEX('Volume adjustments'!$J$481:$Y$521, N$36 + 1 + $H56*$H$59, N$37)","v":36292.718450369888},{"$f":"INDEX('Volume adjustments'!$J$481:$Y$521, O$36 + 1 + $H56*$H$59, O$37)","v":20106.276033040449},{"$f":"INDEX('Volume adjustments'!$J$481:$Y$521, P$36 + 1 + $H56*$H$59, P$37)","v":22123.125428932752},{"$f":"INDEX('Volume adjustments'!$J$481:$Y$521, Q$36 + 1 + $H56*$H$59, Q$37)","v":4053},{"$f":"INDEX('Volume adjustments'!$J$481:$Y$521, R$36 + 1 + $H56*$H$59, R$37)","v":32},{"$f":"INDEX('Volume adjustments'!$J$481:$Y$521, S$36 + 1 + $H56*$H$59, S$37)","v":4714.9773278158245},{"$f":"INDEX('Volume adjustments'!$J$481:$Y$521, T$36 + 1 + $H56*$H$59, T$37)","v":3982.1225126103027},{"$f":"INDEX('Volume adjustments'!$J$481:$Y$521, U$36 + 1 + $H56*$H$59, U$37)","v":1417.1108685397066},{"$f":"INDEX('Volume adjustments'!$J$481:$Y$521, V$36 + 1 + $H56*$H$59, V$37)","v":1724.342667858268},{"$f":"INDEX('Volume adjustments'!$J$481:$Y$521, W$36 + 1 + $H56*$H$59, W$37)","v":2},{"$f":"INDEX('Volume adjustments'!$J$481:$Y$521, X$36 + 1 + $H56*$H$59, X$37)","v":12},{"$f":"INDEX('Volume adjustments'!$J$481:$Y$521, Y$36 + 1 + $H56*$H$59, Y$37)","v":32.608659383238326},{"$f":"INDEX('Volume adjustments'!$J$481:$Y$521, Z$36 + 1 + $H56*$H$59, Z$37)","v":51.956494537428746},{"$f":"INDEX('Volume adjustments'!$J$481:$Y$521, AA$36 + 1 + $H56*$H$59, AA$37)","v":256.47772590276531},{"$f":"INDEX('Volume adjustments'!$J$481:$Y$521, AB$36 + 1 + $H56*$H$59, AB$37)","v":164},{"$f":"INDEX('Volume adjustments'!$J$481:$Y$521, AC$36 + 1 + $H56*$H$59, AC$37)","v":362.26215155165494},{"$f":"INDEX('Volume adjustments'!$J$481:$Y$521, AD$36 + 1 + $H56*$H$59, AD$37)","v":413.26215155165494},{"$f":"INDEX('Volume adjustments'!$J$481:$Y$521, AE$36 + 1 + $H56*$H$59, AE$37)","v":180.5066281190845},{"$f":"INDEX('Volume adjustments'!$J$481:$Y$521, AF$36 + 1 + $H56*$H$59, AF$37)","v":207.51104686514083},{"$f":"INDEX('Volume adjustments'!$J$481:$Y$521, AG$36 + 1 + $H56*$H$59, AG$37)","v":565},{"$f":"INDEX('Volume adjustments'!$J$481:$Y$521, AH$36 + 1 + $H56*$H$59, AH$37)","v":29908.231691690049},{"$f":"INDEX('Volume adjustments'!$J$481:$Y$521, AI$36 + 1 + $H56*$H$59, AI$37)","v":7},{"$f":"INDEX('Volume adjustments'!$J$481:$Y$521, AJ$36 + 1 + $H56*$H$59, AJ$37)","v":661},{"$f":"INDEX('Volume adjustments'!$J$481:$Y$521, AK$36 + 1 + $H56*$H$59, AK$37)","v":0},{"$f":"INDEX('Volume adjustments'!$J$481:$Y$521, AL$36 + 1 + $H56*$H$59, AL$37)","v":15},{"$f":"INDEX('Volume adjustments'!$J$481:$Y$521, AM$36 + 1 + $H56*$H$59, AM$37)","v":0},{"$f":"INDEX('Volume adjustments'!$J$481:$Y$521, AN$36 + 1 + $H56*$H$59, AN$37)","v":272},{"$f":"INDEX('Volume adjustments'!$J$481:$Y$521, AO$36 + 1 + $H56*$H$59, AO$37)","v":0}]
[null,null,null,null,null,"Capacity","kVA",4,null,{"$f":"INDEX('Volume adjustments'!$J$481:$Y$521, J$36 + 1 + $H57*$H$59, J$37)","v":0},{"$f":"INDEX('Volume adjustments'!$J$481:$Y$521, K$36 + 1 + $H57*$H$59, K$37)","v":0},{"$f":"INDEX('Volume adjustments'!$J$481:$Y$521, L$36 + 1 + $H57*$H$59, L$37)","v":0},{"$f":"INDEX('Volume adjustments'!$J$481:$Y$521, M$36 + 1 + $H57*$H$59, M$37)","v":0},{"$f":"INDEX('Volume adjustments'!$J$481:$Y$521, N$36 + 1 + $H57*$H$59, N$37)","v":0},{"$f":"INDEX('Volume adjustments'!$J$481:$Y$521, O$36 + 1 + $H57*$H$59, O$37)","v":0},{"$f":"INDEX('Volume adjustments'!$J$481:$Y$521, P$36 + 1 + $H57*$H$59, P$37)","v":0},{"$f":"INDEX('Volume adjustments'!$J$481:$Y$521, Q$36 + 1 + $H57*$H$59, Q$37)","v":0},{"$f":"INDEX('Volume adjustments'!$J$481:$Y$521, R$36 + 1 + $H57*$H$59, R$37)","v":1328},{"$f":"INDEX('Volume adjustments'!$J$481:$Y$521, S$36 + 1 + $H57*$H$59, S$37)","v":263410.75434995885},{"$f":"INDEX('Volume adjustments'!$J$481:$Y$521, T$36 + 1 + $H57*$H$59, T$37)","v":448821.3588729187},{"$f":"INDEX('Volume adjustments'!$J$481:$Y$521, U$36 + 1 + $H57*$H$59, U$37)","v":261885.60101209165},{"$f":"INDEX('Volume adjustments'!$J$481:$Y$521, V$36 + 1 + $H57*$H$59, V$37)","v":702573.25702972675},{"$f":"INDEX('Volume adjustments'!$J$481:$Y$521, W$36 + 1 + $H57*$H$59, W$37)","v":108},{"$f":"INDEX('Volume adjustments'!$J$481:$Y$521, X$36 + 1 + $H57*$H$59, X$37)","v":701},{"$f":"INDEX('Volume adjustments'!$J$481:$Y$521, Y$36 + 1 + $H57*$H$59, Y$37)","v":5007.5176860768834},{"$f":"INDEX('Volume adjustments'!$J$481:$Y$521, Z$36 + 1 + $H57*$H$59, Z$37)","v":10036.60261153823},{"$f":"INDEX('Volume adjustments'!$J$481:$Y$521, AA$36 + 1 + $H57*$H$59, AA$37)","v":133367.22506186034},{"$f":"INDEX('Volume adjustments'!$J$481:$Y$521, AB$36 + 1 + $H57*$H$59, AB$37)","v":22294},{"$f":"INDEX('Volume adjustments'!$J$481:$Y$521, AC$36 + 1 + $H57*$H$59, AC$37)","v":77383.258143520914},{"$f":"INDEX('Volume adjustments'!$J$481:$Y$521, AD$36 + 1 + $H57*$H$59, AD$37)","v":287691.63864854013},{"$f":"INDEX('Volume adjustments'!$J$481:$Y$521, AE$36 + 1 + $H57*$H$59, AE$37)","v":249684.94217862675},{"$f":"INDEX('Volume adjustments'!$J$481:$Y$521, AF$36 + 1 + $H57*$H$59, AF$37)","v":725579.59981644014},{"$f":"INDEX('Volume adjustments'!$J$481:$Y$521, AG$36 + 1 + $H57*$H$59, AG$37)","v":0},{"$f":"INDEX('Volume adjustments'!$J$481:$Y$521, AH$36 + 1 + $H57*$H$59, AH$37)","v":0},{"$f":"INDEX('Volume adjustments'!$J$481:$Y$521, AI$36 + 1 + $H57*$H$59, AI$37)","v":0},{"$f":"INDEX('Volume adjustments'!$J$481:$Y$521, AJ$36 + 1 + $H57*$H$59, AJ$37)","v":0},{"$f":"INDEX('Volume adjustments'!$J$481:$Y$521, AK$36 + 1 + $H57*$H$59, AK$37)","v":0},{"$f":"INDEX('Volume adjustments'!$J$481:$Y$521, AL$36 + 1 + $H57*$H$59, AL$37)","v":0},{"$f":"INDEX('Volume adjustments'!$J$481:$Y$521, AM$36 + 1 + $H57*$H$59, AM$37)","v":0},{"$f":"INDEX('Volume adjustments'!$J$481:$Y$521, AN$36 + 1 + $H57*$H$59, AN$37)","v":0},{"$f":"INDEX('Volume adjustments'!$J$481:$Y$521, AO$36 + 1 + $H57*$H$59, AO$37)","v":0}]
[null,null,null,null,null,"Exceeded capacity","kVA",5,null,{"$f":"INDEX('Volume adjustments'!$J$481:$Y$521, J$36 + 1 + $H58*$H$59, J$37)","v":0},{"$f":"INDEX('Volume adjustments'!$J$481:$Y$521, K$36 + 1 + $H58*$H$59, K$37)","v":0},{"$f":"INDEX('Volume adjustments'!$J$481:$Y$521, L$36 + 1 + $H58*$H$59, L$37)","v":0},{"$f":"INDEX('Volume adjustments'!$J$481:$Y$521, M$36 + 1 + $H58*$H$59, M$37)","v":0},{"$f":"INDEX('Volume adjustments'!$J$481:$Y$521, N$36 + 1 + $H58*$H$59, N$37)","v":0},{"$f":"INDEX('Volume adjustments'!$J$481:$Y$521, O$36 + 1 + $H58*$H$59, O$37)","v":0},{"$f":"INDEX('Volume adjustments'!$J$481:$Y$521, P$36 + 1 + $H58*$H$59, P$37)","v":0},{"$f":"INDEX('Volume adjustments'!$J$481:$Y$521, Q$36 + 1 + $H58*$H$59, Q$37)","v":0},{"$f":"INDEX('Volume adjustments'!$J$481:$Y$521, R$36 + 1 + $H58*$H$59, R$37)","v":57.083333333333336},{"$f":"INDEX('Volume adjustments'!$J$481:$Y$521, S$36 + 1 + $H58*$H$59, S$37)","v":14813.01588998785},{"$f":"INDEX('Volume adjustments'!$J$481:$Y$521, T$36 + 1 + $H58*$H$59, T$37)","v":6942.945897861694},{"$f":"INDEX('Volume adjustments'!$J$481:$Y$521, U$36 + 1 + $H58*$H$59, U$37)","v":1247.676860028557},{"$f":"INDEX('Volume adjustments'!$J$481:$Y$521, V$36 + 1 + $H58*$H$59, V$37)","v":2167.9166666666665},{"$f":"INDEX('Volume adjustments'!$J$481:$Y$521, W$36 + 1 + $H58*$H$59, W$37)","v":21},{"$f":"INDEX('Volume adjustments'!$J$481:$Y$521, X$36 + 1 + $H58*$H$59, X$37)","v":289},{"$f":"INDEX('Volume adjustments'!$J$481:$Y$521, Y$36 + 1 + $H58*$H$59, Y$37)","v":267.41666666666669},{"$f":"INDEX('Volume adjustments'!$J$481:$Y$521, Z$36 + 1 + $H58*$H$59, Z$37)","v":97.166666666666671},{"$f":"INDEX('Volume adjustments'!$J$481:$Y$521, AA$36 + 1 + $H58*$H$59, AA$37)","v":338.33333333333331},{"$f":"INDEX('Volume adjustments'!$J$481:$Y$521, AB$36 + 1 + $H58*$H$59, AB$37)","v":1102.1666666666667},{"$f":"INDEX('Volume adjustments'!$J$481:$Y$521, AC$36 + 1 + $H58*$H$59, AC$37)","v":3998.2695161284155},{"$f":"INDEX('Volume adjustments'!$J$481:$Y$521, AD$36 + 1 + $H58*$H$59, AD$37)","v":2121.7092949769594},{"$f":"INDEX('Volume adjustments'!$J$481:$Y$521, AE$36 + 1 + $H58*$H$59, AE$37)","v":1656.4166666666667},{"$f":"INDEX('Volume adjustments'!$J$481:$Y$521, AF$36 + 1 + $H58*$H$59, AF$37)","v":3867.416666666667},{"$f":"INDEX('Volume adjustments'!$J$481:$Y$521, AG$36 + 1 + $H58*$H$59, AG$37)","v":0},{"$f":"INDEX('Volume adjustments'!$J$481:$Y$521, AH$36 + 1 + $H58*$H$59, AH$37)","v":0},{"$f":"INDEX('Volume adjustments'!$J$481:$Y$521, AI$36 + 1 + $H58*$H$59, AI$37)","v":0},{"$f":"INDEX('Volume adjustments'!$J$481:$Y$521, AJ$36 + 1 + $H58*$H$59, AJ$37)","v":0},{"$f":"INDEX('Volume adjustments'!$J$481:$Y$521, AK$36 + 1 + $H58*$H$59, AK$37)","v":0},{"$f":"INDEX('Volume adjustments'!$J$481:$Y$521, AL$36 + 1 + $H58*$H$59, AL$37)","v":0},{"$f":"INDEX('Volume adjustments'!$J$481:$Y$521, AM$36 + 1 + $H58*$H$59, AM$37)","v":0},{"$f":"INDEX('Volume adjustments'!$J$481:$Y$521, AN$36 + 1 + $H58*$H$59, AN$37)","v":0},{"$f":"INDEX('Volume adjustments'!$J$481:$Y$521, AO$36 + 1 + $H58*$H$59, AO$37)","v":0}]
[null,null,null,null,null,"Reactive power units (MVArh)","MVArh",6,null,{"$f":"INDEX('Volume adjustments'!$J$481:$Y$521, J$36 + 1 + $H59*$H$59, J$37)","v":0},{"$f":"INDEX('Volume adjustments'!$J$481:$Y$521, K$36 + 1 + $H59*$H$59, K$37)","v":0},{"$f":"INDEX('Volume adjustments'!$J$481:$Y$521, L$36 + 1 + $H59*$H$59, L$37)","v":0},{"$f":"INDEX('Volume adjustments'!$J$481:$Y$521, M$36 + 1 + $H59*$H$59, M$37)","v":0},{"$f":"INDEX('Volume adjustments'!$J$481:$Y$521, N$36 + 1 + $H59*$H$59, N$37)","v":0},{"$f":"INDEX('Volume adjustments'!$J$481:$Y$521, O$36 + 1 + $H59*$H$59, O$37)","v":0},{"$f":"INDEX('Volume adjustments'!$J$481:$Y$521, P$36 + 1 + $H59*$H$59, P$37)","v":0},{"$f":"INDEX('Volume adjustments'!$J$481:$Y$521, Q$36 + 1 + $H59*$H$59, Q$37)","v":0},{"$f":"INDEX('Volume adjustments'!$J$481:$Y$521, R$36 + 1 + $H59*$H$59, R$37)","v":105.63200000000001},{"$f":"INDEX('Volume adjustments'!$J$481:$Y$521, S$36 + 1 + $H59*$H$59, S$37)","v":46411.881871498241},{"$f":"INDEX('Volume adjustments'!$J$481:$Y$521, T$36 + 1 + $H59*$H$59, T$37)","v":54696.493740968494},{"$f":"INDEX('Volume adjustments'!$J$481:$Y$521, U$36 + 1 + $H59*$H$59, U$37)","v":28722.87945165667},{"$f":"INDEX('Volume adjustments'!$J$481:$Y$521, V$36 + 1 + $H59*$H$59, V$37)","v":75755.041879522192},{"$f":"INDEX('Volume adjustments'!$J$481:$Y$521, W$36 + 1 + $H59*$H$59, W$37)","v":5.5339999999999998},{"$f":"INDEX('Volume adjustments'!$J$481:$Y$521, X$36 + 1 + $H59*$H$59, X$37)","v":349.89299999999997},{"$f":"INDEX('Volume adjustments'!$J$481:$Y$521, Y$36 + 1 + $H59*$H$59, Y$37)","v":607.71673614174495},{"$f":"INDEX('Volume adjustments'!$J$481:$Y$521, Z$36 + 1 + $H59*$H$59, Z$37)","v":2096.2616888756797},{"$f":"INDEX('Volume adjustments'!$J$481:$Y$521, AA$36 + 1 + $H59*$H$59, AA$37)","v":17849.905055189371},{"$f":"INDEX('Volume adjustments'!$J$481:$Y$521, AB$36 + 1 + $H59*$H$59, AB$37)","v":1721.625},{"$f":"INDEX('Volume adjustments'!$J$481:$Y$521, AC$36 + 1 + $H59*$H$59, AC$37)","v":23165.46487563265},{"$f":"INDEX('Volume adjustments'!$J$481:$Y$521, AD$36 + 1 + $H59*$H$59, AD$37)","v":30902.906453952131},{"$f":"INDEX('Volume adjustments'!$J$481:$Y$521, AE$36 + 1 + $H59*$H$59, AE$37)","v":27918.264242228415},{"$f":"INDEX('Volume adjustments'!$J$481:$Y$521, AF$36 + 1 + $H59*$H$59, AF$37)","v":116587.07623664453},{"$f":"INDEX('Volume adjustments'!$J$481:$Y$521, AG$36 + 1 + $H59*$H$59, AG$37)","v":0},{"$f":"INDEX('Volume adjustments'!$J$481:$Y$521, AH$36 + 1 + $H59*$H$59, AH$37)","v":0},{"$f":"INDEX('Volume adjustments'!$J$481:$Y$521, AI$36 + 1 + $H59*$H$59, AI$37)","v":0},{"$f":"INDEX('Volume adjustments'!$J$481:$Y$521, AJ$36 + 1 + $H59*$H$59, AJ$37)","v":8240.4250000000011},{"$f":"INDEX('Volume adjustments'!$J$481:$Y$521, AK$36 + 1 + $H59*$H$59, AK$37)","v":0},{"$f":"INDEX('Volume adjustments'!$J$481:$Y$521, AL$36 + 1 + $H59*$H$59, AL$37)","v":374.73599999999999},{"$f":"INDEX('Volume adjustments'!$J$481:$Y$521, AM$36 + 1 + $H59*$H$59, AM$37)","v":0},{"$f":"INDEX('Volume adjustments'!$J$481:$Y$521, AN$36 + 1 + $H59*$H$59, AN$37)","v":18493.092000000001},{"$f":"INDEX('Volume adjustments'!$J$481:$Y$521, AO$36 + 1 + $H59*$H$59, AO$37)","v":0}]
[]
[null,null,null,null,"Target CDCM net revenue",null,"£",{"$f":"'General inputs'!H89","v":592875169.2058022}]
[]
[null,null,null,null,"Pass-through costs not allocated through revenue matching"]
[null,null,null,null,null,"Supplier of Last Resort Net Costs","£",{"$f":"'General inputs'!H92","v":0}]
[null,null,null,null,null,"Valid Bad Debt Claims","£",{"$f":"'General inputs'!H93","v":0}]
[]
[null,null,null,null,"Target CDCM net revenue, less applicable pass-through costs",null,"£",{"$f":"H61 - H64 - H65","v":592875169.2058022},">",null,null,null,null,null,null,null,null,null,null,null,null,null,null,null,null,null,null,null,null,null,null,null,null,null,null,null,null,null,null,null,null,null,"Paragraph 90A"]
[]
[null,null,{"$f":"INDEX('Version control'!$H$29:$H$55,MATCH($A$1,'Version control'!$F$29:$F$55,0),1)&\"-B: Net revenue before matching\"","v":"Section 519-B: Net revenue before matching"}]
[]
[null,null,null,"This section calculates the shortfall (or surplus) between the net revenue that would be expected "]
[null,null,null,"if pre-matching charges are used, and the net revenue which the company is allowed to collect."]
[]
[null,null,null,null,"Net revenue before matching",null,null,"Sum"]
[null,null,null,null,null,"Unit rate 1","£",{"$f":"SUM(J75:AO75)","v":148579668.21324053},null,{"$f":"J53 * thousand * J40 / hundred","v":89942033.70138827},57423.303937495257,2838.3620994523812,2263000.4716501446,3926212.4523808919,4324056.6018994097,13621544.238645433,48140.328847496232,3895.0644576182194,4752013.8399507068,6867232.8572386298,3839537.9463899052,9130162.5854953751,11.061153501426366,7426.9867547562344,43635.20582708111,124300.77882497804,1367330.1041115476,77663.331664972182,648406.51425089012,2415218.7814394874,2145035.6202449016,6261426.8482510922,3438890.8526054742,-729139.80372841435,-1135.2493997316435,-544903.22558022838,0,-5918.2111449833601,0,-5446673.1364156911,0]
[null,null,null,null,null,"Unit rate 2","£",62339647.584836431,null,{"$f":"J54 * thousand * J41 / hundred","v":33707727.494253516},151353.67756410624,1610.4851557110162,1284354.9539198538,2227997.8319915948,2453675.8844817206,7728748.3637163257,99180.001400906927,1242.9513309904019,2252175.5266385144,3158881.5081735249,1838278.8416208168,4442924.3763449062,3.011183557794896,2668.7287171137777,14067.601965664979,42323.320155153342,489423.6537602187,22099.408777655812,206202.80446071364,758449.25132018549,656137.62541719526,1890094.2087630664,1019974.6428773745,-473899.79531791469,-553.43333061365115,-298258.0855086401,0,-3556.9295165759304,0,-1333680.3254802059,0]
[null,null,null,null,null,"Unit rate 3","£",2143292.6671564798,null,{"$f":"J55 * thousand * J42 / hundred","v":772465.95302400191},42027.935645159014,30.395814481433593,24190.832312010683,41982.926937491335,46270.280482872462,145808.38468477238,9812.2289683839044,31.183548892183559,49448.214136297909,68967.284757817441,41593.127617554463,98744.932230277336,0.12479771455933672,79.495038682731504,402.35980268541391,1392.0081951549278,14317.120759241381,728.72113111456963,6952.1880111328164,24904.527610548455,22419.900901121207,71524.89170276864,714500.64830943721,-5056.7537035515097,-12.081900374731338,-6714.2218700788098,0,-81.541263863114537,0,-43438.400525266625,0]
[null,null,null,null,null,"Fixed charge","£",51754908.412436582,null,{"$f":"J56 * J43 * days_in_year / hundred","v":46215592.025840849},0,1895.0262930306571,1280626.3019882413,1058087.0109078428,586183.41134682752,644983.14418219542,0,3124.4338492615025,460363.58629775973,388808.69907205919,138364.66143193207,168362.33122444552,68.921334910180221,413.52800946108141,1123.7161671620797,1790.4554803865381,8838.3936219729476,85567.860155142131,189012.17758215193,215621.69506942175,94180.279951037024,108269.97706587511,0,0,0,0,0,0,0,103630.77556461281,0]
[null,null,null,null,null,"Capacity","£",79740407.389575198,null,{"$f":"J57 * J44 * days_in_year / hundred","v":0},0,0,0,0,0,0,0,25402.360108659301,5038595.510912085,8585182.0651714522,5009421.9459200464,13439020.239294253,2907.1677638669294,18869.672245099231,134793.46290700216,270167.47750932013,3590008.3097798699,713764.16411681776,2477500.5187694505,9210728.5360802393,7993907.0622895611,23230138.896707479,0,0,0,0,0,0,0,0,0]
[null,null,null,null,null,"Exceeded capacity","£",917921.40783347329,null,{"$f":"J58 * J45 * days_in_year / hundred","v":0},0,0,0,0,0,0,0,1091.9061668192535,283347.5632023823,132806.6354762211,23865.91633861951,41468.523985113679,565.28262075190287,7779.3655903476165,7198.380674574827,2615.5537134790429,9107.3311121139905,35286.941309354654,128008.50000417832,67928.593407558626,53031.795887346321,123819.11834461214,0,0,0,0,0,0,0,0,0]
[null,null,null,null,null,"Reactive power units (MVArh)","£",600203.83565412066,null,{"$f":"J59 * thousand * J46 / hundred","v":0},0,0,0,0,0,0,0,215.93703950081346,94876.972593464132,111812.69813597688,58716.426411783257,154861.4006240927,5.1379742917386739,324.85385595578606,564.22713533711988,1946.2484037224317,16572.524987990459,1006.1745940544993,13538.663888665329,18060.680668792244,16316.357040952831,68137.343558792869,0,0,0,16730.725869386471,0,598.15645418335203,0,25919.306417177831,0]
[null,null,null,null,null,"Total","£",346076049.51073271,null,{"$f":"SUM(J75:J81)","v":170637819.17450663},{"$f":"SUM(K75:K81)","v":250804.9171467605},6374.2693626754881,4852172.5598702505,7254280.2222178206,7410186.1782108303,22141084.131228723,157132.55921678705,35003.836501741673,12930821.213731211,19313691.748025678,10949778.865730656,27475544.389198463,3560.706828594532,37562.630211416457,201784.95447950769,444535.84228219441,5495597.4381329538,936116.60174911155,3669621.3669671826,12710912.065596232,10981028.641732113,31753411.284393687,5173366.1437922865,-1208096.3527498806,-1700.7646307200259,-833144.80708956078,0,-8958.5254712390524,0,-6694241.7804393731,0]
[]
[null,null,null,null,"Net revenue shortfall (or surplus)",null,"£",{"$f":"H67 - H82","v":246799119.69506949},">",null,null,null,null,null,null,null,null,null,null,null,null,null,null,null,null,null,null,null,null,null,null,null,null,null,null,null,null,null,null,null,null,null,"Paragraph 91"]
[]
[null,"Residual charge calculation"]
[]
[null,null,{"$f":"INDEX('Version control'!$H$29:$H$55,MATCH($A$1,'Version control'!$F$29:$F$55,0),1)&\"-C: Grouping of residual bands where a band has insufficient customers\"","v":"Section 519-C: Grouping of residual bands where a band has insufficient customers"}]
[]
[null,null,null,"This section determines the simplest way to combine bands into groups, ensuring that every grouped",null,null,null,null,">",null,null,null,null,null,null,null,null,null,null,null,null,null,null,null,null,null,null,null,null,null,null,null,null,null,null,null,null,null,null,null,null,null,"Paragraphs 92B & 92C"]
[null,null,null,"band has the minimum required number of MPANs."]
[]
[null,null,null,null,"Band grouping configurations, within residual groups"]
[null,null,null,null,null,"Band grouping configuration 1","integer",null,null,{"$f":"'Fixed inputs'!J181","v":1},null,null,{"$f":"'Fixed inputs'!M181","v":1},{"$f":"'Fixed inputs'!N181","v":2},{"$f":"'Fixed inputs'!O181","v":3},{"$f":"'Fixed inputs'!P181","v":4},null,null,{"$f":"'Fixed inputs'!S181","v":1},{"$f":"'Fixed inputs'!T181","v":2},{"$f":"'Fixed inputs'!U181","v":3},{"$f":"'Fixed inputs'!V181","v":4},null,{"$f":"'Fixed inputs'!X181","v":1},{"$f":"'Fixed inputs'!Y181","v":2},{"$f":"'Fixed inputs'!Z181","v":3},{"$f":"'Fixed inputs'!AA181","v":4},null,{"$f":"'Fixed inputs'!AC181","v":1},{"$f":"'Fixed inputs'!AD181","v":2},{"$f":"'Fixed inputs'!AE181","v":3},{"$f":"'Fixed inputs'!AF181","v":4},{"$f":"'Fixed inputs'!AG181","v":1}]
[null,null,null,null,null,"Band grouping configuration 2","integer",null,null,{"$f":"'Fixed inputs'!J182","v":1},null,null,{"$f":"'Fixed inputs'!M182","v":1},{"$f":"'Fixed inputs'!N182","v":1},{"$f":"'Fixed inputs'!O182","v":2},{"$f":"'Fixed inputs'!P182","v":3},null,null,{"$f":"'Fixed inputs'!S182","v":1},{"$f":"'Fixed inputs'!T182","v":1},{"$f":"'Fixed inputs'!U182","v":2},{"$f":"'Fixed inputs'!V182","v":3},null,{"$f":"'Fixed inputs'!X182","v":1},{"$f":"'Fixed inputs'!Y182","v":1},{"$f":"'Fixed inputs'!Z182","v":2},{"$f":"'Fixed inputs'!AA182","v":3},null,{"$f":"'Fixed inputs'!AC182","v":1},{"$f":"'Fixed inputs'!AD182","v":1},{"$f":"'Fixed inputs'!AE182","v":2},{"$f":"'Fixed inputs'!AF182","v":3},{"$f":"'Fixed inputs'!AG182","v":1}]
[null,null,null,null,null,"Band grouping configuration 3","integer",null,null,{"$f":"'Fixed inputs'!J183","v":1},null,null,{"$f":"'Fixed inputs'!M183","v":1},{"$f":"'Fixed inputs'!N183","v":2},{"$f":"'Fixed inputs'!O183","v":2},{"$f":"'Fixed inputs'!P183","v":3},null,null,{"$f":"'Fixed inputs'!S183","v":1},{"$f":"'Fixed inputs'!T183","v":2},{"$f":"'Fixed inputs'!U183","v":2},{"$f":"'Fixed inputs'!V183","v":3},null,{"$f":"'Fixed inputs'!X183","v":1},{"$f":"'Fixed inputs'!Y183","v":2},{"$f":"'Fixed inputs'!Z183","v":2},{"$f":"'Fixed inputs'!AA183","v":3},null,{"$f":"'Fixed inputs'!AC183","v":1},{"$f":"'Fixed inputs'!AD183","v":2},{"$f":"'Fixed inputs'!AE183","v":2},{"$f":"'Fixed inputs'!AF183","v":3},{"$f":"'Fixed inputs'!AG183","v":1}]
[null,null,null,null,null,"Band grouping configuration 4","integer",null,null,{"$f":"'Fixed inputs'!J184","v":1},null,null,{"$f":"'Fixed inputs'!M184","v":1},{"$f":"'Fixed inputs'!N184","v":2},{"$f":"'Fixed inputs'!O184","v":3},{"$f":"'Fixed inputs'!P184","v":3},null,null,{"$f":"'Fixed inputs'!S184","v":1},{"$f":"'Fixed inputs'!T184","v":2},{"$f":"'Fixed inputs'!U184","v":3},{"$f":"'Fixed inputs'!V184","v":3},null,{"$f":"'Fixed inputs'!X184","v":1},{"$f":"'Fixed inputs'!Y184","v":2},{"$f":"'Fixed inputs'!Z184","v":3},{"$f":"'Fixed inputs'!AA184","v":3},null,{"$f":"'Fixed inputs'!AC184","v":1},{"$f":"'Fixed inputs'!AD184","v":2},{"$f":"'Fixed inputs'!AE184","v":3},{"$f":"'Fixed inputs'!AF184","v":3},{"$f":"'Fixed inputs'!AG184","v":1}]
[null,null,null,null,null,"Band grouping configuration 5","integer",null,null,{"$f":"'Fixed inputs'!J185","v":1},null,null,{"$f":"'Fixed inputs'!M185","v":1},{"$f":"'Fixed inputs'!N185","v":1},{"$f":"'Fixed inputs'!O185","v":2},{"$f":"'Fixed inputs'!P185","v":2},null,null,{"$f":"'Fixed inputs'!S185","v":1},{"$f":"'Fixed inputs'!T185","v":1},{"$f":"'Fixed inputs'!U185","v":2},{"$f":"'Fixed inputs'!V185","v":2},null,{"$f":"'Fixed inputs'!X185","v":1},{"$f":"'Fixed inputs'!Y185","v":1},{"$f":"'Fixed inputs'!Z185","v":2},{"$f":"'Fixed inputs'!AA185","v":2},null,{"$f":"'Fixed inputs'!AC185","v":1},{"$f":"'Fixed inputs'!AD185","v":1},{"$f":"'Fixed inputs'!AE185","v":2},{"$f":"'Fixed inputs'!AF185","v":2},{"$f":"'Fixed inputs'!AG185","v":1}]
[null,null,null,null,null,"Band grouping configuration 6","integer",null,null,{"$f":"'Fixed inputs'!J186","v":1},null,null,{"$f":"'Fixed inputs'!M186","v":1},{"$f":"'Fixed inputs'!N186","v":1},{"$f":"'Fixed inputs'!O186","v":1},{"$f":"'Fixed inputs'!P186","v":2},null,null,{"$f":"'Fixed inputs'!S186","v":1},{"$f":"'Fixed inputs'!T186","v":1},{"$f":"'Fixed inputs'!U186","v":1},{"$f":"'Fixed inputs'!V186","v":2},null,{"$f":"'Fixed inputs'!X186","v":1},{"$f":"'Fixed inputs'!Y186","v":1},{"$f":"'Fixed inputs'!Z186","v":1},{"$f":"'Fixed inputs'!AA186","v":2},null,{"$f":"'Fixed inputs'!AC186","v":1},{"$f":"'Fixed inputs'!AD186","v":1},{"$f":"'Fixed inputs'!AE186","v":1},{"$f":"'Fixed inputs'!AF186","v":2},{"$f":"'Fixed inputs'!AG186","v":1}]
[null,null,null,null,null,"Band grouping configuration 7","integer",null,null,{"$f":"'Fixed inputs'!J187","v":1},null,null,{"$f":"'Fixed inputs'!M187","v":1},{"$f":"'Fixed inputs'!N187","v":2},{"$f":"'Fixed inputs'!O187","v":2},{"$f":"'Fixed inputs'!P187","v":2},null,null,{"$f":"'Fixed inputs'!S187","v":1},{"$f":"'Fixed inputs'!T187","v":2},{"$f":"'Fixed inputs'!U187","v":2},{"$f":"'Fixed inputs'!V187","v":2},null,{"$f":"'Fixed inputs'!X187","v":1},{"$f":"'Fixed inputs'!Y187","v":2},{"$f":"'Fixed inputs'!Z187","v":2},{"$f":"'Fixed inputs'!AA187","v":2},null,{"$f":"'Fixed inputs'!AC187","v":1},{"$f":"'Fixed inputs'!AD187","v":2},{"$f":"'Fixed inputs'!AE187","v":2},{"$f":"'Fixed inputs'!AF187","v":2},{"$f":"'Fixed inputs'!AG187","v":1}]
[null,null,null,null,null,"Band grouping configuration 8","integer",null,null,{"$f":"'Fixed inputs'!J188","v":1},null,null,{"$f":"'Fixed inputs'!M188","v":1},{"$f":"'Fixed inputs'!N188","v":1},{"$f":"'Fixed inputs'!O188","v":1},{"$f":"'Fixed inputs'!P188","v":1},null,null,{"$f":"'Fixed inputs'!S188","v":1},{"$f":"'Fixed inputs'!T188","v":1},{"$f":"'Fixed inputs'!U188","v":1},{"$f":"'Fixed inputs'!V188","v":1},null,{"$f":"'Fixed inputs'!X188","v":1},{"$f":"'Fixed inputs'!Y188","v":1},{"$f":"'Fixed inputs'!Z188","v":1},{"$f":"'Fixed inputs'!AA188","v":1},null,{"$f":"'Fixed inputs'!AC188","v":1},{"$f":"'Fixed inputs'!AD188","v":1},{"$f":"'Fixed inputs'!AE188","v":1},{"$f":"'Fixed inputs'!AF188","v":1},{"$f":"'Fixed inputs'!AG188","v":1}]
[]
[null,null,null,null,"Band grouping configurations, across all tariffs and residual groups"]
[null,null,null,null,null,"Band grouping configuration 1","integer",null,null,{"$f":"MAX((J$35-1)*MAX($J$36:$AO$36)+J94,0)","v":1},null,null,{"$f":"MAX((M$35-1)*MAX($J$36:$AO$36)+M94,0)","v":5},6,7,8,null,null,{"$f":"MAX((S$35-1)*MAX($J$36:$AO$36)+S94,0)","v":9},10,11,12,null,{"$f":"MAX((X$35-1)*MAX($J$36:$AO$36)+X94,0)","v":9},10,11,12,null,{"$f":"MAX((AC$35-1)*MAX($J$36:$AO$36)+AC94,0)","v":13},14,15,16,17]
[null,null,null,null,null,"Band grouping configuration 2","integer",null,null,{"$f":"MAX((J$35-1)*MAX($J$36:$AO$36)+J95,0)","v":1},null,null,5,5,6,7,null,null,9,9,10,11,null,9,9,10,11,null,13,13,14,15,17]
[null,null,null,null,null,"Band grouping configuration 3","integer",null,null,1,null,null,5,6,6,7,null,null,9,10,10,11,null,9,10,10,11,null,13,14,14,15,17]
[null,null,null,null,null,"Band grouping configuration 4","integer",null,null,1,null,null,5,6,7,7,null,null,9,10,11,11,null,9,10,11,11,null,13,14,15,15,17]
[null,null,null,null,null,"Band grouping configuration 5","integer",null,null,1,null,null,5,5,6,6,null,null,9,9,10,10,null,9,9,10,10,null,13,13,14,14,17]
[null,null,null,null,null,"Band grouping configuration 6","integer",null,null,1,null,null,5,5,5,6,null,null,9,9,9,10,null,9,9,9,10,null,13,13,13,14,17]
[null,null,null,null,null,"Band grouping configuration 7","integer",null,null,1,null,null,5,6,6,6,null,null,9,10,10,10,null,9,10,10,10,null,13,14,14,14,17]
[null,null,null,null,null,"Band grouping configuration 8","integer",null,null,1,null,null,5,5,5,5,null,null,9,9,9,9,null,9,9,9,9,null,13,13,13,13,17]
[]
[null,null,null,null,"Number of MPANs in each grouped band "]
[null,null,null,null,null,"Band grouping configuration 1","MPANs",null,null,{"$f":"SUMIF($J104:$AO104, J104, $J$56:$AO$56)","v":1943630.1666889538},null,null,{"$f":"SUMIF($J104:$AO104, M104, $J$56:$AO$56)","v":43925.886377075745},36292.718450369888,20106.276033040449,22123.125428932752,null,null,{"$f":"SUMIF($J104:$AO104, S104, $J$56:$AO$56)","v":4726.9773278158245},4014.731171993541,1469.0673630771355,1980.8203937610333,null,{"$f":"SUMIF($J104:$AO104, X104, $J$56:$AO$56)","v":4726.9773278158245},4014.731171993541,1469.0673630771355,1980.8203937610333,null,{"$f":"SUMIF($J104:$AO104, AC104, $J$56:$AO$56)","v":362.26215155165494},413.26215155165494,180.5066281190845,207.51104686514083,565]
[null,null,null,null,null,"Band grouping configuration 2","MPANs",null,null,1943630.1666889538,null,null,80218.604827445641,80218.604827445641,20106.276033040449,22123.125428932752,null,null,8741.7084998093651,8741.7084998093651,1469.0673630771355,1980.8203937610333,null,8741.7084998093651,8741.7084998093651,1469.0673630771355,1980.8203937610333,null,775.52430310330988,775.52430310330988,180.5066281190845,207.51104686514083,565]
[null,null,null,null,null,"Band grouping configuration 3","MPANs",null,null,1943630.1666889538,null,null,43925.886377075745,56398.994483410337,56398.994483410337,22123.125428932752,null,null,4726.9773278158245,5483.7985350706767,5483.7985350706767,1980.8203937610333,null,4726.9773278158245,5483.7985350706767,5483.7985350706767,1980.8203937610333,null,362.26215155165494,593.76877967073938,593.76877967073938,207.51104686514083,565]
[null,null,null,null,null,"Band grouping configuration 4","MPANs",null,null,1943630.1666889538,null,null,43925.886377075745,36292.718450369888,42229.401461973204,42229.401461973204,null,null,4726.9773278158245,4014.731171993541,3449.8877568381686,3449.8877568381686,null,4726.9773278158245,4014.731171993541,3449.8877568381686,3449.8877568381686,null,362.26215155165494,413.26215155165494,388.01767498422532,388.01767498422532,565]
[null,null,null,null,null,"Band grouping configuration 5","MPANs",null,null,1943630.1666889538,null,null,80218.604827445641,80218.604827445641,42229.401461973204,42229.401461973204,null,null,8741.7084998093651,8741.7084998093651,3449.8877568381686,3449.8877568381686,null,8741.7084998093651,8741.7084998093651,3449.8877568381686,3449.8877568381686,null,775.52430310330988,775.52430310330988,388.01767498422532,388.01767498422532,565]
[null,null,null,null,null,"Band grouping configuration 6","MPANs",null,null,1943630.1666889538,null,null,100324.8808604861,100324.8808604861,100324.8808604861,22123.125428932752,null,null,10210.775862886501,10210.775862886501,10210.775862886501,1980.8203937610333,null,10210.775862886501,10210.775862886501,10210.775862886501,1980.8203937610333,null,956.03093122239443,956.03093122239443,956.03093122239443,207.51104686514083,565]
[null,null,null,null,null,"Band grouping configuration 7","MPANs",null,null,1943630.1666889538,null,null,43925.886377075745,78522.119912343085,78522.119912343085,78522.119912343085,null,null,4726.9773278158245,7464.61892883171,7464.61892883171,7464.61892883171,null,4726.9773278158245,7464.61892883171,7464.61892883171,7464.61892883171,null,362.26215155165494,801.27982653588015,801.27982653588015,801.27982653588015,565]
[null,null,null,null,null,"Band grouping configuration 8","MPANs",null,null,1943630.1666889538,null,null,122448.00628941884,122448.00628941884,122448.00628941884,122448.00628941884,null,null,12191.596256647534,12191.596256647534,12191.596256647534,12191.596256647534,null,12191.596256647534,12191.596256647534,12191.596256647534,12191.596256647534,null,1163.5419780875352,1163.5419780875352,1163.5419780875352,1163.5419780875352,565]
[]
[null,null,null,null,"Minimum number of MPANs in residual band",null,"integer",{"$f":"'Fixed inputs'!H176","v":2}]
[]
[null,null,null,null,"Check on whether grouping meets minimum requirement for number of MPANs in band"]
[null,null,null,null,null,"Band grouping configuration 1","TRUE or FALSE",null,null,{"$f":"J114>=$H$123","v":true},null,null,{"$f":"M114>=$H$123","v":true},true,true,true,null,null,{"$f":"S114>=$H$123","v":true},true,true,true,null,{"$f":"X114>=$H$123","v":true},true,true,true,null,{"$f":"AC114>=$H$123","v":true},true,true,true,true]
[null,null,null,null,null,"Band grouping configuration 2","TRUE or FALSE",null,null,{"$f":"J115>=$H$123","v":true},null,null,true,true,true,true,null,null,true,true,true,true,null,true,true,true,true,null,true,true,true,true,true]
[null,null,null,null,null,"Band grouping configuration 3","TRUE or FALSE",null,null,true,null,null,true,true,true,true,null,null,true,true,true,true,null,true,true,true,true,null,true,true,true,true,true]
[null,null,null,null,null,"Band grouping configuration 4","TRUE or FALSE",null,null,true,null,null,true,true,true,true,null,null,true,true,true,true,null,true,true,true,true,null,true,true,true,true,true]
[null,null,null,null,null,"Band grouping configuration 5","TRUE or FALSE",null,null,true,null,null,true,true,true,true,null,null,true,true,true,true,null,true,true,true,true,null,true,true,true,true,true]
[null,null,null,null,null,"Band grouping configuration 6","TRUE or FALSE",null,null,true,null,null,true,true,true,true,null,null,true,true,true,true,null,true,true,true,true,null,true,true,true,true,true]
[null,null,null,null,null,"Band grouping configuration 7","TRUE or FALSE",null,null,true,null,null,true,true,true,true,null,null,true,true,true,true,null,true,true,true,true,null,true,true,true,true,true]
[null,null,null,null,null,"Band grouping configuration 8","TRUE or FALSE",null,null,true,null,null,true,true,true,true,null,null,true,true,true,true,null,true,true,true,true,null,true,true,true,true,true]
[]
[null,null,null,null,"Number of tariffs in residual group for which requirement is met"]
[null,null,null,null,null,"Band grouping configuration 1","integer",null,null,{"$f":"COUNTIFS($J126:$AO126,TRUE,$J$35:$AO$35,J$35)","v":1},null,null,{"$f":"COUNTIFS($J126:$AO126,TRUE,$J$35:$AO$35,M$35)","v":4},4,4,4,null,null,{"$f":"COUNTIFS($J126:$AO126,TRUE,$J$35:$AO$35,S$35)","v":8},8,8,8,null,{"$f":"COUNTIFS($J126:$AO126,TRUE,$J$35:$AO$35,X$35)","v":8},8,8,8,null,{"$f":"COUNTIFS($J126:$AO126,TRUE,$J$35:$AO$35,AC$35)","v":4},4,4,4,1]
[null,null,null,null,null,"Band grouping configuration 2","integer",null,null,1,null,null,4,4,4,4,null,null,8,8,8,8,null,8,8,8,8,null,4,4,4,4,1]
[null,null,null,null,null,"Band grouping configuration 3","integer",null,null,1,null,null,4,4,4,4,null,null,8,8,8,8,null,8,8,8,8,null,4,4,4,4,1]
[null,null,null,null,null,"Band grouping configuration 4","integer",null,null,1,null,null,4,4,4,4,null,null,8,8,8,8,null,8,8,8,8,null,4,4,4,4,1]
[null,null,null,null,null,"Band grouping configuration 5","integer",null,null,1,null,null,4,4,4,4,null,null,8,8,8,8,null,8,8,8,8,null,4,4,4,4,1]
[null,null,null,null,null,"Band grouping configuration 6","integer",null,null,1,null,null,4,4,4,4,null,null,8,8,8,8,null,8,8,8,8,null,4,4,4,4,1]
[null,null,null,null,null,"Band grouping configuration 7","integer",null,null,1,null,null,4,4,4,4,null,null,8,8,8,8,null,8,8,8,8,null,4,4,4,4,1]
[null,null,null,null,null,"Band grouping configuration 8","integer",null,null,1,null,null,4,4,4,4,null,null,8,8,8,8,null,8,8,8,8,null,4,4,4,4,1]
[]
[null,null,null,null,"Number of tariffs in the group of bands",null,null,null,null,{"$f":"MAX(J136:J143)","v":1},null,null,{"$f":"MAX(M136:M143)","v":4},4,4,4,null,null,{"$f":"MAX(S136:S143)","v":8},8,8,8,null,{"$f":"MAX(X136:X143)","v":8},8,8,8,null,{"$f":"MAX(AC136:AC143)","v":4},4,4,4,1]
[]
[null,null,null,null,"First permissible band grouping configuration",null,"integer",null,null,{"$f":"MATCH(TRUE, J136:J143=J145, 0)","v":1},{"$f":"MATCH(TRUE, K136:K143=K145, 0)","v":1},{"$f":"MATCH(TRUE, L136:L143=L145, 0)","v":1},{"$f":"MATCH(TRUE, M136:M143=M145, 0)","v":1},{"$f":"MATCH(TRUE, N136:N143=N145, 0)","v":1},{"$f":"MATCH(TRUE, O136:O143=O145, 0)","v":1},{"$f":"MATCH(TRUE, P136:P143=P145, 0)","v":1},{"$f":"MATCH(TRUE, Q136:Q143=Q145, 0)","v":1},{"$f":"MATCH(TRUE, R136:R143=R145, 0)","v":1},{"$f":"MATCH(TRUE, S136:S143=S145, 0)","v":1},{"$f":"MATCH(TRUE, T136:T143=T145, 0)","v":1},{"$f":"MATCH(TRUE, U136:U143=U145, 0)","v":1},{"$f":"MATCH(TRUE, V136:V143=V145, 0)","v":1},{"$f":"MATCH(TRUE, W136:W143=W145, 0)","v":1},{"$f":"MATCH(TRUE, X136:X143=X145, 0)","v":1},{"$f":"MATCH(TRUE, Y136:Y143=Y145, 0)","v":1},{"$f":"MATCH(TRUE, Z136:Z143=Z145, 0)","v":1},{"$f":"MATCH(TRUE, AA136:AA143=AA145, 0)","v":1},{"$f":"MATCH(TRUE, AB136:AB143=AB145, 0)","v":1},{"$f":"MATCH(TRUE, AC136:AC143=AC145, 0)","v":1},{"$f":"MATCH(TRUE, AD136:AD143=AD145, 0)","v":1},{"$f":"MATCH(TRUE, AE136:AE143=AE145, 0)","v":1},{"$f":"MATCH(TRUE, AF136:AF143=AF145, 0)","v":1},{"$f":"MATCH(TRUE, AG136:AG143=AG145, 0)","v":1},{"$f":"MATCH(TRUE, AH136:AH143=AH145, 0)","v":1},{"$f":"MATCH(TRUE, AI136:AI143=AI145, 0)","v":1},{"$f":"MATCH(TRUE, AJ136:AJ143=AJ145, 0)","v":1},{"$f":"MATCH(TRUE, AK136:AK143=AK145, 0)","v":1},{"$f":"MATCH(TRUE, AL136:AL143=AL145, 0)","v":1},{"$f":"MATCH(TRUE, AM136:AM143=AM145, 0)","v":1},{"$f":"MATCH(TRUE, AN136:AN143=AN145, 0)","v":1},{"$f":"MATCH(TRUE, AO136:AO143=AO145, 0)","v":1}]
[]
[null,null,null,null,"Residual charge group, across all tariffs and residual groups",null,"integer",null,null,{"$f":"INDEX(J104:J111,J$147)","v":1},{"$f":"INDEX(K104:K111,K$147)","v":0},0,5,6,7,8,0,0,9,10,11,12,0,9,10,11,12,0,13,14,15,16,17,0,0,0,0,0,0,0,0]
[]
[null,null,{"$f":"INDEX('Version control'!$H$29:$H$55,MATCH($A$1,'Version control'!$F$29:$F$55,0),1)&\"-D: Calculating MPANs for matching\"","v":"Section 519-D: Calculating MPANs for matching"}]
[]
[null,null,null,null,"MPANs for revenue matching",null,"MPANs",null,null,{"$f":"IF(J32, J56, 0)","v":1943630.1666889538},0,0,43925.886377075745,36292.718450369888,20106.276033040449,22123.125428932752,0,0,4714.9773278158245,3982.1225126103027,1417.1108685397066,1724.342667858268,0,12,32.608659383238326,51.956494537428746,256.47772590276531,0,362.26215155165494,413.26215155165494,180.5066281190845,207.51104686514083,565,0,0,0,0,0,0,0,0]
[]
[null,null,null,null,"MPANs for revenue matching, for total residual charge group",null,"MPANs",null,null,{"$f":"SUMIF($J$149:$AO$149,J149,$J$153:$AO$153)","v":1943630.1666889538},0,0,43925.886377075745,36292.718450369888,20106.276033040449,22123.125428932752,0,0,4726.9773278158245,4014.731171993541,1469.0673630771355,1980.8203937610333,0,4726.9773278158245,4014.731171993541,1469.0673630771355,1980.8203937610333,0,362.26215155165494,413.26215155165494,180.5066281190845,207.51104686514083,565,0,0,0,0,0,0,0,0]
[]
[null,null,null,null,"Share of MPANs in the residual charge group",null,"%",null,null,{"$f":"IF(J155<>0,J153/J155,0)","v":1},{"$f":"IF(K155<>0,K153/K155,0)","v":0},0,1,1,1,1,0,0,0.99746137982736105,0.99187774772798887,0.9646330074145818,0.87051944400886105,0,2.5386201726389055E-3,8.1222522720111011E-3,3.5366992585418082E-2,0.12948055599113892,0,1,1,1,1,1,0,0,0,0,0,0,0,0]
[]
[null,null,{"$f":"INDEX('Version control'!$H$29:$H$55,MATCH($A$1,'Version control'!$F$29:$F$55,0),1)&\"-E: Calculating unit volumes for matching\"","v":"Section 519-E: Calculating unit volumes for matching"}]
[]
[null,null,null,"This section determines the total number of units to be considered for each residual charge when allocating",null,null,null,null,">",null,null,null,null,null,null,null,null,null,null,null,null,null,null,null,null,null,null,null,null,null,null,null,null,null,null,null,null,null,null,null,null,null,"Paragraph 92 (a)"]
[null,null,null,"revenue."]
[]
[null,null,null,null,"Units by tariff, across all timebands",null,"MWh",null,null,{"$f":"SUM(J53:J55)","v":5626367.9692325313},143813.48374238025,213.94608937857208,170475.77293289208,295784.53361404373,325845.10025194811,1026557.3735992005,34832.841,284.20381385203797,464440.49724605225,651832.16988709336,383623.82885478379,918619.51774223382,1.8747900274922169,1374.0523299527345,7190.3536608598615,22942.647193356745,250017.4404409015,18496.833135411565,172471.18148012733,627473.29781536758,554225.99676713394,1678144.9241571168,207551.07012003189,79061.471898910124,147.63783486156683,66207.500999999989,0,951.45699999999999,0,857779.34199999995,0]
[]
[null,null,null,null,"Units for revenue matching, excluding related MPANs",null,"MWh",null,null,{"$f":"IF(J32,J164, 0)","v":5626367.9692325313},0,0,170475.77293289208,295784.53361404373,325845.10025194811,1026557.3735992005,0,0,464440.49724605225,651832.16988709336,383623.82885478379,918619.51774223382,0,1374.0523299527345,7190.3536608598615,22942.647193356745,250017.4404409015,0,172471.18148012733,627473.29781536758,554225.99676713394,1678144.9241571168,207551.07012003189,0,0,0,0,0,0,0,0]
[]
[null,null,null,null,"Units for related MPANs are counted towards the corresponding domestic or non-domestic tariff"]
[]
[null,null,null,null,"Distribution of related MPAN units",null,"%",null,null,1,null,null,{"$f":"'Volume adjustments'!K689","v":9.272725992895102E-2},{"$f":"'Volume adjustments'!L689","v":0.1618979376611088},{"$f":"'Volume adjustments'!M689","v":0.17913665363215273},{"$f":"'Volume adjustments'!N689","v":0.56623814877778744}]
[]
[null,null,null,null,"Related MPAN units for revenue matching",null,"MWh",null,null,{"$f":"J170*$K164","v":143813.48374238025},null,null,{"$f":"M170*$Q164","v":3229.9539014708221},{"$f":"N170*$Q164","v":5639.3651207773146},{"$f":"O170*$Q164","v":6239.8385732408487},{"$f":"P170*$Q164","v":19723.683404511015}]
[]
[null,null,null,null,"Units for revenue matching",null,"MWh",null,null,{"$f":"J166+J172","v":5770181.4529749118},0,0,173705.7268343629,301423.89873482106,332084.93882518896,1046281.0570037116,0,0,464440.49724605225,651832.16988709336,383623.82885478379,918619.51774223382,0,1374.0523299527345,7190.3536608598615,22942.647193356745,250017.4404409015,0,172471.18148012733,627473.29781536758,554225.99676713394,1678144.9241571168,207551.07012003189,0,0,0,0,0,0,0,0]
[]
[null,null,{"$f":"INDEX('Version control'!$H$29:$H$55,MATCH($A$1,'Version control'!$F$29:$F$55,0),1)&\"-F: Allocating revenue to tariffs\"","v":"Section 519-F: Allocating revenue to tariffs"}]
[]
[null,null,null,"Tariffs that are in the same residual charge group need to have matching residual charges. To achieve this, the",null,null,null,null,">",null,null,null,null,null,null,null,null,null,null,null,null,null,null,null,null,null,null,null,null,null,null,null,null,null,null,null,null,null,null,null,null,null,"Paragraph 92 (a)"]
[null,null,null,"total volumes (unit, revenue, MPANs etc) within each group are calculated and then shared across all the tariffs"]
[null,null,null,"in the group. For allocating revenue to tariffs, this needs to be done with volumes of units."]
[]
[null,null,null,null,"Units for revenue matching, for total residual charge group",null,"MWh",null,null,{"$f":"SUMIF($J$149:$AO$149,J149,$J$174:$AO$174)","v":5770181.4529749118},0,0,173705.7268343629,301423.89873482106,332084.93882518896,1046281.0570037116,0,0,465814.54957600497,659022.52354795323,406566.47604814055,1168636.9581831354,0,465814.54957600497,659022.52354795323,406566.47604814055,1168636.9581831354,0,172471.18148012733,627473.29781536758,554225.99676713394,1678144.9241571168,207551.07012003189,0,0,0,0,0,0,0,0]
[]
[null,null,null,null,"Units for revenue matching, shared by residual charge group",null,"MWh",null,null,{"$f":"J157*J182","v":5770181.4529749118},{"$f":"K157*K182","v":0},0,173705.7268343629,301423.89873482106,332084.93882518896,1046281.0570037116,0,0,464632.02336374257,653669.77635875938,392187.44250426634,1017321.1950857897,0,1182.5262122623517,5352.7471891938521,14379.033543874146,151315.76309734574,0,172471.18148012733,627473.29781536758,554225.99676713394,1678144.9241571168,207551.07012003189,0,0,0,0,0,0,0,0]
[]
[null,null,null,null,"Total units",null,"MWh",{"$f":"SUM($J$184:$AO$184)","v":13563584.052068006}]
[]
[null,null,null,null,"Distribution of residual revenue ",null,"%",null,null,{"$f":"J184/$H186","v":0.42541716340049124},{"$f":"K184/$H186","v":0},0,1.2806771880318641E-2,2.2223027304413962E-2,2.4483568469099198E-2,7.7138981333196202E-2,0,0,3.4255844294554381E-2,4.8192997798328675E-2,2.8914735294058982E-2,7.5003862635457413E-2,0,8.7183904174800673E-5,3.9464106010960516E-4,1.0601205027134263E-3,1.1156030921950529E-2,0,1.2715752769920062E-2,4.6261614585541518E-2,4.086132357344241E-2,0.12372429865992936,1.5302081612299744E-2,0,0,0,0,0,0,0,0]
[]
[null,null,null,null,"Revenue allocated to this tariff",null,"£",null,null,{"$f":"$H$84 * J188","v":104992581.43041477},{"$f":"$H$84 * K188","v":0},0,3160700.0261982102,5484623.5756888585,6042523.1451676423,19037832.687207222,0,0,8454312.2163073905,11893989.432093939,7136131.2167897131,18510887.272160806,0,21516.910801920101,97397.066230579556,261636.80684036814,2753298.6108283652,0,3138236.5898764129,11417325.755384233,10084538.687500978,30535047.994160432,3776540.2714176867,0,0,0,0,0,0,0,0]
[]
[null,null,{"$f":"INDEX('Version control'!$H$29:$H$55,MATCH($A$1,'Version control'!$F$29:$F$55,0),1)&\"-G: Calculating the residual fixed charge\"","v":"Section 519-G: Calculating the residual fixed charge"}]
[]
[null,null,null,"Dividing the revenue allocation by the number of MPANs results in the residual fixed charge."]
[]
[null,null,null,null,"Residual fixed charge",null,"£/MPAN/year",null,">",{"$f":"IF(J33, J190/J153, 0)","v":54.018806267693165},0,0,71.955293037586415,151.12187264751341,300.52920467410388,860.53992454020238,0,0,1793.0759001600084,2986.8466865167752,5035.6901320948145,10735.039860234036,0,1793.0759001600084,2986.8466865167757,5035.6901320948155,10735.039860234036,0,8662.8883984556469,27627.320122387606,55867.968908310497,147149.02389753173,0,0,0,0,0,0,0,0,0,null,"Paragraph 92 (b)"]
[]
[null,null,null,null,"Residual fixed charge",null,"p/MPAN/day",null,">",{"$f":"J196 * hundred / days_in_year","v":14.759236685162065},0,0,19.659916130488092,41.290129138664867,82.111804555766085,235.12019796180391,0,0,489.91144813114983,816.078329649392,1375.8716207909329,2933.0710000639438,0,489.91144813114983,816.07832964939223,1375.8716207909331,2933.0710000639438,0,2366.9093984851493,7548.4481208709303,15264.472379319808,40204.651338123425,0,0,0,0,0,0,0,0,0,null,"Paragraph 92 (c)"]
[]
[null,null,{"$f":"INDEX('Version control'!$H$29:$H$55,MATCH($A$1,'Version control'!$F$29:$F$55,0),1)&\"-H: Calculating the initial residual unit rate\"","v":"Section 519-H: Calculating the initial residual unit rate"}]
[]
[null,null,null,"For customers without a residual fixed charge, the total allocated residual revenue is instead divided by the total",null,null,null,null,">",null,null,null,null,null,null,null,null,null,null,null,null,null,null,null,null,null,null,null,null,null,null,null,null,null,null,null,null,null,null,null,null,null,"Paragraph 92D"]
[null,null,null,"number of units."]
[]
[null,null,null,null,"Initial residual unit rate",null,"£/MWh",null,null,{"$f":"IF(J34, J190/J184, 0)","v":0},0,0,0,0,0,0,0,0,0,0,0,0,0,0,0,0,0,0,0,0,0,0,18.195715730271207,0,0,0,0,0,0,0,0]
[]
[null,null,null,null,"Initial residual unit rate",null,"p/kWh",null,null,{"$f":"J205*hundred/thousand","v":0},0,0,0,0,0,0,0,0,0,0,0,0,0,0,0,0,0,0,0,0,0,0,1.8195715730271207,0,0,0,0,0,0,0,0]
[]
[null,"Adjustments for negative fixed charges"]
[]
[null,null,"In the event that residual fixed charges are negative, there are some adjustments that may need to be made.",null,null,null,null,null,">",null,null,null,null,null,null,null,null,null,null,null,null,null,null,null,null,null,null,null,null,null,null,null,null,null,null,null,null,null,null,null,null,null,"Paragraph 94"]
[]
[null,null,{"$f":"INDEX('Version control'!$H$29:$H$55,MATCH($A$1,'Version control'!$F$29:$F$55,0),1)&\"-I: Floor on negative residual fixed charges\"","v":"Section 519-I: Floor on negative residual fixed charges"}]
[]
[null,null,null,"Fixed charges for negative residuals may not take values that result in overall fixed charges being negative. This"]
[null,null,null,"subsection determines what the \"floor\" is on negative residual fixed charges. This is based on the before-revenue-"]
[null,null,null,"matching fixed charge, and the fixed charge adders that arise from SoLR and Bad Debt costs."]
[]
[null,null,null,null,"Where there are multiple tariffs in the same residual charge group, the floor is based on whichever tariff has the"]
[null,null,null,null,"lowest before-revenue-matching fixed charge."]
[]
[null,null,null,null,"Fixed charge without residual, including pass-through adder",null,"p/MPAN/day",null,null,{"$f":"MIN(IF($J149:$AO149=J149,$J43:$AO43+$J48:$AO48))","v":6.4967148341461538},{"$f":"MIN(IF($J149:$AO149=K149,$J43:$AO43+$J48:$AO48))","v":0},{"$f":"MIN(IF($J149:$AO149=L149,$J43:$AO43+$J48:$AO48))","v":0},{"$f":"MIN(IF($J149:$AO149=M149,$J43:$AO43+$J48:$AO48))","v":7.9656422573798116},{"$f":"MIN(IF($J149:$AO149=N149,$J43:$AO43+$J48:$AO48))","v":7.9656422573798116},{"$f":"MIN(IF($J149:$AO149=O149,$J43:$AO43+$J48:$AO48))","v":7.9656422573798116},{"$f":"MIN(IF($J149:$AO149=P149,$J43:$AO43+$J48:$AO48))","v":7.9656422573798116},{"$f":"MIN(IF($J149:$AO149=Q149,$J43:$AO43+$J48:$AO48))","v":0},{"$f":"MIN(IF($J149:$AO149=R149,$J43:$AO43+$J48:$AO48))","v":0},{"$f":"MIN(IF($J149:$AO149=S149,$J43:$AO43+$J48:$AO48))","v":9.4154829112268068},{"$f":"MIN(IF($J149:$AO149=T149,$J43:$AO43+$J48:$AO48))","v":9.4154829112268068},{"$f":"MIN(IF($J149:$AO149=U149,$J43:$AO43+$J48:$AO48))","v":9.4154829112268068},{"$f":"MIN(IF($J149:$AO149=V149,$J43:$AO43+$J48:$AO48))","v":9.4154829112268068},{"$f":"MIN(IF($J149:$AO149=W149,$J43:$AO43+$J48:$AO48))","v":0},{"$f":"MIN(IF($J149:$AO149=X149,$J43:$AO43+$J48:$AO48))","v":9.4154829112268068},{"$f":"MIN(IF($J149:$AO149=Y149,$J43:$AO43+$J48:$AO48))","v":9.4154829112268068},{"$f":"MIN(IF($J149:$AO149=Z149,$J43:$AO43+$J48:$AO48))","v":9.4154829112268068},{"$f":"MIN(IF($J149:$AO149=AA149,$J43:$AO43+$J48:$AO48))","v":9.4154829112268068},{"$f":"MIN(IF($J149:$AO149=AB149,$J43:$AO43+$J48:$AO48))","v":0},{"$f":"MIN(IF($J149:$AO149=AC149,$J43:$AO43+$J48:$AO48))","v":142.55607782743925},{"$f":"MIN(IF($J149:$AO149=AD149,$J43:$AO43+$J48:$AO48))","v":142.55607782743925},{"$f":"MIN(IF($J149:$AO149=AE149,$J43:$AO43+$J48:$AO48))","v":142.55607782743925},{"$f":"MIN(IF($J149:$AO149=AF149,$J43:$AO43+$J48:$AO48))","v":142.55607782743925},{"$f":"MIN(IF($J149:$AO149=AG149,$J43:$AO43+$J48:$AO48))","v":0},{"$f":"MIN(IF($J149:$AO149=AH149,$J43:$AO43+$J48:$AO48))","v":0},{"$f":"MIN(IF($J149:$AO149=AI149,$J43:$AO43+$J48:$AO48))","v":0},{"$f":"MIN(IF($J149:$AO149=AJ149,$J43:$AO43+$J48:$AO48))","v":0},{"$f":"MIN(IF($J149:$AO149=AK149,$J43:$AO43+$J48:$AO48))","v":0},{"$f":"MIN(IF($J149:$AO149=AL149,$J43:$AO43+$J48:$AO48))","v":0},{"$f":"MIN(IF($J149:$AO149=AM149,$J43:$AO43+$J48:$AO48))","v":0},{"$f":"MIN(IF($J149:$AO149=AN149,$J43:$AO43+$J48:$AO48))","v":0},{"$f":"MIN(IF($J149:$AO149=AO149,$J43:$AO43+$J48:$AO48))","v":0}]
[]
[null,null,null,null,"Minimum possible residual fixed charge",null,"p/MPAN/day",null,null,{"$f":"MAX(-J222,J198)","v":14.759236685162065},{"$f":"MAX(-K222,K198)","v":0},0,19.659916130488092,41.290129138664867,82.111804555766085,235.12019796180391,0,0,489.91144813114983,816.078329649392,1375.8716207909329,2933.0710000639438,0,489.91144813114983,816.07832964939223,1375.8716207909331,2933.0710000639438,0,2366.9093984851493,7548.4481208709303,15264.472379319808,40204.651338123425,0,0,0,0,0,0,0,0,0]
[]
[null,null,null,null,"Shortfall in residual fixed charge due to floor",null,"p/MPAN/day",null,null,{"$f":" J198 - J224","v":0},{"$f":" K198 - K224","v":0},0,0,0,0,0,0,0,0,0,0,0,0,0,0,0,0,0,0,0,0,0,0,0,0,0,0,0,0,0,0]
[]
[null,null,null,null,"Shortfall in revenue due to floor on fixed charge",null,"£/year",null,null,{"$f":"J226 * days_in_year / hundred * J153","v":0},0,0,0,0,0,0,0,0,0,0,0,0,0,0,0,0,0,0,0,0,0,0,0,0,0,0,0,0,0,0,0]
[]
[null,null,null,null,"Total shortfall in revenue due to floor on fixed charge",null,"£/year",{"$f":"SUM(J228:AO228)","v":0}]
[]
[null,null,{"$f":"INDEX('Version control'!$H$29:$H$55,MATCH($A$1,'Version control'!$F$29:$F$55,0),1)&\"-J: Ranking unit rate volumes and tariffs\"","v":"Section 519-J: Ranking unit rate volumes and tariffs"}]
[]
[null,null,null,"If the floor on negative fixed charges would result in any revenue not being redistributed, then this revenue is instead",null,null,null,null,">",null,null,null,null,null,null,null,null,null,null,null,null,null,null,null,null,null,null,null,null,null,null,null,null,null,null,null,null,null,null,null,null,null,"Paragraph 94"]
[null,null,null,"redistributed through unit rates."]
[]
[null,null,null,null,"Revenue to be redistributed through unit rates",null,"TRUE or FALSE",null,null,{"$f":"J228<0","v":false},{"$f":"K228<0","v":false},false,false,false,false,false,false,false,false,false,false,false,false,false,false,false,false,false,false,false,false,false,false,false,false,false,false,false,false,false,false]
[]
[null,null,null,null,"The redistribution of negative residuals through unit rates must not result in any unit rates, after combining the "]
[null,null,null,null,"before-revenue-matching element and the residual adder, from taking a negative value. To do this, the unit rates"]
[null,null,null,null,"for each tariff must be ranked, from the lowest unit rate to the highest unit rate."]
[]
[null,null,null,null,"Rank"]
[null,null,null,null,null,"Lowest unit rate","integer",1]
[null,null,null,null,null,"Middle unit rate","integer",2]
[null,null,null,null,null,"Highest unit rate","integer",3]
[]
[null,null,null,null,"Ranked unit rates"]
[null,null,null,null,null,"Lowest unit rate","p/kWh",null,null,{"$f":"IF(J$237, SMALL(J$40:J$42,$H244), 0)","v":0},0,0,0,0,0,0,0,0,0,0,0,0,0,0,0,0,0,0,0,0,0,0,0,0,0,0,0,0,0,0,0]
[null,null,null,null,null,"Middle unit rate","p/kWh",null,null,{"$f":"IF(J$237, SMALL(J$40:J$42,$H245), 0)","v":0},0,0,0,0,0,0,0,0,0,0,0,0,0,0,0,0,0,0,0,0,0,0,0,0,0,0,0,0,0,0,0]
[null,null,null,null,null,"Highest unit rate","p/kWh",null,null,{"$f":"IF(J$237, SMALL(J$40:J$42,$H246), 0)","v":0},0,0,0,0,0,0,0,0,0,0,0,0,0,0,0,0,0,0,0,0,0,0,0,0,0,0,0,0,0,0,0]
[]
[null,null,null,null,"For tariffs in the same residual charge group, the constraint on non-negative unit rates is based on the smallest",null,null,null,">",null,null,null,null,null,null,null,null,null,null,null,null,null,null,null,null,null,null,null,null,null,null,null,null,null,null,null,null,null,null,null,null,null,"Paragraph 94A"]
[null,null,null,null,"before-revenue-matching charge within the entire residual charge group."]
[]
[null,null,null,null,"Ranked unit rates for residual charge group"]
[null,null,null,null,null,"Lowest unit rate","p/kWh",null,null,{"$f":"MIN(IF($J$149:$AO$149=J$149,$J249:$AO249))","v":0},{"$f":"MIN(IF($J$149:$AO$149=K$149,$J249:$AO249))","v":0},{"$f":"MIN(IF($J$149:$AO$149=L$149,$J249:$AO249))","v":0},{"$f":"MIN(IF($J$149:$AO$149=M$149,$J249:$AO249))","v":0},{"$f":"MIN(IF($J$149:$AO$149=N$149,$J249:$AO249))","v":0},{"$f":"MIN(IF($J$149:$AO$149=O$149,$J249:$AO249))","v":0},{"$f":"MIN(IF($J$149:$AO$149=P$149,$J249:$AO249))","v":0},{"$f":"MIN(IF($J$149:$AO$149=Q$149,$J249:$AO249))","v":0},{"$f":"MIN(IF($J$149:$AO$149=R$149,$J249:$AO249))","v":0},{"$f":"MIN(IF($J$149:$AO$149=S$149,$J249:$AO249))","v":0},{"$f":"MIN(IF($J$149:$AO$149=T$149,$J249:$AO249))","v":0},{"$f":"MIN(IF($J$149:$AO$149=U$149,$J249:$AO249))","v":0},{"$f":"MIN(IF($J$149:$AO$149=V$149,$J249:$AO249))","v":0},{"$f":"MIN(IF($J$149:$AO$149=W$149,$J249:$AO249))","v":0},{"$f":"MIN(IF($J$149:$AO$149=X$149,$J249:$AO249))","v":0},{"$f":"MIN(IF($J$149:$AO$149=Y$149,$J249:$AO249))","v":0},{"$f":"MIN(IF($J$149:$AO$149=Z$149,$J249:$AO249))","v":0},{"$f":"MIN(IF($J$149:$AO$149=AA$149,$J249:$AO249))","v":0},{"$f":"MIN(IF($J$149:$AO$149=AB$149,$J249:$AO249))","v":0},{"$f":"MIN(IF($J$149:$AO$149=AC$149,$J249:$AO249))","v":0},{"$f":"MIN(IF($J$149:$AO$149=AD$149,$J249:$AO249))","v":0},{"$f":"MIN(IF($J$149:$AO$149=AE$149,$J249:$AO249))","v":0},{"$f":"MIN(IF($J$149:$AO$149=AF$149,$J249:$AO249))","v":0},{"$f":"MIN(IF($J$149:$AO$149=AG$149,$J249:$AO249))","v":0},{"$f":"MIN(IF($J$149:$AO$149=AH$149,$J249:$AO249))","v":0},{"$f":"MIN(IF($J$149:$AO$149=AI$149,$J249:$AO249))","v":0},{"$f":"MIN(IF($J$149:$AO$149=AJ$149,$J249:$AO249))","v":0},{"$f":"MIN(IF($J$149:$AO$149=AK$149,$J249:$AO249))","v":0},{"$f":"MIN(IF($J$149:$AO$149=AL$149,$J249:$AO249))","v":0},{"$f":"MIN(IF($J$149:$AO$149=AM$149,$J249:$AO249))","v":0},{"$f":"MIN(IF($J$149:$AO$149=AN$149,$J249:$AO249))","v":0},{"$f":"MIN(IF($J$149:$AO$149=AO$149,$J249:$AO249))","v":0}]
[null,null,null,null,null,"Middle unit rate","p/kWh",null,null,{"$f":"MIN(IF($J$149:$AO$149=J$149,$J250:$AO250))","v":0},{"$f":"MIN(IF($J$149:$AO$149=K$149,$J250:$AO250))","v":0},{"$f":"MIN(IF($J$149:$AO$149=L$149,$J250:$AO250))","v":0},{"$f":"MIN(IF($J$149:$AO$149=M$149,$J250:$AO250))","v":0},{"$f":"MIN(IF($J$149:$AO$149=N$149,$J250:$AO250))","v":0},{"$f":"MIN(IF($J$149:$AO$149=O$149,$J250:$AO250))","v":0},{"$f":"MIN(IF($J$149:$AO$149=P$149,$J250:$AO250))","v":0},{"$f":"MIN(IF($J$149:$AO$149=Q$149,$J250:$AO250))","v":0},{"$f":"MIN(IF($J$149:$AO$149=R$149,$J250:$AO250))","v":0},{"$f":"MIN(IF($J$149:$AO$149=S$149,$J250:$AO250))","v":0},{"$f":"MIN(IF($J$149:$AO$149=T$149,$J250:$AO250))","v":0},{"$f":"MIN(IF($J$149:$AO$149=U$149,$J250:$AO250))","v":0},{"$f":"MIN(IF($J$149:$AO$149=V$149,$J250:$AO250))","v":0},{"$f":"MIN(IF($J$149:$AO$149=W$149,$J250:$AO250))","v":0},{"$f":"MIN(IF($J$149:$AO$149=X$149,$J250:$AO250))","v":0},{"$f":"MIN(IF($J$149:$AO$149=Y$149,$J250:$AO250))","v":0},{"$f":"MIN(IF($J$149:$AO$149=Z$149,$J250:$AO250))","v":0},{"$f":"MIN(IF($J$149:$AO$149=AA$149,$J250:$AO250))","v":0},{"$f":"MIN(IF($J$149:$AO$149=AB$149,$J250:$AO250))","v":0},{"$f":"MIN(IF($J$149:$AO$149=AC$149,$J250:$AO250))","v":0},{"$f":"MIN(IF($J$149:$AO$149=AD$149,$J250:$AO250))","v":0},{"$f":"MIN(IF($J$149:$AO$149=AE$149,$J250:$AO250))","v":0},{"$f":"MIN(IF($J$149:$AO$149=AF$149,$J250:$AO250))","v":0},{"$f":"MIN(IF($J$149:$AO$149=AG$149,$J250:$AO250))","v":0},{"$f":"MIN(IF($J$149:$AO$149=AH$149,$J250:$AO250))","v":0},{"$f":"MIN(IF($J$149:$AO$149=AI$149,$J250:$AO250))","v":0},{"$f":"MIN(IF($J$149:$AO$149=AJ$149,$J250:$AO250))","v":0},{"$f":"MIN(IF($J$149:$AO$149=AK$149,$J250:$AO250))","v":0},{"$f":"MIN(IF($J$149:$AO$149=AL$149,$J250:$AO250))","v":0},{"$f":"MIN(IF($J$149:$AO$149=AM$149,$J250:$AO250))","v":0},{"$f":"MIN(IF($J$149:$AO$149=AN$149,$J250:$AO250))","v":0},{"$f":"MIN(IF($J$149:$AO$149=AO$149,$J250:$AO250))","v":0}]
[null,null,null,null,null,"Highest unit rate","p/kWh",null,null,{"$f":"MIN(IF($J$149:$AO$149=J$149,$J251:$AO251))","v":0},{"$f":"MIN(IF($J$149:$AO$149=K$149,$J251:$AO251))","v":0},{"$f":"MIN(IF($J$149:$AO$149=L$149,$J251:$AO251))","v":0},{"$f":"MIN(IF($J$149:$AO$149=M$149,$J251:$AO251))","v":0},{"$f":"MIN(IF($J$149:$AO$149=N$149,$J251:$AO251))","v":0},{"$f":"MIN(IF($J$149:$AO$149=O$149,$J251:$AO251))","v":0},{"$f":"MIN(IF($J$149:$AO$149=P$149,$J251:$AO251))","v":0},{"$f":"MIN(IF($J$149:$AO$149=Q$149,$J251:$AO251))","v":0},{"$f":"MIN(IF($J$149:$AO$149=R$149,$J251:$AO251))","v":0},{"$f":"MIN(IF($J$149:$AO$149=S$149,$J251:$AO251))","v":0},{"$f":"MIN(IF($J$149:$AO$149=T$149,$J251:$AO251))","v":0},{"$f":"MIN(IF($J$149:$AO$149=U$149,$J251:$AO251))","v":0},{"$f":"MIN(IF($J$149:$AO$149=V$149,$J251:$AO251))","v":0},{"$f":"MIN(IF($J$149:$AO$149=W$149,$J251:$AO251))","v":0},{"$f":"MIN(IF($J$149:$AO$149=X$149,$J251:$AO251))","v":0},{"$f":"MIN(IF($J$149:$AO$149=Y$149,$J251:$AO251))","v":0},{"$f":"MIN(IF($J$149:$AO$149=Z$149,$J251:$AO251))","v":0},{"$f":"MIN(IF($J$149:$AO$149=AA$149,$J251:$AO251))","v":0},{"$f":"MIN(IF($J$149:$AO$149=AB$149,$J251:$AO251))","v":0},{"$f":"MIN(IF($J$149:$AO$149=AC$149,$J251:$AO251))","v":0},{"$f":"MIN(IF($J$149:$AO$149=AD$149,$J251:$AO251))","v":0},{"$f":"MIN(IF($J$149:$AO$149=AE$149,$J251:$AO251))","v":0},{"$f":"MIN(IF($J$149:$AO$149=AF$149,$J251:$AO251))","v":0},{"$f":"MIN(IF($J$149:$AO$149=AG$149,$J251:$AO251))","v":0},{"$f":"MIN(IF($J$149:$AO$149=AH$149,$J251:$AO251))","v":0},{"$f":"MIN(IF($J$149:$AO$149=AI$149,$J251:$AO251))","v":0},{"$f":"MIN(IF($J$149:$AO$149=AJ$149,$J251:$AO251))","v":0},{"$f":"MIN(IF($J$149:$AO$149=AK$149,$J251:$AO251))","v":0},{"$f":"MIN(IF($J$149:$AO$149=AL$149,$J251:$AO251))","v":0},{"$f":"MIN(IF($J$149:$AO$149=AM$149,$J251:$AO251))","v":0},{"$f":"MIN(IF($J$149:$AO$149=AN$149,$J251:$AO251))","v":0},{"$f":"MIN(IF($J$149:$AO$149=AO$149,$J251:$AO251))","v":0}]
[]
[null,null,null,null,"Ranked adder threshold for residual charge group"]
[null,null,null,null,null,"Lowest unit rate","p/kWh",null,null,{"$f":" - J257","v":0},{"$f":" - K257","v":0},0,0,0,0,0,0,0,0,0,0,0,0,0,0,0,0,0,0,0,0,0,0,0,0,0,0,0,0,0,0]
[null,null,null,null,null,"Middle unit rate","p/kWh",null,null,{"$f":" - J258","v":0},0,0,0,0,0,0,0,0,0,0,0,0,0,0,0,0,0,0,0,0,0,0,0,0,0,0,0,0,0,0,0]
[null,null,null,null,null,"Highest unit rate","p/kWh",null,null,0,0,0,0,0,0,0,0,0,0,0,0,0,0,0,0,0,0,0,0,0,0,0,0,0,0,0,0,0,0,0,0]
[]
[null,null,null,null,"Index of unit rate ranks"]
[null,null,null,null,null,"Lowest unit rate","integer",null,null,{"$f":"IF(J$237,MATCH(J249,J$40:J$42,0), 0)","v":0},0,0,0,0,0,0,0,0,0,0,0,0,0,0,0,0,0,0,0,0,0,0,0,0,0,0,0,0,0,0,0]
[null,null,null,null,null,"Middle unit rate","integer",null,null,{"$f":"IF(J$237,MATCH(J250,J$40:J$42,0), 0)","v":0},0,0,0,0,0,0,0,0,0,0,0,0,0,0,0,0,0,0,0,0,0,0,0,0,0,0,0,0,0,0,0]
[null,null,null,null,null,"Highest unit rate","integer",null,null,{"$f":"IF(J$237,MATCH(J251,J$40:J$42,0), 0)","v":0},0,0,0,0,0,0,0,0,0,0,0,0,0,0,0,0,0,0,0,0,0,0,0,0,0,0,0,0,0,0,0]
[]
[null,null,null,null,"Ranked unit rate volumes"]
[null,null,null,null,null,"Lowest unit rate","MWh",null,null,{"$f":"IF(J$237, INDEX(J$53:J$55,J267), 0)","v":0},0,0,0,0,0,0,0,0,0,0,0,0,0,0,0,0,0,0,0,0,0,0,0,0,0,0,0,0,0,0,0]
[null,null,null,null,null,"Middle unit rate","MWh",null,null,{"$f":"IF(J$237, INDEX(J$53:J$55,J268), 0)","v":0},0,0,0,0,0,0,0,0,0,0,0,0,0,0,0,0,0,0,0,0,0,0,0,0,0,0,0,0,0,0,0]
[null,null,null,null,null,"Highest unit rate","MWh",null,null,{"$f":"IF(J$237, INDEX(J$53:J$55,J269), 0)","v":0},0,0,0,0,0,0,0,0,0,0,0,0,0,0,0,0,0,0,0,0,0,0,0,0,0,0,0,0,0,0,0]
[]
[null,null,null,null,"Ranked unit rate volumes, for total residual charge group"]
[null,null,null,null,null,"Lowest unit rate","MWh",null,null,{"$f":"SUMIF($J$149:$AO$149,J$149,$J272:$AO272)","v":0},0,0,0,0,0,0,0,0,0,0,0,0,0,0,0,0,0,0,0,0,0,0,0,0,0,0,0,0,0,0,0]
[null,null,null,null,null,"Middle unit rate","MWh",null,null,0,0,0,0,0,0,0,0,0,0,0,0,0,0,0,0,0,0,0,0,0,0,0,0,0,0,0,0,0,0,0,0]
[null,null,null,null,null,"Highest unit rate","MWh",null,null,0,0,0,0,0,0,0,0,0,0,0,0,0,0,0,0,0,0,0,0,0,0,0,0,0,0,0,0,0,0,0,0]
[]
[null,null,null,null,"Ranked unit rate volumes, shared by residual charge group"]
[null,null,null,null,null,"Lowest unit rate","MWh",null,null,{"$f":"J277 * J$157","v":0},{"$f":"K277 * K$157","v":0},0,0,0,0,0,0,0,0,0,0,0,0,0,0,0,0,0,0,0,0,0,0,0,0,0,0,0,0,0,0]
[null,null,null,null,null,"Middle unit rate","MWh",null,null,{"$f":"J278 * J$157","v":0},0,0,0,0,0,0,0,0,0,0,0,0,0,0,0,0,0,0,0,0,0,0,0,0,0,0,0,0,0,0,0]
[null,null,null,null,null,"Highest unit rate","MWh",null,null,0,0,0,0,0,0,0,0,0,0,0,0,0,0,0,0,0,0,0,0,0,0,0,0,0,0,0,0,0,0,0,0]
[]
[null,null,{"$f":"INDEX('Version control'!$H$29:$H$55,MATCH($A$1,'Version control'!$F$29:$F$55,0),1)&\"-K: Revenue matching for three timebands\"","v":"Section 519-K: Revenue matching for three timebands"}]
[]
[null,null,null,"The shortfall in revenue to be redistributed through unit rates is determined. The unit rate that would need to be used",null,null,null,null,">",null,null,null,null,null,null,null,null,null,null,null,null,null,null,null,null,null,null,null,null,null,null,null,null,null,null,null,null,null,null,null,null,null,"Paragraph 94"]
[null,null,null,"to achieve this is determined. This is compared with the before-revenue-matching unit rates across all three"]
[null,null,null,"timebands, to check whether it would result in any negative unit rates."]
[]
[null,null,null,null,"Shortfall in revenue for three timebands"]
[null,null,null,null,null,"Shortfall in revenue, for total residual charge group","£/year",null,null,{"$f":"SUMIF($J149:$AO149,J149,$J228:$AO228)","v":0},0,0,0,0,0,0,0,0,0,0,0,0,0,0,0,0,0,0,0,0,0,0,0,0,0,0,0,0,0,0,0]
[]
[null,null,null,null,null,"Shortfall in revenue, shared by residual charge group","£/year",null,null,{"$f":" J293 * J157","v":0},0,0,0,0,0,0,0,0,0,0,0,0,0,0,0,0,0,0,0,0,0,0,0,0,0,0,0,0,0,0,0]
[]
[null,null,null,null,"Units for revenue matching"]
[null,null,null,null,null,"Units for revenue matching (three timebands)","MWh",null,null,{"$f":"SUM(J282:J284)","v":0},0,0,0,0,0,0,0,0,0,0,0,0,0,0,0,0,0,0,0,0,0,0,0,0,0,0,0,0,0,0,0]
[]
[null,null,null,null,null,"Units for revenue matching, for total residual charge group","MWh",null,null,{"$f":"SUMIF($J149:$AO149,J149,$J298:$AOJ298)","v":0},0,0,0,0,0,0,0,0,0,0,0,0,0,0,0,0,0,0,0,0,0,0,0,0,0,0,0,0,0,0,0]
[]
[null,null,null,null,null,"Units for revenue matching, shared by residual charge group","MWh",null,null,{"$f":" J300 * J157","v":0},0,0,0,0,0,0,0,0,0,0,0,0,0,0,0,0,0,0,0,0,0,0,0,0,0,0,0,0,0,0,0]
[]
[null,null,null,null,"Unit rate adder for all three timebands",null,"p/kWh",null,null,{"$f":"IF( J298<>0, J295/J302, 0)*hundred/thousand","v":0},0,0,0,0,0,0,0,0,0,0,0,0,0,0,0,0,0,0,0,0,0,0,0,0,0,0,0,0,0,0,0]
[]
[null,null,null,null,"Check for no negative unit rates for three timebands"]
[null,null,null,null,null,"Lowest unit rate","TRUE or FALSE",null,null,{"$f":"IF(J$32, - J262+J$304>=0, TRUE)","v":true},true,true,true,true,true,true,true,true,true,true,true,true,true,true,true,true,true,true,true,true,true,true,true,true,true,true,true,true,true,true,true]
[null,null,null,null,null,"Middle unit rate","TRUE or FALSE",null,null,{"$f":"IF(J$32, - J263+J$304>=0, TRUE)","v":true},true,true,true,true,true,true,true,true,true,true,true,true,true,true,true,true,true,true,true,true,true,true,true,true,true,true,true,true,true,true,true]
[null,null,null,null,null,"Highest unit rate","TRUE or FALSE",null,null,{"$f":"IF(J$32, - J264+J$304>=0, TRUE)","v":true},true,true,true,true,true,true,true,true,true,true,true,true,true,true,true,true,true,true,true,true,true,true,true,true,true,true,true,true,true,true,true]
[]
[null,null,null,null,"Possible to apply this residual unit rate to all timebands?",null,"TRUE or FALSE",null,null,{"$f":"COUNTIF(J307:J309,TRUE)=3","v":true},{"$f":"COUNTIF(K307:K309,TRUE)=3","v":true},true,true,true,true,true,true,true,true,true,true,true,true,true,true,true,true,true,true,true,true,true,true,true,true,true,true,true,true,true,true]
[]
[null,null,{"$f":"INDEX('Version control'!$H$29:$H$55,MATCH($A$1,'Version control'!$F$29:$F$55,0),1)&\"-L: Revenue matching for two timebands\"","v":"Section 519-L: Revenue matching for two timebands"}]
[]
[null,null,null,"The shortfall in revenue to be redistributed through unit rates is determined, accounting for the application of any",null,null,null,null,">",null,null,null,null,null,null,null,null,null,null,null,null,null,null,null,null,null,null,null,null,null,null,null,null,null,null,null,null,null,null,null,null,null,"Paragraph 94"]
[null,null,null,"constrained adders for the timeband with the lowest unit rate.  The unit rate that would need to be used to achieve "]
[null,null,null,"this is determined. This is compared with the before-revenue-matching unit rates across all three timebands, to "]
[null,null,null,"check whether it would result in any negative unit rates."]
[]
[null,null,null,null,"Shortfall in revenue for two timebands"]
[null,null,null,null,null,"Revenue from constrained adder on lowest unit rate","£/year",null,null,{"$f":"J262*J282*thousand/hundred","v":0},0,0,0,0,0,0,0,0,0,0,0,0,0,0,0,0,0,0,0,0,0,0,0,0,0,0,0,0,0,0,0]
[]
[null,null,null,null,null,"Remaining shortfall in revenue to be recovered","£/year",null,null,{"$f":"J228 - J321","v":0},0,0,0,0,0,0,0,0,0,0,0,0,0,0,0,0,0,0,0,0,0,0,0,0,0,0,0,0,0,0,0]
[]
[null,null,null,null,null,"Shortfall in revenue, for total residual charge group","£/year",null,null,{"$f":"SUMIF($J$149:$AO$149,J$149,$J323:$AO323)","v":0},{"$f":"SUMIF($J$149:$AO$149,K$149,$J323:$AO323)","v":0},0,0,0,0,0,0,0,0,0,0,0,0,0,0,0,0,0,0,0,0,0,0,0,0,0,0,0,0,0,0]
[]
[null,null,null,null,null,"Shortfall in revenue, shared by residual charge group","£/year",null,null,{"$f":" J325 * J157","v":0},0,0,0,0,0,0,0,0,0,0,0,0,0,0,0,0,0,0,0,0,0,0,0,0,0,0,0,0,0,0,0]
[]
[null,null,null,null,"Units for revenue matching"]
[null,null,null,null,null,"Units for revenue matching (two timebands)","MWh",null,null,{"$f":"SUM(J283:J284)","v":0},0,0,0,0,0,0,0,0,0,0,0,0,0,0,0,0,0,0,0,0,0,0,0,0,0,0,0,0,0,0,0]
[]
[null,null,null,null,null,"Units for revenue matching, for total residual charge group","MWh",null,null,{"$f":"SUMIF($J$149:$AO$149,J$149,$J330:$AO330)","v":0},{"$f":"SUMIF($J$149:$AO$149,K$149,$J330:$AO330)","v":0},0,0,0,0,0,0,0,0,0,0,0,0,0,0,0,0,0,0,0,0,0,0,0,0,0,0,0,0,0,0]
[]
[null,null,null,null,null,"Units for revenue matching, shared by residual charge group","MWh",null,null,{"$f":" J332 * J$157","v":0},{"$f":" K332 * K$157","v":0},0,0,0,0,0,0,0,0,0,0,0,0,0,0,0,0,0,0,0,0,0,0,0,0,0,0,0,0,0,0]
[]
[null,null,null,null,"Unit rate adder for two timebands",null,"p/kWh",null,null,{"$f":"IF( J334<>0, J327/J334, 0)*hundred/thousand","v":0},0,0,0,0,0,0,0,0,0,0,0,0,0,0,0,0,0,0,0,0,0,0,0,0,0,0,0,0,0,0,0]
[]
[null,null,null,null,"Check for no negative unit rates for two timebands"]
[null,null,null,null,null,"Lowest unit rate","TRUE or FALSE"]
[null,null,null,null,null,"Middle unit rate","TRUE or FALSE",null,null,{"$f":"IF(J$32, -J263+J$336>=0, TRUE)","v":true},true,true,true,true,true,true,true,true,true,true,true,true,true,true,true,true,true,true,true,true,true,true,true,true,true,true,true,true,true,true,true]
[null,null,null,null,null,"Highest unit rate","TRUE or FALSE",null,null,{"$f":"IF(J$32, -J264+J$336>=0, TRUE)","v":true},true,true,true,true,true,true,true,true,true,true,true,true,true,true,true,true,true,true,true,true,true,true,true,true,true,true,true,true,true,true,true]
[]
[null,null,null,null,"Possible to apply this residual unit rate to two timebands?",null,"TRUE or FALSE",null,null,{"$f":"COUNTIF(J340:J341, TRUE) = 2","v":true},{"$f":"COUNTIF(K340:K341, TRUE) = 2","v":true},true,true,true,true,true,true,true,true,true,true,true,true,true,true,true,true,true,true,true,true,true,true,true,true,true,true,true,true,true,true]
[]
[null,null,{"$f":"INDEX('Version control'!$H$29:$H$55,MATCH($A$1,'Version control'!$F$29:$F$55,0),1)&\"-M: Revenue matching for one timeband\"","v":"Section 519-M: Revenue matching for one timeband"}]
[]
[null,null,null,"The shortfall in revenue to be redistributed through unit rates is determined, accounting for the application of any",null,null,null,null,">",null,null,null,null,null,null,null,null,null,null,null,null,null,null,null,null,null,null,null,null,null,null,null,null,null,null,null,null,null,null,null,null,null,"Paragraph 94"]
[null,null,null,"constrained adders for the timebands with the lowest unit rates.  The unit rate that would need to be used to achieve "]
[null,null,null,"this is determined. This is compared with the before-revenue-matching unit rates across all three timebands, to "]
[null,null,null,"check whether it would result in any negative unit rates."]
[]
[null,null,null,null,"Shortfall in revenue for one timeband"]
[null,null,null,null,null,"Revenue from constrained adder on lowest two unit rates","£/year",null,null,{"$f":"SUMPRODUCT(J262:J263, J282:J283)*thousand/hundred","v":0},0,0,0,0,0,0,0,0,0,0,0,0,0,0,0,0,0,0,0,0,0,0,0,0,0,0,0,0,0,0,0]
[]
[null,null,null,null,null,"Remaining shortfall in revenue to be recovered","£/year",null,null,{"$f":"J228 - J353","v":0},0,0,0,0,0,0,0,0,0,0,0,0,0,0,0,0,0,0,0,0,0,0,0,0,0,0,0,0,0,0,0]
[]
[null,null,null,null,null,"Shortfall in revenue, for total residual charge group","£/year",null,null,{"$f":"SUMIF($J$149:$AO$149,J$149,$J355:$AO355)","v":0},{"$f":"SUMIF($J$149:$AO$149,K$149,$J355:$AO355)","v":0},0,0,0,0,0,0,0,0,0,0,0,0,0,0,0,0,0,0,0,0,0,0,0,0,0,0,0,0,0,0]
[]
[null,null,null,null,null,"Shortfall in revenue, shared by residual charge group","£/year",null,null,{"$f":" J357 * J$157","v":0},{"$f":" K357 * K$157","v":0},0,0,0,0,0,0,0,0,0,0,0,0,0,0,0,0,0,0,0,0,0,0,0,0,0,0,0,0,0,0]
[]
[null,null,null,null,"Units for revenue matching"]
[null,null,null,null,null,"Units for revenue matching (two timebands)","MWh",null,null,{"$f":"J284","v":0},0,0,0,0,0,0,0,0,0,0,0,0,0,0,0,0,0,0,0,0,0,0,0,0,0,0,0,0,0,0,0]
[]
[null,null,null,null,null,"Units for revenue matching, for total residual charge group","MWh",null,null,{"$f":"SUMIF($J$149:$AO$149,J$149,$J362:$AO362)","v":0},{"$f":"SUMIF($J$149:$AO$149,K$149,$J362:$AO362)","v":0},0,0,0,0,0,0,0,0,0,0,0,0,0,0,0,0,0,0,0,0,0,0,0,0,0,0,0,0,0,0]
[]
[null,null,null,null,null,"Units for revenue matching, shared by residual charge group","MWh",null,null,{"$f":" J364 * J$157","v":0},{"$f":" K364 * K$157","v":0},0,0,0,0,0,0,0,0,0,0,0,0,0,0,0,0,0,0,0,0,0,0,0,0,0,0,0,0,0,0]
[]
[null,null,null,null,"Unit rate adder for maximum timebands",null,"p/kWh",null,null,{"$f":"IF( J366<>0, J359/J366, 0)*hundred/thousand","v":0},0,0,0,0,0,0,0,0,0,0,0,0,0,0,0,0,0,0,0,0,0,0,0,0,0,0,0,0,0,0,0]
[]
[null,null,null,null,"Check for no negative unit rates for one timebands"]
[null,null,null,null,null,"Lowest unit rate","TRUE or FALSE"]
[null,null,null,null,null,"Middle unit rate","TRUE or FALSE"]
[null,null,null,null,null,"Highest unit rate","TRUE or FALSE",null,null,{"$f":"IF(J$32, -J264+J$368>=0, TRUE)","v":true},true,true,true,true,true,true,true,true,true,true,true,true,true,true,true,true,true,true,true,true,true,true,true,true,true,true,true,true,true,true,true]
[]
[null,null,null,null,"Possible to apply this residual unit rate to one timebands?",null,"TRUE or FALSE",null,null,{"$f":"J373","v":true},{"$f":"K373","v":true},true,true,true,true,true,true,true,true,true,true,true,true,true,true,true,true,true,true,true,true,true,true,true,true,true,true,true,true,true,true]
[]
[null,null,{"$f":"INDEX('Version control'!$H$29:$H$55,MATCH($A$1,'Version control'!$F$29:$F$55,0),1)&\"-N: Revenue matching adders by timeband\"","v":"Section 519-N: Revenue matching adders by timeband"}]
[]
[null,null,null,"This section determines whether the redistribution of residuals through negative adjustments to the unit rates can be",null,null,null,null,">",null,null,null,null,null,null,null,null,null,null,null,null,null,null,null,null,null,null,null,null,null,null,null,null,null,null,null,null,null,null,null,null,null,"Paragraph 94"]
[null,null,null,"achieved with the same adjustment to all three timebands, a constrained adjustment to one timeband and "]
[null,null,null,"unconstrained for two timebands, or a constrained adjustment for two timebands and unconstrained for only one."]
[]
[null,null,null,null,"Is the adder solution viable?"]
[null,null,null,null,null,"Three unconstrained timebands","TRUE or FALSE",null,null,{"$f":"J311","v":true},true,true,true,true,true,true,true,true,true,true,true,true,true,true,true,true,true,true,true,true,true,true,true,true,true,true,true,true,true,true,true]
[null,null,null,null,null,"Two unconstrained  timebands","TRUE or FALSE",null,null,{"$f":"J343","v":true},true,true,true,true,true,true,true,true,true,true,true,true,true,true,true,true,true,true,true,true,true,true,true,true,true,true,true,true,true,true,true]
[null,null,null,null,null,"One unconstrained  timeband","TRUE or FALSE",null,null,{"$f":"J375","v":true},{"$f":"K375","v":true},true,true,true,true,true,true,true,true,true,true,true,true,true,true,true,true,true,true,true,true,true,true,true,true,true,true,true,true,true,true]
[]
[null,null,null,null,"Index of first viable adder solution",null,"integer",null,null,{"$f":"COUNTIF(J384:J386, FALSE)+1","v":1},{"$f":"COUNTIF(K384:K386, FALSE)+1","v":1},1,1,1,1,1,1,1,1,1,1,1,1,1,1,1,1,1,1,1,1,1,1,1,1,1,1,1,1,1,1]
[]
[null,null,null,null,"Adder solution"]
[null,null,null,null,null,"Three unconstrained timebands","TRUE or FALSE",null,null,{"$f":"J304","v":0},0,0,0,0,0,0,0,0,0,0,0,0,0,0,0,0,0,0,0,0,0,0,0,0,0,0,0,0,0,0,0]
[null,null,null,null,null,"Two unconstrained  timebands","TRUE or FALSE",null,null,{"$f":"J336","v":0},0,0,0,0,0,0,0,0,0,0,0,0,0,0,0,0,0,0,0,0,0,0,0,0,0,0,0,0,0,0,0]
[null,null,null,null,null,"One unconstrained  timeband","TRUE or FALSE",null,null,{"$f":"J368","v":0},0,0,0,0,0,0,0,0,0,0,0,0,0,0,0,0,0,0,0,0,0,0,0,0,0,0,0,0,0,0,0]
[]
[null,null,null,null,"Unconstrained unit rate adder",null,"p/kWh",null,null,{"$f":"INDEX(J391:J393,J388)","v":0},{"$f":"INDEX(K391:K393,K388)","v":0},0,0,0,0,0,0,0,0,0,0,0,0,0,0,0,0,0,0,0,0,0,0,0,0,0,0,0,0,0,0]
[]
[null,null,null,null,"Unit rate adder by ordered timebands"]
[null,null,null,null,null,"Lowest unit rate","p/kWh",null,null,{"$f":"MAX(J$395, J262)","v":0},0,0,0,0,0,0,0,0,0,0,0,0,0,0,0,0,0,0,0,0,0,0,0,0,0,0,0,0,0,0,0]
[null,null,null,null,null,"Middle unit rate","p/kWh",null,null,0,0,0,0,0,0,0,0,0,0,0,0,0,0,0,0,0,0,0,0,0,0,0,0,0,0,0,0,0,0,0,0]
[null,null,null,null,null,"Highest unit rate","p/kWh",null,null,0,0,0,0,0,0,0,0,0,0,0,0,0,0,0,0,0,0,0,0,0,0,0,0,0,0,0,0,0,0,0,0]
[]
[null,null,null,null,"Unit rate adder by unit rate period"]
[null,null,null,null,null,"Unit rate 1","p/kWh",null,null,{"$f":"IF(J$237, INDEX(J$398:J$400,J267), 0)","v":0},0,0,0,0,0,0,0,0,0,0,0,0,0,0,0,0,0,0,0,0,0,0,0,0,0,0,0,0,0,0,0]
[null,null,null,null,null,"Unit rate 2","p/kWh",null,null,0,0,0,0,0,0,0,0,0,0,0,0,0,0,0,0,0,0,0,0,0,0,0,0,0,0,0,0,0,0,0,0]
[null,null,null,null,null,"Unit rate 3","p/kWh",null,null,0,0,0,0,0,0,0,0,0,0,0,0,0,0,0,0,0,0,0,0,0,0,0,0,0,0,0,0,0,0,0,0]
[]
[null,"Final adders"]
[]
[null,null,{"$f":"INDEX('Version control'!$H$29:$H$55,MATCH($A$1,'Version control'!$F$29:$F$55,0),1)&\"-O: Final adders\"","v":"Section 519-O: Final adders"}]
[]
[null,null,null,null,"Adders to be applied "]
[null,null,null,null,null,"Unit rate 1","p/kWh",null,null,{"$f":"J403 + J$207","v":0},{"$f":"K403 + K$207","v":0},0,0,0,0,0,0,0,0,0,0,0,0,0,0,0,0,0,0,0,0,0,1.8195715730271207,0,0,0,0,0,0,0,0]
[null,null,null,null,null,"Unit rate 2","p/kWh",null,null,{"$f":"J404 + J$207","v":0},0,0,0,0,0,0,0,0,0,0,0,0,0,0,0,0,0,0,0,0,0,0,1.8195715730271207,0,0,0,0,0,0,0,0]
[null,null,null,null,null,"Unit rate 3","p/kWh",null,null,0,0,0,0,0,0,0,0,0,0,0,0,0,0,0,0,0,0,0,0,0,0,0,1.8195715730271207,0,0,0,0,0,0,0,0]
[null,null,null,null,null,"Fixed charge","p/MPAN/day",null,null,{"$f":"J224","v":14.759236685162065},0,0,19.659916130488092,41.290129138664867,82.111804555766085,235.12019796180391,0,0,489.91144813114983,816.078329649392,1375.8716207909329,2933.0710000639438,0,489.91144813114983,816.07832964939223,1375.8716207909331,2933.0710000639438,0,2366.9093984851493,7548.4481208709303,15264.472379319808,40204.651338123425,0,0,0,0,0,0,0,0,0]
[null,null,null,null,null,"Capacity charge","p/kVA/day"]
[null,null,null,null,null,"Exceeded capacity charge","p/kVA/day"]
[null,null,null,null,null,"Reactive power charge","p/kVArh"]
[]
[null,"Checks"]
[]
[null,null,null,null,"Revenue recovered from unit rate adders",null,"£/year",{"$f":"SUM(J422:AO422)","v":0},null,{"$f":"SUMPRODUCT(J398:J400,J282:J284)*thousand/hundred","v":0},0,0,0,0,0,0,0,0,0,0,0,0,0,0,0,0,0,0,0,0,0,0,0,0,0,0,0,0,0,0,0]
[]
[null,null,null,null,"Revenue to be recovered from unit rate adders",null,"£/year",{"$f":"SUM(J424:AO424)","v":0},null,{"$f":"J228","v":0},0,0,0,0,0,0,0,0,0,0,0,0,0,0,0,0,0,0,0,0,0,0,0,0,0,0,0,0,0,0,0]
[]
[null,null,null,null,"Check on unit rate adder revenue recovery",null,"TRUE or FALSE",{"$f":"COUNTIF(J426:AO426, FALSE)","v":0},null,{"$f":"ROUND(J422, check_decimals)=ROUND(J424, check_decimals)","v":true},true,true,true,true,true,true,true,true,true,true,true,true,true,true,true,true,true,true,true,true,true,true,true,true,true,true,true,true,true,true,true]
[]
[null,null,null,null,"Tariffs for which there is no viable adder solution",null,"number of issues",{"$f":"COUNTIF(J375:AO375,FALSE)","v":0}]
[]
[null,null,null,null,"Check for error values",null,"number of issues",{"$f":"SUM(IF(ISERROR(H35:AO419), 1))","v":0}]
[]
[null,null,null,null,"Total number of issues",null,"number of issues",{"$f":"H426+H428+H430","v":0}]
[]
[null,"End of sheet"]

{"sheet":"Rounding","index":34,"n_rows":180,"n_cols":43,"rows_kept":180,"cut":false,"hidden":true,"merged":[]}
[{"$f":"MID(CELL(\"filename\",A1),FIND(\"]\",CELL(\"filename\",A1))+1,255)","v":"Rounding"}]
[{"$f":"Cover!D23 & \" - \" & TEXT(CIRP_submission_date, \"mmm\") & \"-\" & RIGHT(YEAR(CIRP_submission_date), 2) & \" - \" & Cover!D25","v":"SP Distribution - Jan-26 - V1"}]
[{"$f":"Cover!D2&\" - \"&Cover!D8&\" v\"&Cover!D10&\" - \"&Cover!D19","v":"Cost Information Review Pack (CIRP) - Release for charge setting v1 - 2027/28"}]
[{"$f":"H178 & IF(H178 = 1, \" issue\", \" issues\") &\" identified in checks on this sheet\"","v":"0 issues identified in checks on this sheet"}]
[null,"Click here to return to model map",null,null,null,null,"Units","Constants",null,"Domestic Aggregated or CT with Residual","Domestic Aggregated (Related MPAN)","Non-Domestic Aggregated or CT No Residual","Non-Domestic Aggregated or CT Band 1","Non-Domestic Aggregated or CT Band 2","Non-Domestic Aggregated or CT Band 3","Non-Domestic Aggregated or CT Band 4","Non-Domestic Aggregated (Related MPAN)","LV Site Specific No Residual","LV Site Specific Band 1","LV Site Specific Band 2","LV Site Specific Band 3","LV Site Specific Band 4","LV Sub Site Specific No Residual","LV Sub Site Specific Band 1","LV Sub Site Specific Band 2","LV Sub Site Specific Band 3","LV Sub Site Specific Band 4","HV Site Specific No Residual","HV Site Specific Band 1","HV Site Specific Band 2","HV Site Specific Band 3","HV Site Specific Band 4","Unmetered Supplies","LV Generation Aggregated","LV Sub Generation Aggregated","LV Generation Site Specific","LV Generation Site Specific no RP Charge","LV Sub Generation Site Specific","LV Sub Generation Site Specific no RP Charge","HV Generation Site Specific","HV Generation Site Specific no RP Charge",null,"Legal text reference"]
[]
[null,"Description"]
[]
[null,null,"This sheet rounds charges to the number of decimal places specified in Paragraph 14."]
[null,null,"These include 'all the way' tariff forecast and LDNO tariff forecast."]
[]
[null,"Inputs"]
[]
[null,null,"Pulls in tariff forecast, adder and inputs for the number of decimal places"]
[]
[null,null,{"$f":"INDEX('Version control'!$H$29:$H$55,MATCH($A$1,'Version control'!$F$29:$F$55,0),1)&\"-A: Pre-match, pre-rounding tariff forecast\"","v":"Section 520-A: Pre-match, pre-rounding tariff forecast"}]
[]
[null,null,null,null,"Pre-match, pre-rounding tariff forecast"]
[null,null,null,null,"Tariff forecast before revenue matching"]
[null,null,null,null,null,"Unit rate 1","p/kWh",null,null,{"$f":"'Revenue matching'!J40","v":12.717520165338014},{"$f":"'Revenue matching'!K40","v":12.717520165338014},{"$f":"'Revenue matching'!L40","v":14.079989484681821},{"$f":"'Revenue matching'!M40","v":14.079989484681821},{"$f":"'Revenue matching'!N40","v":14.079989484681821},{"$f":"'Revenue matching'!O40","v":14.079989484681821},{"$f":"'Revenue matching'!P40","v":14.079989484681821},{"$f":"'Revenue matching'!Q40","v":14.079989484681821},{"$f":"'Revenue matching'!R40","v":10.303780578114448},{"$f":"'Revenue matching'!S40","v":10.303780578114448},{"$f":"'Revenue matching'!T40","v":10.303780578114448},{"$f":"'Revenue matching'!U40","v":10.303780578114448},{"$f":"'Revenue matching'!V40","v":10.303780578114448},{"$f":"'Revenue matching'!W40","v":5.6739248738730312},{"$f":"'Revenue matching'!X40","v":5.6739248738730312},{"$f":"'Revenue matching'!Y40","v":5.6739248738730312},{"$f":"'Revenue matching'!Z40","v":5.6739248738730312},{"$f":"'Revenue matching'!AA40","v":5.6739248738730312},{"$f":"'Revenue matching'!AB40","v":4.0807673462540635},{"$f":"'Revenue matching'!AC40","v":4.0807673462540635},{"$f":"'Revenue matching'!AD40","v":4.0807673462540635},{"$f":"'Revenue matching'!AE40","v":4.0807673462540635},{"$f":"'Revenue matching'!AF40","v":4.0807673462540635},{"$f":"'Revenue matching'!AG40","v":34.427065032597824},{"$f":"'Revenue matching'!AH40","v":-9.1108081999836212},{"$f":"'Revenue matching'!AI40","v":-7.7444236969645761},{"$f":"'Revenue matching'!AJ40","v":-9.1108081999836212},{"$f":"'Revenue matching'!AK40","v":-9.1108081999836212},{"$f":"'Revenue matching'!AL40","v":-7.7444236969645761},{"$f":"'Revenue matching'!AM40","v":-7.7444236969645761},{"$f":"'Revenue matching'!AN40","v":-4.9382331007984606},{"$f":"'Revenue matching'!AO40","v":-4.9382331007984606}]
[null,null,null,null,null,"Unit rate 2","p/kWh",null,null,{"$f":"'Revenue matching'!J41","v":1.3539208372436566},{"$f":"'Revenue matching'!K41","v":1.3539208372436566},{"$f":"'Revenue matching'!L41","v":1.4989707823259124},{"$f":"'Revenue matching'!M41","v":1.4989707823259124},{"$f":"'Revenue matching'!N41","v":1.4989707823259124},{"$f":"'Revenue matching'!O41","v":1.4989707823259124},{"$f":"'Revenue matching'!P41","v":1.4989707823259124},{"$f":"'Revenue matching'!Q41","v":1.4989707823259124},{"$f":"'Revenue matching'!R41","v":1.0189174898885729},{"$f":"'Revenue matching'!S41","v":1.0189174898885729},{"$f":"'Revenue matching'!T41","v":1.0189174898885729},{"$f":"'Revenue matching'!U41","v":1.0189174898885729},{"$f":"'Revenue matching'!V41","v":1.0189174898885729},{"$f":"'Revenue matching'!W41","v":0.43361413140194049},{"$f":"'Revenue matching'!X41","v":0.43361413140194049},{"$f":"'Revenue matching'!Y41","v":0.43361413140194049},{"$f":"'Revenue matching'!Z41","v":0.43361413140194049},{"$f":"'Revenue matching'!AA41","v":0.43361413140194049},{"$f":"'Revenue matching'!AB41","v":0.26830429745230278},{"$f":"'Revenue matching'!AC41","v":0.26830429745230278},{"$f":"'Revenue matching'!AD41","v":0.26830429745230278},{"$f":"'Revenue matching'!AE41","v":0.26830429745230278},{"$f":"'Revenue matching'!AF41","v":0.26830429745230278},{"$f":"'Revenue matching'!AG41","v":1.6679007271346775},{"$f":"'Revenue matching'!AH41","v":-0.96994641295780804},{"$f":"'Revenue matching'!AI41","v":-0.79410460343678191},{"$f":"'Revenue matching'!AJ41","v":-0.96994641295780804},{"$f":"'Revenue matching'!AK41","v":-0.96994641295780804},{"$f":"'Revenue matching'!AL41","v":-0.79410460343678191},{"$f":"'Revenue matching'!AM41","v":-0.79410460343678191},{"$f":"'Revenue matching'!AN41","v":-0.37739090739870668},{"$f":"'Revenue matching'!AO41","v":-0.37739090739870668}]
[null,null,null,null,null,"Unit rate 3","p/kWh",null,null,{"$f":"'Revenue matching'!J42","v":3.1795256169465769E-2},{"$f":"'Revenue matching'!K42","v":3.1795256169465769E-2},{"$f":"'Revenue matching'!L42","v":3.5201585427715669E-2},{"$f":"'Revenue matching'!M42","v":3.5201585427715669E-2},{"$f":"'Revenue matching'!N42","v":3.5201585427715669E-2},{"$f":"'Revenue matching'!O42","v":3.5201585427715669E-2},{"$f":"'Revenue matching'!P42","v":3.5201585427715669E-2},{"$f":"'Revenue matching'!Q42","v":3.5201585427715669E-2},{"$f":"'Revenue matching'!R42","v":2.5064322154661763E-2},{"$f":"'Revenue matching'!S42","v":2.5064322154661763E-2},{"$f":"'Revenue matching'!T42","v":2.5064322154661763E-2},{"$f":"'Revenue matching'!U42","v":2.5064322154661763E-2},{"$f":"'Revenue matching'!V42","v":2.5064322154661763E-2},{"$f":"'Revenue matching'!W42","v":1.2664619419301717E-2},{"$f":"'Revenue matching'!X42","v":1.2664619419301717E-2},{"$f":"'Revenue matching'!Y42","v":1.2664619419301717E-2},{"$f":"'Revenue matching'!Z42","v":1.2664619419301717E-2},{"$f":"'Revenue matching'!AA42","v":1.2664619419301717E-2},{"$f":"'Revenue matching'!AB42","v":8.7199076106789144E-3},{"$f":"'Revenue matching'!AC42","v":8.7199076106789144E-3},{"$f":"'Revenue matching'!AD42","v":8.7199076106789144E-3},{"$f":"'Revenue matching'!AE42","v":8.7199076106789144E-3},{"$f":"'Revenue matching'!AF42","v":8.7199076106789144E-3},{"$f":"'Revenue matching'!AG42","v":0.52379306690520866},{"$f":"'Revenue matching'!AH42","v":-2.277806340098296E-2},{"$f":"'Revenue matching'!AI42","v":-1.9090904887166527E-2},{"$f":"'Revenue matching'!AJ42","v":-2.277806340098296E-2},{"$f":"'Revenue matching'!AK42","v":-2.277806340098296E-2},{"$f":"'Revenue matching'!AL42","v":-1.9090904887166527E-2},{"$f":"'Revenue matching'!AM42","v":-1.9090904887166527E-2},{"$f":"'Revenue matching'!AN42","v":-1.1022501040398902E-2},{"$f":"'Revenue matching'!AO42","v":-1.1022501040398902E-2}]
[null,null,null,null,null,"Fixed charge","p/MPAN/day",null,null,{"$f":"'Revenue matching'!J43","v":6.4967148341461538},{"$f":"'Revenue matching'!K43","v":0},{"$f":"'Revenue matching'!L43","v":7.9656422573798116},{"$f":"'Revenue matching'!M43","v":7.9656422573798116},{"$f":"'Revenue matching'!N43","v":7.9656422573798116},{"$f":"'Revenue matching'!O43","v":7.9656422573798116},{"$f":"'Revenue matching'!P43","v":7.9656422573798116},{"$f":"'Revenue matching'!Q43","v":0},{"$f":"'Revenue matching'!R43","v":26.677201581809278},{"$f":"'Revenue matching'!S43","v":26.677201581809278},{"$f":"'Revenue matching'!T43","v":26.677201581809278},{"$f":"'Revenue matching'!U43","v":26.677201581809278},{"$f":"'Revenue matching'!V43","v":26.677201581809278},{"$f":"'Revenue matching'!W43","v":9.4154829112268068},{"$f":"'Revenue matching'!X43","v":9.4154829112268068},{"$f":"'Revenue matching'!Y43","v":9.4154829112268068},{"$f":"'Revenue matching'!Z43","v":9.4154829112268068},{"$f":"'Revenue matching'!AA43","v":9.4154829112268068},{"$f":"'Revenue matching'!AB43","v":142.55607782743925},{"$f":"'Revenue matching'!AC43","v":142.55607782743925},{"$f":"'Revenue matching'!AD43","v":142.55607782743925},{"$f":"'Revenue matching'!AE43","v":142.55607782743925},{"$f":"'Revenue matching'!AF43","v":142.55607782743925},{"$f":"'Revenue matching'!AG43","v":0},{"$f":"'Revenue matching'!AH43","v":0},{"$f":"'Revenue matching'!AI43","v":0},{"$f":"'Revenue matching'!AJ43","v":0},{"$f":"'Revenue matching'!AK43","v":0},{"$f":"'Revenue matching'!AL43","v":0},{"$f":"'Revenue matching'!AM43","v":0},{"$f":"'Revenue matching'!AN43","v":104.09713071019446},{"$f":"'Revenue matching'!AO43","v":104.09713071019446}]
[null,null,null,null,null,"Capacity charge","p/kVA/day",null,null,{"$f":"'Revenue matching'!J44","v":0},{"$f":"'Revenue matching'!K44","v":0},{"$f":"'Revenue matching'!L44","v":0},{"$f":"'Revenue matching'!M44","v":0},{"$f":"'Revenue matching'!N44","v":0},{"$f":"'Revenue matching'!O44","v":0},{"$f":"'Revenue matching'!P44","v":0},{"$f":"'Revenue matching'!Q44","v":0},{"$f":"'Revenue matching'!R44","v":5.2263068891671809},{"$f":"'Revenue matching'!S44","v":5.2263068891671809},{"$f":"'Revenue matching'!T44","v":5.2263068891671809},{"$f":"'Revenue matching'!U44","v":5.2263068891671809},{"$f":"'Revenue matching'!V44","v":5.2263068891671809},{"$f":"'Revenue matching'!W44","v":7.3547049278155461},{"$f":"'Revenue matching'!X44","v":7.3547049278155461},{"$f":"'Revenue matching'!Y44","v":7.3547049278155461},{"$f":"'Revenue matching'!Z44","v":7.3547049278155461},{"$f":"'Revenue matching'!AA44","v":7.3547049278155461},{"$f":"'Revenue matching'!AB44","v":8.7475343670699921},{"$f":"'Revenue matching'!AC44","v":8.7475343670699921},{"$f":"'Revenue matching'!AD44","v":8.7475343670699921},{"$f":"'Revenue matching'!AE44","v":8.7475343670699921},{"$f":"'Revenue matching'!AF44","v":8.7475343670699921},{"$f":"'Revenue matching'!AG44","v":0},{"$f":"'Revenue matching'!AH44","v":0},{"$f":"'Revenue matching'!AI44","v":0},{"$f":"'Revenue matching'!AJ44","v":0},{"$f":"'Revenue matching'!AK44","v":0},{"$f":"'Revenue matching'!AL44","v":0},{"$f":"'Revenue matching'!AM44","v":0},{"$f":"'Revenue matching'!AN44","v":0},{"$f":"'Revenue matching'!AO44","v":0}]
[null,null,null,null,null,"Exceeded capacity charge","p/kVA/day",null,null,{"$f":"'Revenue matching'!J45","v":0},{"$f":"'Revenue matching'!K45","v":0},{"$f":"'Revenue matching'!L45","v":0},{"$f":"'Revenue matching'!M45","v":0},{"$f":"'Revenue matching'!N45","v":0},{"$f":"'Revenue matching'!O45","v":0},{"$f":"'Revenue matching'!P45","v":0},{"$f":"'Revenue matching'!Q45","v":0},{"$f":"'Revenue matching'!R45","v":5.2263068891671809},{"$f":"'Revenue matching'!S45","v":5.2263068891671809},{"$f":"'Revenue matching'!T45","v":5.2263068891671809},{"$f":"'Revenue matching'!U45","v":5.2263068891671809},{"$f":"'Revenue matching'!V45","v":5.2263068891671809},{"$f":"'Revenue matching'!W45","v":7.3547049278155461},{"$f":"'Revenue matching'!X45","v":7.3547049278155461},{"$f":"'Revenue matching'!Y45","v":7.3547049278155461},{"$f":"'Revenue matching'!Z45","v":7.3547049278155461},{"$f":"'Revenue matching'!AA45","v":7.3547049278155461},{"$f":"'Revenue matching'!AB45","v":8.7475343670699921},{"$f":"'Revenue matching'!AC45","v":8.7475343670699921},{"$f":"'Revenue matching'!AD45","v":8.7475343670699921},{"$f":"'Revenue matching'!AE45","v":8.7475343670699921},{"$f":"'Revenue matching'!AF45","v":8.7475343670699921},{"$f":"'Revenue matching'!AG45","v":0},{"$f":"'Revenue matching'!AH45","v":0},{"$f":"'Revenue matching'!AI45","v":0},{"$f":"'Revenue matching'!AJ45","v":0},{"$f":"'Revenue matching'!AK45","v":0},{"$f":"'Revenue matching'!AL45","v":0},{"$f":"'Revenue matching'!AM45","v":0},{"$f":"'Revenue matching'!AN45","v":0},{"$f":"'Revenue matching'!AO45","v":0}]
[null,null,null,null,null,"Reactive power charge","p/kVArh",null,null,{"$f":"'Revenue matching'!J46","v":0},{"$f":"'Revenue matching'!K46","v":0},{"$f":"'Revenue matching'!L46","v":0},{"$f":"'Revenue matching'!M46","v":0},{"$f":"'Revenue matching'!N46","v":0},{"$f":"'Revenue matching'!O46","v":0},{"$f":"'Revenue matching'!P46","v":0},{"$f":"'Revenue matching'!Q46","v":0},{"$f":"'Revenue matching'!R46","v":0.20442388622842836},{"$f":"'Revenue matching'!S46","v":0.20442388622842836},{"$f":"'Revenue matching'!T46","v":0.20442388622842836},{"$f":"'Revenue matching'!U46","v":0.20442388622842836},{"$f":"'Revenue matching'!V46","v":0.20442388622842836},{"$f":"'Revenue matching'!W46","v":9.2843771083098561E-2},{"$f":"'Revenue matching'!X46","v":9.2843771083098561E-2},{"$f":"'Revenue matching'!Y46","v":9.2843771083098561E-2},{"$f":"'Revenue matching'!Z46","v":9.2843771083098561E-2},{"$f":"'Revenue matching'!AA46","v":9.2843771083098561E-2},{"$f":"'Revenue matching'!AB46","v":5.844330757595291E-2},{"$f":"'Revenue matching'!AC46","v":5.844330757595291E-2},{"$f":"'Revenue matching'!AD46","v":5.844330757595291E-2},{"$f":"'Revenue matching'!AE46","v":5.844330757595291E-2},{"$f":"'Revenue matching'!AF46","v":5.844330757595291E-2},{"$f":"'Revenue matching'!AG46","v":0},{"$f":"'Revenue matching'!AH46","v":0},{"$f":"'Revenue matching'!AI46","v":0},{"$f":"'Revenue matching'!AJ46","v":0.20303231774315611},{"$f":"'Revenue matching'!AK46","v":0},{"$f":"'Revenue matching'!AL46","v":0.15962076079782889},{"$f":"'Revenue matching'!AM46","v":0},{"$f":"'Revenue matching'!AN46","v":0.14015669427901961},{"$f":"'Revenue matching'!AO46","v":0}]
[]
[null,null,{"$f":"INDEX('Version control'!$H$29:$H$55,MATCH($A$1,'Version control'!$F$29:$F$55,0),1)&\"-B: Adders for revenue-matching\"","v":"Section 520-B: Adders for revenue-matching"}]
[]
[null,null,null,null,"Adders for revenue-matching"]
[null,null,null,null,"Adders calculated in revenue matching"]
[null,null,null,null,null,"Unit rate 1","p/kWh",null,null,{"$f":"'Revenue matching'!J412","v":0},{"$f":"'Revenue matching'!K412","v":0},{"$f":"'Revenue matching'!L412","v":0},{"$f":"'Revenue matching'!M412","v":0},{"$f":"'Revenue matching'!N412","v":0},{"$f":"'Revenue matching'!O412","v":0},{"$f":"'Revenue matching'!P412","v":0},{"$f":"'Revenue matching'!Q412","v":0},{"$f":"'Revenue matching'!R412","v":0},{"$f":"'Revenue matching'!S412","v":0},{"$f":"'Revenue matching'!T412","v":0},{"$f":"'Revenue matching'!U412","v":0},{"$f":"'Revenue matching'!V412","v":0},{"$f":"'Revenue matching'!W412","v":0},{"$f":"'Revenue matching'!X412","v":0},{"$f":"'Revenue matching'!Y412","v":0},{"$f":"'Revenue matching'!Z412","v":0},{"$f":"'Revenue matching'!AA412","v":0},{"$f":"'Revenue matching'!AB412","v":0},{"$f":"'Revenue matching'!AC412","v":0},{"$f":"'Revenue matching'!AD412","v":0},{"$f":"'Revenue matching'!AE412","v":0},{"$f":"'Revenue matching'!AF412","v":0},{"$f":"'Revenue matching'!AG412","v":1.8195715730271207},{"$f":"'Revenue matching'!AH412","v":0},{"$f":"'Revenue matching'!AI412","v":0},{"$f":"'Revenue matching'!AJ412","v":0},{"$f":"'Revenue matching'!AK412","v":0},{"$f":"'Revenue matching'!AL412","v":0},{"$f":"'Revenue matching'!AM412","v":0},{"$f":"'Revenue matching'!AN412","v":0},{"$f":"'Revenue matching'!AO412","v":0}]
[null,null,null,null,null,"Unit rate 2","p/kWh",null,null,{"$f":"'Revenue matching'!J413","v":0},{"$f":"'Revenue matching'!K413","v":0},{"$f":"'Revenue matching'!L413","v":0},{"$f":"'Revenue matching'!M413","v":0},{"$f":"'Revenue matching'!N413","v":0},{"$f":"'Revenue matching'!O413","v":0},{"$f":"'Revenue matching'!P413","v":0},{"$f":"'Revenue matching'!Q413","v":0},{"$f":"'Revenue matching'!R413","v":0},{"$f":"'Revenue matching'!S413","v":0},{"$f":"'Revenue matching'!T413","v":0},{"$f":"'Revenue matching'!U413","v":0},{"$f":"'Revenue matching'!V413","v":0},{"$f":"'Revenue matching'!W413","v":0},{"$f":"'Revenue matching'!X413","v":0},{"$f":"'Revenue matching'!Y413","v":0},{"$f":"'Revenue matching'!Z413","v":0},{"$f":"'Revenue matching'!AA413","v":0},{"$f":"'Revenue matching'!AB413","v":0},{"$f":"'Revenue matching'!AC413","v":0},{"$f":"'Revenue matching'!AD413","v":0},{"$f":"'Revenue matching'!AE413","v":0},{"$f":"'Revenue matching'!AF413","v":0},{"$f":"'Revenue matching'!AG413","v":1.8195715730271207},{"$f":"'Revenue matching'!AH413","v":0},{"$f":"'Revenue matching'!AI413","v":0},{"$f":"'Revenue matching'!AJ413","v":0},{"$f":"'Revenue matching'!AK413","v":0},{"$f":"'Revenue matching'!AL413","v":0},{"$f":"'Revenue matching'!AM413","v":0},{"$f":"'Revenue matching'!AN413","v":0},{"$f":"'Revenue matching'!AO413","v":0}]
[null,null,null,null,null,"Unit rate 3","p/kWh",null,null,{"$f":"'Revenue matching'!J414","v":0},{"$f":"'Revenue matching'!K414","v":0},{"$f":"'Revenue matching'!L414","v":0},{"$f":"'Revenue matching'!M414","v":0},{"$f":"'Revenue matching'!N414","v":0},{"$f":"'Revenue matching'!O414","v":0},{"$f":"'Revenue matching'!P414","v":0},{"$f":"'Revenue matching'!Q414","v":0},{"$f":"'Revenue matching'!R414","v":0},{"$f":"'Revenue matching'!S414","v":0},{"$f":"'Revenue matching'!T414","v":0},{"$f":"'Revenue matching'!U414","v":0},{"$f":"'Revenue matching'!V414","v":0},{"$f":"'Revenue matching'!W414","v":0},{"$f":"'Revenue matching'!X414","v":0},{"$f":"'Revenue matching'!Y414","v":0},{"$f":"'Revenue matching'!Z414","v":0},{"$f":"'Revenue matching'!AA414","v":0},{"$f":"'Revenue matching'!AB414","v":0},{"$f":"'Revenue matching'!AC414","v":0},{"$f":"'Revenue matching'!AD414","v":0},{"$f":"'Revenue matching'!AE414","v":0},{"$f":"'Revenue matching'!AF414","v":0},{"$f":"'Revenue matching'!AG414","v":1.8195715730271207},{"$f":"'Revenue matching'!AH414","v":0},{"$f":"'Revenue matching'!AI414","v":0},{"$f":"'Revenue matching'!AJ414","v":0},{"$f":"'Revenue matching'!AK414","v":0},{"$f":"'Revenue matching'!AL414","v":0},{"$f":"'Revenue matching'!AM414","v":0},{"$f":"'Revenue matching'!AN414","v":0},{"$f":"'Revenue matching'!AO414","v":0}]
[null,null,null,null,null,"Fixed charge","p/MPAN/day",null,null,{"$f":"'Revenue matching'!J415","v":14.759236685162065},{"$f":"'Revenue matching'!K415","v":0},{"$f":"'Revenue matching'!L415","v":0},{"$f":"'Revenue matching'!M415","v":19.659916130488092},{"$f":"'Revenue matching'!N415","v":41.290129138664867},{"$f":"'Revenue matching'!O415","v":82.111804555766085},{"$f":"'Revenue matching'!P415","v":235.12019796180391},{"$f":"'Revenue matching'!Q415","v":0},{"$f":"'Revenue matching'!R415","v":0},{"$f":"'Revenue matching'!S415","v":489.91144813114983},{"$f":"'Revenue matching'!T415","v":816.078329649392},{"$f":"'Revenue matching'!U415","v":1375.8716207909329},{"$f":"'Revenue matching'!V415","v":2933.0710000639438},{"$f":"'Revenue matching'!W415","v":0},{"$f":"'Revenue matching'!X415","v":489.91144813114983},{"$f":"'Revenue matching'!Y415","v":816.07832964939223},{"$f":"'Revenue matching'!Z415","v":1375.8716207909331},{"$f":"'Revenue matching'!AA415","v":2933.0710000639438},{"$f":"'Revenue matching'!AB415","v":0},{"$f":"'Revenue matching'!AC415","v":2366.9093984851493},{"$f":"'Revenue matching'!AD415","v":7548.4481208709303},{"$f":"'Revenue matching'!AE415","v":15264.472379319808},{"$f":"'Revenue matching'!AF415","v":40204.651338123425},{"$f":"'Revenue matching'!AG415","v":0},{"$f":"'Revenue matching'!AH415","v":0},{"$f":"'Revenue matching'!AI415","v":0},{"$f":"'Revenue matching'!AJ415","v":0},{"$f":"'Revenue matching'!AK415","v":0},{"$f":"'Revenue matching'!AL415","v":0},{"$f":"'Revenue matching'!AM415","v":0},{"$f":"'Revenue matching'!AN415","v":0},{"$f":"'Revenue matching'!AO415","v":0}]
[null,null,null,null,null,"Capacity charge","p/kVA/day"]
[null,null,null,null,null,"Exceeded capacity charge","p/kVA/day"]
[null,null,null,null,null,"Reactive power charge","p/kVArh"]
[]
[null,null,{"$f":"INDEX('Version control'!$H$29:$H$55,MATCH($A$1,'Version control'!$F$29:$F$55,0),1)&\"-C: Adder to fixed charge for allocated pass-through costs\"","v":"Section 520-C: Adder to fixed charge for allocated pass-through costs"}]
[]
[null,null,null,null,"Adder to fixed charge for allocated pass-through costs"]
[null,null,null,null,"Adder calculated in allocated costs"]
[null,null,null,null,null,"Unit rate 1","p/kWh"]
[null,null,null,null,null,"Unit rate 2","p/kWh"]
[null,null,null,null,null,"Unit rate 3","p/kWh"]
[null,null,null,null,null,"Fixed charge","p/MPAN/day",null,null,{"$f":"'Revenue matching'!J48","v":0},{"$f":"'Revenue matching'!K48","v":0},{"$f":"'Revenue matching'!L48","v":0},{"$f":"'Revenue matching'!M48","v":0},{"$f":"'Revenue matching'!N48","v":0},{"$f":"'Revenue matching'!O48","v":0},{"$f":"'Revenue matching'!P48","v":0},{"$f":"'Revenue matching'!Q48","v":0},{"$f":"'Revenue matching'!R48","v":0},{"$f":"'Revenue matching'!S48","v":0},{"$f":"'Revenue matching'!T48","v":0},{"$f":"'Revenue matching'!U48","v":0},{"$f":"'Revenue matching'!V48","v":0},{"$f":"'Revenue matching'!W48","v":0},{"$f":"'Revenue matching'!X48","v":0},{"$f":"'Revenue matching'!Y48","v":0},{"$f":"'Revenue matching'!Z48","v":0},{"$f":"'Revenue matching'!AA48","v":0},{"$f":"'Revenue matching'!AB48","v":0},{"$f":"'Revenue matching'!AC48","v":0},{"$f":"'Revenue matching'!AD48","v":0},{"$f":"'Revenue matching'!AE48","v":0},{"$f":"'Revenue matching'!AF48","v":0},{"$f":"'Revenue matching'!AG48","v":0},{"$f":"'Revenue matching'!AH48","v":0},{"$f":"'Revenue matching'!AI48","v":0},{"$f":"'Revenue matching'!AJ48","v":0},{"$f":"'Revenue matching'!AK48","v":0},{"$f":"'Revenue matching'!AL48","v":0},{"$f":"'Revenue matching'!AM48","v":0},{"$f":"'Revenue matching'!AN48","v":0},{"$f":"'Revenue matching'!AO48","v":0}]
[null,null,null,null,null,"Capacity charge","p/kVA/day"]
[null,null,null,null,null,"Exceeded capacity charge","p/kVA/day"]
[null,null,null,null,null,"Reactive power charge","p/kVArh"]
[]
[null,null,{"$f":"INDEX('Version control'!$H$29:$H$55,MATCH($A$1,'Version control'!$F$29:$F$55,0),1)&\"-D: LDNO discounts\"","v":"Section 520-D: LDNO discounts"}]
[]
[null,null,null,null,null,"Index of tariff before revenue matching","integer",null,null,{"$f":"'Fixed inputs'!J174","v":1},{"$f":"'Fixed inputs'!K174","v":2},{"$f":"'Fixed inputs'!L174","v":3},{"$f":"'Fixed inputs'!M174","v":3},{"$f":"'Fixed inputs'!N174","v":3},{"$f":"'Fixed inputs'!O174","v":3},{"$f":"'Fixed inputs'!P174","v":3},{"$f":"'Fixed inputs'!Q174","v":4},{"$f":"'Fixed inputs'!R174","v":5},{"$f":"'Fixed inputs'!S174","v":5},{"$f":"'Fixed inputs'!T174","v":5},{"$f":"'Fixed inputs'!U174","v":5},{"$f":"'Fixed inputs'!V174","v":5},{"$f":"'Fixed inputs'!W174","v":6},{"$f":"'Fixed inputs'!X174","v":6},{"$f":"'Fixed inputs'!Y174","v":6},{"$f":"'Fixed inputs'!Z174","v":6},{"$f":"'Fixed inputs'!AA174","v":6},{"$f":"'Fixed inputs'!AB174","v":7},{"$f":"'Fixed inputs'!AC174","v":7},{"$f":"'Fixed inputs'!AD174","v":7},{"$f":"'Fixed inputs'!AE174","v":7},{"$f":"'Fixed inputs'!AF174","v":7},{"$f":"'Fixed inputs'!AG174","v":8},{"$f":"'Fixed inputs'!AH174","v":9},{"$f":"'Fixed inputs'!AI174","v":10},{"$f":"'Fixed inputs'!AJ174","v":11},{"$f":"'Fixed inputs'!AK174","v":12},{"$f":"'Fixed inputs'!AL174","v":13},{"$f":"'Fixed inputs'!AM174","v":14},{"$f":"'Fixed inputs'!AN174","v":15},{"$f":"'Fixed inputs'!AO174","v":16}]
[]
[null,null,null,null,"LDNO discounts (LV)",null,null,null,">","Domestic Aggregated or CT","Domestic Aggregated (Related MPAN)","Non-Domestic Aggregated or CT","Non-Domestic Aggregated (Related MPAN)","LV Site Specific","LV Sub Site Specific","HV Site Specific","Unmetered Supplies","LV Generation Aggregated","LV Sub Generation Aggregated","LV Generation Site Specific","LV Generation Site Specific no RP Charge","LV Sub Generation Site Specific","LV Sub Generation Site Specific no RP Charge","HV Generation Site Specific","HV Generation Site Specific no RP Charge"]
[null,null,null,null,null,"Unit rate 1","%",null,null,{"$f":"'Volume adjustments'!J315","v":0.39602144078246099},{"$f":"'Volume adjustments'!K315","v":0.39602144078246099},{"$f":"'Volume adjustments'!L315","v":0.39602144078246099},{"$f":"'Volume adjustments'!M315","v":0.39602144078246099},{"$f":"'Volume adjustments'!N315","v":0.39602144078246099},{"$f":"'Volume adjustments'!O315","v":0},{"$f":"'Volume adjustments'!P315","v":0},{"$f":"'Volume adjustments'!Q315","v":0.39602144078246099},{"$f":"'Volume adjustments'!R315","v":0},{"$f":"'Volume adjustments'!S315","v":0},{"$f":"'Volume adjustments'!T315","v":0},{"$f":"'Volume adjustments'!U315","v":0},{"$f":"'Volume adjustments'!V315","v":0},{"$f":"'Volume adjustments'!W315","v":0},{"$f":"'Volume adjustments'!X315","v":0},{"$f":"'Volume adjustments'!Y315","v":0}]
[null,null,null,null,null,"Unit rate 2","%",null,null,{"$f":"'Volume adjustments'!J316","v":0.39602144078246099},{"$f":"'Volume adjustments'!K316","v":0.39602144078246099},{"$f":"'Volume adjustments'!L316","v":0.39602144078246099},{"$f":"'Volume adjustments'!M316","v":0.39602144078246099},{"$f":"'Volume adjustments'!N316","v":0.39602144078246099},{"$f":"'Volume adjustments'!O316","v":0},{"$f":"'Volume adjustments'!P316","v":0},{"$f":"'Volume adjustments'!Q316","v":0.39602144078246099},{"$f":"'Volume adjustments'!R316","v":0},{"$f":"'Volume adjustments'!S316","v":0},{"$f":"'Volume adjustments'!T316","v":0},{"$f":"'Volume adjustments'!U316","v":0},{"$f":"'Volume adjustments'!V316","v":0},{"$f":"'Volume adjustments'!W316","v":0},{"$f":"'Volume adjustments'!X316","v":0},{"$f":"'Volume adjustments'!Y316","v":0}]
[null,null,null,null,null,"Unit rate 3","%",null,null,{"$f":"'Volume adjustments'!J317","v":0.39602144078246099},{"$f":"'Volume adjustments'!K317","v":0.39602144078246099},{"$f":"'Volume adjustments'!L317","v":0.39602144078246099},{"$f":"'Volume adjustments'!M317","v":0.39602144078246099},{"$f":"'Volume adjustments'!N317","v":0.39602144078246099},{"$f":"'Volume adjustments'!O317","v":0},{"$f":"'Volume adjustments'!P317","v":0},{"$f":"'Volume adjustments'!Q317","v":0.39602144078246099},{"$f":"'Volume adjustments'!R317","v":0},{"$f":"'Volume adjustments'!S317","v":0},{"$f":"'Volume adjustments'!T317","v":0},{"$f":"'Volume adjustments'!U317","v":0},{"$f":"'Volume adjustments'!V317","v":0},{"$f":"'Volume adjustments'!W317","v":0},{"$f":"'Volume adjustments'!X317","v":0},{"$f":"'Volume adjustments'!Y317","v":0}]
[null,null,null,null,null,"Fixed charge","%",null,null,{"$f":"'Volume adjustments'!J318","v":0.39602144078246099},{"$f":"'Volume adjustments'!K318","v":0.39602144078246099},{"$f":"'Volume adjustments'!L318","v":0.39602144078246099},{"$f":"'Volume adjustments'!M318","v":0.39602144078246099},{"$f":"'Volume adjustments'!N318","v":0.39602144078246099},{"$f":"'Volume adjustments'!O318","v":0},{"$f":"'Volume adjustments'!P318","v":0},{"$f":"'Volume adjustments'!Q318","v":0.39602144078246099},{"$f":"'Volume adjustments'!R318","v":1},{"$f":"'Volume adjustments'!S318","v":1},{"$f":"'Volume adjustments'!T318","v":1},{"$f":"'Volume adjustments'!U318","v":1},{"$f":"'Volume adjustments'!V318","v":1},{"$f":"'Volume adjustments'!W318","v":1},{"$f":"'Volume adjustments'!X318","v":1},{"$f":"'Volume adjustments'!Y318","v":1}]
[null,null,null,null,null,"Capacity charge","%",null,null,{"$f":"'Volume adjustments'!J319","v":0.39602144078246099},{"$f":"'Volume adjustments'!K319","v":0.39602144078246099},{"$f":"'Volume adjustments'!L319","v":0.39602144078246099},{"$f":"'Volume adjustments'!M319","v":0.39602144078246099},{"$f":"'Volume adjustments'!N319","v":0.39602144078246099},{"$f":"'Volume adjustments'!O319","v":0},{"$f":"'Volume adjustments'!P319","v":0},{"$f":"'Volume adjustments'!Q319","v":0.39602144078246099},{"$f":"'Volume adjustments'!R319","v":0},{"$f":"'Volume adjustments'!S319","v":0},{"$f":"'Volume adjustments'!T319","v":0},{"$f":"'Volume adjustments'!U319","v":0},{"$f":"'Volume adjustments'!V319","v":0},{"$f":"'Volume adjustments'!W319","v":0},{"$f":"'Volume adjustments'!X319","v":0},{"$f":"'Volume adjustments'!Y319","v":0}]
[null,null,null,null,null,"Exceeded capacity charge","%",null,null,{"$f":"'Volume adjustments'!J320","v":0.39602144078246099},{"$f":"'Volume adjustments'!K320","v":0.39602144078246099},{"$f":"'Volume adjustments'!L320","v":0.39602144078246099},{"$f":"'Volume adjustments'!M320","v":0.39602144078246099},{"$f":"'Volume adjustments'!N320","v":0.39602144078246099},{"$f":"'Volume adjustments'!O320","v":0},{"$f":"'Volume adjustments'!P320","v":0},{"$f":"'Volume adjustments'!Q320","v":0.39602144078246099},{"$f":"'Volume adjustments'!R320","v":0},{"$f":"'Volume adjustments'!S320","v":0},{"$f":"'Volume adjustments'!T320","v":0},{"$f":"'Volume adjustments'!U320","v":0},{"$f":"'Volume adjustments'!V320","v":0},{"$f":"'Volume adjustments'!W320","v":0},{"$f":"'Volume adjustments'!X320","v":0},{"$f":"'Volume adjustments'!Y320","v":0}]
[null,null,null,null,null,"Reactive power charge","%",null,null,{"$f":"'Volume adjustments'!J321","v":0.39602144078246099},{"$f":"'Volume adjustments'!K321","v":0.39602144078246099},{"$f":"'Volume adjustments'!L321","v":0.39602144078246099},{"$f":"'Volume adjustments'!M321","v":0.39602144078246099},{"$f":"'Volume adjustments'!N321","v":0.39602144078246099},{"$f":"'Volume adjustments'!O321","v":0},{"$f":"'Volume adjustments'!P321","v":0},{"$f":"'Volume adjustments'!Q321","v":0.39602144078246099},{"$f":"'Volume adjustments'!R321","v":0},{"$f":"'Volume adjustments'!S321","v":0},{"$f":"'Volume adjustments'!T321","v":0},{"$f":"'Volume adjustments'!U321","v":0},{"$f":"'Volume adjustments'!V321","v":0},{"$f":"'Volume adjustments'!W321","v":0},{"$f":"'Volume adjustments'!X321","v":0},{"$f":"'Volume adjustments'!Y321","v":0}]
[]
[null,null,null,null,"LDNO discounts (HV)",null,null,null,">","Domestic Aggregated or CT","Domestic Aggregated (Related MPAN)","Non-Domestic Aggregated or CT","Non-Domestic Aggregated (Related MPAN)","LV Site Specific","LV Sub Site Specific","HV Site Specific","Unmetered Supplies","LV Generation Aggregated","LV Sub Generation Aggregated","LV Generation Site Specific","LV Generation Site Specific no RP Charge","LV Sub Generation Site Specific","LV Sub Generation Site Specific no RP Charge","HV Generation Site Specific","HV Generation Site Specific no RP Charge"]
[null,null,null,null,null,"Unit rate 1","%",null,null,{"$f":"'Volume adjustments'!J324","v":0.60683298358343041},{"$f":"'Volume adjustments'!K324","v":0.60683298358343041},{"$f":"'Volume adjustments'!L324","v":0.60683298358343041},{"$f":"'Volume adjustments'!M324","v":0.60683298358343041},{"$f":"'Volume adjustments'!N324","v":0.60683298358343041},{"$f":"'Volume adjustments'!O324","v":0.34783515419041816},{"$f":"'Volume adjustments'!P324","v":0.24889531348591729},{"$f":"'Volume adjustments'!Q324","v":0.60683298358343041},{"$f":"'Volume adjustments'!R324","v":0},{"$f":"'Volume adjustments'!S324","v":0},{"$f":"'Volume adjustments'!T324","v":0},{"$f":"'Volume adjustments'!U324","v":0},{"$f":"'Volume adjustments'!V324","v":0},{"$f":"'Volume adjustments'!W324","v":0},{"$f":"'Volume adjustments'!X324","v":0},{"$f":"'Volume adjustments'!Y324","v":0}]
[null,null,null,null,null,"Unit rate 2","%",null,null,{"$f":"'Volume adjustments'!J325","v":0.60683298358343041},{"$f":"'Volume adjustments'!K325","v":0.60683298358343041},{"$f":"'Volume adjustments'!L325","v":0.60683298358343041},{"$f":"'Volume adjustments'!M325","v":0.60683298358343041},{"$f":"'Volume adjustments'!N325","v":0.60683298358343041},{"$f":"'Volume adjustments'!O325","v":0.34783515419041816},{"$f":"'Volume adjustments'!P325","v":0.24889531348591729},{"$f":"'Volume adjustments'!Q325","v":0.60683298358343041},{"$f":"'Volume adjustments'!R325","v":0},{"$f":"'Volume adjustments'!S325","v":0},{"$f":"'Volume adjustments'!T325","v":0},{"$f":"'Volume adjustments'!U325","v":0},{"$f":"'Volume adjustments'!V325","v":0},{"$f":"'Volume adjustments'!W325","v":0},{"$f":"'Volume adjustments'!X325","v":0},{"$f":"'Volume adjustments'!Y325","v":0}]
[null,null,null,null,null,"Unit rate 3","%",null,null,{"$f":"'Volume adjustments'!J326","v":0.60683298358343041},{"$f":"'Volume adjustments'!K326","v":0.60683298358343041},{"$f":"'Volume adjustments'!L326","v":0.60683298358343041},{"$f":"'Volume adjustments'!M326","v":0.60683298358343041},{"$f":"'Volume adjustments'!N326","v":0.60683298358343041},{"$f":"'Volume adjustments'!O326","v":0.34783515419041816},{"$f":"'Volume adjustments'!P326","v":0.24889531348591729},{"$f":"'Volume adjustments'!Q326","v":0.60683298358343041},{"$f":"'Volume adjustments'!R326","v":0},{"$f":"'Volume adjustments'!S326","v":0},{"$f":"'Volume adjustments'!T326","v":0},{"$f":"'Volume adjustments'!U326","v":0},{"$f":"'Volume adjustments'!V326","v":0},{"$f":"'Volume adjustments'!W326","v":0},{"$f":"'Volume adjustments'!X326","v":0},{"$f":"'Volume adjustments'!Y326","v":0}]
[null,null,null,null,null,"Fixed charge","%",null,null,{"$f":"'Volume adjustments'!J327","v":0.60683298358343041},{"$f":"'Volume adjustments'!K327","v":0.60683298358343041},{"$f":"'Volume adjustments'!L327","v":0.60683298358343041},{"$f":"'Volume adjustments'!M327","v":0.60683298358343041},{"$f":"'Volume adjustments'!N327","v":0.60683298358343041},{"$f":"'Volume adjustments'!O327","v":0.34783515419041816},{"$f":"'Volume adjustments'!P327","v":0.24889531348591729},{"$f":"'Volume adjustments'!Q327","v":0.60683298358343041},{"$f":"'Volume adjustments'!R327","v":1},{"$f":"'Volume adjustments'!S327","v":1},{"$f":"'Volume adjustments'!T327","v":1},{"$f":"'Volume adjustments'!U327","v":1},{"$f":"'Volume adjustments'!V327","v":1},{"$f":"'Volume adjustments'!W327","v":1},{"$f":"'Volume adjustments'!X327","v":1},{"$f":"'Volume adjustments'!Y327","v":1}]
[null,null,null,null,null,"Capacity charge","%",null,null,{"$f":"'Volume adjustments'!J328","v":0.60683298358343041},{"$f":"'Volume adjustments'!K328","v":0.60683298358343041},{"$f":"'Volume adjustments'!L328","v":0.60683298358343041},{"$f":"'Volume adjustments'!M328","v":0.60683298358343041},{"$f":"'Volume adjustments'!N328","v":0.60683298358343041},{"$f":"'Volume adjustments'!O328","v":0.34783515419041816},{"$f":"'Volume adjustments'!P328","v":0.24889531348591729},{"$f":"'Volume adjustments'!Q328","v":0.60683298358343041},{"$f":"'Volume adjustments'!R328","v":0},{"$f":"'Volume adjustments'!S328","v":0},{"$f":"'Volume adjustments'!T328","v":0},{"$f":"'Volume adjustments'!U328","v":0},{"$f":"'Volume adjustments'!V328","v":0},{"$f":"'Volume adjustments'!W328","v":0},{"$f":"'Volume adjustments'!X328","v":0},{"$f":"'Volume adjustments'!Y328","v":0}]
[null,null,null,null,null,"Exceeded capacity charge","%",null,null,{"$f":"'Volume adjustments'!J329","v":0.60683298358343041},{"$f":"'Volume adjustments'!K329","v":0.60683298358343041},{"$f":"'Volume adjustments'!L329","v":0.60683298358343041},{"$f":"'Volume adjustments'!M329","v":0.60683298358343041},{"$f":"'Volume adjustments'!N329","v":0.60683298358343041},{"$f":"'Volume adjustments'!O329","v":0.34783515419041816},{"$f":"'Volume adjustments'!P329","v":0.24889531348591729},{"$f":"'Volume adjustments'!Q329","v":0.60683298358343041},{"$f":"'Volume adjustments'!R329","v":0},{"$f":"'Volume adjustments'!S329","v":0},{"$f":"'Volume adjustments'!T329","v":0},{"$f":"'Volume adjustments'!U329","v":0},{"$f":"'Volume adjustments'!V329","v":0},{"$f":"'Volume adjustments'!W329","v":0},{"$f":"'Volume adjustments'!X329","v":0},{"$f":"'Volume adjustments'!Y329","v":0}]
[null,null,null,null,null,"Reactive power charge","%",null,null,{"$f":"'Volume adjustments'!J330","v":0.60683298358343041},{"$f":"'Volume adjustments'!K330","v":0.60683298358343041},{"$f":"'Volume adjustments'!L330","v":0.60683298358343041},{"$f":"'Volume adjustments'!M330","v":0.60683298358343041},{"$f":"'Volume adjustments'!N330","v":0.60683298358343041},{"$f":"'Volume adjustments'!O330","v":0.34783515419041816},{"$f":"'Volume adjustments'!P330","v":0.24889531348591729},{"$f":"'Volume adjustments'!Q330","v":0.60683298358343041},{"$f":"'Volume adjustments'!R330","v":0},{"$f":"'Volume adjustments'!S330","v":0},{"$f":"'Volume adjustments'!T330","v":0},{"$f":"'Volume adjustments'!U330","v":0},{"$f":"'Volume adjustments'!V330","v":0},{"$f":"'Volume adjustments'!W330","v":0},{"$f":"'Volume adjustments'!X330","v":0},{"$f":"'Volume adjustments'!Y330","v":0}]
[]
[null,null,null,null,"LDNO discounts (LV)",null,null,null,">",null,null,null,null,null,null,null,null,null,null,null,null,null,null,null,null,null,null,null,null,null,null,null,null,null,null,null,null,null,null,null,null,null,"Paragraphs 98 & 99"]
[null,null,null,null,null,"Unit rate 1","%",null,null,{"$f":"INDEX($J57:$Y57,J$54)","v":0.39602144078246099},{"$f":"INDEX($J57:$Y57,K$54)","v":0.39602144078246099},0.39602144078246099,0.39602144078246099,0.39602144078246099,0.39602144078246099,0.39602144078246099,0.39602144078246099,0.39602144078246099,0.39602144078246099,0.39602144078246099,0.39602144078246099,0.39602144078246099,0,0,0,0,0,0,0,0,0,0,0.39602144078246099,0,0,0,0,0,0,0,0]
[null,null,null,null,null,"Unit rate 2","%",null,null,{"$f":"INDEX($J58:$Y58,J$54)","v":0.39602144078246099},0.39602144078246099,0.39602144078246099,0.39602144078246099,0.39602144078246099,0.39602144078246099,0.39602144078246099,0.39602144078246099,0.39602144078246099,0.39602144078246099,0.39602144078246099,0.39602144078246099,0.39602144078246099,0,0,0,0,0,0,0,0,0,0,0.39602144078246099,0,0,0,0,0,0,0,0]
[null,null,null,null,null,"Unit rate 3","%",null,null,0.39602144078246099,0.39602144078246099,0.39602144078246099,0.39602144078246099,0.39602144078246099,0.39602144078246099,0.39602144078246099,0.39602144078246099,0.39602144078246099,0.39602144078246099,0.39602144078246099,0.39602144078246099,0.39602144078246099,0,0,0,0,0,0,0,0,0,0,0.39602144078246099,0,0,0,0,0,0,0,0]
[null,null,null,null,null,"Fixed charge","%",null,null,0.39602144078246099,0.39602144078246099,0.39602144078246099,0.39602144078246099,0.39602144078246099,0.39602144078246099,0.39602144078246099,0.39602144078246099,0.39602144078246099,0.39602144078246099,0.39602144078246099,0.39602144078246099,0.39602144078246099,0,0,0,0,0,0,0,0,0,0,0.39602144078246099,1,1,1,1,1,1,1,1]
[null,null,null,null,null,"Capacity charge","%",null,null,0.39602144078246099,0.39602144078246099,0.39602144078246099,0.39602144078246099,0.39602144078246099,0.39602144078246099,0.39602144078246099,0.39602144078246099,0.39602144078246099,0.39602144078246099,0.39602144078246099,0.39602144078246099,0.39602144078246099,0,0,0,0,0,0,0,0,0,0,0.39602144078246099,0,0,0,0,0,0,0,0]
[null,null,null,null,null,"Exceeded capacity charge","%",null,null,0.39602144078246099,0.39602144078246099,0.39602144078246099,0.39602144078246099,0.39602144078246099,0.39602144078246099,0.39602144078246099,0.39602144078246099,0.39602144078246099,0.39602144078246099,0.39602144078246099,0.39602144078246099,0.39602144078246099,0,0,0,0,0,0,0,0,0,0,0.39602144078246099,0,0,0,0,0,0,0,0]
[null,null,null,null,null,"Reactive power charge","%",null,null,0.39602144078246099,0.39602144078246099,0.39602144078246099,0.39602144078246099,0.39602144078246099,0.39602144078246099,0.39602144078246099,0.39602144078246099,0.39602144078246099,0.39602144078246099,0.39602144078246099,0.39602144078246099,0.39602144078246099,0,0,0,0,0,0,0,0,0,0,0.39602144078246099,0,0,0,0,0,0,0,0]
[]
[null,null,null,null,"LDNO discounts (HV)",null,null,null,">",null,null,null,null,null,null,null,null,null,null,null,null,null,null,null,null,null,null,null,null,null,null,null,null,null,null,null,null,null,null,null,null,null,"Paragraphs 98 & 99"]
[null,null,null,null,null,"Unit rate 1","%",null,null,{"$f":"INDEX($J66:$Y66,J$54)","v":0.60683298358343041},{"$f":"INDEX($J66:$Y66,K$54)","v":0.60683298358343041},0.60683298358343041,0.60683298358343041,0.60683298358343041,0.60683298358343041,0.60683298358343041,0.60683298358343041,0.60683298358343041,0.60683298358343041,0.60683298358343041,0.60683298358343041,0.60683298358343041,0.34783515419041816,0.34783515419041816,0.34783515419041816,0.34783515419041816,0.34783515419041816,0.24889531348591729,0.24889531348591729,0.24889531348591729,0.24889531348591729,0.24889531348591729,0.60683298358343041,0,0,0,0,0,0,0,0]
[null,null,null,null,null,"Unit rate 2","%",null,null,{"$f":"INDEX($J67:$Y67,J$54)","v":0.60683298358343041},0.60683298358343041,0.60683298358343041,0.60683298358343041,0.60683298358343041,0.60683298358343041,0.60683298358343041,0.60683298358343041,0.60683298358343041,0.60683298358343041,0.60683298358343041,0.60683298358343041,0.60683298358343041,0.34783515419041816,0.34783515419041816,0.34783515419041816,0.34783515419041816,0.34783515419041816,0.24889531348591729,0.24889531348591729,0.24889531348591729,0.24889531348591729,0.24889531348591729,0.60683298358343041,0,0,0,0,0,0,0,0]
[null,null,null,null,null,"Unit rate 3","%",null,null,0.60683298358343041,0.60683298358343041,0.60683298358343041,0.60683298358343041,0.60683298358343041,0.60683298358343041,0.60683298358343041,0.60683298358343041,0.60683298358343041,0.60683298358343041,0.60683298358343041,0.60683298358343041,0.60683298358343041,0.34783515419041816,0.34783515419041816,0.34783515419041816,0.34783515419041816,0.34783515419041816,0.24889531348591729,0.24889531348591729,0.24889531348591729,0.24889531348591729,0.24889531348591729,0.60683298358343041,0,0,0,0,0,0,0,0]
[null,null,null,null,null,"Fixed charge","%",null,null,0.60683298358343041,0.60683298358343041,0.60683298358343041,0.60683298358343041,0.60683298358343041,0.60683298358343041,0.60683298358343041,0.60683298358343041,0.60683298358343041,0.60683298358343041,0.60683298358343041,0.60683298358343041,0.60683298358343041,0.34783515419041816,0.34783515419041816,0.34783515419041816,0.34783515419041816,0.34783515419041816,0.24889531348591729,0.24889531348591729,0.24889531348591729,0.24889531348591729,0.24889531348591729,0.60683298358343041,1,1,1,1,1,1,1,1]
[null,null,null,null,null,"Capacity charge","%",null,null,0.60683298358343041,0.60683298358343041,0.60683298358343041,0.60683298358343041,0.60683298358343041,0.60683298358343041,0.60683298358343041,0.60683298358343041,0.60683298358343041,0.60683298358343041,0.60683298358343041,0.60683298358343041,0.60683298358343041,0.34783515419041816,0.34783515419041816,0.34783515419041816,0.34783515419041816,0.34783515419041816,0.24889531348591729,0.24889531348591729,0.24889531348591729,0.24889531348591729,0.24889531348591729,0.60683298358343041,0,0,0,0,0,0,0,0]
[null,null,null,null,null,"Exceeded capacity charge","%",null,null,0.60683298358343041,0.60683298358343041,0.60683298358343041,0.60683298358343041,0.60683298358343041,0.60683298358343041,0.60683298358343041,0.60683298358343041,0.60683298358343041,0.60683298358343041,0.60683298358343041,0.60683298358343041,0.60683298358343041,0.34783515419041816,0.34783515419041816,0.34783515419041816,0.34783515419041816,0.34783515419041816,0.24889531348591729,0.24889531348591729,0.24889531348591729,0.24889531348591729,0.24889531348591729,0.60683298358343041,0,0,0,0,0,0,0,0]
[null,null,null,null,null,"Reactive power charge","%",null,null,0.60683298358343041,0.60683298358343041,0.60683298358343041,0.60683298358343041,0.60683298358343041,0.60683298358343041,0.60683298358343041,0.60683298358343041,0.60683298358343041,0.60683298358343041,0.60683298358343041,0.60683298358343041,0.60683298358343041,0.34783515419041816,0.34783515419041816,0.34783515419041816,0.34783515419041816,0.34783515419041816,0.24889531348591729,0.24889531348591729,0.24889531348591729,0.24889531348591729,0.24889531348591729,0.60683298358343041,0,0,0,0,0,0,0,0]
[]
[null,null,{"$f":"INDEX('Version control'!$H$29:$H$55,MATCH($A$1,'Version control'!$F$29:$F$55,0),1)&\"-E: Decimal places for rounding\"","v":"Section 520-E: Decimal places for rounding"}]
[]
[null,null,null,null,"Decimal places for rounding",null,null,null,">",null,null,null,null,null,null,null,null,null,null,null,null,null,null,null,null,null,null,null,null,null,null,null,null,null,null,null,null,null,null,null,null,null,"Paragraph 14"]
[null,null,null,null,null,"Unit rate 1","integer",{"$f":"'Fixed inputs'!H30","v":3}]
[null,null,null,null,null,"Unit rate 2","integer",{"$f":"'Fixed inputs'!H31","v":3}]
[null,null,null,null,null,"Unit rate 3","integer",{"$f":"'Fixed inputs'!H32","v":3}]
[null,null,null,null,null,"Fixed charge","integer",{"$f":"'Fixed inputs'!H33","v":2}]
[null,null,null,null,null,"Capacity charge","integer",{"$f":"'Fixed inputs'!H34","v":2}]
[null,null,null,null,null,"Exceeded capacity charge","integer",{"$f":"'Fixed inputs'!H35","v":2}]
[null,null,null,null,null,"Reactive power charge","integer",{"$f":"'Fixed inputs'!H36","v":3}]
[]
[null,"Rounding of tariff forecast"]
[]
[null,null,"Calculates rounded tariff forecast"]
[]
[null,null,{"$f":"INDEX('Version control'!$H$29:$H$55,MATCH($A$1,'Version control'!$F$29:$F$55,0),1)&\"-F: Tariff forecast, post-revenue matching\"","v":"Section 520-F: Tariff forecast, post-revenue matching"}]
[]
[null,null,null,null,"All the way tariff forecast, pre-rounding"]
[null,null,null,null,null,"Unit rate 1","p/kWh",null,null,{"$f":" J20 + J32","v":12.717520165338014},{"$f":" K20 + K32","v":12.717520165338014},14.079989484681821,14.079989484681821,14.079989484681821,14.079989484681821,14.079989484681821,14.079989484681821,10.303780578114448,10.303780578114448,10.303780578114448,10.303780578114448,10.303780578114448,5.6739248738730312,5.6739248738730312,5.6739248738730312,5.6739248738730312,5.6739248738730312,4.0807673462540635,4.0807673462540635,4.0807673462540635,4.0807673462540635,4.0807673462540635,36.246636605624943,-9.1108081999836212,-7.7444236969645761,-9.1108081999836212,-9.1108081999836212,-7.7444236969645761,-7.7444236969645761,-4.9382331007984606,-4.9382331007984606]
[null,null,null,null,null,"Unit rate 2","p/kWh",null,null,{"$f":" J21 + J33","v":1.3539208372436566},1.3539208372436566,1.4989707823259124,1.4989707823259124,1.4989707823259124,1.4989707823259124,1.4989707823259124,1.4989707823259124,1.0189174898885729,1.0189174898885729,1.0189174898885729,1.0189174898885729,1.0189174898885729,0.43361413140194049,0.43361413140194049,0.43361413140194049,0.43361413140194049,0.43361413140194049,0.26830429745230278,0.26830429745230278,0.26830429745230278,0.26830429745230278,0.26830429745230278,3.487472300161798,-0.96994641295780804,-0.79410460343678191,-0.96994641295780804,-0.96994641295780804,-0.79410460343678191,-0.79410460343678191,-0.37739090739870668,-0.37739090739870668]
[null,null,null,null,null,"Unit rate 3","p/kWh",null,null,3.1795256169465769E-2,3.1795256169465769E-2,3.5201585427715669E-2,3.5201585427715669E-2,3.5201585427715669E-2,3.5201585427715669E-2,3.5201585427715669E-2,3.5201585427715669E-2,2.5064322154661763E-2,2.5064322154661763E-2,2.5064322154661763E-2,2.5064322154661763E-2,2.5064322154661763E-2,1.2664619419301717E-2,1.2664619419301717E-2,1.2664619419301717E-2,1.2664619419301717E-2,1.2664619419301717E-2,8.7199076106789144E-3,8.7199076106789144E-3,8.7199076106789144E-3,8.7199076106789144E-3,8.7199076106789144E-3,2.3433646399323296,-2.277806340098296E-2,-1.9090904887166527E-2,-2.277806340098296E-2,-2.277806340098296E-2,-1.9090904887166527E-2,-1.9090904887166527E-2,-1.1022501040398902E-2,-1.1022501040398902E-2]
[null,null,null,null,null,"Fixed charge","p/MPAN/day",null,null,21.255951519308219,0,7.9656422573798116,27.625558387867905,49.255771396044679,90.077446813145897,243.08584021918372,0,26.677201581809278,516.58864971295907,842.7555312312013,1402.5488223727421,2959.7482016457529,9.4154829112268068,499.32693104237666,825.49381256061906,1385.2871037021598,2942.4864829751705,142.55607782743925,2509.4654763125886,7691.0041986983697,15407.028457147248,40347.207415950863,0,0,0,0,0,0,0,104.09713071019446,104.09713071019446]
[null,null,null,null,null,"Capacity charge","p/kVA/day",null,null,0,0,0,0,0,0,0,0,5.2263068891671809,5.2263068891671809,5.2263068891671809,5.2263068891671809,5.2263068891671809,7.3547049278155461,7.3547049278155461,7.3547049278155461,7.3547049278155461,7.3547049278155461,8.7475343670699921,8.7475343670699921,8.7475343670699921,8.7475343670699921,8.7475343670699921,0,0,0,0,0,0,0,0,0]
[null,null,null,null,null,"Exceeded capacity charge","p/kVA/day",null,null,0,0,0,0,0,0,0,0,5.2263068891671809,5.2263068891671809,5.2263068891671809,5.2263068891671809,5.2263068891671809,7.3547049278155461,7.3547049278155461,7.3547049278155461,7.3547049278155461,7.3547049278155461,8.7475343670699921,8.7475343670699921,8.7475343670699921,8.7475343670699921,8.7475343670699921,0,0,0,0,0,0,0,0,0]
[null,null,null,null,null,"Reactive power charge","p/kVArh",null,null,0,0,0,0,0,0,0,0,0.20442388622842836,0.20442388622842836,0.20442388622842836,0.20442388622842836,0.20442388622842836,9.2843771083098561E-2,9.2843771083098561E-2,9.2843771083098561E-2,9.2843771083098561E-2,9.2843771083098561E-2,5.844330757595291E-2,5.844330757595291E-2,5.844330757595291E-2,5.844330757595291E-2,5.844330757595291E-2,0,0,0,0.20303231774315611,0,0.15962076079782889,0,0.14015669427901961,0]
[]
[null,null,{"$f":"INDEX('Version control'!$H$29:$H$55,MATCH($A$1,'Version control'!$F$29:$F$55,0),1)&\"-G: Tariff forecast, post-adders & discounting\"","v":"Section 520-G: Tariff forecast, post-adders & discounting"}]
[]
[null,null,null,null,"All the way tariff forecast, post-adders & discounting",null,null,null,">",null,null,null,null,null,null,null,null,null,null,null,null,null,null,null,null,null,null,null,null,null,null,null,null,null,null,null,null,null,null,null,null,null,"Paragraphs 98 to 100"]
[null,null,null,null,null,"Unit rate 1","p/kWh",null,null,{"$f":" J110 + J44","v":12.717520165338014},{"$f":" K110 + K44","v":12.717520165338014},14.079989484681821,14.079989484681821,14.079989484681821,14.079989484681821,14.079989484681821,14.079989484681821,10.303780578114448,10.303780578114448,10.303780578114448,10.303780578114448,10.303780578114448,5.6739248738730312,5.6739248738730312,5.6739248738730312,5.6739248738730312,5.6739248738730312,4.0807673462540635,4.0807673462540635,4.0807673462540635,4.0807673462540635,4.0807673462540635,36.246636605624943,-9.1108081999836212,-7.7444236969645761,-9.1108081999836212,-9.1108081999836212,-7.7444236969645761,-7.7444236969645761,-4.9382331007984606,-4.9382331007984606]
[null,null,null,null,null,"Unit rate 2","p/kWh",null,null,{"$f":" J111 + J45","v":1.3539208372436566},1.3539208372436566,1.4989707823259124,1.4989707823259124,1.4989707823259124,1.4989707823259124,1.4989707823259124,1.4989707823259124,1.0189174898885729,1.0189174898885729,1.0189174898885729,1.0189174898885729,1.0189174898885729,0.43361413140194049,0.43361413140194049,0.43361413140194049,0.43361413140194049,0.43361413140194049,0.26830429745230278,0.26830429745230278,0.26830429745230278,0.26830429745230278,0.26830429745230278,3.487472300161798,-0.96994641295780804,-0.79410460343678191,-0.96994641295780804,-0.96994641295780804,-0.79410460343678191,-0.79410460343678191,-0.37739090739870668,-0.37739090739870668]
[null,null,null,null,null,"Unit rate 3","p/kWh",null,null,3.1795256169465769E-2,3.1795256169465769E-2,3.5201585427715669E-2,3.5201585427715669E-2,3.5201585427715669E-2,3.5201585427715669E-2,3.5201585427715669E-2,3.5201585427715669E-2,2.5064322154661763E-2,2.5064322154661763E-2,2.5064322154661763E-2,2.5064322154661763E-2,2.5064322154661763E-2,1.2664619419301717E-2,1.2664619419301717E-2,1.2664619419301717E-2,1.2664619419301717E-2,1.2664619419301717E-2,8.7199076106789144E-3,8.7199076106789144E-3,8.7199076106789144E-3,8.7199076106789144E-3,8.7199076106789144E-3,2.3433646399323296,-2.277806340098296E-2,-1.9090904887166527E-2,-2.277806340098296E-2,-2.277806340098296E-2,-1.9090904887166527E-2,-1.9090904887166527E-2,-1.1022501040398902E-2,-1.1022501040398902E-2]
[null,null,null,null,null,"Fixed charge","p/MPAN/day",null,null,21.255951519308219,0,7.9656422573798116,27.625558387867905,49.255771396044679,90.077446813145897,243.08584021918372,0,26.677201581809278,516.58864971295907,842.7555312312013,1402.5488223727421,2959.7482016457529,9.4154829112268068,499.32693104237666,825.49381256061906,1385.2871037021598,2942.4864829751705,142.55607782743925,2509.4654763125886,7691.0041986983697,15407.028457147248,40347.207415950863,0,0,0,0,0,0,0,104.09713071019446,104.09713071019446]
[null,null,null,null,null,"Capacity charge","p/kVA/day",null,null,0,0,0,0,0,0,0,0,5.2263068891671809,5.2263068891671809,5.2263068891671809,5.2263068891671809,5.2263068891671809,7.3547049278155461,7.3547049278155461,7.3547049278155461,7.3547049278155461,7.3547049278155461,8.7475343670699921,8.7475343670699921,8.7475343670699921,8.7475343670699921,8.7475343670699921,0,0,0,0,0,0,0,0,0]
[null,null,null,null,null,"Exceeded capacity charge","p/kVA/day",null,null,0,0,0,0,0,0,0,0,5.2263068891671809,5.2263068891671809,5.2263068891671809,5.2263068891671809,5.2263068891671809,7.3547049278155461,7.3547049278155461,7.3547049278155461,7.3547049278155461,7.3547049278155461,8.7475343670699921,8.7475343670699921,8.7475343670699921,8.7475343670699921,8.7475343670699921,0,0,0,0,0,0,0,0,0]
[null,null,null,null,null,"Reactive power charge","p/kVArh",null,null,0,0,0,0,0,0,0,0,0.20442388622842836,0.20442388622842836,0.20442388622842836,0.20442388622842836,0.20442388622842836,9.2843771083098561E-2,9.2843771083098561E-2,9.2843771083098561E-2,9.2843771083098561E-2,9.2843771083098561E-2,5.844330757595291E-2,5.844330757595291E-2,5.844330757595291E-2,5.844330757595291E-2,5.844330757595291E-2,0,0,0,0.20303231774315611,0,0.15962076079782889,0,0.14015669427901961,0]
[]
[null,null,null,null,"LDNO LV tariff forecast, post-adders & discounting",null,null,null,">",null,null,null,null,null,null,null,null,null,null,null,null,null,null,null,null,null,null,null,null,null,null,null,null,null,null,null,null,null,null,null,null,null,"Paragraphs 98 to 100"]
[null,null,null,null,null,"Unit rate 1","p/kWh",null,null,{"$f":" J110 * (1 - J75) + J44","v":7.681109506280853},7.681109506280853,8.5040117627562264,8.5040117627562264,8.5040117627562264,8.5040117627562264,8.5040117627562264,8.5040117627562264,6.223262548063226,6.223262548063226,6.223262548063226,6.223262548063226,6.223262548063226,null,null,null,null,null,null,null,null,null,null,21.892191353547062,-9.1108081999836212,null,-9.1108081999836212]
[null,null,null,null,null,"Unit rate 2","p/kWh",null,null,0.81773915657302798,0.81773915657302798,0.90534621341839194,0.90534621341839194,0.90534621341839194,0.90534621341839194,0.90534621341839194,0.90534621341839194,0.61540431750445168,0.61540431750445168,0.61540431750445168,0.61540431750445168,0.61540431750445168,null,null,null,null,null,null,null,null,null,null,2.1063584951627998,-0.96994641295780804,null,-0.96994641295780804]
[null,null,null,null,null,"Unit rate 3","p/kWh",null,null,1.9203653011186504E-2,1.9203653011186504E-2,2.126100284880483E-2,2.126100284880483E-2,2.126100284880483E-2,2.126100284880483E-2,2.126100284880483E-2,2.126100284880483E-2,1.5138313182736856E-2,1.5138313182736856E-2,1.5138313182736856E-2,1.5138313182736856E-2,1.5138313182736856E-2,null,null,null,null,null,null,null,null,null,null,1.4153419989476557,-2.277806340098296E-2,null,-2.277806340098296E-2]
[null,null,null,null,null,"Fixed charge","p/MPAN/day",null,null,12.838138973429638,0,4.8110771338546039,16.68524495268446,29.749429840931537,54.404846544198364,146.81863554176749,0,16.11245777533702,312.00846836176697,509.00627152563271,847.10941696894486,1787.6244544767042,null,null,null,null,null,null,null,null,null,null,0,0,null,0]
[null,null,null,null,null,"Capacity charge","p/kVA/day",null,null,0,0,0,0,0,0,0,0,3.1565773049478927,3.1565773049478927,3.1565773049478927,3.1565773049478927,3.1565773049478927,null,null,null,null,null,null,null,null,null,null,0,0,null,0]
[null,null,null,null,null,"Exceeded capacity charge","p/kVA/day",null,null,0,0,0,0,0,0,0,0,3.1565773049478927,3.1565773049478927,3.1565773049478927,3.1565773049478927,3.1565773049478927,null,null,null,null,null,null,null,null,null,null,0,0,null,0]
[null,null,null,null,null,"Reactive power charge","p/kVArh",null,null,0,0,0,0,0,0,0,0,0.12346764427389628,0.12346764427389628,0.12346764427389628,0.12346764427389628,0.12346764427389628,null,null,null,null,null,null,null,null,null,null,0,0,null,0.20303231774315611]
[]
[null,null,null,null,"LDNO HV tariff forecast, post-adders & discounting",null,null,null,">",null,null,null,null,null,null,null,null,null,null,null,null,null,null,null,null,null,null,null,null,null,null,null,null,null,null,null,null,null,null,null,null,null,"Paragraphs 98 to 100"]
[null,null,null,null,null,"Unit rate 1","p/kWh",null,null,{"$f":"J110 * (1 - J84) + J44","v":5.0001094596235056},5.0001094596235056,5.5357874568690244,5.5357874568690244,5.5357874568690244,5.5357874568690244,5.5357874568690244,5.5357874568690244,4.0511066677082539,4.0511066677082539,4.0511066677082539,4.0511066677082539,4.0511066677082539,3.7003343405045568,3.7003343405045568,3.7003343405045568,3.7003343405045568,3.7003343405045568,3.0650834783450636,3.0650834783450636,3.0650834783450636,3.0650834783450636,3.0650834783450636,14.250981969369175,-9.1108081999836212,-7.7444236969645761,-9.1108081999836212,null,-7.7444236969645761,null,-4.9382331007984606]
[null,null,null,null,null,"Unit rate 2","p/kWh",null,null,0.53231701604331239,0.53231701604331239,0.58934587018269013,0.58934587018269013,0.58934587018269013,0.58934587018269013,0.58934587018269013,0.58934587018269013,0.40060474947415042,0.40060474947415042,0.40060474947415042,0.40060474947415042,0.40060474947415042,0.2827878931466023,0.2827878931466023,0.2827878931466023,0.2827878931466023,0.2827878931466023,0.20152461522829307,0.20152461522829307,0.20152461522829307,0.20152461522829307,0.20152461522829307,1.3711590790900454,-0.96994641295780804,-0.79410460343678191,-0.96994641295780804,null,-0.79410460343678191,null,-0.37739090739870668]
[null,null,null,null,null,"Unit rate 3","p/kWh",null,null,1.2500846004349383E-2,1.2500846004349383E-2,1.3840102315747964E-2,1.3840102315747964E-2,1.3840102315747964E-2,1.3840102315747964E-2,1.3840102315747964E-2,1.3840102315747964E-2,9.854464760052091E-3,9.854464760052091E-3,9.854464760052091E-3,9.854464760052091E-3,9.854464760052091E-3,8.2594195708259408E-3,8.2594195708259408E-3,8.2594195708259408E-3,8.2594195708259408E-3,8.2594195708259408E-3,6.5495634723507501E-3,6.5495634723507501E-3,6.5495634723507501E-3,6.5495634723507501E-3,6.5495634723507501E-3,0.92133368385828296,-2.277806340098296E-2,-1.9090904887166527E-2,-2.277806340098296E-2,null,-1.9090904887166527E-2,null,-1.1022501040398902E-2]
[null,null,null,null,null,"Fixed charge","p/MPAN/day",null,null,8.3571390399416625,0,3.1318278001757687,10.861458368199763,19.365744681079498,35.415481009946809,95.573334532091422,0,10.488595752263345,203.1056181223085,331.34367778273253,551.43593587086423,1163.675369785368,6.1404469610229837,325.64347099182328,538.35804498536004,903.43555038792135,1918.9862434662809,107.07453814725594,1884.87127990368,5776.7492976418325,11572.291279419134,30304.976577876445,0,0,0,0,null,0,null,0]
[null,null,null,null,null,"Capacity charge","p/kVA/day",null,null,0,0,0,0,0,0,0,0,2.0548114864912237,2.0548114864912237,2.0548114864912237,2.0548114864912237,2.0548114864912237,4.7964800052237981,4.7964800052237981,4.7964800052237981,4.7964800052237981,4.7964800052237981,6.570314058549271,6.570314058549271,6.570314058549271,6.570314058549271,6.570314058549271,0,0,0,0,null,0,null,0]
[null,null,null,null,null,"Exceeded capacity charge","p/kVA/day",null,null,0,0,0,0,0,0,0,0,2.0548114864912237,2.0548114864912237,2.0548114864912237,2.0548114864912237,2.0548114864912237,4.7964800052237981,4.7964800052237981,4.7964800052237981,4.7964800052237981,4.7964800052237981,6.570314058549271,6.570314058549271,6.570314058549271,6.570314058549271,6.570314058549271,0,0,0,0,null,0,null,0]
[null,null,null,null,null,"Reactive power charge","p/kVArh",null,null,0,0,0,0,0,0,0,0,8.0372729432711454E-2,8.0372729432711454E-2,8.0372729432711454E-2,8.0372729432711454E-2,8.0372729432711454E-2,6.0549443652789088E-2,6.0549443652789088E-2,6.0549443652789088E-2,6.0549443652789088E-2,6.0549443652789088E-2,4.3897042215682226E-2,4.3897042215682226E-2,4.3897042215682226E-2,4.3897042215682226E-2,4.3897042215682226E-2,0,0,0,0.20303231774315611,null,0.15962076079782889,null,0.14015669427901961]
[]
[null,null,{"$f":"INDEX('Version control'!$H$29:$H$55,MATCH($A$1,'Version control'!$F$29:$F$55,0),1)&\"-H: Tariff forecast, post-rounding\"","v":"Section 520-H: Tariff forecast, post-rounding"}]
[]
[null,null,null,null,"All the way tariff forecast, post-rounding",null,null,null,">",null,null,null,null,null,null,null,null,null,null,null,null,null,null,null,null,null,null,null,null,null,null,null,null,null,null,null,null,null,null,null,null,null,"Paragraph 14"]
[null,null,null,null,null,"Unit rate 1","p/kWh",null,null,{"$f":"ROUND(J121, $H95)","v":12.718},12.718,14.08,14.08,14.08,14.08,14.08,14.08,10.304,10.304,10.304,10.304,10.304,5.6740000000000004,5.6740000000000004,5.6740000000000004,5.6740000000000004,5.6740000000000004,4.0810000000000004,4.0810000000000004,4.0810000000000004,4.0810000000000004,4.0810000000000004,36.247,-9.1110000000000007,-7.7439999999999998,-9.1110000000000007,-9.1110000000000007,-7.7439999999999998,-7.7439999999999998,-4.9379999999999997,-4.9379999999999997]
[null,null,null,null,null,"Unit rate 2","p/kWh",null,null,1.3540000000000001,1.3540000000000001,1.4990000000000001,1.4990000000000001,1.4990000000000001,1.4990000000000001,1.4990000000000001,1.4990000000000001,1.0189999999999999,1.0189999999999999,1.0189999999999999,1.0189999999999999,1.0189999999999999,0.434,0.434,0.434,0.434,0.434,0.26800000000000002,0.26800000000000002,0.26800000000000002,0.26800000000000002,0.26800000000000002,3.4870000000000001,-0.97,-0.79400000000000004,-0.97,-0.97,-0.79400000000000004,-0.79400000000000004,-0.377,-0.377]
[null,null,null,null,null,"Unit rate 3","p/kWh",null,null,3.2000000000000001E-2,3.2000000000000001E-2,3.5000000000000003E-2,3.5000000000000003E-2,3.5000000000000003E-2,3.5000000000000003E-2,3.5000000000000003E-2,3.5000000000000003E-2,2.5000000000000001E-2,2.5000000000000001E-2,2.5000000000000001E-2,2.5000000000000001E-2,2.5000000000000001E-2,1.2999999999999999E-2,1.2999999999999999E-2,1.2999999999999999E-2,1.2999999999999999E-2,1.2999999999999999E-2,8.9999999999999993E-3,8.9999999999999993E-3,8.9999999999999993E-3,8.9999999999999993E-3,8.9999999999999993E-3,2.343,-2.3E-2,-1.9E-2,-2.3E-2,-2.3E-2,-1.9E-2,-1.9E-2,-1.0999999999999999E-2,-1.0999999999999999E-2]
[null,null,null,null,null,"Fixed charge","p/MPAN/day",null,null,21.26,0,7.97,27.63,49.26,90.08,243.09,0,26.68,516.59,842.76,1402.55,2959.75,9.42,499.33,825.49,1385.29,2942.49,142.56,2509.4699999999998,7691,15407.03,40347.21,0,0,0,0,0,0,0,104.1,104.1]
[null,null,null,null,null,"Capacity charge","p/kVA/day",null,null,0,0,0,0,0,0,0,0,5.23,5.23,5.23,5.23,5.23,7.35,7.35,7.35,7.35,7.35,8.75,8.75,8.75,8.75,8.75,0,0,0,0,0,0,0,0,0]
[null,null,null,null,null,"Exceeded capacity charge","p/kVA/day",null,null,0,0,0,0,0,0,0,0,5.23,5.23,5.23,5.23,5.23,7.35,7.35,7.35,7.35,7.35,8.75,8.75,8.75,8.75,8.75,0,0,0,0,0,0,0,0,0]
[null,null,null,null,null,"Reactive power charge","p/kVArh",null,null,0,0,0,0,0,0,0,0,0.20399999999999999,0.20399999999999999,0.20399999999999999,0.20399999999999999,0.20399999999999999,9.2999999999999999E-2,9.2999999999999999E-2,9.2999999999999999E-2,9.2999999999999999E-2,9.2999999999999999E-2,5.8000000000000003E-2,5.8000000000000003E-2,5.8000000000000003E-2,5.8000000000000003E-2,5.8000000000000003E-2,0,0,0,0.20300000000000001,0,0.16,0,0.14000000000000001,0]
[]
[null,null,null,null,"LDNO LV tariff forecast, post-rounding",null,null,null,">",null,null,null,null,null,null,null,null,null,null,null,null,null,null,null,null,null,null,null,null,null,null,null,null,null,null,null,null,null,null,null,null,null,"Paragraph 14"]
[null,null,null,null,null,"Unit rate 1","p/kWh",null,null,{"$f":"ROUND(J130, $H95)","v":7.681},{"$f":"ROUND(K130, $H95)","v":7.681},8.5039999999999996,8.5039999999999996,8.5039999999999996,8.5039999999999996,8.5039999999999996,8.5039999999999996,6.2229999999999999,6.2229999999999999,6.2229999999999999,6.2229999999999999,6.2229999999999999,0,0,0,0,0,0,0,0,0,0,21.891999999999999,-9.1110000000000007,0,-9.1110000000000007,0,0,0,0,0]
[null,null,null,null,null,"Unit rate 2","p/kWh",null,null,{"$f":"ROUND(J131, $H96)","v":0.81799999999999995},0.81799999999999995,0.90500000000000003,0.90500000000000003,0.90500000000000003,0.90500000000000003,0.90500000000000003,0.90500000000000003,0.61499999999999999,0.61499999999999999,0.61499999999999999,0.61499999999999999,0.61499999999999999,0,0,0,0,0,0,0,0,0,0,2.1059999999999999,-0.97,0,-0.97,0,0,0,0,0]
[null,null,null,null,null,"Unit rate 3","p/kWh",null,null,1.9E-2,1.9E-2,2.1000000000000001E-2,2.1000000000000001E-2,2.1000000000000001E-2,2.1000000000000001E-2,2.1000000000000001E-2,2.1000000000000001E-2,1.4999999999999999E-2,1.4999999999999999E-2,1.4999999999999999E-2,1.4999999999999999E-2,1.4999999999999999E-2,0,0,0,0,0,0,0,0,0,0,1.415,-2.3E-2,0,-2.3E-2,0,0,0,0,0]
[null,null,null,null,null,"Fixed charge","p/MPAN/day",null,null,12.84,0,4.8099999999999996,16.690000000000001,29.75,54.4,146.82,0,16.11,312.01,509.01,847.11,1787.62,0,0,0,0,0,0,0,0,0,0,0,0,0,0,0,0,0,0,0]
[null,null,null,null,null,"Capacity charge","p/kVA/day",null,null,0,0,0,0,0,0,0,0,3.16,3.16,3.16,3.16,3.16,0,0,0,0,0,0,0,0,0,0,0,0,0,0,0,0,0,0,0]
[null,null,null,null,null,"Exceeded capacity charge","p/kVA/day",null,null,0,0,0,0,0,0,0,0,3.16,3.16,3.16,3.16,3.16,0,0,0,0,0,0,0,0,0,0,0,0,0,0,0,0,0,0,0]
[null,null,null,null,null,"Reactive power charge","p/kVArh",null,null,0,0,0,0,0,0,0,0,0.123,0.123,0.123,0.123,0.123,0,0,0,0,0,0,0,0,0,0,0,0,0,0.20300000000000001,0,0,0,0,0]
[]
[null,null,null,null,"LDNO HV tariff forecast, post-rounding",null,null,null,">",null,null,null,null,null,null,null,null,null,null,null,null,null,null,null,null,null,null,null,null,null,null,null,null,null,null,null,null,null,null,null,null,null,"Paragraph 14"]
[null,null,null,null,null,"Unit rate 1","p/kWh",null,null,{"$f":"ROUND( J139, $H95)","v":5},5,5.5359999999999996,5.5359999999999996,5.5359999999999996,5.5359999999999996,5.5359999999999996,5.5359999999999996,4.0510000000000002,4.0510000000000002,4.0510000000000002,4.0510000000000002,4.0510000000000002,3.7,3.7,3.7,3.7,3.7,3.0649999999999999,3.0649999999999999,3.0649999999999999,3.0649999999999999,3.0649999999999999,14.250999999999999,-9.1110000000000007,-7.7439999999999998,-9.1110000000000007,0,-7.7439999999999998,0,-4.9379999999999997,0]
[null,null,null,null,null,"Unit rate 2","p/kWh",null,null,0.53200000000000003,0.53200000000000003,0.58899999999999997,0.58899999999999997,0.58899999999999997,0.58899999999999997,0.58899999999999997,0.58899999999999997,0.40100000000000002,0.40100000000000002,0.40100000000000002,0.40100000000000002,0.40100000000000002,0.28299999999999997,0.28299999999999997,0.28299999999999997,0.28299999999999997,0.28299999999999997,0.20200000000000001,0.20200000000000001,0.20200000000000001,0.20200000000000001,0.20200000000000001,1.371,-0.97,-0.79400000000000004,-0.97,0,-0.79400000000000004,0,-0.377,0]
[null,null,null,null,null,"Unit rate 3","p/kWh",null,null,1.2999999999999999E-2,1.2999999999999999E-2,1.4E-2,1.4E-2,1.4E-2,1.4E-2,1.4E-2,1.4E-2,0.01,0.01,0.01,0.01,0.01,8.0000000000000002E-3,8.0000000000000002E-3,8.0000000000000002E-3,8.0000000000000002E-3,8.0000000000000002E-3,7.0000000000000001E-3,7.0000000000000001E-3,7.0000000000000001E-3,7.0000000000000001E-3,7.0000000000000001E-3,0.92100000000000004,-2.3E-2,-1.9E-2,-2.3E-2,0,-1.9E-2,0,-1.0999999999999999E-2,0]
[null,null,null,null,null,"Fixed charge","p/MPAN/day",null,null,8.36,0,3.13,10.86,19.37,35.42,95.57,0,10.49,203.11,331.34,551.44000000000005,1163.68,6.14,325.64,538.36,903.44,1918.99,107.07,1884.87,5776.75,11572.29,30304.98,0,0,0,0,0,0,0,0,0]
[null,null,null,null,null,"Capacity charge","p/kVA/day",null,null,0,0,0,0,0,0,0,0,2.0499999999999998,2.0499999999999998,2.0499999999999998,2.0499999999999998,2.0499999999999998,4.8,4.8,4.8,4.8,4.8,6.57,6.57,6.57,6.57,6.57,0,0,0,0,0,0,0,0,0]
[null,null,null,null,null,"Exceeded capacity charge","p/kVA/day",null,null,0,0,0,0,0,0,0,0,2.0499999999999998,2.0499999999999998,2.0499999999999998,2.0499999999999998,2.0499999999999998,4.8,4.8,4.8,4.8,4.8,6.57,6.57,6.57,6.57,6.57,0,0,0,0,0,0,0,0,0]
[null,null,null,null,null,"Reactive power charge","p/kVArh",null,null,0,0,0,0,0,0,0,0,0.08,0.08,0.08,0.08,0.08,6.0999999999999999E-2,6.0999999999999999E-2,6.0999999999999999E-2,6.0999999999999999E-2,6.0999999999999999E-2,4.3999999999999997E-2,4.3999999999999997E-2,4.3999999999999997E-2,4.3999999999999997E-2,4.3999999999999997E-2,0,0,0,0.20300000000000001,0,0.16,0,0.14000000000000001,0]
[]
[null,"Checks"]
[]
[null,null,null,null,"Check for error values",null,"number of issues",{"$f":"SUM(IF(ISERROR(H20:AO174), 1))","v":0}]
[]
[null,"End of sheet"]

{"sheet":"Net revenue summary","index":35,"n_rows":148,"n_cols":43,"rows_kept":148,"cut":false,"hidden":true,"merged":[]}
[{"$f":"MID(CELL(\"filename\",A1),FIND(\"]\",CELL(\"filename\",A1))+1,255)","v":"Net revenue summary"}]
[{"$f":"Cover!D23 & \" - \" & TEXT(CIRP_submission_date, \"mmm\") & \"-\" & RIGHT(YEAR(CIRP_submission_date), 2) & \" - \" & Cover!D25","v":"SP Distribution - Jan-26 - V1"}]
[{"$f":"Cover!D2&\" - \"&Cover!D8&\" v\"&Cover!D10&\" - \"&Cover!D19","v":"Cost Information Review Pack (CIRP) - Release for charge setting v1 - 2027/28"}]
[{"$f":"H146 & IF(H146 = 1, \" issue\", \" issues\") &\" identified in checks on this sheet\"","v":"0 issues identified in checks on this sheet"}]
[null,"Click here to return to model map",null,null,null,null,"Units","Constants",null,"Domestic Aggregated or CT with Residual","Domestic Aggregated (Related MPAN)","Non-Domestic Aggregated or CT No Residual","Non-Domestic Aggregated or CT Band 1","Non-Domestic Aggregated or CT Band 2","Non-Domestic Aggregated or CT Band 3","Non-Domestic Aggregated or CT Band 4","Non-Domestic Aggregated (Related MPAN)","LV Site Specific No Residual","LV Site Specific Band 1","LV Site Specific Band 2","LV Site Specific Band 3","LV Site Specific Band 4","LV Sub Site Specific No Residual","LV Sub Site Specific Band 1","LV Sub Site Specific Band 2","LV Sub Site Specific Band 3","LV Sub Site Specific Band 4","HV Site Specific No Residual","HV Site Specific Band 1","HV Site Specific Band 2","HV Site Specific Band 3","HV Site Specific Band 4","Unmetered Supplies","LV Generation Aggregated","LV Sub Generation Aggregated","LV Generation Site Specific","LV Generation Site Specific no RP Charge","LV Sub Generation Site Specific","LV Sub Generation Site Specific no RP Charge","HV Generation Site Specific","HV Generation Site Specific no RP Charge",null,"Legal text reference"]
[]
[null,"Description"]
[]
[null,null,"This sheet calculates a summary of net revenue and other non-tariff outputs included for users' information"]
[]
[null,"Inputs to net revenue summary calculation"]
[]
[null,null,{"$f":"INDEX('Version control'!$H$29:$H$55,MATCH($A$1,'Version control'!$F$29:$F$55,0),1)&\"-A: Volume forecasts\"","v":"Section 521-A: Volume forecasts"}]
[]
[null,null,null,null,"Index of tariff before revenue matching",null,"integer",null,null,{"$f":"'Fixed inputs'!J174","v":1},{"$f":"'Fixed inputs'!K174","v":2},{"$f":"'Fixed inputs'!L174","v":3},{"$f":"'Fixed inputs'!M174","v":3},{"$f":"'Fixed inputs'!N174","v":3},{"$f":"'Fixed inputs'!O174","v":3},{"$f":"'Fixed inputs'!P174","v":3},{"$f":"'Fixed inputs'!Q174","v":4},{"$f":"'Fixed inputs'!R174","v":5},{"$f":"'Fixed inputs'!S174","v":5},{"$f":"'Fixed inputs'!T174","v":5},{"$f":"'Fixed inputs'!U174","v":5},{"$f":"'Fixed inputs'!V174","v":5},{"$f":"'Fixed inputs'!W174","v":6},{"$f":"'Fixed inputs'!X174","v":6},{"$f":"'Fixed inputs'!Y174","v":6},{"$f":"'Fixed inputs'!Z174","v":6},{"$f":"'Fixed inputs'!AA174","v":6},{"$f":"'Fixed inputs'!AB174","v":7},{"$f":"'Fixed inputs'!AC174","v":7},{"$f":"'Fixed inputs'!AD174","v":7},{"$f":"'Fixed inputs'!AE174","v":7},{"$f":"'Fixed inputs'!AF174","v":7},{"$f":"'Fixed inputs'!AG174","v":8},{"$f":"'Fixed inputs'!AH174","v":9},{"$f":"'Fixed inputs'!AI174","v":10},{"$f":"'Fixed inputs'!AJ174","v":11},{"$f":"'Fixed inputs'!AK174","v":12},{"$f":"'Fixed inputs'!AL174","v":13},{"$f":"'Fixed inputs'!AM174","v":14},{"$f":"'Fixed inputs'!AN174","v":15},{"$f":"'Fixed inputs'!AO174","v":16}]
[]
[null,null,null,null,"Residual band",null,"integer",null,null,{"$f":"'Fixed inputs'!J173","v":1},{"$f":"'Fixed inputs'!K173","v":0},{"$f":"'Fixed inputs'!L173","v":0},{"$f":"'Fixed inputs'!M173","v":1},{"$f":"'Fixed inputs'!N173","v":2},{"$f":"'Fixed inputs'!O173","v":3},{"$f":"'Fixed inputs'!P173","v":4},{"$f":"'Fixed inputs'!Q173","v":0},{"$f":"'Fixed inputs'!R173","v":0},{"$f":"'Fixed inputs'!S173","v":1},{"$f":"'Fixed inputs'!T173","v":2},{"$f":"'Fixed inputs'!U173","v":3},{"$f":"'Fixed inputs'!V173","v":4},{"$f":"'Fixed inputs'!W173","v":0},{"$f":"'Fixed inputs'!X173","v":1},{"$f":"'Fixed inputs'!Y173","v":2},{"$f":"'Fixed inputs'!Z173","v":3},{"$f":"'Fixed inputs'!AA173","v":4},{"$f":"'Fixed inputs'!AB173","v":0},{"$f":"'Fixed inputs'!AC173","v":1},{"$f":"'Fixed inputs'!AD173","v":2},{"$f":"'Fixed inputs'!AE173","v":3},{"$f":"'Fixed inputs'!AF173","v":4},{"$f":"'Fixed inputs'!AG173","v":1},{"$f":"'Fixed inputs'!AH173","v":0},{"$f":"'Fixed inputs'!AI173","v":0},{"$f":"'Fixed inputs'!AJ173","v":0},{"$f":"'Fixed inputs'!AK173","v":0},{"$f":"'Fixed inputs'!AL173","v":0},{"$f":"'Fixed inputs'!AM173","v":0},{"$f":"'Fixed inputs'!AN173","v":0},{"$f":"'Fixed inputs'!AO173","v":0}]
[]
[null,null,null,null,"All the way volume forecast",null,null,null,">",null,null,null,null,null,null,null,null,null,null,null,null,null,null,null,null,null,null,null,null,null,null,null,null,null,null,null,null,null,null,null,null,null,"Paragraph 52"]
[null,null,null,null,null,"Fixed inputs in column H are used to direct an INDEX function, which helps map between pre- and post-revenue"]
[null,null,null,null,null,"matching tariffs"]
[null,null,null,null,null,"Rate 1 units","MWh",0,null,{"$f":"INDEX('Volume adjustments'!$J$527:$Y$567,J$17 + 1 + $H22*$H$28, J$15)","v":679456.49875052879},{"$f":"INDEX('Volume adjustments'!$J$527:$Y$567,K$17 + 1 + $H22*$H$28, K$15)","v":450.95995548917972},{"$f":"INDEX('Volume adjustments'!$J$527:$Y$567,L$17 + 1 + $H22*$H$28, L$15)","v":20.158836784220245},{"$f":"INDEX('Volume adjustments'!$J$527:$Y$567,M$17 + 1 + $H22*$H$28, M$15)","v":15728.010511486234},{"$f":"INDEX('Volume adjustments'!$J$527:$Y$567,N$17 + 1 + $H22*$H$28, N$15)","v":27460.451945554087},{"$f":"INDEX('Volume adjustments'!$J$527:$Y$567,O$17 + 1 + $H22*$H$28, O$15)","v":30384.41094320859},{"$f":"INDEX('Volume adjustments'!$J$527:$Y$567,P$17 + 1 + $H22*$H$28, P$15)","v":96042.949643991436},{"$f":"INDEX('Volume adjustments'!$J$527:$Y$567,Q$17 + 1 + $H22*$H$28, Q$15)","v":341.90600000000001},{"$f":"INDEX('Volume adjustments'!$J$527:$Y$567,R$17 + 1 + $H22*$H$28, R$15)","v":37.80228458951715},{"$f":"INDEX('Volume adjustments'!$J$527:$Y$567,S$17 + 1 + $H22*$H$28, S$15)","v":45358.282940552301},{"$f":"INDEX('Volume adjustments'!$J$527:$Y$567,T$17 + 1 + $H22*$H$28, T$15)","v":65038.070245482289},{"$f":"INDEX('Volume adjustments'!$J$527:$Y$567,U$17 + 1 + $H22*$H$28, U$15)","v":35130.015331706672},{"$f":"INDEX('Volume adjustments'!$J$527:$Y$567,V$17 + 1 + $H22*$H$28, V$15)","v":84228.470431088892},{"$f":"INDEX('Volume adjustments'!$J$527:$Y$567,W$17 + 1 + $H22*$H$28, W$15)","v":0.19494712650074275},{"$f":"INDEX('Volume adjustments'!$J$527:$Y$567,X$17 + 1 + $H22*$H$28, X$15)","v":130.896811640133},{"$f":"INDEX('Volume adjustments'!$J$527:$Y$567,Y$17 + 1 + $H22*$H$28, Y$15)","v":683.21984657859537},{"$f":"INDEX('Volume adjustments'!$J$527:$Y$567,Z$17 + 1 + $H22*$H$28, Z$15)","v":2105.3407065636852},{"$f":"INDEX('Volume adjustments'!$J$527:$Y$567,AA$17 + 1 + $H22*$H$28, AA$15)","v":20909.140372709087},{"$f":"INDEX('Volume adjustments'!$J$527:$Y$567,AB$17 + 1 + $H22*$H$28, AB$15)","v":1903.1550949912194},{"$f":"INDEX('Volume adjustments'!$J$527:$Y$567,AC$17 + 1 + $H22*$H$28, AC$15)","v":15121.892183664901},{"$f":"INDEX('Volume adjustments'!$J$527:$Y$567,AD$17 + 1 + $H22*$H$28, AD$15)","v":57973.099711089526},{"$f":"INDEX('Volume adjustments'!$J$527:$Y$567,AE$17 + 1 + $H22*$H$28, AE$15)","v":51731.913081766776},{"$f":"INDEX('Volume adjustments'!$J$527:$Y$567,AF$17 + 1 + $H22*$H$28, AF$15)","v":151855.09976114644},{"$f":"INDEX('Volume adjustments'!$J$527:$Y$567,AG$17 + 1 + $H22*$H$28, AG$15)","v":9988.5428195909044},{"$f":"INDEX('Volume adjustments'!$J$527:$Y$567,AH$17 + 1 + $H22*$H$28, AH$15)","v":6922.0874674672614},{"$f":"INDEX('Volume adjustments'!$J$527:$Y$567,AI$17 + 1 + $H22*$H$28, AI$15)","v":14.658926785947987},{"$f":"INDEX('Volume adjustments'!$J$527:$Y$567,AJ$17 + 1 + $H22*$H$28, AJ$15)","v":5979.4520000000002},{"$f":"INDEX('Volume adjustments'!$J$527:$Y$567,AK$17 + 1 + $H22*$H$28, AK$15)","v":0},{"$f":"INDEX('Volume adjustments'!$J$527:$Y$567,AL$17 + 1 + $H22*$H$28, AL$15)","v":76.418999999999997},{"$f":"INDEX('Volume adjustments'!$J$527:$Y$567,AM$17 + 1 + $H22*$H$28, AM$15)","v":0},{"$f":"INDEX('Volume adjustments'!$J$527:$Y$567,AN$17 + 1 + $H22*$H$28, AN$15)","v":110295.99099999999},{"$f":"INDEX('Volume adjustments'!$J$527:$Y$567,AO$17 + 1 + $H22*$H$28, AO$15)","v":0}]
[null,null,null,null,null,"Rate 2 units","MWh",1,null,{"$f":"INDEX('Volume adjustments'!$J$527:$Y$567,J$17 + 1 + $H23*$H$28, J$15)","v":2389915.424312321},{"$f":"INDEX('Volume adjustments'!$J$527:$Y$567,K$17 + 1 + $H23*$H$28, K$15)","v":11165.978402644501},{"$f":"INDEX('Volume adjustments'!$J$527:$Y$567,L$17 + 1 + $H23*$H$28, L$15)","v":107.43939606428286},{"$f":"INDEX('Volume adjustments'!$J$527:$Y$567,M$17 + 1 + $H23*$H$28, M$15)","v":83824.675438094055},{"$f":"INDEX('Volume adjustments'!$J$527:$Y$567,N$17 + 1 + $H23*$H$28, N$15)","v":146354.39555679268},{"$f":"INDEX('Volume adjustments'!$J$527:$Y$567,O$17 + 1 + $H23*$H$28, O$15)","v":161938.05210341606},{"$f":"INDEX('Volume adjustments'!$J$527:$Y$567,P$17 + 1 + $H23*$H$28, P$15)","v":511874.5995334427},{"$f":"INDEX('Volume adjustments'!$J$527:$Y$567,Q$17 + 1 + $H23*$H$28, Q$15)","v":6616.54},{"$f":"INDEX('Volume adjustments'!$J$527:$Y$567,R$17 + 1 + $H23*$H$28, R$15)","v":121.98743699318861},{"$f":"INDEX('Volume adjustments'!$J$527:$Y$567,S$17 + 1 + $H23*$H$28, S$15)","v":217564.32958336201},{"$f":"INDEX('Volume adjustments'!$J$527:$Y$567,T$17 + 1 + $H23*$H$28, T$15)","v":303043.72723089613},{"$f":"INDEX('Volume adjustments'!$J$527:$Y$567,U$17 + 1 + $H23*$H$28, U$15)","v":171166.91735573002},{"$f":"INDEX('Volume adjustments'!$J$527:$Y$567,V$17 + 1 + $H23*$H$28, V$15)","v":416141.64799711597},{"$f":"INDEX('Volume adjustments'!$J$527:$Y$567,W$17 + 1 + $H23*$H$28, W$15)","v":0.69443852027130226},{"$f":"INDEX('Volume adjustments'!$J$527:$Y$567,X$17 + 1 + $H23*$H$28, X$15)","v":615.46165676966552},{"$f":"INDEX('Volume adjustments'!$J$527:$Y$567,Y$17 + 1 + $H23*$H$28, Y$15)","v":2895.2490051930668},{"$f":"INDEX('Volume adjustments'!$J$527:$Y$567,Z$17 + 1 + $H23*$H$28, Z$15)","v":9387.1871443391046},{"$f":"INDEX('Volume adjustments'!$J$527:$Y$567,AA$17 + 1 + $H23*$H$28, AA$15)","v":98433.242369483021},{"$f":"INDEX('Volume adjustments'!$J$527:$Y$567,AB$17 + 1 + $H23*$H$28, AB$15)","v":8236.6957918683675},{"$f":"INDEX('Volume adjustments'!$J$527:$Y$567,AC$17 + 1 + $H23*$H$28, AC$15)","v":73498.517189785038},{"$f":"INDEX('Volume adjustments'!$J$527:$Y$567,AD$17 + 1 + $H23*$H$28, AD$15)","v":277528.3603075954},{"$f":"INDEX('Volume adjustments'!$J$527:$Y$567,AE$17 + 1 + $H23*$H$28, AE$15)","v":240801.1952129461},{"$f":"INDEX('Volume adjustments'!$J$527:$Y$567,AF$17 + 1 + $H23*$H$28, AF$15)","v":696514.37219363428},{"$f":"INDEX('Volume adjustments'!$J$527:$Y$567,AG$17 + 1 + $H23*$H$28, AG$15)","v":61147.312788234245},{"$f":"INDEX('Volume adjustments'!$J$527:$Y$567,AH$17 + 1 + $H23*$H$28, AH$15)","v":42092.209324093616},{"$f":"INDEX('Volume adjustments'!$J$527:$Y$567,AI$17 + 1 + $H23*$H$28, AI$15)","v":69.692749320236075},{"$f":"INDEX('Volume adjustments'!$J$527:$Y$567,AJ$17 + 1 + $H23*$H$28, AJ$15)","v":30740.204999999994},{"$f":"INDEX('Volume adjustments'!$J$527:$Y$567,AK$17 + 1 + $H23*$H$28, AK$15)","v":0},{"$f":"INDEX('Volume adjustments'!$J$527:$Y$567,AL$17 + 1 + $H23*$H$28, AL$15)","v":447.91699999999997},{"$f":"INDEX('Volume adjustments'!$J$527:$Y$567,AM$17 + 1 + $H23*$H$28, AM$15)","v":0},{"$f":"INDEX('Volume adjustments'!$J$527:$Y$567,AN$17 + 1 + $H23*$H$28, AN$15)","v":353394.92799999996},{"$f":"INDEX('Volume adjustments'!$J$527:$Y$567,AO$17 + 1 + $H23*$H$28, AO$15)","v":0}]
[null,null,null,null,null,"Rate 3 units","MWh",2,null,{"$f":"INDEX('Volume adjustments'!$J$527:$Y$567,J$17 + 1 + $H24*$H$28, J$15)","v":2333480.0968766352},{"$f":"INDEX('Volume adjustments'!$J$527:$Y$567,K$17 + 1 + $H24*$H$28, K$15)","v":132093.46064186629},{"$f":"INDEX('Volume adjustments'!$J$527:$Y$567,L$17 + 1 + $H24*$H$28, L$15)","v":86.347856530068981},{"$f":"INDEX('Volume adjustments'!$J$527:$Y$567,M$17 + 1 + $H24*$H$28, M$15)","v":67368.966259615539},{"$f":"INDEX('Volume adjustments'!$J$527:$Y$567,N$17 + 1 + $H24*$H$28, N$15)","v":117623.41201659148},{"$f":"INDEX('Volume adjustments'!$J$527:$Y$567,O$17 + 1 + $H24*$H$28, O$15)","v":130147.82474594636},{"$f":"INDEX('Volume adjustments'!$J$527:$Y$567,P$17 + 1 + $H24*$H$28, P$15)","v":411387.96475973324},{"$f":"INDEX('Volume adjustments'!$J$527:$Y$567,Q$17 + 1 + $H24*$H$28, Q$15)","v":27874.395},{"$f":"INDEX('Volume adjustments'!$J$527:$Y$567,R$17 + 1 + $H24*$H$28, R$15)","v":124.41409226933219},{"$f":"INDEX('Volume adjustments'!$J$527:$Y$567,S$17 + 1 + $H24*$H$28, S$15)","v":192038.8005198949},{"$f":"INDEX('Volume adjustments'!$J$527:$Y$567,T$17 + 1 + $H24*$H$28, T$15)","v":269323.93710491312},{"$f":"INDEX('Volume adjustments'!$J$527:$Y$567,U$17 + 1 + $H24*$H$28, U$15)","v":157346.35516731039},{"$f":"INDEX('Volume adjustments'!$J$527:$Y$567,V$17 + 1 + $H24*$H$28, V$15)","v":375612.40323677217},{"$f":"INDEX('Volume adjustments'!$J$527:$Y$567,W$17 + 1 + $H24*$H$28, W$15)","v":0.985404380720172},{"$f":"INDEX('Volume adjustments'!$J$527:$Y$567,X$17 + 1 + $H24*$H$28, X$15)","v":627.69386154293602},{"$f":"INDEX('Volume adjustments'!$J$527:$Y$567,Y$17 + 1 + $H24*$H$28, Y$15)","v":2812.9522212237089},{"$f":"INDEX('Volume adjustments'!$J$527:$Y$567,Z$17 + 1 + $H24*$H$28, Z$15)","v":10652.4415197528},{"$f":"INDEX('Volume adjustments'!$J$527:$Y$567,AA$17 + 1 + $H24*$H$28, AA$15)","v":99272.781684815374},{"$f":"INDEX('Volume adjustments'!$J$527:$Y$567,AB$17 + 1 + $H24*$H$28, AB$15)","v":8356.9822485519762},{"$f":"INDEX('Volume adjustments'!$J$527:$Y$567,AC$17 + 1 + $H24*$H$28, AC$15)","v":75958.090452528137},{"$f":"INDEX('Volume adjustments'!$J$527:$Y$567,AD$17 + 1 + $H24*$H$28, AD$15)","v":280179.65420370986},{"$f":"INDEX('Volume adjustments'!$J$527:$Y$567,AE$17 + 1 + $H24*$H$28, AE$15)","v":252032.30843337829},{"$f":"INDEX('Volume adjustments'!$J$527:$Y$567,AF$17 + 1 + $H24*$H$28, AF$15)","v":809288.64224578382},{"$f":"INDEX('Volume adjustments'!$J$527:$Y$567,AG$17 + 1 + $H24*$H$28, AG$15)","v":136402.38294403584},{"$f":"INDEX('Volume adjustments'!$J$527:$Y$567,AH$17 + 1 + $H24*$H$28, AH$15)","v":19217.031600589951},{"$f":"INDEX('Volume adjustments'!$J$527:$Y$567,AI$17 + 1 + $H24*$H$28, AI$15)","v":63.286158755382779},{"$f":"INDEX('Volume adjustments'!$J$527:$Y$567,AJ$17 + 1 + $H24*$H$28, AJ$15)","v":29465.601999999995},{"$f":"INDEX('Volume adjustments'!$J$527:$Y$567,AK$17 + 1 + $H24*$H$28, AK$15)","v":0},{"$f":"INDEX('Volume adjustments'!$J$527:$Y$567,AL$17 + 1 + $H24*$H$28, AL$15)","v":427.12099999999998},{"$f":"INDEX('Volume adjustments'!$J$527:$Y$567,AM$17 + 1 + $H24*$H$28, AM$15)","v":0},{"$f":"INDEX('Volume adjustments'!$J$527:$Y$567,AN$17 + 1 + $H24*$H$28, AN$15)","v":394088.42299999995},{"$f":"INDEX('Volume adjustments'!$J$527:$Y$567,AO$17 + 1 + $H24*$H$28, AO$15)","v":0}]
[null,null,null,null,null,"MPANs","MPANs",3,null,{"$f":"INDEX('Volume adjustments'!$J$527:$Y$567,J$17 + 1 + $H25*$H$28, J$15)","v":1860667},{"$f":"INDEX('Volume adjustments'!$J$527:$Y$567,K$17 + 1 + $H25*$H$28, K$15)","v":65857},{"$f":"INDEX('Volume adjustments'!$J$527:$Y$567,L$17 + 1 + $H25*$H$28, L$15)","v":65},{"$f":"INDEX('Volume adjustments'!$J$527:$Y$567,M$17 + 1 + $H25*$H$28, M$15)","v":42874},{"$f":"INDEX('Volume adjustments'!$J$527:$Y$567,N$17 + 1 + $H25*$H$28, N$15)","v":35667},{"$f":"INDEX('Volume adjustments'!$J$527:$Y$567,O$17 + 1 + $H25*$H$28, O$15)","v":19785},{"$f":"INDEX('Volume adjustments'!$J$527:$Y$567,P$17 + 1 + $H25*$H$28, P$15)","v":21853},{"$f":"INDEX('Volume adjustments'!$J$527:$Y$567,Q$17 + 1 + $H25*$H$28, Q$15)","v":4053},{"$f":"INDEX('Volume adjustments'!$J$527:$Y$567,R$17 + 1 + $H25*$H$28, R$15)","v":32},{"$f":"INDEX('Volume adjustments'!$J$527:$Y$567,S$17 + 1 + $H25*$H$28, S$15)","v":4645},{"$f":"INDEX('Volume adjustments'!$J$527:$Y$567,T$17 + 1 + $H25*$H$28, T$15)","v":3865},{"$f":"INDEX('Volume adjustments'!$J$527:$Y$567,U$17 + 1 + $H25*$H$28, U$15)","v":1324},{"$f":"INDEX('Volume adjustments'!$J$527:$Y$567,V$17 + 1 + $H25*$H$28, V$15)","v":1618},{"$f":"INDEX('Volume adjustments'!$J$527:$Y$567,W$17 + 1 + $H25*$H$28, W$15)","v":2},{"$f":"INDEX('Volume adjustments'!$J$527:$Y$567,X$17 + 1 + $H25*$H$28, X$15)","v":12},{"$f":"INDEX('Volume adjustments'!$J$527:$Y$567,Y$17 + 1 + $H25*$H$28, Y$15)","v":30},{"$f":"INDEX('Volume adjustments'!$J$527:$Y$567,Z$17 + 1 + $H25*$H$28, Z$15)","v":50},{"$f":"INDEX('Volume adjustments'!$J$527:$Y$567,AA$17 + 1 + $H25*$H$28, AA$15)","v":218},{"$f":"INDEX('Volume adjustments'!$J$527:$Y$567,AB$17 + 1 + $H25*$H$28, AB$15)","v":164},{"$f":"INDEX('Volume adjustments'!$J$527:$Y$567,AC$17 + 1 + $H25*$H$28, AC$15)","v":354},{"$f":"INDEX('Volume adjustments'!$J$527:$Y$567,AD$17 + 1 + $H25*$H$28, AD$15)","v":405},{"$f":"INDEX('Volume adjustments'!$J$527:$Y$567,AE$17 + 1 + $H25*$H$28, AE$15)","v":176},{"$f":"INDEX('Volume adjustments'!$J$527:$Y$567,AF$17 + 1 + $H25*$H$28, AF$15)","v":200},{"$f":"INDEX('Volume adjustments'!$J$527:$Y$567,AG$17 + 1 + $H25*$H$28, AG$15)","v":565},{"$f":"INDEX('Volume adjustments'!$J$527:$Y$567,AH$17 + 1 + $H25*$H$28, AH$15)","v":29908.231691690049},{"$f":"INDEX('Volume adjustments'!$J$527:$Y$567,AI$17 + 1 + $H25*$H$28, AI$15)","v":7},{"$f":"INDEX('Volume adjustments'!$J$527:$Y$567,AJ$17 + 1 + $H25*$H$28, AJ$15)","v":661},{"$f":"INDEX('Volume adjustments'!$J$527:$Y$567,AK$17 + 1 + $H25*$H$28, AK$15)","v":0},{"$f":"INDEX('Volume adjustments'!$J$527:$Y$567,AL$17 + 1 + $H25*$H$28, AL$15)","v":15},{"$f":"INDEX('Volume adjustments'!$J$527:$Y$567,AM$17 + 1 + $H25*$H$28, AM$15)","v":0},{"$f":"INDEX('Volume adjustments'!$J$527:$Y$567,AN$17 + 1 + $H25*$H$28, AN$15)","v":272},{"$f":"INDEX('Volume adjustments'!$J$527:$Y$567,AO$17 + 1 + $H25*$H$28, AO$15)","v":0}]
[null,null,null,null,null,"Import capacity","kVA",4,null,{"$f":"INDEX('Volume adjustments'!$J$527:$Y$567,J$17 + 1 + $H26*$H$28, J$15)","v":0},{"$f":"INDEX('Volume adjustments'!$J$527:$Y$567,K$17 + 1 + $H26*$H$28, K$15)","v":0},{"$f":"INDEX('Volume adjustments'!$J$527:$Y$567,L$17 + 1 + $H26*$H$28, L$15)","v":0},{"$f":"INDEX('Volume adjustments'!$J$527:$Y$567,M$17 + 1 + $H26*$H$28, M$15)","v":0},{"$f":"INDEX('Volume adjustments'!$J$527:$Y$567,N$17 + 1 + $H26*$H$28, N$15)","v":0},{"$f":"INDEX('Volume adjustments'!$J$527:$Y$567,O$17 + 1 + $H26*$H$28, O$15)","v":0},{"$f":"INDEX('Volume adjustments'!$J$527:$Y$567,P$17 + 1 + $H26*$H$28, P$15)","v":0},{"$f":"INDEX('Volume adjustments'!$J$527:$Y$567,Q$17 + 1 + $H26*$H$28, Q$15)","v":0},{"$f":"INDEX('Volume adjustments'!$J$527:$Y$567,R$17 + 1 + $H26*$H$28, R$15)","v":1328},{"$f":"INDEX('Volume adjustments'!$J$527:$Y$567,S$17 + 1 + $H26*$H$28, S$15)","v":259336},{"$f":"INDEX('Volume adjustments'!$J$527:$Y$567,T$17 + 1 + $H26*$H$28, T$15)","v":435225},{"$f":"INDEX('Volume adjustments'!$J$527:$Y$567,U$17 + 1 + $H26*$H$28, U$15)","v":244336},{"$f":"INDEX('Volume adjustments'!$J$527:$Y$567,V$17 + 1 + $H26*$H$28, V$15)","v":645443},{"$f":"INDEX('Volume adjustments'!$J$527:$Y$567,W$17 + 1 + $H26*$H$28, W$15)","v":108},{"$f":"INDEX('Volume adjustments'!$J$527:$Y$567,X$17 + 1 + $H26*$H$28, X$15)","v":701},{"$f":"INDEX('Volume adjustments'!$J$527:$Y$567,Y$17 + 1 + $H26*$H$28, Y$15)","v":4716},{"$f":"INDEX('Volume adjustments'!$J$527:$Y$567,Z$17 + 1 + $H26*$H$28, Z$15)","v":9599},{"$f":"INDEX('Volume adjustments'!$J$527:$Y$567,AA$17 + 1 + $H26*$H$28, AA$15)","v":102647},{"$f":"INDEX('Volume adjustments'!$J$527:$Y$567,AB$17 + 1 + $H26*$H$28, AB$15)","v":22294},{"$f":"INDEX('Volume adjustments'!$J$527:$Y$567,AC$17 + 1 + $H26*$H$28, AC$15)","v":74828},{"$f":"INDEX('Volume adjustments'!$J$527:$Y$567,AD$17 + 1 + $H26*$H$28, AD$15)","v":281818},{"$f":"INDEX('Volume adjustments'!$J$527:$Y$567,AE$17 + 1 + $H26*$H$28, AE$15)","v":242925},{"$f":"INDEX('Volume adjustments'!$J$527:$Y$567,AF$17 + 1 + $H26*$H$28, AF$15)","v":704774},{"$f":"INDEX('Volume adjustments'!$J$527:$Y$567,AG$17 + 1 + $H26*$H$28, AG$15)","v":0},{"$f":"INDEX('Volume adjustments'!$J$527:$Y$567,AH$17 + 1 + $H26*$H$28, AH$15)","v":0},{"$f":"INDEX('Volume adjustments'!$J$527:$Y$567,AI$17 + 1 + $H26*$H$28, AI$15)","v":0},{"$f":"INDEX('Volume adjustments'!$J$527:$Y$567,AJ$17 + 1 + $H26*$H$28, AJ$15)","v":0},{"$f":"INDEX('Volume adjustments'!$J$527:$Y$567,AK$17 + 1 + $H26*$H$28, AK$15)","v":0},{"$f":"INDEX('Volume adjustments'!$J$527:$Y$567,AL$17 + 1 + $H26*$H$28, AL$15)","v":0},{"$f":"INDEX('Volume adjustments'!$J$527:$Y$567,AM$17 + 1 + $H26*$H$28, AM$15)","v":0},{"$f":"INDEX('Volume adjustments'!$J$527:$Y$567,AN$17 + 1 + $H26*$H$28, AN$15)","v":0},{"$f":"INDEX('Volume adjustments'!$J$527:$Y$567,AO$17 + 1 + $H26*$H$28, AO$15)","v":0}]
[null,null,null,null,null,"Exceeded capacity","kVA",5,null,{"$f":"INDEX('Volume adjustments'!$J$527:$Y$567,J$17 + 1 + $H27*$H$28, J$15)","v":0},{"$f":"INDEX('Volume adjustments'!$J$527:$Y$567,K$17 + 1 + $H27*$H$28, K$15)","v":0},{"$f":"INDEX('Volume adjustments'!$J$527:$Y$567,L$17 + 1 + $H27*$H$28, L$15)","v":0},{"$f":"INDEX('Volume adjustments'!$J$527:$Y$567,M$17 + 1 + $H27*$H$28, M$15)","v":0},{"$f":"INDEX('Volume adjustments'!$J$527:$Y$567,N$17 + 1 + $H27*$H$28, N$15)","v":0},{"$f":"INDEX('Volume adjustments'!$J$527:$Y$567,O$17 + 1 + $H27*$H$28, O$15)","v":0},{"$f":"INDEX('Volume adjustments'!$J$527:$Y$567,P$17 + 1 + $H27*$H$28, P$15)","v":0},{"$f":"INDEX('Volume adjustments'!$J$527:$Y$567,Q$17 + 1 + $H27*$H$28, Q$15)","v":0},{"$f":"INDEX('Volume adjustments'!$J$527:$Y$567,R$17 + 1 + $H27*$H$28, R$15)","v":57.083333333333336},{"$f":"INDEX('Volume adjustments'!$J$527:$Y$567,S$17 + 1 + $H27*$H$28, S$15)","v":13317.666666666666},{"$f":"INDEX('Volume adjustments'!$J$527:$Y$567,T$17 + 1 + $H27*$H$28, T$15)","v":6923.25},{"$f":"INDEX('Volume adjustments'!$J$527:$Y$567,U$17 + 1 + $H27*$H$28, U$15)","v":1229.3333333333335},{"$f":"INDEX('Volume adjustments'!$J$527:$Y$567,V$17 + 1 + $H27*$H$28, V$15)","v":2167.9166666666665},{"$f":"INDEX('Volume adjustments'!$J$527:$Y$567,W$17 + 1 + $H27*$H$28, W$15)","v":21},{"$f":"INDEX('Volume adjustments'!$J$527:$Y$567,X$17 + 1 + $H27*$H$28, X$15)","v":289},{"$f":"INDEX('Volume adjustments'!$J$527:$Y$567,Y$17 + 1 + $H27*$H$28, Y$15)","v":267.41666666666669},{"$f":"INDEX('Volume adjustments'!$J$527:$Y$567,Z$17 + 1 + $H27*$H$28, Z$15)","v":97.166666666666671},{"$f":"INDEX('Volume adjustments'!$J$527:$Y$567,AA$17 + 1 + $H27*$H$28, AA$15)","v":338.33333333333331},{"$f":"INDEX('Volume adjustments'!$J$527:$Y$567,AB$17 + 1 + $H27*$H$28, AB$15)","v":1102.1666666666667},{"$f":"INDEX('Volume adjustments'!$J$527:$Y$567,AC$17 + 1 + $H27*$H$28, AC$15)","v":3985},{"$f":"INDEX('Volume adjustments'!$J$527:$Y$567,AD$17 + 1 + $H27*$H$28, AD$15)","v":1866.0833333333333},{"$f":"INDEX('Volume adjustments'!$J$527:$Y$567,AE$17 + 1 + $H27*$H$28, AE$15)","v":1656.4166666666667},{"$f":"INDEX('Volume adjustments'!$J$527:$Y$567,AF$17 + 1 + $H27*$H$28, AF$15)","v":3867.416666666667},{"$f":"INDEX('Volume adjustments'!$J$527:$Y$567,AG$17 + 1 + $H27*$H$28, AG$15)","v":0},{"$f":"INDEX('Volume adjustments'!$J$527:$Y$567,AH$17 + 1 + $H27*$H$28, AH$15)","v":0},{"$f":"INDEX('Volume adjustments'!$J$527:$Y$567,AI$17 + 1 + $H27*$H$28, AI$15)","v":0},{"$f":"INDEX('Volume adjustments'!$J$527:$Y$567,AJ$17 + 1 + $H27*$H$28, AJ$15)","v":0},{"$f":"INDEX('Volume adjustments'!$J$527:$Y$567,AK$17 + 1 + $H27*$H$28, AK$15)","v":0},{"$f":"INDEX('Volume adjustments'!$J$527:$Y$567,AL$17 + 1 + $H27*$H$28, AL$15)","v":0},{"$f":"INDEX('Volume adjustments'!$J$527:$Y$567,AM$17 + 1 + $H27*$H$28, AM$15)","v":0},{"$f":"INDEX('Volume adjustments'!$J$527:$Y$567,AN$17 + 1 + $H27*$H$28, AN$15)","v":0},{"$f":"INDEX('Volume adjustments'!$J$527:$Y$567,AO$17 + 1 + $H27*$H$28, AO$15)","v":0}]
[null,null,null,null,null,"Reactive power units","MVArh",6,null,{"$f":"INDEX('Volume adjustments'!$J$527:$Y$567,J$17 + 1 + $H28*$H$28, J$15)","v":0},{"$f":"INDEX('Volume adjustments'!$J$527:$Y$567,K$17 + 1 + $H28*$H$28, K$15)","v":0},{"$f":"INDEX('Volume adjustments'!$J$527:$Y$567,L$17 + 1 + $H28*$H$28, L$15)","v":0},{"$f":"INDEX('Volume adjustments'!$J$527:$Y$567,M$17 + 1 + $H28*$H$28, M$15)","v":0},{"$f":"INDEX('Volume adjustments'!$J$527:$Y$567,N$17 + 1 + $H28*$H$28, N$15)","v":0},{"$f":"INDEX('Volume adjustments'!$J$527:$Y$567,O$17 + 1 + $H28*$H$28, O$15)","v":0},{"$f":"INDEX('Volume adjustments'!$J$527:$Y$567,P$17 + 1 + $H28*$H$28, P$15)","v":0},{"$f":"INDEX('Volume adjustments'!$J$527:$Y$567,Q$17 + 1 + $H28*$H$28, Q$15)","v":0},{"$f":"INDEX('Volume adjustments'!$J$527:$Y$567,R$17 + 1 + $H28*$H$28, R$15)","v":105.63200000000001},{"$f":"INDEX('Volume adjustments'!$J$527:$Y$567,S$17 + 1 + $H28*$H$28, S$15)","v":45965.792000000001},{"$f":"INDEX('Volume adjustments'!$J$527:$Y$567,T$17 + 1 + $H28*$H$28, T$15)","v":53742.985000000001},{"$f":"INDEX('Volume adjustments'!$J$527:$Y$567,U$17 + 1 + $H28*$H$28, U$15)","v":27679.875},{"$f":"INDEX('Volume adjustments'!$J$527:$Y$567,V$17 + 1 + $H28*$H$28, V$15)","v":72700.536999999997},{"$f":"INDEX('Volume adjustments'!$J$527:$Y$567,W$17 + 1 + $H28*$H$28, W$15)","v":5.5339999999999998},{"$f":"INDEX('Volume adjustments'!$J$527:$Y$567,X$17 + 1 + $H28*$H$28, X$15)","v":349.89299999999997},{"$f":"INDEX('Volume adjustments'!$J$527:$Y$567,Y$17 + 1 + $H28*$H$28, Y$15)","v":594.99300000000005},{"$f":"INDEX('Volume adjustments'!$J$527:$Y$567,Z$17 + 1 + $H28*$H$28, Z$15)","v":2042.6120000000001},{"$f":"INDEX('Volume adjustments'!$J$527:$Y$567,AA$17 + 1 + $H28*$H$28, AA$15)","v":16437.256000000001},{"$f":"INDEX('Volume adjustments'!$J$527:$Y$567,AB$17 + 1 + $H28*$H$28, AB$15)","v":1721.625},{"$f":"INDEX('Volume adjustments'!$J$527:$Y$567,AC$17 + 1 + $H28*$H$28, AC$15)","v":22438.028999999999},{"$f":"INDEX('Volume adjustments'!$J$527:$Y$567,AD$17 + 1 + $H28*$H$28, AD$15)","v":30703.263999999999},{"$f":"INDEX('Volume adjustments'!$J$527:$Y$567,AE$17 + 1 + $H28*$H$28, AE$15)","v":27804.212},{"$f":"INDEX('Volume adjustments'!$J$527:$Y$567,AF$17 + 1 + $H28*$H$28, AF$15)","v":116416.254},{"$f":"INDEX('Volume adjustments'!$J$527:$Y$567,AG$17 + 1 + $H28*$H$28, AG$15)","v":0},{"$f":"INDEX('Volume adjustments'!$J$527:$Y$567,AH$17 + 1 + $H28*$H$28, AH$15)","v":0},{"$f":"INDEX('Volume adjustments'!$J$527:$Y$567,AI$17 + 1 + $H28*$H$28, AI$15)","v":0},{"$f":"INDEX('Volume adjustments'!$J$527:$Y$567,AJ$17 + 1 + $H28*$H$28, AJ$15)","v":8237.9060000000009},{"$f":"INDEX('Volume adjustments'!$J$527:$Y$567,AK$17 + 1 + $H28*$H$28, AK$15)","v":0},{"$f":"INDEX('Volume adjustments'!$J$527:$Y$567,AL$17 + 1 + $H28*$H$28, AL$15)","v":374.73599999999999},{"$f":"INDEX('Volume adjustments'!$J$527:$Y$567,AM$17 + 1 + $H28*$H$28, AM$15)","v":0},{"$f":"INDEX('Volume adjustments'!$J$527:$Y$567,AN$17 + 1 + $H28*$H$28, AN$15)","v":18493.092000000001},{"$f":"INDEX('Volume adjustments'!$J$527:$Y$567,AO$17 + 1 + $H28*$H$28, AO$15)","v":0}]
[]
[null,null,null,null,"LDNO LV volume forecast",null,null,null,">",null,null,null,null,null,null,null,null,null,null,null,null,null,null,null,null,null,null,null,null,null,null,null,null,null,null,null,null,null,null,null,null,null,"Paragraph 52"]
[null,null,null,null,null,"Fixed inputs in column H are used to direct an INDEX function, which helps map between pre- and post-revenue"]
[null,null,null,null,null,"matching tariffs"]
[null,null,null,null,null,"Rate 1 units","MWh",0,null,{"$f":"INDEX('Volume adjustments'!$J$571:$Y$611,J$17 + 1 + $H33*$H$39, J$15)","v":21462.198933541778},{"$f":"INDEX('Volume adjustments'!$J$571:$Y$611,K$17 + 1 + $H33*$H$39, K$15)","v":0.94232038353711733},{"$f":"INDEX('Volume adjustments'!$J$571:$Y$611,L$17 + 1 + $H33*$H$39, L$15)","v":0},{"$f":"INDEX('Volume adjustments'!$J$571:$Y$611,M$17 + 1 + $H33*$H$39, M$15)","v":298.66338959322127},{"$f":"INDEX('Volume adjustments'!$J$571:$Y$611,N$17 + 1 + $H33*$H$39, N$15)","v":377.56527458563846},{"$f":"INDEX('Volume adjustments'!$J$571:$Y$611,O$17 + 1 + $H33*$H$39, O$15)","v":193.45349700351417},{"$f":"INDEX('Volume adjustments'!$J$571:$Y$611,P$17 + 1 + $H33*$H$39, P$15)","v":397.88777602272353},{"$f":"INDEX('Volume adjustments'!$J$571:$Y$611,Q$17 + 1 + $H33*$H$39, Q$15)","v":0},{"$f":"INDEX('Volume adjustments'!$J$571:$Y$611,R$17 + 1 + $H33*$H$39, R$15)","v":0},{"$f":"INDEX('Volume adjustments'!$J$571:$Y$611,S$17 + 1 + $H33*$H$39, S$15)","v":419.452},{"$f":"INDEX('Volume adjustments'!$J$571:$Y$611,T$17 + 1 + $H33*$H$39, T$15)","v":772.44199999999989},{"$f":"INDEX('Volume adjustments'!$J$571:$Y$611,U$17 + 1 + $H33*$H$39, U$15)","v":1413.3419999999999},{"$f":"INDEX('Volume adjustments'!$J$571:$Y$611,V$17 + 1 + $H33*$H$39, V$15)","v":664.02799999999991},{"$f":"INDEX('Volume adjustments'!$J$571:$Y$611,W$17 + 1 + $H33*$H$39, W$15)","v":0},{"$f":"INDEX('Volume adjustments'!$J$571:$Y$611,X$17 + 1 + $H33*$H$39, X$15)","v":0},{"$f":"INDEX('Volume adjustments'!$J$571:$Y$611,Y$17 + 1 + $H33*$H$39, Y$15)","v":0},{"$f":"INDEX('Volume adjustments'!$J$571:$Y$611,Z$17 + 1 + $H33*$H$39, Z$15)","v":0},{"$f":"INDEX('Volume adjustments'!$J$571:$Y$611,AA$17 + 1 + $H33*$H$39, AA$15)","v":0},{"$f":"INDEX('Volume adjustments'!$J$571:$Y$611,AB$17 + 1 + $H33*$H$39, AB$15)","v":0},{"$f":"INDEX('Volume adjustments'!$J$571:$Y$611,AC$17 + 1 + $H33*$H$39, AC$15)","v":0},{"$f":"INDEX('Volume adjustments'!$J$571:$Y$611,AD$17 + 1 + $H33*$H$39, AD$15)","v":0},{"$f":"INDEX('Volume adjustments'!$J$571:$Y$611,AE$17 + 1 + $H33*$H$39, AE$15)","v":0},{"$f":"INDEX('Volume adjustments'!$J$571:$Y$611,AF$17 + 1 + $H33*$H$39, AF$15)","v":0},{"$f":"INDEX('Volume adjustments'!$J$571:$Y$611,AG$17 + 1 + $H33*$H$39, AG$15)","v":0.21960494837327099},{"$f":"INDEX('Volume adjustments'!$J$571:$Y$611,AH$17 + 1 + $H33*$H$39, AH$15)","v":175.78179287348217},{"$f":"INDEX('Volume adjustments'!$J$571:$Y$611,AI$17 + 1 + $H33*$H$39, AI$15)","v":0},{"$f":"INDEX('Volume adjustments'!$J$571:$Y$611,AJ$17 + 1 + $H33*$H$39, AJ$15)","v":0},{"$f":"INDEX('Volume adjustments'!$J$571:$Y$611,AK$17 + 1 + $H33*$H$39, AK$15)","v":0},{"$f":"INDEX('Volume adjustments'!$J$571:$Y$611,AL$17 + 1 + $H33*$H$39, AL$15)","v":0},{"$f":"INDEX('Volume adjustments'!$J$571:$Y$611,AM$17 + 1 + $H33*$H$39, AM$15)","v":0},{"$f":"INDEX('Volume adjustments'!$J$571:$Y$611,AN$17 + 1 + $H33*$H$39, AN$15)","v":0},{"$f":"INDEX('Volume adjustments'!$J$571:$Y$611,AO$17 + 1 + $H33*$H$39, AO$15)","v":0}]
[null,null,null,null,null,"Rate 2 units","MWh",1,null,{"$f":"INDEX('Volume adjustments'!$J$571:$Y$611,J$17 + 1 + $H34*$H$39, J$15)","v":77777.691231824007},{"$f":"INDEX('Volume adjustments'!$J$571:$Y$611,K$17 + 1 + $H34*$H$39, K$15)","v":17.523477696397507},{"$f":"INDEX('Volume adjustments'!$J$571:$Y$611,L$17 + 1 + $H34*$H$39, L$15)","v":0},{"$f":"INDEX('Volume adjustments'!$J$571:$Y$611,M$17 + 1 + $H34*$H$39, M$15)","v":1607.3025907456383},{"$f":"INDEX('Volume adjustments'!$J$571:$Y$611,N$17 + 1 + $H34*$H$39, N$15)","v":2034.7834282871377},{"$f":"INDEX('Volume adjustments'!$J$571:$Y$611,O$17 + 1 + $H34*$H$39, O$15)","v":1037.8081846777036},{"$f":"INDEX('Volume adjustments'!$J$571:$Y$611,P$17 + 1 + $H34*$H$39, P$15)","v":2109.1167127492017},{"$f":"INDEX('Volume adjustments'!$J$571:$Y$611,Q$17 + 1 + $H34*$H$39, Q$15)","v":0},{"$f":"INDEX('Volume adjustments'!$J$571:$Y$611,R$17 + 1 + $H34*$H$39, R$15)","v":0},{"$f":"INDEX('Volume adjustments'!$J$571:$Y$611,S$17 + 1 + $H34*$H$39, S$15)","v":2095.663},{"$f":"INDEX('Volume adjustments'!$J$571:$Y$611,T$17 + 1 + $H34*$H$39, T$15)","v":3452.5229999999992},{"$f":"INDEX('Volume adjustments'!$J$571:$Y$611,U$17 + 1 + $H34*$H$39, U$15)","v":6017.7799999999988},{"$f":"INDEX('Volume adjustments'!$J$571:$Y$611,V$17 + 1 + $H34*$H$39, V$15)","v":2880.7309999999998},{"$f":"INDEX('Volume adjustments'!$J$571:$Y$611,W$17 + 1 + $H34*$H$39, W$15)","v":0},{"$f":"INDEX('Volume adjustments'!$J$571:$Y$611,X$17 + 1 + $H34*$H$39, X$15)","v":0},{"$f":"INDEX('Volume adjustments'!$J$571:$Y$611,Y$17 + 1 + $H34*$H$39, Y$15)","v":0},{"$f":"INDEX('Volume adjustments'!$J$571:$Y$611,Z$17 + 1 + $H34*$H$39, Z$15)","v":0},{"$f":"INDEX('Volume adjustments'!$J$571:$Y$611,AA$17 + 1 + $H34*$H$39, AA$15)","v":0},{"$f":"INDEX('Volume adjustments'!$J$571:$Y$611,AB$17 + 1 + $H34*$H$39, AB$15)","v":0},{"$f":"INDEX('Volume adjustments'!$J$571:$Y$611,AC$17 + 1 + $H34*$H$39, AC$15)","v":0},{"$f":"INDEX('Volume adjustments'!$J$571:$Y$611,AD$17 + 1 + $H34*$H$39, AD$15)","v":0},{"$f":"INDEX('Volume adjustments'!$J$571:$Y$611,AE$17 + 1 + $H34*$H$39, AE$15)","v":0},{"$f":"INDEX('Volume adjustments'!$J$571:$Y$611,AF$17 + 1 + $H34*$H$39, AF$15)","v":0},{"$f":"INDEX('Volume adjustments'!$J$571:$Y$611,AG$17 + 1 + $H34*$H$39, AG$15)","v":3.0193224080975973},{"$f":"INDEX('Volume adjustments'!$J$571:$Y$611,AH$17 + 1 + $H34*$H$39, AH$15)","v":1148.2303713782283},{"$f":"INDEX('Volume adjustments'!$J$571:$Y$611,AI$17 + 1 + $H34*$H$39, AI$15)","v":0},{"$f":"INDEX('Volume adjustments'!$J$571:$Y$611,AJ$17 + 1 + $H34*$H$39, AJ$15)","v":0},{"$f":"INDEX('Volume adjustments'!$J$571:$Y$611,AK$17 + 1 + $H34*$H$39, AK$15)","v":0},{"$f":"INDEX('Volume adjustments'!$J$571:$Y$611,AL$17 + 1 + $H34*$H$39, AL$15)","v":0},{"$f":"INDEX('Volume adjustments'!$J$571:$Y$611,AM$17 + 1 + $H34*$H$39, AM$15)","v":0},{"$f":"INDEX('Volume adjustments'!$J$571:$Y$611,AN$17 + 1 + $H34*$H$39, AN$15)","v":0},{"$f":"INDEX('Volume adjustments'!$J$571:$Y$611,AO$17 + 1 + $H34*$H$39, AO$15)","v":0}]
[null,null,null,null,null,"Rate 3 units","MWh",2,null,{"$f":"INDEX('Volume adjustments'!$J$571:$Y$611,J$17 + 1 + $H35*$H$39, J$15)","v":73752.726063647118},{"$f":"INDEX('Volume adjustments'!$J$571:$Y$611,K$17 + 1 + $H35*$H$39, K$15)","v":82.999714316345589},{"$f":"INDEX('Volume adjustments'!$J$571:$Y$611,L$17 + 1 + $H35*$H$39, L$15)","v":0},{"$f":"INDEX('Volume adjustments'!$J$571:$Y$611,M$17 + 1 + $H35*$H$39, M$15)","v":1162.9071665288359},{"$f":"INDEX('Volume adjustments'!$J$571:$Y$611,N$17 + 1 + $H35*$H$39, N$15)","v":1464.8371894631355},{"$f":"INDEX('Volume adjustments'!$J$571:$Y$611,O$17 + 1 + $H35*$H$39, O$15)","v":746.81876837538869},{"$f":"INDEX('Volume adjustments'!$J$571:$Y$611,P$17 + 1 + $H35*$H$39, P$15)","v":1595.177318911821},{"$f":"INDEX('Volume adjustments'!$J$571:$Y$611,Q$17 + 1 + $H35*$H$39, Q$15)","v":0},{"$f":"INDEX('Volume adjustments'!$J$571:$Y$611,R$17 + 1 + $H35*$H$39, R$15)","v":0},{"$f":"INDEX('Volume adjustments'!$J$571:$Y$611,S$17 + 1 + $H35*$H$39, S$15)","v":4310.2619999999997},{"$f":"INDEX('Volume adjustments'!$J$571:$Y$611,T$17 + 1 + $H35*$H$39, T$15)","v":2659.9619999999995},{"$f":"INDEX('Volume adjustments'!$J$571:$Y$611,U$17 + 1 + $H35*$H$39, U$15)","v":5374.3689999999997},{"$f":"INDEX('Volume adjustments'!$J$571:$Y$611,V$17 + 1 + $H35*$H$39, V$15)","v":2849.9900000000002},{"$f":"INDEX('Volume adjustments'!$J$571:$Y$611,W$17 + 1 + $H35*$H$39, W$15)","v":0},{"$f":"INDEX('Volume adjustments'!$J$571:$Y$611,X$17 + 1 + $H35*$H$39, X$15)","v":0},{"$f":"INDEX('Volume adjustments'!$J$571:$Y$611,Y$17 + 1 + $H35*$H$39, Y$15)","v":0},{"$f":"INDEX('Volume adjustments'!$J$571:$Y$611,Z$17 + 1 + $H35*$H$39, Z$15)","v":0},{"$f":"INDEX('Volume adjustments'!$J$571:$Y$611,AA$17 + 1 + $H35*$H$39, AA$15)","v":0},{"$f":"INDEX('Volume adjustments'!$J$571:$Y$611,AB$17 + 1 + $H35*$H$39, AB$15)","v":0},{"$f":"INDEX('Volume adjustments'!$J$571:$Y$611,AC$17 + 1 + $H35*$H$39, AC$15)","v":0},{"$f":"INDEX('Volume adjustments'!$J$571:$Y$611,AD$17 + 1 + $H35*$H$39, AD$15)","v":0},{"$f":"INDEX('Volume adjustments'!$J$571:$Y$611,AE$17 + 1 + $H35*$H$39, AE$15)","v":0},{"$f":"INDEX('Volume adjustments'!$J$571:$Y$611,AF$17 + 1 + $H35*$H$39, AF$15)","v":0},{"$f":"INDEX('Volume adjustments'!$J$571:$Y$611,AG$17 + 1 + $H35*$H$39, AG$15)","v":3.7674268151621209},{"$f":"INDEX('Volume adjustments'!$J$571:$Y$611,AH$17 + 1 + $H35*$H$39, AH$15)","v":507.5761148805301},{"$f":"INDEX('Volume adjustments'!$J$571:$Y$611,AI$17 + 1 + $H35*$H$39, AI$15)","v":0},{"$f":"INDEX('Volume adjustments'!$J$571:$Y$611,AJ$17 + 1 + $H35*$H$39, AJ$15)","v":0},{"$f":"INDEX('Volume adjustments'!$J$571:$Y$611,AK$17 + 1 + $H35*$H$39, AK$15)","v":0},{"$f":"INDEX('Volume adjustments'!$J$571:$Y$611,AL$17 + 1 + $H35*$H$39, AL$15)","v":0},{"$f":"INDEX('Volume adjustments'!$J$571:$Y$611,AM$17 + 1 + $H35*$H$39, AM$15)","v":0},{"$f":"INDEX('Volume adjustments'!$J$571:$Y$611,AN$17 + 1 + $H35*$H$39, AN$15)","v":0},{"$f":"INDEX('Volume adjustments'!$J$571:$Y$611,AO$17 + 1 + $H35*$H$39, AO$15)","v":0}]
[null,null,null,null,null,"MPANs","MPANs",3,null,{"$f":"INDEX('Volume adjustments'!$J$571:$Y$611,J$17 + 1 + $H36*$H$39, J$15)","v":65616},{"$f":"INDEX('Volume adjustments'!$J$571:$Y$611,K$17 + 1 + $H36*$H$39, K$15)","v":41},{"$f":"INDEX('Volume adjustments'!$J$571:$Y$611,L$17 + 1 + $H36*$H$39, L$15)","v":0},{"$f":"INDEX('Volume adjustments'!$J$571:$Y$611,M$17 + 1 + $H36*$H$39, M$15)","v":1034},{"$f":"INDEX('Volume adjustments'!$J$571:$Y$611,N$17 + 1 + $H36*$H$39, N$15)","v":566},{"$f":"INDEX('Volume adjustments'!$J$571:$Y$611,O$17 + 1 + $H36*$H$39, O$15)","v":239},{"$f":"INDEX('Volume adjustments'!$J$571:$Y$611,P$17 + 1 + $H36*$H$39, P$15)","v":181},{"$f":"INDEX('Volume adjustments'!$J$571:$Y$611,Q$17 + 1 + $H36*$H$39, Q$15)","v":0},{"$f":"INDEX('Volume adjustments'!$J$571:$Y$611,R$17 + 1 + $H36*$H$39, R$15)","v":0},{"$f":"INDEX('Volume adjustments'!$J$571:$Y$611,S$17 + 1 + $H36*$H$39, S$15)","v":41},{"$f":"INDEX('Volume adjustments'!$J$571:$Y$611,T$17 + 1 + $H36*$H$39, T$15)","v":80},{"$f":"INDEX('Volume adjustments'!$J$571:$Y$611,U$17 + 1 + $H36*$H$39, U$15)","v":78},{"$f":"INDEX('Volume adjustments'!$J$571:$Y$611,V$17 + 1 + $H36*$H$39, V$15)","v":27},{"$f":"INDEX('Volume adjustments'!$J$571:$Y$611,W$17 + 1 + $H36*$H$39, W$15)","v":0},{"$f":"INDEX('Volume adjustments'!$J$571:$Y$611,X$17 + 1 + $H36*$H$39, X$15)","v":0},{"$f":"INDEX('Volume adjustments'!$J$571:$Y$611,Y$17 + 1 + $H36*$H$39, Y$15)","v":0},{"$f":"INDEX('Volume adjustments'!$J$571:$Y$611,Z$17 + 1 + $H36*$H$39, Z$15)","v":0},{"$f":"INDEX('Volume adjustments'!$J$571:$Y$611,AA$17 + 1 + $H36*$H$39, AA$15)","v":0},{"$f":"INDEX('Volume adjustments'!$J$571:$Y$611,AB$17 + 1 + $H36*$H$39, AB$15)","v":0},{"$f":"INDEX('Volume adjustments'!$J$571:$Y$611,AC$17 + 1 + $H36*$H$39, AC$15)","v":0},{"$f":"INDEX('Volume adjustments'!$J$571:$Y$611,AD$17 + 1 + $H36*$H$39, AD$15)","v":0},{"$f":"INDEX('Volume adjustments'!$J$571:$Y$611,AE$17 + 1 + $H36*$H$39, AE$15)","v":0},{"$f":"INDEX('Volume adjustments'!$J$571:$Y$611,AF$17 + 1 + $H36*$H$39, AF$15)","v":0},{"$f":"INDEX('Volume adjustments'!$J$571:$Y$611,AG$17 + 1 + $H36*$H$39, AG$15)","v":0},{"$f":"INDEX('Volume adjustments'!$J$571:$Y$611,AH$17 + 1 + $H36*$H$39, AH$15)","v":550},{"$f":"INDEX('Volume adjustments'!$J$571:$Y$611,AI$17 + 1 + $H36*$H$39, AI$15)","v":0},{"$f":"INDEX('Volume adjustments'!$J$571:$Y$611,AJ$17 + 1 + $H36*$H$39, AJ$15)","v":0},{"$f":"INDEX('Volume adjustments'!$J$571:$Y$611,AK$17 + 1 + $H36*$H$39, AK$15)","v":0},{"$f":"INDEX('Volume adjustments'!$J$571:$Y$611,AL$17 + 1 + $H36*$H$39, AL$15)","v":0},{"$f":"INDEX('Volume adjustments'!$J$571:$Y$611,AM$17 + 1 + $H36*$H$39, AM$15)","v":0},{"$f":"INDEX('Volume adjustments'!$J$571:$Y$611,AN$17 + 1 + $H36*$H$39, AN$15)","v":0},{"$f":"INDEX('Volume adjustments'!$J$571:$Y$611,AO$17 + 1 + $H36*$H$39, AO$15)","v":0}]
[null,null,null,null,null,"Import capacity","kVA",4,null,{"$f":"INDEX('Volume adjustments'!$J$571:$Y$611,J$17 + 1 + $H37*$H$39, J$15)","v":0},{"$f":"INDEX('Volume adjustments'!$J$571:$Y$611,K$17 + 1 + $H37*$H$39, K$15)","v":0},{"$f":"INDEX('Volume adjustments'!$J$571:$Y$611,L$17 + 1 + $H37*$H$39, L$15)","v":0},{"$f":"INDEX('Volume adjustments'!$J$571:$Y$611,M$17 + 1 + $H37*$H$39, M$15)","v":0},{"$f":"INDEX('Volume adjustments'!$J$571:$Y$611,N$17 + 1 + $H37*$H$39, N$15)","v":0},{"$f":"INDEX('Volume adjustments'!$J$571:$Y$611,O$17 + 1 + $H37*$H$39, O$15)","v":0},{"$f":"INDEX('Volume adjustments'!$J$571:$Y$611,P$17 + 1 + $H37*$H$39, P$15)","v":0},{"$f":"INDEX('Volume adjustments'!$J$571:$Y$611,Q$17 + 1 + $H37*$H$39, Q$15)","v":0},{"$f":"INDEX('Volume adjustments'!$J$571:$Y$611,R$17 + 1 + $H37*$H$39, R$15)","v":0},{"$f":"INDEX('Volume adjustments'!$J$571:$Y$611,S$17 + 1 + $H37*$H$39, S$15)","v":2333},{"$f":"INDEX('Volume adjustments'!$J$571:$Y$611,T$17 + 1 + $H37*$H$39, T$15)","v":9330},{"$f":"INDEX('Volume adjustments'!$J$571:$Y$611,U$17 + 1 + $H37*$H$39, U$15)","v":14701},{"$f":"INDEX('Volume adjustments'!$J$571:$Y$611,V$17 + 1 + $H37*$H$39, V$15)","v":11229},{"$f":"INDEX('Volume adjustments'!$J$571:$Y$611,W$17 + 1 + $H37*$H$39, W$15)","v":0},{"$f":"INDEX('Volume adjustments'!$J$571:$Y$611,X$17 + 1 + $H37*$H$39, X$15)","v":0},{"$f":"INDEX('Volume adjustments'!$J$571:$Y$611,Y$17 + 1 + $H37*$H$39, Y$15)","v":0},{"$f":"INDEX('Volume adjustments'!$J$571:$Y$611,Z$17 + 1 + $H37*$H$39, Z$15)","v":0},{"$f":"INDEX('Volume adjustments'!$J$571:$Y$611,AA$17 + 1 + $H37*$H$39, AA$15)","v":0},{"$f":"INDEX('Volume adjustments'!$J$571:$Y$611,AB$17 + 1 + $H37*$H$39, AB$15)","v":0},{"$f":"INDEX('Volume adjustments'!$J$571:$Y$611,AC$17 + 1 + $H37*$H$39, AC$15)","v":0},{"$f":"INDEX('Volume adjustments'!$J$571:$Y$611,AD$17 + 1 + $H37*$H$39, AD$15)","v":0},{"$f":"INDEX('Volume adjustments'!$J$571:$Y$611,AE$17 + 1 + $H37*$H$39, AE$15)","v":0},{"$f":"INDEX('Volume adjustments'!$J$571:$Y$611,AF$17 + 1 + $H37*$H$39, AF$15)","v":0},{"$f":"INDEX('Volume adjustments'!$J$571:$Y$611,AG$17 + 1 + $H37*$H$39, AG$15)","v":0},{"$f":"INDEX('Volume adjustments'!$J$571:$Y$611,AH$17 + 1 + $H37*$H$39, AH$15)","v":0},{"$f":"INDEX('Volume adjustments'!$J$571:$Y$611,AI$17 + 1 + $H37*$H$39, AI$15)","v":0},{"$f":"INDEX('Volume adjustments'!$J$571:$Y$611,AJ$17 + 1 + $H37*$H$39, AJ$15)","v":0},{"$f":"INDEX('Volume adjustments'!$J$571:$Y$611,AK$17 + 1 + $H37*$H$39, AK$15)","v":0},{"$f":"INDEX('Volume adjustments'!$J$571:$Y$611,AL$17 + 1 + $H37*$H$39, AL$15)","v":0},{"$f":"INDEX('Volume adjustments'!$J$571:$Y$611,AM$17 + 1 + $H37*$H$39, AM$15)","v":0},{"$f":"INDEX('Volume adjustments'!$J$571:$Y$611,AN$17 + 1 + $H37*$H$39, AN$15)","v":0},{"$f":"INDEX('Volume adjustments'!$J$571:$Y$611,AO$17 + 1 + $H37*$H$39, AO$15)","v":0}]
[null,null,null,null,null,"Exceeded capacity","kVA",5,null,{"$f":"INDEX('Volume adjustments'!$J$571:$Y$611,J$17 + 1 + $H38*$H$39, J$15)","v":0},{"$f":"INDEX('Volume adjustments'!$J$571:$Y$611,K$17 + 1 + $H38*$H$39, K$15)","v":0},{"$f":"INDEX('Volume adjustments'!$J$571:$Y$611,L$17 + 1 + $H38*$H$39, L$15)","v":0},{"$f":"INDEX('Volume adjustments'!$J$571:$Y$611,M$17 + 1 + $H38*$H$39, M$15)","v":0},{"$f":"INDEX('Volume adjustments'!$J$571:$Y$611,N$17 + 1 + $H38*$H$39, N$15)","v":0},{"$f":"INDEX('Volume adjustments'!$J$571:$Y$611,O$17 + 1 + $H38*$H$39, O$15)","v":0},{"$f":"INDEX('Volume adjustments'!$J$571:$Y$611,P$17 + 1 + $H38*$H$39, P$15)","v":0},{"$f":"INDEX('Volume adjustments'!$J$571:$Y$611,Q$17 + 1 + $H38*$H$39, Q$15)","v":0},{"$f":"INDEX('Volume adjustments'!$J$571:$Y$611,R$17 + 1 + $H38*$H$39, R$15)","v":0},{"$f":"INDEX('Volume adjustments'!$J$571:$Y$611,S$17 + 1 + $H38*$H$39, S$15)","v":1428},{"$f":"INDEX('Volume adjustments'!$J$571:$Y$611,T$17 + 1 + $H38*$H$39, T$15)","v":25.666666666666668},{"$f":"INDEX('Volume adjustments'!$J$571:$Y$611,U$17 + 1 + $H38*$H$39, U$15)","v":27.333333333333332},{"$f":"INDEX('Volume adjustments'!$J$571:$Y$611,V$17 + 1 + $H38*$H$39, V$15)","v":0},{"$f":"INDEX('Volume adjustments'!$J$571:$Y$611,W$17 + 1 + $H38*$H$39, W$15)","v":0},{"$f":"INDEX('Volume adjustments'!$J$571:$Y$611,X$17 + 1 + $H38*$H$39, X$15)","v":0},{"$f":"INDEX('Volume adjustments'!$J$571:$Y$611,Y$17 + 1 + $H38*$H$39, Y$15)","v":0},{"$f":"INDEX('Volume adjustments'!$J$571:$Y$611,Z$17 + 1 + $H38*$H$39, Z$15)","v":0},{"$f":"INDEX('Volume adjustments'!$J$571:$Y$611,AA$17 + 1 + $H38*$H$39, AA$15)","v":0},{"$f":"INDEX('Volume adjustments'!$J$571:$Y$611,AB$17 + 1 + $H38*$H$39, AB$15)","v":0},{"$f":"INDEX('Volume adjustments'!$J$571:$Y$611,AC$17 + 1 + $H38*$H$39, AC$15)","v":0},{"$f":"INDEX('Volume adjustments'!$J$571:$Y$611,AD$17 + 1 + $H38*$H$39, AD$15)","v":0},{"$f":"INDEX('Volume adjustments'!$J$571:$Y$611,AE$17 + 1 + $H38*$H$39, AE$15)","v":0},{"$f":"INDEX('Volume adjustments'!$J$571:$Y$611,AF$17 + 1 + $H38*$H$39, AF$15)","v":0},{"$f":"INDEX('Volume adjustments'!$J$571:$Y$611,AG$17 + 1 + $H38*$H$39, AG$15)","v":0},{"$f":"INDEX('Volume adjustments'!$J$571:$Y$611,AH$17 + 1 + $H38*$H$39, AH$15)","v":0},{"$f":"INDEX('Volume adjustments'!$J$571:$Y$611,AI$17 + 1 + $H38*$H$39, AI$15)","v":0},{"$f":"INDEX('Volume adjustments'!$J$571:$Y$611,AJ$17 + 1 + $H38*$H$39, AJ$15)","v":0},{"$f":"INDEX('Volume adjustments'!$J$571:$Y$611,AK$17 + 1 + $H38*$H$39, AK$15)","v":0},{"$f":"INDEX('Volume adjustments'!$J$571:$Y$611,AL$17 + 1 + $H38*$H$39, AL$15)","v":0},{"$f":"INDEX('Volume adjustments'!$J$571:$Y$611,AM$17 + 1 + $H38*$H$39, AM$15)","v":0},{"$f":"INDEX('Volume adjustments'!$J$571:$Y$611,AN$17 + 1 + $H38*$H$39, AN$15)","v":0},{"$f":"INDEX('Volume adjustments'!$J$571:$Y$611,AO$17 + 1 + $H38*$H$39, AO$15)","v":0}]
[null,null,null,null,null,"Reactive power units","MVArh",6,null,{"$f":"INDEX('Volume adjustments'!$J$571:$Y$611,J$17 + 1 + $H39*$H$39, J$15)","v":0},{"$f":"INDEX('Volume adjustments'!$J$571:$Y$611,K$17 + 1 + $H39*$H$39, K$15)","v":0},{"$f":"INDEX('Volume adjustments'!$J$571:$Y$611,L$17 + 1 + $H39*$H$39, L$15)","v":0},{"$f":"INDEX('Volume adjustments'!$J$571:$Y$611,M$17 + 1 + $H39*$H$39, M$15)","v":0},{"$f":"INDEX('Volume adjustments'!$J$571:$Y$611,N$17 + 1 + $H39*$H$39, N$15)","v":0},{"$f":"INDEX('Volume adjustments'!$J$571:$Y$611,O$17 + 1 + $H39*$H$39, O$15)","v":0},{"$f":"INDEX('Volume adjustments'!$J$571:$Y$611,P$17 + 1 + $H39*$H$39, P$15)","v":0},{"$f":"INDEX('Volume adjustments'!$J$571:$Y$611,Q$17 + 1 + $H39*$H$39, Q$15)","v":0},{"$f":"INDEX('Volume adjustments'!$J$571:$Y$611,R$17 + 1 + $H39*$H$39, R$15)","v":0},{"$f":"INDEX('Volume adjustments'!$J$571:$Y$611,S$17 + 1 + $H39*$H$39, S$15)","v":339.49200000000002},{"$f":"INDEX('Volume adjustments'!$J$571:$Y$611,T$17 + 1 + $H39*$H$39, T$15)","v":593.11692000000005},{"$f":"INDEX('Volume adjustments'!$J$571:$Y$611,U$17 + 1 + $H39*$H$39, U$15)","v":913.97219999999993},{"$f":"INDEX('Volume adjustments'!$J$571:$Y$611,V$17 + 1 + $H39*$H$39, V$15)","v":364.93763999999999},{"$f":"INDEX('Volume adjustments'!$J$571:$Y$611,W$17 + 1 + $H39*$H$39, W$15)","v":0},{"$f":"INDEX('Volume adjustments'!$J$571:$Y$611,X$17 + 1 + $H39*$H$39, X$15)","v":0},{"$f":"INDEX('Volume adjustments'!$J$571:$Y$611,Y$17 + 1 + $H39*$H$39, Y$15)","v":0},{"$f":"INDEX('Volume adjustments'!$J$571:$Y$611,Z$17 + 1 + $H39*$H$39, Z$15)","v":0},{"$f":"INDEX('Volume adjustments'!$J$571:$Y$611,AA$17 + 1 + $H39*$H$39, AA$15)","v":0},{"$f":"INDEX('Volume adjustments'!$J$571:$Y$611,AB$17 + 1 + $H39*$H$39, AB$15)","v":0},{"$f":"INDEX('Volume adjustments'!$J$571:$Y$611,AC$17 + 1 + $H39*$H$39, AC$15)","v":0},{"$f":"INDEX('Volume adjustments'!$J$571:$Y$611,AD$17 + 1 + $H39*$H$39, AD$15)","v":0},{"$f":"INDEX('Volume adjustments'!$J$571:$Y$611,AE$17 + 1 + $H39*$H$39, AE$15)","v":0},{"$f":"INDEX('Volume adjustments'!$J$571:$Y$611,AF$17 + 1 + $H39*$H$39, AF$15)","v":0},{"$f":"INDEX('Volume adjustments'!$J$571:$Y$611,AG$17 + 1 + $H39*$H$39, AG$15)","v":0},{"$f":"INDEX('Volume adjustments'!$J$571:$Y$611,AH$17 + 1 + $H39*$H$39, AH$15)","v":0},{"$f":"INDEX('Volume adjustments'!$J$571:$Y$611,AI$17 + 1 + $H39*$H$39, AI$15)","v":0},{"$f":"INDEX('Volume adjustments'!$J$571:$Y$611,AJ$17 + 1 + $H39*$H$39, AJ$15)","v":0},{"$f":"INDEX('Volume adjustments'!$J$571:$Y$611,AK$17 + 1 + $H39*$H$39, AK$15)","v":0},{"$f":"INDEX('Volume adjustments'!$J$571:$Y$611,AL$17 + 1 + $H39*$H$39, AL$15)","v":0},{"$f":"INDEX('Volume adjustments'!$J$571:$Y$611,AM$17 + 1 + $H39*$H$39, AM$15)","v":0},{"$f":"INDEX('Volume adjustments'!$J$571:$Y$611,AN$17 + 1 + $H39*$H$39, AN$15)","v":0},{"$f":"INDEX('Volume adjustments'!$J$571:$Y$611,AO$17 + 1 + $H39*$H$39, AO$15)","v":0}]
[]
[null,null,null,null,"LDNO HV volume forecast",null,null,null,">",null,null,null,null,null,null,null,null,null,null,null,null,null,null,null,null,null,null,null,null,null,null,null,null,null,null,null,null,null,null,null,null,null,"Paragraph 52"]
[null,null,null,null,null,"Fixed inputs in column H are used to direct an INDEX function, which helps map between pre- and post-revenue"]
[null,null,null,null,null,"matching tariffs"]
[null,null,null,null,null,"Rate 1 units","MWh",0,null,{"$f":"INDEX('Volume adjustments'!$J$615:$Y$655,J$17 + 1 + $H44*$H$50, J$15)","v":37668.804468348229},{"$f":"INDEX('Volume adjustments'!$J$615:$Y$655,K$17 + 1 + $H44*$H$50, K$15)","v":0},{"$f":"INDEX('Volume adjustments'!$J$615:$Y$655,L$17 + 1 + $H44*$H$50, L$15)","v":0},{"$f":"INDEX('Volume adjustments'!$J$615:$Y$655,M$17 + 1 + $H44*$H$50, M$15)","v":417.28256153537467},{"$f":"INDEX('Volume adjustments'!$J$615:$Y$655,N$17 + 1 + $H44*$H$50, N$15)","v":499.93810010868759},{"$f":"INDEX('Volume adjustments'!$J$615:$Y$655,O$17 + 1 + $H44*$H$50, O$15)","v":532.59682027534109},{"$f":"INDEX('Volume adjustments'!$J$615:$Y$655,P$17 + 1 + $H44*$H$50, P$15)","v":1171.8405958152541},{"$f":"INDEX('Volume adjustments'!$J$615:$Y$655,Q$17 + 1 + $H44*$H$50, Q$15)","v":0},{"$f":"INDEX('Volume adjustments'!$J$615:$Y$655,R$17 + 1 + $H44*$H$50, R$15)","v":0},{"$f":"INDEX('Volume adjustments'!$J$615:$Y$655,S$17 + 1 + $H44*$H$50, S$15)","v":1290.8150000000001},{"$f":"INDEX('Volume adjustments'!$J$615:$Y$655,T$17 + 1 + $H44*$H$50, T$15)","v":2907.3960000000002},{"$f":"INDEX('Volume adjustments'!$J$615:$Y$655,U$17 + 1 + $H44*$H$50, U$15)","v":3254.9690000000001},{"$f":"INDEX('Volume adjustments'!$J$615:$Y$655,V$17 + 1 + $H44*$H$50, V$15)","v":10123.692999999999},{"$f":"INDEX('Volume adjustments'!$J$615:$Y$655,W$17 + 1 + $H44*$H$50, W$15)","v":0},{"$f":"INDEX('Volume adjustments'!$J$615:$Y$655,X$17 + 1 + $H44*$H$50, X$15)","v":0},{"$f":"INDEX('Volume adjustments'!$J$615:$Y$655,Y$17 + 1 + $H44*$H$50, Y$15)","v":131.60499999999999},{"$f":"INDEX('Volume adjustments'!$J$615:$Y$655,Z$17 + 1 + $H44*$H$50, Z$15)","v":130.94299999999998},{"$f":"INDEX('Volume adjustments'!$J$615:$Y$655,AA$17 + 1 + $H44*$H$50, AA$15)","v":4890.4009999999998},{"$f":"INDEX('Volume adjustments'!$J$615:$Y$655,AB$17 + 1 + $H44*$H$50, AB$15)","v":0},{"$f":"INDEX('Volume adjustments'!$J$615:$Y$655,AC$17 + 1 + $H44*$H$50, AC$15)","v":1021.7430000000001},{"$f":"INDEX('Volume adjustments'!$J$615:$Y$655,AD$17 + 1 + $H44*$H$50, AD$15)","v":1614.0330000000001},{"$f":"INDEX('Volume adjustments'!$J$615:$Y$655,AE$17 + 1 + $H44*$H$50, AE$15)","v":1108.5050000000001},{"$f":"INDEX('Volume adjustments'!$J$615:$Y$655,AF$17 + 1 + $H44*$H$50, AF$15)","v":2106.7460000000001},{"$f":"INDEX('Volume adjustments'!$J$615:$Y$655,AG$17 + 1 + $H44*$H$50, AG$15)","v":0.61362232212232248},{"$f":"INDEX('Volume adjustments'!$J$615:$Y$655,AH$17 + 1 + $H44*$H$50, AH$15)","v":905.15075417043056},{"$f":"INDEX('Volume adjustments'!$J$615:$Y$655,AI$17 + 1 + $H44*$H$50, AI$15)","v":0},{"$f":"INDEX('Volume adjustments'!$J$615:$Y$655,AJ$17 + 1 + $H44*$H$50, AJ$15)","v":1.3919999999999999},{"$f":"INDEX('Volume adjustments'!$J$615:$Y$655,AK$17 + 1 + $H44*$H$50, AK$15)","v":0},{"$f":"INDEX('Volume adjustments'!$J$615:$Y$655,AL$17 + 1 + $H44*$H$50, AL$15)","v":0},{"$f":"INDEX('Volume adjustments'!$J$615:$Y$655,AM$17 + 1 + $H44*$H$50, AM$15)","v":0},{"$f":"INDEX('Volume adjustments'!$J$615:$Y$655,AN$17 + 1 + $H44*$H$50, AN$15)","v":0},{"$f":"INDEX('Volume adjustments'!$J$615:$Y$655,AO$17 + 1 + $H44*$H$50, AO$15)","v":0}]
[null,null,null,null,null,"Rate 2 units","MWh",1,null,{"$f":"INDEX('Volume adjustments'!$J$615:$Y$655,J$17 + 1 + $H45*$H$50, J$15)","v":134158.01377456856},{"$f":"INDEX('Volume adjustments'!$J$615:$Y$655,K$17 + 1 + $H45*$H$50, K$15)","v":5.9875880158909522},{"$f":"INDEX('Volume adjustments'!$J$615:$Y$655,L$17 + 1 + $H45*$H$50, L$15)","v":0},{"$f":"INDEX('Volume adjustments'!$J$615:$Y$655,M$17 + 1 + $H45*$H$50, M$15)","v":2256.0449224299396},{"$f":"INDEX('Volume adjustments'!$J$615:$Y$655,N$17 + 1 + $H45*$H$50, N$15)","v":2675.2319858336336},{"$f":"INDEX('Volume adjustments'!$J$615:$Y$655,O$17 + 1 + $H45*$H$50, O$15)","v":2863.5206820137428},{"$f":"INDEX('Volume adjustments'!$J$615:$Y$655,P$17 + 1 + $H45*$H$50, P$15)","v":6244.6974058527676},{"$f":"INDEX('Volume adjustments'!$J$615:$Y$655,Q$17 + 1 + $H45*$H$50, Q$15)","v":0},{"$f":"INDEX('Volume adjustments'!$J$615:$Y$655,R$17 + 1 + $H45*$H$50, R$15)","v":0},{"$f":"INDEX('Volume adjustments'!$J$615:$Y$655,S$17 + 1 + $H45*$H$50, S$15)","v":5610.9470000000001},{"$f":"INDEX('Volume adjustments'!$J$615:$Y$655,T$17 + 1 + $H45*$H$50, T$15)","v":12448.427999999998},{"$f":"INDEX('Volume adjustments'!$J$615:$Y$655,U$17 + 1 + $H45*$H$50, U$15)","v":14277.290999999997},{"$f":"INDEX('Volume adjustments'!$J$615:$Y$655,V$17 + 1 + $H45*$H$50, V$15)","v":46194.21},{"$f":"INDEX('Volume adjustments'!$J$615:$Y$655,W$17 + 1 + $H45*$H$50, W$15)","v":0},{"$f":"INDEX('Volume adjustments'!$J$615:$Y$655,X$17 + 1 + $H45*$H$50, X$15)","v":0},{"$f":"INDEX('Volume adjustments'!$J$615:$Y$655,Y$17 + 1 + $H45*$H$50, Y$15)","v":535.16899999999998},{"$f":"INDEX('Volume adjustments'!$J$615:$Y$655,Z$17 + 1 + $H45*$H$50, Z$15)","v":572.56700000000001},{"$f":"INDEX('Volume adjustments'!$J$615:$Y$655,AA$17 + 1 + $H45*$H$50, AA$15)","v":22137.865999999995},{"$f":"INDEX('Volume adjustments'!$J$615:$Y$655,AB$17 + 1 + $H45*$H$50, AB$15)","v":0},{"$f":"INDEX('Volume adjustments'!$J$615:$Y$655,AC$17 + 1 + $H45*$H$50, AC$15)","v":4467.5060000000003},{"$f":"INDEX('Volume adjustments'!$J$615:$Y$655,AD$17 + 1 + $H45*$H$50, AD$15)","v":6862.0569999999998},{"$f":"INDEX('Volume adjustments'!$J$615:$Y$655,AE$17 + 1 + $H45*$H$50, AE$15)","v":4990.7900000000009},{"$f":"INDEX('Volume adjustments'!$J$615:$Y$655,AF$17 + 1 + $H45*$H$50, AF$15)","v":10577.475},{"$f":"INDEX('Volume adjustments'!$J$615:$Y$655,AG$17 + 1 + $H45*$H$50, AG$15)","v":10.331821757458917},{"$f":"INDEX('Volume adjustments'!$J$615:$Y$655,AH$17 + 1 + $H45*$H$50, AH$15)","v":5617.9084552036666},{"$f":"INDEX('Volume adjustments'!$J$615:$Y$655,AI$17 + 1 + $H45*$H$50, AI$15)","v":0},{"$f":"INDEX('Volume adjustments'!$J$615:$Y$655,AJ$17 + 1 + $H45*$H$50, AJ$15)","v":9.7500000000000018},{"$f":"INDEX('Volume adjustments'!$J$615:$Y$655,AK$17 + 1 + $H45*$H$50, AK$15)","v":0},{"$f":"INDEX('Volume adjustments'!$J$615:$Y$655,AL$17 + 1 + $H45*$H$50, AL$15)","v":0},{"$f":"INDEX('Volume adjustments'!$J$615:$Y$655,AM$17 + 1 + $H45*$H$50, AM$15)","v":0},{"$f":"INDEX('Volume adjustments'!$J$615:$Y$655,AN$17 + 1 + $H45*$H$50, AN$15)","v":0},{"$f":"INDEX('Volume adjustments'!$J$615:$Y$655,AO$17 + 1 + $H45*$H$50, AO$15)","v":0}]
[null,null,null,null,null,"Rate 3 units","MWh",2,null,{"$f":"INDEX('Volume adjustments'!$J$615:$Y$655,J$17 + 1 + $H46*$H$50, J$15)","v":130925.22660729867},{"$f":"INDEX('Volume adjustments'!$J$615:$Y$655,K$17 + 1 + $H46*$H$50, K$15)","v":100.333000048454},{"$f":"INDEX('Volume adjustments'!$J$615:$Y$655,L$17 + 1 + $H46*$H$50, L$15)","v":0},{"$f":"INDEX('Volume adjustments'!$J$615:$Y$655,M$17 + 1 + $H46*$H$50, M$15)","v":1652.0280800118378},{"$f":"INDEX('Volume adjustments'!$J$615:$Y$655,N$17 + 1 + $H46*$H$50, N$15)","v":1923.2661061466847},{"$f":"INDEX('Volume adjustments'!$J$615:$Y$655,O$17 + 1 + $H46*$H$50, O$15)","v":2148.839699374063},{"$f":"INDEX('Volume adjustments'!$J$615:$Y$655,P$17 + 1 + $H46*$H$50, P$15)","v":4726.4689262620568},{"$f":"INDEX('Volume adjustments'!$J$615:$Y$655,Q$17 + 1 + $H46*$H$50, Q$15)","v":0},{"$f":"INDEX('Volume adjustments'!$J$615:$Y$655,R$17 + 1 + $H46*$H$50, R$15)","v":0},{"$f":"INDEX('Volume adjustments'!$J$615:$Y$655,S$17 + 1 + $H46*$H$50, S$15)","v":6722.7350000000006},{"$f":"INDEX('Volume adjustments'!$J$615:$Y$655,T$17 + 1 + $H46*$H$50, T$15)","v":10760.525000000001},{"$f":"INDEX('Volume adjustments'!$J$615:$Y$655,U$17 + 1 + $H46*$H$50, U$15)","v":13615.569000000001},{"$f":"INDEX('Volume adjustments'!$J$615:$Y$655,V$17 + 1 + $H46*$H$50, V$15)","v":42303.555999999997},{"$f":"INDEX('Volume adjustments'!$J$615:$Y$655,W$17 + 1 + $H46*$H$50, W$15)","v":0},{"$f":"INDEX('Volume adjustments'!$J$615:$Y$655,X$17 + 1 + $H46*$H$50, X$15)","v":0},{"$f":"INDEX('Volume adjustments'!$J$615:$Y$655,Y$17 + 1 + $H46*$H$50, Y$15)","v":558.27299999999991},{"$f":"INDEX('Volume adjustments'!$J$615:$Y$655,Z$17 + 1 + $H46*$H$50, Z$15)","v":519.61299999999983},{"$f":"INDEX('Volume adjustments'!$J$615:$Y$655,AA$17 + 1 + $H46*$H$50, AA$15)","v":21122.558999999997},{"$f":"INDEX('Volume adjustments'!$J$615:$Y$655,AB$17 + 1 + $H46*$H$50, AB$15)","v":0},{"$f":"INDEX('Volume adjustments'!$J$615:$Y$655,AC$17 + 1 + $H46*$H$50, AC$15)","v":5018.8490000000002},{"$f":"INDEX('Volume adjustments'!$J$615:$Y$655,AD$17 + 1 + $H46*$H$50, AD$15)","v":7223.697000000001},{"$f":"INDEX('Volume adjustments'!$J$615:$Y$655,AE$17 + 1 + $H46*$H$50, AE$15)","v":6762.5339999999987},{"$f":"INDEX('Volume adjustments'!$J$615:$Y$655,AF$17 + 1 + $H46*$H$50, AF$15)","v":14591.350999999999},{"$f":"INDEX('Volume adjustments'!$J$615:$Y$655,AG$17 + 1 + $H46*$H$50, AG$15)","v":10.927907737515858},{"$f":"INDEX('Volume adjustments'!$J$615:$Y$655,AH$17 + 1 + $H46*$H$50, AH$15)","v":2475.496018252958},{"$f":"INDEX('Volume adjustments'!$J$615:$Y$655,AI$17 + 1 + $H46*$H$50, AI$15)","v":0},{"$f":"INDEX('Volume adjustments'!$J$615:$Y$655,AJ$17 + 1 + $H46*$H$50, AJ$15)","v":11.099999999999998},{"$f":"INDEX('Volume adjustments'!$J$615:$Y$655,AK$17 + 1 + $H46*$H$50, AK$15)","v":0},{"$f":"INDEX('Volume adjustments'!$J$615:$Y$655,AL$17 + 1 + $H46*$H$50, AL$15)","v":0},{"$f":"INDEX('Volume adjustments'!$J$615:$Y$655,AM$17 + 1 + $H46*$H$50, AM$15)","v":0},{"$f":"INDEX('Volume adjustments'!$J$615:$Y$655,AN$17 + 1 + $H46*$H$50, AN$15)","v":0},{"$f":"INDEX('Volume adjustments'!$J$615:$Y$655,AO$17 + 1 + $H46*$H$50, AO$15)","v":0}]
[null,null,null,null,null,"MPANs","MPANs",3,null,{"$f":"INDEX('Volume adjustments'!$J$615:$Y$655,J$17 + 1 + $H47*$H$50, J$15)","v":110214},{"$f":"INDEX('Volume adjustments'!$J$615:$Y$655,K$17 + 1 + $H47*$H$50, K$15)","v":33},{"$f":"INDEX('Volume adjustments'!$J$615:$Y$655,L$17 + 1 + $H47*$H$50, L$15)","v":0},{"$f":"INDEX('Volume adjustments'!$J$615:$Y$655,M$17 + 1 + $H47*$H$50, M$15)","v":1087},{"$f":"INDEX('Volume adjustments'!$J$615:$Y$655,N$17 + 1 + $H47*$H$50, N$15)","v":722},{"$f":"INDEX('Volume adjustments'!$J$615:$Y$655,O$17 + 1 + $H47*$H$50, O$15)","v":450},{"$f":"INDEX('Volume adjustments'!$J$615:$Y$655,P$17 + 1 + $H47*$H$50, P$15)","v":409},{"$f":"INDEX('Volume adjustments'!$J$615:$Y$655,Q$17 + 1 + $H47*$H$50, Q$15)","v":0},{"$f":"INDEX('Volume adjustments'!$J$615:$Y$655,R$17 + 1 + $H47*$H$50, R$15)","v":0},{"$f":"INDEX('Volume adjustments'!$J$615:$Y$655,S$17 + 1 + $H47*$H$50, S$15)","v":115},{"$f":"INDEX('Volume adjustments'!$J$615:$Y$655,T$17 + 1 + $H47*$H$50, T$15)","v":175},{"$f":"INDEX('Volume adjustments'!$J$615:$Y$655,U$17 + 1 + $H47*$H$50, U$15)","v":117},{"$f":"INDEX('Volume adjustments'!$J$615:$Y$655,V$17 + 1 + $H47*$H$50, V$15)","v":229},{"$f":"INDEX('Volume adjustments'!$J$615:$Y$655,W$17 + 1 + $H47*$H$50, W$15)","v":0},{"$f":"INDEX('Volume adjustments'!$J$615:$Y$655,X$17 + 1 + $H47*$H$50, X$15)","v":0},{"$f":"INDEX('Volume adjustments'!$J$615:$Y$655,Y$17 + 1 + $H47*$H$50, Y$15)","v":4},{"$f":"INDEX('Volume adjustments'!$J$615:$Y$655,Z$17 + 1 + $H47*$H$50, Z$15)","v":3},{"$f":"INDEX('Volume adjustments'!$J$615:$Y$655,AA$17 + 1 + $H47*$H$50, AA$15)","v":59},{"$f":"INDEX('Volume adjustments'!$J$615:$Y$655,AB$17 + 1 + $H47*$H$50, AB$15)","v":0},{"$f":"INDEX('Volume adjustments'!$J$615:$Y$655,AC$17 + 1 + $H47*$H$50, AC$15)","v":11},{"$f":"INDEX('Volume adjustments'!$J$615:$Y$655,AD$17 + 1 + $H47*$H$50, AD$15)","v":11},{"$f":"INDEX('Volume adjustments'!$J$615:$Y$655,AE$17 + 1 + $H47*$H$50, AE$15)","v":6},{"$f":"INDEX('Volume adjustments'!$J$615:$Y$655,AF$17 + 1 + $H47*$H$50, AF$15)","v":10},{"$f":"INDEX('Volume adjustments'!$J$615:$Y$655,AG$17 + 1 + $H47*$H$50, AG$15)","v":0},{"$f":"INDEX('Volume adjustments'!$J$615:$Y$655,AH$17 + 1 + $H47*$H$50, AH$15)","v":3296},{"$f":"INDEX('Volume adjustments'!$J$615:$Y$655,AI$17 + 1 + $H47*$H$50, AI$15)","v":0},{"$f":"INDEX('Volume adjustments'!$J$615:$Y$655,AJ$17 + 1 + $H47*$H$50, AJ$15)","v":2},{"$f":"INDEX('Volume adjustments'!$J$615:$Y$655,AK$17 + 1 + $H47*$H$50, AK$15)","v":0},{"$f":"INDEX('Volume adjustments'!$J$615:$Y$655,AL$17 + 1 + $H47*$H$50, AL$15)","v":0},{"$f":"INDEX('Volume adjustments'!$J$615:$Y$655,AM$17 + 1 + $H47*$H$50, AM$15)","v":0},{"$f":"INDEX('Volume adjustments'!$J$615:$Y$655,AN$17 + 1 + $H47*$H$50, AN$15)","v":0},{"$f":"INDEX('Volume adjustments'!$J$615:$Y$655,AO$17 + 1 + $H47*$H$50, AO$15)","v":0}]
[null,null,null,null,null,"Import capacity","kVA",4,null,{"$f":"INDEX('Volume adjustments'!$J$615:$Y$655,J$17 + 1 + $H48*$H$50, J$15)","v":0},{"$f":"INDEX('Volume adjustments'!$J$615:$Y$655,K$17 + 1 + $H48*$H$50, K$15)","v":0},{"$f":"INDEX('Volume adjustments'!$J$615:$Y$655,L$17 + 1 + $H48*$H$50, L$15)","v":0},{"$f":"INDEX('Volume adjustments'!$J$615:$Y$655,M$17 + 1 + $H48*$H$50, M$15)","v":0},{"$f":"INDEX('Volume adjustments'!$J$615:$Y$655,N$17 + 1 + $H48*$H$50, N$15)","v":0},{"$f":"INDEX('Volume adjustments'!$J$615:$Y$655,O$17 + 1 + $H48*$H$50, O$15)","v":0},{"$f":"INDEX('Volume adjustments'!$J$615:$Y$655,P$17 + 1 + $H48*$H$50, P$15)","v":0},{"$f":"INDEX('Volume adjustments'!$J$615:$Y$655,Q$17 + 1 + $H48*$H$50, Q$15)","v":0},{"$f":"INDEX('Volume adjustments'!$J$615:$Y$655,R$17 + 1 + $H48*$H$50, R$15)","v":0},{"$f":"INDEX('Volume adjustments'!$J$615:$Y$655,S$17 + 1 + $H48*$H$50, S$15)","v":6780},{"$f":"INDEX('Volume adjustments'!$J$615:$Y$655,T$17 + 1 + $H48*$H$50, T$15)","v":20249},{"$f":"INDEX('Volume adjustments'!$J$615:$Y$655,U$17 + 1 + $H48*$H$50, U$15)","v":22053},{"$f":"INDEX('Volume adjustments'!$J$615:$Y$655,V$17 + 1 + $H48*$H$50, V$15)","v":128058},{"$f":"INDEX('Volume adjustments'!$J$615:$Y$655,W$17 + 1 + $H48*$H$50, W$15)","v":0},{"$f":"INDEX('Volume adjustments'!$J$615:$Y$655,X$17 + 1 + $H48*$H$50, X$15)","v":0},{"$f":"INDEX('Volume adjustments'!$J$615:$Y$655,Y$17 + 1 + $H48*$H$50, Y$15)","v":447},{"$f":"INDEX('Volume adjustments'!$J$615:$Y$655,Z$17 + 1 + $H48*$H$50, Z$15)","v":671},{"$f":"INDEX('Volume adjustments'!$J$615:$Y$655,AA$17 + 1 + $H48*$H$50, AA$15)","v":47105},{"$f":"INDEX('Volume adjustments'!$J$615:$Y$655,AB$17 + 1 + $H48*$H$50, AB$15)","v":0},{"$f":"INDEX('Volume adjustments'!$J$615:$Y$655,AC$17 + 1 + $H48*$H$50, AC$15)","v":3402},{"$f":"INDEX('Volume adjustments'!$J$615:$Y$655,AD$17 + 1 + $H48*$H$50, AD$15)","v":7820},{"$f":"INDEX('Volume adjustments'!$J$615:$Y$655,AE$17 + 1 + $H48*$H$50, AE$15)","v":9000},{"$f":"INDEX('Volume adjustments'!$J$615:$Y$655,AF$17 + 1 + $H48*$H$50, AF$15)","v":27700},{"$f":"INDEX('Volume adjustments'!$J$615:$Y$655,AG$17 + 1 + $H48*$H$50, AG$15)","v":0},{"$f":"INDEX('Volume adjustments'!$J$615:$Y$655,AH$17 + 1 + $H48*$H$50, AH$15)","v":0},{"$f":"INDEX('Volume adjustments'!$J$615:$Y$655,AI$17 + 1 + $H48*$H$50, AI$15)","v":0},{"$f":"INDEX('Volume adjustments'!$J$615:$Y$655,AJ$17 + 1 + $H48*$H$50, AJ$15)","v":0},{"$f":"INDEX('Volume adjustments'!$J$615:$Y$655,AK$17 + 1 + $H48*$H$50, AK$15)","v":0},{"$f":"INDEX('Volume adjustments'!$J$615:$Y$655,AL$17 + 1 + $H48*$H$50, AL$15)","v":0},{"$f":"INDEX('Volume adjustments'!$J$615:$Y$655,AM$17 + 1 + $H48*$H$50, AM$15)","v":0},{"$f":"INDEX('Volume adjustments'!$J$615:$Y$655,AN$17 + 1 + $H48*$H$50, AN$15)","v":0},{"$f":"INDEX('Volume adjustments'!$J$615:$Y$655,AO$17 + 1 + $H48*$H$50, AO$15)","v":0}]
[null,null,null,null,null,"Exceeded capacity","kVA",5,null,{"$f":"INDEX('Volume adjustments'!$J$615:$Y$655,J$17 + 1 + $H49*$H$50, J$15)","v":0},{"$f":"INDEX('Volume adjustments'!$J$615:$Y$655,K$17 + 1 + $H49*$H$50, K$15)","v":0},{"$f":"INDEX('Volume adjustments'!$J$615:$Y$655,L$17 + 1 + $H49*$H$50, L$15)","v":0},{"$f":"INDEX('Volume adjustments'!$J$615:$Y$655,M$17 + 1 + $H49*$H$50, M$15)","v":0},{"$f":"INDEX('Volume adjustments'!$J$615:$Y$655,N$17 + 1 + $H49*$H$50, N$15)","v":0},{"$f":"INDEX('Volume adjustments'!$J$615:$Y$655,O$17 + 1 + $H49*$H$50, O$15)","v":0},{"$f":"INDEX('Volume adjustments'!$J$615:$Y$655,P$17 + 1 + $H49*$H$50, P$15)","v":0},{"$f":"INDEX('Volume adjustments'!$J$615:$Y$655,Q$17 + 1 + $H49*$H$50, Q$15)","v":0},{"$f":"INDEX('Volume adjustments'!$J$615:$Y$655,R$17 + 1 + $H49*$H$50, R$15)","v":0},{"$f":"INDEX('Volume adjustments'!$J$615:$Y$655,S$17 + 1 + $H49*$H$50, S$15)","v":1609.6666666666667},{"$f":"INDEX('Volume adjustments'!$J$615:$Y$655,T$17 + 1 + $H49*$H$50, T$15)","v":10.666666666666666},{"$f":"INDEX('Volume adjustments'!$J$615:$Y$655,U$17 + 1 + $H49*$H$50, U$15)","v":4.666666666666667},{"$f":"INDEX('Volume adjustments'!$J$615:$Y$655,V$17 + 1 + $H49*$H$50, V$15)","v":0},{"$f":"INDEX('Volume adjustments'!$J$615:$Y$655,W$17 + 1 + $H49*$H$50, W$15)","v":0},{"$f":"INDEX('Volume adjustments'!$J$615:$Y$655,X$17 + 1 + $H49*$H$50, X$15)","v":0},{"$f":"INDEX('Volume adjustments'!$J$615:$Y$655,Y$17 + 1 + $H49*$H$50, Y$15)","v":0},{"$f":"INDEX('Volume adjustments'!$J$615:$Y$655,Z$17 + 1 + $H49*$H$50, Z$15)","v":0},{"$f":"INDEX('Volume adjustments'!$J$615:$Y$655,AA$17 + 1 + $H49*$H$50, AA$15)","v":0},{"$f":"INDEX('Volume adjustments'!$J$615:$Y$655,AB$17 + 1 + $H49*$H$50, AB$15)","v":0},{"$f":"INDEX('Volume adjustments'!$J$615:$Y$655,AC$17 + 1 + $H49*$H$50, AC$15)","v":17.666666666666668},{"$f":"INDEX('Volume adjustments'!$J$615:$Y$655,AD$17 + 1 + $H49*$H$50, AD$15)","v":340.33333333333331},{"$f":"INDEX('Volume adjustments'!$J$615:$Y$655,AE$17 + 1 + $H49*$H$50, AE$15)","v":0},{"$f":"INDEX('Volume adjustments'!$J$615:$Y$655,AF$17 + 1 + $H49*$H$50, AF$15)","v":0},{"$f":"INDEX('Volume adjustments'!$J$615:$Y$655,AG$17 + 1 + $H49*$H$50, AG$15)","v":0},{"$f":"INDEX('Volume adjustments'!$J$615:$Y$655,AH$17 + 1 + $H49*$H$50, AH$15)","v":0},{"$f":"INDEX('Volume adjustments'!$J$615:$Y$655,AI$17 + 1 + $H49*$H$50, AI$15)","v":0},{"$f":"INDEX('Volume adjustments'!$J$615:$Y$655,AJ$17 + 1 + $H49*$H$50, AJ$15)","v":0},{"$f":"INDEX('Volume adjustments'!$J$615:$Y$655,AK$17 + 1 + $H49*$H$50, AK$15)","v":0},{"$f":"INDEX('Volume adjustments'!$J$615:$Y$655,AL$17 + 1 + $H49*$H$50, AL$15)","v":0},{"$f":"INDEX('Volume adjustments'!$J$615:$Y$655,AM$17 + 1 + $H49*$H$50, AM$15)","v":0},{"$f":"INDEX('Volume adjustments'!$J$615:$Y$655,AN$17 + 1 + $H49*$H$50, AN$15)","v":0},{"$f":"INDEX('Volume adjustments'!$J$615:$Y$655,AO$17 + 1 + $H49*$H$50, AO$15)","v":0}]
[null,null,null,null,null,"Reactive power units","MVArh",6,null,{"$f":"INDEX('Volume adjustments'!$J$615:$Y$655,J$17 + 1 + $H50*$H$50, J$15)","v":0},{"$f":"INDEX('Volume adjustments'!$J$615:$Y$655,K$17 + 1 + $H50*$H$50, K$15)","v":0},{"$f":"INDEX('Volume adjustments'!$J$615:$Y$655,L$17 + 1 + $H50*$H$50, L$15)","v":0},{"$f":"INDEX('Volume adjustments'!$J$615:$Y$655,M$17 + 1 + $H50*$H$50, M$15)","v":0},{"$f":"INDEX('Volume adjustments'!$J$615:$Y$655,N$17 + 1 + $H50*$H$50, N$15)","v":0},{"$f":"INDEX('Volume adjustments'!$J$615:$Y$655,O$17 + 1 + $H50*$H$50, O$15)","v":0},{"$f":"INDEX('Volume adjustments'!$J$615:$Y$655,P$17 + 1 + $H50*$H$50, P$15)","v":0},{"$f":"INDEX('Volume adjustments'!$J$615:$Y$655,Q$17 + 1 + $H50*$H$50, Q$15)","v":0},{"$f":"INDEX('Volume adjustments'!$J$615:$Y$655,R$17 + 1 + $H50*$H$50, R$15)","v":0},{"$f":"INDEX('Volume adjustments'!$J$615:$Y$655,S$17 + 1 + $H50*$H$50, S$15)","v":613.08291999999994},{"$f":"INDEX('Volume adjustments'!$J$615:$Y$655,T$17 + 1 + $H50*$H$50, T$15)","v":1514.06098},{"$f":"INDEX('Volume adjustments'!$J$615:$Y$655,U$17 + 1 + $H50*$H$50, U$15)","v":1248.79458},{"$f":"INDEX('Volume adjustments'!$J$615:$Y$655,V$17 + 1 + $H50*$H$50, V$15)","v":7208.3624799999998},{"$f":"INDEX('Volume adjustments'!$J$615:$Y$655,W$17 + 1 + $H50*$H$50, W$15)","v":0},{"$f":"INDEX('Volume adjustments'!$J$615:$Y$655,X$17 + 1 + $H50*$H$50, X$15)","v":0},{"$f":"INDEX('Volume adjustments'!$J$615:$Y$655,Y$17 + 1 + $H50*$H$50, Y$15)","v":19.510000000000002},{"$f":"INDEX('Volume adjustments'!$J$615:$Y$655,Z$17 + 1 + $H50*$H$50, Z$15)","v":82.263999999999996},{"$f":"INDEX('Volume adjustments'!$J$615:$Y$655,AA$17 + 1 + $H50*$H$50, AA$15)","v":2166.0920000000001},{"$f":"INDEX('Volume adjustments'!$J$615:$Y$655,AB$17 + 1 + $H50*$H$50, AB$15)","v":0},{"$f":"INDEX('Volume adjustments'!$J$615:$Y$655,AC$17 + 1 + $H50*$H$50, AC$15)","v":968.48800000000006},{"$f":"INDEX('Volume adjustments'!$J$615:$Y$655,AD$17 + 1 + $H50*$H$50, AD$15)","v":265.79844000000003},{"$f":"INDEX('Volume adjustments'!$J$615:$Y$655,AE$17 + 1 + $H50*$H$50, AE$15)","v":151.846},{"$f":"INDEX('Volume adjustments'!$J$615:$Y$655,AF$17 + 1 + $H50*$H$50, AF$15)","v":227.428},{"$f":"INDEX('Volume adjustments'!$J$615:$Y$655,AG$17 + 1 + $H50*$H$50, AG$15)","v":0},{"$f":"INDEX('Volume adjustments'!$J$615:$Y$655,AH$17 + 1 + $H50*$H$50, AH$15)","v":0},{"$f":"INDEX('Volume adjustments'!$J$615:$Y$655,AI$17 + 1 + $H50*$H$50, AI$15)","v":0},{"$f":"INDEX('Volume adjustments'!$J$615:$Y$655,AJ$17 + 1 + $H50*$H$50, AJ$15)","v":2.5190000000000001},{"$f":"INDEX('Volume adjustments'!$J$615:$Y$655,AK$17 + 1 + $H50*$H$50, AK$15)","v":0},{"$f":"INDEX('Volume adjustments'!$J$615:$Y$655,AL$17 + 1 + $H50*$H$50, AL$15)","v":0},{"$f":"INDEX('Volume adjustments'!$J$615:$Y$655,AM$17 + 1 + $H50*$H$50, AM$15)","v":0},{"$f":"INDEX('Volume adjustments'!$J$615:$Y$655,AN$17 + 1 + $H50*$H$50, AN$15)","v":0},{"$f":"INDEX('Volume adjustments'!$J$615:$Y$655,AO$17 + 1 + $H50*$H$50, AO$15)","v":0}]
[]
[null,null,{"$f":"INDEX('Version control'!$H$29:$H$55,MATCH($A$1,'Version control'!$F$29:$F$55,0),1)&\"-B: Tariff forecast\"","v":"Section 521-B: Tariff forecast"}]
[]
[null,null,null,null,"All the way tariff forecast",null,null,null,">",null,null,null,null,null,null,null,null,null,null,null,null,null,null,null,null,null,null,null,null,null,null,null,null,null,null,null,null,null,null,null,null,null,"Paragraph 14"]
[null,null,null,null,null,"Unit rate 1","p/kWh",null,null,{"$f":"Rounding!J150","v":12.718},{"$f":"Rounding!K150","v":12.718},{"$f":"Rounding!L150","v":14.08},{"$f":"Rounding!M150","v":14.08},{"$f":"Rounding!N150","v":14.08},{"$f":"Rounding!O150","v":14.08},{"$f":"Rounding!P150","v":14.08},{"$f":"Rounding!Q150","v":14.08},{"$f":"Rounding!R150","v":10.304},{"$f":"Rounding!S150","v":10.304},{"$f":"Rounding!T150","v":10.304},{"$f":"Rounding!U150","v":10.304},{"$f":"Rounding!V150","v":10.304},{"$f":"Rounding!W150","v":5.6740000000000004},{"$f":"Rounding!X150","v":5.6740000000000004},{"$f":"Rounding!Y150","v":5.6740000000000004},{"$f":"Rounding!Z150","v":5.6740000000000004},{"$f":"Rounding!AA150","v":5.6740000000000004},{"$f":"Rounding!AB150","v":4.0810000000000004},{"$f":"Rounding!AC150","v":4.0810000000000004},{"$f":"Rounding!AD150","v":4.0810000000000004},{"$f":"Rounding!AE150","v":4.0810000000000004},{"$f":"Rounding!AF150","v":4.0810000000000004},{"$f":"Rounding!AG150","v":36.247},{"$f":"Rounding!AH150","v":-9.1110000000000007},{"$f":"Rounding!AI150","v":-7.7439999999999998},{"$f":"Rounding!AJ150","v":-9.1110000000000007},{"$f":"Rounding!AK150","v":-9.1110000000000007},{"$f":"Rounding!AL150","v":-7.7439999999999998},{"$f":"Rounding!AM150","v":-7.7439999999999998},{"$f":"Rounding!AN150","v":-4.9379999999999997},{"$f":"Rounding!AO150","v":-4.9379999999999997}]
[null,null,null,null,null,"Unit rate 2","p/kWh",null,null,{"$f":"Rounding!J151","v":1.3540000000000001},{"$f":"Rounding!K151","v":1.3540000000000001},{"$f":"Rounding!L151","v":1.4990000000000001},{"$f":"Rounding!M151","v":1.4990000000000001},{"$f":"Rounding!N151","v":1.4990000000000001},{"$f":"Rounding!O151","v":1.4990000000000001},{"$f":"Rounding!P151","v":1.4990000000000001},{"$f":"Rounding!Q151","v":1.4990000000000001},{"$f":"Rounding!R151","v":1.0189999999999999},{"$f":"Rounding!S151","v":1.0189999999999999},{"$f":"Rounding!T151","v":1.0189999999999999},{"$f":"Rounding!U151","v":1.0189999999999999},{"$f":"Rounding!V151","v":1.0189999999999999},{"$f":"Rounding!W151","v":0.434},{"$f":"Rounding!X151","v":0.434},{"$f":"Rounding!Y151","v":0.434},{"$f":"Rounding!Z151","v":0.434},{"$f":"Rounding!AA151","v":0.434},{"$f":"Rounding!AB151","v":0.26800000000000002},{"$f":"Rounding!AC151","v":0.26800000000000002},{"$f":"Rounding!AD151","v":0.26800000000000002},{"$f":"Rounding!AE151","v":0.26800000000000002},{"$f":"Rounding!AF151","v":0.26800000000000002},{"$f":"Rounding!AG151","v":3.4870000000000001},{"$f":"Rounding!AH151","v":-0.97},{"$f":"Rounding!AI151","v":-0.79400000000000004},{"$f":"Rounding!AJ151","v":-0.97},{"$f":"Rounding!AK151","v":-0.97},{"$f":"Rounding!AL151","v":-0.79400000000000004},{"$f":"Rounding!AM151","v":-0.79400000000000004},{"$f":"Rounding!AN151","v":-0.377},{"$f":"Rounding!AO151","v":-0.377}]
[null,null,null,null,null,"Unit rate 3","p/kWh",null,null,{"$f":"Rounding!J152","v":3.2000000000000001E-2},{"$f":"Rounding!K152","v":3.2000000000000001E-2},{"$f":"Rounding!L152","v":3.5000000000000003E-2},{"$f":"Rounding!M152","v":3.5000000000000003E-2},{"$f":"Rounding!N152","v":3.5000000000000003E-2},{"$f":"Rounding!O152","v":3.5000000000000003E-2},{"$f":"Rounding!P152","v":3.5000000000000003E-2},{"$f":"Rounding!Q152","v":3.5000000000000003E-2},{"$f":"Rounding!R152","v":2.5000000000000001E-2},{"$f":"Rounding!S152","v":2.5000000000000001E-2},{"$f":"Rounding!T152","v":2.5000000000000001E-2},{"$f":"Rounding!U152","v":2.5000000000000001E-2},{"$f":"Rounding!V152","v":2.5000000000000001E-2},{"$f":"Rounding!W152","v":1.2999999999999999E-2},{"$f":"Rounding!X152","v":1.2999999999999999E-2},{"$f":"Rounding!Y152","v":1.2999999999999999E-2},{"$f":"Rounding!Z152","v":1.2999999999999999E-2},{"$f":"Rounding!AA152","v":1.2999999999999999E-2},{"$f":"Rounding!AB152","v":8.9999999999999993E-3},{"$f":"Rounding!AC152","v":8.9999999999999993E-3},{"$f":"Rounding!AD152","v":8.9999999999999993E-3},{"$f":"Rounding!AE152","v":8.9999999999999993E-3},{"$f":"Rounding!AF152","v":8.9999999999999993E-3},{"$f":"Rounding!AG152","v":2.343},{"$f":"Rounding!AH152","v":-2.3E-2},{"$f":"Rounding!AI152","v":-1.9E-2},{"$f":"Rounding!AJ152","v":-2.3E-2},{"$f":"Rounding!AK152","v":-2.3E-2},{"$f":"Rounding!AL152","v":-1.9E-2},{"$f":"Rounding!AM152","v":-1.9E-2},{"$f":"Rounding!AN152","v":-1.0999999999999999E-2},{"$f":"Rounding!AO152","v":-1.0999999999999999E-2}]
[null,null,null,null,null,"Fixed charge","p/MPAN/day",null,null,{"$f":"Rounding!J153","v":21.26},{"$f":"Rounding!K153","v":0},{"$f":"Rounding!L153","v":7.97},{"$f":"Rounding!M153","v":27.63},{"$f":"Rounding!N153","v":49.26},{"$f":"Rounding!O153","v":90.08},{"$f":"Rounding!P153","v":243.09},{"$f":"Rounding!Q153","v":0},{"$f":"Rounding!R153","v":26.68},{"$f":"Rounding!S153","v":516.59},{"$f":"Rounding!T153","v":842.76},{"$f":"Rounding!U153","v":1402.55},{"$f":"Rounding!V153","v":2959.75},{"$f":"Rounding!W153","v":9.42},{"$f":"Rounding!X153","v":499.33},{"$f":"Rounding!Y153","v":825.49},{"$f":"Rounding!Z153","v":1385.29},{"$f":"Rounding!AA153","v":2942.49},{"$f":"Rounding!AB153","v":142.56},{"$f":"Rounding!AC153","v":2509.4699999999998},{"$f":"Rounding!AD153","v":7691},{"$f":"Rounding!AE153","v":15407.03},{"$f":"Rounding!AF153","v":40347.21},{"$f":"Rounding!AG153","v":0},{"$f":"Rounding!AH153","v":0},{"$f":"Rounding!AI153","v":0},{"$f":"Rounding!AJ153","v":0},{"$f":"Rounding!AK153","v":0},{"$f":"Rounding!AL153","v":0},{"$f":"Rounding!AM153","v":0},{"$f":"Rounding!AN153","v":104.1},{"$f":"Rounding!AO153","v":104.1}]
[null,null,null,null,null,"Capacity charge","p/kVA/day",null,null,{"$f":"Rounding!J154","v":0},{"$f":"Rounding!K154","v":0},{"$f":"Rounding!L154","v":0},{"$f":"Rounding!M154","v":0},{"$f":"Rounding!N154","v":0},{"$f":"Rounding!O154","v":0},{"$f":"Rounding!P154","v":0},{"$f":"Rounding!Q154","v":0},{"$f":"Rounding!R154","v":5.23},{"$f":"Rounding!S154","v":5.23},{"$f":"Rounding!T154","v":5.23},{"$f":"Rounding!U154","v":5.23},{"$f":"Rounding!V154","v":5.23},{"$f":"Rounding!W154","v":7.35},{"$f":"Rounding!X154","v":7.35},{"$f":"Rounding!Y154","v":7.35},{"$f":"Rounding!Z154","v":7.35},{"$f":"Rounding!AA154","v":7.35},{"$f":"Rounding!AB154","v":8.75},{"$f":"Rounding!AC154","v":8.75},{"$f":"Rounding!AD154","v":8.75},{"$f":"Rounding!AE154","v":8.75},{"$f":"Rounding!AF154","v":8.75},{"$f":"Rounding!AG154","v":0},{"$f":"Rounding!AH154","v":0},{"$f":"Rounding!AI154","v":0},{"$f":"Rounding!AJ154","v":0},{"$f":"Rounding!AK154","v":0},{"$f":"Rounding!AL154","v":0},{"$f":"Rounding!AM154","v":0},{"$f":"Rounding!AN154","v":0},{"$f":"Rounding!AO154","v":0}]
[null,null,null,null,null,"Exceeded capacity charge","p/kVA/day",null,null,{"$f":"Rounding!J155","v":0},{"$f":"Rounding!K155","v":0},{"$f":"Rounding!L155","v":0},{"$f":"Rounding!M155","v":0},{"$f":"Rounding!N155","v":0},{"$f":"Rounding!O155","v":0},{"$f":"Rounding!P155","v":0},{"$f":"Rounding!Q155","v":0},{"$f":"Rounding!R155","v":5.23},{"$f":"Rounding!S155","v":5.23},{"$f":"Rounding!T155","v":5.23},{"$f":"Rounding!U155","v":5.23},{"$f":"Rounding!V155","v":5.23},{"$f":"Rounding!W155","v":7.35},{"$f":"Rounding!X155","v":7.35},{"$f":"Rounding!Y155","v":7.35},{"$f":"Rounding!Z155","v":7.35},{"$f":"Rounding!AA155","v":7.35},{"$f":"Rounding!AB155","v":8.75},{"$f":"Rounding!AC155","v":8.75},{"$f":"Rounding!AD155","v":8.75},{"$f":"Rounding!AE155","v":8.75},{"$f":"Rounding!AF155","v":8.75},{"$f":"Rounding!AG155","v":0},{"$f":"Rounding!AH155","v":0},{"$f":"Rounding!AI155","v":0},{"$f":"Rounding!AJ155","v":0},{"$f":"Rounding!AK155","v":0},{"$f":"Rounding!AL155","v":0},{"$f":"Rounding!AM155","v":0},{"$f":"Rounding!AN155","v":0},{"$f":"Rounding!AO155","v":0}]
[null,null,null,null,null,"Reactive power charge","p/kVArh",null,null,{"$f":"Rounding!J156","v":0},{"$f":"Rounding!K156","v":0},{"$f":"Rounding!L156","v":0},{"$f":"Rounding!M156","v":0},{"$f":"Rounding!N156","v":0},{"$f":"Rounding!O156","v":0},{"$f":"Rounding!P156","v":0},{"$f":"Rounding!Q156","v":0},{"$f":"Rounding!R156","v":0.20399999999999999},{"$f":"Rounding!S156","v":0.20399999999999999},{"$f":"Rounding!T156","v":0.20399999999999999},{"$f":"Rounding!U156","v":0.20399999999999999},{"$f":"Rounding!V156","v":0.20399999999999999},{"$f":"Rounding!W156","v":9.2999999999999999E-2},{"$f":"Rounding!X156","v":9.2999999999999999E-2},{"$f":"Rounding!Y156","v":9.2999999999999999E-2},{"$f":"Rounding!Z156","v":9.2999999999999999E-2},{"$f":"Rounding!AA156","v":9.2999999999999999E-2},{"$f":"Rounding!AB156","v":5.8000000000000003E-2},{"$f":"Rounding!AC156","v":5.8000000000000003E-2},{"$f":"Rounding!AD156","v":5.8000000000000003E-2},{"$f":"Rounding!AE156","v":5.8000000000000003E-2},{"$f":"Rounding!AF156","v":5.8000000000000003E-2},{"$f":"Rounding!AG156","v":0},{"$f":"Rounding!AH156","v":0},{"$f":"Rounding!AI156","v":0},{"$f":"Rounding!AJ156","v":0.20300000000000001},{"$f":"Rounding!AK156","v":0},{"$f":"Rounding!AL156","v":0.16},{"$f":"Rounding!AM156","v":0},{"$f":"Rounding!AN156","v":0.14000000000000001},{"$f":"Rounding!AO156","v":0}]
[]
[null,null,null,null,"LDNO LV tariff forecast",null,null,null,">",null,null,null,null,null,null,null,null,null,null,null,null,null,null,null,null,null,null,null,null,null,null,null,null,null,null,null,null,null,null,null,null,null,"Paragraph 14"]
[null,null,null,null,null,"Unit rate 1","p/kWh",null,null,{"$f":"Rounding!J159","v":7.681},{"$f":"Rounding!K159","v":7.681},{"$f":"Rounding!L159","v":8.5039999999999996},{"$f":"Rounding!M159","v":8.5039999999999996},{"$f":"Rounding!N159","v":8.5039999999999996},{"$f":"Rounding!O159","v":8.5039999999999996},{"$f":"Rounding!P159","v":8.5039999999999996},{"$f":"Rounding!Q159","v":8.5039999999999996},{"$f":"Rounding!R159","v":6.2229999999999999},{"$f":"Rounding!S159","v":6.2229999999999999},{"$f":"Rounding!T159","v":6.2229999999999999},{"$f":"Rounding!U159","v":6.2229999999999999},{"$f":"Rounding!V159","v":6.2229999999999999},{"$f":"Rounding!W159","v":0},{"$f":"Rounding!X159","v":0},{"$f":"Rounding!Y159","v":0},{"$f":"Rounding!Z159","v":0},{"$f":"Rounding!AA159","v":0},{"$f":"Rounding!AB159","v":0},{"$f":"Rounding!AC159","v":0},{"$f":"Rounding!AD159","v":0},{"$f":"Rounding!AE159","v":0},{"$f":"Rounding!AF159","v":0},{"$f":"Rounding!AG159","v":21.891999999999999},{"$f":"Rounding!AH159","v":-9.1110000000000007},{"$f":"Rounding!AI159","v":0},{"$f":"Rounding!AJ159","v":-9.1110000000000007},{"$f":"Rounding!AK159","v":0},{"$f":"Rounding!AL159","v":0},{"$f":"Rounding!AM159","v":0},{"$f":"Rounding!AN159","v":0},{"$f":"Rounding!AO159","v":0}]
[null,null,null,null,null,"Unit rate 2","p/kWh",null,null,{"$f":"Rounding!J160","v":0.81799999999999995},{"$f":"Rounding!K160","v":0.81799999999999995},{"$f":"Rounding!L160","v":0.90500000000000003},{"$f":"Rounding!M160","v":0.90500000000000003},{"$f":"Rounding!N160","v":0.90500000000000003},{"$f":"Rounding!O160","v":0.90500000000000003},{"$f":"Rounding!P160","v":0.90500000000000003},{"$f":"Rounding!Q160","v":0.90500000000000003},{"$f":"Rounding!R160","v":0.61499999999999999},{"$f":"Rounding!S160","v":0.61499999999999999},{"$f":"Rounding!T160","v":0.61499999999999999},{"$f":"Rounding!U160","v":0.61499999999999999},{"$f":"Rounding!V160","v":0.61499999999999999},{"$f":"Rounding!W160","v":0},{"$f":"Rounding!X160","v":0},{"$f":"Rounding!Y160","v":0},{"$f":"Rounding!Z160","v":0},{"$f":"Rounding!AA160","v":0},{"$f":"Rounding!AB160","v":0},{"$f":"Rounding!AC160","v":0},{"$f":"Rounding!AD160","v":0},{"$f":"Rounding!AE160","v":0},{"$f":"Rounding!AF160","v":0},{"$f":"Rounding!AG160","v":2.1059999999999999},{"$f":"Rounding!AH160","v":-0.97},{"$f":"Rounding!AI160","v":0},{"$f":"Rounding!AJ160","v":-0.97},{"$f":"Rounding!AK160","v":0},{"$f":"Rounding!AL160","v":0},{"$f":"Rounding!AM160","v":0},{"$f":"Rounding!AN160","v":0},{"$f":"Rounding!AO160","v":0}]
[null,null,null,null,null,"Unit rate 3","p/kWh",null,null,{"$f":"Rounding!J161","v":1.9E-2},{"$f":"Rounding!K161","v":1.9E-2},{"$f":"Rounding!L161","v":2.1000000000000001E-2},{"$f":"Rounding!M161","v":2.1000000000000001E-2},{"$f":"Rounding!N161","v":2.1000000000000001E-2},{"$f":"Rounding!O161","v":2.1000000000000001E-2},{"$f":"Rounding!P161","v":2.1000000000000001E-2},{"$f":"Rounding!Q161","v":2.1000000000000001E-2},{"$f":"Rounding!R161","v":1.4999999999999999E-2},{"$f":"Rounding!S161","v":1.4999999999999999E-2},{"$f":"Rounding!T161","v":1.4999999999999999E-2},{"$f":"Rounding!U161","v":1.4999999999999999E-2},{"$f":"Rounding!V161","v":1.4999999999999999E-2},{"$f":"Rounding!W161","v":0},{"$f":"Rounding!X161","v":0},{"$f":"Rounding!Y161","v":0},{"$f":"Rounding!Z161","v":0},{"$f":"Rounding!AA161","v":0},{"$f":"Rounding!AB161","v":0},{"$f":"Rounding!AC161","v":0},{"$f":"Rounding!AD161","v":0},{"$f":"Rounding!AE161","v":0},{"$f":"Rounding!AF161","v":0},{"$f":"Rounding!AG161","v":1.415},{"$f":"Rounding!AH161","v":-2.3E-2},{"$f":"Rounding!AI161","v":0},{"$f":"Rounding!AJ161","v":-2.3E-2},{"$f":"Rounding!AK161","v":0},{"$f":"Rounding!AL161","v":0},{"$f":"Rounding!AM161","v":0},{"$f":"Rounding!AN161","v":0},{"$f":"Rounding!AO161","v":0}]
[null,null,null,null,null,"Fixed charge","p/MPAN/day",null,null,{"$f":"Rounding!J162","v":12.84},{"$f":"Rounding!K162","v":0},{"$f":"Rounding!L162","v":4.8099999999999996},{"$f":"Rounding!M162","v":16.690000000000001},{"$f":"Rounding!N162","v":29.75},{"$f":"Rounding!O162","v":54.4},{"$f":"Rounding!P162","v":146.82},{"$f":"Rounding!Q162","v":0},{"$f":"Rounding!R162","v":16.11},{"$f":"Rounding!S162","v":312.01},{"$f":"Rounding!T162","v":509.01},{"$f":"Rounding!U162","v":847.11},{"$f":"Rounding!V162","v":1787.62},{"$f":"Rounding!W162","v":0},{"$f":"Rounding!X162","v":0},{"$f":"Rounding!Y162","v":0},{"$f":"Rounding!Z162","v":0},{"$f":"Rounding!AA162","v":0},{"$f":"Rounding!AB162","v":0},{"$f":"Rounding!AC162","v":0},{"$f":"Rounding!AD162","v":0},{"$f":"Rounding!AE162","v":0},{"$f":"Rounding!AF162","v":0},{"$f":"Rounding!AG162","v":0},{"$f":"Rounding!AH162","v":0},{"$f":"Rounding!AI162","v":0},{"$f":"Rounding!AJ162","v":0},{"$f":"Rounding!AK162","v":0},{"$f":"Rounding!AL162","v":0},{"$f":"Rounding!AM162","v":0},{"$f":"Rounding!AN162","v":0},{"$f":"Rounding!AO162","v":0}]
[null,null,null,null,null,"Capacity charge","p/kVA/day",null,null,{"$f":"Rounding!J163","v":0},{"$f":"Rounding!K163","v":0},{"$f":"Rounding!L163","v":0},{"$f":"Rounding!M163","v":0},{"$f":"Rounding!N163","v":0},{"$f":"Rounding!O163","v":0},{"$f":"Rounding!P163","v":0},{"$f":"Rounding!Q163","v":0},{"$f":"Rounding!R163","v":3.16},{"$f":"Rounding!S163","v":3.16},{"$f":"Rounding!T163","v":3.16},{"$f":"Rounding!U163","v":3.16},{"$f":"Rounding!V163","v":3.16},{"$f":"Rounding!W163","v":0},{"$f":"Rounding!X163","v":0},{"$f":"Rounding!Y163","v":0},{"$f":"Rounding!Z163","v":0},{"$f":"Rounding!AA163","v":0},{"$f":"Rounding!AB163","v":0},{"$f":"Rounding!AC163","v":0},{"$f":"Rounding!AD163","v":0},{"$f":"Rounding!AE163","v":0},{"$f":"Rounding!AF163","v":0},{"$f":"Rounding!AG163","v":0},{"$f":"Rounding!AH163","v":0},{"$f":"Rounding!AI163","v":0},{"$f":"Rounding!AJ163","v":0},{"$f":"Rounding!AK163","v":0},{"$f":"Rounding!AL163","v":0},{"$f":"Rounding!AM163","v":0},{"$f":"Rounding!AN163","v":0},{"$f":"Rounding!AO163","v":0}]
[null,null,null,null,null,"Exceeded capacity charge","p/kVA/day",null,null,{"$f":"Rounding!J164","v":0},{"$f":"Rounding!K164","v":0},{"$f":"Rounding!L164","v":0},{"$f":"Rounding!M164","v":0},{"$f":"Rounding!N164","v":0},{"$f":"Rounding!O164","v":0},{"$f":"Rounding!P164","v":0},{"$f":"Rounding!Q164","v":0},{"$f":"Rounding!R164","v":3.16},{"$f":"Rounding!S164","v":3.16},{"$f":"Rounding!T164","v":3.16},{"$f":"Rounding!U164","v":3.16},{"$f":"Rounding!V164","v":3.16},{"$f":"Rounding!W164","v":0},{"$f":"Rounding!X164","v":0},{"$f":"Rounding!Y164","v":0},{"$f":"Rounding!Z164","v":0},{"$f":"Rounding!AA164","v":0},{"$f":"Rounding!AB164","v":0},{"$f":"Rounding!AC164","v":0},{"$f":"Rounding!AD164","v":0},{"$f":"Rounding!AE164","v":0},{"$f":"Rounding!AF164","v":0},{"$f":"Rounding!AG164","v":0},{"$f":"Rounding!AH164","v":0},{"$f":"Rounding!AI164","v":0},{"$f":"Rounding!AJ164","v":0},{"$f":"Rounding!AK164","v":0},{"$f":"Rounding!AL164","v":0},{"$f":"Rounding!AM164","v":0},{"$f":"Rounding!AN164","v":0},{"$f":"Rounding!AO164","v":0}]
[null,null,null,null,null,"Reactive power charge","p/kVArh",null,null,{"$f":"Rounding!J165","v":0},{"$f":"Rounding!K165","v":0},{"$f":"Rounding!L165","v":0},{"$f":"Rounding!M165","v":0},{"$f":"Rounding!N165","v":0},{"$f":"Rounding!O165","v":0},{"$f":"Rounding!P165","v":0},{"$f":"Rounding!Q165","v":0},{"$f":"Rounding!R165","v":0.123},{"$f":"Rounding!S165","v":0.123},{"$f":"Rounding!T165","v":0.123},{"$f":"Rounding!U165","v":0.123},{"$f":"Rounding!V165","v":0.123},{"$f":"Rounding!W165","v":0},{"$f":"Rounding!X165","v":0},{"$f":"Rounding!Y165","v":0},{"$f":"Rounding!Z165","v":0},{"$f":"Rounding!AA165","v":0},{"$f":"Rounding!AB165","v":0},{"$f":"Rounding!AC165","v":0},{"$f":"Rounding!AD165","v":0},{"$f":"Rounding!AE165","v":0},{"$f":"Rounding!AF165","v":0},{"$f":"Rounding!AG165","v":0},{"$f":"Rounding!AH165","v":0},{"$f":"Rounding!AI165","v":0},{"$f":"Rounding!AJ165","v":0.20300000000000001},{"$f":"Rounding!AK165","v":0},{"$f":"Rounding!AL165","v":0},{"$f":"Rounding!AM165","v":0},{"$f":"Rounding!AN165","v":0},{"$f":"Rounding!AO165","v":0}]
[]
[null,null,null,null,"LDNO HV tariff forecast",null,null,null,">",null,null,null,null,null,null,null,null,null,null,null,null,null,null,null,null,null,null,null,null,null,null,null,null,null,null,null,null,null,null,null,null,null,"Paragraph 14"]
[null,null,null,null,null,"Unit rate 1","p/kWh",null,null,{"$f":"Rounding!J168","v":5},{"$f":"Rounding!K168","v":5},{"$f":"Rounding!L168","v":5.5359999999999996},{"$f":"Rounding!M168","v":5.5359999999999996},{"$f":"Rounding!N168","v":5.5359999999999996},{"$f":"Rounding!O168","v":5.5359999999999996},{"$f":"Rounding!P168","v":5.5359999999999996},{"$f":"Rounding!Q168","v":5.5359999999999996},{"$f":"Rounding!R168","v":4.0510000000000002},{"$f":"Rounding!S168","v":4.0510000000000002},{"$f":"Rounding!T168","v":4.0510000000000002},{"$f":"Rounding!U168","v":4.0510000000000002},{"$f":"Rounding!V168","v":4.0510000000000002},{"$f":"Rounding!W168","v":3.7},{"$f":"Rounding!X168","v":3.7},{"$f":"Rounding!Y168","v":3.7},{"$f":"Rounding!Z168","v":3.7},{"$f":"Rounding!AA168","v":3.7},{"$f":"Rounding!AB168","v":3.0649999999999999},{"$f":"Rounding!AC168","v":3.0649999999999999},{"$f":"Rounding!AD168","v":3.0649999999999999},{"$f":"Rounding!AE168","v":3.0649999999999999},{"$f":"Rounding!AF168","v":3.0649999999999999},{"$f":"Rounding!AG168","v":14.250999999999999},{"$f":"Rounding!AH168","v":-9.1110000000000007},{"$f":"Rounding!AI168","v":-7.7439999999999998},{"$f":"Rounding!AJ168","v":-9.1110000000000007},{"$f":"Rounding!AK168","v":0},{"$f":"Rounding!AL168","v":-7.7439999999999998},{"$f":"Rounding!AM168","v":0},{"$f":"Rounding!AN168","v":-4.9379999999999997},{"$f":"Rounding!AO168","v":0}]
[null,null,null,null,null,"Unit rate 2","p/kWh",null,null,{"$f":"Rounding!J169","v":0.53200000000000003},{"$f":"Rounding!K169","v":0.53200000000000003},{"$f":"Rounding!L169","v":0.58899999999999997},{"$f":"Rounding!M169","v":0.58899999999999997},{"$f":"Rounding!N169","v":0.58899999999999997},{"$f":"Rounding!O169","v":0.58899999999999997},{"$f":"Rounding!P169","v":0.58899999999999997},{"$f":"Rounding!Q169","v":0.58899999999999997},{"$f":"Rounding!R169","v":0.40100000000000002},{"$f":"Rounding!S169","v":0.40100000000000002},{"$f":"Rounding!T169","v":0.40100000000000002},{"$f":"Rounding!U169","v":0.40100000000000002},{"$f":"Rounding!V169","v":0.40100000000000002},{"$f":"Rounding!W169","v":0.28299999999999997},{"$f":"Rounding!X169","v":0.28299999999999997},{"$f":"Rounding!Y169","v":0.28299999999999997},{"$f":"Rounding!Z169","v":0.28299999999999997},{"$f":"Rounding!AA169","v":0.28299999999999997},{"$f":"Rounding!AB169","v":0.20200000000000001},{"$f":"Rounding!AC169","v":0.20200000000000001},{"$f":"Rounding!AD169","v":0.20200000000000001},{"$f":"Rounding!AE169","v":0.20200000000000001},{"$f":"Rounding!AF169","v":0.20200000000000001},{"$f":"Rounding!AG169","v":1.371},{"$f":"Rounding!AH169","v":-0.97},{"$f":"Rounding!AI169","v":-0.79400000000000004},{"$f":"Rounding!AJ169","v":-0.97},{"$f":"Rounding!AK169","v":0},{"$f":"Rounding!AL169","v":-0.79400000000000004},{"$f":"Rounding!AM169","v":0},{"$f":"Rounding!AN169","v":-0.377},{"$f":"Rounding!AO169","v":0}]
[null,null,null,null,null,"Unit rate 3","p/kWh",null,null,{"$f":"Rounding!J170","v":1.2999999999999999E-2},{"$f":"Rounding!K170","v":1.2999999999999999E-2},{"$f":"Rounding!L170","v":1.4E-2},{"$f":"Rounding!M170","v":1.4E-2},{"$f":"Rounding!N170","v":1.4E-2},{"$f":"Rounding!O170","v":1.4E-2},{"$f":"Rounding!P170","v":1.4E-2},{"$f":"Rounding!Q170","v":1.4E-2},{"$f":"Rounding!R170","v":0.01},{"$f":"Rounding!S170","v":0.01},{"$f":"Rounding!T170","v":0.01},{"$f":"Rounding!U170","v":0.01},{"$f":"Rounding!V170","v":0.01},{"$f":"Rounding!W170","v":8.0000000000000002E-3},{"$f":"Rounding!X170","v":8.0000000000000002E-3},{"$f":"Rounding!Y170","v":8.0000000000000002E-3},{"$f":"Rounding!Z170","v":8.0000000000000002E-3},{"$f":"Rounding!AA170","v":8.0000000000000002E-3},{"$f":"Rounding!AB170","v":7.0000000000000001E-3},{"$f":"Rounding!AC170","v":7.0000000000000001E-3},{"$f":"Rounding!AD170","v":7.0000000000000001E-3},{"$f":"Rounding!AE170","v":7.0000000000000001E-3},{"$f":"Rounding!AF170","v":7.0000000000000001E-3},{"$f":"Rounding!AG170","v":0.92100000000000004},{"$f":"Rounding!AH170","v":-2.3E-2},{"$f":"Rounding!AI170","v":-1.9E-2},{"$f":"Rounding!AJ170","v":-2.3E-2},{"$f":"Rounding!AK170","v":0},{"$f":"Rounding!AL170","v":-1.9E-2},{"$f":"Rounding!AM170","v":0},{"$f":"Rounding!AN170","v":-1.0999999999999999E-2},{"$f":"Rounding!AO170","v":0}]
[null,null,null,null,null,"Fixed charge","p/MPAN/day",null,null,{"$f":"Rounding!J171","v":8.36},{"$f":"Rounding!K171","v":0},{"$f":"Rounding!L171","v":3.13},{"$f":"Rounding!M171","v":10.86},{"$f":"Rounding!N171","v":19.37},{"$f":"Rounding!O171","v":35.42},{"$f":"Rounding!P171","v":95.57},{"$f":"Rounding!Q171","v":0},{"$f":"Rounding!R171","v":10.49},{"$f":"Rounding!S171","v":203.11},{"$f":"Rounding!T171","v":331.34},{"$f":"Rounding!U171","v":551.44000000000005},{"$f":"Rounding!V171","v":1163.68},{"$f":"Rounding!W171","v":6.14},{"$f":"Rounding!X171","v":325.64},{"$f":"Rounding!Y171","v":538.36},{"$f":"Rounding!Z171","v":903.44},{"$f":"Rounding!AA171","v":1918.99},{"$f":"Rounding!AB171","v":107.07},{"$f":"Rounding!AC171","v":1884.87},{"$f":"Rounding!AD171","v":5776.75},{"$f":"Rounding!AE171","v":11572.29},{"$f":"Rounding!AF171","v":30304.98},{"$f":"Rounding!AG171","v":0},{"$f":"Rounding!AH171","v":0},{"$f":"Rounding!AI171","v":0},{"$f":"Rounding!AJ171","v":0},{"$f":"Rounding!AK171","v":0},{"$f":"Rounding!AL171","v":0},{"$f":"Rounding!AM171","v":0},{"$f":"Rounding!AN171","v":0},{"$f":"Rounding!AO171","v":0}]
[null,null,null,null,null,"Capacity charge","p/kVA/day",null,null,{"$f":"Rounding!J172","v":0},{"$f":"Rounding!K172","v":0},{"$f":"Rounding!L172","v":0},{"$f":"Rounding!M172","v":0},{"$f":"Rounding!N172","v":0},{"$f":"Rounding!O172","v":0},{"$f":"Rounding!P172","v":0},{"$f":"Rounding!Q172","v":0},{"$f":"Rounding!R172","v":2.0499999999999998},{"$f":"Rounding!S172","v":2.0499999999999998},{"$f":"Rounding!T172","v":2.0499999999999998},{"$f":"Rounding!U172","v":2.0499999999999998},{"$f":"Rounding!V172","v":2.0499999999999998},{"$f":"Rounding!W172","v":4.8},{"$f":"Rounding!X172","v":4.8},{"$f":"Rounding!Y172","v":4.8},{"$f":"Rounding!Z172","v":4.8},{"$f":"Rounding!AA172","v":4.8},{"$f":"Rounding!AB172","v":6.57},{"$f":"Rounding!AC172","v":6.57},{"$f":"Rounding!AD172","v":6.57},{"$f":"Rounding!AE172","v":6.57},{"$f":"Rounding!AF172","v":6.57},{"$f":"Rounding!AG172","v":0},{"$f":"Rounding!AH172","v":0},{"$f":"Rounding!AI172","v":0},{"$f":"Rounding!AJ172","v":0},{"$f":"Rounding!AK172","v":0},{"$f":"Rounding!AL172","v":0},{"$f":"Rounding!AM172","v":0},{"$f":"Rounding!AN172","v":0},{"$f":"Rounding!AO172","v":0}]
[null,null,null,null,null,"Exceeded capacity charge","p/kVA/day",null,null,{"$f":"Rounding!J173","v":0},{"$f":"Rounding!K173","v":0},{"$f":"Rounding!L173","v":0},{"$f":"Rounding!M173","v":0},{"$f":"Rounding!N173","v":0},{"$f":"Rounding!O173","v":0},{"$f":"Rounding!P173","v":0},{"$f":"Rounding!Q173","v":0},{"$f":"Rounding!R173","v":2.0499999999999998},{"$f":"Rounding!S173","v":2.0499999999999998},{"$f":"Rounding!T173","v":2.0499999999999998},{"$f":"Rounding!U173","v":2.0499999999999998},{"$f":"Rounding!V173","v":2.0499999999999998},{"$f":"Rounding!W173","v":4.8},{"$f":"Rounding!X173","v":4.8},{"$f":"Rounding!Y173","v":4.8},{"$f":"Rounding!Z173","v":4.8},{"$f":"Rounding!AA173","v":4.8},{"$f":"Rounding!AB173","v":6.57},{"$f":"Rounding!AC173","v":6.57},{"$f":"Rounding!AD173","v":6.57},{"$f":"Rounding!AE173","v":6.57},{"$f":"Rounding!AF173","v":6.57},{"$f":"Rounding!AG173","v":0},{"$f":"Rounding!AH173","v":0},{"$f":"Rounding!AI173","v":0},{"$f":"Rounding!AJ173","v":0},{"$f":"Rounding!AK173","v":0},{"$f":"Rounding!AL173","v":0},{"$f":"Rounding!AM173","v":0},{"$f":"Rounding!AN173","v":0},{"$f":"Rounding!AO173","v":0}]
[null,null,null,null,null,"Reactive power charge","p/kVArh",null,null,{"$f":"Rounding!J174","v":0},{"$f":"Rounding!K174","v":0},{"$f":"Rounding!L174","v":0},{"$f":"Rounding!M174","v":0},{"$f":"Rounding!N174","v":0},{"$f":"Rounding!O174","v":0},{"$f":"Rounding!P174","v":0},{"$f":"Rounding!Q174","v":0},{"$f":"Rounding!R174","v":0.08},{"$f":"Rounding!S174","v":0.08},{"$f":"Rounding!T174","v":0.08},{"$f":"Rounding!U174","v":0.08},{"$f":"Rounding!V174","v":0.08},{"$f":"Rounding!W174","v":6.0999999999999999E-2},{"$f":"Rounding!X174","v":6.0999999999999999E-2},{"$f":"Rounding!Y174","v":6.0999999999999999E-2},{"$f":"Rounding!Z174","v":6.0999999999999999E-2},{"$f":"Rounding!AA174","v":6.0999999999999999E-2},{"$f":"Rounding!AB174","v":4.3999999999999997E-2},{"$f":"Rounding!AC174","v":4.3999999999999997E-2},{"$f":"Rounding!AD174","v":4.3999999999999997E-2},{"$f":"Rounding!AE174","v":4.3999999999999997E-2},{"$f":"Rounding!AF174","v":4.3999999999999997E-2},{"$f":"Rounding!AG174","v":0},{"$f":"Rounding!AH174","v":0},{"$f":"Rounding!AI174","v":0},{"$f":"Rounding!AJ174","v":0.20300000000000001},{"$f":"Rounding!AK174","v":0},{"$f":"Rounding!AL174","v":0.16},{"$f":"Rounding!AM174","v":0},{"$f":"Rounding!AN174","v":0.14000000000000001},{"$f":"Rounding!AO174","v":0}]
[]
[null,null,{"$f":"INDEX('Version control'!$H$29:$H$55,MATCH($A$1,'Version control'!$F$29:$F$55,0),1)&\"-C: Net revenue components\"","v":"Section 521-C: Net revenue components"}]
[]
[null,null,null,null,"Target CDCM net revenue",null,"£",{"$f":"'General inputs'!H89","v":592875169.2058022}]
[]
[null,null,null,null,"Net revenue before matching and rounding",null,"£",{"$f":"'Revenue matching'!H82","v":346076049.51073271}]
[null,null,null,null,"Net revenue from fixed rate adder, CDCM",null,"£",{"$f":"'SoLR & bad debt adders'!H52","v":0}]
[null,null,null,null,"Net revenue from fixed rate adder, EDCM",null,"£",{"$f":"'SoLR & bad debt adders'!H56","v":0}]
[null,null,null,null,"Net revenue from residual charge",null,"£",{"$f":"'Revenue matching'!H84","v":246799119.69506949}]
[]
[null,"Typical bills"]
[]
[null,null,{"$f":"INDEX('Version control'!$H$29:$H$55,MATCH($A$1,'Version control'!$F$29:$F$55,0),1)&\"-D: Net revenue by tariff\"","v":"Section 521-D: Net revenue by tariff"}]
[]
[null,null,null,null,"All the way customer net revenue",null,null,"Sum"]
[null,null,null,null,null,"Unit rate 1","£",{"$f":"SUM(J95:AO95)","v":143794075.77897313},null,{"$f":"J22 * thousand * J55 / hundred","v":86413277.51109226},57353.087139113872,2838.3642192182106,2214503.880017262,3866431.6339340149,4278125.0608037692,13522847.309873996,48140.364800000003,3895.1474041038473,4673717.474194509,6701522.7580944952,3619796.7797790556,8678901.5932193995,11.061299957652142,7427.0850924611468,38765.894094869502,119457.03169042351,1186384.6247475138,77667.75942659167,617124.42001536465,2365882.1992095639,2111179.3728669025,6197206.6212523868,3620547.1158171147,-630671.38916094217,-1135.187290303812,-544787.87172000005,0,-5917.8873600000006,0,-5446416.0355799999,0]
[null,null,null,null,null,"Unit rate 2","£",61500519.935326569,null,{"$f":"J23 * thousand * J56 / hundred","v":32359454.845188834},151187.34757180657,1610.5165470036002,1256531.8848170298,2193852.3893963224,2427451.4010302071,7673000.2470063064,99181.934600000008,1243.0519829605917,2216980.5184544586,3088015.5804828312,1744190.8878548888,4240483.3930906113,3.0138631779774521,2671.1035903803486,12565.380682537909,40740.392206431716,427200.27188355633,22074.344722207225,196976.02606862388,743776.00562435563,645347.20317069557,1866658.5174789398,2132206.7969257282,-408294.43044370809,-553.36042960267446,-298179.98849999992,0,-3556.4609799999998,0,-1332298.8785599999,0]
[null,null,null,null,null,"Unit rate 3","£",4585995.1595125953,null,{"$f":"J24 * thousand * J57 / hundred","v":746713.63100052322},42269.907405397214,30.22174978552415,23579.138190865444,41168.19420580702,45551.738661081232,143985.78766590665,9756.0382500000014,31.10352306733305,48009.700129973731,67330.984276228293,39336.588791827598,93903.100809193042,0.12810256949362234,81.600202000581689,365.68378875908206,1384.8173975678642,12905.461619025997,752.12840236967781,6836.2281407275323,25216.168878333887,22682.907759004043,72835.977802120542,3195907.8323787595,-4419.9172681356886,-12.024370163522729,-6777.088459999999,0,-81.152990000000003,0,-43349.726529999993,0]
[null,null,null,null,null,"Fixed charge","£",283559817.63659996,null,{"$f":" J25 * J58 * days_in_year / hundred","v":144781476.33720002},0,1896.0629999999999,4335667.5491999993,6430460.4972000001,6522972.0480000004,19442819.518200003,0,3124.7615999999998,8782391.6129999999,11921598.683999998,6796532.8919999991,17527284.329999998,68.954399999999993,21930.5736,90638.802000000011,253508.07,2347753.9211999997,85570.214399999997,3251369.7108,11400369.300000001,9924592.4448000006,29534157.719999999,0,0,0,0,0,0,0,103633.632,0]
[null,null,null,null,null,"Capacity charge","£",76006311.368400007,null,{"$f":" J26 * J59 * days_in_year / hundred","v":0},0,0,0,0,0,0,0,25420.310400000002,4964157.8448000001,8330989.9050000003,4677030.8448000001,12354940.817400001,2905.308,18857.600999999999,126865.11599999999,258222.69899999999,2761306.9469999997,713965.35,2396366.7000000002,9025221.4499999993,7779673.125,22570387.350000001,0,0,0,0,0,0,0,0,0]
[null,null,null,null,null,"Exceeded capacity charge","£",880396.80145000003,null,{"$f":" J27 * J60 * days_in_year / hundred","v":0},0,0,0,0,0,0,0,1092.6777500000001,254924.11179999998,132523.46685,23531.652800000007,41497.827250000002,564.92099999999994,7774.3890000000001,7193.7757500000007,2613.8804999999998,9101.5049999999992,35296.887499999997,127619.625,59761.318749999999,53046.743750000001,123854.01875,0,0,0,0,0,0,0,0,0]
[null,null,null,null,null,"Reactive power charge","£",585148.82098000008,null,{"$f":"J28 * thousand * J61 / hundred","v":0},0,0,0,0,0,0,0,215.48928000000001,93770.215679999994,109635.68939999999,56466.945,148309.09547999999,5.1466200000000004,325.40048999999999,553.34348999999997,1899.62916,15286.648080000003,998.54250000000002,13014.05682,17807.893120000001,16126.44296,67521.427320000003,0,0,0,16722.949180000003,0,599.57760000000007,0,25890.328800000003,0]
[null,null,null,null,null,"Total","£",{"$f":"SUM(H95:H101)","v":570912265.50124228},null,{"$f":"SUM(J95:J101)","v":264300922.32448164},250810.34211631765,6375.1655160073351,7830282.4522251561,12531912.714736145,13274100.248495057,40782652.862746209,157078.33765000003,35022.541940131778,21033951.478058942,30351617.068103552,16956886.591025773,43085320.157249197,3558.533285705123,59067.752974842078,276947.99580616644,677826.51995442307,6759939.3795300955,936325.2269511685,6609306.7668447159,23638034.335582253,20552648.240306601,60432621.632603444,8948661.745121602,-1043385.736872786,-1700.5720900700092,-833021.99949999992,0,-8955.9237300000004,0,-6692540.6798699992,0]
[]
[null,null,null,null,"LDNO LV customer net revenue",null,null,"Sum"]
[null,null,null,null,null,"Unit rate 1","£",{"$f":"SUM(J105:AO105)","v":1943856.9226605201},null,{"$f":"J33 * thousand * J64 / hundred","v":1648511.5000853441},72.379628659485974,0,25398.334651007535,32108.150950762694,16451.285385178846,33836.376472972406,0,0,26102.497960000001,48069.065659999986,87952.272659999988,41322.462439999988,0,0,0,0,0,0,0,0,0,0,48.075915297876485,-16015.479148702962,0,0,0,0,0,0,0]
[null,null,null,null,null,"Unit rate 2","£",775578.34399538278,null,{"$f":"J34 * thousand * J65 / hundred","v":636221.51427632035},143.34204755653158,0,14546.088446248026,18414.790025998598,9392.1640713332181,19087.506250380276,0,0,12888.327449999999,21233.016449999996,37009.346999999994,17716.495650000001,0,0,0,0,0,0,0,0,0,0,63.586929914535396,-11137.834602368814,0,0,0,0,0,0,0]
[null,null,null,null,null,"Unit rate 3","£",17288.187423913714,null,{"$f":"J35 * thousand * J66 / hundred","v":14013.017952092954},15.76994572010566,0,244.21050497105557,307.61580978725846,156.83194135883161,334.98723697148239,0,0,646.53930000000003,398.99429999999995,806.15535,427.49850000000004,0,0,0,0,0,0,0,0,0,0,53.309089434544013,-116.74250642252193,0,0,0,0,0,0,0]
[null,null,null,null,null,"Fixed charge","£",3967567.9169999999,null,{"$f":" J36 * J67 * days_in_year / hundred","v":3083584.5503999996},0,0,63162.303600000014,61628.91,47585.856000000007,97262.377199999988,0,0,46820.220599999993,149038.128,241832.96280000001,176652.6084,0,0,0,0,0,0,0,0,0,0,0,0,0,0,0,0,0,0,0]
[null,null,null,null,null,"Capacity charge","£",434785.60080000001,null,{"$f":" J37 * J68 * days_in_year / hundred","v":0},0,0,0,0,0,0,0,0,26982.544800000003,107907.04800000001,170025.88560000004,129870.12240000001,0,0,0,0,0,0,0,0,0,0,0,0,0,0,0,0,0,0,0]
[null,null,null,null,null,"Exceeded capacity charge","£",17128.653600000001,null,{"$f":" J38 * J69 * days_in_year / hundred","v":0},0,0,0,0,0,0,0,0,16515.676800000001,296.85040000000004,316.12639999999999,0,0,0,0,0,0,0,0,0,0,0,0,0,0,0,0,0,0,0,0]
[null,null,null,null,null,"Reactive power charge","£",2720.1680747999999,null,{"$f":"J39 * thousand * J70 / hundred","v":0},0,0,0,0,0,0,0,0,417.57515999999998,729.53381160000004,1124.185806,448.87329720000002,0,0,0,0,0,0,0,0,0,0,0,0,0,0,0,0,0,0,0]
[null,null,null,null,null,"Total","£",{"$f":"SUM(H105:H111)","v":7158925.7935546162},null,{"$f":"SUM(J105:J111)","v":5382330.5827137567},231.49162193612321,0,103350.93720222663,112459.46678654855,73586.137397870902,150521.24716032416,0,0,130373.38206999999,327672.63662160002,539066.93561599997,366438.06068719999,0,0,0,0,0,0,0,0,0,0,164.9719346469559,-27270.056257494296,0,0,0,0,0,0,0]
[]
[null,null,null,null,"LDNO HV customer net revenue",null,null,"Sum"]
[null,null,null,null,null,"Unit rate 1","£",{"$f":"SUM(J115:AO115)","v":3028099.7673654589},null,{"$f":"J44 * thousand * J73 / hundred","v":1883440.2234174116},0,0,23100.762606598339,27676.573222016945,29484.559970442875,64873.095384332461,0,0,52290.915650000003,117778.61196000001,131858.79418999999,410110.80343000003,0,0,4869.3850000000002,4844.8909999999996,180944.837,0,31316.42295,49470.111450000004,33975.678249999997,64571.764900000002,87.447317125652177,-82468.285212467934,0,-126.82512000000001,0,0,0,0,0]
[null,null,null,null,null,"Unit rate 2","£",1177025.9540169747,null,{"$f":"J45 * thousand * J74 / hundred","v":713720.63328070473},31.853968244539871,0,13288.104593112344,15757.116396560101,16866.136817060946,36781.267720472795,0,0,22499.89747,49918.196279999996,57251.936909999997,185238.78210000001,0,0,1514.5282699999998,1620.3646099999999,62650.160779999991,0,9024.3621199999998,13861.355140000001,10081.395800000004,21366.499500000002,141.64927629476176,-54493.712015475568,0,-94.575000000000017,0,0,0,0,0]
[null,null,null,null,null,"Unit rate 3","£",29493.160358670717,null,{"$f":"J46 * thousand * J75 / hundred","v":17020.279458948826},13.043290006299019,0,231.28393120165731,269.25725486053585,300.83755791236882,661.70564967668793,0,0,672.27350000000001,1076.0525000000002,1361.5569000000003,4230.3555999999999,0,0,44.661839999999991,41.569039999999987,1689.8047199999999,0,351.31943000000001,505.65879000000007,473.37737999999996,1021.3945699999999,100.64603026252105,-569.36408419818031,0,-2.5529999999999995,0,0,0,0,0]
[null,null,null,null,null,"Fixed charge","£",7281185.7366000013,null,{"$f":" J47 * J76 * days_in_year / hundred","v":3372283.8863999997},0,0,43205.641199999998,51185.612400000005,58336.74,143062.55579999997,0,0,85488.999000000011,212223.26999999996,236137.63680000001,975326.75520000013,0,0,7881.5904,9919.771200000001,414386.70060000004,0,75884.866200000004,232571.95499999999,254127.48840000003,1109162.2679999999,0,0,0,0,0,0,0,0,0]
[null,null,null,null,null,"Capacity charge","£",3328605.0803999994,null,{"$f":" J48 * J77 * days_in_year / hundred","v":0},0,0,0,0,0,0,0,0,50870.339999999989,151928.247,165463.65899999999,960819.17399999988,0,0,7852.8959999999997,11788.127999999999,827540.64,0,81805.172399999996,188041.28400000001,216415.8,666079.74,0,0,0,0,0,0,0,0,0]
[null,null,null,null,null,"Exceeded capacity charge","£",20800.914599999996,null,{"$f":" J49 * J78 * days_in_year / hundred","v":0},0,0,0,0,0,0,0,0,12077.329,80.031999999999982,35.014000000000003,0,0,0,0,0,0,0,424.81620000000004,8183.7233999999999,0,0,0,0,0,0,0,0,0,0,0]
[null,null,null,null,null,"Reactive power charge","£",10565.919191599998,null,{"$f":"J50 * thousand * J79 / hundred","v":0},0,0,0,0,0,0,0,0,490.46633599999996,1211.2487840000001,999.03566400000011,5766.6899839999996,0,0,11.9011,50.181040000000003,1321.31612,0,426.13471999999996,116.95131359999999,66.812239999999989,100.06831999999999,0,0,0,5.1135700000000002,0,0,0,0,0]
[null,null,null,null,null,"Total","£",{"$f":"SUM(H115:H121)","v":14875776.532532707},null,{"$f":"SUM(J115:J121)","v":5986465.0225570649},44.897258250838888,0,79825.792330912343,94888.559273437597,104988.2743454162,245378.62455448194,0,0,224390.22095600003,534215.65852399997,593107.63346399984,2541492.5603140001,0,0,22174.962609999999,28264.904890000002,1488533.4592200001,0,199233.09401999999,492751.03909360006,515140.55207000003,1862301.73529,329.742623682935,-137531.36131214167,0,-218.83955,0,0,0,0,0]
[]
[null,null,{"$f":"INDEX('Version control'!$H$29:$H$55,MATCH($A$1,'Version control'!$F$29:$F$55,0),1)&\"-E: Net revenue summary (for information only)\"","v":"Section 521-E: Net revenue summary (for information only)"}]
[]
[null,null,null,null,"Target CDCM net revenue",null,"£",{"$f":"H83","v":592875169.2058022}]
[]
[null,null,null,null,"Pre-matching net revenue",null,"£",{"$f":"H85","v":346076049.51073271}]
[null,null,null,null,"Net revenue from fixed rate adder, CDCM",null,"£",{"$f":"H86","v":0}]
[null,null,null,null,"Net revenue from fixed rate adder, EDCM",null,"£",{"$f":"H87","v":0}]
[null,null,null,null,"Net revenue from residual",null,"£",{"$f":"H88","v":246799119.69506949}]
[null,null,null,null,"Net revenue from rounding",null,"£",{"$f":"SUM(H102,H112,H122) - SUM(H128:H129, H131)","v":71798.621527433395}]
[null,null,null,null,"Total net revenue",null,"£",{"$f":"SUM(H128:H132)","v":592946967.82732964}]
[]
[null,null,null,null,"Deviation from target revenue",null,"£",{"$f":"H133 - H126","v":71798.621527433395}]
[null,null,null,null,"Deviation from target revenue",null,"%",{"$f":"(H133 - H126) / H126","v":1.2110242637351919E-4}]
[]
[null,null,{"$f":"INDEX('Version control'!$H$29:$H$55,MATCH($A$1,'Version control'!$F$29:$F$55,0),1)&\"-F: Typical bills\"","v":"Section 521-F: Typical bills"}]
[]
[null,null,null,null,"Typical bills for all the way customers",null,"£/MPAN","All the way",null,{"$f":" IF( J25 <> 0, J102 / J25, 0)","v":142.0463319468135},3.8084082499402898,98.079469477035929,182.63475421526232,351.35875500423765,670.91737419737467,1866.2267360429328,38.756066530964723,1094.4544356291181,4528.2995647059079,7852.9410266762097,12807.316156363877,26628.751642304818,1779.2666428525615,4922.3127479035065,9231.5998602055479,13556.530399088462,31008.896236376586,5709.3001643363932,18670.358098431399,58365.516877980874,116776.4104562875,302163.1081630172,15838.33937189664,-34.886239602145686,-242.9388700100013,-1260.2450824508319,0,-597.06158200000004,0,-24604.92897011029,0]
[null,null,null,null,"Typical bills for LDNO LV customers",null,"£/MPAN","LDNO LV",null,{"$f":" IF( J36 <> 0, J112 / J36, 0)","v":82.027715537578587},5.6461371203932487,0,99.952550485712408,198.6916374320646,307.89178827561045,831.60910033328264,0,0,3179.8385870731704,4095.9079577700004,6911.1145591794866,13571.780025451852,0,0,0,0,0,0,0,0,0,0,0,-49.581920468171447,0,0,0,0,0,0,0]
[null,null,null,null,"Typical bills for LDNO HV customers",null,"£/MPAN","LDNO HV",null,{"$f":" IF( J47 <> 0, J122 / J47, 0)","v":54.316738550066823},1.3605229772981482,0,73.436791472780442,131.42459733163102,233.30727632314711,599.94773729702183,0,0,1951.2193126608699,3052.6609058514282,5069.2960125128193,11098.22078739738,0,0,5543.7406524999997,9421.6349633333339,25229.380664745764,0,18112.099456363634,44795.549008509093,85856.758678333339,186230.17352899999,0,-41.726747970916769,0,-109.419775,0,0,0,0,0]
[]
[null,"Checks"]
[]
[null,null,null,"Check for error values",null,null,"number of issues",{"$f":"SUM(IF(ISERROR($H$13:$AP$143), 1))","v":0}]
[]
[null,"End of sheet"]

{"sheet":"Tariff summary","index":36,"n_rows":444,"n_cols":18,"rows_kept":444,"cut":false,"hidden":false,"merged":[[17,2,17,7],[18,2,18,7],[19,2,19,7]]}
[{"$f":"MID(CELL(\"filename\",A1),FIND(\"]\",CELL(\"filename\",A1))+1,255)","v":"Tariff summary"}]
[{"$f":"Cover!D23 & \" - \" & TEXT(CIRP_submission_date, \"mmm\") & \"-\" & RIGHT(YEAR(CIRP_submission_date), 2) & \" - \" & Cover!D25","v":"SP Distribution - Jan-26 - V1"}]
[{"$f":"Cover!D2&\" - \"&Cover!D8&\" v\"&Cover!D10&\" - \"&Cover!D19","v":"Cost Information Review Pack (CIRP) - Release for charge setting v1 - 2027/28"}]
[{"$f":"H442 & IF(H442 = 1, \" issue\", \" issues\") &\" identified in checks on this sheet\"","v":"0 issues identified in checks on this sheet"}]
[null,"Click here to return to model map",null,null,null,null,null,"Identifier",null,"Unit rate 1 \np/kWh","Unit rate 2 \np/kWh","Unit rate 3 \np/kWh","Fixed charge \np/MPAN/day","Capacity charge \np/kVA/day","Exceeded capacity charge \np/kVA/day","Reactive power charge \np/kVArh",null,"Legal text reference"]
[]
[null,"Description"]
[]
[null,null,"This sheet presents tariff forecast for 'all the way' customers and LDNO LV/HV customers, as required by DCUSA Schedule 20, paragraph 2.2(d)."]
[null,null,"The tariff forecast is calculated for the 'live' charging year and updated for years t+2, t+3 and t+4 of the CIRP forecast using a macro."]
[null,null,"To run the macro, click the \"Run all years\" box on the User Control sheet"]
[]
[null,"Disclaimer"]
[]
[null,null,"To view the 'Tariff summary' or 'Typical bills' sheets users must confirm their acknowledgement that results are illustrative only"]
[null,null," and are not to be considered to represent the final tariffs which will be applied by this company."]
[]
[null,null,"The forecasts and projections provided in this spreadsheet model are based on assumptions and data available at the time of creation. While every effort has been made to ensure The accuracy and reliability of The information, The model is subject to inherent uncertainties and potential errors."]
[null,null,"Actual outcomes may differ significantly from the forecasts due to various factors, including but not limited to modification changes, economic factors, and unforeseen events. Users are advised to exercise their own judgment and consider additional sources of information when making decisions based on this model."]
[null,null,"The creators of this model accept no liability for any losses or damages arising from the use of this model or reliance on its forecasts. This model is intended for informational purposes only and should not be construed as financial, investment, or professional advice."]
[]
[null,"Tariff summary"]
[]
[null,null,{"$f":"INDEX('Version control'!$H$29:$H$55,MATCH($A$1,'Version control'!$F$29:$F$55,0),1)&\"-A: Live tariff results (\" & charging_year_selected & \")\"","v":"Output 501-A: Live tariff results (2027/28)"}]
[]
[null,null,null,null,{"$f":"\"All the way tariff forecast (\" & charging_year_selected & \")\"","v":"All the way tariff forecast (2027/28)"}]
[null,null,null,null,null,"Domestic Aggregated or CT with Residual",null,"All the way",null,{"$f":"TRANSPOSE(Rounding!J150:AO156)","v":12.718},1.3540000000000001,3.2000000000000001E-2,21.26,0,0,0]
[null,null,null,null,null,"Domestic Aggregated (Related MPAN)",null,"All the way",null,12.718,1.3540000000000001,3.2000000000000001E-2,0,0,0,0]
[null,null,null,null,null,"Non-Domestic Aggregated or CT No Residual",null,"All the way",null,14.08,1.4990000000000001,3.5000000000000003E-2,7.97,0,0,0]
[null,null,null,null,null,"Non-Domestic Aggregated or CT Band 1",null,"All the way",null,14.08,1.4990000000000001,3.5000000000000003E-2,27.63,0,0,0]
[null,null,null,null,null,"Non-Domestic Aggregated or CT Band 2",null,"All the way",null,14.08,1.4990000000000001,3.5000000000000003E-2,49.26,0,0,0]
[null,null,null,null,null,"Non-Domestic Aggregated or CT Band 3",null,"All the way",null,14.08,1.4990000000000001,3.5000000000000003E-2,90.08,0,0,0]
[null,null,null,null,null,"Non-Domestic Aggregated or CT Band 4",null,"All the way",null,14.08,1.4990000000000001,3.5000000000000003E-2,243.09,0,0,0]
[null,null,null,null,null,"Non-Domestic Aggregated (Related MPAN)",null,"All the way",null,14.08,1.4990000000000001,3.5000000000000003E-2,0,0,0,0]
[null,null,null,null,null,"LV Site Specific No Residual",null,"All the way",null,10.304,1.0189999999999999,2.5000000000000001E-2,26.68,5.23,5.23,0.20399999999999999]
[null,null,null,null,null,"LV Site Specific Band 1",null,"All the way",null,10.304,1.0189999999999999,2.5000000000000001E-2,516.59,5.23,5.23,0.20399999999999999]
[null,null,null,null,null,"LV Site Specific Band 2",null,"All the way",null,10.304,1.0189999999999999,2.5000000000000001E-2,842.76,5.23,5.23,0.20399999999999999]
[null,null,null,null,null,"LV Site Specific Band 3",null,"All the way",null,10.304,1.0189999999999999,2.5000000000000001E-2,1402.55,5.23,5.23,0.20399999999999999]
[null,null,null,null,null,"LV Site Specific Band 4",null,"All the way",null,10.304,1.0189999999999999,2.5000000000000001E-2,2959.75,5.23,5.23,0.20399999999999999]
[null,null,null,null,null,"LV Sub Site Specific No Residual",null,"All the way",null,5.6740000000000004,0.434,1.2999999999999999E-2,9.42,7.35,7.35,9.2999999999999999E-2]
[null,null,null,null,null,"LV Sub Site Specific Band 1",null,"All the way",null,5.6740000000000004,0.434,1.2999999999999999E-2,499.33,7.35,7.35,9.2999999999999999E-2]
[null,null,null,null,null,"LV Sub Site Specific Band 2",null,"All the way",null,5.6740000000000004,0.434,1.2999999999999999E-2,825.49,7.35,7.35,9.2999999999999999E-2]
[null,null,null,null,null,"LV Sub Site Specific Band 3",null,"All the way",null,5.6740000000000004,0.434,1.2999999999999999E-2,1385.29,7.35,7.35,9.2999999999999999E-2]
[null,null,null,null,null,"LV Sub Site Specific Band 4",null,"All the way",null,5.6740000000000004,0.434,1.2999999999999999E-2,2942.49,7.35,7.35,9.2999999999999999E-2]
[null,null,null,null,null,"HV Site Specific No Residual",null,"All the way",null,4.0810000000000004,0.26800000000000002,8.9999999999999993E-3,142.56,8.75,8.75,5.8000000000000003E-2]
[null,null,null,null,null,"HV Site Specific Band 1",null,"All the way",null,4.0810000000000004,0.26800000000000002,8.9999999999999993E-3,2509.4699999999998,8.75,8.75,5.8000000000000003E-2]
[null,null,null,null,null,"HV Site Specific Band 2",null,"All the way",null,4.0810000000000004,0.26800000000000002,8.9999999999999993E-3,7691,8.75,8.75,5.8000000000000003E-2]
[null,null,null,null,null,"HV Site Specific Band 3",null,"All the way",null,4.0810000000000004,0.26800000000000002,8.9999999999999993E-3,15407.03,8.75,8.75,5.8000000000000003E-2]
[null,null,null,null,null,"HV Site Specific Band 4",null,"All the way",null,4.0810000000000004,0.26800000000000002,8.9999999999999993E-3,40347.21,8.75,8.75,5.8000000000000003E-2]
[null,null,null,null,null,"Unmetered Supplies",null,"All the way",null,36.247,3.4870000000000001,2.343,0,0,0,0]
[null,null,null,null,null,"LV Generation Aggregated",null,"All the way",null,-9.1110000000000007,-0.97,-2.3E-2,0,0,0,0]
[null,null,null,null,null,"LV Sub Generation Aggregated",null,"All the way",null,-7.7439999999999998,-0.79400000000000004,-1.9E-2,0,0,0,0]
[null,null,null,null,null,"LV Generation Site Specific",null,"All the way",null,-9.1110000000000007,-0.97,-2.3E-2,0,0,0,0.20300000000000001]
[null,null,null,null,null,"LV Generation Site Specific no RP Charge",null,"All the way",null,-9.1110000000000007,-0.97,-2.3E-2,0,0,0,0]
[null,null,null,null,null,"LV Sub Generation Site Specific",null,"All the way",null,-7.7439999999999998,-0.79400000000000004,-1.9E-2,0,0,0,0.16]
[null,null,null,null,null,"LV Sub Generation Site Specific no RP Charge",null,"All the way",null,-7.7439999999999998,-0.79400000000000004,-1.9E-2,0,0,0,0]
[null,null,null,null,null,"HV Generation Site Specific",null,"All the way",null,-4.9379999999999997,-0.377,-1.0999999999999999E-2,104.1,0,0,0.14000000000000001]
[null,null,null,null,null,"HV Generation Site Specific no RP Charge",null,"All the way",null,-4.9379999999999997,-0.377,-1.0999999999999999E-2,104.1,0,0,0]
[]
[null,null,null,null,{"$f":"\"LDNO LV tariff forecast (\" & charging_year_selected & \")\"","v":"LDNO LV tariff forecast (2027/28)"}]
[null,null,null,null,null,"Domestic Aggregated or CT with Residual",null,"LDNO LV",null,{"$f":"TRANSPOSE(Rounding!J159:AO165)","v":7.681},0.81799999999999995,1.9E-2,12.84,0,0,0]
[null,null,null,null,null,"Domestic Aggregated (Related MPAN)",null,"LDNO LV",null,7.681,0.81799999999999995,1.9E-2,0,0,0,0]
[null,null,null,null,null,"Non-Domestic Aggregated or CT No Residual",null,"LDNO LV",null,8.5039999999999996,0.90500000000000003,2.1000000000000001E-2,4.8099999999999996,0,0,0]
[null,null,null,null,null,"Non-Domestic Aggregated or CT Band 1",null,"LDNO LV",null,8.5039999999999996,0.90500000000000003,2.1000000000000001E-2,16.690000000000001,0,0,0]
[null,null,null,null,null,"Non-Domestic Aggregated or CT Band 2",null,"LDNO LV",null,8.5039999999999996,0.90500000000000003,2.1000000000000001E-2,29.75,0,0,0]
[null,null,null,null,null,"Non-Domestic Aggregated or CT Band 3",null,"LDNO LV",null,8.5039999999999996,0.90500000000000003,2.1000000000000001E-2,54.4,0,0,0]
[null,null,null,null,null,"Non-Domestic Aggregated or CT Band 4",null,"LDNO LV",null,8.5039999999999996,0.90500000000000003,2.1000000000000001E-2,146.82,0,0,0]
[null,null,null,null,null,"Non-Domestic Aggregated (Related MPAN)",null,"LDNO LV",null,8.5039999999999996,0.90500000000000003,2.1000000000000001E-2,0,0,0,0]
[null,null,null,null,null,"LV Site Specific No Residual",null,"LDNO LV",null,6.2229999999999999,0.61499999999999999,1.4999999999999999E-2,16.11,3.16,3.16,0.123]
[null,null,null,null,null,"LV Site Specific Band 1",null,"LDNO LV",null,6.2229999999999999,0.61499999999999999,1.4999999999999999E-2,312.01,3.16,3.16,0.123]
[null,null,null,null,null,"LV Site Specific Band 2",null,"LDNO LV",null,6.2229999999999999,0.61499999999999999,1.4999999999999999E-2,509.01,3.16,3.16,0.123]
[null,null,null,null,null,"LV Site Specific Band 3",null,"LDNO LV",null,6.2229999999999999,0.61499999999999999,1.4999999999999999E-2,847.11,3.16,3.16,0.123]
[null,null,null,null,null,"LV Site Specific Band 4",null,"LDNO LV",null,6.2229999999999999,0.61499999999999999,1.4999999999999999E-2,1787.62,3.16,3.16,0.123]
[null,null,null,null,null,"LV Sub Site Specific No Residual",null,"LDNO LV",null,0,0,0,0,0,0,0]
[null,null,null,null,null,"LV Sub Site Specific Band 1",null,"LDNO LV",null,0,0,0,0,0,0,0]
[null,null,null,null,null,"LV Sub Site Specific Band 2",null,"LDNO LV",null,0,0,0,0,0,0,0]
[null,null,null,null,null,"LV Sub Site Specific Band 3",null,"LDNO LV",null,0,0,0,0,0,0,0]
[null,null,null,null,null,"LV Sub Site Specific Band 4",null,"LDNO LV",null,0,0,0,0,0,0,0]
[null,null,null,null,null,"HV Site Specific No Residual",null,"LDNO LV",null,0,0,0,0,0,0,0]
[null,null,null,null,null,"HV Site Specific Band 1",null,"LDNO LV",null,0,0,0,0,0,0,0]
[null,null,null,null,null,"HV Site Specific Band 2",null,"LDNO LV",null,0,0,0,0,0,0,0]
[null,null,null,null,null,"HV Site Specific Band 3",null,"LDNO LV",null,0,0,0,0,0,0,0]
[null,null,null,null,null,"HV Site Specific Band 4",null,"LDNO LV",null,0,0,0,0,0,0,0]
[null,null,null,null,null,"Unmetered Supplies",null,"LDNO LV",null,21.891999999999999,2.1059999999999999,1.415,0,0,0,0]
[null,null,null,null,null,"LV Generation Aggregated",null,"LDNO LV",null,-9.1110000000000007,-0.97,-2.3E-2,0,0,0,0]
[null,null,null,null,null,"LV Sub Generation Aggregated",null,"LDNO LV",null,0,0,0,0,0,0,0]
[null,null,null,null,null,"LV Generation Site Specific",null,"LDNO LV",null,-9.1110000000000007,-0.97,-2.3E-2,0,0,0,0.20300000000000001]
[null,null,null,null,null,"LV Generation Site Specific no RP Charge",null,"LDNO LV",null,0,0,0,0,0,0,0]
[null,null,null,null,null,"LV Sub Generation Site Specific",null,"LDNO LV",null,0,0,0,0,0,0,0]
[null,null,null,null,null,"LV Sub Generation Site Specific no RP Charge",null,"LDNO LV",null,0,0,0,0,0,0,0]
[null,null,null,null,null,"HV Generation Site Specific",null,"LDNO LV",null,0,0,0,0,0,0,0]
[null,null,null,null,null,"HV Generation Site Specific no RP Charge",null,"LDNO LV",null,0,0,0,0,0,0,0]
[]
[null,null,null,null,{"$f":"\"LDNO HV tariff forecast (\" & charging_year_selected & \")\"","v":"LDNO HV tariff forecast (2027/28)"}]
[null,null,null,null,null,"Domestic Aggregated or CT with Residual",null,"LDNO HV",null,{"$f":"TRANSPOSE(Rounding!J168:AO174)","v":5},0.53200000000000003,1.2999999999999999E-2,8.36,0,0,0]
[null,null,null,null,null,"Domestic Aggregated (Related MPAN)",null,"LDNO HV",null,5,0.53200000000000003,1.2999999999999999E-2,0,0,0,0]
[null,null,null,null,null,"Non-Domestic Aggregated or CT No Residual",null,"LDNO HV",null,5.5359999999999996,0.58899999999999997,1.4E-2,3.13,0,0,0]
[null,null,null,null,null,"Non-Domestic Aggregated or CT Band 1",null,"LDNO HV",null,5.5359999999999996,0.58899999999999997,1.4E-2,10.86,0,0,0]
[null,null,null,null,null,"Non-Domestic Aggregated or CT Band 2",null,"LDNO HV",null,5.5359999999999996,0.58899999999999997,1.4E-2,19.37,0,0,0]
[null,null,null,null,null,"Non-Domestic Aggregated or CT Band 3",null,"LDNO HV",null,5.5359999999999996,0.58899999999999997,1.4E-2,35.42,0,0,0]
[null,null,null,null,null,"Non-Domestic Aggregated or CT Band 4",null,"LDNO HV",null,5.5359999999999996,0.58899999999999997,1.4E-2,95.57,0,0,0]
[null,null,null,null,null,"Non-Domestic Aggregated (Related MPAN)",null,"LDNO HV",null,5.5359999999999996,0.58899999999999997,1.4E-2,0,0,0,0]
[null,null,null,null,null,"LV Site Specific No Residual",null,"LDNO HV",null,4.0510000000000002,0.40100000000000002,0.01,10.49,2.0499999999999998,2.0499999999999998,0.08]
[null,null,null,null,null,"LV Site Specific Band 1",null,"LDNO HV",null,4.0510000000000002,0.40100000000000002,0.01,203.11,2.0499999999999998,2.0499999999999998,0.08]
[null,null,null,null,null,"LV Site Specific Band 2",null,"LDNO HV",null,4.0510000000000002,0.40100000000000002,0.01,331.34,2.0499999999999998,2.0499999999999998,0.08]
[null,null,null,null,null,"LV Site Specific Band 3",null,"LDNO HV",null,4.0510000000000002,0.40100000000000002,0.01,551.44000000000005,2.0499999999999998,2.0499999999999998,0.08]
[null,null,null,null,null,"LV Site Specific Band 4",null,"LDNO HV",null,4.0510000000000002,0.40100000000000002,0.01,1163.68,2.0499999999999998,2.0499999999999998,0.08]
[null,null,null,null,null,"LV Sub Site Specific No Residual",null,"LDNO HV",null,3.7,0.28299999999999997,8.0000000000000002E-3,6.14,4.8,4.8,6.0999999999999999E-2]
[null,null,null,null,null,"LV Sub Site Specific Band 1",null,"LDNO HV",null,3.7,0.28299999999999997,8.0000000000000002E-3,325.64,4.8,4.8,6.0999999999999999E-2]
[null,null,null,null,null,"LV Sub Site Specific Band 2",null,"LDNO HV",null,3.7,0.28299999999999997,8.0000000000000002E-3,538.36,4.8,4.8,6.0999999999999999E-2]
[null,null,null,null,null,"LV Sub Site Specific Band 3",null,"LDNO HV",null,3.7,0.28299999999999997,8.0000000000000002E-3,903.44,4.8,4.8,6.0999999999999999E-2]
[null,null,null,null,null,"LV Sub Site Specific Band 4",null,"LDNO HV",null,3.7,0.28299999999999997,8.0000000000000002E-3,1918.99,4.8,4.8,6.0999999999999999E-2]
[null,null,null,null,null,"HV Site Specific No Residual",null,"LDNO HV",null,3.0649999999999999,0.20200000000000001,7.0000000000000001E-3,107.07,6.57,6.57,4.3999999999999997E-2]
[null,null,null,null,null,"HV Site Specific Band 1",null,"LDNO HV",null,3.0649999999999999,0.20200000000000001,7.0000000000000001E-3,1884.87,6.57,6.57,4.3999999999999997E-2]
[null,null,null,null,null,"HV Site Specific Band 2",null,"LDNO HV",null,3.0649999999999999,0.20200000000000001,7.0000000000000001E-3,5776.75,6.57,6.57,4.3999999999999997E-2]
[null,null,null,null,null,"HV Site Specific Band 3",null,"LDNO HV",null,3.0649999999999999,0.20200000000000001,7.0000000000000001E-3,11572.29,6.57,6.57,4.3999999999999997E-2]
[null,null,null,null,null,"HV Site Specific Band 4",null,"LDNO HV",null,3.0649999999999999,0.20200000000000001,7.0000000000000001E-3,30304.98,6.57,6.57,4.3999999999999997E-2]
[null,null,null,null,null,"Unmetered Supplies",null,"LDNO HV",null,14.250999999999999,1.371,0.92100000000000004,0,0,0,0]
[null,null,null,null,null,"LV Generation Aggregated",null,"LDNO HV",null,-9.1110000000000007,-0.97,-2.3E-2,0,0,0,0]
[null,null,null,null,null,"LV Sub Generation Aggregated",null,"LDNO HV",null,-7.7439999999999998,-0.79400000000000004,-1.9E-2,0,0,0,0]
[null,null,null,null,null,"LV Generation Site Specific",null,"LDNO HV",null,-9.1110000000000007,-0.97,-2.3E-2,0,0,0,0.20300000000000001]
[null,null,null,null,null,"LV Generation Site Specific no RP Charge",null,"LDNO HV",null,0,0,0,0,0,0,0]
[null,null,null,null,null,"LV Sub Generation Site Specific",null,"LDNO HV",null,-7.7439999999999998,-0.79400000000000004,-1.9E-2,0,0,0,0.16]
[null,null,null,null,null,"LV Sub Generation Site Specific no RP Charge",null,"LDNO HV",null,0,0,0,0,0,0,0]
[null,null,null,null,null,"HV Generation Site Specific",null,"LDNO HV",null,-4.9379999999999997,-0.377,-1.0999999999999999E-2,0,0,0,0.14000000000000001]
[null,null,null,null,null,"HV Generation Site Specific no RP Charge",null,"LDNO HV",null,0,0,0,0,0,0,0]
[]
[null,null,{"$f":"INDEX('Version control'!$H$29:$H$55,MATCH($A$1,'Version control'!$F$29:$F$55,0),1)&\"-B: Tariff results for charging year \" & 'CIRP_User control'!G30","v":"Output 501-B: Tariff results for charging year 2027/28"}]
[]
[null,null,null,null,{"$f":"\"All the way tariff forecast \" & 'CIRP_User control'!G30","v":"All the way tariff forecast 2027/28"}]
[null,null,null,null,null,"Domestic Aggregated or CT with Residual",null,"All the way"]
[null,null,null,null,null,"Domestic Aggregated (Related MPAN)",null,"All the way"]
[null,null,null,null,null,"Non-Domestic Aggregated or CT No Residual",null,"All the way"]
[null,null,null,null,null,"Non-Domestic Aggregated or CT Band 1",null,"All the way"]
[null,null,null,null,null,"Non-Domestic Aggregated or CT Band 2",null,"All the way"]
[null,null,null,null,null,"Non-Domestic Aggregated or CT Band 3",null,"All the way"]
[null,null,null,null,null,"Non-Domestic Aggregated or CT Band 4",null,"All the way"]
[null,null,null,null,null,"Non-Domestic Aggregated (Related MPAN)",null,"All the way"]
[null,null,null,null,null,"LV Site Specific No Residual",null,"All the way"]
[null,null,null,null,null,"LV Site Specific Band 1",null,"All the way"]
[null,null,null,null,null,"LV Site Specific Band 2",null,"All the way"]
[null,null,null,null,null,"LV Site Specific Band 3",null,"All the way"]
[null,null,null,null,null,"LV Site Specific Band 4",null,"All the way"]
[null,null,null,null,null,"LV Sub Site Specific No Residual",null,"All the way"]
[null,null,null,null,null,"LV Sub Site Specific Band 1",null,"All the way"]
[null,null,null,null,null,"LV Sub Site Specific Band 2",null,"All the way"]
[null,null,null,null,null,"LV Sub Site Specific Band 3",null,"All the way"]
[null,null,null,null,null,"LV Sub Site Specific Band 4",null,"All the way"]
[null,null,null,null,null,"HV Site Specific No Residual",null,"All the way"]
[null,null,null,null,null,"HV Site Specific Band 1",null,"All the way"]
[null,null,null,null,null,"HV Site Specific Band 2",null,"All the way"]
[null,null,null,null,null,"HV Site Specific Band 3",null,"All the way"]
[null,null,null,null,null,"HV Site Specific Band 4",null,"All the way"]
[null,null,null,null,null,"Unmetered Supplies",null,"All the way"]
[null,null,null,null,null,"LV Generation Aggregated",null,"All the way"]
[null,null,null,null,null,"LV Sub Generation Aggregated",null,"All the way"]
[null,null,null,null,null,"LV Generation Site Specific",null,"All the way"]
[null,null,null,null,null,"LV Generation Site Specific no RP Charge",null,"All the way"]
[null,null,null,null,null,"LV Sub Generation Site Specific",null,"All the way"]
[null,null,null,null,null,"LV Sub Generation Site Specific no RP Charge",null,"All the way"]
[null,null,null,null,null,"HV Generation Site Specific",null,"All the way"]
[null,null,null,null,null,"HV Generation Site Specific no RP Charge",null,"All the way"]
[]
[null,null,null,null,{"$f":"\"LDNO LV tariff forecast \" & 'CIRP_User control'!G30","v":"LDNO LV tariff forecast 2027/28"}]
[null,null,null,null,null,"Domestic Aggregated or CT with Residual",null,"LDNO LV"]
[null,null,null,null,null,"Domestic Aggregated (Related MPAN)",null,"LDNO LV"]
[null,null,null,null,null,"Non-Domestic Aggregated or CT No Residual",null,"LDNO LV"]
[null,null,null,null,null,"Non-Domestic Aggregated or CT Band 1",null,"LDNO LV"]
[null,null,null,null,null,"Non-Domestic Aggregated or CT Band 2",null,"LDNO LV"]
[null,null,null,null,null,"Non-Domestic Aggregated or CT Band 3",null,"LDNO LV"]
[null,null,null,null,null,"Non-Domestic Aggregated or CT Band 4",null,"LDNO LV"]
[null,null,null,null,null,"Non-Domestic Aggregated (Related MPAN)",null,"LDNO LV"]
[null,null,null,null,null,"LV Site Specific No Residual",null,"LDNO LV"]
[null,null,null,null,null,"LV Site Specific Band 1",null,"LDNO LV"]
[null,null,null,null,null,"LV Site Specific Band 2",null,"LDNO LV"]
[null,null,null,null,null,"LV Site Specific Band 3",null,"LDNO LV"]
[null,null,null,null,null,"LV Site Specific Band 4",null,"LDNO LV"]
[null,null,null,null,null,"LV Sub Site Specific No Residual",null,"LDNO LV"]
[null,null,null,null,null,"LV Sub Site Specific Band 1",null,"LDNO LV"]
[null,null,null,null,null,"LV Sub Site Specific Band 2",null,"LDNO LV"]
[null,null,null,null,null,"LV Sub Site Specific Band 3",null,"LDNO LV"]
[null,null,null,null,null,"LV Sub Site Specific Band 4",null,"LDNO LV"]
[null,null,null,null,null,"HV Site Specific No Residual",null,"LDNO LV"]
[null,null,null,null,null,"HV Site Specific Band 1",null,"LDNO LV"]
[null,null,null,null,null,"HV Site Specific Band 2",null,"LDNO LV"]
[null,null,null,null,null,"HV Site Specific Band 3",null,"LDNO LV"]
[null,null,null,null,null,"HV Site Specific Band 4",null,"LDNO LV"]
[null,null,null,null,null,"Unmetered Supplies",null,"LDNO LV"]
[null,null,null,null,null,"LV Generation Aggregated",null,"LDNO LV"]
[null,null,null,null,null,"LV Sub Generation Aggregated",null,"LDNO LV"]
[null,null,null,null,null,"LV Generation Site Specific",null,"LDNO LV"]
[null,null,null,null,null,"LV Generation Site Specific no RP Charge",null,"LDNO LV"]
[null,null,null,null,null,"LV Sub Generation Site Specific",null,"LDNO LV"]
[null,null,null,null,null,"LV Sub Generation Site Specific no RP Charge",null,"LDNO LV"]
[null,null,null,null,null,"HV Generation Site Specific",null,"LDNO LV"]
[null,null,null,null,null,"HV Generation Site Specific no RP Charge",null,"LDNO LV"]
[]
[null,null,null,null,{"$f":"\"LDNO HV tariff forecast \" & 'CIRP_User control'!G30","v":"LDNO HV tariff forecast 2027/28"}]
[null,null,null,null,null,"Domestic Aggregated or CT with Residual",null,"LDNO HV"]
[null,null,null,null,null,"Domestic Aggregated (Related MPAN)",null,"LDNO HV"]
[null,null,null,null,null,"Non-Domestic Aggregated or CT No Residual",null,"LDNO HV"]
[null,null,null,null,null,"Non-Domestic Aggregated or CT Band 1",null,"LDNO HV"]
[null,null,null,null,null,"Non-Domestic Aggregated or CT Band 2",null,"LDNO HV"]
[null,null,null,null,null,"Non-Domestic Aggregated or CT Band 3",null,"LDNO HV"]
[null,null,null,null,null,"Non-Domestic Aggregated or CT Band 4",null,"LDNO HV"]
[null,null,null,null,null,"Non-Domestic Aggregated (Related MPAN)",null,"LDNO HV"]
[null,null,null,null,null,"LV Site Specific No Residual",null,"LDNO HV"]
[null,null,null,null,null,"LV Site Specific Band 1",null,"LDNO HV"]
[null,null,null,null,null,"LV Site Specific Band 2",null,"LDNO HV"]
[null,null,null,null,null,"LV Site Specific Band 3",null,"LDNO HV"]
[null,null,null,null,null,"LV Site Specific Band 4",null,"LDNO HV"]
[null,null,null,null,null,"LV Sub Site Specific No Residual",null,"LDNO HV"]
[null,null,null,null,null,"LV Sub Site Specific Band 1",null,"LDNO HV"]
[null,null,null,null,null,"LV Sub Site Specific Band 2",null,"LDNO HV"]
[null,null,null,null,null,"LV Sub Site Specific Band 3",null,"LDNO HV"]
[null,null,null,null,null,"LV Sub Site Specific Band 4",null,"LDNO HV"]
[null,null,null,null,null,"HV Site Specific No Residual",null,"LDNO HV"]
[null,null,null,null,null,"HV Site Specific Band 1",null,"LDNO HV"]
[null,null,null,null,null,"HV Site Specific Band 2",null,"LDNO HV"]
[null,null,null,null,null,"HV Site Specific Band 3",null,"LDNO HV"]
[null,null,null,null,null,"HV Site Specific Band 4",null,"LDNO HV"]
[null,null,null,null,null,"Unmetered Supplies",null,"LDNO HV"]
[null,null,null,null,null,"LV Generation Aggregated",null,"LDNO HV"]
[null,null,null,null,null,"LV Sub Generation Aggregated",null,"LDNO HV"]
[null,null,null,null,null,"LV Generation Site Specific",null,"LDNO HV"]
[null,null,null,null,null,"LV Generation Site Specific no RP Charge",null,"LDNO HV"]
[null,null,null,null,null,"LV Sub Generation Site Specific",null,"LDNO HV"]
[null,null,null,null,null,"LV Sub Generation Site Specific no RP Charge",null,"LDNO HV"]
[null,null,null,null,null,"HV Generation Site Specific",null,"LDNO HV"]
[null,null,null,null,null,"HV Generation Site Specific no RP Charge",null,"LDNO HV"]
[]
[null,null,{"$f":"INDEX('Version control'!$H$29:$H$55,MATCH($A$1,'Version control'!$F$29:$F$55,0),1)&\"-C: Tariff results for charging year \" & 'CIRP_User control'!G31","v":"Output 501-C: Tariff results for charging year 2028/29"}]
[]
[null,null,null,null,{"$f":"\"All the way tariff forecast \" & 'CIRP_User control'!G31","v":"All the way tariff forecast 2028/29"}]
[null,null,null,null,null,"Domestic Aggregated or CT with Residual",null,"All the way"]
[null,null,null,null,null,"Domestic Aggregated (Related MPAN)",null,"All the way"]
[null,null,null,null,null,"Non-Domestic Aggregated or CT No Residual",null,"All the way"]
[null,null,null,null,null,"Non-Domestic Aggregated or CT Band 1",null,"All the way"]
[null,null,null,null,null,"Non-Domestic Aggregated or CT Band 2",null,"All the way"]
[null,null,null,null,null,"Non-Domestic Aggregated or CT Band 3",null,"All the way"]
[null,null,null,null,null,"Non-Domestic Aggregated or CT Band 4",null,"All the way"]
[null,null,null,null,null,"Non-Domestic Aggregated (Related MPAN)",null,"All the way"]
[null,null,null,null,null,"LV Site Specific No Residual",null,"All the way"]
[null,null,null,null,null,"LV Site Specific Band 1",null,"All the way"]
[null,null,null,null,null,"LV Site Specific Band 2",null,"All the way"]
[null,null,null,null,null,"LV Site Specific Band 3",null,"All the way"]
[null,null,null,null,null,"LV Site Specific Band 4",null,"All the way"]
[null,null,null,null,null,"LV Sub Site Specific No Residual",null,"All the way"]
[null,null,null,null,null,"LV Sub Site Specific Band 1",null,"All the way"]
[null,null,null,null,null,"LV Sub Site Specific Band 2",null,"All the way"]
[null,null,null,null,null,"LV Sub Site Specific Band 3",null,"All the way"]
[null,null,null,null,null,"LV Sub Site Specific Band 4",null,"All the way"]
[null,null,null,null,null,"HV Site Specific No Residual",null,"All the way"]
[null,null,null,null,null,"HV Site Specific Band 1",null,"All the way"]
[null,null,null,null,null,"HV Site Specific Band 2",null,"All the way"]
[null,null,null,null,null,"HV Site Specific Band 3",null,"All the way"]
[null,null,null,null,null,"HV Site Specific Band 4",null,"All the way"]
[null,null,null,null,null,"Unmetered Supplies",null,"All the way"]
[null,null,null,null,null,"LV Generation Aggregated",null,"All the way"]
[null,null,null,null,null,"LV Sub Generation Aggregated",null,"All the way"]
[null,null,null,null,null,"LV Generation Site Specific",null,"All the way"]
[null,null,null,null,null,"LV Generation Site Specific no RP Charge",null,"All the way"]
[null,null,null,null,null,"LV Sub Generation Site Specific",null,"All the way"]
[null,null,null,null,null,"LV Sub Generation Site Specific no RP Charge",null,"All the way"]
[null,null,null,null,null,"HV Generation Site Specific",null,"All the way"]
[null,null,null,null,null,"HV Generation Site Specific no RP Charge",null,"All the way"]
[]
[null,null,null,null,{"$f":"\"LDNO LV tariff forecast \"& 'CIRP_User control'!G31","v":"LDNO LV tariff forecast 2028/29"}]
[null,null,null,null,null,"Domestic Aggregated or CT with Residual",null,"LDNO LV"]
[null,null,null,null,null,"Domestic Aggregated (Related MPAN)",null,"LDNO LV"]
[null,null,null,null,null,"Non-Domestic Aggregated or CT No Residual",null,"LDNO LV"]
[null,null,null,null,null,"Non-Domestic Aggregated or CT Band 1",null,"LDNO LV"]
[null,null,null,null,null,"Non-Domestic Aggregated or CT Band 2",null,"LDNO LV"]
[null,null,null,null,null,"Non-Domestic Aggregated or CT Band 3",null,"LDNO LV"]
[null,null,null,null,null,"Non-Domestic Aggregated or CT Band 4",null,"LDNO LV"]
[null,null,null,null,null,"Non-Domestic Aggregated (Related MPAN)",null,"LDNO LV"]
[null,null,null,null,null,"LV Site Specific No Residual",null,"LDNO LV"]
[null,null,null,null,null,"LV Site Specific Band 1",null,"LDNO LV"]
[null,null,null,null,null,"LV Site Specific Band 2",null,"LDNO LV"]
[null,null,null,null,null,"LV Site Specific Band 3",null,"LDNO LV"]
[null,null,null,null,null,"LV Site Specific Band 4",null,"LDNO LV"]
[null,null,null,null,null,"LV Sub Site Specific No Residual",null,"LDNO LV"]
[null,null,null,null,null,"LV Sub Site Specific Band 1",null,"LDNO LV"]
[null,null,null,null,null,"LV Sub Site Specific Band 2",null,"LDNO LV"]
[null,null,null,null,null,"LV Sub Site Specific Band 3",null,"LDNO LV"]
[null,null,null,null,null,"LV Sub Site Specific Band 4",null,"LDNO LV"]
[null,null,null,null,null,"HV Site Specific No Residual",null,"LDNO LV"]
[null,null,null,null,null,"HV Site Specific Band 1",null,"LDNO LV"]
[null,null,null,null,null,"HV Site Specific Band 2",null,"LDNO LV"]
[null,null,null,null,null,"HV Site Specific Band 3",null,"LDNO LV"]
[null,null,null,null,null,"HV Site Specific Band 4",null,"LDNO LV"]
[null,null,null,null,null,"Unmetered Supplies",null,"LDNO LV"]
[null,null,null,null,null,"LV Generation Aggregated",null,"LDNO LV"]
[null,null,null,null,null,"LV Sub Generation Aggregated",null,"LDNO LV"]
[null,null,null,null,null,"LV Generation Site Specific",null,"LDNO LV"]
[null,null,null,null,null,"LV Generation Site Specific no RP Charge",null,"LDNO LV"]
[null,null,null,null,null,"LV Sub Generation Site Specific",null,"LDNO LV"]
[null,null,null,null,null,"LV Sub Generation Site Specific no RP Charge",null,"LDNO LV"]
[null,null,null,null,null,"HV Generation Site Specific",null,"LDNO LV"]
[null,null,null,null,null,"HV Generation Site Specific no RP Charge",null,"LDNO LV"]
[]
[null,null,null,null,{"$f":"\"LDNO HV tariff forecast \"& 'CIRP_User control'!G31","v":"LDNO HV tariff forecast 2028/29"}]
[null,null,null,null,null,"Domestic Aggregated or CT with Residual",null,"LDNO HV"]
[null,null,null,null,null,"Domestic Aggregated (Related MPAN)",null,"LDNO HV"]
[null,null,null,null,null,"Non-Domestic Aggregated or CT No Residual",null,"LDNO HV"]
[null,null,null,null,null,"Non-Domestic Aggregated or CT Band 1",null,"LDNO HV"]
[null,null,null,null,null,"Non-Domestic Aggregated or CT Band 2",null,"LDNO HV"]
[null,null,null,null,null,"Non-Domestic Aggregated or CT Band 3",null,"LDNO HV"]
[null,null,null,null,null,"Non-Domestic Aggregated or CT Band 4",null,"LDNO HV"]
[null,null,null,null,null,"Non-Domestic Aggregated (Related MPAN)",null,"LDNO HV"]
[null,null,null,null,null,"LV Site Specific No Residual",null,"LDNO HV"]
[null,null,null,null,null,"LV Site Specific Band 1",null,"LDNO HV"]
[null,null,null,null,null,"LV Site Specific Band 2",null,"LDNO HV"]
[null,null,null,null,null,"LV Site Specific Band 3",null,"LDNO HV"]
[null,null,null,null,null,"LV Site Specific Band 4",null,"LDNO HV"]
[null,null,null,null,null,"LV Sub Site Specific No Residual",null,"LDNO HV"]
[null,null,null,null,null,"LV Sub Site Specific Band 1",null,"LDNO HV"]
[null,null,null,null,null,"LV Sub Site Specific Band 2",null,"LDNO HV"]
[null,null,null,null,null,"LV Sub Site Specific Band 3",null,"LDNO HV"]
[null,null,null,null,null,"LV Sub Site Specific Band 4",null,"LDNO HV"]
[null,null,null,null,null,"HV Site Specific No Residual",null,"LDNO HV"]
[null,null,null,null,null,"HV Site Specific Band 1",null,"LDNO HV"]
[null,null,null,null,null,"HV Site Specific Band 2",null,"LDNO HV"]
[null,null,null,null,null,"HV Site Specific Band 3",null,"LDNO HV"]
[null,null,null,null,null,"HV Site Specific Band 4",null,"LDNO HV"]
[null,null,null,null,null,"Unmetered Supplies",null,"LDNO HV"]
[null,null,null,null,null,"LV Generation Aggregated",null,"LDNO HV"]
[null,null,null,null,null,"LV Sub Generation Aggregated",null,"LDNO HV"]
[null,null,null,null,null,"LV Generation Site Specific",null,"LDNO HV"]
[null,null,null,null,null,"LV Generation Site Specific no RP Charge",null,"LDNO HV"]
[null,null,null,null,null,"LV Sub Generation Site Specific",null,"LDNO HV"]
[null,null,null,null,null,"LV Sub Generation Site Specific no RP Charge",null,"LDNO HV"]
[null,null,null,null,null,"HV Generation Site Specific",null,"LDNO HV"]
[null,null,null,null,null,"HV Generation Site Specific no RP Charge",null,"LDNO HV"]
[]
[null,null,{"$f":"INDEX('Version control'!$H$29:$H$55,MATCH($A$1,'Version control'!$F$29:$F$55,0),1)&\"-D: Tariff results for charging year \" & 'CIRP_User control'!G32","v":"Output 501-D: Tariff results for charging year 2029/30"}]
[]
[null,null,null,null,{"$f":"\"All the way tariff forecast \"& 'CIRP_User control'!G32","v":"All the way tariff forecast 2029/30"}]
[null,null,null,null,null,"Domestic Aggregated or CT with Residual",null,"All the way"]
[null,null,null,null,null,"Domestic Aggregated (Related MPAN)",null,"All the way"]
[null,null,null,null,null,"Non-Domestic Aggregated or CT No Residual",null,"All the way"]
[null,null,null,null,null,"Non-Domestic Aggregated or CT Band 1",null,"All the way"]
[null,null,null,null,null,"Non-Domestic Aggregated or CT Band 2",null,"All the way"]
[null,null,null,null,null,"Non-Domestic Aggregated or CT Band 3",null,"All the way"]
[null,null,null,null,null,"Non-Domestic Aggregated or CT Band 4",null,"All the way"]
[null,null,null,null,null,"Non-Domestic Aggregated (Related MPAN)",null,"All the way"]
[null,null,null,null,null,"LV Site Specific No Residual",null,"All the way"]
[null,null,null,null,null,"LV Site Specific Band 1",null,"All the way"]
[null,null,null,null,null,"LV Site Specific Band 2",null,"All the way"]
[null,null,null,null,null,"LV Site Specific Band 3",null,"All the way"]
[null,null,null,null,null,"LV Site Specific Band 4",null,"All the way"]
[null,null,null,null,null,"LV Sub Site Specific No Residual",null,"All the way"]
[null,null,null,null,null,"LV Sub Site Specific Band 1",null,"All the way"]
[null,null,null,null,null,"LV Sub Site Specific Band 2",null,"All the way"]
[null,null,null,null,null,"LV Sub Site Specific Band 3",null,"All the way"]
[null,null,null,null,null,"LV Sub Site Specific Band 4",null,"All the way"]
[null,null,null,null,null,"HV Site Specific No Residual",null,"All the way"]
[null,null,null,null,null,"HV Site Specific Band 1",null,"All the way"]
[null,null,null,null,null,"HV Site Specific Band 2",null,"All the way"]
[null,null,null,null,null,"HV Site Specific Band 3",null,"All the way"]
[null,null,null,null,null,"HV Site Specific Band 4",null,"All the way"]
[null,null,null,null,null,"Unmetered Supplies",null,"All the way"]
[null,null,null,null,null,"LV Generation Aggregated",null,"All the way"]
[null,null,null,null,null,"LV Sub Generation Aggregated",null,"All the way"]
[null,null,null,null,null,"LV Generation Site Specific",null,"All the way"]
[null,null,null,null,null,"LV Generation Site Specific no RP Charge",null,"All the way"]
[null,null,null,null,null,"LV Sub Generation Site Specific",null,"All the way"]
[null,null,null,null,null,"LV Sub Generation Site Specific no RP Charge",null,"All the way"]
[null,null,null,null,null,"HV Generation Site Specific",null,"All the way"]
[null,null,null,null,null,"HV Generation Site Specific no RP Charge",null,"All the way"]
[]
[null,null,null,null,{"$f":"\"LDNO LV tariff forecast \"& 'CIRP_User control'!G32","v":"LDNO LV tariff forecast 2029/30"}]
[null,null,null,null,null,"Domestic Aggregated or CT with Residual",null,"LDNO LV"]
[null,null,null,null,null,"Domestic Aggregated (Related MPAN)",null,"LDNO LV"]
[null,null,null,null,null,"Non-Domestic Aggregated or CT No Residual",null,"LDNO LV"]
[null,null,null,null,null,"Non-Domestic Aggregated or CT Band 1",null,"LDNO LV"]
[null,null,null,null,null,"Non-Domestic Aggregated or CT Band 2",null,"LDNO LV"]
[null,null,null,null,null,"Non-Domestic Aggregated or CT Band 3",null,"LDNO LV"]
[null,null,null,null,null,"Non-Domestic Aggregated or CT Band 4",null,"LDNO LV"]
[null,null,null,null,null,"Non-Domestic Aggregated (Related MPAN)",null,"LDNO LV"]
[null,null,null,null,null,"LV Site Specific No Residual",null,"LDNO LV"]
[null,null,null,null,null,"LV Site Specific Band 1",null,"LDNO LV"]
[null,null,null,null,null,"LV Site Specific Band 2",null,"LDNO LV"]
[null,null,null,null,null,"LV Site Specific Band 3",null,"LDNO LV"]
[null,null,null,null,null,"LV Site Specific Band 4",null,"LDNO LV"]
[null,null,null,null,null,"LV Sub Site Specific No Residual",null,"LDNO LV"]
[null,null,null,null,null,"LV Sub Site Specific Band 1",null,"LDNO LV"]
[null,null,null,null,null,"LV Sub Site Specific Band 2",null,"LDNO LV"]
[null,null,null,null,null,"LV Sub Site Specific Band 3",null,"LDNO LV"]
[null,null,null,null,null,"LV Sub Site Specific Band 4",null,"LDNO LV"]
[null,null,null,null,null,"HV Site Specific No Residual",null,"LDNO LV"]
[null,null,null,null,null,"HV Site Specific Band 1",null,"LDNO LV"]
[null,null,null,null,null,"HV Site Specific Band 2",null,"LDNO LV"]
[null,null,null,null,null,"HV Site Specific Band 3",null,"LDNO LV"]
[null,null,null,null,null,"HV Site Specific Band 4",null,"LDNO LV"]
[null,null,null,null,null,"Unmetered Supplies",null,"LDNO LV"]
[null,null,null,null,null,"LV Generation Aggregated",null,"LDNO LV"]
[null,null,null,null,null,"LV Sub Generation Aggregated",null,"LDNO LV"]
[null,null,null,null,null,"LV Generation Site Specific",null,"LDNO LV"]
[null,null,null,null,null,"LV Generation Site Specific no RP Charge",null,"LDNO LV"]
[null,null,null,null,null,"LV Sub Generation Site Specific",null,"LDNO LV"]
[null,null,null,null,null,"LV Sub Generation Site Specific no RP Charge",null,"LDNO LV"]
[null,null,null,null,null,"HV Generation Site Specific",null,"LDNO LV"]
[null,null,null,null,null,"HV Generation Site Specific no RP Charge",null,"LDNO LV"]
[]
[null,null,null,null,{"$f":"\"LDNO HV tariff forecast \"& 'CIRP_User control'!G32","v":"LDNO HV tariff forecast 2029/30"}]
[null,null,null,null,null,"Domestic Aggregated or CT with Residual",null,"LDNO HV"]
[null,null,null,null,null,"Domestic Aggregated (Related MPAN)",null,"LDNO HV"]
[null,null,null,null,null,"Non-Domestic Aggregated or CT No Residual",null,"LDNO HV"]
[null,null,null,null,null,"Non-Domestic Aggregated or CT Band 1",null,"LDNO HV"]
[null,null,null,null,null,"Non-Domestic Aggregated or CT Band 2",null,"LDNO HV"]
[null,null,null,null,null,"Non-Domestic Aggregated or CT Band 3",null,"LDNO HV"]
[null,null,null,null,null,"Non-Domestic Aggregated or CT Band 4",null,"LDNO HV"]
[null,null,null,null,null,"Non-Domestic Aggregated (Related MPAN)",null,"LDNO HV"]
[null,null,null,null,null,"LV Site Specific No Residual",null,"LDNO HV"]
[null,null,null,null,null,"LV Site Specific Band 1",null,"LDNO HV"]
[null,null,null,null,null,"LV Site Specific Band 2",null,"LDNO HV"]
[null,null,null,null,null,"LV Site Specific Band 3",null,"LDNO HV"]
[null,null,null,null,null,"LV Site Specific Band 4",null,"LDNO HV"]
[null,null,null,null,null,"LV Sub Site Specific No Residual",null,"LDNO HV"]
[null,null,null,null,null,"LV Sub Site Specific Band 1",null,"LDNO HV"]
[null,null,null,null,null,"LV Sub Site Specific Band 2",null,"LDNO HV"]
[null,null,null,null,null,"LV Sub Site Specific Band 3",null,"LDNO HV"]
[null,null,null,null,null,"LV Sub Site Specific Band 4",null,"LDNO HV"]
[null,null,null,null,null,"HV Site Specific No Residual",null,"LDNO HV"]
[null,null,null,null,null,"HV Site Specific Band 1",null,"LDNO HV"]
[null,null,null,null,null,"HV Site Specific Band 2",null,"LDNO HV"]
[null,null,null,null,null,"HV Site Specific Band 3",null,"LDNO HV"]
[null,null,null,null,null,"HV Site Specific Band 4",null,"LDNO HV"]
[null,null,null,null,null,"Unmetered Supplies",null,"LDNO HV"]
[null,null,null,null,null,"LV Generation Aggregated",null,"LDNO HV"]
[null,null,null,null,null,"LV Sub Generation Aggregated",null,"LDNO HV"]
[null,null,null,null,null,"LV Generation Site Specific",null,"LDNO HV"]
[null,null,null,null,null,"LV Generation Site Specific no RP Charge",null,"LDNO HV"]
[null,null,null,null,null,"LV Sub Generation Site Specific",null,"LDNO HV"]
[null,null,null,null,null,"LV Sub Generation Site Specific no RP Charge",null,"LDNO HV"]
[null,null,null,null,null,"HV Generation Site Specific",null,"LDNO HV"]
[null,null,null,null,null,"HV Generation Site Specific no RP Charge",null,"LDNO HV"]
[]
[null,"Checks"]
[]
[null,null,null,null,"Check for error values",null,"number of issues",{"$f":"SUM(IF(ISERROR(J27:P126), 1))","v":0}]
[]
[null,"End of sheet"]

{"sheet":"Typical bills","index":37,"n_rows":128,"n_cols":16,"rows_kept":128,"cut":false,"hidden":false,"merged":[]}
[{"$f":"MID(CELL(\"filename\",A1),FIND(\"]\",CELL(\"filename\",A1))+1,255)","v":"Typical bills"}]
[{"$f":"Cover!D23 & \" - \" & TEXT(CIRP_submission_date, \"mmm\") & \"-\" & RIGHT(YEAR(CIRP_submission_date), 2) & \" - \" & Cover!D25","v":"SP Distribution - Jan-26 - V1"}]
[{"$f":"Cover!D2&\" - \"&Cover!D8&\" v\"&Cover!D10&\" - \"&Cover!D19","v":"Cost Information Review Pack (CIRP) - Release for charge setting v1 - 2027/28"}]
[{"$f":"H126 & IF(H126 = 1, \" issue\", \" issues\") &\" identified in checks on this sheet\"","v":"0 issues identified in checks on this sheet"}]
[null,"Click here to return to model map",null,null,null,null,"Units","Identifier",null,{"$f":"\"Live results (\" & charging_year_selected & \")\"","v":"Live results (2027/28)"},null,{"$f":"TRANSPOSE('CIRP_User control'!G30:G32)","v":"2027/28"},"2028/29","2029/30",null,"Legal text reference"]
[null,null,null,null,null,null,null,null,null,{"$f":"INDEX('CIRP_User control'!$E$27:$E$32, MATCH(charging_year_selected, 'CIRP_User control'!$G$27:$G$32, 0))","v":"t+2"},null,{"$f":"TRANSPOSE('CIRP_User control'!E30:E32)","v":"t+2"},"t+3","t+4"]
[null,"Description"]
[]
[null,null,"This sheet presents typical bills for 'all the way' customers and LDNO LV/HV customers."]
[null,null,"Bills are calculated for the 'live' charging year and updated for years t+2, t+3 and t+4 of the CIRP forecast using a macro."]
[null,null,"To run the macro, click the \"Run all years\" box on the User Control sheet."]
[]
[null,"Disclaimer"]
[]
[null,null,"To view the 'Tariff summary' or 'Typical bills' sheets users must confirm their acknowledgement that results are illustrative only"]
[null,null," and are not to be considered to represent the final tariffs which will be applied by this company."]
[]
[null,"Typical bills"]
[]
[null,null,{"$f":"INDEX('Version control'!$H$29:$H$55,MATCH($A$1,'Version control'!$F$29:$F$55,0),1)&\"-A: Typical bill results\"","v":"Output 502-A: Typical bill results"}]
[]
[null,null,null,null,"Typical bills for all the way customers",null,null,null,">",null,null,null,null,null,null,"Schedule 20, Paragraph 2.2(d)"]
[null,null,null,null,null,"Domestic Aggregated or CT with Residual","£","All the way",null,{"$f":"TRANSPOSE('Net revenue summary'!J140:AO140)","v":142.0463319468135}]
[null,null,null,null,null,"Domestic Aggregated (Related MPAN)","£","All the way",null,3.8084082499402898]
[null,null,null,null,null,"Non-Domestic Aggregated or CT No Residual","£","All the way",null,98.079469477035929]
[null,null,null,null,null,"Non-Domestic Aggregated or CT Band 1","£","All the way",null,182.63475421526232]
[null,null,null,null,null,"Non-Domestic Aggregated or CT Band 2","£","All the way",null,351.35875500423765]
[null,null,null,null,null,"Non-Domestic Aggregated or CT Band 3","£","All the way",null,670.91737419737467]
[null,null,null,null,null,"Non-Domestic Aggregated or CT Band 4","£","All the way",null,1866.2267360429328]
[null,null,null,null,null,"Non-Domestic Aggregated (Related MPAN)","£","All the way",null,38.756066530964723]
[null,null,null,null,null,"LV Site Specific No Residual","£","All the way",null,1094.4544356291181]
[null,null,null,null,null,"LV Site Specific Band 1","£","All the way",null,4528.2995647059079]
[null,null,null,null,null,"LV Site Specific Band 2","£","All the way",null,7852.9410266762097]
[null,null,null,null,null,"LV Site Specific Band 3","£","All the way",null,12807.316156363877]
[null,null,null,null,null,"LV Site Specific Band 4","£","All the way",null,26628.751642304818]
[null,null,null,null,null,"LV Sub Site Specific No Residual","£","All the way",null,1779.2666428525615]
[null,null,null,null,null,"LV Sub Site Specific Band 1","£","All the way",null,4922.3127479035065]
[null,null,null,null,null,"LV Sub Site Specific Band 2","£","All the way",null,9231.5998602055479]
[null,null,null,null,null,"LV Sub Site Specific Band 3","£","All the way",null,13556.530399088462]
[null,null,null,null,null,"LV Sub Site Specific Band 4","£","All the way",null,31008.896236376586]
[null,null,null,null,null,"HV Site Specific No Residual","£","All the way",null,5709.3001643363932]
[null,null,null,null,null,"HV Site Specific Band 1","£","All the way",null,18670.358098431399]
[null,null,null,null,null,"HV Site Specific Band 2","£","All the way",null,58365.516877980874]
[null,null,null,null,null,"HV Site Specific Band 3","£","All the way",null,116776.4104562875]
[null,null,null,null,null,"HV Site Specific Band 4","£","All the way",null,302163.1081630172]
[null,null,null,null,null,"Unmetered Supplies","£","All the way",null,15838.33937189664]
[null,null,null,null,null,"LV Generation Aggregated","£","All the way",null,-34.886239602145686]
[null,null,null,null,null,"LV Sub Generation Aggregated","£","All the way",null,-242.9388700100013]
[null,null,null,null,null,"LV Generation Site Specific","£","All the way",null,-1260.2450824508319]
[null,null,null,null,null,"LV Generation Site Specific no RP Charge","£","All the way",null,0]
[null,null,null,null,null,"LV Sub Generation Site Specific","£","All the way",null,-597.06158200000004]
[null,null,null,null,null,"LV Sub Generation Site Specific no RP Charge","£","All the way",null,0]
[null,null,null,null,null,"HV Generation Site Specific","£","All the way",null,-24604.92897011029]
[null,null,null,null,null,"HV Generation Site Specific no RP Charge","£","All the way",null,0]
[]
[null,null,null,null,"Typical bills for LDNO LV customers",null,null,null,">",null,null,null,null,null,null,"Schedule 20, Paragraph 2.2(d)"]
[null,null,null,null,null,"Domestic Aggregated or CT with Residual","£","LDNO LV",null,{"$f":"TRANSPOSE('Net revenue summary'!J141:AO141)","v":82.027715537578587}]
[null,null,null,null,null,"Domestic Aggregated (Related MPAN)","£","LDNO LV",null,5.6461371203932487]
[null,null,null,null,null,"Non-Domestic Aggregated or CT No Residual","£","LDNO LV",null,0]
[null,null,null,null,null,"Non-Domestic Aggregated or CT Band 1","£","LDNO LV",null,99.952550485712408]
[null,null,null,null,null,"Non-Domestic Aggregated or CT Band 2","£","LDNO LV",null,198.6916374320646]
[null,null,null,null,null,"Non-Domestic Aggregated or CT Band 3","£","LDNO LV",null,307.89178827561045]
[null,null,null,null,null,"Non-Domestic Aggregated or CT Band 4","£","LDNO LV",null,831.60910033328264]
[null,null,null,null,null,"Non-Domestic Aggregated (Related MPAN)","£","LDNO LV",null,0]
[null,null,null,null,null,"LV Site Specific No Residual","£","LDNO LV",null,0]
[null,null,null,null,null,"LV Site Specific Band 1","£","LDNO LV",null,3179.8385870731704]
[null,null,null,null,null,"LV Site Specific Band 2","£","LDNO LV",null,4095.9079577700004]
[null,null,null,null,null,"LV Site Specific Band 3","£","LDNO LV",null,6911.1145591794866]
[null,null,null,null,null,"LV Site Specific Band 4","£","LDNO LV",null,13571.780025451852]
[null,null,null,null,null,"LV Sub Site Specific No Residual","£","LDNO LV",null,0]
[null,null,null,null,null,"LV Sub Site Specific Band 1","£","LDNO LV",null,0]
[null,null,null,null,null,"LV Sub Site Specific Band 2","£","LDNO LV",null,0]
[null,null,null,null,null,"LV Sub Site Specific Band 3","£","LDNO LV",null,0]
[null,null,null,null,null,"LV Sub Site Specific Band 4","£","LDNO LV",null,0]
[null,null,null,null,null,"HV Site Specific No Residual","£","LDNO LV",null,0]
[null,null,null,null,null,"HV Site Specific Band 1","£","LDNO LV",null,0]
[null,null,null,null,null,"HV Site Specific Band 2","£","LDNO LV",null,0]
[null,null,null,null,null,"HV Site Specific Band 3","£","LDNO LV",null,0]
[null,null,null,null,null,"HV Site Specific Band 4","£","LDNO LV",null,0]
[null,null,null,null,null,"Unmetered Supplies","£","LDNO LV",null,0]
[null,null,null,null,null,"LV Generation Aggregated","£","LDNO LV",null,-49.581920468171447]
[null,null,null,null,null,"LV Sub Generation Aggregated","£","LDNO LV",null,0]
[null,null,null,null,null,"LV Generation Site Specific","£","LDNO LV",null,0]
[null,null,null,null,null,"LV Generation Site Specific no RP Charge","£","LDNO LV",null,0]
[null,null,null,null,null,"LV Sub Generation Site Specific","£","LDNO LV",null,0]
[null,null,null,null,null,"LV Sub Generation Site Specific no RP Charge","£","LDNO LV",null,0]
[null,null,null,null,null,"HV Generation Site Specific","£","LDNO LV",null,0]
[null,null,null,null,null,"HV Generation Site Specific no RP Charge","£","LDNO LV",null,0]
[]
[null,null,null,null,"Typical bills for LDNO HV customers",null,null,null,">",null,null,null,null,null,null,"Schedule 20, Paragraph 2.2(d)"]
[null,null,null,null,null,"Domestic Aggregated or CT with Residual","£","LDNO HV",null,{"$f":"TRANSPOSE('Net revenue summary'!J142:AO142)","v":54.316738550066823}]
[null,null,null,null,null,"Domestic Aggregated (Related MPAN)","£","LDNO HV",null,1.3605229772981482]
[null,null,null,null,null,"Non-Domestic Aggregated or CT No Residual","£","LDNO HV",null,0]
[null,null,null,null,null,"Non-Domestic Aggregated or CT Band 1","£","LDNO HV",null,73.436791472780442]
[null,null,null,null,null,"Non-Domestic Aggregated or CT Band 2","£","LDNO HV",null,131.42459733163102]
[null,null,null,null,null,"Non-Domestic Aggregated or CT Band 3","£","LDNO HV",null,233.30727632314711]
[null,null,null,null,null,"Non-Domestic Aggregated or CT Band 4","£","LDNO HV",null,599.94773729702183]
[null,null,null,null,null,"Non-Domestic Aggregated (Related MPAN)","£","LDNO HV",null,0]
[null,null,null,null,null,"LV Site Specific No Residual","£","LDNO HV",null,0]
[null,null,null,null,null,"LV Site Specific Band 1","£","LDNO HV",null,1951.2193126608699]
[null,null,null,null,null,"LV Site Specific Band 2","£","LDNO HV",null,3052.6609058514282]
[null,null,null,null,null,"LV Site Specific Band 3","£","LDNO HV",null,5069.2960125128193]
[null,null,null,null,null,"LV Site Specific Band 4","£","LDNO HV",null,11098.22078739738]
[null,null,null,null,null,"LV Sub Site Specific No Residual","£","LDNO HV",null,0]
[null,null,null,null,null,"LV Sub Site Specific Band 1","£","LDNO HV",null,0]
[null,null,null,null,null,"LV Sub Site Specific Band 2","£","LDNO HV",null,5543.7406524999997]
[null,null,null,null,null,"LV Sub Site Specific Band 3","£","LDNO HV",null,9421.6349633333339]
[null,null,null,null,null,"LV Sub Site Specific Band 4","£","LDNO HV",null,25229.380664745764]
[null,null,null,null,null,"HV Site Specific No Residual","£","LDNO HV",null,0]
[null,null,null,null,null,"HV Site Specific Band 1","£","LDNO HV",null,18112.099456363634]
[null,null,null,null,null,"HV Site Specific Band 2","£","LDNO HV",null,44795.549008509093]
[null,null,null,null,null,"HV Site Specific Band 3","£","LDNO HV",null,85856.758678333339]
[null,null,null,null,null,"HV Site Specific Band 4","£","LDNO HV",null,186230.17352899999]
[null,null,null,null,null,"Unmetered Supplies","£","LDNO HV",null,0]
[null,null,null,null,null,"LV Generation Aggregated","£","LDNO HV",null,-41.726747970916769]
[null,null,null,null,null,"LV Sub Generation Aggregated","£","LDNO HV",null,0]
[null,null,null,null,null,"LV Generation Site Specific","£","LDNO HV",null,-109.419775]
[null,null,null,null,null,"LV Generation Site Specific no RP Charge","£","LDNO HV",null,0]
[null,null,null,null,null,"LV Sub Generation Site Specific","£","LDNO HV",null,0]
[null,null,null,null,null,"LV Sub Generation Site Specific no RP Charge","£","LDNO HV",null,0]
[null,null,null,null,null,"HV Generation Site Specific","£","LDNO HV",null,0]
[null,null,null,null,null,"HV Generation Site Specific no RP Charge","£","LDNO HV",null,0]
[]
[null,"Checks"]
[]
[null,null,null,null,"Check for error values",null,"number of issues",{"$f":"SUM(IF(ISERROR($I$22:$O$123), 1))","v":0}]
[]
[null,"End of sheet"]