{"text_format":"1","workbook":"xlsx","n_sheets":37,"sheets":["Cover","Version control","Model map","Index","Named ranges","ARP_DNO commentary","ARP_CDCM timebands","ARP_Load characteristics","ARP_Peaking probabilities","ARP_User control","ARP_Inputs by customer type","ARP_Inputs by network level","ARP_General inputs","Fixed inputs","Inputs by customer type","Inputs by network level","General inputs","Standing charge factors","Load & loss characteristics","Customer contributions","Volume adjustments","Pseudo-load coefficients","System peak demand","Service model assets","Unit costs","Initial unit rates","Service model charges","Unit rate charges","Reactive power charges","Capacity charges","Fixed charges","Revenue matching","Fixed charge adder","Rounding","Net revenue summary","Tariff summary","Typical bills"],"not_rendered":{"charts":0,"images":3,"macros":1,"external_links":1,"defined_names":81,"comments":0,"pivot_tables":0},"unopened":[],"bounds":{"document_bytes":16777216,"sheet_cells":100000,"rows_first":2000,"rows_last":500,"rows_between":2000,"halvings":0,"cell_chars":16384,"cell_head_chars":4096},"cells_cut":0,"cells_raw":0,"read":"whole","date_system":"1900"}

{"sheet":"Cover","index":0,"n_rows":47,"n_cols":4,"rows_kept":47,"cut":false,"hidden":false,"merged":[]}
[]
[null,null,null,"ARP model"]
[]
[null,null,null,"Release for 2021/22 charge setting"]
[]
[null,{"$f":"'Version control'!F7","v":"Model date:"},null,{"$f":"'Version control'!H7","v":"2019-11-08"}]
[]
[null,{"$f":"'Version control'!F9","v":"Development stage:"},null,{"$f":"'Version control'!H9","v":"Release for charge setting"}]
[]
[null,{"$f":"'Version control'!F11","v":"Model number:"},null,{"$f":"'Version control'!H11","v":5}]
[]
[null,{"$f":"'Version control'!F13","v":"DCUSA text version:"},null,{"$f":"'Version control'!H13","v":"Attachment A_01 April 2021 Charging Methodologies Pre-Release_Issued October 2019 (shared 10/10/2019)"}]
[]
[null,{"$f":"'Version control'!F15","v":"DCUSA text schedule:"},null,{"$f":"'Version control'!H15","v":"Schedules 16 & 20"}]
[]
[null,"DISCLAIMER",null,"Unless stated otherwise, this workbook is only a prototype for testing purposes and all the data in this model are for illustration only. Neither the authors nor Cambridge Economic Policy Associates/TNEI accept or assume any responsibility or duty of care to any third party."]
[null,null,null,"© All rights reserved by Cambridge Economic Policy Associates Ltd (CEPA) and TNEI Services Ltd"]
[]
[null,"Charging year:",null,"2021/22"]
[]
[null,"DNO name:",null,"SP Distribution"]
[]
[null,"Data version:",null,"One"]
[]
[null,"Notes:"]
[]
[null,"Key:"]
[null,"Format",null,"Description"]
[null,null,null,"Cell intentionally blank"]
[null,"Value",null,"Hardcoded input"]
[null,"Value",null,"User input"]
[null,"Value",null,"Model output"]
[null,"Value",null,"Calculation"]
[null,"Value",null,"Value from another worksheet"]
[null,"Value",null,"Value used on another worksheet"]
[null,"Value",null,"Issue identified in a check"]
[null,"Text",null,"Label"]
[null,"Text",null,"Annotation"]
[null,"Text",null,"Column heading"]
[null,"Text",null,"Level 1 heading"]
[null,"Text",null,"Level 2 heading"]
[null,"Text",null,"Level 3 and 4 heading"]
[null,"Sheet tab colour",null,"Information sheet"]
[null,"Sheet tab colour",null,"User control sheet"]
[null,"Sheet tab colour",null,"Input sheet"]
[null,"Sheet tab colour",null,"Calculation sheet"]
[null,"Sheet tab colour",null,"Output sheet"]

{"sheet":"Version control","index":1,"n_rows":78,"n_cols":12,"rows_kept":78,"cut":false,"hidden":false,"merged":[]}
[{"$f":"MID(CELL(\"filename\",A1),FIND(\"]\",CELL(\"filename\",A1))+1,255)","v":"Version control"}]
[{"$f":"Cover!D21&\" - \"&Cover!D23","v":"SP Distribution - One"}]
[{"$f":"Cover!D2&\" - \"&Cover!D8&\" v\"&Cover!D10&\" - \"&Cover!D19","v":"ARP model - Release for charge setting v5 - 2021/22"}]
[{"$f":"J61 & IF(J61 = 1, \" issue\", \" issues\") &\" identified in checks on this sheet\"","v":"0 issues identified in checks on this sheet"}]
[null,"Model version"]
[]
[null,null,null,null,null,"Model date:",null,{"$f":"LOOKUP(2,1/(F20:F30<>\"\"),F20:F30)","v":"2019-11-08"}]
[]
[null,null,null,null,null,"Development stage:",null,{"$f":"LOOKUP(2,1/(G20:G30<>\"\"),G20:G30)","v":"Release for charge setting"}]
[]
[null,null,null,null,null,"Model number:",null,{"$f":"LOOKUP(2,1/(H20:H30<>\"\"),H20:H30)","v":5}]
[]
[null,null,null,null,null,"DCUSA text version:",null,{"$f":"LOOKUP(2,1/(I20:I30<>\"\"),I20:I30)","v":"Attachment A_01 April 2021 Charging Methodologies Pre-Release_Issued October 2019 (shared 10/10/2019)"}]
[]
[null,null,null,null,null,"DCUSA text schedule:",null,{"$f":"LOOKUP(2,1/(J20:J30<>\"\"),J20:J30)","v":"Schedules 16 & 20"}]
[]
[null,"Version log"]
[]
[null,null,null,null,null,"Model date","Development stage","Model number","DCUSA text version","DCUSA text schedule","Author","Description of changes"]
[null,null,null,null,null,"2018-05-30","Pre-release",1,"2019-20 pre-release plus Expert Panel clarifications","Schedules 16 & 20","CEPA-TNEI","-"]
[null,null,null,null,null,"2018-07-20","Pre-release",2,"DCUSA v10.3 (released 28/06/2018)","Schedules 16 & 20","CEPA-TNEI","References to DCUSA text updated to comply with version 10.3 (released 28/06/2018)."]
[null,null,null,null,null,"2018-10-16","Release for charge setting",3,"01 April 2020 DCUSA Charging Methodologies Pre-Release (released 09/10/2018)","Schedules 16 & 20","CEPA-TNEI","Updated references to legal text version."]
[null,null,null,null,null,"2019-07-17","Pre-release",4,"DCP 268 Draft Legal Text v2.0 (shared 10/06/2019)","Schedules 16 & 20","CEPA-TNEI","Implemented DCP268 as per service 1 request (received 10/06/2019): replaced 33 existing tariffs with 16 enduring tariffs, modified structure of fixed inputs and inputs by customer type, modified pseudo-load coefficient calculation, modified revenue matching calculation, modified ARP_Load characteristics."]
[null,null,null,null,null,"2019-11-08","Release for charge setting",5,"Attachment A_01 April 2021 Charging Methodologies Pre-Release_Issued October 2019 (shared 10/10/2019)","Schedules 16 & 20","CEPA-TNEI","Updated references to legal text version, and implemented DCP332 and DCP333, assuming implementation of DCP 356 (as described in the user guide)."]
[]
[]
[]
[]
[]
[]
[null,"Model checks"]
[]
[null,null,null,null,"Issues identified by in-built model checks, by sheet"]
[null,null,null,null,null,{"$f":"\"ARP_\"&F38","v":"ARP_Inputs by customer type"},null,"Input 501","number of issues",{"$f":"'ARP_Inputs by customer type'!$H$530","v":0}]
[null,null,null,null,null,{"$f":"\"ARP_\"&F39","v":"ARP_Inputs by network level"},null,"Input 502","number of issues",{"$f":"'ARP_Inputs by network level'!$H$218","v":0}]
[null,null,null,null,null,{"$f":"\"ARP_\"&F40","v":"ARP_General inputs"},null,"Input 503","number of issues",{"$f":"'ARP_General inputs'!$H$124","v":0}]
[null,null,null,null,null,"Fixed inputs",null,"Input 504","number of issues",{"$f":"'Fixed inputs'!H172","v":0}]
[null,null,null,null,null,"Inputs by customer type",null,"Section 501","number of issues",{"$f":"'Inputs by customer type'!H65","v":0}]
[null,null,null,null,null,"Inputs by network level",null,"Section 502","number of issues",{"$f":"'Inputs by network level'!H59","v":0}]
[null,null,null,null,null,"General inputs",null,"Section 503","number of issues",{"$f":"'General inputs'!H117","v":0}]
[null,null,null,null,null,"Standing Charge Factors",null,"Section 504","number of issues",{"$f":"'Standing charge factors'!H58","v":0}]
[null,null,null,null,null,"Load & loss characteristics",null,"Section 505","number of issues",{"$f":"'Load & loss characteristics'!H183","v":0}]
[null,null,null,null,null,"Customer contributions",null,"Section 506","number of issues",{"$f":"'Customer contributions'!H70","v":0}]
[null,null,null,null,null,"Volume adjustments",null,"Section 507","number of issues",{"$f":"'Volume adjustments'!H140","v":0}]
[null,null,null,null,null,"Pseudo-load coefficients",null,"Section 508","number of issues",{"$f":"'Pseudo-load coefficients'!H306","v":0}]
[null,null,null,null,null,"System peak demand",null,"Section 509","number of issues",{"$f":"'System peak demand'!H281","v":0}]
[null,null,null,null,null,"Service model assets",null,"Section 510","number of issues",{"$f":"'Service model assets'!H38","v":0}]
[null,null,null,null,null,"Unit costs",null,"Section 511","number of issues",{"$f":"'Unit costs'!H131","v":0}]
[null,null,null,null,null,"Initial unit rates",null,"Section 512","number of issues",{"$f":"'Initial unit rates'!H241","v":0}]
[null,null,null,null,null,"Service model charges",null,"Section 513","number of issues",{"$f":"'Service model charges'!H48","v":0}]
[null,null,null,null,null,"Unit rate charges",null,"Section 514","number of issues",{"$f":"'Unit rate charges'!H223","v":0}]
[null,null,null,null,null,"Reactive power charges",null,"Section 515","number of issues",{"$f":"'Reactive power charges'!H254","v":0}]
[null,null,null,null,null,"Capacity charges",null,"Section 516","number of issues",{"$f":"'Capacity charges'!H295","v":0}]
[null,null,null,null,null,"Fixed charges",null,"Section 517","number of issues",{"$f":"'Fixed charges'!H165","v":0}]
[null,null,null,null,null,"Revenue matching",null,"Section 518","number of issues",{"$f":"'Revenue matching'!H162","v":0}]
[null,null,null,null,null,"Fixed charge adder",null,"Section 519","number of issues",{"$f":"'Fixed charge adder'!H66","v":0}]
[null,null,null,null,null,"Rounding",null,"Section 520","number of issues",{"$f":"Rounding!H158","v":0}]
[null,null,null,null,null,"Net revenue summary",null,"Input 505","number of issues",{"$f":"'Net revenue summary'!H134","v":0}]
[null,null,null,null,null,"Tariff summary",null,"Input 506","number of issues",{"$f":"'Tariff summary'!H353","v":0}]
[null,null,null,null,null,"Typical bills",null,"Input 507","number of issues",{"$f":"'Typical bills'!H73","v":0}]
[null,null,null,null,null,"Total",null,null,"number of issues",{"$f":"IFERROR(SUM(J34:J60), 1)","v":0}]
[]
[null,"Version log lists"]
[]
[null,null,null,null,null,"Development stages"]
[null,null,null,null,null,"Working draft"]
[null,null,null,null,null,"Interim release"]
[null,null,null,null,null,"Pre-release"]
[null,null,null,null,null,"Release for charge setting"]
[]
[]
[]
[]
[]
[]
[null,null,null,null,null,"…"]
[]
[null,"End of sheet"]

{"sheet":"Model map","index":2,"n_rows":65,"n_cols":2,"rows_kept":65,"cut":false,"hidden":false,"merged":[]}
[{"$f":"MID(CELL(\"filename\",A1),FIND(\"]\",CELL(\"filename\",A1))+1,255)","v":"Model map"}]
[{"$f":"Cover!D21&\" - \"&Cover!D23","v":"SP Distribution - One"}]
[{"$f":"Cover!D2&\" - \"&Cover!D8&\" v\"&Cover!D10&\" - \"&Cover!D19","v":"ARP model - Release for charge setting v5 - 2021/22"}]
[]
[null,"Model map"]
[]
[]
[]
[]
[]
[]
[]
[]
[]
[]
[]
[]
[]
[]
[]
[]
[]
[]
[]
[]
[]
[]
[]
[]
[]
[]
[]
[]
[]
[]
[]
[]
[]
[]
[]
[]
[]
[]
[]
[]
[]
[]
[]
[]
[]
[]
[]
[]
[]
[]
[]
[]
[]
[]
[]
[]
[]
[]
[]
[null,"End of sheet"]

{"sheet":"Index","index":3,"n_rows":244,"n_cols":7,"rows_kept":244,"cut":false,"hidden":false,"merged":[]}
[{"$f":"MID(CELL(\"filename\",A1),FIND(\"]\",CELL(\"filename\",A1))+1,255)","v":"Index"}]
[{"$f":"Cover!D21&\" - \"&Cover!D23","v":"SP Distribution - One"}]
[{"$f":"Cover!D2&\" - \"&Cover!D8&\" v\"&Cover!D10&\" - \"&Cover!D19","v":"ARP model - Release for charge setting v5 - 2021/22"}]
[]
[null,"Description"]
[]
[null,null,"This sheet contains links to each sheet of the model and the main sections within them."]
[null,null,"It also contains links to more granular sections within the sheets for inputs, calculations and outputs."]
[]
[null,"Index of sheets and main sections"]
[]
[null,null,"The following table provides links to all the sheets within this model and the main sections within them."]
[]
[null,null,null,null,null,"Sheet","Section"]
[null,null,null,null,null,"Cover"]
[null,null,null,null,null,"Version control",{"$f":"'Version control'!$B$5","v":"Model version"}]
[null,null,null,null,null,"",{"$f":"'Version control'!$B$17","v":"Version log"}]
[null,null,null,null,null,"",{"$f":"'Version control'!$B$31","v":"Model checks"}]
[null,null,null,null,null,"",{"$f":"'Version control'!$B$63","v":"Version log lists"}]
[null,null,null,null,null,"Model map",{"$f":"'Model map'!$B$5","v":"Model map"}]
[null,null,null,null,null,"Named ranges",{"$f":"'Named ranges'!$B$5","v":"List of named ranges"}]
[null,null,null,null,null,"ARP_DNO commentary",{"$f":"'ARP_DNO commentary'!$B$9","v":"Commentary"}]
[null,null,null,null,null,"ARP_CDCM timebands",{"$f":"'ARP_CDCM timebands'!$B$12","v":"CDCM timebands"}]
[null,null,null,null,null,"ARP_Load characteristics",{"$f":"'ARP_Load characteristics'!$B$13","v":"Years"}]
[null,null,null,null,null,"",{"$f":"'ARP_Load characteristics'!$B$20","v":"Load characteristics"}]
[null,null,null,null,null,"ARP_Peaking probabilities",{"$f":"'ARP_Peaking probabilities'!$B$14","v":"Years"}]
[null,null,null,null,null,"",{"$f":"'ARP_Peaking probabilities'!$B$21","v":"Peaking probabilities, by distribution timeband"}]
[null,null,null,null,null,"ARP_User control",{"$f":"'ARP_User control'!$B$10","v":"User interface"}]
[null,null,null,null,null,"",{"$f":"'ARP_User control'!$B$25","v":"Lists"}]
[null,null,null,null,null,"ARP_Inputs by customer type",{"$f":"'ARP_Inputs by customer type'!$B$14","v":"Load characteristics"}]
[null,null,null,null,null,"",{"$f":"'ARP_Inputs by customer type'!$B$56","v":"Volumes"}]
[null,null,null,null,null,"",{"$f":"'ARP_Inputs by customer type'!$B$462","v":"Service model asset values"}]
[null,null,null,null,null,"ARP_Inputs by network level",{"$f":"'ARP_Inputs by network level'!$B$14","v":"Inputs by network level"}]
[null,null,null,null,null,"ARP_General inputs",{"$f":"'ARP_General inputs'!$B$14","v":"General inputs"}]
[null,null,null,null,null,"Fixed inputs",{"$f":"'Fixed inputs'!$B$11","v":"Fixed inputs"}]
[null,null,null,null,null,"Inputs by customer type",{"$f":"'Inputs by customer type'!$B$14","v":"Inputs by customer type"}]
[null,null,null,null,null,"Inputs by network level",{"$f":"'Inputs by network level'!$B$14","v":"Inputs by network level"}]
[null,null,null,null,null,"General inputs",{"$f":"'General inputs'!$B$14","v":"General inputs"}]
[null,null,null,null,null,"Standing charge factors",{"$f":"'Standing charge factors'!$B$17","v":"Adjustments to standing charges"}]
[null,null,null,null,null,"Load & loss characteristics",{"$f":"'Load & loss characteristics'!$B$13","v":"Load and loss characteristics"}]
[null,null,null,null,null,"",{"$f":"'Load & loss characteristics'!$B$31","v":"User loss factor adjustments"}]
[null,null,null,null,null,"Customer contributions",{"$f":"'Customer contributions'!$B$12","v":"Customer contributions"}]
[null,null,null,null,null,"Volume adjustments",{"$f":"'Volume adjustments'!$B$13","v":"LDNO discounts"}]
[null,null,null,null,null,"",{"$f":"'Volume adjustments'!$B$51","v":"Volume discounting"}]
[null,null,null,null,null,"Pseudo-load coefficients",{"$f":"'Pseudo-load coefficients'!$B$13","v":"Step 1: Ratio of coincidence to load factor assuming units evenly spread within time bands, and peak falls in Red period"}]
[null,null,null,null,null,"",{"$f":"'Pseudo-load coefficients'!$B$56","v":"Step 2: Calculate correction factor"}]
[null,null,null,null,null,"",{"$f":"'Pseudo-load coefficients'!$B$95","v":"Step 3: Ratio of coincidence factor (to network asset peak) to load factor, given peaking probabilities, multiplied by correction factor"}]
[null,null,null,null,null,"",{"$f":"'Pseudo-load coefficients'!$B$261","v":"Step 4: Results of Step 3"}]
[null,null,null,null,null,"System peak demand",{"$f":"'System peak demand'!$B$16","v":"Common inputs for chargeable load calculations"}]
[null,null,null,null,null,"",{"$f":"'System peak demand'!$B$63","v":"Load at system peak charged to unit rates"}]
[null,null,null,null,null,"",{"$f":"'System peak demand'!$B$179","v":"Load at system peak charged to standing charges"}]
[null,null,null,null,null,"",{"$f":"'System peak demand'!$B$262","v":"System peak based on chargeable load"}]
[null,null,null,null,null,"Service model assets",{"$f":"'Service model assets'!$B$12","v":"Service model notional asset values"}]
[null,null,null,null,null,"Unit costs",{"$f":"'Unit costs'!$B$15","v":"500MW model costs"}]
[null,null,null,null,null,"",{"$f":"'Unit costs'!$B$58","v":"Allocation of other costs"}]
[null,null,null,null,null,"",{"$f":"'Unit costs'!$B$102","v":"Outputs"}]
[null,null,null,null,null,"Initial unit rates",{"$f":"'Initial unit rates'!$B$11","v":"Inputs for yardstick and unit rate calculations"}]
[null,null,null,null,null,"",{"$f":"'Initial unit rates'!$B$116","v":"Calculation of yardstick & unit rate charges"}]
[null,null,null,null,null,"Service model charges",{"$f":"'Service model charges'!$B$13","v":"Inputs to service model charge calculation"}]
[null,null,null,null,null,"",{"$f":"'Service model charges'!$B$29","v":"Allocation of service model costs"}]
[null,null,null,null,null,"Unit rate charges",{"$f":"'Unit rate charges'!$B$15","v":"Inputs to unit rate charge calculations"}]
[null,null,null,null,null,"",{"$f":"'Unit rate charges'!$B$122","v":"Application of standing charges to unit rates"}]
[null,null,null,null,null,"Reactive power charges",{"$f":"'Reactive power charges'!$B$13","v":"Inputs to reactive power charge calculations"}]
[null,null,null,null,null,"",{"$f":"'Reactive power charges'!$B$150","v":"Calculation of yardstick charges for generation"}]
[null,null,null,null,null,"",{"$f":"'Reactive power charges'!$B$185","v":"Calculation of reactive power charges"}]
[null,null,null,null,null,"Capacity charges",{"$f":"'Capacity charges'!$B$17","v":"Inputs to capacity charge calculations"}]
[null,null,null,null,null,"",{"$f":"'Capacity charges'!$B$125","v":"Calculation of capacity charges"}]
[null,null,null,null,null,"",{"$f":"'Capacity charges'!$B$249","v":"Capacity charges (and elements allocated to fixed charges)"}]
[null,null,null,null,null,"Fixed charges",{"$f":"'Fixed charges'!$B$14","v":"Inputs to fixed charge calculations"}]
[null,null,null,null,null,"",{"$f":"'Fixed charges'!$B$65","v":"Calculation of fixed charges"}]
[null,null,null,null,null,"Revenue matching",{"$f":"'Revenue matching'!$B$13","v":"Pre-matching net revenue calculations"}]
[null,null,null,null,null,"",{"$f":"'Revenue matching'!$B$62","v":"Adder calculation"}]
[null,null,null,null,null,"Fixed charge adder",{"$f":"'Fixed charge adder'!$B$12","v":"Fixed tariff adjustments"}]
[null,null,null,null,null,"Rounding",{"$f":"Rounding!$B$12","v":"Inputs"}]
[null,null,null,null,null,"",{"$f":"Rounding!$B$83","v":"Rounding of tariff forecast"}]
[null,null,null,null,null,"Net revenue summary",{"$f":"'Net revenue summary'!$B$11","v":"Inputs to net revenue summary calculation"}]
[null,null,null,null,null,"",{"$f":"'Net revenue summary'!$B$79","v":"Typical bills"}]
[null,null,null,null,null,"Tariff summary",{"$f":"'Tariff summary'!$B$13","v":"Tariff summary"}]
[null,null,null,null,null,"Typical bills",{"$f":"'Typical bills'!$B$13","v":"Typical bills"}]
[]
[null,"Index of inputs, calculation sections and outputs"]
[]
[null,null,"The following table provides links to each input, calculation and output section. Each has a unique identifier for ease of reference."]
[]
[null,null,null,null,null,"Sheet","Section"]
[null,null,null,null,null,"ARP_CDCM timebands",{"$f":"'ARP_CDCM timebands'!$C$14","v":"Distribution time bands"}]
[null,null,null,null,null,"",{"$f":"'ARP_CDCM timebands'!$C$26","v":"Special distribution time bands"}]
[null,null,null,null,null,"ARP_User control",{"$f":"'ARP_User control'!$C$15","v":"Inputs for manually running selected year"}]
[null,null,null,null,null,"",{"$f":"'ARP_User control'!$C$19","v":"Macro to run all years"}]
[null,null,null,null,null,"ARP_Inputs by customer type",{"$f":"'ARP_Inputs by customer type'!$C$16","v":"Input 501-A: Load factor"}]
[null,null,null,null,null,"",{"$f":"'ARP_Inputs by customer type'!$C$36","v":"Input 501-B: Coincidence factor"}]
[null,null,null,null,null,"",{"$f":"'ARP_Inputs by customer type'!$C$58","v":"Input 501-C: All-the-way volumes"}]
[null,null,null,null,null,"",{"$f":"'ARP_Inputs by customer type'!$C$186","v":"Input 501-D: LDNO LV volumes"}]
[null,null,null,null,null,"",{"$f":"'ARP_Inputs by customer type'!$C$314","v":"Input 501-E: LDNO HV volumes"}]
[null,null,null,null,null,"",{"$f":"'ARP_Inputs by customer type'!$C$442","v":"Input 501-F: 'Designated Property' MPANs with EDCM-level LDNO boundaries"}]
[null,null,null,null,null,"",{"$f":"'ARP_Inputs by customer type'!$C$466","v":"Input 501-G: LV customer service model asset values"}]
[null,null,null,null,null,"",{"$f":"'ARP_Inputs by customer type'!$C$486","v":"Input 501-H: HV customer service model asset values"}]
[null,null,null,null,null,"",{"$f":"'ARP_Inputs by customer type'!$C$506","v":"Input 501-I: LV UMS customer service model asset values"}]
[null,null,null,null,null,"ARP_Inputs by network level",{"$f":"'ARP_Inputs by network level'!$C$16","v":"Input 502-A: Diversity allowance between top and bottom of network level"}]
[null,null,null,null,null,"",{"$f":"'ARP_Inputs by network level'!$C$30","v":"Input 502-B: Proportion of EHV/HV load going through 132kV/HV direct transformation"}]
[null,null,null,null,null,"",{"$f":"'ARP_Inputs by network level'!$C$44","v":"Input 502-C: Loss adjustment factors to transmission"}]
[null,null,null,null,null,"",{"$f":"'ARP_Inputs by network level'!$C$58","v":"Input 502-D: Average kVAr by kVA, by network level"}]
[null,null,null,null,null,"",{"$f":"'ARP_Inputs by network level'!$C$72","v":"Input 502-E: Customer contributions under current connection charging policy"}]
[null,null,null,null,null,"",{"$f":"'ARP_Inputs by network level'!$C$120","v":"Input 502-F: Gross asset cost by network level"}]
[null,null,null,null,null,"",{"$f":"'ARP_Inputs by network level'!$C$134","v":"Input 502-G: Peaking probabilities, by timeband & network level"}]
[null,null,null,null,null,"ARP_General inputs",{"$f":"'ARP_General inputs'!$C$16","v":"Input 503-A: Split of hours by distribution timeband"}]
[null,null,null,null,null,"",{"$f":"'ARP_General inputs'!$C$28","v":"Input 503-B: Embedded network (LDNO) discount percentages"}]
[null,null,null,null,null,"",{"$f":"'ARP_General inputs'!$C$38","v":"Input 503-C: CDCM target revenue"}]
[null,null,null,null,null,"",{"$f":"'ARP_General inputs'!$C$98","v":"Input 503-D: Financial and general assumptions"}]
[null,null,null,null,null,"",{"$f":"'ARP_General inputs'!$C$103","v":"Input 503-E: Transmission exit charges"}]
[null,null,null,null,null,"",{"$f":"'ARP_General inputs'!$C$107","v":0}]
[null,null,null,null,null,"Fixed inputs",{"$f":"'Fixed inputs'!$C$13","v":"Input 504-A: Conversions and time"}]
[null,null,null,null,null,"",{"$f":"'Fixed inputs'!$C$20","v":"Input 504-B: Input 101-B: Rounding"}]
[null,null,null,null,null,"",{"$f":"'Fixed inputs'!$C$33","v":"Input 504-C: Financial and general assumptions"}]
[null,null,null,null,null,"",{"$f":"'Fixed inputs'!$C$43","v":"Input 504-D: Mappings"}]
[null,null,null,null,null,"",{"$f":"'Fixed inputs'!$C$84","v":"Input 504-E: Standing charge factors"}]
[null,null,null,null,null,"",{"$f":"'Fixed inputs'!$C$99","v":"Input 504-F: Flags"}]
[null,null,null,null,null,"",{"$f":"'Fixed inputs'!$C$141","v":"Input 504-G: Identifiers for customer groupings"}]
[null,null,null,null,null,"",{"$f":"'Fixed inputs'!$C$151","v":"Input 504-H: Decimal places for error checks"}]
[null,null,null,null,null,"",{"$f":"'Fixed inputs'!$C$155","v":"Input 504-I: Map of applicable MPANs"}]
[null,null,null,null,null,"Inputs by customer type",{"$f":"'Inputs by customer type'!$C$16","v":"Section 501-A: Load characteristics"}]
[null,null,null,null,null,"",{"$f":"'Inputs by customer type'!$C$21","v":"Section 501-B: Volume forecasts for the charging year"}]
[null,null,null,null,null,"",{"$f":"'Inputs by customer type'!$C$52","v":"Section 501-C: Service model asset values"}]
[null,null,null,null,null,"Inputs by network level",{"$f":"'Inputs by network level'!$C$16","v":"Section 502-A: Network and load inputs"}]
[null,null,null,null,null,"",{"$f":"'Inputs by network level'!$C$26","v":"Section 502-B: Customer contributions under current connection charging policy"}]
[null,null,null,null,null,"",{"$f":"'Inputs by network level'!$C$34","v":"Section 502-C: DRM asset costs"}]
[null,null,null,null,null,"",{"$f":"'Inputs by network level'!$C$38","v":"Section 502-D: Peaking probabilities by network level"}]
[null,null,null,null,null,"General inputs",{"$f":"'General inputs'!$C$16","v":"Section 503-A: Inputs by distribution timeband"}]
[null,null,null,null,null,"",{"$f":"'General inputs'!$C$28","v":"Section 503-B: LDNO discount inputs"}]
[null,null,null,null,null,"",{"$f":"'General inputs'!$C$38","v":"Section 503-C: CDCM target revenue"}]
[null,null,null,null,null,"",{"$f":"'General inputs'!$C$92","v":"Section 503-D: Financial and general assumptions"}]
[null,null,null,null,null,"",{"$f":"'General inputs'!$C$98","v":"Section 503-E: Transmission exit charges"}]
[null,null,null,null,null,"",{"$f":"'General inputs'!$C$102","v":"Section 503-F: Other expenditure"}]
[null,null,null,null,null,"Standing charge factors",{"$f":"'Standing charge factors'!$C$19","v":"Section 504-A: Adjustments to standing charges"}]
[null,null,null,null,null,"Load & loss characteristics",{"$f":"'Load & loss characteristics'!$C$17","v":"Section 505-A: Load characteristics"}]
[null,null,null,null,null,"",{"$f":"'Load & loss characteristics'!$C$25","v":"Section 505-B: Loss adjustment factors"}]
[null,null,null,null,null,"",{"$f":"'Load & loss characteristics'!$C$35","v":"Section 505-C: Proportion of relevant load going through 132kV/HV direct transformation"}]
[null,null,null,null,null,"",{"$f":"'Load & loss characteristics'!$C$40","v":"Section 505-D: Network use factors"}]
[null,null,null,null,null,"",{"$f":"'Load & loss characteristics'!$C$121","v":"Section 505-E: User loss factors"}]
[null,null,null,null,null,"Customer contributions",{"$f":"'Customer contributions'!$C$16","v":"Section 506-A: Network use factors"}]
[null,null,null,null,null,"",{"$f":"'Customer contributions'!$C$38","v":"Section 506-B: Customer contributions"}]
[null,null,null,null,null,"Volume adjustments",{"$f":"'Volume adjustments'!$C$15","v":"Section 507-A: LDNO discounts"}]
[null,null,null,null,null,"",{"$f":"'Volume adjustments'!$C$55","v":"Section 507-B: Volume discounting"}]
[null,null,null,null,null,"Pseudo-load coefficients",{"$f":"'Pseudo-load coefficients'!$C$18","v":"Section 508-A: Flags and hours in timebands"}]
[null,null,null,null,null,"",{"$f":"'Pseudo-load coefficients'!$C$28","v":"Section 508-B: Average load by timeband"}]
[null,null,null,null,null,"",{"$f":"'Pseudo-load coefficients'!$C$36","v":"Section 508-C: Aggregated groups for pseudo-load coefficients"}]
[null,null,null,null,null,"",{"$f":"'Pseudo-load coefficients'!$C$52","v":"Section 508-D: Ratio of coincidence to load factor assuming units evenly spread within time bands, and peak falls in Red period"}]
[null,null,null,null,null,"",{"$f":"'Pseudo-load coefficients'!$C$60","v":"Section 508-E: Load characteristics for all customers"}]
[null,null,null,null,null,"",{"$f":"'Pseudo-load coefficients'!$C$65","v":"Section 508-F: Aggregated load characteristics for grouped customers"}]
[null,null,null,null,null,"",{"$f":"'Pseudo-load coefficients'!$C$87","v":"Section 508-G: Calculation of correction factor"}]
[null,null,null,null,null,"",{"$f":"'Pseudo-load coefficients'!$C$100","v":"Section 508-H: Peaking probabilities, by network level"}]
[null,null,null,null,null,"",{"$f":"'Pseudo-load coefficients'!$C$174","v":"Section 508-I: Peaking probabilities, by network level and customer type"}]
[null,null,null,null,null,"",{"$f":"'Pseudo-load coefficients'!$C$221","v":"Section 508-J: Ratio of coincidence factor to load factor, based on uniform distribution in timebands and peaking probabilities"}]
[null,null,null,null,null,"",{"$f":"'Pseudo-load coefficients'!$C$265","v":"Section 508-K: Load coefficient"}]
[null,null,null,null,null,"",{"$f":"'Pseudo-load coefficients'!$C$269","v":"Section 508-L: Pseudo load coefficients, by unit rate"}]
[null,null,null,null,null,"System peak demand",{"$f":"'System peak demand'!$C$18","v":"Section 509-A: Common inputs for chargeable load calculations"}]
[null,null,null,null,null,"",{"$f":"'System peak demand'!$C$67","v":"Section 509-B: System peak load, by unit rate"}]
[null,null,null,null,null,"",{"$f":"'System peak demand'!$C$138","v":"Section 509-C: System peak load, all unit rates"}]
[null,null,null,null,null,"",{"$f":"'System peak demand'!$C$164","v":"Section 509-D: Unit rate contributions to chargeable peak load"}]
[null,null,null,null,null,"",{"$f":"'System peak demand'!$C$184","v":"Section 509-E: Adjustment of import and exceeded capacity"}]
[null,null,null,null,null,"",{"$f":"'System peak demand'!$C$194","v":"Section 509-F: Calculation of LV circuit diversity factor"}]
[null,null,null,null,null,"",{"$f":"'System peak demand'!$C$236","v":"Section 509-G: Import/exceeded capacity contribution to system peak"}]
[null,null,null,null,null,"",{"$f":"'System peak demand'!$C$249","v":"Section 509-H: Estimated capacity contribution to system peak"}]
[null,null,null,null,null,"",{"$f":"'System peak demand'!$C$266","v":"Section 509-I: System peak based on chargeable load"}]
[null,null,null,null,null,"Service model assets",{"$f":"'Service model assets'!$C$14","v":"Section 510-A: Service model notional asset values"}]
[null,null,null,null,null,"Unit costs",{"$f":"'Unit costs'!$C$19","v":"Section 511-A: Financial data"}]
[null,null,null,null,null,"",{"$f":"'Unit costs'!$C$27","v":"Section 511-B: Diversity and loss adjustment factors"}]
[null,null,null,null,null,"",{"$f":"'Unit costs'!$C$35","v":"Section 511-C: Maximum demand"}]
[null,null,null,null,null,"",{"$f":"'Unit costs'!$C$42","v":"Section 511-D: Rerouting matrix"}]
[null,null,null,null,null,"",{"$f":"'Unit costs'!$C$50","v":"Section 511-E: Annuitised cost of assets"}]
[null,null,null,null,null,"",{"$f":"'Unit costs'!$C$62","v":"Section 511-F: System simultaneous peak load based on charegable units"}]
[null,null,null,null,null,"",{"$f":"'Unit costs'!$C$69","v":"Section 511-G: Notional asset values, by network level"}]
[null,null,null,null,null,"",{"$f":"'Unit costs'!$C$80","v":"Section 511-H: Other operating costs"}]
[null,null,null,null,null,"",{"$f":"'Unit costs'!$C$92","v":"Section 511-I: Other operating costs by network level"}]
[null,null,null,null,null,"",{"$f":"'Unit costs'!$C$104","v":"Section 511-J: Notional asset values by network level"}]
[null,null,null,null,null,"",{"$f":"'Unit costs'!$C$110","v":"Section 511-K: Unit costs"}]
[null,null,null,null,null,"",{"$f":"'Unit costs'!$C$117","v":"Section 511-L: Values used for allocating costs to service models"}]
[null,null,null,null,null,"Initial unit rates",{"$f":"'Initial unit rates'!$C$13","v":"Section 512-A: Inputs for yardstick and unit rate calculations"}]
[null,null,null,null,null,"",{"$f":"'Initial unit rates'!$C$118","v":"Section 512-B: Yardstick charges"}]
[null,null,null,null,null,"",{"$f":"'Initial unit rates'!$C$146","v":"Section 512-C: Unit rate 1"}]
[null,null,null,null,null,"",{"$f":"'Initial unit rates'!$C$175","v":"Section 512-D: Unit rate 2"}]
[null,null,null,null,null,"",{"$f":"'Initial unit rates'!$C$204","v":"Section 512-E: Unit rate 3"}]
[null,null,null,null,null,"Service model charges",{"$f":"'Service model charges'!$C$17","v":"Section 513-A: Inputs to service model charge calculation"}]
[null,null,null,null,null,"",{"$f":"'Service model charges'!$C$33","v":"Section 513-B: Calculation of other operating expenditure per £ of notional asset value"}]
[null,null,null,null,null,"",{"$f":"'Service model charges'!$C$37","v":"Section 513-C: Calculation of service model charges"}]
[null,null,null,null,null,"Unit rate charges",{"$f":"'Unit rate charges'!$C$19","v":"Section 514-A: Initial unit rate 1"}]
[null,null,null,null,null,"",{"$f":"'Unit rate charges'!$C$49","v":"Section 514-B: Initial unit rate 2"}]
[null,null,null,null,null,"",{"$f":"'Unit rate charges'!$C$79","v":"Section 514-C: Initial unit rate 3"}]
[null,null,null,null,null,"",{"$f":"'Unit rate charges'!$C$109","v":"Section 514-D: Standing charge factors"}]
[null,null,null,null,null,"",{"$f":"'Unit rate charges'!$C$124","v":"Section 514-E: Contributions to unit rate 1 p/kWh by network level (taking account of standing charges)"}]
[null,null,null,null,null,"",{"$f":"'Unit rate charges'!$C$154","v":"Section 514-F: Contributions to unit rate 2 p/kWh by network level (taking account of standing charges)"}]
[null,null,null,null,null,"",{"$f":"'Unit rate charges'!$C$184","v":"Section 514-G: Contributions to unit rate 3 p/kWh by network level (taking account of standing charges)"}]
[null,null,null,null,null,"",{"$f":"'Unit rate charges'!$C$214","v":"Section 514-H: Unit rates, post application of standing charges"}]
[null,null,null,null,null,"Reactive power charges",{"$f":"'Reactive power charges'!$C$17","v":"Section 515-A: Inputs to reactive power charge calculations"}]
[null,null,null,null,null,"",{"$f":"'Reactive power charges'!$C$120","v":"Section 515-B: Yardstick charge (demand)"}]
[null,null,null,null,null,"",{"$f":"'Reactive power charges'!$C$155","v":"Section 515-C: Yardstick charge used for generation"}]
[null,null,null,null,null,"",{"$f":"'Reactive power charges'!$C$190","v":"Section 515-D: Reactive power charges, all customer categories"}]
[null,null,null,null,null,"",{"$f":"'Reactive power charges'!$C$220","v":"Section 515-E: Reactive power charges for applicable customers"}]
[null,null,null,null,null,"Capacity charges",{"$f":"'Capacity charges'!$C$19","v":"Section 516-A: Inputs to capacity charge calculations"}]
[null,null,null,null,null,"",{"$f":"'Capacity charges'!$C$129","v":"Section 516-B: Capacity-based charge elements (to be split between capacity & fixed charges)"}]
[null,null,null,null,null,"",{"$f":"'Capacity charges'!$C$159","v":"Section 516-C: Exceeded capacity-based charge elements"}]
[null,null,null,null,null,"",{"$f":"'Capacity charges'!$C$189","v":"Section 516-D: Capacity charges for eligible customers, by network level"}]
[null,null,null,null,null,"",{"$f":"'Capacity charges'!$C$219","v":"Section 516-E: Exceeded capacity charges for eligible customers, by network level"}]
[null,null,null,null,null,"",{"$f":"'Capacity charges'!$C$254","v":"Section 516-F: Capacity and exceeded capacity charges"}]
[null,null,null,null,null,"",{"$f":"'Capacity charges'!$C$259","v":"Section 516-G: Capacity elements allocated to fixed charges"}]
[null,null,null,null,null,"Fixed charges",{"$f":"'Fixed charges'!$C$16","v":"Section 517-A: Volumes (discounted MPANs & maximum load)"}]
[null,null,null,null,null,"",{"$f":"'Fixed charges'!$C$22","v":"Section 517-B: Capacity elements allocated to fixed charges"}]
[null,null,null,null,null,"",{"$f":"'Fixed charges'!$C$52","v":"Section 517-C: Service model costs allocated to fixed charges"}]
[null,null,null,null,null,"",{"$f":"'Fixed charges'!$C$58","v":"Section 517-D: Flags"}]
[null,null,null,null,null,"",{"$f":"'Fixed charges'!$C$67","v":"Section 517-E: Revenue allocated to fixed charges"}]
[null,null,null,null,null,"",{"$f":"'Fixed charges'!$C$97","v":"Section 517-F: Revenue allocated to fixed charges, by aggregation group"}]
[null,null,null,null,null,"",{"$f":"'Fixed charges'!$C$127","v":"Section 517-G: Fixed charges, by network level"}]
[null,null,null,null,null,"",{"$f":"'Fixed charges'!$C$159","v":"Section 517-H: Aggregated fixed charges"}]
[null,null,null,null,null,"Revenue matching",{"$f":"'Revenue matching'!$C$15","v":"Section 518-A: Inputs to revenue matching"}]
[null,null,null,null,null,"",{"$f":"'Revenue matching'!$C$45","v":"Section 518-B: Net revenue before matching"}]
[null,null,null,null,null,"",{"$f":"'Revenue matching'!$C$68","v":"Section 518-C: Calculation of unconstrained adder solution"}]
[null,null,null,null,null,"",{"$f":"'Revenue matching'!$C$92","v":"Section 518-D: Algorithm to find constrained adder solution"}]
[null,null,null,null,null,"",{"$f":"'Revenue matching'!$C$131","v":"Section 518-E: Adder to be applied to unit rates"}]
[null,null,null,null,null,"Fixed charge adder",{"$f":"'Fixed charge adder'!$C$16","v":"Section 519-A: Inputs for fixed tariff adjustments"}]
[null,null,null,null,null,"",{"$f":"'Fixed charge adder'!$C$33","v":"Section 519-B: Calculation of fixed tariff adjustments"}]
[null,null,null,null,null,"",{"$f":"'Fixed charge adder'!$C$48","v":"Section 519-C: Calculation of fixed charge adder revenue"}]
[null,null,null,null,null,"Rounding",{"$f":"Rounding!$C$16","v":"Section 520-A: Pre-match, pre-rounding tariff forecast"}]
[null,null,null,null,null,"",{"$f":"Rounding!$C$28","v":"Section 520-B: Adder to be applied to unit rates"}]
[null,null,null,null,null,"",{"$f":"Rounding!$C$40","v":"Section 520-C: Adder to be applied to fixed charge"}]
[null,null,null,null,null,"",{"$f":"Rounding!$C$52","v":"Section 520-D: LDNO discounts"}]
[null,null,null,null,null,"",{"$f":"Rounding!$C$72","v":"Section 520-E: Decimal places for rounding"}]
[null,null,null,null,null,"",{"$f":"Rounding!$C$87","v":"Section 520-F: Tariff forecast, post-revenue matching"}]
[null,null,null,null,null,"",{"$f":"Rounding!$C$98","v":"Section 520-G: Tariff forecast, post-adders & discounting"}]
[null,null,null,null,null,"",{"$f":"Rounding!$C$127","v":"Section 520-H: Tariff forecast, post-rounding"}]
[null,null,null,null,null,"Net revenue summary",{"$f":"'Net revenue summary'!$C$13","v":"Input 505-A: Volume forecasts"}]
[null,null,null,null,null,"",{"$f":"'Net revenue summary'!$C$42","v":"Input 505-B: Tariff forecast"}]
[null,null,null,null,null,"",{"$f":"'Net revenue summary'!$C$71","v":"Input 505-C: Net revenue components"}]
[null,null,null,null,null,"",{"$f":"'Net revenue summary'!$C$81","v":"Input 505-D: Net revenue by tariff"}]
[null,null,null,null,null,"",{"$f":"'Net revenue summary'!$C$113","v":"Input 505-E: Net revenue summary (for information only)"}]
[null,null,null,null,null,"",{"$f":"'Net revenue summary'!$C$126","v":"Input 505-F: Typical bills"}]
[null,null,null,null,null,"Tariff summary",{"$f":"'Tariff summary'!$C$15","v":"Input 506-A: Live tariff results (2021/22)"}]
[null,null,null,null,null,"",{"$f":"'Tariff summary'!$C$71","v":"Input 506-B: tariff forecast results for charging year 2021/22"}]
[null,null,null,null,null,"",{"$f":"'Tariff summary'!$C$127","v":"Input 506-C: Tariff results for charging year 2022/23"}]
[null,null,null,null,null,"",{"$f":"'Tariff summary'!$C$183","v":"Input 506-D: Tariff results for charging year 2023/24"}]
[null,null,null,null,null,"",{"$f":"'Tariff summary'!$C$239","v":"Input 506-E: Tariff results for charging year 2024/25"}]
[null,null,null,null,null,"",{"$f":"'Tariff summary'!$C$295","v":"Input 506-F: Tariff results for charging year 2025/26"}]
[null,null,null,null,null,"Typical bills",{"$f":"'Typical bills'!$C$15","v":"Input 507-A: Typical bill results"}]
[]
[null,"End of sheet"]

{"sheet":"Named ranges","index":4,"n_rows":32,"n_cols":8,"rows_kept":32,"cut":false,"hidden":false,"merged":[]}
[{"$f":"MID(CELL(\"filename\",A1),FIND(\"]\",CELL(\"filename\",A1))+1,255)","v":"Named ranges"}]
[{"$f":"Cover!D21&\" - \"&Cover!D23","v":"SP Distribution - One"}]
[{"$f":"Cover!D2&\" - \"&Cover!D8&\" v\"&Cover!D10&\" - \"&Cover!D19","v":"ARP model - Release for charge setting v5 - 2021/22"}]
[]
[null,"List of named ranges"]
[]
[null,null,null,null,null,"charging_year","Year for which charges are being calculated","Cover"]
[null,null,null,null,null,"charging_year_selected","Charging year currently selected for ARP","ARP_User control"]
[null,null,null,null,null,"check_decimals","Number of decimal places of precision for in-built model checks","Fixed inputs"]
[null,null,null,null,null,"days_in_year","Days in the charging year","General inputs"]
[null,null,null,null,null,"DNO_name","Name of DNO","Cover"]
[null,null,null,null,null,"hours_in_day","Hours per day","Fixed inputs"]
[null,null,null,null,null,"hours_in_year","Hours in the charging year","General inputs"]
[null,null,null,null,null,"hundred","Equal to 100","Fixed inputs"]
[null,null,null,null,null,"live_results_bills","Typical bills for selected charging year","Typical bills"]
[null,null,null,null,null,"live_results_tariffs","Tariffs for selected charging year","Tariff summary"]
[null,null,null,null,null,"PowerFactor","Power factor, equal to 0.95","Fixed inputs"]
[null,null,null,null,null,"results_4_bills","Typical bills for current charging year","Typical bills"]
[null,null,null,null,null,"results_4_tariffs","Tariffs for current charging year","Tariff summary"]
[null,null,null,null,null,"results_5_bills","Typical bills for current charging year + 1","Typical bills"]
[null,null,null,null,null,"results_5_tariffs","Tariffs for current charging year + 1","Tariff summary"]
[null,null,null,null,null,"results_6_bills","Typical bills for current charging year + 2","Typical bills"]
[null,null,null,null,null,"results_6_tariffs","Tariffs for current charging year + 2","Tariff summary"]
[null,null,null,null,null,"results_7_bills","Typical bills for current charging year + 3","Typical bills"]
[null,null,null,null,null,"results_7_tariffs","Tariffs for current charging year + 3","Tariff summary"]
[null,null,null,null,null,"results_8_bills","Typical bills for current charging year + 4","Typical bills"]
[null,null,null,null,null,"results_8_tariffs","Tariffs for current charging year + 4","Tariff summary"]
[null,null,null,null,null,"ten","Equal to 10","Fixed inputs"]
[null,null,null,null,null,"thousand","Equal to 1000","Fixed inputs"]
[null,null,null,null,null,"year_selection","Index for selected charging year","ARP_User control"]
[]
[null,"End of sheet"]

{"sheet":"ARP_DNO commentary","index":5,"n_rows":20,"n_cols":6,"rows_kept":20,"cut":false,"hidden":false,"merged":[[10,5,17,5]]}
[{"$f":"MID(CELL(\"filename\",A1),FIND(\"]\",CELL(\"filename\",A1))+1,255)","v":"ARP_DNO commentary"}]
[{"$f":"Cover!D21&\" - \"&Cover!D23","v":"SP Distribution - One"}]
[{"$f":"Cover!D2&\" - \"&Cover!D8&\" v\"&Cover!D10&\" - \"&Cover!D19","v":"ARP model - Release for charge setting v5 - 2021/22"}]
[]
[null,"Description"]
[]
[null,null,"This sheet contains the DNO's commentary on its forecast of CDCM input data for the four years following the charging year, as required by DCUSA Schedule 20, Paragraph 2.1 (e)."]
[]
[null,"Commentary"]
[]
[null,null,null,null,null,"There are no published 'ARP_Inputs by customer type' prior to 2021/22 inline with the new DCP268 tariffs hence these entries have been left blank"]
[]
[]
[]
[]
[]
[]
[]
[]
[null,"End of sheet"]

{"sheet":"ARP_CDCM timebands","index":6,"n_rows":43,"n_cols":14,"rows_kept":43,"cut":false,"hidden":false,"merged":[]}
[{"$f":"MID(CELL(\"filename\",A1),FIND(\"]\",CELL(\"filename\",A1))+1,255)","v":"ARP_CDCM timebands"}]
[{"$f":"Cover!D21&\" - \"&Cover!D23","v":"SP Distribution - One"}]
[{"$f":"Cover!D2&\" - \"&Cover!D8&\" v\"&Cover!D10&\" - \"&Cover!D19","v":"ARP model - Release for charge setting v5 - 2021/22"}]
[]
[null,"Click here to return to model map",null,null,null,null,"Units","Constants",null,{"$f":"TRANSPOSE('ARP_User control'!G31:G35)","v":"2021/22"},"2022/23","2023/24","2024/25","2025/26"]
[]
[null,"Description"]
[]
[null,null,"This sheet sets out the expected timebands that the DNO plans to use for each of the five years covered by the "]
[null,null,"Annual Review Pack, as required by DCUSA Schedule 20, Paragraph 2.1 (f)."]
[]
[null,"CDCM timebands"]
[]
[null,null,"Distribution time bands"]
[]
[null,null,null,null,"Weekdays (including bank holidays)"]
[null,null,null,null,null,"Red","time of day",null,null,"16:30 - 19:30","16:30 - 19:30","16:30 - 19:30","16:30 - 19:30","16:30 - 19:30"]
[null,null,null,null,null,"Amber","time of day",null,null,"08:00 - 16:30\n19:30 - 22:30","08:00 - 16:30\n19:30 - 22:30","08:00 - 16:30\n19:30 - 22:30","08:00 - 16:30\n19:30 - 22:30","08:00 - 16:30\n19:30 - 22:30"]
[null,null,null,null,null,"Green","time of day",null,null,"00:00 - 08:00\n22:30 - 00:00","00:00 - 08:00\n22:30 - 00:00","00:00 - 08:00\n22:30 - 00:00","00:00 - 08:00\n22:30 - 00:00","00:00 - 08:00\n22:30 - 00:00"]
[]
[null,null,null,null,"Weekends"]
[null,null,null,null,null,"Red","time of day"]
[null,null,null,null,null,"Amber","time of day",null,null,"16:00 - 20:00","16:00 - 20:00","16:00 - 20:00","16:00 - 20:00","16:00 - 20:00"]
[null,null,null,null,null,"Green","time of day",null,null,"00:00 - 16:00\n20:00 - 00:00","00:00 - 16:00\n20:00 - 00:00","00:00 - 16:00\n20:00 - 00:00","00:00 - 16:00\n20:00 - 00:00","00:00 - 16:00\n20:00 - 00:00"]
[]
[null,null,"Special distribution time bands"]
[]
[null,null,null,null,"Weekdays (including bank holidays) Nov to Feb"]
[null,null,null,null,null,"Black","time of day",null,null,"16:30 - 19:30","16:30 - 19:30","16:30 - 19:30","16:30 - 19:30","16:30 - 19:30"]
[null,null,null,null,null,"Yellow","time of day",null,null,"08:00 - 16:30\n19:30 - 22:30","08:00 - 16:30\n19:30 - 22:30","08:00 - 16:30\n19:30 - 22:30","08:00 - 16:30\n19:30 - 22:30","08:00 - 16:30\n19:30 - 22:30"]
[null,null,null,null,null,"Green","time of day",null,null,"00:00 - 08:00\n22:30 - 00:00","00:00 - 08:00\n22:30 - 00:00","00:00 - 08:00\n22:30 - 00:00","00:00 - 08:00\n22:30 - 00:00","00:00 - 08:00\n22:30 - 00:00"]
[]
[null,null,null,null,"Weekdays (including bank holidays) Mar to Oct"]
[null,null,null,null,null,"Black","time of day"]
[null,null,null,null,null,"Yellow","time of day",null,null,"08:00 - 22:30","08:00 - 22:30","08:00 - 22:30","08:00 - 22:30","08:00 - 22:30"]
[null,null,null,null,null,"Green","time of day",null,null,"00:00 - 08:00\n22:30 - 00:00","00:00 - 08:00\n22:30 - 00:00","00:00 - 08:00\n22:30 - 00:00","00:00 - 08:00\n22:30 - 00:00","00:00 - 08:00\n22:30 - 00:00"]
[]
[null,null,null,null,"Weekends"]
[null,null,null,null,null,"Black","time of day"]
[null,null,null,null,null,"Yellow","time of day",null,null,"16:00 - 20:00","16:00 - 20:00","16:00 - 20:00","16:00 - 20:00","16:00 - 20:00"]
[null,null,null,null,null,"Green","time of day",null,null,"00:00 - 16:00\n20:00 - 00:00","00:00 - 16:00\n20:00 - 00:00","00:00 - 16:00\n20:00 - 00:00","00:00 - 16:00\n20:00 - 00:00","00:00 - 16:00\n20:00 - 00:00"]
[]
[null,"End of sheet"]

{"sheet":"ARP_Load characteristics","index":7,"n_rows":34,"n_cols":25,"rows_kept":34,"cut":false,"hidden":false,"merged":[]}
[{"$f":"MID(CELL(\"filename\",A1),FIND(\"]\",CELL(\"filename\",A1))+1,255)","v":"ARP_Load characteristics"}]
[{"$f":"Cover!D21&\" - \"&Cover!D23","v":"SP Distribution - One"}]
[{"$f":"Cover!D2&\" - \"&Cover!D8&\" v\"&Cover!D10&\" - \"&Cover!D19","v":"ARP model - Release for charge setting v5 - 2021/22"}]
[]
[null,"Click here to return to model map",null,null,null,null,"Units","Constants",null,"Domestic Aggregated","Domestic Aggregated (Related MPAN)","Non-Domestic Aggregated","Non-Domestic Aggregated (Related MPAN)","LV Site Specific","LV Sub Site Specific","HV Site Specific","Unmetered Supplies","LV Generation Aggregated","LV Sub Generation Aggregated","LV Generation Site Specific","LV Generation Site Specific no RP Charge","LV Sub Generation Site Specific","LV Sub Generation Site Specific no RP Charge","HV Generation Site Specific","HV Generation Site Specific no RP Charge"]
[]
[null,"Description"]
[]
[null,null,"This sheet presents historic data used to calculate average values for load characteristics, as required by DCUSA Schedule 20, Paragraph 2.1 (g)."]
[null,null,"Charges for year Y are set in year Y-2 using average load characteristics from the three previous years (i.e. Y-3 to Y-5)."]
[null,null,"This sheet is for information only, and is not linked to following worksheets. "]
[]
[null,"Years"]
[]
[null,null,null,null,"Years to which input data relate"]
[null,null,null,null,null,"Year 1","year",{"$f":"LEFT(H17,4) - 1 & \"/\" & RIGHT(H17,2) - 1","v":"2016/17"}]
[null,null,null,null,null,"Year 2","year",{"$f":"LEFT(H18,4) - 1 & \"/\" & RIGHT(H18,2) - 1","v":"2017/18"}]
[null,null,null,null,null,"Year 3","year",{"$f":"'ARP_User control'!$G$28","v":"2018/19"}]
[]
[null,"Load characteristics"]
[]
[null,null,null,null,"Load factor"]
[null,null,null,null,null,{"$f":"$H$16","v":"2016/17"},"%",null,null,0.47399999999999998,0.10199999999999999,0.438,0.318,0.54700000000000004,0.68200000000000005,0.73,0.46]
[null,null,null,null,null,{"$f":"$H$17","v":"2017/18"},"%",null,null,0.46300000000000002,0.106,0.39600000000000002,0.312,0.55400000000000005,0.65800000000000003,0.74,0.45600000000000002]
[null,null,null,null,null,{"$f":"$H$18","v":"2018/19"},"%",null,null,0.40899999999999997,9.0999999999999998E-2,0.41599999999999998,0.33,0.56699999999999995,0.67800000000000005,0.73599999999999999,0.45900000000000002]
[null,null,null,null,null,"Average","%",null,null,{"$f":"AVERAGE(J23:J25)","v":0.44866666666666671},{"$f":"AVERAGE(K23:K25)","v":9.9666666666666667E-2},0.41666666666666669,0.32,0.55599999999999994,0.67266666666666675,0.73533333333333328,0.45833333333333331]
[]
[null,null,null,null,"Coincidence factor"]
[null,null,null,null,null,{"$f":"$H$16","v":"2016/17"},"%",null,null,0.91900000000000004,null,0.68700000000000006,null,0.77500000000000002,0.82399999999999995,0.85399999999999998,0.93300000000000005]
[null,null,null,null,null,{"$f":"$H$17","v":"2017/18"},"%",null,null,0.95499999999999996,null,0.66600000000000004,null,0.79800000000000004,0.77400000000000002,0.85299999999999998,0.91900000000000004]
[null,null,null,null,null,{"$f":"$H$18","v":"2018/19"},"%",null,null,0.82199999999999995,null,0.64,null,0.77800000000000002,0.75800000000000001,0.82899999999999996,0.92600000000000005]
[null,null,null,null,null,"Average","%",null,null,{"$f":"AVERAGE(J29:J31)","v":0.89866666666666672},null,{"$f":"AVERAGE(L29:L31)","v":0.66433333333333344},null,0.78366666666666662,0.78533333333333333,{"$f":"AVERAGE(P29:P31)","v":0.84533333333333316},0.92600000000000005]
[]
[null,"End of sheet"]

{"sheet":"ARP_Peaking probabilities","index":8,"n_rows":47,"n_cols":19,"rows_kept":47,"cut":false,"hidden":false,"merged":[]}
[{"$f":"MID(CELL(\"filename\",A1),FIND(\"]\",CELL(\"filename\",A1))+1,255)","v":"ARP_Peaking probabilities"}]
[{"$f":"Cover!D21&\" - \"&Cover!D23","v":"SP Distribution - One"}]
[{"$f":"Cover!D2&\" - \"&Cover!D8&\" v\"&Cover!D10&\" - \"&Cover!D19","v":"ARP model - Release for charge setting v5 - 2021/22"}]
[]
[null,"Click here to return to model map",null,null,null,null,"Units","Constants",null,"Transmission exit","GSPs",null,null,"EHV","EHV/HV",null,"HV","HV/LV","LV circuits"]
[]
[null,"Description"]
[]
[null,null,"This sheet presents historic data used to calculate average values for peaking probabilities, as required by "]
[null,null,"DCUSA Schedule 20, Paragraph 2.1 (e)."]
[null,null,"Charges for year Y are set in year Y-2 using average peaking probabilities from the three previous years (i.e. Y-3 to Y-5)."]
[null,null,"This sheet is for information only, and is not linked to following worksheets. "]
[]
[null,"Years"]
[]
[null,null,null,null,"Years to which input data relate"]
[null,null,null,null,null,"Year 1","year",{"$f":"LEFT(H18,4) - 1 & \"/\" & RIGHT(H18,2) - 1","v":"2016/17"}]
[null,null,null,null,null,"Year 2","year",{"$f":"LEFT(H19,4) - 1 & \"/\" & RIGHT(H19,2) - 1","v":"2017/18"}]
[null,null,null,null,null,"Year 3","year",{"$f":"'ARP_User control'!$G$28","v":"2018/19"}]
[]
[null,"Peaking probabilities, by distribution timeband"]
[]
[null,null,null,null,"Red period"]
[null,null,null,null,null,{"$f":"$H$17","v":"2016/17"},"%",null,null,null,0.76075799392148313,null,null,0.76075799392148313,0.69711621558147696,null,0.69711621558147696,0.69711621558147696,0.69711621558147696]
[null,null,null,null,null,{"$f":"$H$18","v":"2017/18"},"%",null,null,null,0.71546833695952494,null,null,0.71546833695952494,0.61622669812416919,null,0.61622669812416919,0.61622669812416919,0.61622669812416919]
[null,null,null,null,null,{"$f":"$H$19","v":"2018/19"},"%",null,null,null,0.73433239444650844,null,null,0.73433239444650844,0.6231442104170839,null,0.6231442104170839,0.6231442104170839,0.6231442104170839]
[null,null,null,null,null,"Average","%",null,null,null,{"$f":"AVERAGE(K24:K26)","v":0.73685290844250551},null,null,0.73685290844250551,0.64549570804091005,null,0.64549570804091005,0.64549570804091005,0.64549570804091005]
[]
[null,null,null,null,"Amber period"]
[null,null,null,null,null,{"$f":"$H$17","v":"2016/17"},"%",null,null,null,0.22777651317830325,null,null,0.22777651317830325,0.28937231214755404,null,0.28937231214755404,0.28937231214755404,0.28937231214755404]
[null,null,null,null,null,{"$f":"$H$18","v":"2017/18"},"%",null,null,null,0.28397931298579127,null,null,0.28397931298579127,0.36563289742735666,null,0.36563289742735666,0.36563289742735666,0.36563289742735666]
[null,null,null,null,null,{"$f":"$H$19","v":"2018/19"},"%",null,null,null,0.26115365075885144,null,null,0.26115365075885144,0.36236622744919555,null,0.36236622744919555,0.36236622744919555,0.36236622744919555]
[null,null,null,null,null,"Average","%",null,null,null,{"$f":"AVERAGE(K30:K32)","v":0.25763649230764868},null,null,0.25763649230764868,0.33912381234136874,null,0.33912381234136874,0.33912381234136874,0.33912381234136874]
[]
[null,null,null,null,"Green period"]
[null,null,null,null,null,{"$f":"$H$17","v":"2016/17"},"%",null,null,null,1.1465492900213512E-2,null,null,1.1465492900213512E-2,1.3511472270967969E-2,null,1.3511472270967969E-2,1.3511472270967969E-2,1.3511472270967969E-2]
[null,null,null,null,null,{"$f":"$H$18","v":"2017/18"},"%",null,null,null,5.5235005468374284E-4,null,null,5.5235005468374284E-4,1.8140404448474517E-2,null,1.8140404448474517E-2,1.8140404448474517E-2,1.8140404448474517E-2]
[null,null,null,null,null,{"$f":"$H$19","v":"2018/19"},"%",null,null,null,4.5139547946400583E-3,null,null,4.5139547946400583E-3,1.4489562133720876E-2,null,1.4489562133720876E-2,1.4489562133720876E-2,1.4489562133720876E-2]
[null,null,null,null,null,"Average","%",null,null,null,{"$f":"AVERAGE(K36:K38)","v":5.5105992498457714E-3},null,null,5.5105992498457714E-3,1.5380479617721122E-2,null,1.5380479617721122E-2,1.5380479617721122E-2,1.5380479617721122E-2]
[]
[null,null,null,null,"Black period"]
[null,null,null,null,null,{"$f":"$H$17","v":"2016/17"},"%",null,null,null,0.72865700958002111,null,null,0.72865700958002111,0.66626017246329228,null,0.66626017246329228,0.66626017246329228,0.66626017246329228]
[null,null,null,null,null,{"$f":"$H$18","v":"2017/18"},"%",null,null,null,0.63312612789647893,null,null,0.63312612789647893,0.57500520755165951,null,0.57500520755165951,0.57500520755165951,0.57500520755165951]
[null,null,null,null,null,{"$f":"$H$19","v":"2018/19"},"%",null,null,null,0.64987028235664601,null,null,0.64987028235664601,0.57407809524405173,null,0.57407809524405173,0.57407809524405173,0.57407809524405173]
[null,null,null,null,null,"Average","%",null,null,null,{"$f":"AVERAGE(K42:K44)","v":0.67055113994438198},null,null,0.67055113994438198,0.60511449175300125,null,0.60511449175300125,0.60511449175300125,0.60511449175300125]
[]
[null,"End of sheet"]

{"sheet":"ARP_User control","index":9,"n_rows":38,"n_cols":8,"rows_kept":38,"cut":false,"hidden":false,"merged":[]}
[{"$f":"MID(CELL(\"filename\",A1),FIND(\"]\",CELL(\"filename\",A1))+1,255)","v":"ARP_User control"}]
[{"$f":"Cover!D21&\" - \"&Cover!D23","v":"SP Distribution - One"}]
[{"$f":"Cover!D2&\" - \"&Cover!D8&\" v\"&Cover!D10&\" - \"&Cover!D19","v":"ARP model - Release for charge setting v5 - 2021/22"}]
[]
[null,"Description"]
[]
[null,null,"This sheet contains the user interface for the ARP, which is used to select the \"live\" year used for input data."]
[null,null,"It houses the Macro Button which should be pressed to update results for all years of the forecast period."]
[]
[null,"User interface"]
[]
[null,null,"Users can select which year of input data is pulled into the model using the yellow cell."]
[null,null,"Users should press the \"Run all years\" macro button to update multi-year results on the 'Tariff summary' and 'Typical bills' sheets."]
[]
[null,null,"Inputs for manually running selected year"]
[]
[null,null,null,null,"Year selection",null,"2021/22"]
[]
[null,null,"Macro to run all years"]
[]
[]
[]
[]
[]
[null,"Lists"]
[]
[null,null,null,"List of years"]
[null,null,null,null,"Year -3",null,{"$f":"LEFT(G29,4) - 1 & \"/\" & RIGHT(G29,2) - 1","v":"2018/19"},"Historic"]
[null,null,null,null,"Year -2",null,{"$f":"LEFT(G30,4) - 1 & \"/\" & RIGHT(G30,2) - 1","v":"2019/20"},"Historic"]
[null,null,null,null,"Year -1",null,{"$f":"LEFT(G31,4) - 1 & \"/\" & RIGHT(G31,2) - 1","v":"2020/21"},"Historic"]
[null,null,null,null,{"$f":"\"Charging year (\" & charging_year &\")\"","v":"Charging year (2021/22)"},null,{"$f":"charging_year","v":"2021/22"},"Current"]
[null,null,null,null,"Year +1",null,{"$f":"LEFT(G31,4) + 1 & \"/\" & RIGHT(G31,2) + 1","v":"2022/23"},"Forecast"]
[null,null,null,null,"Year +2",null,{"$f":"LEFT(G32,4) + 1 & \"/\" & RIGHT(G32,2) + 1","v":"2023/24"},"Forecast"]
[null,null,null,null,"Year +3",null,"2024/25","Forecast"]
[null,null,null,null,"Year +4",null,"2025/26","Forecast"]
[null,null,null,null,"Year selection (index)",null,{"$f":"MATCH(G17,G28:G35)","v":4},{"$f":"INDEX(H28:H35,MATCH($G$17,$G$28:$G$35,0))","v":"Current"}]
[]
[null,"End of sheet"]

{"sheet":"ARP_Inputs by customer type","index":10,"n_rows":532,"n_cols":21,"rows_kept":532,"cut":false,"hidden":false,"merged":[]}
[{"$f":"MID(CELL(\"filename\",A1),FIND(\"]\",CELL(\"filename\",A1))+1,255)","v":"ARP_Inputs by customer type"}]
[{"$f":"Cover!D21&\" - \"&Cover!D23","v":"SP Distribution - One"}]
[{"$f":"Cover!D2&\" - \"&Cover!D8&\" v\"&Cover!D10&\" - \"&Cover!D19","v":"ARP model - Release for charge setting v5 - 2021/22"}]
[{"$f":"H530 & IF(H530 = 1, \" issue\", \" issues\") &\" identified in checks on this sheet\"","v":"0 issues identified in checks on this sheet"}]
[null,null,null,null,null,null,null,null,null,{"$f":"\"Year selected (\"& charging_year_selected &\")\"","v":"Year selected (2021/22)"},null,{"$f":"TRANSPOSE('ARP_User control'!G28:H35)","v":"2018/19"},"2019/20","2020/21","2021/22","2022/23","2023/24","2024/25","2025/26"]
[null,"Click here to return to model map",null,null,null,null,"Units","Constants",null,{"$f":"'ARP_User control'!$H$36","v":"Current"},null,"Historic","Historic","Historic","Current","Forecast","Forecast","Forecast","Forecast",null,"Legal text reference"]
[]
[null,"Description"]
[]
[null,null,"This sheet sets out inputs by customer type and by year."]
[null,null,"DNOs should populate the inputs for the charging year and the four following years."]
[null,null,"DNOs can also populate the three years preceding the charging year, but are not obliged to do so. "]
[]
[null,"Load characteristics"]
[]
[null,null,{"$f":"INDEX('Version control'!$H$34:$H$60,MATCH($A$1,'Version control'!$F$34:$F$60,0),1)&\"-A: Load factor\"","v":"Input 501-A: Load factor"}]
[]
[null,null,null,null,"Load factor",null,null,null,">",null,null,null,null,null,null,null,null,null,null,null,"Paragraphs 42 (a) and 52"]
[null,null,null,null,null,"Domestic Aggregated","%",null,null,{"$f":"CHOOSE(year_selection, L19,M19,N19,O19,P19,Q19,R19,S19)","v":0.44866666666666671},null,null,null,null,0.44866666666666671,0.44866666666666671,0.44866666666666671,0.44866666666666671,0.44866666666666671]
[null,null,null,null,null,"Domestic Aggregated (Related MPAN)","%",null,null,{"$f":"CHOOSE(year_selection, L20,M20,N20,O20,P20,Q20,R20,S20)","v":9.9666666666666667E-2},null,null,null,null,9.9666666666666667E-2,9.9666666666666667E-2,9.9666666666666667E-2,9.9666666666666667E-2,9.9666666666666667E-2]
[null,null,null,null,null,"Non-Domestic Aggregated","%",null,null,0.41666666666666669,null,null,null,null,0.41666666666666669,0.41666666666666669,0.41666666666666669,0.41666666666666669,0.41666666666666669]
[null,null,null,null,null,"Non-Domestic Aggregated (Related MPAN)","%",null,null,0.32,null,null,null,null,0.32,0.32,0.32,0.32,0.32]
[null,null,null,null,null,"LV Site Specific","%",null,null,0.55600000000000005,null,null,null,null,0.55600000000000005,0.55600000000000005,0.55600000000000005,0.55600000000000005,0.55600000000000005]
[null,null,null,null,null,"LV Sub Site Specific","%",null,null,0.67266666666666675,null,null,null,null,0.67266666666666675,0.67266666666666675,0.67266666666666675,0.67266666666666675,0.67266666666666675]
[null,null,null,null,null,"HV Site Specific","%",null,null,0.73533333333333328,null,null,null,null,0.73533333333333328,0.73533333333333328,0.73533333333333328,0.73533333333333328,0.73533333333333328]
[null,null,null,null,null,"Unmetered Supplies","%",null,null,0.45833333333333331,null,null,null,null,0.45833333333333331,0.45833333333333331,0.45833333333333331,0.45833333333333331,0.45833333333333331]
[null,null,null,null,null,"LV Generation Aggregated","%"]
[null,null,null,null,null,"LV Sub Generation Aggregated","%"]
[null,null,null,null,null,"LV Generation Site Specific","%"]
[null,null,null,null,null,"LV Generation Site Specific no RP Charge","%"]
[null,null,null,null,null,"LV Sub Generation Site Specific","%"]
[null,null,null,null,null,"LV Sub Generation Site Specific no RP Charge","%"]
[null,null,null,null,null,"HV Generation Site Specific","%"]
[null,null,null,null,null,"HV Generation Site Specific no RP Charge","%"]
[]
[null,null,{"$f":"INDEX('Version control'!$H$34:$H$60,MATCH($A$1,'Version control'!$F$34:$F$60,0),1)&\"-B: Coincidence factor\"","v":"Input 501-B: Coincidence factor"}]
[]
[null,null,null,null,"Coincidence factor",null,null,null,">",null,null,null,null,null,null,null,null,null,null,null,"Paragraphs 42 (b) and 52"]
[null,null,null,null,null,"Domestic Aggregated","%",null,null,{"$f":"CHOOSE(year_selection, L39,M39,N39,O39,P39,Q39,R39,S39)","v":0.89866666666666661},null,null,null,null,0.89866666666666661,0.89866666666666661,0.89866666666666661,0.89866666666666661,0.89866666666666661]
[null,null,null,null,null,"Domestic Aggregated (Related MPAN)","%"]
[null,null,null,null,null,"Non-Domestic Aggregated","%",null,null,0.66433333333333333,null,null,null,null,0.66433333333333333,0.66433333333333333,0.66433333333333333,0.66433333333333333,0.66433333333333333]
[null,null,null,null,null,"Non-Domestic Aggregated (Related MPAN)","%"]
[null,null,null,null,null,"LV Site Specific","%",null,null,0.78366666666666662,null,null,null,null,0.78366666666666662,0.78366666666666662,0.78366666666666662,0.78366666666666662,0.78366666666666662]
[null,null,null,null,null,"LV Sub Site Specific","%",null,null,0.78533333333333333,null,null,null,null,0.78533333333333333,0.78533333333333333,0.78533333333333333,0.78533333333333333,0.78533333333333333]
[null,null,null,null,null,"HV Site Specific","%",null,null,0.84533333333333338,null,null,null,null,0.84533333333333338,0.84533333333333338,0.84533333333333338,0.84533333333333338,0.84533333333333338]
[null,null,null,null,null,"Unmetered Supplies","%",null,null,0.92600000000000016,null,null,null,null,0.92600000000000016,0.92600000000000016,0.92600000000000016,0.92600000000000016,0.92600000000000016]
[null,null,null,null,null,"LV Generation Aggregated","%"]
[null,null,null,null,null,"LV Sub Generation Aggregated","%"]
[null,null,null,null,null,"LV Generation Site Specific","%"]
[null,null,null,null,null,"LV Generation Site Specific no RP Charge","%"]
[null,null,null,null,null,"LV Sub Generation Site Specific","%"]
[null,null,null,null,null,"LV Sub Generation Site Specific no RP Charge","%"]
[null,null,null,null,null,"HV Generation Site Specific","%"]
[null,null,null,null,null,"HV Generation Site Specific no RP Charge","%"]
[]
[null,"Volumes"]
[]
[null,null,{"$f":"INDEX('Version control'!$H$34:$H$60,MATCH($A$1,'Version control'!$F$34:$F$60,0),1)&\"-C: All-the-way volumes\"","v":"Input 501-C: All-the-way volumes"}]
[]
[null,null,null,null,"Rate 1 units",null,null,null,">",null,null,null,null,null,null,null,null,null,null,null,"Paragraph 52"]
[null,null,null,null,null,"Domestic Aggregated","MWh","All the way customers",null,{"$f":"CHOOSE(year_selection, L61,M61,N61,O61,P61,Q61,R61,S61)","v":728182.66484023235},null,null,null,null,728182.66484023235,728182.66484023235,728182.66484023235,728182.66484023235,728182.66484023235]
[null,null,null,null,null,"Domestic Aggregated (Related MPAN)","MWh","All the way customers",null,1325.9025558238502,null,null,null,null,1325.9025558238502,1325.9025558238502,1325.9025558238502,1325.9025558238502,1325.9025558238502]
[null,null,null,null,null,"Non-Domestic Aggregated","MWh","All the way customers",null,187782.12741331305,null,null,null,null,187782.12741331305,187782.12741331305,187782.12741331305,187782.12741331305,187782.12741331305]
[null,null,null,null,null,"Non-Domestic Aggregated (Related MPAN)","MWh","All the way customers",null,4172.2410596369182,null,null,null,null,4172.2410596369182,4172.2410596369182,4172.2410596369182,4172.2410596369182,4172.2410596369182]
[null,null,null,null,null,"LV Site Specific","MWh","All the way customers",null,275821.76887612289,null,null,null,null,275821.76887612289,275821.76887612289,275821.76887612289,275821.76887612289,275821.76887612289]
[null,null,null,null,null,"LV Sub Site Specific","MWh","All the way customers",null,21569.598912405832,null,null,null,null,21569.598912405832,21569.598912405832,21569.598912405832,21569.598912405832,21569.598912405832]
[null,null,null,null,null,"HV Site Specific","MWh","All the way customers",null,322473.77411167003,null,null,null,null,322473.77411167003,322473.77411167003,322473.77411167003,322473.77411167003,322473.77411167003]
[null,null,null,null,null,"Unmetered Supplies","MWh","All the way customers",null,13844.286088792498,null,null,null,null,13844.286088792498,13844.286088792498,13844.286088792498,13844.286088792498,13844.286088792498]
[null,null,null,null,null,"LV Generation Aggregated","MWh","All the way customers",null,139.21456342227521,null,null,null,null,139.21456342227521,139.21456342227521,139.21456342227521,139.21456342227521,139.21456342227521]
[null,null,null,null,null,"LV Sub Generation Aggregated","MWh","All the way customers",null,2.8776284544589532,null,null,null,null,2.8776284544589532,2.8776284544589532,2.8776284544589532,2.8776284544589532,2.8776284544589532]
[null,null,null,null,null,"LV Generation Site Specific","MWh","All the way customers",null,6131.3814104814819,null,null,null,null,6131.3814104814819,6131.3814104814819,6131.3814104814819,6131.3814104814819,6131.3814104814819]
[null,null,null,null,null,"LV Generation Site Specific no RP Charge","MWh","All the way customers",null,0,null,null,null,null,0,0,0,0,0]
[null,null,null,null,null,"LV Sub Generation Site Specific","MWh","All the way customers",null,144.6141525623608,null,null,null,null,144.6141525623608,144.6141525623608,144.6141525623608,144.6141525623608,144.6141525623608]
[null,null,null,null,null,"LV Sub Generation Site Specific no RP Charge","MWh","All the way customers",null,0,null,null,null,null,0,0,0,0,0]
[null,null,null,null,null,"HV Generation Site Specific","MWh","All the way customers",null,116075.81817719914,null,null,null,null,116075.81817719914,116075.81817719914,116075.81817719914,116075.81817719914,116075.81817719914]
[null,null,null,null,null,"HV Generation Site Specific no RP Charge","MWh","All the way customers",null,0,null,null,null,null,0,0,0,0,0]
[]
[null,null,null,null,"Rate 2 units"]
[null,null,null,null,null,"Domestic Aggregated","MWh","All the way customers",null,{"$f":"CHOOSE(year_selection, L79,M79,N79,O79,P79,Q79,R79,S79)","v":2586978.352218715},null,null,null,null,2586978.352218715,2586978.352218715,2586978.352218715,2586978.352218715,2586978.352218715]
[null,null,null,null,null,"Domestic Aggregated (Related MPAN)","MWh","All the way customers",null,24004.867020018988,null,null,null,null,24004.867020018988,24004.867020018988,24004.867020018988,24004.867020018988,24004.867020018988]
[null,null,null,null,null,"Non-Domestic Aggregated","MWh","All the way customers",null,1017175.5544889377,null,null,null,null,1017175.5544889377,1017175.5544889377,1017175.5544889377,1017175.5544889377,1017175.5544889377]
[null,null,null,null,null,"Non-Domestic Aggregated (Related MPAN)","MWh","All the way customers",null,25319.415482001521,null,null,null,null,25319.415482001521,25319.415482001521,25319.415482001521,25319.415482001521,25319.415482001521]
[null,null,null,null,null,"LV Site Specific","MWh","All the way customers",null,1322296.4326402938,null,null,null,null,1322296.4326402938,1322296.4326402938,1322296.4326402938,1322296.4326402938,1322296.4326402938]
[null,null,null,null,null,"LV Sub Site Specific","MWh","All the way customers",null,101185.04898982702,null,null,null,null,101185.04898982702,101185.04898982702,101185.04898982702,101185.04898982702,101185.04898982702]
[null,null,null,null,null,"HV Site Specific","MWh","All the way customers",null,1497042.8901385467,null,null,null,null,1497042.8901385467,1497042.8901385467,1497042.8901385467,1497042.8901385467,1497042.8901385467]
[null,null,null,null,null,"Unmetered Supplies","MWh","All the way customers",null,52546.80809158679,null,null,null,null,52546.80809158679,52546.80809158679,52546.80809158679,52546.80809158679,52546.80809158679]
[null,null,null,null,null,"LV Generation Aggregated","MWh","All the way customers",null,625.58915267962095,null,null,null,null,625.58915267962095,625.58915267962095,625.58915267962095,625.58915267962095,625.58915267962095]
[null,null,null,null,null,"LV Sub Generation Aggregated","MWh","All the way customers",null,11.85801478940583,null,null,null,null,11.85801478940583,11.85801478940583,11.85801478940583,11.85801478940583,11.85801478940583]
[null,null,null,null,null,"LV Generation Site Specific","MWh","All the way customers",null,27525.456251959484,null,null,null,null,27525.456251959484,27525.456251959484,27525.456251959484,27525.456251959484,27525.456251959484]
[null,null,null,null,null,"LV Generation Site Specific no RP Charge","MWh","All the way customers",null,0,null,null,null,null,0,0,0,0,0]
[null,null,null,null,null,"LV Sub Generation Site Specific","MWh","All the way customers",null,597.34783091345412,null,null,null,null,597.34783091345412,597.34783091345412,597.34783091345412,597.34783091345412,597.34783091345412]
[null,null,null,null,null,"LV Sub Generation Site Specific no RP Charge","MWh","All the way customers",null,0,null,null,null,null,0,0,0,0,0]
[null,null,null,null,null,"HV Generation Site Specific","MWh","All the way customers",null,445212.43930388504,null,null,null,null,445212.43930388504,445212.43930388504,445212.43930388504,445212.43930388504,445212.43930388504]
[null,null,null,null,null,"HV Generation Site Specific no RP Charge","MWh","All the way customers",null,0,null,null,null,null,0,0,0,0,0]
[]
[null,null,null,null,"Rate 3 units"]
[null,null,null,null,null,"Domestic Aggregated","MWh","All the way customers",null,{"$f":"CHOOSE(year_selection, L97,M97,N97,O97,P97,Q97,R97,S97)","v":2382458.5766185289},null,null,null,null,2382458.5766185289,2382458.5766185289,2382458.5766185289,2382458.5766185289,2382458.5766185289]
[null,null,null,null,null,"Domestic Aggregated (Related MPAN)","MWh","All the way customers",null,245208.33115400965,null,null,null,null,245208.33115400965,245208.33115400965,245208.33115400965,245208.33115400965,245208.33115400965]
[null,null,null,null,null,"Non-Domestic Aggregated","MWh","All the way customers",null,982488.05164342187,null,null,null,null,982488.05164342187,982488.05164342187,982488.05164342187,982488.05164342187,982488.05164342187]
[null,null,null,null,null,"Non-Domestic Aggregated (Related MPAN)","MWh","All the way customers",null,52561.158034119573,null,null,null,null,52561.158034119573,52561.158034119573,52561.158034119573,52561.158034119573,52561.158034119573]
[null,null,null,null,null,"LV Site Specific","MWh","All the way customers",null,1154944.2406044872,null,null,null,null,1154944.2406044872,1154944.2406044872,1154944.2406044872,1154944.2406044872,1154944.2406044872]
[null,null,null,null,null,"LV Sub Site Specific","MWh","All the way customers",null,100898.01610776718,null,null,null,null,100898.01610776718,100898.01610776718,100898.01610776718,100898.01610776718,100898.01610776718]
[null,null,null,null,null,"HV Site Specific","MWh","All the way customers",null,1602377.0319897835,null,null,null,null,1602377.0319897835,1602377.0319897835,1602377.0319897835,1602377.0319897835,1602377.0319897835]
[null,null,null,null,null,"Unmetered Supplies","MWh","All the way customers",null,189052.68521962134,null,null,null,null,189052.68521962134,189052.68521962134,189052.68521962134,189052.68521962134,189052.68521962134]
[null,null,null,null,null,"LV Generation Aggregated","MWh","All the way customers",null,698.17114006254928,null,null,null,null,698.17114006254928,698.17114006254928,698.17114006254928,698.17114006254928,698.17114006254928]
[null,null,null,null,null,"LV Sub Generation Aggregated","MWh","All the way customers",null,16.006356756135215,null,null,null,null,16.006356756135215,16.006356756135215,16.006356756135215,16.006356756135215,16.006356756135215]
[null,null,null,null,null,"LV Generation Site Specific","MWh","All the way customers",null,30981.276337559029,null,null,null,null,30981.276337559029,30981.276337559029,30981.276337559029,30981.276337559029,30981.276337559029]
[null,null,null,null,null,"LV Generation Site Specific no RP Charge","MWh","All the way customers",null,0,null,null,null,null,0,0,0,0,0]
[null,null,null,null,null,"LV Sub Generation Site Specific","MWh","All the way customers",null,807.27901652418518,null,null,null,null,807.27901652418518,807.27901652418518,807.27901652418518,807.27901652418518,807.27901652418518]
[null,null,null,null,null,"LV Sub Generation Site Specific no RP Charge","MWh","All the way customers",null,0,null,null,null,null,0,0,0,0,0]
[null,null,null,null,null,"HV Generation Site Specific","MWh","All the way customers",null,507559.16751891578,null,null,null,null,507559.16751891578,507559.16751891578,507559.16751891578,507559.16751891578,507559.16751891578]
[null,null,null,null,null,"HV Generation Site Specific no RP Charge","MWh","All the way customers",null,0,null,null,null,null,0,0,0,0,0]
[]
[null,null,null,null,"MPANs"]
[null,null,null,null,null,"Domestic Aggregated","MPANs","All the way customers",null,{"$f":"CHOOSE(year_selection, L115,M115,N115,O115,P115,Q115,R115,S115)","v":1852569},null,null,null,null,1852569,1852569,1852569,1852569,1852569]
[null,null,null,null,null,"Domestic Aggregated (Related MPAN)","MPANs","All the way customers",null,100059,null,null,null,null,100059,100059,100059,100059,100059]
[null,null,null,null,null,"Non-Domestic Aggregated","MPANs","All the way customers",null,125030,null,null,null,null,125030,125030,125030,125030,125030]
[null,null,null,null,null,"Non-Domestic Aggregated (Related MPAN)","MPANs","All the way customers",null,7441,null,null,null,null,7441,7441,7441,7441,7441]
[null,null,null,null,null,"LV Site Specific","MPANs","All the way customers",null,10491,null,null,null,null,10491,10491,10491,10491,10491]
[null,null,null,null,null,"LV Sub Site Specific","MPANs","All the way customers",null,219,null,null,null,null,219,219,219,219,219]
[null,null,null,null,null,"HV Site Specific","MPANs","All the way customers",null,1257,null,null,null,null,1257,1257,1257,1257,1257]
[null,null,null,null,null,"Unmetered Supplies","MPANs","All the way customers",null,4868,null,null,null,null,4868,4868,4868,4868,4868]
[null,null,null,null,null,"LV Generation Aggregated","MPANs","All the way customers",null,167,null,null,null,null,167,167,167,167,167]
[null,null,null,null,null,"LV Sub Generation Aggregated","MPANs","All the way customers",null,4,null,null,null,null,4,4,4,4,4]
[null,null,null,null,null,"LV Generation Site Specific","MPANs","All the way customers",null,472,null,null,null,null,472,472,472,472,472]
[null,null,null,null,null,"LV Generation Site Specific no RP Charge","MPANs","All the way customers",null,0,null,null,null,null,0,0,0,0,0]
[null,null,null,null,null,"LV Sub Generation Site Specific","MPANs","All the way customers",null,8,null,null,null,null,8,8,8,8,8]
[null,null,null,null,null,"LV Sub Generation Site Specific no RP Charge","MPANs","All the way customers",null,0,null,null,null,null,0,0,0,0,0]
[null,null,null,null,null,"HV Generation Site Specific","MPANs","All the way customers",null,255,null,null,null,null,255,255,255,255,255]
[null,null,null,null,null,"HV Generation Site Specific no RP Charge","MPANs","All the way customers",null,0,null,null,null,null,0,0,0,0,0]
[]
[null,null,null,null,"Import capacity"]
[null,null,null,null,null,"Domestic Aggregated","kVA","All the way customers"]
[null,null,null,null,null,"Domestic Aggregated (Related MPAN)","kVA","All the way customers"]
[null,null,null,null,null,"Non-Domestic Aggregated","kVA","All the way customers"]
[null,null,null,null,null,"Non-Domestic Aggregated (Related MPAN)","kVA","All the way customers"]
[null,null,null,null,null,"LV Site Specific","kVA","All the way customers",null,{"$f":"CHOOSE(year_selection, L137,M137,N137,O137,P137,Q137,R137,S137)","v":1465414},null,null,null,null,1465414,1465414,1465414,1465414,1465414]
[null,null,null,null,null,"LV Sub Site Specific","kVA","All the way customers",null,92670,null,null,null,null,92670,92670,92670,92670,92670]
[null,null,null,null,null,"HV Site Specific","kVA","All the way customers",null,1282859,null,null,null,null,1282859,1282859,1282859,1282859,1282859]
[null,null,null,null,null,"Unmetered Supplies","kVA","All the way customers"]
[null,null,null,null,null,"LV Generation Aggregated","kVA","All the way customers"]
[null,null,null,null,null,"LV Sub Generation Aggregated","kVA","All the way customers"]
[null,null,null,null,null,"LV Generation Site Specific","kVA","All the way customers"]
[null,null,null,null,null,"LV Generation Site Specific no RP Charge","kVA","All the way customers"]
[null,null,null,null,null,"LV Sub Generation Site Specific","kVA","All the way customers"]
[null,null,null,null,null,"LV Sub Generation Site Specific no RP Charge","kVA","All the way customers"]
[null,null,null,null,null,"HV Generation Site Specific","kVA","All the way customers"]
[null,null,null,null,null,"HV Generation Site Specific no RP Charge","kVA","All the way customers"]
[]
[null,null,null,null,"Exceeded capacity"]
[null,null,null,null,null,"Domestic Aggregated","kVA","All the way customers"]
[null,null,null,null,null,"Domestic Aggregated (Related MPAN)","kVA","All the way customers"]
[null,null,null,null,null,"Non-Domestic Aggregated","kVA","All the way customers"]
[null,null,null,null,null,"Non-Domestic Aggregated (Related MPAN)","kVA","All the way customers"]
[null,null,null,null,null,"LV Site Specific","kVA","All the way customers",null,{"$f":"CHOOSE(year_selection, L155,M155,N155,O155,P155,Q155,R155,S155)","v":29539.140000000003},null,null,null,null,29539.140000000003,29539.140000000003,29539.140000000003,29539.140000000003,29539.140000000003]
[null,null,null,null,null,"LV Sub Site Specific","kVA","All the way customers",null,1042.17,null,null,null,null,1042.17,1042.17,1042.17,1042.17,1042.17]
[null,null,null,null,null,"HV Site Specific","kVA","All the way customers",null,16267.89,null,null,null,null,16267.89,16267.89,16267.89,16267.89,16267.89]
[null,null,null,null,null,"Unmetered Supplies","kVA","All the way customers"]
[null,null,null,null,null,"LV Generation Aggregated","kVA","All the way customers"]
[null,null,null,null,null,"LV Sub Generation Aggregated","kVA","All the way customers"]
[null,null,null,null,null,"LV Generation Site Specific","kVA","All the way customers"]
[null,null,null,null,null,"LV Generation Site Specific no RP Charge","kVA","All the way customers"]
[null,null,null,null,null,"LV Sub Generation Site Specific","kVA","All the way customers"]
[null,null,null,null,null,"LV Sub Generation Site Specific no RP Charge","kVA","All the way customers"]
[null,null,null,null,null,"HV Generation Site Specific","kVA","All the way customers"]
[null,null,null,null,null,"HV Generation Site Specific no RP Charge","kVA","All the way customers"]
[]
[null,null,null,null,"Reactive power units"]
[null,null,null,null,null,"Domestic Aggregated","MVArh","All the way customers"]
[null,null,null,null,null,"Domestic Aggregated (Related MPAN)","MVArh","All the way customers"]
[null,null,null,null,null,"Non-Domestic Aggregated","MVArh","All the way customers"]
[null,null,null,null,null,"Non-Domestic Aggregated (Related MPAN)","MVArh","All the way customers"]
[null,null,null,null,null,"LV Site Specific","MVArh","All the way customers",null,{"$f":"CHOOSE(year_selection, L173,M173,N173,O173,P173,Q173,R173,S173)","v":241920},null,null,null,null,241920,241920,241920,241920,241920]
[null,null,null,null,null,"LV Sub Site Specific","MVArh","All the way customers",null,19020,null,null,null,null,19020,19020,19020,19020,19020]
[null,null,null,null,null,"HV Site Specific","MVArh","All the way customers",null,250200,null,null,null,null,250200,250200,250200,250200,250200]
[null,null,null,null,null,"Unmetered Supplies","MVArh","All the way customers"]
[null,null,null,null,null,"LV Generation Aggregated","MVArh","All the way customers"]
[null,null,null,null,null,"LV Sub Generation Aggregated","MVArh","All the way customers"]
[null,null,null,null,null,"LV Generation Site Specific","MVArh","All the way customers",null,{"$f":"CHOOSE(year_selection, L179,M179,N179,O179,P179,Q179,R179,S179)","v":4452},null,null,null,null,4452,4452,4452,4452,4452]
[null,null,null,null,null,"LV Generation Site Specific no RP Charge","MVArh","All the way customers"]
[null,null,null,null,null,"LV Sub Generation Site Specific","MVArh","All the way customers",null,{"$f":"CHOOSE(year_selection, L181,M181,N181,O181,P181,Q181,R181,S181)","v":408},null,null,null,null,408,408,408,408,408]
[null,null,null,null,null,"LV Sub Generation Site Specific no RP Charge","MVArh","All the way customers"]
[null,null,null,null,null,"HV Generation Site Specific","MVArh","All the way customers",null,{"$f":"CHOOSE(year_selection, L183,M183,N183,O183,P183,Q183,R183,S183)","v":16464},null,null,null,null,16464,16464,16464,16464,16464]
[null,null,null,null,null,"HV Generation Site Specific no RP Charge","MVArh","All the way customers"]
[]
[null,null,{"$f":"INDEX('Version control'!$H$34:$H$60,MATCH($A$1,'Version control'!$F$34:$F$60,0),1)&\"-D: LDNO LV volumes\"","v":"Input 501-D: LDNO LV volumes"}]
[]
[null,null,null,null,"Rate 1 units",null,null,null,">",null,null,null,null,null,null,null,null,null,null,null,"Paragraph 52"]
[null,null,null,null,null,"Domestic Aggregated","MWh","LDNO LV customers",null,{"$f":"CHOOSE(year_selection, L189,M189,N189,O189,P189,Q189,R189,S189)","v":13713.32246963591},null,null,null,null,13713.32246963591,13713.32246963591,13713.32246963591,13713.32246963591,13713.32246963591]
[null,null,null,null,null,"Domestic Aggregated (Related MPAN)","MWh","LDNO LV customers",null,1.3981029513384524,null,null,null,null,1.3981029513384524,1.3981029513384524,1.3981029513384524,1.3981029513384524,1.3981029513384524]
[null,null,null,null,null,"Non-Domestic Aggregated","MWh","LDNO LV customers",null,601.04321517970027,null,null,null,null,601.04321517970027,601.04321517970027,601.04321517970027,601.04321517970027,601.04321517970027]
[null,null,null,null,null,"Non-Domestic Aggregated (Related MPAN)","MWh","LDNO LV customers",null,0,null,null,null,null,0,0,0,0,0]
[null,null,null,null,null,"LV Site Specific","MWh","LDNO LV customers",null,1596.4649999999999,null,null,null,null,1596.4649999999999,1596.4649999999999,1596.4649999999999,1596.4649999999999,1596.4649999999999]
[null,null,null,null,null,"LV Sub Site Specific","MWh","LDNO LV customers"]
[null,null,null,null,null,"HV Site Specific","MWh","LDNO LV customers"]
[null,null,null,null,null,"Unmetered Supplies","MWh","LDNO LV customers",null,20.430032150505486,null,null,null,null,20.430032150505486,20.430032150505486,20.430032150505486,20.430032150505486,20.430032150505486]
[null,null,null,null,null,"LV Generation Aggregated","MWh","LDNO LV customers",null,0.57025605316046324,null,null,null,null,0.57025605316046324,0.57025605316046324,0.57025605316046324,0.57025605316046324,0.57025605316046324]
[null,null,null,null,null,"LV Sub Generation Aggregated","MWh","LDNO LV customers"]
[null,null,null,null,null,"LV Generation Site Specific","MWh","LDNO LV customers",null,0,null,null,null,null,0,0,0,0,0]
[null,null,null,null,null,"LV Generation Site Specific no RP Charge","MWh","LDNO LV customers"]
[null,null,null,null,null,"LV Sub Generation Site Specific","MWh","LDNO LV customers"]
[null,null,null,null,null,"LV Sub Generation Site Specific no RP Charge","MWh","LDNO LV customers"]
[null,null,null,null,null,"HV Generation Site Specific","MWh","LDNO LV customers"]
[null,null,null,null,null,"HV Generation Site Specific no RP Charge","MWh","LDNO LV customers"]
[]
[null,null,null,null,"Rate 2 units"]
[null,null,null,null,null,"Domestic Aggregated","MWh","LDNO LV customers",null,{"$f":"CHOOSE(year_selection, L207,M207,N207,O207,P207,Q207,R207,S207)","v":48809.781090218552},null,null,null,null,48809.781090218552,48809.781090218552,48809.781090218552,48809.781090218552,48809.781090218552]
[null,null,null,null,null,"Domestic Aggregated (Related MPAN)","MWh","LDNO LV customers",null,25.329659479528413,null,null,null,null,25.329659479528413,25.329659479528413,25.329659479528413,25.329659479528413,25.329659479528413]
[null,null,null,null,null,"Non-Domestic Aggregated","MWh","LDNO LV customers",null,3253.025245448257,null,null,null,null,3253.025245448257,3253.025245448257,3253.025245448257,3253.025245448257,3253.025245448257]
[null,null,null,null,null,"Non-Domestic Aggregated (Related MPAN)","MWh","LDNO LV customers",null,0,null,null,null,null,0,0,0,0,0]
[null,null,null,null,null,"LV Site Specific","MWh","LDNO LV customers",null,7155.5069999999996,null,null,null,null,7155.5069999999996,7155.5069999999996,7155.5069999999996,7155.5069999999996,7155.5069999999996]
[null,null,null,null,null,"LV Sub Site Specific","MWh","LDNO LV customers"]
[null,null,null,null,null,"HV Site Specific","MWh","LDNO LV customers"]
[null,null,null,null,null,"Unmetered Supplies","MWh","LDNO LV customers",null,{"$f":"CHOOSE(year_selection, L214,M214,N214,O214,P214,Q214,R214,S214)","v":273.96068150852608},null,null,null,null,273.96068150852608,273.96068150852608,273.96068150852608,273.96068150852608,273.96068150852608]
[null,null,null,null,null,"LV Generation Aggregated","MWh","LDNO LV customers",null,2.0830307980493821,null,null,null,null,2.0830307980493821,2.0830307980493821,2.0830307980493821,2.0830307980493821,2.0830307980493821]
[null,null,null,null,null,"LV Sub Generation Aggregated","MWh","LDNO LV customers"]
[null,null,null,null,null,"LV Generation Site Specific","MWh","LDNO LV customers",null,{"$f":"CHOOSE(year_selection, L217,M217,N217,O217,P217,Q217,R217,S217)","v":0},null,null,null,null,0,0,0,0,0]
[null,null,null,null,null,"LV Generation Site Specific no RP Charge","MWh","LDNO LV customers"]
[null,null,null,null,null,"LV Sub Generation Site Specific","MWh","LDNO LV customers"]
[null,null,null,null,null,"LV Sub Generation Site Specific no RP Charge","MWh","LDNO LV customers"]
[null,null,null,null,null,"HV Generation Site Specific","MWh","LDNO LV customers"]
[null,null,null,null,null,"HV Generation Site Specific no RP Charge","MWh","LDNO LV customers"]
[]
[null,null,null,null,"Rate 3 units"]
[null,null,null,null,null,"Domestic Aggregated","MWh","LDNO LV customers",null,{"$f":"CHOOSE(year_selection, L225,M225,N225,O225,P225,Q225,R225,S225)","v":44956.580637555373},null,null,null,null,44956.580637555373,44956.580637555373,44956.580637555373,44956.580637555373,44956.580637555373]
[null,null,null,null,null,"Domestic Aggregated (Related MPAN)","MWh","LDNO LV customers",null,257.47123756913317,null,null,null,null,257.47123756913317,257.47123756913317,257.47123756913317,257.47123756913317,257.47123756913317]
[null,null,null,null,null,"Non-Domestic Aggregated","MWh","LDNO LV customers",null,3140.330539372042,null,null,null,null,3140.330539372042,3140.330539372042,3140.330539372042,3140.330539372042,3140.330539372042]
[null,null,null,null,null,"Non-Domestic Aggregated (Related MPAN)","MWh","LDNO LV customers",null,0,null,null,null,null,0,0,0,0,0]
[null,null,null,null,null,"LV Site Specific","MWh","LDNO LV customers",null,6545.246000000001,null,null,null,null,6545.246000000001,6545.246000000001,6545.246000000001,6545.246000000001,6545.246000000001]
[null,null,null,null,null,"LV Sub Site Specific","MWh","LDNO LV customers"]
[null,null,null,null,null,"HV Site Specific","MWh","LDNO LV customers"]
[null,null,null,null,null,"Unmetered Supplies","MWh","LDNO LV customers",null,{"$f":"CHOOSE(year_selection, L232,M232,N232,O232,P232,Q232,R232,S232)","v":303.25428634096841},null,null,null,null,303.25428634096841,303.25428634096841,303.25428634096841,303.25428634096841,303.25428634096841]
[null,null,null,null,null,"LV Generation Aggregated","MWh","LDNO LV customers",null,1.9454499908954175,null,null,null,null,1.9454499908954175,1.9454499908954175,1.9454499908954175,1.9454499908954175,1.9454499908954175]
[null,null,null,null,null,"LV Sub Generation Aggregated","MWh","LDNO LV customers"]
[null,null,null,null,null,"LV Generation Site Specific","MWh","LDNO LV customers",null,{"$f":"CHOOSE(year_selection, L235,M235,N235,O235,P235,Q235,R235,S235)","v":0},null,null,null,null,0,0,0,0,0]
[null,null,null,null,null,"LV Generation Site Specific no RP Charge","MWh","LDNO LV customers"]
[null,null,null,null,null,"LV Sub Generation Site Specific","MWh","LDNO LV customers"]
[null,null,null,null,null,"LV Sub Generation Site Specific no RP Charge","MWh","LDNO LV customers"]
[null,null,null,null,null,"HV Generation Site Specific","MWh","LDNO LV customers"]
[null,null,null,null,null,"HV Generation Site Specific no RP Charge","MWh","LDNO LV customers"]
[]
[null,null,null,null,"MPANs"]
[null,null,null,null,null,"Domestic Aggregated","MPANs","LDNO LV customers",null,{"$f":"CHOOSE(year_selection, L243,M243,N243,O243,P243,Q243,R243,S243)","v":41179.93548387097},null,null,null,null,41179.93548387097,41179.93548387097,41179.93548387097,41179.93548387097,41179.93548387097]
[null,null,null,null,null,"Domestic Aggregated (Related MPAN)","MPANs","LDNO LV customers",null,67,null,null,null,null,67,67,67,67,67]
[null,null,null,null,null,"Non-Domestic Aggregated","MPANs","LDNO LV customers",null,1036.6774193548388,null,null,null,null,1036.6774193548388,1036.6774193548388,1036.6774193548388,1036.6774193548388,1036.6774193548388]
[null,null,null,null,null,"Non-Domestic Aggregated (Related MPAN)","MPANs","LDNO LV customers",null,0,null,null,null,null,0,0,0,0,0]
[null,null,null,null,null,"LV Site Specific","MPANs","LDNO LV customers",null,76,null,null,null,null,76,76,76,76,76]
[null,null,null,null,null,"LV Sub Site Specific","MPANs","LDNO LV customers"]
[null,null,null,null,null,"HV Site Specific","MPANs","LDNO LV customers"]
[null,null,null,null,null,"Unmetered Supplies","MPANs","LDNO LV customers",null,{"$f":"CHOOSE(year_selection, L250,M250,N250,O250,P250,Q250,R250,S250)","v":34},null,null,null,null,34,34,34,34,34]
[null,null,null,null,null,"LV Generation Aggregated","MPANs","LDNO LV customers",null,3,null,null,null,null,3,3,3,3,3]
[null,null,null,null,null,"LV Sub Generation Aggregated","MPANs","LDNO LV customers"]
[null,null,null,null,null,"LV Generation Site Specific","MPANs","LDNO LV customers",null,{"$f":"CHOOSE(year_selection, L253,M253,N253,O253,P253,Q253,R253,S253)","v":0},null,null,null,null,0,0,0,0,0]
[null,null,null,null,null,"LV Generation Site Specific no RP Charge","MPANs","LDNO LV customers"]
[null,null,null,null,null,"LV Sub Generation Site Specific","MPANs","LDNO LV customers"]
[null,null,null,null,null,"LV Sub Generation Site Specific no RP Charge","MPANs","LDNO LV customers"]
[null,null,null,null,null,"HV Generation Site Specific","MPANs","LDNO LV customers"]
[null,null,null,null,null,"HV Generation Site Specific no RP Charge","MPANs","LDNO LV customers"]
[]
[null,null,null,null,"Import capacity"]
[null,null,null,null,null,"Domestic Aggregated","kVA","LDNO LV customers"]
[null,null,null,null,null,"Domestic Aggregated (Related MPAN)","kVA","LDNO LV customers"]
[null,null,null,null,null,"Non-Domestic Aggregated","kVA","LDNO LV customers"]
[null,null,null,null,null,"Non-Domestic Aggregated (Related MPAN)","kVA","LDNO LV customers"]
[null,null,null,null,null,"LV Site Specific","kVA","LDNO LV customers",null,{"$f":"CHOOSE(year_selection, L265,M265,N265,O265,P265,Q265,R265,S265)","v":10403},null,null,null,null,10403,10403,10403,10403,10403]
[null,null,null,null,null,"LV Sub Site Specific","kVA","LDNO LV customers"]
[null,null,null,null,null,"HV Site Specific","kVA","LDNO LV customers"]
[null,null,null,null,null,"Unmetered Supplies","kVA","LDNO LV customers"]
[null,null,null,null,null,"LV Generation Aggregated","kVA","LDNO LV customers"]
[null,null,null,null,null,"LV Sub Generation Aggregated","kVA","LDNO LV customers"]
[null,null,null,null,null,"LV Generation Site Specific","kVA","LDNO LV customers"]
[null,null,null,null,null,"LV Generation Site Specific no RP Charge","kVA","LDNO LV customers"]
[null,null,null,null,null,"LV Sub Generation Site Specific","kVA","LDNO LV customers"]
[null,null,null,null,null,"LV Sub Generation Site Specific no RP Charge","kVA","LDNO LV customers"]
[null,null,null,null,null,"HV Generation Site Specific","kVA","LDNO LV customers"]
[null,null,null,null,null,"HV Generation Site Specific no RP Charge","kVA","LDNO LV customers"]
[]
[null,null,null,null,"Exceeded capacity"]
[null,null,null,null,null,"Domestic Aggregated","kVA","LDNO LV customers"]
[null,null,null,null,null,"Domestic Aggregated (Related MPAN)","kVA","LDNO LV customers"]
[null,null,null,null,null,"Non-Domestic Aggregated","kVA","LDNO LV customers"]
[null,null,null,null,null,"Non-Domestic Aggregated (Related MPAN)","kVA","LDNO LV customers"]
[null,null,null,null,null,"LV Site Specific","kVA","LDNO LV customers",null,{"$f":"CHOOSE(year_selection, L283,M283,N283,O283,P283,Q283,R283,S283)","v":41.612000000000002},null,null,null,null,41.612000000000002,41.612000000000002,41.612000000000002,41.612000000000002,41.612000000000002]
[null,null,null,null,null,"LV Sub Site Specific","kVA","LDNO LV customers"]
[null,null,null,null,null,"HV Site Specific","kVA","LDNO LV customers"]
[null,null,null,null,null,"Unmetered Supplies","kVA","LDNO LV customers"]
[null,null,null,null,null,"LV Generation Aggregated","kVA","LDNO LV customers"]
[null,null,null,null,null,"LV Sub Generation Aggregated","kVA","LDNO LV customers"]
[null,null,null,null,null,"LV Generation Site Specific","kVA","LDNO LV customers"]
[null,null,null,null,null,"LV Generation Site Specific no RP Charge","kVA","LDNO LV customers"]
[null,null,null,null,null,"LV Sub Generation Site Specific","kVA","LDNO LV customers"]
[null,null,null,null,null,"LV Sub Generation Site Specific no RP Charge","kVA","LDNO LV customers"]
[null,null,null,null,null,"HV Generation Site Specific","kVA","LDNO LV customers"]
[null,null,null,null,null,"HV Generation Site Specific no RP Charge","kVA","LDNO LV customers"]
[]
[null,null,null,null,"Reactive power units"]
[null,null,null,null,null,"Domestic Aggregated","MVArh","LDNO LV customers"]
[null,null,null,null,null,"Domestic Aggregated (Related MPAN)","MVArh","LDNO LV customers"]
[null,null,null,null,null,"Non-Domestic Aggregated","MVArh","LDNO LV customers"]
[null,null,null,null,null,"Non-Domestic Aggregated (Related MPAN)","MVArh","LDNO LV customers"]
[null,null,null,null,null,"LV Site Specific","MVArh","LDNO LV customers",null,{"$f":"CHOOSE(year_selection, L301,M301,N301,O301,P301,Q301,R301,S301)","v":936},null,null,null,null,936,936,936,936,936]
[null,null,null,null,null,"LV Sub Site Specific","MVArh","LDNO LV customers"]
[null,null,null,null,null,"HV Site Specific","MVArh","LDNO LV customers"]
[null,null,null,null,null,"Unmetered Supplies","MVArh","LDNO LV customers"]
[null,null,null,null,null,"LV Generation Aggregated","MVArh","LDNO LV customers"]
[null,null,null,null,null,"LV Sub Generation Aggregated","MVArh","LDNO LV customers"]
[null,null,null,null,null,"LV Generation Site Specific","MVArh","LDNO LV customers",null,{"$f":"CHOOSE(year_selection, L307,M307,N307,O307,P307,Q307,R307,S307)","v":0},null,null,null,null,0,0,0,0,0]
[null,null,null,null,null,"LV Generation Site Specific no RP Charge","MVArh","LDNO LV customers"]
[null,null,null,null,null,"LV Sub Generation Site Specific","MVArh","LDNO LV customers"]
[null,null,null,null,null,"LV Sub Generation Site Specific no RP Charge","MVArh","LDNO LV customers"]
[null,null,null,null,null,"HV Generation Site Specific","MVArh","LDNO LV customers"]
[null,null,null,null,null,"HV Generation Site Specific no RP Charge","MVArh","LDNO LV customers"]
[]
[null,null,{"$f":"INDEX('Version control'!$H$34:$H$60,MATCH($A$1,'Version control'!$F$34:$F$60,0),1)&\"-E: LDNO HV volumes\"","v":"Input 501-E: LDNO HV volumes"}]
[]
[null,null,null,null,"Rate 1 units",null,null,null,">",null,null,null,null,null,null,null,null,null,null,null,"Paragraph 52"]
[null,null,null,null,null,"Domestic Aggregated","MWh","LDNO HV customers",null,{"$f":"CHOOSE(year_selection, L317,M317,N317,O317,P317,Q317,R317,S317)","v":20104.099696926573},null,null,null,null,20104.099696926573,20104.099696926573,20104.099696926573,20104.099696926573,20104.099696926573]
[null,null,null,null,null,"Domestic Aggregated (Related MPAN)","MWh","LDNO HV customers",null,2.0480897481131533,null,null,null,null,2.0480897481131533,2.0480897481131533,2.0480897481131533,2.0480897481131533,2.0480897481131533]
[null,null,null,null,null,"Non-Domestic Aggregated","MWh","LDNO HV customers",null,2081.7354094794059,null,null,null,null,2081.7354094794059,2081.7354094794059,2081.7354094794059,2081.7354094794059,2081.7354094794059]
[null,null,null,null,null,"Non-Domestic Aggregated (Related MPAN)","MWh","LDNO HV customers",null,0,null,null,null,null,0,0,0,0,0]
[null,null,null,null,null,"LV Site Specific","MWh","LDNO HV customers",null,13322.004999999999,null,null,null,null,13322.004999999999,13322.004999999999,13322.004999999999,13322.004999999999,13322.004999999999]
[null,null,null,null,null,"LV Sub Site Specific","MWh","LDNO HV customers",null,2210.538,null,null,null,null,2210.538,2210.538,2210.538,2210.538,2210.538]
[null,null,null,null,null,"HV Site Specific","MWh","LDNO HV customers",null,5129.4559999999992,null,null,null,null,5129.4559999999992,5129.4559999999992,5129.4559999999992,5129.4559999999992,5129.4559999999992]
[null,null,null,null,null,"Unmetered Supplies","MWh","LDNO HV customers",null,30.879361230900383,null,null,null,null,30.879361230900383,30.879361230900383,30.879361230900383,30.879361230900383,30.879361230900383]
[null,null,null,null,null,"LV Generation Aggregated","MWh","LDNO HV customers",null,0.25597879022110009,null,null,null,null,0.25597879022110009,0.25597879022110009,0.25597879022110009,0.25597879022110009,0.25597879022110009]
[null,null,null,null,null,"LV Sub Generation Aggregated","MWh","LDNO HV customers",null,0,null,null,null,null,0,0,0,0,0]
[null,null,null,null,null,"LV Generation Site Specific","MWh","LDNO HV customers",null,0,null,null,null,null,0,0,0,0,0]
[null,null,null,null,null,"LV Generation Site Specific no RP Charge","MWh","LDNO HV customers"]
[null,null,null,null,null,"LV Sub Generation Site Specific","MWh","LDNO HV customers",null,0,null,null,null,null,0,0,0,0,0]
[null,null,null,null,null,"LV Sub Generation Site Specific no RP Charge","MWh","LDNO HV customers"]
[null,null,null,null,null,"HV Generation Site Specific","MWh","LDNO HV customers",null,0,null,null,null,null,0,0,0,0,0]
[null,null,null,null,null,"HV Generation Site Specific no RP Charge","MWh","LDNO HV customers"]
[]
[null,null,null,null,"Rate 2 units"]
[null,null,null,null,null,"Domestic Aggregated","MWh","LDNO HV customers",null,{"$f":"CHOOSE(year_selection, L335,M335,N335,O335,P335,Q335,R335,S335)","v":71593.395504093525},null,null,null,null,71593.395504093525,71593.395504093525,71593.395504093525,71593.395504093525,71593.395504093525]
[null,null,null,null,null,"Domestic Aggregated (Related MPAN)","MWh","LDNO HV customers",null,37.263746671521595,null,null,null,null,37.263746671521595,37.263746671521595,37.263746671521595,37.263746671521595,37.263746671521595]
[null,null,null,null,null,"Non-Domestic Aggregated","MWh","LDNO HV customers",null,11268.104540991542,null,null,null,null,11268.104540991542,11268.104540991542,11268.104540991542,11268.104540991542,11268.104540991542]
[null,null,null,null,null,"Non-Domestic Aggregated (Related MPAN)","MWh","LDNO HV customers",null,0,null,null,null,null,0,0,0,0,0]
[null,null,null,null,null,"LV Site Specific","MWh","LDNO HV customers",null,59210.165999999997,null,null,null,null,59210.165999999997,59210.165999999997,59210.165999999997,59210.165999999997,59210.165999999997]
[null,null,null,null,null,"LV Sub Site Specific","MWh","LDNO HV customers",null,9690.4299999999985,null,null,null,null,9690.4299999999985,9690.4299999999985,9690.4299999999985,9690.4299999999985,9690.4299999999985]
[null,null,null,null,null,"HV Site Specific","MWh","LDNO HV customers",null,23108.695,null,null,null,null,23108.695,23108.695,23108.695,23108.695,23108.695]
[null,null,null,null,null,"Unmetered Supplies","MWh","LDNO HV customers",null,425.49872061278865,null,null,null,null,425.49872061278865,425.49872061278865,425.49872061278865,425.49872061278865,425.49872061278865]
[null,null,null,null,null,"LV Generation Aggregated","MWh","LDNO HV customers",null,0.94265200118290493,null,null,null,null,0.94265200118290493,0.94265200118290493,0.94265200118290493,0.94265200118290493,0.94265200118290493]
[null,null,null,null,null,"LV Sub Generation Aggregated","MWh","LDNO HV customers",null,0,null,null,null,null,0,0,0,0,0]
[null,null,null,null,null,"LV Generation Site Specific","MWh","LDNO HV customers",null,0,null,null,null,null,0,0,0,0,0]
[null,null,null,null,null,"LV Generation Site Specific no RP Charge","MWh","LDNO HV customers"]
[null,null,null,null,null,"LV Sub Generation Site Specific","MWh","LDNO HV customers",null,{"$f":"CHOOSE(year_selection, L347,M347,N347,O347,P347,Q347,R347,S347)","v":0},null,null,null,null,0,0,0,0,0]
[null,null,null,null,null,"LV Sub Generation Site Specific no RP Charge","MWh","LDNO HV customers"]
[null,null,null,null,null,"HV Generation Site Specific","MWh","LDNO HV customers",null,{"$f":"CHOOSE(year_selection, L349,M349,N349,O349,P349,Q349,R349,S349)","v":0},null,null,null,null,0,0,0,0,0]
[null,null,null,null,null,"HV Generation Site Specific no RP Charge","MWh","LDNO HV customers"]
[]
[null,null,null,null,"Rate 3 units"]
[null,null,null,null,null,"Domestic Aggregated","MWh","LDNO HV customers",null,{"$f":"CHOOSE(year_selection, L353,M353,N353,O353,P353,Q353,R353,S353)","v":65951.865798979896},null,null,null,null,65951.865798979896,65951.865798979896,65951.865798979896,65951.865798979896,65951.865798979896]
[null,null,null,null,null,"Domestic Aggregated (Related MPAN)","MWh","LDNO HV customers",null,378.23816358036527,null,null,null,null,378.23816358036527,378.23816358036527,378.23816358036527,378.23816358036527,378.23816358036527]
[null,null,null,null,null,"Non-Domestic Aggregated","MWh","LDNO HV customers",null,10881.052049529049,null,null,null,null,10881.052049529049,10881.052049529049,10881.052049529049,10881.052049529049,10881.052049529049]
[null,null,null,null,null,"Non-Domestic Aggregated (Related MPAN)","MWh","LDNO HV customers",null,0,null,null,null,null,0,0,0,0,0]
[null,null,null,null,null,"LV Site Specific","MWh","LDNO HV customers",null,50706.112000000001,null,null,null,null,50706.112000000001,50706.112000000001,50706.112000000001,50706.112000000001,50706.112000000001]
[null,null,null,null,null,"LV Sub Site Specific","MWh","LDNO HV customers",null,8312.2019999999993,null,null,null,null,8312.2019999999993,8312.2019999999993,8312.2019999999993,8312.2019999999993,8312.2019999999993]
[null,null,null,null,null,"HV Site Specific","MWh","LDNO HV customers",null,25303.565000000002,null,null,null,null,25303.565000000002,25303.565000000002,25303.565000000002,25303.565000000002,25303.565000000002]
[null,null,null,null,null,"Unmetered Supplies","MWh","LDNO HV customers",null,470.53235815631092,null,null,null,null,470.53235815631092,470.53235815631092,470.53235815631092,470.53235815631092,470.53235815631092]
[null,null,null,null,null,"LV Generation Aggregated","MWh","LDNO HV customers",null,0.86715492288170914,null,null,null,null,0.86715492288170914,0.86715492288170914,0.86715492288170914,0.86715492288170914,0.86715492288170914]
[null,null,null,null,null,"LV Sub Generation Aggregated","MWh","LDNO HV customers",null,0,null,null,null,null,0,0,0,0,0]
[null,null,null,null,null,"LV Generation Site Specific","MWh","LDNO HV customers",null,0,null,null,null,null,0,0,0,0,0]
[null,null,null,null,null,"LV Generation Site Specific no RP Charge","MWh","LDNO HV customers"]
[null,null,null,null,null,"LV Sub Generation Site Specific","MWh","LDNO HV customers",null,{"$f":"CHOOSE(year_selection, L365,M365,N365,O365,P365,Q365,R365,S365)","v":0},null,null,null,null,0,0,0,0,0]
[null,null,null,null,null,"LV Sub Generation Site Specific no RP Charge","MWh","LDNO HV customers"]
[null,null,null,null,null,"HV Generation Site Specific","MWh","LDNO HV customers",null,{"$f":"CHOOSE(year_selection, L367,M367,N367,O367,P367,Q367,R367,S367)","v":0},null,null,null,null,0,0,0,0,0]
[null,null,null,null,null,"HV Generation Site Specific no RP Charge","MWh","LDNO HV customers"]
[]
[null,null,null,null,"MPANs"]
[null,null,null,null,null,"Domestic Aggregated","MPANs","LDNO HV customers",null,{"$f":"CHOOSE(year_selection, L371,M371,N371,O371,P371,Q371,R371,S371)","v":58740.548387096773},null,null,null,null,58740.548387096773,58740.548387096773,58740.548387096773,58740.548387096773,58740.548387096773]
[null,null,null,null,null,"Domestic Aggregated (Related MPAN)","MPANs","LDNO HV customers",null,78.451612903225808,null,null,null,null,78.451612903225808,78.451612903225808,78.451612903225808,78.451612903225808,78.451612903225808]
[null,null,null,null,null,"Non-Domestic Aggregated","MPANs","LDNO HV customers",null,1509.8709677419354,null,null,null,null,1509.8709677419354,1509.8709677419354,1509.8709677419354,1509.8709677419354,1509.8709677419354]
[null,null,null,null,null,"Non-Domestic Aggregated (Related MPAN)","MPANs","LDNO HV customers",null,0,null,null,null,null,0,0,0,0,0]
[null,null,null,null,null,"LV Site Specific","MPANs","LDNO HV customers",null,381,null,null,null,null,381,381,381,381,381]
[null,null,null,null,null,"LV Sub Site Specific","MPANs","LDNO HV customers",null,26,null,null,null,null,26,26,26,26,26]
[null,null,null,null,null,"HV Site Specific","MPANs","LDNO HV customers",null,30,null,null,null,null,30,30,30,30,30]
[null,null,null,null,null,"Unmetered Supplies","MPANs","LDNO HV customers",null,46,null,null,null,null,46,46,46,46,46]
[null,null,null,null,null,"LV Generation Aggregated","MPANs","LDNO HV customers",null,5,null,null,null,null,5,5,5,5,5]
[null,null,null,null,null,"LV Sub Generation Aggregated","MPANs","LDNO HV customers",null,0,null,null,null,null,0,0,0,0,0]
[null,null,null,null,null,"LV Generation Site Specific","MPANs","LDNO HV customers",null,0,null,null,null,null,0,0,0,0,0]
[null,null,null,null,null,"LV Generation Site Specific no RP Charge","MPANs","LDNO HV customers"]
[null,null,null,null,null,"LV Sub Generation Site Specific","MPANs","LDNO HV customers",null,{"$f":"CHOOSE(year_selection, L383,M383,N383,O383,P383,Q383,R383,S383)","v":0},null,null,null,null,0,0,0,0,0]
[null,null,null,null,null,"LV Sub Generation Site Specific no RP Charge","MPANs","LDNO HV customers"]
[null,null,null,null,null,"HV Generation Site Specific","MPANs","LDNO HV customers",null,{"$f":"CHOOSE(year_selection, L385,M385,N385,O385,P385,Q385,R385,S385)","v":0},null,null,null,null,0,0,0,0,0]
[null,null,null,null,null,"HV Generation Site Specific no RP Charge","MPANs","LDNO HV customers"]
[]
[null,null,null,null,"Import capacity"]
[null,null,null,null,null,"Domestic Aggregated","kVA","LDNO HV customers"]
[null,null,null,null,null,"Domestic Aggregated (Related MPAN)","kVA","LDNO HV customers"]
[null,null,null,null,null,"Non-Domestic Aggregated","kVA","LDNO HV customers"]
[null,null,null,null,null,"Non-Domestic Aggregated (Related MPAN)","kVA","LDNO HV customers"]
[null,null,null,null,null,"LV Site Specific","kVA","LDNO HV customers",null,{"$f":"CHOOSE(year_selection, L393,M393,N393,O393,P393,Q393,R393,S393)","v":87614},null,null,null,null,87614,87614,87614,87614,87614]
[null,null,null,null,null,"LV Sub Site Specific","kVA","LDNO HV customers",null,13995,null,null,null,null,13995,13995,13995,13995,13995]
[null,null,null,null,null,"HV Site Specific","kVA","LDNO HV customers",null,28618,null,null,null,null,28618,28618,28618,28618,28618]
[null,null,null,null,null,"Unmetered Supplies","kVA","LDNO HV customers"]
[null,null,null,null,null,"LV Generation Aggregated","kVA","LDNO HV customers"]
[null,null,null,null,null,"LV Sub Generation Aggregated","kVA","LDNO HV customers"]
[null,null,null,null,null,"LV Generation Site Specific","kVA","LDNO HV customers"]
[null,null,null,null,null,"LV Generation Site Specific no RP Charge","kVA","LDNO HV customers"]
[null,null,null,null,null,"LV Sub Generation Site Specific","kVA","LDNO HV customers"]
[null,null,null,null,null,"LV Sub Generation Site Specific no RP Charge","kVA","LDNO HV customers"]
[null,null,null,null,null,"HV Generation Site Specific","kVA","LDNO HV customers"]
[null,null,null,null,null,"HV Generation Site Specific no RP Charge","kVA","LDNO HV customers"]
[]
[null,null,null,null,"Exceeded capacity"]
[null,null,null,null,null,"Domestic Aggregated","kVA","LDNO HV customers"]
[null,null,null,null,null,"Domestic Aggregated (Related MPAN)","kVA","LDNO HV customers"]
[null,null,null,null,null,"Non-Domestic Aggregated","kVA","LDNO HV customers"]
[null,null,null,null,null,"Non-Domestic Aggregated (Related MPAN)","kVA","LDNO HV customers"]
[null,null,null,null,null,"LV Site Specific","kVA","LDNO HV customers",null,{"$f":"CHOOSE(year_selection, L411,M411,N411,O411,P411,Q411,R411,S411)","v":175.22800000000001},null,null,null,null,175.22800000000001,175.22800000000001,175.22800000000001,175.22800000000001,175.22800000000001]
[null,null,null,null,null,"LV Sub Site Specific","kVA","LDNO HV customers",null,0,null,null,null,null,0,0,0,0,0]
[null,null,null,null,null,"HV Site Specific","kVA","LDNO HV customers",null,14.309000000000001,null,null,null,null,14.309000000000001,14.309000000000001,14.309000000000001,14.309000000000001,14.309000000000001]
[null,null,null,null,null,"Unmetered Supplies","kVA","LDNO HV customers"]
[null,null,null,null,null,"LV Generation Aggregated","kVA","LDNO HV customers"]
[null,null,null,null,null,"LV Sub Generation Aggregated","kVA","LDNO HV customers"]
[null,null,null,null,null,"LV Generation Site Specific","kVA","LDNO HV customers"]
[null,null,null,null,null,"LV Generation Site Specific no RP Charge","kVA","LDNO HV customers"]
[null,null,null,null,null,"LV Sub Generation Site Specific","kVA","LDNO HV customers"]
[null,null,null,null,null,"LV Sub Generation Site Specific no RP Charge","kVA","LDNO HV customers"]
[null,null,null,null,null,"HV Generation Site Specific","kVA","LDNO HV customers"]
[null,null,null,null,null,"HV Generation Site Specific no RP Charge","kVA","LDNO HV customers"]
[]
[null,null,null,null,"Reactive power units"]
[null,null,null,null,null,"Domestic Aggregated","MVArh","LDNO HV customers"]
[null,null,null,null,null,"Domestic Aggregated (Related MPAN)","MVArh","LDNO HV customers"]
[null,null,null,null,null,"Non-Domestic Aggregated","MVArh","LDNO HV customers"]
[null,null,null,null,null,"Non-Domestic Aggregated (Related MPAN)","MVArh","LDNO HV customers"]
[null,null,null,null,null,"LV Site Specific","MVArh","LDNO HV customers",null,{"$f":"CHOOSE(year_selection, L429,M429,N429,O429,P429,Q429,R429,S429)","v":9000},null,null,null,null,9000,9000,9000,9000,9000]
[null,null,null,null,null,"LV Sub Site Specific","MVArh","LDNO HV customers",null,1320,null,null,null,null,1320,1320,1320,1320,1320]
[null,null,null,null,null,"HV Site Specific","MVArh","LDNO HV customers",null,1908,null,null,null,null,1908,1908,1908,1908,1908]
[null,null,null,null,null,"Unmetered Supplies","MVArh","LDNO HV customers"]
[null,null,null,null,null,"LV Generation Aggregated","MVArh","LDNO HV customers"]
[null,null,null,null,null,"LV Sub Generation Aggregated","MVArh","LDNO HV customers"]
[null,null,null,null,null,"LV Generation Site Specific","MVArh","LDNO HV customers",null,{"$f":"CHOOSE(year_selection, L435,M435,N435,O435,P435,Q435,R435,S435)","v":0},null,null,null,null,0,0,0,0,0]
[null,null,null,null,null,"LV Generation Site Specific no RP Charge","MVArh","LDNO HV customers"]
[null,null,null,null,null,"LV Sub Generation Site Specific","MVArh","LDNO HV customers",null,{"$f":"CHOOSE(year_selection, L437,M437,N437,O437,P437,Q437,R437,S437)","v":0},null,null,null,null,0,0,0,0,0]
[null,null,null,null,null,"LV Sub Generation Site Specific no RP Charge","MVArh","LDNO HV customers"]
[null,null,null,null,null,"HV Generation Site Specific","MVArh","LDNO HV customers",null,{"$f":"CHOOSE(year_selection, L439,M439,N439,O439,P439,Q439,R439,S439)","v":0},null,null,null,null,0,0,0,0,0]
[null,null,null,null,null,"HV Generation Site Specific no RP Charge","MVArh","LDNO HV customers"]
[]
[null,null,{"$f":"INDEX('Version control'!$H$34:$H$60,MATCH($A$1,'Version control'!$F$34:$F$60,0),1)&\"-F: 'Designated Property' MPANs with EDCM-level LDNO boundaries\"","v":"Input 501-F: 'Designated Property' MPANs with EDCM-level LDNO boundaries"}]
[]
[null,null,null,null,"Designated Property' MPANs with EDCM-level LDNO boundaries",null,null,null,">",null,null,null,null,null,null,null,null,null,null,null,"Paragraphs 53A, 53B, 101 and 102"]
[null,null,null,null,null,"Domestic Aggregated","£ per MPAN",null,null,{"$f":"CHOOSE(year_selection, L445,M445,N445,O445,P445,Q445,R445,S445)","v":3083},null,null,null,null,3083,3083,3083,3083,3083]
[null,null,null,null,null,"Domestic Aggregated (Related MPAN)","£ per MPAN",null,null,0,null,null,null,null,0,0,0,0,0]
[null,null,null,null,null,"Non-Domestic Aggregated","£ per MPAN",null,null,42,null,null,null,null,42,42,42,42,42]
[null,null,null,null,null,"Non-Domestic Aggregated (Related MPAN)","£ per MPAN",null,null,0,null,null,null,null,0,0,0,0,0]
[null,null,null,null,null,"LV Site Specific","£ per MPAN",null,null,18,null,null,null,null,18,18,18,18,18]
[null,null,null,null,null,"LV Sub Site Specific","£ per MPAN",null,null,0,null,null,null,null,0,0,0,0,0]
[null,null,null,null,null,"HV Site Specific","£ per MPAN",null,null,4,null,null,null,null,4,4,4,4,4]
[null,null,null,null,null,"Unmetered Supplies","£ per MPAN",null,null,0,null,null,null,null,0,0,0,0,0]
[null,null,null,null,null,"LV Generation Aggregated","£ per MPAN",null,null,0,null,null,null,null,0,0,0,0,0]
[null,null,null,null,null,"LV Sub Generation Aggregated","£ per MPAN",null,null,0,null,null,null,null,0,0,0,0,0]
[null,null,null,null,null,"LV Generation Site Specific","£ per MPAN",null,null,0,null,null,null,null,0,0,0,0,0]
[null,null,null,null,null,"LV Generation Site Specific no RP Charge","£ per MPAN",null,null,0,null,null,null,null,0,0,0,0,0]
[null,null,null,null,null,"LV Sub Generation Site Specific","£ per MPAN",null,null,0,null,null,null,null,0,0,0,0,0]
[null,null,null,null,null,"LV Sub Generation Site Specific no RP Charge","£ per MPAN",null,null,0,null,null,null,null,0,0,0,0,0]
[null,null,null,null,null,"HV Generation Site Specific","£ per MPAN",null,null,0,null,null,null,null,0,0,0,0,0]
[null,null,null,null,null,"HV Generation Site Specific no RP Charge","£ per MPAN",null,null,0,null,null,null,null,0,0,0,0,0]
[]
[null,"Service model asset values"]
[]
[null,null,"Service model costs should be entered per customer or per MWh for unmetered customers",null,null,null,null,null,">",null,null,null,null,null,null,null,null,null,null,null,"Paragraphs 32 to 37"]
[]
[null,null,{"$f":"INDEX('Version control'!$H$34:$H$60,MATCH($A$1,'Version control'!$F$34:$F$60,0),1)&\"-G: LV customer service model asset values\"","v":"Input 501-G: LV customer service model asset values"}]
[]
[null,null,null,null,"LV customer service model asset values"]
[null,null,null,null,null,"Domestic Aggregated","£ per MPAN",null,null,{"$f":"CHOOSE(year_selection, L469,M469,N469,O469,P469,Q469,R469,S469)","v":377.70000000000005},null,null,null,null,377.70000000000005,377.70000000000005,377.70000000000005,377.70000000000005,377.70000000000005]
[null,null,null,null,null,"Domestic Aggregated (Related MPAN)","£ per MPAN"]
[null,null,null,null,null,"Non-Domestic Aggregated","£ per MPAN",null,null,{"$f":"CHOOSE(year_selection, L471,M471,N471,O471,P471,Q471,R471,S471)","v":508.75},null,null,null,null,508.75,508.75,508.75,508.75,508.75]
[null,null,null,null,null,"Non-Domestic Aggregated (Related MPAN)","£ per MPAN"]
[null,null,null,null,null,"LV Site Specific","£ per MPAN",null,null,{"$f":"CHOOSE(year_selection, L473,M473,N473,O473,P473,Q473,R473,S473)","v":2380},null,null,null,null,2380,2380,2380,2380,2380]
[null,null,null,null,null,"LV Sub Site Specific","£ per MPAN",null,null,840,null,null,null,null,840,840,840,840,840]
[null,null,null,null,null,"HV Site Specific","£ per MPAN"]
[null,null,null,null,null,"Unmetered Supplies","£ per MPAN"]
[null,null,null,null,null,"LV Generation Aggregated","£ per MPAN",null,null,{"$f":"CHOOSE(year_selection, L477,M477,N477,O477,P477,Q477,R477,S477)","v":0},null,null,null,null,0,0,0,0,0]
[null,null,null,null,null,"LV Sub Generation Aggregated","£ per MPAN",null,null,0,null,null,null,null,0,0,0,0,0]
[null,null,null,null,null,"LV Generation Site Specific","£ per MPAN",null,null,0,null,null,null,null,0,0,0,0,0]
[null,null,null,null,null,"LV Generation Site Specific no RP Charge","£ per MPAN",null,null,0,null,null,null,null,0,0,0,0,0]
[null,null,null,null,null,"LV Sub Generation Site Specific","£ per MPAN",null,null,0,null,null,null,null,0,0,0,0,0]
[null,null,null,null,null,"LV Sub Generation Site Specific no RP Charge","£ per MPAN",null,null,{"$f":"CHOOSE(year_selection, L482,M482,N482,O482,P482,Q482,R482,S482)","v":0},null,null,null,null,0,0,0,0,0]
[null,null,null,null,null,"HV Generation Site Specific","£ per MPAN"]
[null,null,null,null,null,"HV Generation Site Specific no RP Charge","£ per MPAN"]
[]
[null,null,{"$f":"INDEX('Version control'!$H$34:$H$60,MATCH($A$1,'Version control'!$F$34:$F$60,0),1)&\"-H: HV customer service model asset values\"","v":"Input 501-H: HV customer service model asset values"}]
[]
[null,null,null,null,"HV customer service model asset values"]
[null,null,null,null,null,"Domestic Aggregated","£ per MPAN"]
[null,null,null,null,null,"Domestic Aggregated (Related MPAN)","£ per MPAN"]
[null,null,null,null,null,"Non-Domestic Aggregated","£ per MPAN"]
[null,null,null,null,null,"Non-Domestic Aggregated (Related MPAN)","£ per MPAN"]
[null,null,null,null,null,"LV Site Specific","£ per MPAN"]
[null,null,null,null,null,"LV Sub Site Specific","£ per MPAN"]
[null,null,null,null,null,"HV Site Specific","£ per MPAN",null,null,{"$f":"CHOOSE(year_selection, L495,M495,N495,O495,P495,Q495,R495,S495)","v":12718.10554},null,null,null,null,12718.10554,12718.10554,12718.10554,12718.10554,12718.10554]
[null,null,null,null,null,"Unmetered Supplies","£ per MPAN"]
[null,null,null,null,null,"LV Generation Aggregated","£ per MPAN"]
[null,null,null,null,null,"LV Sub Generation Aggregated","£ per MPAN"]
[null,null,null,null,null,"LV Generation Site Specific","£ per MPAN"]
[null,null,null,null,null,"LV Generation Site Specific no RP Charge","£ per MPAN"]
[null,null,null,null,null,"LV Sub Generation Site Specific","£ per MPAN"]
[null,null,null,null,null,"LV Sub Generation Site Specific no RP Charge","£ per MPAN"]
[null,null,null,null,null,"HV Generation Site Specific","£ per MPAN",null,null,{"$f":"CHOOSE(year_selection, L503,M503,N503,O503,P503,Q503,R503,S503)","v":9287},null,null,null,null,9287,9287,9287,9287,9287]
[null,null,null,null,null,"HV Generation Site Specific no RP Charge","£ per MPAN",null,null,{"$f":"CHOOSE(year_selection, L504,M504,N504,O504,P504,Q504,R504,S504)","v":9287},null,null,null,null,9287,9287,9287,9287,9287]
[]
[null,null,{"$f":"INDEX('Version control'!$H$34:$H$60,MATCH($A$1,'Version control'!$F$34:$F$60,0),1)&\"-I: LV UMS customer service model asset values\"","v":"Input 501-I: LV UMS customer service model asset values"}]
[]
[null,null,null,null,"LV UMS customer service model asset values",null,null,null,">",null,null,null,null,null,null,null,null,null,null,null,"Paragraph 36"]
[null,null,null,null,null,"Domestic Aggregated","£/MWh/year"]
[null,null,null,null,null,"Domestic Aggregated (Related MPAN)","£/MWh/year"]
[null,null,null,null,null,"Non-Domestic Aggregated","£/MWh/year"]
[null,null,null,null,null,"Non-Domestic Aggregated (Related MPAN)","£/MWh/year"]
[null,null,null,null,null,"LV Site Specific","£/MWh/year"]
[null,null,null,null,null,"LV Sub Site Specific","£/MWh/year"]
[null,null,null,null,null,"HV Site Specific","£/MWh/year"]
[null,null,null,null,null,"Unmetered Supplies","£/MWh/year",null,null,{"$f":"CHOOSE(year_selection, L516,M516,N516,O516,P516,Q516,R516,S516)","v":120.51},null,null,null,null,120.51,120.51,120.51,120.51,120.51]
[null,null,null,null,null,"LV Generation Aggregated","£/MWh/year"]
[null,null,null,null,null,"LV Sub Generation Aggregated","£/MWh/year"]
[null,null,null,null,null,"LV Generation Site Specific","£/MWh/year"]
[null,null,null,null,null,"LV Generation Site Specific no RP Charge","£/MWh/year"]
[null,null,null,null,null,"LV Sub Generation Site Specific","£/MWh/year"]
[null,null,null,null,null,"LV Sub Generation Site Specific no RP Charge","£/MWh/year"]
[null,null,null,null,null,"HV Generation Site Specific","£/MWh/year"]
[null,null,null,null,null,"HV Generation Site Specific no RP Charge","£/MWh/year"]
[]
[null,"Checks"]
[]
[null,null,null,null,"Check for error values",null,"number of issues",{"$f":"SUM(IF(ISERROR(H19:S525), 1))","v":0}]
[]
[null,null,null,null,"Summary of checks",null,"number of issues",{"$f":"SUM(H528)","v":0}]
[]
[null,"End of sheet"]

{"sheet":"ARP_Inputs by network level","index":11,"n_rows":220,"n_cols":21,"rows_kept":220,"cut":false,"hidden":false,"merged":[]}
[{"$f":"MID(CELL(\"filename\",A1),FIND(\"]\",CELL(\"filename\",A1))+1,255)","v":"ARP_Inputs by network level"}]
[{"$f":"Cover!D21&\" - \"&Cover!D23","v":"SP Distribution - One"}]
[{"$f":"Cover!D2&\" - \"&Cover!D8&\" v\"&Cover!D10&\" - \"&Cover!D19","v":"ARP model - Release for charge setting v5 - 2021/22"}]
[{"$f":"H218 & IF(H218 = 1, \" issue\", \" issues\") &\" identified in checks on this sheet\"","v":"0 issues identified in checks on this sheet"}]
[null,null,null,null,null,null,null,null,null,{"$f":"\"Year selected (\"& charging_year_selected &\")\"","v":"Year selected (2021/22)"},null,{"$f":"TRANSPOSE('ARP_User control'!G28:H35)","v":"2018/19"},"2019/20","2020/21","2021/22","2022/23","2023/24","2024/25","2025/26"]
[null,"Click here to return to model map",null,null,null,null,"Units","Constants",null,{"$f":"'ARP_User control'!$H$36","v":"Current"},null,"Historic","Historic","Historic","Current","Forecast","Forecast","Forecast","Forecast",null,"Legal text reference"]
[]
[null,"Description"]
[]
[null,null,"This sheet sets out inputs by network level and by year."]
[null,null,"DNOs should populate the inputs for the charging year and the four following years."]
[null,null,"DNOs can also populate the three years preceding the charging year, but are not obliged to do so. "]
[]
[null,"Inputs by network level"]
[]
[null,null,{"$f":"INDEX('Version control'!$H$34:$H$60,MATCH($A$1,'Version control'!$F$34:$F$60,0),1)&\"-A: Diversity allowance between top and bottom of network level\"","v":"Input 502-A: Diversity allowance between top and bottom of network level"}]
[]
[null,null,null,null,"Diversity allowance between top and bottom of network level",null,null,null,">",null,null,null,null,null,null,null,null,null,null,null,"Paragraphs 26 to 28"]
[null,null,null,null,null,"Transmission exit","%"]
[null,null,null,null,null,"GSPs","%",null,null,{"$f":"CHOOSE(year_selection, L20,M20,N20,O20,P20,Q20,R20,S20)","v":0.11600000000000001},null,0.11600000000000001,0.11600000000000001,0.11600000000000001,0.11600000000000001,0.11600000000000001,0.11600000000000001,0.11600000000000001,0.11600000000000001]
[null,null,null,null,null,"132kV","%",null,null,{"$f":"CHOOSE(year_selection, L21,M21,N21,O21,P21,Q21,R21,S21)","v":0},null,0,null,0,0,0,0,0,0]
[null,null,null,null,null,"132kV/EHV","%"]
[null,null,null,null,null,"EHV","%",null,null,{"$f":"CHOOSE(year_selection, L23,M23,N23,O23,P23,Q23,R23,S23)","v":0.13},null,0.13,0.13,0.13,0.13,0.13,0.13,0.13,0.13]
[null,null,null,null,null,"EHV/HV","%"]
[null,null,null,null,null,"132kV/HV","%"]
[null,null,null,null,null,"HV","%",null,null,{"$f":"CHOOSE(year_selection, L26,M26,N26,O26,P26,Q26,R26,S26)","v":0.25},null,0.25,0.25,0.25,0.25,0.25,0.25,0.25,0.25]
[null,null,null,null,null,"HV/LV","%"]
[null,null,null,null,null,"LV circuits","%"]
[]
[null,null,{"$f":"INDEX('Version control'!$H$34:$H$60,MATCH($A$1,'Version control'!$F$34:$F$60,0),1)&\"-B: Proportion of EHV/HV load going through 132kV/HV direct transformation\"","v":"Input 502-B: Proportion of EHV/HV load going through 132kV/HV direct transformation"}]
[]
[null,null,null,null,"Proportion of EHV/HV load going through 132kV/HV direct transformation"]
[null,null,null,null,null,"Transmission exit","%"]
[null,null,null,null,null,"GSPs","%"]
[null,null,null,null,null,"132kV","%"]
[null,null,null,null,null,"132kV/EHV","%"]
[null,null,null,null,null,"EHV","%"]
[null,null,null,null,null,"EHV/HV","%"]
[null,null,null,null,null,"132kV/HV","%",null,null,{"$f":"CHOOSE(year_selection, L39,M39,N39,O39,P39,Q39,R39,S39)","v":0},null,null,null,null,0,0,0,0,0]
[null,null,null,null,null,"HV","%"]
[null,null,null,null,null,"HV/LV","%"]
[null,null,null,null,null,"LV circuits","%"]
[]
[null,null,{"$f":"INDEX('Version control'!$H$34:$H$60,MATCH($A$1,'Version control'!$F$34:$F$60,0),1)&\"-C: Loss adjustment factors to transmission\"","v":"Input 502-C: Loss adjustment factors to transmission"}]
[]
[null,null,null,null,"Loss adjustment factors to transmission",null,null,null,">",null,null,null,null,null,null,null,null,null,null,null,"Paragraph 47"]
[null,null,null,null,null,"Transmission exit","scalar"]
[null,null,null,null,null,"GSPs","scalar",null,null,{"$f":"CHOOSE(year_selection, L48,M48,N48,O48,P48,Q48,R48,S48)","v":1},null,1,1,1,1,1,1,1,1]
[null,null,null,null,null,"132kV","scalar",null,null,{"$f":"CHOOSE(year_selection, L49,M49,N49,O49,P49,Q49,R49,S49)","v":1},null,1,1,1,1,1,1,1,1]
[null,null,null,null,null,"132kV/EHV","scalar",null,null,{"$f":"CHOOSE(year_selection, L50,M50,N50,O50,P50,Q50,R50,S50)","v":1},null,1,1,1,1,1,1,1,1]
[null,null,null,null,null,"EHV","scalar",null,null,{"$f":"CHOOSE(year_selection, L51,M51,N51,O51,P51,Q51,R51,S51)","v":1.004},null,1.004,1.004,1.004,1.004,1.004,1.004,1.004,1.004]
[null,null,null,null,null,"EHV/HV","scalar",null,null,{"$f":"CHOOSE(year_selection, L52,M52,N52,O52,P52,Q52,R52,S52)","v":1.0129999999999999},null,1.012,1.012,1.012,1.0129999999999999,1.0129999999999999,1.0129999999999999,1.0129999999999999,1.0129999999999999]
[null,null,null,null,null,"132kV/HV","scalar"]
[null,null,null,null,null,"HV","scalar",null,null,{"$f":"CHOOSE(year_selection, L54,M54,N54,O54,P54,Q54,R54,S54)","v":1.026},null,1.026,1.026,1.026,1.026,1.026,1.026,1.026,1.026]
[null,null,null,null,null,"HV/LV","scalar",null,null,{"$f":"CHOOSE(year_selection, L55,M55,N55,O55,P55,Q55,R55,S55)","v":1.044},null,1.0449999999999999,1.044,1.044,1.044,1.044,1.044,1.044,1.044]
[null,null,null,null,null,"LV circuits","scalar",null,null,{"$f":"CHOOSE(year_selection, L56,M56,N56,O56,P56,Q56,R56,S56)","v":1.0980000000000001},null,1.087,1.0980000000000001,1.097,1.0980000000000001,1.0980000000000001,1.0980000000000001,1.0980000000000001,1.0980000000000001]
[]
[null,null,{"$f":"INDEX('Version control'!$H$34:$H$60,MATCH($A$1,'Version control'!$F$34:$F$60,0),1)&\"-D: Average kVAr by kVA, by network level\"","v":"Input 502-D: Average kVAr by kVA, by network level"}]
[]
[null,null,null,null,"Average kVAr by kVA, by network level",null,null,null,">",null,null,null,null,null,null,null,null,null,null,null,"Paragraphs 50 to 51"]
[null,null,null,null,null,"Transmission exit","kVAr/ kVA"]
[null,null,null,null,null,"GSPs","kVAr/ kVA",null,null,{"$f":"CHOOSE(year_selection, L62,M62,N62,O62,P62,Q62,R62,S62)","v":0.26509994640061324},null,0.1678007582329529,0.19471847558008312,0.20767999407382673,0.26509994640061324,0.26509994640061324,0.26509994640061324,0.26509994640061324,0.26509994640061324]
[null,null,null,null,null,"132kV","kVAr/ kVA",null,null,0,null,0,0,0,0,0,0,0,0]
[null,null,null,null,null,"132kV/EHV","kVAr/ kVA",null,null,0,null,0,0,0,0,0,0,0,0]
[null,null,null,null,null,"EHV","kVAr/ kVA",null,null,0.26509994640061324,null,0.1678007582329529,0.19471847558008312,0.20767999407382673,0.26509994640061324,0.26509994640061324,0.26509994640061324,0.26509994640061324,0.26509994640061324]
[null,null,null,null,null,"EHV/HV","kVAr/ kVA",null,null,0.21690566590786087,null,0.27469398510742354,0.20760269282653337,0.22493371901847437,0.21690566590786087,0.21690566590786087,0.21690566590786087,0.21690566590786087,0.21690566590786087]
[null,null,null,null,null,"132kV/HV","kVAr/ kVA",null,null,0,null,0.27469398510742354,0.20760269282653337,0.22493371901847437,0,0,0,0,0]
[null,null,null,null,null,"HV","kVAr/ kVA",null,null,0.21690566590786087,null,0.27469398510742354,0.20760269282653337,0.22493371901847437,0.21690566590786087,0.21690566590786087,0.21690566590786087,0.21690566590786087,0.21690566590786087]
[null,null,null,null,null,"HV/LV","kVAr/ kVA",null,null,0.21690566590786087,null,0.27469398510742354,0.20760269282653337,0.22493371901847437,0.21690566590786087,0.21690566590786087,0.21690566590786087,0.21690566590786087,0.21690566590786087]
[null,null,null,null,null,"LV circuits","kVAr/ kVA",null,null,0.21690566590786087,null,0.27469398510742354,0.20760269282653337,0.22493371901847437,0.21690566590786087,0.21690566590786087,0.21690566590786087,0.21690566590786087,0.21690566590786087]
[]
[null,null,{"$f":"INDEX('Version control'!$H$34:$H$60,MATCH($A$1,'Version control'!$F$34:$F$60,0),1)&\"-E: Customer contributions under current connection charging policy\"","v":"Input 502-E: Customer contributions under current connection charging policy"}]
[]
[null,null,null,"Customer contributions under current connection charging policy",null,null,null,null,">",null,null,null,null,null,null,null,null,null,null,null,"Paragraphs 29 to 31"]
[null,null,null,null,"LV network"]
[null,null,null,null,null,"Transmission exit","%"]
[null,null,null,null,null,"GSPs","%"]
[null,null,null,null,null,"132kV","%",null,null,{"$f":"CHOOSE(year_selection, L78,M78,N78,O78,P78,Q78,R78,S78)","v":0},null,0,0,0,0,0,0,0,0]
[null,null,null,null,null,"132kV/EHV","%",null,null,0,null,0,0,0,0,0,0,0,0]
[null,null,null,null,null,"EHV","%",null,null,0,null,0,0,0,0,0,0,0,0]
[null,null,null,null,null,"EHV/HV","%",null,null,0,null,0,0,0,0,0,0,0,0]
[null,null,null,null,null,"132kV/HV","%",null,null,0,null,0,0,0,0,0,0,0,0]
[null,null,null,null,null,"HV","%",null,null,0.20065197841726601,null,0.20065197841726601,0.20065197841726601,0.20065197841726601,0.20065197841726601,0.20065197841726601,0.20065197841726601,0.20065197841726601,0.20065197841726601]
[null,null,null,null,null,"HV/LV","%",null,null,0.26968503937007898,null,0.26968503937007898,0.26968503937007898,0.26968503937007898,0.26968503937007898,0.26968503937007898,0.26968503937007898,0.26968503937007898,0.26968503937007898]
[null,null,null,null,null,"LV circuits","%",null,null,0.92371773930088197,null,0.92371773930088197,0.92371773930088197,0.92371773930088197,0.92371773930088197,0.92371773930088197,0.92371773930088197,0.92371773930088197,0.92371773930088197]
[null,null,null,null,"LV substation"]
[null,null,null,null,null,"Transmission exit","%"]
[null,null,null,null,null,"GSPs","%"]
[null,null,null,null,null,"132kV","%",null,null,{"$f":"CHOOSE(year_selection, L89,M89,N89,O89,P89,Q89,R89,S89)","v":0},null,0,0,0,0,0,0,0,0]
[null,null,null,null,null,"132kV/EHV","%",null,null,0,null,0,0,0,0,0,0,0,0]
[null,null,null,null,null,"EHV","%",null,null,0,null,0,0,0,0,0,0,0,0]
[null,null,null,null,null,"EHV/HV","%",null,null,0,null,0,0,0,0,0,0,0,0]
[null,null,null,null,null,"132kV/HV","%",null,null,0,null,0,0,0,0,0,0,0,0]
[null,null,null,null,null,"HV","%",null,null,0.20065197841726601,null,0.20065197841726601,0.20065197841726601,0.20065197841726601,0.20065197841726601,0.20065197841726601,0.20065197841726601,0.20065197841726601,0.20065197841726601]
[null,null,null,null,null,"HV/LV","%",null,null,0.26968503937007898,null,0.26968503937007898,0.26968503937007898,0.26968503937007898,0.26968503937007898,0.26968503937007898,0.26968503937007898,0.26968503937007898,0.26968503937007898]
[null,null,null,null,null,"LV circuits","%"]
[null,null,null,null,"HV network"]
[null,null,null,null,null,"Transmission exit","%"]
[null,null,null,null,null,"GSPs","%"]
[null,null,null,null,null,"132kV","%",null,null,{"$f":"CHOOSE(year_selection, L100,M100,N100,O100,P100,Q100,R100,S100)","v":0},null,0,0,0,0,0,0,0,0]
[null,null,null,null,null,"132kV/EHV","%",null,null,0,null,0,0,0,0,0,0,0,0]
[null,null,null,null,null,"EHV","%",null,null,3.11004784688995E-2,null,3.11004784688995E-2,3.11004784688995E-2,3.11004784688995E-2,3.11004784688995E-2,3.11004784688995E-2,3.11004784688995E-2,3.11004784688995E-2,3.11004784688995E-2]
[null,null,null,null,null,"EHV/HV","%",null,null,0.14212259371833799,null,0.14212259371833799,0.14212259371833799,0.14212259371833799,0.14212259371833799,0.14212259371833799,0.14212259371833799,0.14212259371833799,0.14212259371833799]
[null,null,null,null,null,"132kV/HV","%",null,null,0,null,0,0,0,0,0,0,0,0]
[null,null,null,null,null,"HV","%",null,null,0.45146695143884902,null,0.45146695143884902,0.45146695143884902,0.45146695143884902,0.45146695143884902,0.45146695143884902,0.45146695143884902,0.45146695143884902,0.45146695143884902]
[null,null,null,null,null,"HV/LV","%"]
[null,null,null,null,null,"LV circuits","%"]
[null,null,null,null,"HV substation"]
[null,null,null,null,null,"Transmission exit","%"]
[null,null,null,null,null,"GSPs","%"]
[null,null,null,null,null,"132kV","%",null,null,{"$f":"CHOOSE(year_selection, L111,M111,N111,O111,P111,Q111,R111,S111)","v":0},null,0,0,0,0,0,0,0,0]
[null,null,null,null,null,"132kV/EHV","%",null,null,0,null,0,0,0,0,0,0,0,0]
[null,null,null,null,null,"EHV","%",null,null,3.11004784688995E-2,null,3.11004784688995E-2,3.11004784688995E-2,3.11004784688995E-2,3.11004784688995E-2,3.11004784688995E-2,3.11004784688995E-2,3.11004784688995E-2,3.11004784688995E-2]
[null,null,null,null,null,"EHV/HV","%",null,null,0.14212259371833799,null,0.14212259371833799,0.14212259371833799,0.14212259371833799,0.14212259371833799,0.14212259371833799,0.14212259371833799,0.14212259371833799,0.14212259371833799]
[null,null,null,null,null,"132kV/HV","%"]
[null,null,null,null,null,"HV","%"]
[null,null,null,null,null,"HV/LV","%"]
[null,null,null,null,null,"LV circuits","%"]
[]
[null,null,{"$f":"INDEX('Version control'!$H$34:$H$60,MATCH($A$1,'Version control'!$F$34:$F$60,0),1)&\"-F: Gross asset cost by network level\"","v":"Input 502-F: Gross asset cost by network level"}]
[]
[null,null,null,null,"Gross asset cost by network level"]
[null,null,null,null,null,"Transmission exit","£"]
[null,null,null,null,null,"GSPs","£"]
[null,null,null,null,null,"132kV","£",null,null,{"$f":"CHOOSE(year_selection, L125,M125,N125,O125,P125,Q125,R125,S125)","v":0},null,0,null,0,0,0,0,0,0]
[null,null,null,null,null,"132kV/EHV","£",null,null,0,null,0,null,0,0,0,0,0,0]
[null,null,null,null,null,"EHV","£",null,null,115483848.7018043,null,106060547.92627929,109374940.04897551,112394587.60356565,115483848.7018043,119147095.29028343,121708719.74960683,124142774.36949849,126625487.62395665]
[null,null,null,null,null,"EHV/HV","£",null,null,29592148.796136998,null,27177475.906076547,28026772.028141439,28800541.353911463,29592148.796136998,30530837.100534685,31187240.337976646,31810954.452975944,32447137.095570188]
[null,null,null,null,null,"132kV/HV","£",null,null,0,null,0,null,0,0,0,0,0,0]
[null,null,null,null,null,"HV","£",null,null,127306253.13245735,null,116918262.71338217,120571958.42317536,123900735.73945692,127306253.13245735,131344516.51493023,134168381.63126338,136851617.22707629,139588492.77790317]
[null,null,null,null,null,"HV/LV","£",null,null,31995666.142905347,null,29384870.01022356,30303147.198043045,31139763.19337051,31995666.142905347,33010596.076066505,33720313.33874318,34394686.420928419,35082540.742646813]
[null,null,null,null,null,"LV circuits","£",null,null,53817722.025625169,null,49426280.387664415,50970851.649778925,52378066.204325996,53817722.025625169,55524866.261172362,56718633.135377303,57852949.980555944,59009942.696851492]
[]
[null,null,{"$f":"INDEX('Version control'!$H$34:$H$60,MATCH($A$1,'Version control'!$F$34:$F$60,0),1)&\"-G: Peaking probabilities, by timeband & network level\"","v":"Input 502-G: Peaking probabilities, by timeband & network level"}]
[]
[null,null,"Red, Amber & Green peaking probabilities must sum to 100%, except for unused network levels, which should sum to 0%"]
[]
[null,null,null,null,"Red peaking probabilities, by network level",null,null,null,">",null,null,null,null,null,null,null,null,null,null,null,"Paragraphs 48 to 49"]
[null,null,null,null,null,"Transmission exit","%"]
[null,null,null,null,null,"GSPs","%",null,null,{"$f":"CHOOSE(year_selection, L140,M140,N140,O140,P140,Q140,R140,S140)","v":0.73685290844250551},null,0.75789477364773161,0.75071796520582057,0.72958155030954364,0.73685290844250551,0.73685290844250551,0.73685290844250551,0.73685290844250551,0.73685290844250551]
[null,null,null,null,null,"132kV","%",null,null,0]
[null,null,null,null,null,"132kV/EHV","%",null,null,0]
[null,null,null,null,null,"EHV","%",null,null,0.73685290844250551,null,0.75789477364773161,0.75071796520582057,0.72958155030954364,0.73685290844250551,0.73685290844250551,0.73685290844250551,0.73685290844250551,0.73685290844250551]
[null,null,null,null,null,"EHV/HV","%",null,null,0.64549570804091005,null,0.55804635517673595,0.61438732866649304,0.62623030110869771,0.64549570804091005,0.64549570804091005,0.64549570804091005,0.64549570804091005,0.64549570804091005]
[null,null,null,null,null,"132kV/HV","%",null,null,0]
[null,null,null,null,null,"HV","%",null,null,0.64549570804091005,null,0.55804635517673595,0.61438732866649304,0.62623030110869771,0.64549570804091005,0.64549570804091005,0.64549570804091005,0.64549570804091005,0.64549570804091005]
[null,null,null,null,null,"HV/LV","%",null,null,0.64549570804091005,null,0.55804635517673595,0.61438732866649304,0.62623030110869771,0.64549570804091005,0.64549570804091005,0.64549570804091005,0.64549570804091005,0.64549570804091005]
[null,null,null,null,null,"LV circuits","%",null,null,0.64549570804091005,null,0.55804635517673595,0.61438732866649304,0.62623030110869771,0.64549570804091005,0.64549570804091005,0.64549570804091005,0.64549570804091005,0.64549570804091005]
[]
[null,null,null,null,"Amber peaking probabilities, by network level",null,null,null,">",null,null,null,null,null,null,null,null,null,null,null,"Paragraphs 48 to 49"]
[null,null,null,null,null,"Transmission exit","%"]
[null,null,null,null,null,"GSPs","%",null,null,{"$f":"CHOOSE(year_selection, L152,M152,N152,O152,P152,Q152,R152,S152)","v":0.25763649230764868},null,0.23157815231040804,0.24166571588301325,0.26438949380701821,0.25763649230764868,0.25763649230764868,0.25763649230764868,0.25763649230764868,0.25763649230764868]
[null,null,null,null,null,"132kV","%",null,null,0]
[null,null,null,null,null,"132kV/EHV","%",null,null,0]
[null,null,null,null,null,"EHV","%",null,null,0.25763649230764868,null,0.23157815231040804,0.24166571588301325,0.26438949380701821,0.25763649230764868,0.25763649230764868,0.25763649230764868,0.25763649230764868,0.25763649230764868]
[null,null,null,null,null,"EHV/HV","%",null,null,0.33912381234136874,null,0.39026228836284133,0.35026802514430661,0.35255316214063165,0.33912381234136874,0.33912381234136874,0.33912381234136874,0.33912381234136874,0.33912381234136874]
[null,null,null,null,null,"132kV/HV","%",null,null,0]
[null,null,null,null,null,"HV","%",null,null,0.33912381234136874,null,0.39026228836284133,0.35026802514430661,0.35255316214063165,0.33912381234136874,0.33912381234136874,0.33912381234136874,0.33912381234136874,0.33912381234136874]
[null,null,null,null,null,"HV/LV","%",null,null,0.33912381234136874,null,0.39026228836284133,0.35026802514430661,0.35255316214063165,0.33912381234136874,0.33912381234136874,0.33912381234136874,0.33912381234136874,0.33912381234136874]
[null,null,null,null,null,"LV circuits","%",null,null,0.33912381234136874,null,0.39026228836284133,0.35026802514430661,0.35255316214063165,0.33912381234136874,0.33912381234136874,0.33912381234136874,0.33912381234136874,0.33912381234136874]
[]
[null,null,null,null,"Green peaking probabilities, by network level",null,null,null,">",null,null,null,null,null,null,null,null,null,null,null,"Paragraphs 48 to 49"]
[null,null,null,null,null,"Transmission exit","%"]
[null,null,null,null,null,"GSPs","%",null,null,{"$f":"CHOOSE(year_selection, L164,M164,N164,O164,P164,Q164,R164,S164)","v":5.5105992498457714E-3},null,1.0527074041860346E-2,7.6163189111662479E-3,6.0289558834381281E-3,5.5105992498457714E-3,5.5105992498457714E-3,5.5105992498457714E-3,5.5105992498457714E-3,5.5105992498457714E-3]
[null,null,null,null,null,"132kV","%",null,null,0]
[null,null,null,null,null,"132kV/EHV","%",null,null,0]
[null,null,null,null,null,"EHV","%",null,null,5.5105992498457714E-3,null,1.0527074041860346E-2,7.6163189111662479E-3,6.0289558834381281E-3,5.5105992498457714E-3,5.5105992498457714E-3,5.5105992498457714E-3,5.5105992498457714E-3,5.5105992498457714E-3]
[null,null,null,null,null,"EHV/HV","%",null,null,1.5380479617721122E-2,null,5.0814282242397278E-2,3.5344646189200052E-2,2.1216536750670562E-2,1.5380479617721122E-2,1.5380479617721122E-2,1.5380479617721122E-2,1.5380479617721122E-2,1.5380479617721122E-2]
[null,null,null,null,null,"132kV/HV","%",null,null,0]
[null,null,null,null,null,"HV","%",null,null,1.5380479617721122E-2,null,5.0814282242397278E-2,3.5344646189200052E-2,2.1216536750670562E-2,1.5380479617721122E-2,1.5380479617721122E-2,1.5380479617721122E-2,1.5380479617721122E-2,1.5380479617721122E-2]
[null,null,null,null,null,"HV/LV","%",null,null,1.5380479617721122E-2,null,5.0814282242397278E-2,3.5344646189200052E-2,2.1216536750670562E-2,1.5380479617721122E-2,1.5380479617721122E-2,1.5380479617721122E-2,1.5380479617721122E-2,1.5380479617721122E-2]
[null,null,null,null,null,"LV circuits","%",null,null,1.5380479617721122E-2,null,5.0814282242397278E-2,3.5344646189200052E-2,2.1216536750670562E-2,1.5380479617721122E-2,1.5380479617721122E-2,1.5380479617721122E-2,1.5380479617721122E-2,1.5380479617721122E-2]
[]
[null,null,null,null,"Black peaking probabilities, by network level"]
[null,null,null,null,null,"Transmission exit","%"]
[null,null,null,null,null,"GSPs","%",null,null,{"$f":"CHOOSE(year_selection, L176,M176,N176,O176,P176,Q176,R176,S176)","v":0.67055113994438198},null,0.70849707072363233,0.69661362034516339,0.67222160835194844,0.67055113994438198,0.67055113994438198,0.67055113994438198,0.67055113994438198,0.67055113994438198]
[null,null,null,null,null,"132kV","%",null,null,0]
[null,null,null,null,null,"132kV/EHV","%",null,null,0]
[null,null,null,null,null,"EHV","%",null,null,0.67055113994438198,null,0.70849707072363233,0.69661362034516339,0.67222160835194844,0.67055113994438198,0.67055113994438198,0.67055113994438198,0.67055113994438198,0.67055113994438198]
[null,null,null,null,null,"EHV/HV","%",null,null,0.60511449175300125,null,0.49844799674017787,0.57533965772514273,0.59524145957145347,0.60511449175300125,0.60511449175300125,0.60511449175300125,0.60511449175300125,0.60511449175300125]
[null,null,null,null,null,"132kV/HV","%",null,null,0]
[null,null,null,null,null,"HV","%",null,null,0.60511449175300125,null,0.49844799674017787,0.57533965772514273,0.59524145957145347,0.60511449175300125,0.60511449175300125,0.60511449175300125,0.60511449175300125,0.60511449175300125]
[null,null,null,null,null,"HV/LV","%",null,null,0.60511449175300125,null,0.49844799674017787,0.57533965772514273,0.59524145957145347,0.60511449175300125,0.60511449175300125,0.60511449175300125,0.60511449175300125,0.60511449175300125]
[null,null,null,null,null,"LV circuits","%",null,null,0.60511449175300125,null,0.49844799674017787,0.57533965772514273,0.59524145957145347,0.60511449175300125,0.60511449175300125,0.60511449175300125,0.60511449175300125,0.60511449175300125]
[]
[null,"Checks"]
[]
[null,null,"Checks are not run for historic years, for which DNOs are not obliged to enter inputs."]
[]
[null,null,null,null,"Check for error values",null,"number of issues",{"$f":"SUM(IF(ISERROR(H18:T185), 1))","v":0}]
[]
[null,null,null,null,"Check that loss adjustment factor = 1 at grid supply point",null,"number of issues",{"$f":"SUM(L192:S192)","v":0},null,null,null,null,null,null,{"$f":"IF(O48 = 1, 0, 1)","v":0},{"$f":"IF(P48 = 1, 0, 1)","v":0},{"$f":"IF(Q48 = 1, 0, 1)","v":0},{"$f":"IF(R48 = 1, 0, 1)","v":0},{"$f":"IF(S48 = 1, 0, 1)","v":0}]
[]
[null,null,null,null,"Peaking probabilities check - General"]
[null,null,null,null,null,"Transmission exit","number of issues"]
[null,null,null,null,null,"GSPs","number of issues",{"$f":"SUM(L196:S196)","v":0},null,null,null,null,null,null,{"$f":"IF(ABS(SUM(O140,O152,O164) - 1) < 10^-check_decimals,0,1)","v":0},{"$f":"IF(ABS(SUM(P140,P152,P164) - 1) < 10^-check_decimals,0,1)","v":0},{"$f":"IF(ABS(SUM(Q140,Q152,Q164) - 1) < 10^-check_decimals,0,1)","v":0},{"$f":"IF(ABS(SUM(R140,R152,R164) - 1) < 10^-check_decimals,0,1)","v":0},{"$f":"IF(ABS(SUM(S140,S152,S164) - 1) < 10^-check_decimals,0,1)","v":0}]
[null,null,null,null,null,"132kV","number of issues"]
[null,null,null,null,null,"132kV/EHV","number of issues"]
[null,null,null,null,null,"EHV","number of issues",0,null,null,null,null,null,null,{"$f":"IF(ABS(SUM(O143,O155,O167) - 1) < 10^-check_decimals,0,1)","v":0},0,0,0,0]
[null,null,null,null,null,"EHV/HV","number of issues",0,null,null,null,null,null,null,0,0,0,0,0]
[null,null,null,null,null,"132kV/HV","number of issues"]
[null,null,null,null,null,"HV","number of issues",0,null,null,null,null,null,null,{"$f":"IF(ABS(SUM(O146,O158,O170) - 1) < 10^-check_decimals,0,1)","v":0},0,0,0,0]
[null,null,null,null,null,"HV/LV","number of issues",0,null,null,null,null,null,null,0,0,0,0,0]
[null,null,null,null,null,"LV circuits","number of issues",{"$f":"SUM(L204:S204)","v":0},null,null,null,null,null,null,0,0,0,0,0]
[]
[null,null,null,null,"Peaking probabilities check - 132kV/HV"]
[null,null,null,null,null,"Transmission exit","number of issues"]
[null,null,null,null,null,"GSPs","number of issues"]
[null,null,null,null,null,"132kV","number of issues",{"$f":"SUM(L209:S209)","v":0},null,null,null,null,null,null,{"$f":"IF(OR(ABS(SUM(O141,O153,O165) - 1) < 10^-check_decimals, ABS(SUM(O141,O153,O165) - 0) < 10^-check_decimals),0,1)","v":0},0,0,0,0]
[null,null,null,null,null,"132kV/EHV","number of issues",{"$f":"SUM(L210:S210)","v":0},null,null,null,null,null,null,0,0,0,0,0]
[null,null,null,null,null,"EHV","number of issues"]
[null,null,null,null,null,"EHV/HV","number of issues"]
[null,null,null,null,null,"132kV/HV","number of issues",{"$f":"SUM(L213:S213)","v":0},null,null,null,null,null,null,{"$f":"IF(OR(ABS(SUM(O145,O157,O169) - 1) < 10^-check_decimals, ABS(SUM(O145,O157,O169) - 0) < 10^-check_decimals),0,1)","v":0},{"$f":"IF(OR(ABS(SUM(P145,P157,P169) - 1) < 10^-check_decimals, ABS(SUM(P145,P157,P169) - 0) < 10^-check_decimals),0,1)","v":0},{"$f":"IF(OR(ABS(SUM(Q145,Q157,Q169) - 1) < 10^-check_decimals, ABS(SUM(Q145,Q157,Q169) - 0) < 10^-check_decimals),0,1)","v":0},{"$f":"IF(OR(ABS(SUM(R145,R157,R169) - 1) < 10^-check_decimals, ABS(SUM(R145,R157,R169) - 0) < 10^-check_decimals),0,1)","v":0},{"$f":"IF(OR(ABS(SUM(S145,S157,S169) - 1) < 10^-check_decimals, ABS(SUM(S145,S157,S169) - 0) < 10^-check_decimals),0,1)","v":0}]
[null,null,null,null,null,"HV","number of issues"]
[null,null,null,null,null,"HV/LV","number of issues"]
[null,null,null,null,null,"LV circuits","number of issues"]
[]
[null,null,null,null,"Summary of checks",null,"number of issues",{"$f":"SUM(H190,H192,H195:H204,H207:H216)","v":0}]
[]
[null,"End of sheet"]

{"sheet":"ARP_General inputs","index":12,"n_rows":126,"n_cols":38,"rows_kept":126,"cut":false,"hidden":false,"merged":[]}
[{"$f":"MID(CELL(\"filename\",A1),FIND(\"]\",CELL(\"filename\",A1))+1,255)","v":"ARP_General inputs"}]
[{"$f":"Cover!D21&\" - \"&Cover!D23","v":"SP Distribution - One"}]
[{"$f":"Cover!D2&\" - \"&Cover!D8&\" v\"&Cover!D10&\" - \"&Cover!D19","v":"ARP model - Release for charge setting v5 - 2021/22"}]
[{"$f":"H124 & IF(H124 = 1, \" issue\", \" issues\") &\" identified in checks on this sheet\"","v":"0 issues identified in checks on this sheet"}]
[null,null,null,null,null,null,null,null,null,{"$f":"\"Year selected (\"& charging_year_selected &\")\"","v":"Year selected (2021/22)"},null,{"$f":"TRANSPOSE('ARP_User control'!G28:H35)","v":"2018/19"},"2019/20","2020/21","2021/22","2022/23","2023/24","2024/25","2025/26"]
[null,"Click here to return to model map",null,null,null,null,"Units","Constants",null,{"$f":"'ARP_User control'!$H$36","v":"Current"},null,"Historic","Historic","Historic","Current","Forecast","Forecast","Forecast","Forecast",null,"Legal text reference"]
[]
[null,"Description"]
[]
[null,null,"This sheet sets out general inputs by year."]
[null,null,"DNOs should populate the inputs for the charging year and the four following years."]
[null,null,"DNOs can also populate the three years preceding the charging year, but are not obliged to do so. "]
[]
[null,"General inputs"]
[]
[null,null,{"$f":"INDEX('Version control'!$H$34:$H$60,MATCH($A$1,'Version control'!$F$34:$F$60,0),1)&\"-A: Split of hours by distribution timeband\"","v":"Input 503-A: Split of hours by distribution timeband"}]
[]
[null,null,null,null,"Typical annual hours by special distribution time band",null,null,null,">",null,null,null,null,null,null,null,null,null,null,null,"Paragraphs 40 to 41"]
[null,null,null,null,null,"Black","hours per year",null,null,{"$f":"CHOOSE(year_selection, L19,M19,N19,O19,P19,Q19,R19,S19)","v":258},null,258,258,255,258,258,261,258,255]
[null,null,null,null,null,"Yellow","hours per year",null,null,{"$f":"CHOOSE(year_selection, L20,M20,N20,O20,P20,Q20,R20,S20)","v":3942.5},null,3932,3957,3945.5,3942.5,3942.5,3933,3942.5,3945.5]
[null,null,null,null,null,"Green","hours per year",null,null,{"$f":"CHOOSE(year_selection, L21,M21,N21,O21,P21,Q21,R21,S21)","v":4559.5},null,4570,4569,4559.5,4559.5,4559.5,4590,4559.5,4559.5]
[]
[null,null,null,null,"Typical annual hours by distribution time band",null,null,null,">",null,null,null,null,null,null,null,null,null,null,null,"Paragraphs 40 to 41"]
[null,null,null,null,null,"Red","hours per year",null,null,{"$f":"CHOOSE(year_selection, L24,M24,N24,O24,P24,Q24,R24,S24)","v":783},null,780,786,783,783,783,780,783,783]
[null,null,null,null,null,"Amber","hours per year",null,null,{"$f":"CHOOSE(year_selection, L25,M25,N25,O25,P25,Q25,R25,S25)","v":3417.5},null,3410,3429,3417.5,3417.5,3417.5,3414,3417.5,3417.5]
[null,null,null,null,null,"Green","hours per year",null,null,{"$f":"CHOOSE(year_selection, L26,M26,N26,O26,P26,Q26,R26,S26)","v":4559.5},null,4570,4569,4559.5,4559.5,4559.5,4590,4559.5,4559.5]
[]
[null,null,{"$f":"INDEX('Version control'!$H$34:$H$60,MATCH($A$1,'Version control'!$F$34:$F$60,0),1)&\"-B: Embedded network (LDNO) discount percentages\"","v":"Input 503-B: Embedded network (LDNO) discount percentages"}]
[]
[null,null,null,"Inputs sourced from PCDM"]
[]
[null,null,null,null,"Embedded network (LDNO) discount percentages",null,null,null,">",null,null,null,null,null,null,null,null,null,null,null,"Paragraph 53"]
[null,null,null,null,null,"LDNO LV: LV user","%",null,null,{"$f":"CHOOSE(year_selection, L33,M33,N33,O33,P33,Q33,R33,S33)","v":0.39067242808448932},null,0.38704565679372654,0.38733990485783049,0.38980655798359887,0.39067242808448932,0.39067242808448932,0.39067242808448932,0.39067242808448932,0.39067242808448932]
[null,null,null,null,null,"LDNO HV: LV user","%",null,null,{"$f":"CHOOSE(year_selection, L34,M34,N34,O34,P34,Q34,R34,S34)","v":0.60361788113874959},null,0.6532080799892247,0.6488039915883731,0.6351371199196082,0.60361788113874959,0.60361788113874959,0.60361788113874959,0.60361788113874959,0.60361788113874959,null,null,null,"NHH UMS category D","LV UMS (Pseudo HH Metered)","LV Generation NHH or Aggregate HH","LV Sub Generation NHH","LV Generation Intermittent","LV Generation Intermittent no RP charge","LV Generation Non-Intermittent","LV Generation Non-Intermittent no RP charge","LV Sub Generation Intermittent","LV Sub Generation Intermittent no RP charge","LV Sub Generation Non-Intermittent","LV Sub Generation Non-Intermittent no RP charge","HV Generation Intermittent","HV Generation Intermittent no RP charge","HV Generation Non-Intermittent","HV Generation Non-Intermittent no RP charge"]
[null,null,null,null,null,"LDNO HV: LV Sub user","%",null,null,{"$f":"CHOOSE(year_selection, L35,M35,N35,O35,P35,Q35,R35,S35)","v":0.34819248571328243},null,0.43282382281851794,0.42548679046197491,0.40077096997612849,0.34819248571328243,0.34819248571328243,0.34819248571328243,0.34819248571328243,0.34819248571328243]
[null,null,null,null,null,"LDNO HV: HV user","%",null,null,{"$f":"CHOOSE(year_selection, L36,M36,N36,O36,P36,Q36,R36,S36)","v":0.25174009320591562},null,0.34863868293443084,0.34015547948179137,0.31241728335427027,0.25174009320591562,0.25174009320591562,0.25174009320591562,0.25174009320591562,0.25174009320591562]
[]
[null,null,{"$f":"INDEX('Version control'!$H$34:$H$60,MATCH($A$1,'Version control'!$F$34:$F$60,0),1)&\"-C: CDCM target revenue\"","v":"Input 503-C: CDCM target revenue"}]
[]
[null,null,null,"The contents of this section are defined in Paragraph 1.5 of Schedule 15 (Table 1).",null,null,null,null,">",null,null,null,null,null,null,null,null,null,null,null,"Paragraph 54 and Schedule 15 Table 1"]
[null,null,null,"\"Latest forecast of CDCM Revenue\" is the only row used as an input to the model itself"]
[]
[null,null,null,null,"Base Demand Revenue before inflation",null,"£",null,null,{"$f":"CHOOSE(year_selection, L43,M43,N43,O43,P43,Q43,R43,S43)","v":346000000},null,346000000,346000000,346000000,346000000,346000000,346000000,346000000,346000000]
[null,null,null,null,"Annual Iteration adjustment before inflation",null,"£",null,null,-13483324.791387133,null,-4425000,-3008000,-6261852.3470254671,-13483324.791387133,-15913311.647450997,335164.51210078911,-695912.44656760409,0]
[null,null,null,null,"RPI True-up before inflation",null,"£",null,null,-2617430.5441080644,null,-1062000,247000,991370.84098057298,-2617430.5441080644,103621.71859967284,-96418.865173460159,-193.08042234057538,0]
[null,null,null,null,"Price index adjustment (RPI index)",null,"scalar",null,null,1.2609999999999999,null,1.155,1.196,1.2370000000000001,1.2609999999999999,1.3009999999999999,1.3289710840911413,1.3555491979156022,1.3826586287932972]
[null,null,null,null,"Base demand revenue",null,"£",null,null,329899244.66450477,null,{"$f":"SUM(L43:L45)","v":340513000},{"$f":"SUM(M43:M45)","v":343239000},{"$f":"SUM(N43:N45)","v":340729518.49395514},329899244.66450477,{"$f":"SUM(P43:P45)","v":330190310.07114869},346238745.64692736,345303894.47301006,346000000]
[null,null,null,null,"Inflation adjustment",null,"£",null,null,86103702.857435703,null,{"$f":"L47 * (L46 - 1)","v":52779515.000000007},{"$f":"M47 * (M46 - 1)","v":67274843.999999985},{"$f":"N47 * (N46 - 1)","v":80752895.883067399},86103702.857435703,{"$f":"P47 * (P46 - 1)","v":99387283.331415728},113902535.50982662,122772522.71701248,132399885.56248081]
[]
[null,null,null,null,"Pass-Through Licence Fees",null,"£",null,null,{"$f":"CHOOSE(year_selection, L50,M50,N50,O50,P50,Q50,R50,S50)","v":381935.68229276169},null,-58000,268000,164322.92827975913,381935.68229276169,392481.31107075722,395930.62125060544,399676.02873228537,0]
[null,null,null,null,"Pass-Through Business Rates",null,"£",null,null,-11566275.226868516,null,1296000,-10584000,-11217509.628311889,-11566275.226868516,-12263566.415118828,-12947488.897512048,-13691294.810683802,0]
[null,null,null,null,"Pass-Through Transmission Connection Point Charges",null,"£",null,null,8418434.0577780586,null,249000,-1790000,317972.06807427964,8418434.0577780586,2891828.7159356293,3688850.6683101025,4290804.5904069403,0]
[null,null,null,null,"Pass-through Smart Meter Communication Licence Costs",null,"£",null,null,1781216.1251461192,null,862000,1156000,1394664.4729368442,1781216.1251461192,2074147.0552058727,2242920.9503811519,1925769.9917587289,0]
[null,null,null,null,"Pass-through Smart Meter IT Costs",null,"£",null,null,14896.347279979647,null,270000,-13000,1521214.3720017176,14896.347279979647,0,0,0,0]
[null,null,null,null,"Pass-through Ring Fence Costs",null,"£",null,null,0,null,0,0,0,0,0,0,0,0]
[null,null,null,null,"Pass-through Supplier of Last Resort Adjustment",null,"£",null,null,47073.343842731156,null,null,null,null,47073.343842731156,141408.9539563352,0,0,0]
[null,null,null,null,"Pass-through Eligible Bad Debt Adjustment",null,"£",null,null,1417380.0307358583,null,null,null,null,1417380.0307358583,0,0,0,0]
[null,null,null,null,"Pass-Through Others",null,"£",null,null,0,null,0,0,0,0,0,0,0,0]
[null,null,null,null,"Allowed Pass-Through Items",null,"£",null,null,494660.36020699225,null,{"$f":"SUM(L50:L58)","v":2619000},-10963000,-7819335.7870192872,{"$f":"SUM(O50:O58)","v":494660.36020699225},{"$f":"SUM(P50:P58)","v":-6763700.3789502354},-6619786.6575701889,-7075044.1997858491,0]
[]
[null,null,null,null,"Broad Measure of Customer Service incentive",null,"£",null,null,{"$f":"CHOOSE(year_selection, L61,M61,N61,O61,P61,Q61,R61,S61)","v":3925182.3924593851},null,2500000,3253000,3602342.5233472981,3925182.3924593851,4281719.7931077788,4538376.2133442322,4813697.3536323691,0]
[null,null,null,null,"Quality of Service incentive",null,"£",null,null,8075106.4802583205,null,7181000,9614000,9424915.1308802087,8075106.4802583205,7484721.9053918682,6870972.8854943495,6298121.0462269438,0]
[null,null,null,null,"Connections Engagement incentive",null,"£",null,null,0,null,0,0,0,0,0,0,0,0]
[null,null,null,null,"Time to Connect incentive",null,"£",null,null,713669.52590170642,null,800000,673000,697227.58516399306,713669.52590170642,734009.10738990491,756396.03555737203,780599.57085930312,0]
[null,null,null,null,"Losses Discretionary Reward incentive",null,"£",null,null,735162.99999999988,null,0,498000,0,735162.99999999988,0,0,0,0]
[null,null,null,null,"Network Innovation Allowance",null,"£",null,null,1657301.5080000001,null,1630000,1530000,1530000,1657301.5080000001,1707020.5532400003,0,0,0]
[null,null,null,null,"Low Carbon Network Fund - Tier 1 unrecoverable",null,"£",null,null,0,null,0,0,0,0,0,0,0,0]
[null,null,null,null,"Low Carbon Network Fund - Tier 2 & Discretionary Funding",null,"£",null,null,0,null,800000,0,0,0,0,0,0,0]
[null,null,null,null,"Connection Guaranteed Standards Systems & Processes penalty",null,"£",null,null,0,null,0,0,0,0,0,0,0,0]
[null,null,null,null,"Residual Losses and Growth Incentive - Losses",null,"£",null,null,0,null,0,0,0,0,0,0,0,0]
[null,null,null,null,"Residual Losses and Growth Incentive - Growth",null,"£",null,null,0,null,0,0,0,0,0,0,0,0]
[null,null,null,null,"Incentive Revenue and Other Adjustments",null,"£",null,null,15106422.906619411,null,{"$f":"SUM(L61:L71)","v":12911000},15568000,15254485.2393915,{"$f":"SUM(O61:O71)","v":15106422.906619411},{"$f":"SUM(P61:P71)","v":14207471.359129552},12165745.134395955,11892417.970718617,0]
[]
[null,null,null,null,"Correction Factor",null,"£",null,null,{"$f":"CHOOSE(year_selection, L74,M74,N74,O74,P74,Q74,R74,S74)","v":-5553744.6795161283},null,2178000,8073000,14526604.270235693,-5553744.6795161283,5414715.9023521459,0,0,0]
[null,null,null,null,"Total allowed Revenue",null,"£",null,null,{"$f":"CHOOSE(year_selection, L75,M75,N75,O75,P75,Q75,R75,S75)","v":426050286.10925072},null,{"$f":"L74 + L72 + L59 + L48 + L47","v":411000515},423191844,443444168.09963048,{"$f":"O74 + O72 + O59 + O48 + O47","v":426050286.10925072},{"$f":"P74 + P72 + P59 + P48 + P47","v":442436080.28509587},465687239.63357973,472893790.96095532,478399885.56248081]
[]
[null,null,null,null,"Other 1. Excluded services - Top-up, standby, and enhanced system security",null,"£",null,null,{"$f":"CHOOSE(year_selection, L77,M77,N77,O77,P77,Q77,R77,S77)","v":0},null,0,0,0,0,0,0,0,0]
[null,null,null,null,"Other 2. Excluded services - Revenue protection services",null,"£",null,null,687596.03530468408,null,689000,700000,666366.20634270844,687596.03530468408,709598.07409340062,724854.60433351994,739350.98308154673,754137.1556535383]
[null,null,null,null,"Other 3. Excluded services - Miscellaneous",null,"£",null,null,0,null,0,0,0,0,0,0,0,0]
[null,null,null,null,"Other 4. Increase in UoS tariffs relating to Supplier of Last Resort derogation",null,"£",null,null,0,null,null,null,null,0,0,0,0,0]
[null,null,null,null,"Other 5. Lead/Lag",null,"£",null,null,0,null,null,null,null,0,0,0,0,0]
[null,null,null,null,"Total other revenue recovered by Use of System Charges",null,"£",null,null,687596.03530468408,null,{"$f":"SUM(L77:L81)","v":689000},700000,666366.20634270844,{"$f":"SUM(O77:O81)","v":687596.03530468408},{"$f":"SUM(P77:P81)","v":709598.07409340062},724854.60433351994,739350.98308154673,754137.1556535383]
[null,null,null,null,"Total Revenue for Use of System Charges",null,"£",null,null,426737882.14455539,null,{"$f":"L75+L82","v":411689515},423891844,444110534.30597317,{"$f":"O75+O82","v":426737882.14455539},{"$f":"P75+P82","v":443145678.35918927},466412094.23791325,473633141.94403684,479154022.71813434]
[]
[null,null,null,null,"1. Revenue raised outside CDCM - EDCM and Certain Interconnector Revenue",null,"£",null,null,{"$f":"CHOOSE(year_selection, L85,M85,N85,O85,P85,Q85,R85,S85)","v":9556157.0663702693},null,9113457.1960052419,8402622.4436528608,8640347.0245958064,9556157.0663702693,9556157.0663702693,9556157.0663702693,9556157.0663702693,9556157.0663702693]
[null,null,null,null,"2. Revenue raised outside CDCM - Voluntary under-recovery",null,"£",null,null,0,null,0,0,0,0]
[null,null,null,null,"3. Revenue raised outside CDCM - Please describe if used",null,"£",null,null,0,null,0,0,0,0]
[null,null,null,null,"4. Revenue raised outside CDCM - Please describe if used",null,"£",null,null,0,null,0,0,0,0]
[null,null,null,null,"Total Revenue to be raised outside the CDCM",null,"£",null,null,9556157.0663702693,null,{"$f":"SUM(L85:L88)","v":9113457.1960052419},8402622.4436528608,8640347.0245958064,{"$f":"SUM(O85:O88)","v":9556157.0663702693},{"$f":"SUM(P85:P88)","v":9556157.0663702693},9556157.0663702693,9556157.0663702693,9556157.0663702693]
[null,null,null,null,"Latest forecast of CDCM Revenue",null,"£",null,null,417181725.07818514,null,{"$f":"L83-L89","v":402576057.80399477},415489221.55634713,435470187.28137738,{"$f":"O83-O89","v":417181725.07818514},{"$f":"P83-P89","v":433589521.29281902},456855937.171543,464076984.87766659,469597865.65176409]
[null,null,null,null,"CDCM Revenue Used in Charging Model",null,"£",null,null,{"$f":"CHOOSE(year_selection, L91,M91,N91,O91,P91,Q91,R91,S91)","v":417181725.07818514},null,{"$f":"L90","v":402576057.80399477},415489221.55634713,435470187.28137738,{"$f":"O90","v":417181725.07818514},{"$f":"P90","v":433589521.29281902},456855937.171543,464076984.87766659,469597865.65176409]
[]
[null,null,null,null,"Final Collected Revenue Forecast",null,"£",null,null,{"$f":"CHOOSE(year_selection, L93,M93,N93,O93,P93,Q93,R93,S93)","v":426737882.14455539},null,411689515,423891843.99999994,444110534.30597317,426737882.14455539,443145678.35918927,466412094.23791325,473633141.94403684,479154022.71813434]
[null,null,null,null,"Forecast Over / (Under) Recovery",null,"£",null,null,{"$f":"CHOOSE(year_selection, L94,M94,N94,O94,P94,Q94,R94,S94)","v":0},null,{"$f":"L93 - L82 - L75 + L86","v":0},-5.9604644775390625E-8,{"$f":"N93 - N82 - N75 + N86","v":0},{"$f":"O93 - O82 - O75 + O86","v":0},0,0,0,0]
[null,null,null,null,"Forecast overall percentage change to Allowed Revenue",null,"%",null,null,{"$f":"CHOOSE(year_selection, L95,M95,N95,O95,P95,Q95,R95,S95)","v":-3.9224514023762702E-2},null,{"$f":"IF( K75 <> 0, L75 / K75 - 1, 0)","v":0},{"$f":"IF( L75 <> 0, M75 / L75 - 1, 0)","v":2.9662563804816688E-2},4.7856130468408642E-2,{"$f":"IF( N75 <> 0, O75 / N75 - 1, 0)","v":-3.9224514023762702E-2},3.8459765689826009E-2,5.255258416877151E-2,1.5475088673346571E-2,1.1643406419730606E-2]
[null,null,null,null,"Overall % change to Use of System Charges effective 1st April of Regulatory Year to balance",null,"%",null,null,{"$f":"CHOOSE(year_selection, L96,M96,N96,O96,P96,Q96,R96,S96)","v":-3.9117856523188776E-2},null,{"$f":"IF( K93 <> 0, L93 / K93 - 1, 0)","v":0},2.9639639960225672E-2,4.7697757322203271E-2,-3.9117856523188776E-2,3.8449354747174258E-2,5.2502860830937692E-2,1.5482119343243728E-2,1.1656449444050532E-2]
[]
[null,null,{"$f":"INDEX('Version control'!$H$34:$H$60,MATCH($A$1,'Version control'!$F$34:$F$60,0),1)&\"-D: Financial and general assumptions\"","v":"Input 503-D: Financial and general assumptions"}]
[]
[null,null,null,null,"Real pre-tax cost of capital",null,"%",null,">",{"$f":"CHOOSE(year_selection, L100,M100,N100,O100,P100,Q100,R100,S100)","v":3.6900000000000002E-2},null,4.0800000000000003E-2,4.02E-2,3.7900000000000003E-2,3.6900000000000002E-2,3.6900000000000002E-2,3.6900000000000002E-2,3.6900000000000002E-2,3.6900000000000002E-2,null,"Paragraph 57"]
[null,null,null,null,"Days in the charging year",null,"days",null,null,{"$f":"CHOOSE(year_selection, L101,M101,N101,O101,P101,Q101,R101,S101)","v":365},null,365,366,365,365,365,366,365,365]
[]
[null,null,{"$f":"INDEX('Version control'!$H$34:$H$60,MATCH($A$1,'Version control'!$F$34:$F$60,0),1)&\"-E: Transmission exit charges\"","v":"Input 503-E: Transmission exit charges"}]
[]
[null,null,null,null,"Transmission exit charges",null,"£ per year",null,">",{"$f":"CHOOSE(year_selection, L105,M105,N105,O105,P105,Q105,R105,S105)","v":35908234.05777806},null,26120655.336201899,24282910.652889419,27655672.068074286,35908234.05777806,37047273.99616912,37843778.543666735,38600616.871995844,39372584.983914502,null,"Paragraph 38"]
[]
[null,null,null,{"$f":"INDEX('[1]Version control'!$H$34:$H$60,MATCH($A$1,'[1]Version control'!$F$34:$F$60,0),1)&\"-F: Other expenditure\"","v":"Input 503-F: Other expenditure"}]
[]
[null,null,null,null,"Other expenditure",null,null,null,">",null,null,null,null,null,null,null,null,null,null,null,"Paragraph 39"]
[null,null,null,null,null,"Direct cost","£ per year",null,null,{"$f":"CHOOSE(year_selection, L110,M110,N110,O110,P110,Q110,R110,S110)","v":28803040.425109994},null,23202752.268127099,22970035.519397046,24557177.965201695,28803040.425109994,29716697.536136482,30355597.033211261,30962679.100546014,31581897.207978189]
[null,null,null,null,null,"Indirect cost","£ per year",null,null,{"$f":"CHOOSE(year_selection, L111,M111,N111,O111,P111,Q111,R111,S111)","v":83130091.179891989},null,89926235.570464045,90642222.217003286,80366361.652064502,83130091.179891989,85767048.869975805,87611013.002328709,89363147.043262079,91150307.598930404]
[null,null,null,null,null,"Network rates","£ per year",null,null,{"$f":"CHOOSE(year_selection, L112,M112,N112,O112,P112,Q112,R112,S112)","v":37991024.773131475},null,46687620.052114367,36418555.510245711,37396590.371688113,37991024.773131475,39196132.616846986,40038836.937733501,40839574.273759037,41656318.96849338]
[]
[null,"Checks"]
[]
[null,null,"Checks are not run for historic years, for which DNOs are not obliged to enter inputs."]
[]
[null,null,null,null,"Check for error values",null,"number of issues",{"$f":"SUM(IF(ISERROR(H15:S113), 1))","v":0}]
[]
[null,null,null,null,"Hours in charging year check"]
[null,null,null,null,null,"Normal distribution timebands","number of issues",{"$f":"SUM(L121:S121)","v":0},null,null,null,null,{"$f":"IF(SUM(M19:M21) = M$101 * hours_in_day, 0, 1)","v":0},0,0,0,0,0,0]
[null,null,null,null,null,"Special distribution timebands","number of issues",{"$f":"SUM(L122:S122)","v":0},null,null,null,null,{"$f":"IF(SUM(M24:M26) = M$101 * hours_in_day, 0, 1)","v":0},0,0,0,0,0,0]
[]
[null,null,null,null,"Summary of checks",null,"number of issues",{"$f":"SUM(H118, H121:H122)","v":0}]
[]
[null,"End of sheet"]

{"sheet":"Fixed inputs","index":13,"n_rows":174,"n_cols":27,"rows_kept":174,"cut":false,"hidden":false,"merged":[]}
[{"$f":"MID(CELL(\"filename\",A1),FIND(\"]\",CELL(\"filename\",A1))+1,255)","v":"Fixed inputs"}]
[{"$f":"Cover!D21&\" - \"&Cover!D23","v":"SP Distribution - One"}]
[{"$f":"Cover!D2&\" - \"&Cover!D8&\" v\"&Cover!D10&\" - \"&Cover!D19","v":"ARP model - Release for charge setting v5 - 2021/22"}]
[{"$f":"H172 & IF(H172 = 1, \" issue\", \" issues\") &\" identified in checks on this sheet\"","v":"0 issues identified in checks on this sheet"}]
[null,"Click here to return to model map",null,null,null,null,"Units","Constants",null,"Domestic Aggregated","Domestic Aggregated (Related MPAN)","Non-Domestic Aggregated","Non-Domestic Aggregated (Related MPAN)","LV Site Specific","LV Sub Site Specific","HV Site Specific","Unmetered Supplies","LV Generation Aggregated","LV Sub Generation Aggregated","LV Generation Site Specific","LV Generation Site Specific no RP Charge","LV Sub Generation Site Specific","LV Sub Generation Site Specific no RP Charge","HV Generation Site Specific","HV Generation Site Specific no RP Charge",null,"Legal text reference"]
[]
[null,"Description"]
[]
[null,null,"This sheet sets out the inputs that should be constant across DNOs"]
[]
[null,"Fixed inputs"]
[]
[null,null,{"$f":"INDEX('Version control'!$H$34:$H$60,MATCH($A$1,'Version control'!$F$34:$F$60,0),1)&\"-A: Conversions and time\"","v":"Input 504-A: Conversions and time"}]
[]
[null,null,null,null,"Hours per day",null,"hours",24]
[null,null,null,null,"Ten",null,"integer",10]
[null,null,null,null,"One hundred",null,"integer",100]
[null,null,null,null,"One thousand",null,"integer",1000]
[]
[null,null,{"$f":"INDEX('Version control'!$H$34:$H$60,MATCH($A$1,'Version control'!$F$34:$F$60,0),1)&\"-B: Input 101-B: Rounding\"","v":"Input 504-B: Input 101-B: Rounding"}]
[]
[null,null,null,"Number of decimal places each final charge should be rounded to, specified in Paragraph 14."]
[]
[null,null,null,null,"Decimal places",null,null,null,">",null,null,null,null,null,null,null,null,null,null,null,null,null,null,null,null,null,"Paragraph 14"]
[null,null,null,null,null,"Unit rate 1","integer",3]
[null,null,null,null,null,"Unit rate 2","integer",3]
[null,null,null,null,null,"Unit rate 3","integer",3]
[null,null,null,null,null,"Fixed charge","integer",2]
[null,null,null,null,null,"Capacity charge","integer",2]
[null,null,null,null,null,"Exceeded capacity charge","integer",2]
[null,null,null,null,null,"Reactive power charge","integer",3]
[]
[null,null,{"$f":"INDEX('Version control'!$H$34:$H$60,MATCH($A$1,'Version control'!$F$34:$F$60,0),1)&\"-C: Financial and general assumptions\"","v":"Input 504-C: Financial and general assumptions"}]
[]
[null,null,null,null,"Annualisation period",null,"years",40,">",null,null,null,null,null,null,null,null,null,null,null,null,null,null,null,null,null,"Paragraph 57"]
[]
[null,null,null,null,"Power factor",null,"%",0.95,">",null,null,null,null,null,null,null,null,null,null,null,null,null,null,null,null,null,"Paragraphs 21 & 79"]
[]
[null,null,null,null,"Indirect cost proportion",null,"%",0.6,">",null,null,null,null,null,null,null,null,null,null,null,null,null,null,null,null,null,"Paragraph 39"]
[]
[null,null,null,null,"Network model GSP peak demand",null,"MW",500,">",null,null,null,null,null,null,null,null,null,null,null,null,null,null,null,null,null,"Paragraph 20"]
[]
[null,null,{"$f":"INDEX('Version control'!$H$34:$H$60,MATCH($A$1,'Version control'!$F$34:$F$60,0),1)&\"-D: Mappings\"","v":"Input 504-D: Mappings"}]
[]
[null,null,null,null,"LDNO discount map"]
[null,null,null,null,null,"LDNO LV: LV user","1 or 0",null,null,1,1,1,1,1,0,0,1]
[null,null,null,null,null,"LDNO HV: LV user","1 or 0",null,null,1,1,1,1,1,0,0,1]
[null,null,null,null,null,"LDNO HV: LV Sub user","1 or 0",null,null,0,0,0,0,0,1,0,0]
[null,null,null,null,null,"LDNO HV: HV user","1 or 0",null,null,0,0,0,0,0,0,1,0]
[]
[null,null,null,null,"Network level at which users are supplied",null,null,null,">",null,null,null,null,null,null,null,null,null,null,null,null,null,null,null,null,null,"Paragraph 30"]
[null,null,null,null,"Network use factors based on customer contributed assets"]
[null,null,null,null,null,"HV substation","1 or 0",null,null,0,0,0,0,0,0,0,0,0,0,0,0,0,0,0,0]
[null,null,null,null,null,"HV network","1 or 0",null,null,0,0,0,0,0,0,1,0,0,0,0,0,0,0,1,1]
[null,null,null,null,null,"LV substation","1 or 0",null,null,0,0,0,0,0,1,0,0,0,1,0,0,1,1,0,0]
[null,null,null,null,null,"LV network","1 or 0",null,null,1,1,1,1,1,0,0,1,1,0,1,1,0,0,0,0]
[]
[null,null,null,null,"Network use factors (assuming generation contributes at level of connection)"]
[null,null,null,null,"These assume demand and generation use the network from the point of connection."]
[null,null,null,null,null,"Transmission exit","1, 0 or -1",null,null,1,1,1,1,1,1,1,1,-1,-1,-1,-1,-1,-1,-1,-1]
[null,null,null,null,null,"GSPs","1, 0 or -1",null,null,1,1,1,1,1,1,1,1,-1,-1,-1,-1,-1,-1,-1,-1]
[null,null,null,null,null,"132kV","1, 0 or -1",null,null,1,1,1,1,1,1,1,1,-1,-1,-1,-1,-1,-1,-1,-1]
[null,null,null,null,null,"132kV/EHV","1, 0 or -1",null,null,1,1,1,1,1,1,1,1,-1,-1,-1,-1,-1,-1,-1,-1]
[null,null,null,null,null,"EHV","1, 0 or -1",null,null,1,1,1,1,1,1,1,1,-1,-1,-1,-1,-1,-1,-1,-1]
[null,null,null,null,null,"EHV/HV","1, 0 or -1",null,null,1,1,1,1,1,1,1,1,-1,-1,-1,-1,-1,-1,-1,-1]
[null,null,null,null,null,"132kV/HV","1, 0 or -1",null,null,1,1,1,1,1,1,1,1,-1,-1,-1,-1,-1,-1,-1,-1]
[null,null,null,null,null,"HV","1, 0 or -1",null,null,1,1,1,1,1,1,1,1,-1,-1,-1,-1,-1,-1,-1,-1]
[null,null,null,null,null,"HV/LV","1, 0 or -1",null,null,1,1,1,1,1,1,0,1,-1,-1,-1,-1,-1,-1,0,0]
[null,null,null,null,null,"LV circuits","1, 0 or -1",null,null,1,1,1,1,1,0,0,1,-1,0,-1,-1,0,0,0,0]
[]
[null,null,null,null,"Network use factors (assuming generation makes no contribution at level of connection)",null,null,null,">",null,null,null,null,null,null,null,null,null,null,null,null,null,null,null,null,null,"Paragraphs 62 & 71"]
[null,null,null,null,"Equal to 0 for the network level at which generation is connected, otherwise equal to network use factor"]
[null,null,null,null,null,"Transmission exit","1, 0 or -1",null,null,1,1,1,1,1,1,1,1,-1,-1,-1,-1,-1,-1,-1,-1]
[null,null,null,null,null,"GSPs","1, 0 or -1",null,null,1,1,1,1,1,1,1,1,-1,-1,-1,-1,-1,-1,-1,-1]
[null,null,null,null,null,"132kV","1, 0 or -1",null,null,1,1,1,1,1,1,1,1,-1,-1,-1,-1,-1,-1,-1,-1]
[null,null,null,null,null,"132kV/EHV","1, 0 or -1",null,null,1,1,1,1,1,1,1,1,-1,-1,-1,-1,-1,-1,-1,-1]
[null,null,null,null,null,"EHV","1, 0 or -1",null,null,1,1,1,1,1,1,1,1,-1,-1,-1,-1,-1,-1,-1,-1]
[null,null,null,null,null,"EHV/HV","1, 0 or -1",null,null,1,1,1,1,1,1,1,1,-1,-1,-1,-1,-1,-1,-1,-1]
[null,null,null,null,null,"132kV/HV","1, 0 or -1",null,null,1,1,1,1,1,1,1,1,-1,-1,-1,-1,-1,-1,-1,-1]
[null,null,null,null,null,"HV","1, 0 or -1",null,null,1,1,1,1,1,1,1,1,-1,-1,-1,-1,-1,-1,0,0]
[null,null,null,null,null,"HV/LV","1, 0 or -1",null,null,1,1,1,1,1,1,0,1,-1,0,-1,-1,0,0,0,0]
[null,null,null,null,null,"LV circuits","1, 0 or -1",null,null,1,1,1,1,1,0,0,1,0,0,0,0,0,0,0,0]
[]
[null,null,{"$f":"INDEX('Version control'!$H$34:$H$60,MATCH($A$1,'Version control'!$F$34:$F$60,0),1)&\"-E: Standing charge factors\"","v":"Input 504-E: Standing charge factors"}]
[]
[null,null,null,null,"Standing charge factors",null,null,null,">",null,null,null,null,null,null,null,null,null,null,null,null,null,null,null,null,null,"Paragraph 74"]
[null,null,null,null,"Sets the proportion of costs to be recovered through fixed and capacity charge components. "]
[null,null,null,null,null,"Transmission exit","%"]
[null,null,null,null,null,"GSPs","%"]
[null,null,null,null,null,"132kV","%"]
[null,null,null,null,null,"132kV/EHV","%"]
[null,null,null,null,null,"EHV","%",null,null,null,null,null,null,null,null,0.2]
[null,null,null,null,null,"EHV/HV","%",null,null,null,null,null,null,null,null,1]
[null,null,null,null,null,"132kV/HV","%"]
[null,null,null,null,null,"HV","%",null,null,null,null,null,null,0.2,1,1]
[null,null,null,null,null,"HV/LV","%",null,null,null,null,null,null,1,1]
[null,null,null,null,null,"LV circuits","%",null,null,1,1,1,1,1,null,null,0]
[]
[null,null,{"$f":"INDEX('Version control'!$H$34:$H$60,MATCH($A$1,'Version control'!$F$34:$F$60,0),1)&\"-F: Flags\"","v":"Input 504-F: Flags"}]
[]
[null,null,null,"Override discount rate applied"]
[null,null,null,"See Schedule 16, para 125. This has been interpreted to mean that MPANs are fully discounted, "]
[null,null,null,"and everything else is not"]
[null,null,null,null,"MWh"]
[null,null,null,null,null,"Override discount","TRUE / FALSE",null,">",false,false,false,false,false,false,false,false,true,true,true,true,true,true,true,true,null,"Paragraph 99"]
[null,null,null,null,null,"Discount %","%",null,null,null,null,null,null,null,null,null,null,0,0,0,0,0,0,0,0]
[]
[null,null,null,null,"MPANs"]
[null,null,null,null,null,"Override discount","TRUE / FALSE",null,null,false,false,false,false,false,false,false,false,true,true,true,true,true,true,true,true]
[null,null,null,null,null,"Discount %","%",null,null,null,null,null,null,null,null,null,null,1,1,1,1,1,1,1,1]
[]
[null,null,null,null,"Import capacity (kVA)"]
[null,null,null,null,null,"Override discount","TRUE / FALSE",null,null,false,false,false,false,false,false,false,false,true,true,true,true,true,true,true,true]
[null,null,null,null,null,"Discount %","%",null,null,null,null,null,null,null,null,null,null,0,0,0,0,0,0,0,0]
[]
[null,null,null,null,"Exceeded capacity (kVA)"]
[null,null,null,null,null,"Override discount","TRUE / FALSE",null,null,false,false,false,false,false,false,false,false,true,true,true,true,true,true,true,true]
[null,null,null,null,null,"Discount %","%",null,null,null,null,null,null,null,null,null,null,0,0,0,0,0,0,0,0]
[]
[null,null,null,null,"Reactive power units (MVArh)"]
[null,null,null,null,null,"Override discount","TRUE / FALSE",null,null,false,false,false,false,false,false,false,false,true,true,true,true,true,true,true,true]
[null,null,null,null,null,"Discount %","%",null,null,null,null,null,null,null,null,null,null,0,0,0,0,0,0,0,0]
[]
[null,null,null,null,"Unmetered supply flags"]
[null,null,null,null,"These are used to flag UMS tariff forecast in the pseudo load coefficient calculations, because UMS"]
[null,null,null,null,"customers are subject to a different timebanding"]
[null,null,null,null,null,"Unmetered supply flags","TRUE / FALSE",null,null,false,false,false,false,false,false,false,true,false,false,false,false,false,false,false,false]
[]
[null,null,null,null,"Flags used in calculation of LV diversity allowance"]
[null,null,null,null,"FALSE = exclude"]
[null,null,null,null,null,"Flag for customers included in aggregate maximum demand","TRUE / FALSE",null,null,true,false,true,false,true,true,true,true,true,true,true,true,true,true,true,true]
[]
[null,null,null,null,"Flags for applicability of capacity & reactive charges",null,null,null,">",null,null,null,null,null,null,null,null,null,null,null,null,null,null,null,null,null,"Paragraphs 141 & 146"]
[null,null,null,null,"0 = charges not applicable to customer type"]
[null,null,null,null,"For fixed charges, 1 = capacity element is allocated to fixed charges"]
[null,null,null,null,null,"Capacity charge","1 or 0",null,null,0,0,0,0,1,1,1,0,0,0,0,0,0,0,0,0]
[null,null,null,null,null,"Exceeded capacity charge","1 or 0",null,null,0,0,0,0,1,1,1,0,0,0,0,0,0,0,0,0]
[null,null,null,null,null,"Reactive power","1 or 0",null,null,0,0,0,0,1,1,1,0,0,0,1,0,1,0,1,0]
[null,null,null,null,null,"Capacity charge allocated to fixed charge","1 or 0",null,null,1,0,1,0,0,0,0,0,0,0,0,0,0,0,0,0]
[]
[null,null,{"$f":"INDEX('Version control'!$H$34:$H$60,MATCH($A$1,'Version control'!$F$34:$F$60,0),1)&\"-G: Identifiers for customer groupings\"","v":"Input 504-G: Identifiers for customer groupings"}]
[]
[null,null,null,null,"Groupings for fixed charges"]
[null,null,null,null,"Sets out the groups that are aggregated when calculating fixed charges. Each group is given an identifier.",null,null,null,">",null,null,null,null,null,null,null,null,null,null,null,null,null,null,null,null,null,"Paragraph 83"]
[null,null,null,null,null,"Groupings for fixed charges","integer",null,null,1,null,1]
[]
[null,null,null,null,"Groupings for aggregated pseudo-load coefficients",null,null,null,">",null,null,null,null,null,null,null,null,null,null,null,null,null,null,null,null,null,"Paragraph 70 c) iv"]
[null,null,null,null,"Sets out the groups that are equalised for unit rates, as set out in Paragraph 70 c) iv"]
[null,null,null,null,null,"Pseudo-load coefficient aggregation group","integer",null,null,1,1,2,2]
[]
[null,null,{"$f":"INDEX('Version control'!$H$34:$H$60,MATCH($A$1,'Version control'!$F$34:$F$60,0),1)&\"-H: Decimal places for error checks\"","v":"Input 504-H: Decimal places for error checks"}]
[]
[null,null,null,null,"Decimals of precision for error checks",null,"integer",5]
[]
[null,null,{"$f":"INDEX('Version control'!$H$34:$H$60,MATCH($A$1,'Version control'!$F$34:$F$60,0),1)&\"-I: Map of applicable MPANs\"","v":"Input 504-I: Map of applicable MPANs"}]
[]
[null,null,null,null,"Map of applicable MPANs",null,null,null,">",null,null,null,null,null,null,null,null,null,null,null,null,null,null,null,null,null,"Paragraphs 101 and 103"]
[null,null,null,null,null,"Pass-through Supplier of Last Resort Adjustment","1 or 0",null,null,1,0,0,0,0,0,0,0,0,0,0,0,0,0,0,0]
[null,null,null,null,null,"Pass-through Eligible Bad Debt Adjustment","1 or 0",null,null,1,0,1,0,1,1,1,0,0,0,0,0,0,0,0,0]
[]
[null,"Checks"]
[]
[null,null,null,null,"Check for error values",null,"number of issues",{"$f":"SUM(IF(ISERROR(H15:Y146), 1))","v":0}]
[]
[null,null,null,null,"Check that discount overrides are either FALSE, or non-zero"]
[null,null,null,null,null,"MWh override","number of issues",{"$f":"SUM(J166:Y166)","v":0},null,{"$f":"IF( OR( AND(J105 = TRUE, NOT(ISBLANK(J106))), AND(J105 = FALSE, J106 = 0)), 0, 1)","v":0},0,0,0,0,0,0,0,0,0,0,0,0,0,0,0]
[null,null,null,null,null,"MPAN override","number of issues",{"$f":"SUM(J167:Y167)","v":0},null,{"$f":"IF( OR( AND(J109 = TRUE, NOT(ISBLANK(J110))), AND(J109 = FALSE, J110 = 0)), 0, 1)","v":0},0,0,0,0,0,0,0,0,0,0,0,0,0,0,0]
[null,null,null,null,null,"Import capacity override","number of issues",{"$f":"SUM(J168:Y168)","v":0},null,{"$f":"IF( OR( AND(J113 = TRUE, NOT(ISBLANK(J114))), AND(J113 = FALSE, J114 = 0)), 0, 1)","v":0},0,0,0,0,0,0,0,0,0,0,0,0,0,0,0]
[null,null,null,null,null,"Exceeded capacity override","number of issues",{"$f":"SUM(J169:Y169)","v":0},null,{"$f":"IF( OR( AND(J117 = TRUE, NOT(ISBLANK(J118))), AND(J117 = FALSE, J118 = 0)), 0, 1)","v":0},0,0,0,0,0,0,0,0,0,0,0,0,0,0,0]
[null,null,null,null,null,"Reactive power override","number of issues",{"$f":"SUM(J170:Y170)","v":0},null,{"$f":"IF( OR( AND(J121 = TRUE, NOT(ISBLANK(J122))), AND(J121 = FALSE, J122 = 0)), 0, 1)","v":0},0,0,0,0,0,0,0,0,0,0,0,0,0,0,0]
[]
[null,null,null,null,"Summary of checks",null,"number of issues",{"$f":"H163 + SUM(H166:H170)","v":0}]
[]
[null,"End of sheet"]

{"sheet":"Inputs by customer type","index":14,"n_rows":67,"n_cols":27,"rows_kept":67,"cut":false,"hidden":false,"merged":[]}
[{"$f":"MID(CELL(\"filename\",A1),FIND(\"]\",CELL(\"filename\",A1))+1,255)","v":"Inputs by customer type"}]
[{"$f":"Cover!D21&\" - \"&Cover!D23","v":"SP Distribution - One"}]
[{"$f":"Cover!D2&\" - \"&Cover!D8&\" v\"&Cover!D10&\" - \"&Cover!D19","v":"ARP model - Release for charge setting v5 - 2021/22"}]
[{"$f":"H65 & IF(H65 = 1, \" issue\", \" issues\") &\" identified in checks on this sheet\"","v":"0 issues identified in checks on this sheet"}]
[null,"Click here to return to model map",null,null,null,null,"Units","Constants",null,"Domestic Aggregated","Domestic Aggregated (Related MPAN)","Non-Domestic Aggregated","Non-Domestic Aggregated (Related MPAN)","LV Site Specific","LV Sub Site Specific","HV Site Specific","Unmetered Supplies","LV Generation Aggregated","LV Sub Generation Aggregated","LV Generation Site Specific","LV Generation Site Specific no RP Charge","LV Sub Generation Site Specific","LV Sub Generation Site Specific no RP Charge","HV Generation Site Specific","HV Generation Site Specific no RP Charge",null,"Legal text reference"]
[]
[null,"Description"]
[]
[null,null,"This sheet sets out the inputs by customer type to be filled in by DNOs."]
[]
[null,null,null,null,"Charging year selected",null,"year",{"$f":"charging_year_selected","v":"2021/22"}]
[null,null,null,null,"Historic / current / forecast",null,"text",{"$f":"'ARP_User control'!$H$36","v":"Current"}]
[]
[null,"Inputs by customer type"]
[]
[null,null,{"$f":"INDEX('Version control'!$H$34:$H$58,MATCH($A$1,'Version control'!$F$34:$F$58,0),1)&\"-A: Load characteristics\"","v":"Section 501-A: Load characteristics"}]
[]
[null,null,null,null,"Load factor",null,"%",null,">",{"$f":"'ARP_Inputs by customer type'!J19","v":0.44866666666666671},{"$f":"'ARP_Inputs by customer type'!J20","v":9.9666666666666667E-2},{"$f":"'ARP_Inputs by customer type'!J21","v":0.41666666666666669},{"$f":"'ARP_Inputs by customer type'!J22","v":0.32},{"$f":"'ARP_Inputs by customer type'!J23","v":0.55600000000000005},{"$f":"'ARP_Inputs by customer type'!J24","v":0.67266666666666675},{"$f":"'ARP_Inputs by customer type'!J25","v":0.73533333333333328},{"$f":"'ARP_Inputs by customer type'!J26","v":0.45833333333333331},null,null,null,null,null,null,null,null,null,"Paragraph 42 (a)"]
[null,null,null,null,"Coincidence factor",null,"%",null,">",{"$f":"'ARP_Inputs by customer type'!J39","v":0.89866666666666661},null,{"$f":"'ARP_Inputs by customer type'!J41","v":0.66433333333333333},null,{"$f":"'ARP_Inputs by customer type'!J43","v":0.78366666666666662},{"$f":"'ARP_Inputs by customer type'!J44","v":0.78533333333333333},{"$f":"'ARP_Inputs by customer type'!J45","v":0.84533333333333338},{"$f":"'ARP_Inputs by customer type'!J46","v":0.92600000000000016},null,null,null,null,null,null,null,null,null,"Paragraph 42 (b)"]
[]
[null,null,{"$f":"INDEX('Version control'!$H$34:$H$58,MATCH($A$1,'Version control'!$F$34:$F$58,0),1)&\"-B: Volume forecasts for the charging year\"","v":"Section 501-B: Volume forecasts for the charging year"}]
[]
[null,null,null,null,"All the way volume forecast",null,null,null,">",null,null,null,null,null,null,null,null,null,null,null,null,null,null,null,null,null,"Paragraph 52"]
[null,null,null,null,null,"Rate 1 units","MWh",null,null,{"$f":"'ARP_Inputs by customer type'!J61","v":728182.66484023235},{"$f":"'ARP_Inputs by customer type'!J62","v":1325.9025558238502},{"$f":"'ARP_Inputs by customer type'!J63","v":187782.12741331305},{"$f":"'ARP_Inputs by customer type'!J64","v":4172.2410596369182},{"$f":"'ARP_Inputs by customer type'!J65","v":275821.76887612289},{"$f":"'ARP_Inputs by customer type'!J66","v":21569.598912405832},{"$f":"'ARP_Inputs by customer type'!J67","v":322473.77411167003},{"$f":"'ARP_Inputs by customer type'!J68","v":13844.286088792498},{"$f":"'ARP_Inputs by customer type'!J69","v":139.21456342227521},{"$f":"'ARP_Inputs by customer type'!J70","v":2.8776284544589532},{"$f":"'ARP_Inputs by customer type'!J71","v":6131.3814104814819},{"$f":"'ARP_Inputs by customer type'!J72","v":0},{"$f":"'ARP_Inputs by customer type'!J73","v":144.6141525623608},{"$f":"'ARP_Inputs by customer type'!J74","v":0},{"$f":"'ARP_Inputs by customer type'!J75","v":116075.81817719914},{"$f":"'ARP_Inputs by customer type'!J76","v":0}]
[null,null,null,null,null,"Rate 2 units","MWh",null,null,{"$f":"'ARP_Inputs by customer type'!J79","v":2586978.352218715},{"$f":"'ARP_Inputs by customer type'!J80","v":24004.867020018988},{"$f":"'ARP_Inputs by customer type'!J81","v":1017175.5544889377},{"$f":"'ARP_Inputs by customer type'!J82","v":25319.415482001521},{"$f":"'ARP_Inputs by customer type'!J83","v":1322296.4326402938},{"$f":"'ARP_Inputs by customer type'!J84","v":101185.04898982702},{"$f":"'ARP_Inputs by customer type'!J85","v":1497042.8901385467},{"$f":"'ARP_Inputs by customer type'!J86","v":52546.80809158679},{"$f":"'ARP_Inputs by customer type'!J87","v":625.58915267962095},{"$f":"'ARP_Inputs by customer type'!J88","v":11.85801478940583},{"$f":"'ARP_Inputs by customer type'!J89","v":27525.456251959484},{"$f":"'ARP_Inputs by customer type'!J90","v":0},{"$f":"'ARP_Inputs by customer type'!J91","v":597.34783091345412},{"$f":"'ARP_Inputs by customer type'!J92","v":0},{"$f":"'ARP_Inputs by customer type'!J93","v":445212.43930388504},{"$f":"'ARP_Inputs by customer type'!J94","v":0}]
[null,null,null,null,null,"Rate 3 units","MWh",null,null,{"$f":"'ARP_Inputs by customer type'!J97","v":2382458.5766185289},{"$f":"'ARP_Inputs by customer type'!J98","v":245208.33115400965},{"$f":"'ARP_Inputs by customer type'!J99","v":982488.05164342187},{"$f":"'ARP_Inputs by customer type'!J100","v":52561.158034119573},{"$f":"'ARP_Inputs by customer type'!J101","v":1154944.2406044872},{"$f":"'ARP_Inputs by customer type'!J102","v":100898.01610776718},{"$f":"'ARP_Inputs by customer type'!J103","v":1602377.0319897835},{"$f":"'ARP_Inputs by customer type'!J104","v":189052.68521962134},{"$f":"'ARP_Inputs by customer type'!J105","v":698.17114006254928},{"$f":"'ARP_Inputs by customer type'!J106","v":16.006356756135215},{"$f":"'ARP_Inputs by customer type'!J107","v":30981.276337559029},{"$f":"'ARP_Inputs by customer type'!J108","v":0},{"$f":"'ARP_Inputs by customer type'!J109","v":807.27901652418518},{"$f":"'ARP_Inputs by customer type'!J110","v":0},{"$f":"'ARP_Inputs by customer type'!J111","v":507559.16751891578},{"$f":"'ARP_Inputs by customer type'!J112","v":0}]
[null,null,null,null,null,"MPANs","MPANs",null,null,{"$f":"'ARP_Inputs by customer type'!J115","v":1852569},{"$f":"'ARP_Inputs by customer type'!J116","v":100059},{"$f":"'ARP_Inputs by customer type'!J117","v":125030},{"$f":"'ARP_Inputs by customer type'!J118","v":7441},{"$f":"'ARP_Inputs by customer type'!J119","v":10491},{"$f":"'ARP_Inputs by customer type'!J120","v":219},{"$f":"'ARP_Inputs by customer type'!J121","v":1257},{"$f":"'ARP_Inputs by customer type'!J122","v":4868},{"$f":"'ARP_Inputs by customer type'!J123","v":167},{"$f":"'ARP_Inputs by customer type'!J124","v":4},{"$f":"'ARP_Inputs by customer type'!J125","v":472},{"$f":"'ARP_Inputs by customer type'!J126","v":0},{"$f":"'ARP_Inputs by customer type'!J127","v":8},{"$f":"'ARP_Inputs by customer type'!J128","v":0},{"$f":"'ARP_Inputs by customer type'!J129","v":255},{"$f":"'ARP_Inputs by customer type'!J130","v":0}]
[null,null,null,null,null,"Import capacity","kVA",null,null,null,null,null,null,{"$f":"'ARP_Inputs by customer type'!J137","v":1465414},{"$f":"'ARP_Inputs by customer type'!J138","v":92670},{"$f":"'ARP_Inputs by customer type'!J139","v":1282859}]
[null,null,null,null,null,"Exceeded capacity","kVA",null,null,null,null,null,null,{"$f":"'ARP_Inputs by customer type'!J155","v":29539.140000000003},{"$f":"'ARP_Inputs by customer type'!J156","v":1042.17},{"$f":"'ARP_Inputs by customer type'!J157","v":16267.89}]
[null,null,null,null,null,"Reactive power units","MVArh",null,null,null,null,null,null,{"$f":"'ARP_Inputs by customer type'!J173","v":241920},{"$f":"'ARP_Inputs by customer type'!J174","v":19020},{"$f":"'ARP_Inputs by customer type'!J175","v":250200},null,null,null,{"$f":"'ARP_Inputs by customer type'!J179","v":4452},null,{"$f":"'ARP_Inputs by customer type'!J181","v":408},null,{"$f":"'ARP_Inputs by customer type'!J183","v":16464}]
[]
[null,null,null,null,"LDNO LV volume forecast",null,null,null,">",null,null,null,null,null,null,null,null,null,null,null,null,null,null,null,null,null,"Paragraph 52"]
[null,null,null,null,null,"Rate 1 units","MWh",null,null,{"$f":"'ARP_Inputs by customer type'!J189","v":13713.32246963591},{"$f":"'ARP_Inputs by customer type'!J190","v":1.3981029513384524},{"$f":"'ARP_Inputs by customer type'!J191","v":601.04321517970027},{"$f":"'ARP_Inputs by customer type'!J192","v":0},{"$f":"'ARP_Inputs by customer type'!J193","v":1596.4649999999999},null,null,{"$f":"'ARP_Inputs by customer type'!J196","v":20.430032150505486},{"$f":"'ARP_Inputs by customer type'!J197","v":0.57025605316046324},null,{"$f":"'ARP_Inputs by customer type'!J199","v":0}]
[null,null,null,null,null,"Rate 2 units","MWh",null,null,{"$f":"'ARP_Inputs by customer type'!J207","v":48809.781090218552},{"$f":"'ARP_Inputs by customer type'!J208","v":25.329659479528413},{"$f":"'ARP_Inputs by customer type'!J209","v":3253.025245448257},{"$f":"'ARP_Inputs by customer type'!J210","v":0},{"$f":"'ARP_Inputs by customer type'!J211","v":7155.5069999999996},null,null,{"$f":"'ARP_Inputs by customer type'!J214","v":273.96068150852608},{"$f":"'ARP_Inputs by customer type'!J215","v":2.0830307980493821},null,{"$f":"'ARP_Inputs by customer type'!J217","v":0}]
[null,null,null,null,null,"Rate 3 units","MWh",null,null,{"$f":"'ARP_Inputs by customer type'!J225","v":44956.580637555373},{"$f":"'ARP_Inputs by customer type'!J226","v":257.47123756913317},{"$f":"'ARP_Inputs by customer type'!J227","v":3140.330539372042},{"$f":"'ARP_Inputs by customer type'!J228","v":0},{"$f":"'ARP_Inputs by customer type'!J229","v":6545.246000000001},null,null,{"$f":"'ARP_Inputs by customer type'!J232","v":303.25428634096841},{"$f":"'ARP_Inputs by customer type'!J233","v":1.9454499908954175},null,{"$f":"'ARP_Inputs by customer type'!J235","v":0}]
[null,null,null,null,null,"MPANs","MPANs",null,null,{"$f":"'ARP_Inputs by customer type'!J243","v":41179.93548387097},{"$f":"'ARP_Inputs by customer type'!J244","v":67},{"$f":"'ARP_Inputs by customer type'!J245","v":1036.6774193548388},{"$f":"'ARP_Inputs by customer type'!J246","v":0},{"$f":"'ARP_Inputs by customer type'!J247","v":76},null,null,{"$f":"'ARP_Inputs by customer type'!J250","v":34},{"$f":"'ARP_Inputs by customer type'!J251","v":3},null,{"$f":"'ARP_Inputs by customer type'!J253","v":0}]
[null,null,null,null,null,"Import capacity","kVA",null,null,null,null,null,null,{"$f":"'ARP_Inputs by customer type'!J265","v":10403}]
[null,null,null,null,null,"Exceeded capacity","kVA",null,null,null,null,null,null,{"$f":"'ARP_Inputs by customer type'!J283","v":41.612000000000002}]
[null,null,null,null,null,"Reactive power units","MVArh",null,null,null,null,null,null,{"$f":"'ARP_Inputs by customer type'!J301","v":936},null,null,null,null,null,{"$f":"'ARP_Inputs by customer type'!J307","v":0}]
[]
[null,null,null,null,"LDNO HV volume forecast",null,null,null,">",null,null,null,null,null,null,null,null,null,null,null,null,null,null,null,null,null,"Paragraph 52"]
[null,null,null,null,null,"Rate 1 units","MWh",null,null,{"$f":"'ARP_Inputs by customer type'!J317","v":20104.099696926573},{"$f":"'ARP_Inputs by customer type'!J318","v":2.0480897481131533},{"$f":"'ARP_Inputs by customer type'!J319","v":2081.7354094794059},{"$f":"'ARP_Inputs by customer type'!J320","v":0},{"$f":"'ARP_Inputs by customer type'!J321","v":13322.004999999999},{"$f":"'ARP_Inputs by customer type'!J322","v":2210.538},{"$f":"'ARP_Inputs by customer type'!J323","v":5129.4559999999992},{"$f":"'ARP_Inputs by customer type'!J324","v":30.879361230900383},{"$f":"'ARP_Inputs by customer type'!J325","v":0.25597879022110009},{"$f":"'ARP_Inputs by customer type'!J326","v":0},{"$f":"'ARP_Inputs by customer type'!J327","v":0},null,{"$f":"'ARP_Inputs by customer type'!J329","v":0},null,{"$f":"'ARP_Inputs by customer type'!J331","v":0}]
[null,null,null,null,null,"Rate 2 units","MWh",null,null,{"$f":"'ARP_Inputs by customer type'!J335","v":71593.395504093525},{"$f":"'ARP_Inputs by customer type'!J336","v":37.263746671521595},{"$f":"'ARP_Inputs by customer type'!J337","v":11268.104540991542},{"$f":"'ARP_Inputs by customer type'!J338","v":0},{"$f":"'ARP_Inputs by customer type'!J339","v":59210.165999999997},{"$f":"'ARP_Inputs by customer type'!J340","v":9690.4299999999985},{"$f":"'ARP_Inputs by customer type'!J341","v":23108.695},{"$f":"'ARP_Inputs by customer type'!J342","v":425.49872061278865},{"$f":"'ARP_Inputs by customer type'!J343","v":0.94265200118290493},{"$f":"'ARP_Inputs by customer type'!J344","v":0},{"$f":"'ARP_Inputs by customer type'!J345","v":0},null,{"$f":"'ARP_Inputs by customer type'!J347","v":0},null,{"$f":"'ARP_Inputs by customer type'!J349","v":0}]
[null,null,null,null,null,"Rate 3 units","MWh",null,null,{"$f":"'ARP_Inputs by customer type'!J353","v":65951.865798979896},{"$f":"'ARP_Inputs by customer type'!J354","v":378.23816358036527},{"$f":"'ARP_Inputs by customer type'!J355","v":10881.052049529049},{"$f":"'ARP_Inputs by customer type'!J356","v":0},{"$f":"'ARP_Inputs by customer type'!J357","v":50706.112000000001},{"$f":"'ARP_Inputs by customer type'!J358","v":8312.2019999999993},{"$f":"'ARP_Inputs by customer type'!J359","v":25303.565000000002},{"$f":"'ARP_Inputs by customer type'!J360","v":470.53235815631092},{"$f":"'ARP_Inputs by customer type'!J361","v":0.86715492288170914},{"$f":"'ARP_Inputs by customer type'!J362","v":0},{"$f":"'ARP_Inputs by customer type'!J363","v":0},null,{"$f":"'ARP_Inputs by customer type'!J365","v":0},null,{"$f":"'ARP_Inputs by customer type'!J367","v":0}]
[null,null,null,null,null,"MPANs","MPANs",null,null,{"$f":"'ARP_Inputs by customer type'!J371","v":58740.548387096773},{"$f":"'ARP_Inputs by customer type'!J372","v":78.451612903225808},{"$f":"'ARP_Inputs by customer type'!J373","v":1509.8709677419354},{"$f":"'ARP_Inputs by customer type'!J374","v":0},{"$f":"'ARP_Inputs by customer type'!J375","v":381},{"$f":"'ARP_Inputs by customer type'!J376","v":26},{"$f":"'ARP_Inputs by customer type'!J377","v":30},{"$f":"'ARP_Inputs by customer type'!J378","v":46},{"$f":"'ARP_Inputs by customer type'!J379","v":5},{"$f":"'ARP_Inputs by customer type'!J380","v":0},{"$f":"'ARP_Inputs by customer type'!J381","v":0},null,{"$f":"'ARP_Inputs by customer type'!J383","v":0},null,{"$f":"'ARP_Inputs by customer type'!J385","v":0}]
[null,null,null,null,null,"Import capacity","kVA",null,null,null,null,null,null,{"$f":"'ARP_Inputs by customer type'!J393","v":87614},{"$f":"'ARP_Inputs by customer type'!J394","v":13995},{"$f":"'ARP_Inputs by customer type'!J395","v":28618}]
[null,null,null,null,null,"Exceeded capacity","kVA",null,null,null,null,null,null,{"$f":"'ARP_Inputs by customer type'!J411","v":175.22800000000001},{"$f":"'ARP_Inputs by customer type'!J412","v":0},{"$f":"'ARP_Inputs by customer type'!J413","v":14.309000000000001}]
[null,null,null,null,null,"Reactive power units","MVArh",null,null,null,null,null,null,{"$f":"'ARP_Inputs by customer type'!J429","v":9000},{"$f":"'ARP_Inputs by customer type'!J430","v":1320},{"$f":"'ARP_Inputs by customer type'!J431","v":1908},null,null,null,{"$f":"'ARP_Inputs by customer type'!J435","v":0},null,{"$f":"'ARP_Inputs by customer type'!J437","v":0},null,{"$f":"'ARP_Inputs by customer type'!J439","v":0}]
[]
[null,null,null,null,"'Designated Property' MPANs with EDCM-level LDNO boundaries",null,"MPANs",null,">",{"$f":"TRANSPOSE('ARP_Inputs by customer type'!J445:J460)","v":3083},0,42,0,18,0,4,0,0,0,0,0,0,0,0,0,null,"Paragraphs 53A, 53B, 101 and 102"]
[]
[null,null,{"$f":"INDEX('Version control'!$H$34:$H$58,MATCH($A$1,'Version control'!$F$34:$F$58,0),1)&\"-C: Service model asset values\"","v":"Section 501-C: Service model asset values"}]
[]
[null,null,null,"Service model costs should be entered per customer or per MWh for unmetered customers"]
[null,null,null,null,null,null,null,null,">",null,null,null,null,null,null,null,null,null,null,null,null,null,null,null,null,null,"Paragraphs 32 to 37"]
[null,null,null,null,"LV customer service model asset values",null,"£ per MPAN",null,null,{"$f":"'ARP_Inputs by customer type'!J469","v":377.70000000000005},null,{"$f":"'ARP_Inputs by customer type'!J471","v":508.75},null,{"$f":"'ARP_Inputs by customer type'!J473","v":2380},{"$f":"'ARP_Inputs by customer type'!J474","v":840},null,null,{"$f":"'ARP_Inputs by customer type'!J477","v":0},{"$f":"'ARP_Inputs by customer type'!J478","v":0},{"$f":"'ARP_Inputs by customer type'!J479","v":0},{"$f":"'ARP_Inputs by customer type'!J480","v":0},{"$f":"'ARP_Inputs by customer type'!J481","v":0},{"$f":"'ARP_Inputs by customer type'!J482","v":0}]
[null,null,null,null,"HV customer service model asset values",null,"£ per MPAN",null,null,null,null,null,null,null,null,{"$f":"'ARP_Inputs by customer type'!J495","v":12718.10554},null,null,null,null,null,null,null,{"$f":"'ARP_Inputs by customer type'!J503","v":9287},{"$f":"'ARP_Inputs by customer type'!J504","v":9287}]
[]
[null,null,null,null,"LV UMS customer service model asset values",null,"£/MWh/year",null,">",null,null,null,null,null,null,null,{"$f":"'ARP_Inputs by customer type'!J516","v":120.51},null,null,null,null,null,null,null,null,null,"Paragraph 36"]
[]
[null,"Checks"]
[]
[null,null,null,null,"Check for error values",null,"number of issues",{"$f":"SUM(IF(ISERROR(H16:Y60), 1))","v":0}]
[]
[null,null,null,null,"Summary of checks",null,"number of issues",{"$f":"H63","v":0}]
[]
[null,"End of sheet"]

{"sheet":"Inputs by network level","index":15,"n_rows":61,"n_cols":21,"rows_kept":61,"cut":false,"hidden":false,"merged":[]}
[{"$f":"MID(CELL(\"filename\",A1),FIND(\"]\",CELL(\"filename\",A1))+1,255)","v":"Inputs by network level"}]
[{"$f":"Cover!D21&\" - \"&Cover!D23","v":"SP Distribution - One"}]
[{"$f":"Cover!D2&\" - \"&Cover!D8&\" v\"&Cover!D10&\" - \"&Cover!D19","v":"ARP model - Release for charge setting v5 - 2021/22"}]
[{"$f":"H59 & IF(H59 = 1, \" issue\", \" issues\") &\" identified in checks on this sheet\"","v":"0 issues identified in checks on this sheet"}]
[null,"Click here to return to model map",null,null,null,null,"Units","Constants",null,"Transmission exit","GSPs","132kV","132kV/EHV","EHV","EHV/HV","132kV/HV","HV","HV/LV","LV circuits",null,"Legal text reference"]
[]
[null,"Description"]
[]
[null,null,"This sheet sets out the inputs by network level to be filled in by DNOs."]
[]
[null,null,null,null,"Charging year selected",null,"year",{"$f":"charging_year_selected","v":"2021/22"}]
[null,null,null,null,"Historic / current / forecast",null,"text",{"$f":"'ARP_User control'!$H$36","v":"Current"}]
[]
[null,"Inputs by network level"]
[]
[null,null,{"$f":"INDEX('Version control'!$H$34:$H$58,MATCH($A$1,'Version control'!$F$34:$F$58,0),1)&\"-A: Network and load inputs\"","v":"Section 502-A: Network and load inputs"}]
[]
[null,null,null,null,"Diversity allowance between top and bottom of network level",null,"%",null,">",null,{"$f":"'ARP_Inputs by network level'!J20","v":0.11600000000000001},{"$f":"'ARP_Inputs by network level'!J21","v":0},null,{"$f":"'ARP_Inputs by network level'!J23","v":0.13},null,null,{"$f":"'ARP_Inputs by network level'!J26","v":0.25},null,null,null,"Paragraphs 26 to 28"]
[]
[null,null,null,null,"Proportion of load going through 132kV/HV direct transformation",null,"%",null,null,null,null,null,null,null,null,{"$f":"'ARP_Inputs by network level'!J39","v":0}]
[]
[null,null,null,null,"Loss adjustment factors to transmission",null,"scalar",null,">",null,{"$f":"'ARP_Inputs by network level'!J48","v":1},{"$f":"'ARP_Inputs by network level'!J49","v":1},{"$f":"'ARP_Inputs by network level'!J50","v":1},{"$f":"'ARP_Inputs by network level'!J51","v":1.004},{"$f":"'ARP_Inputs by network level'!J52","v":1.0129999999999999},null,{"$f":"'ARP_Inputs by network level'!J54","v":1.026},{"$f":"'ARP_Inputs by network level'!J55","v":1.044},{"$f":"'ARP_Inputs by network level'!J56","v":1.0980000000000001},null,"Paragraph 47"]
[]
[null,null,null,null,"Average kVAr by kVA, by network level",null,"kVAr/kVA",null,">",null,{"$f":"'ARP_Inputs by network level'!J62","v":0.26509994640061324},{"$f":"'ARP_Inputs by network level'!J63","v":0},{"$f":"'ARP_Inputs by network level'!J64","v":0},{"$f":"'ARP_Inputs by network level'!J65","v":0.26509994640061324},{"$f":"'ARP_Inputs by network level'!J66","v":0.21690566590786087},{"$f":"'ARP_Inputs by network level'!J67","v":0},{"$f":"'ARP_Inputs by network level'!J68","v":0.21690566590786087},{"$f":"'ARP_Inputs by network level'!J69","v":0.21690566590786087},{"$f":"'ARP_Inputs by network level'!J70","v":0.21690566590786087},null,"Paragraphs 50 to 51"]
[]
[null,null,{"$f":"INDEX('Version control'!$H$34:$H$58,MATCH($A$1,'Version control'!$F$34:$F$58,0),1)&\"-B: Customer contributions under current connection charging policy\"","v":"Section 502-B: Customer contributions under current connection charging policy"}]
[null,null,null,null,null,null,null,null,">",null,null,null,null,null,null,null,null,null,null,null,"Paragraphs 29 to 31"]
[null,null,null,null,"Customer contributions under current connection charging policy"]
[null,null,null,null,null,"LV network","%",null,null,null,null,{"$f":"'ARP_Inputs by network level'!J78","v":0},{"$f":"'ARP_Inputs by network level'!J79","v":0},{"$f":"'ARP_Inputs by network level'!J80","v":0},{"$f":"'ARP_Inputs by network level'!J81","v":0},{"$f":"'ARP_Inputs by network level'!J82","v":0},{"$f":"'ARP_Inputs by network level'!J83","v":0.20065197841726601},{"$f":"'ARP_Inputs by network level'!J84","v":0.26968503937007898},{"$f":"'ARP_Inputs by network level'!J85","v":0.92371773930088197}]
[null,null,null,null,null,"LV substation","%",null,null,null,null,{"$f":"'ARP_Inputs by network level'!J89","v":0},{"$f":"'ARP_Inputs by network level'!J90","v":0},{"$f":"'ARP_Inputs by network level'!J91","v":0},{"$f":"'ARP_Inputs by network level'!J92","v":0},{"$f":"'ARP_Inputs by network level'!J93","v":0},{"$f":"'ARP_Inputs by network level'!J94","v":0.20065197841726601},{"$f":"'ARP_Inputs by network level'!J95","v":0.26968503937007898}]
[null,null,null,null,null,"HV network","%",null,null,null,null,{"$f":"'ARP_Inputs by network level'!J100","v":0},{"$f":"'ARP_Inputs by network level'!J101","v":0},{"$f":"'ARP_Inputs by network level'!J102","v":3.11004784688995E-2},{"$f":"'ARP_Inputs by network level'!J103","v":0.14212259371833799},{"$f":"'ARP_Inputs by network level'!J104","v":0},{"$f":"'ARP_Inputs by network level'!J105","v":0.45146695143884902}]
[null,null,null,null,null,"HV substation","%",null,null,null,null,{"$f":"'ARP_Inputs by network level'!J111","v":0},{"$f":"'ARP_Inputs by network level'!J112","v":0},{"$f":"'ARP_Inputs by network level'!J113","v":3.11004784688995E-2},{"$f":"'ARP_Inputs by network level'!J114","v":0.14212259371833799}]
[]
[null,null,{"$f":"INDEX('Version control'!$H$34:$H$58,MATCH($A$1,'Version control'!$F$34:$F$58,0),1)&\"-C: DRM asset costs\"","v":"Section 502-C: DRM asset costs"}]
[]
[null,null,null,null,"Gross asset cost by network level",null,"£",null,">",null,null,{"$f":"'ARP_Inputs by network level'!J125","v":0},{"$f":"'ARP_Inputs by network level'!J126","v":0},{"$f":"'ARP_Inputs by network level'!J127","v":115483848.7018043},{"$f":"'ARP_Inputs by network level'!J128","v":29592148.796136998},{"$f":"'ARP_Inputs by network level'!J129","v":0},{"$f":"'ARP_Inputs by network level'!J130","v":127306253.13245735},{"$f":"'ARP_Inputs by network level'!J131","v":31995666.142905347},{"$f":"'ARP_Inputs by network level'!J132","v":53817722.025625169}]
[]
[null,null,{"$f":"INDEX('Version control'!$H$34:$H$58,MATCH($A$1,'Version control'!$F$34:$F$58,0),1)&\"-D: Peaking probabilities by network level\"","v":"Section 502-D: Peaking probabilities by network level"}]
[]
[null,null,null,"Red, Amber & Green peaking probabilities must sum to 100%, except for unused network levels, which should sum to 0%"]
[]
[null,null,null,null,"Peaking probabilities by network level",null,null,null,">",null,null,null,null,null,null,null,null,null,null,null,"Paragraphs 48 to 49"]
[null,null,null,null,null,"Red","%",null,null,null,{"$f":"'ARP_Inputs by network level'!J140","v":0.73685290844250551},{"$f":"'ARP_Inputs by network level'!J141","v":0},{"$f":"'ARP_Inputs by network level'!J142","v":0},{"$f":"'ARP_Inputs by network level'!J143","v":0.73685290844250551},{"$f":"'ARP_Inputs by network level'!J144","v":0.64549570804091005},{"$f":"'ARP_Inputs by network level'!J145","v":0},{"$f":"'ARP_Inputs by network level'!J146","v":0.64549570804091005},{"$f":"'ARP_Inputs by network level'!J147","v":0.64549570804091005},{"$f":"'ARP_Inputs by network level'!J148","v":0.64549570804091005}]
[null,null,null,null,null,"Amber","%",null,null,null,{"$f":"'ARP_Inputs by network level'!J152","v":0.25763649230764868},{"$f":"'ARP_Inputs by network level'!J153","v":0},{"$f":"'ARP_Inputs by network level'!J154","v":0},{"$f":"'ARP_Inputs by network level'!J155","v":0.25763649230764868},{"$f":"'ARP_Inputs by network level'!J156","v":0.33912381234136874},{"$f":"'ARP_Inputs by network level'!J157","v":0},{"$f":"'ARP_Inputs by network level'!J158","v":0.33912381234136874},{"$f":"'ARP_Inputs by network level'!J159","v":0.33912381234136874},{"$f":"'ARP_Inputs by network level'!J160","v":0.33912381234136874}]
[null,null,null,null,null,"Green","%",null,null,null,{"$f":"'ARP_Inputs by network level'!J164","v":5.5105992498457714E-3},{"$f":"'ARP_Inputs by network level'!J165","v":0},{"$f":"'ARP_Inputs by network level'!J166","v":0},{"$f":"'ARP_Inputs by network level'!J167","v":5.5105992498457714E-3},{"$f":"'ARP_Inputs by network level'!J168","v":1.5380479617721122E-2},{"$f":"'ARP_Inputs by network level'!J169","v":0},{"$f":"'ARP_Inputs by network level'!J170","v":1.5380479617721122E-2},{"$f":"'ARP_Inputs by network level'!J171","v":1.5380479617721122E-2},{"$f":"'ARP_Inputs by network level'!J172","v":1.5380479617721122E-2}]
[null,null,null,null,null,"Black","%",null,null,null,{"$f":"'ARP_Inputs by network level'!J176","v":0.67055113994438198},{"$f":"'ARP_Inputs by network level'!J177","v":0},{"$f":"'ARP_Inputs by network level'!J178","v":0},{"$f":"'ARP_Inputs by network level'!J179","v":0.67055113994438198},{"$f":"'ARP_Inputs by network level'!J180","v":0.60511449175300125},{"$f":"'ARP_Inputs by network level'!J181","v":0},{"$f":"'ARP_Inputs by network level'!J182","v":0.60511449175300125},{"$f":"'ARP_Inputs by network level'!J183","v":0.60511449175300125},{"$f":"'ARP_Inputs by network level'!J184","v":0.60511449175300125}]
[]
[null,"Checks"]
[]
[null,null,null,null,"Check for error values",null,"number of issues",{"$f":"SUM(IF(ISERROR(H18:AA47), 1))","v":0}]
[]
[null,null,null,null,"Check that loss adjustment factor = 1 at grid supply point",null,"number of issues",{"$f":"IF(K22 = 1, 0, 1)","v":0}]
[]
[null,null,null,null,"Peaking probabilities check"]
[null,null,null,null,"0% peaking probabilities are permitted for 132kV, 132kV/EHV & 132kV/HV network levels, which do not exist for all DNOs"]
[null,null,null,null,null,"General","number of issues",{"$f":"SUM(K56:S56)","v":0},null,null,{"$f":"IF(ABS(SUM(K43:K45) - 1) < 10^-check_decimals, 0, 1)","v":0},null,null,{"$f":"IF(ABS(SUM(N43:N45) - 1) < 10^-check_decimals, 0, 1)","v":0},{"$f":"IF(ABS(SUM(O43:O45) - 1) < 10^-check_decimals, 0, 1)","v":0},null,{"$f":"IF(ABS(SUM(Q43:Q45) - 1) < 10^-check_decimals, 0, 1)","v":0},{"$f":"IF(ABS(SUM(R43:R45) - 1) < 10^-check_decimals, 0, 1)","v":0},{"$f":"IF(ABS(SUM(S43:S45) - 1) < 10^-check_decimals, 0, 1)","v":0}]
[null,null,null,null,null,"132kV","number of issues",{"$f":"SUM(K57:S57)","v":0},null,null,null,{"$f":"IF(OR(ABS(SUM(L43:L45) - 1) < 10^-check_decimals, ABS(SUM(L43:L45) - 0) < 10^-check_decimals), 0, 1)","v":0},{"$f":"IF(OR(ABS(SUM(M43:M45) - 1) < 10^-check_decimals, ABS(SUM(M43:M45) - 0) < 10^-check_decimals), 0, 1)","v":0},null,null,{"$f":"IF(OR(ABS(SUM(P43:P45) - 1) < 10^-check_decimals, ABS(SUM(P43:P45) - 0) < 10^-check_decimals), 0, 1)","v":0}]
[]
[null,null,null,null,"Summary of checks",null,"number of issues",{"$f":"SUM(H50:H57)","v":0}]
[]
[null,"End of sheet"]

{"sheet":"General inputs","index":16,"n_rows":119,"n_cols":10,"rows_kept":119,"cut":false,"hidden":false,"merged":[]}
[{"$f":"MID(CELL(\"filename\",A1),FIND(\"]\",CELL(\"filename\",A1))+1,255)","v":"General inputs"}]
[{"$f":"Cover!D21&\" - \"&Cover!D23","v":"SP Distribution - One"}]
[{"$f":"Cover!D2&\" - \"&Cover!D8&\" v\"&Cover!D10&\" - \"&Cover!D19","v":"ARP model - Release for charge setting v5 - 2021/22"}]
[{"$f":"H117 & IF(H117 = 1, \" issue\", \" issues\") &\" identified in checks on this sheet\"","v":"0 issues identified in checks on this sheet"}]
[null,"Click here to return to model map",null,null,null,null,"Units","Constants",null,"Legal text reference"]
[]
[null,"Description"]
[]
[null,null,"This sheet sets out the other inputs to be filled in by DNOs"]
[]
[null,null,null,null,"Charging year selected",null,"year",{"$f":"charging_year_selected","v":"2021/22"}]
[null,null,null,null,"Historic / current / forecast",null,"text",{"$f":"'ARP_User control'!$H$36","v":"Current"}]
[]
[null,"General inputs"]
[]
[null,null,{"$f":"INDEX('Version control'!$H$34:$H$58,MATCH($A$1,'Version control'!$F$34:$F$58,0),1)&\"-A: Inputs by distribution timeband\"","v":"Section 503-A: Inputs by distribution timeband"}]
[]
[null,null,null,"Typical annual hours by special distribution time band",null,null,null,null,">","Paragraphs 40 to 41"]
[null,null,null,null,"Black",null,"hours per year",{"$f":"'ARP_General inputs'!J19","v":258}]
[null,null,null,null,"Yellow",null,"hours per year",{"$f":"'ARP_General inputs'!J20","v":3942.5}]
[null,null,null,null,"Green",null,"hours per year",{"$f":"'ARP_General inputs'!J21","v":4559.5}]
[]
[null,null,null,"Typical annual hours by distribution time band",null,null,null,null,">","Paragraphs 40 to 41"]
[null,null,null,null,"Red",null,"hours per year",{"$f":"'ARP_General inputs'!J24","v":783}]
[null,null,null,null,"Amber",null,"hours per year",{"$f":"'ARP_General inputs'!J25","v":3417.5}]
[null,null,null,null,"Green",null,"hours per year",{"$f":"'ARP_General inputs'!J26","v":4559.5}]
[]
[null,null,{"$f":"INDEX('Version control'!$H$34:$H$58,MATCH($A$1,'Version control'!$F$34:$F$58,0),1)&\"-B: LDNO discount inputs\"","v":"Section 503-B: LDNO discount inputs"}]
[]
[null,null,null,"Inputs sourced from the PCDM"]
[]
[null,null,null,"Embedded network (LDNO) discount percentages",null,null,null,null,">","Paragraph 53"]
[null,null,null,null,"LDNO LV: LV user",null,"%",{"$f":"'ARP_General inputs'!J33","v":0.39067242808448932}]
[null,null,null,null,"LDNO HV: LV user",null,"%",{"$f":"'ARP_General inputs'!J34","v":0.60361788113874959}]
[null,null,null,null,"LDNO HV: LV Sub user",null,"%",{"$f":"'ARP_General inputs'!J35","v":0.34819248571328243}]
[null,null,null,null,"LDNO HV: HV user",null,"%",{"$f":"'ARP_General inputs'!J36","v":0.25174009320591562}]
[]
[null,null,{"$f":"INDEX('Version control'!$H$34:$H$58,MATCH($A$1,'Version control'!$F$34:$F$58,0),1)&\"-C: CDCM target revenue\"","v":"Section 503-C: CDCM target revenue"}]
[]
[null,null,null,"The contents of this table are defined in Paragraph 1.5 of Schedule 15 (Table 1)",null,null,null,null,">","Paragraph 54 and Schedule 15 Table 1"]
[null,null,null,"\"Latest forecast of CDCM Revenue\" is the only row used as an input to the model itself"]
[]
[null,null,null,null,"Base Demand Revenue before inflation",null,"£",{"$f":"'ARP_General inputs'!J43","v":346000000}]
[null,null,null,null,"Annual Iteration adjustment before inflation",null,"£",{"$f":"'ARP_General inputs'!J44","v":-13483324.791387133}]
[null,null,null,null,"RPI True-up before inflation",null,"£",{"$f":"'ARP_General inputs'!J45","v":-2617430.5441080644}]
[null,null,null,null,"Price index adjustment (RPI index)",null,"scalar",{"$f":"'ARP_General inputs'!J46","v":1.2609999999999999}]
[null,null,null,null,"Base demand revenue",null,"£",{"$f":"SUM(H43:H45)","v":329899244.66450477}]
[null,null,null,null,"Inflation adjustment",null,"£",{"$f":"H47 * (H46 - 1)","v":86103702.857435703}]
[]
[null,null,null,null,"Pass-Through Licence Fees",null,"£",{"$f":"'ARP_General inputs'!J50","v":381935.68229276169}]
[null,null,null,null,"Pass-Through Business Rates",null,"£",{"$f":"'ARP_General inputs'!J51","v":-11566275.226868516}]
[null,null,null,null,"Pass-Through Transmission Connection Point Charges",null,"£",{"$f":"'ARP_General inputs'!J52","v":8418434.0577780586}]
[null,null,null,null,"Pass-through Smart Meter Communication Licence Costs",null,"£",{"$f":"'ARP_General inputs'!J53","v":1781216.1251461192}]
[null,null,null,null,"Pass-through Smart Meter IT Costs",null,"£",{"$f":"'ARP_General inputs'!J54","v":14896.347279979647}]
[null,null,null,null,"Pass-through Ring Fence Costs",null,"£",{"$f":"'ARP_General inputs'!J55","v":0}]
[null,null,null,null,"Pass-through Supplier of Last Resort Adjustment",null,"£",{"$f":"'ARP_General inputs'!J56","v":47073.343842731156}]
[null,null,null,null,"Pass-through Eligible Bad Debt Adjustment",null,"£",{"$f":"'ARP_General inputs'!J57","v":1417380.0307358583}]
[null,null,null,null,"Pass-Through Others",null,"£",{"$f":"'ARP_General inputs'!J58","v":0}]
[null,null,null,null,"Allowed Pass-Through Items",null,"£",{"$f":"SUM(H50:H58)","v":494660.36020699225}]
[]
[null,null,null,null,"Broad Measure of Customer Service incentive",null,"£",{"$f":"'ARP_General inputs'!J61","v":3925182.3924593851}]
[null,null,null,null,"Quality of Service incentive",null,"£",{"$f":"'ARP_General inputs'!J62","v":8075106.4802583205}]
[null,null,null,null,"Connections Engagement incentive",null,"£",{"$f":"'ARP_General inputs'!J63","v":0}]
[null,null,null,null,"Time to Connect incentive",null,"£",{"$f":"'ARP_General inputs'!J64","v":713669.52590170642}]
[null,null,null,null,"Losses Discretionary Reward incentive",null,"£",{"$f":"'ARP_General inputs'!J65","v":735162.99999999988}]
[null,null,null,null,"Network Innovation Allowance",null,"£",{"$f":"'ARP_General inputs'!J66","v":1657301.5080000001}]
[null,null,null,null,"Low Carbon Network Fund - Tier 1 unrecoverable",null,"£",{"$f":"'ARP_General inputs'!J67","v":0}]
[null,null,null,null,"Low Carbon Network Fund - Tier 2 & Discretionary Funding",null,"£",{"$f":"'ARP_General inputs'!J68","v":0}]
[null,null,null,null,"Connection Guaranteed Standards Systems & Processes penalty",null,"£",{"$f":"'ARP_General inputs'!J69","v":0}]
[null,null,null,null,"Residual Losses and Growth Incentive - Losses",null,"£",{"$f":"'ARP_General inputs'!J70","v":0}]
[null,null,null,null,"Residual Losses and Growth Incentive - Growth",null,"£",{"$f":"'ARP_General inputs'!J71","v":0}]
[null,null,null,null,"Incentive Revenue and Other Adjustments",null,"£",{"$f":"SUM(H61:H71)","v":15106422.906619411}]
[]
[null,null,null,null,"Correction Factor",null,"£",{"$f":"'ARP_General inputs'!J74","v":-5553744.6795161283}]
[null,null,null,null,"Total allowed Revenue",null,"£",{"$f":"H74 + H72 + H59 + H48 + H47","v":426050286.10925072}]
[]
[null,null,null,null,"Other 1. Excluded services - Top-up, standby, and enhanced system security",null,"£",{"$f":"'ARP_General inputs'!J77","v":0}]
[null,null,null,null,"Other 2. Excluded services - Revenue protection services",null,"£",{"$f":"'ARP_General inputs'!J78","v":687596.03530468408}]
[null,null,null,null,"Other 3. Excluded services - Miscellaneous",null,"£",{"$f":"'ARP_General inputs'!J79","v":0}]
[null,null,null,null,"Other 4. Please describe if used",null,"£",{"$f":"'ARP_General inputs'!J80","v":0}]
[null,null,null,null,"Other 5. Please describe if used",null,"£",{"$f":"'ARP_General inputs'!J81","v":0}]
[null,null,null,null,"Total other revenue recovered by Use of System Charges",null,"£",{"$f":"SUM(H77:H81)","v":687596.03530468408}]
[null,null,null,null,"Total Revenue for Use of System Charges",null,"£",{"$f":"H75+H82","v":426737882.14455539}]
[]
[null,null,null,null,"1. Revenue raised outside CDCM - EDCM and Certain Interconnector Revenue",null,"£",{"$f":"'ARP_General inputs'!J85","v":9556157.0663702693}]
[null,null,null,null,"2. Revenue raised outside CDCM - Voluntary under-recovery",null,"£",{"$f":"'ARP_General inputs'!J86","v":0}]
[null,null,null,null,"3. Revenue raised outside CDCM - Please describe if used",null,"£",{"$f":"'ARP_General inputs'!J87","v":0}]
[null,null,null,null,"4. Revenue raised outside CDCM - Please describe if used",null,"£",{"$f":"'ARP_General inputs'!J88","v":0}]
[null,null,null,null,"Total Revenue to be raised outside the CDCM",null,"£",{"$f":"SUM(H85:H88)","v":9556157.0663702693}]
[null,null,null,null,"Latest forecast of CDCM Revenue",null,"£",{"$f":"H83-H89","v":417181725.07818514}]
[]
[null,null,{"$f":"INDEX('Version control'!$H$34:$H$58,MATCH($A$1,'Version control'!$F$34:$F$58,0),1)&\"-D: Financial and general assumptions\"","v":"Section 503-D: Financial and general assumptions"}]
[]
[null,null,null,null,"Real pre-tax cost of capital",null,"%",{"$f":"'ARP_General inputs'!J100","v":3.6900000000000002E-2},">","Paragraph 57"]
[null,null,null,null,"Days in the charging year",null,"days",{"$f":"'ARP_General inputs'!J101","v":365}]
[null,null,null,null,"Hours in charging year",null,"hours",{"$f":"days_in_year * hours_in_day","v":8760}]
[]
[null,null,{"$f":"INDEX('Version control'!$H$34:$H$58,MATCH($A$1,'Version control'!$F$34:$F$58,0),1)&\"-E: Transmission exit charges\"","v":"Section 503-E: Transmission exit charges"}]
[]
[null,null,null,null,"Transmission exit charges",null,"£ per year",{"$f":"'ARP_General inputs'!J105","v":35908234.05777806},">","Paragraph 38"]
[]
[null,null,{"$f":"INDEX('Version control'!$H$34:$H$58,MATCH($A$1,'Version control'!$F$34:$F$58,0),1)&\"-F: Other expenditure\"","v":"Section 503-F: Other expenditure"}]
[]
[null,null,null,null,"Other expenditure",null,null,null,">","Paragraph 39"]
[null,null,null,null,null,"Direct cost","£ per year",{"$f":"'ARP_General inputs'!J110","v":28803040.425109994}]
[null,null,null,null,null,"Indirect cost","£ per year",{"$f":"'ARP_General inputs'!J111","v":83130091.179891989}]
[null,null,null,null,null,"Network rates","£ per year",{"$f":"'ARP_General inputs'!J112","v":37991024.773131475}]
[]
[null,"Checks"]
[]
[null,null,null,null,"Check for error values",null,"number of issues",{"$f":"SUM(IF(ISERROR(H6:H108), 1))","v":0}]
[]
[null,null,null,null,"Hours in charging year check"]
[null,null,null,null,null,"Normal distribution timebands","number of issues",{"$f":"IF(SUM(H19:H21) = hours_in_year, 0, 1)","v":0}]
[null,null,null,null,null,"Special distribution timebands","number of issues",{"$f":"IF(SUM(H24:H26) = hours_in_year, 0, 1)","v":0}]
[]
[null,null,null,null,"Summary of checks",null,"number of issues",{"$f":"SUM(H111,H114:H115)","v":0}]
[]
[null,"End of sheet"]

{"sheet":"Standing charge factors","index":17,"n_rows":60,"n_cols":27,"rows_kept":60,"cut":false,"hidden":false,"merged":[]}
[{"$f":"MID(CELL(\"filename\",A1),FIND(\"]\",CELL(\"filename\",A1))+1,255)","v":"Standing charge factors"}]
[{"$f":"Cover!D21&\" - \"&Cover!D23","v":"SP Distribution - One"}]
[{"$f":"Cover!D2&\" - \"&Cover!D8&\" v\"&Cover!D10&\" - \"&Cover!D19","v":"ARP model - Release for charge setting v5 - 2021/22"}]
[{"$f":"H58 & IF(H58 = 1, \" issue\", \" issues\") &\" identified in checks on this sheet\"","v":"0 issues identified in checks on this sheet"}]
[null,"Click here to return to model map",null,null,null,null,"Units","Constants",null,"Domestic Aggregated","Domestic Aggregated (Related MPAN)","Non-Domestic Aggregated","Non-Domestic Aggregated (Related MPAN)","LV Site Specific","LV Sub Site Specific","HV Site Specific","Unmetered Supplies","LV Generation Aggregated","LV Sub Generation Aggregated","LV Generation Site Specific","LV Generation Site Specific no RP Charge","LV Sub Generation Site Specific","LV Sub Generation Site Specific no RP Charge","HV Generation Site Specific","HV Generation Site Specific no RP Charge",null,"Legal text reference"]
[]
[null,"Description"]
[]
[null,null,"This sheet contains standing charge factors, as described in DCUSA Schedule 16, Paragraphs 74-76."]
[null,null,"Standing charge factors are used to split network costs between those to be recovered through unit rate charges "]
[null,null,"and those to be recovered through standing (capacity or fixed) charges, depending on the customer class and "]
[null,null,"the network level at which costs occur."]
[]
[null,null,"Standing charge factors are only applied for demand users."]
[null,null,"A factor of 100% implies that all costs will be allocated to standing charges."]
[]
[null,"Adjustments to standing charges"]
[]
[null,null,{"$f":"INDEX('Version control'!$H$34:$H$58,MATCH($A$1,'Version control'!$F$34:$F$58,0),1)&\"-A: Adjustments to standing charges\"","v":"Section 504-A: Adjustments to standing charges"}]
[]
[null,null,null,"Brings in standing charge factors and adjusts them for share of load going through 132/HV"]
[]
[null,null,null,null,"Raw inputs for standing charge factors, by network level",null,null,null,">",null,null,null,null,null,null,null,null,null,null,null,null,null,null,null,null,null,"Paragraph 74"]
[null,null,null,null,"Standing charge factors as specified in Paragraph 74"]
[null,null,null,null,null,"Transmission exit","%",null,null,{"$f":"'Fixed inputs'!J88","v":0},{"$f":"'Fixed inputs'!K88","v":0},{"$f":"'Fixed inputs'!L88","v":0},{"$f":"'Fixed inputs'!M88","v":0},{"$f":"'Fixed inputs'!N88","v":0},{"$f":"'Fixed inputs'!O88","v":0},{"$f":"'Fixed inputs'!P88","v":0},{"$f":"'Fixed inputs'!Q88","v":0}]
[null,null,null,null,null,"GSPs","%",null,null,{"$f":"'Fixed inputs'!J89","v":0},{"$f":"'Fixed inputs'!K89","v":0},{"$f":"'Fixed inputs'!L89","v":0},{"$f":"'Fixed inputs'!M89","v":0},{"$f":"'Fixed inputs'!N89","v":0},{"$f":"'Fixed inputs'!O89","v":0},{"$f":"'Fixed inputs'!P89","v":0},{"$f":"'Fixed inputs'!Q89","v":0}]
[null,null,null,null,null,"132kV","%",null,null,{"$f":"'Fixed inputs'!J90","v":0},{"$f":"'Fixed inputs'!K90","v":0},{"$f":"'Fixed inputs'!L90","v":0},{"$f":"'Fixed inputs'!M90","v":0},{"$f":"'Fixed inputs'!N90","v":0},{"$f":"'Fixed inputs'!O90","v":0},{"$f":"'Fixed inputs'!P90","v":0},{"$f":"'Fixed inputs'!Q90","v":0}]
[null,null,null,null,null,"132kV/EHV","%",null,null,{"$f":"'Fixed inputs'!J91","v":0},{"$f":"'Fixed inputs'!K91","v":0},{"$f":"'Fixed inputs'!L91","v":0},{"$f":"'Fixed inputs'!M91","v":0},{"$f":"'Fixed inputs'!N91","v":0},{"$f":"'Fixed inputs'!O91","v":0},{"$f":"'Fixed inputs'!P91","v":0},{"$f":"'Fixed inputs'!Q91","v":0}]
[null,null,null,null,null,"EHV","%",null,null,{"$f":"'Fixed inputs'!J92","v":0},{"$f":"'Fixed inputs'!K92","v":0},{"$f":"'Fixed inputs'!L92","v":0},{"$f":"'Fixed inputs'!M92","v":0},{"$f":"'Fixed inputs'!N92","v":0},{"$f":"'Fixed inputs'!O92","v":0},{"$f":"'Fixed inputs'!P92","v":0.2},{"$f":"'Fixed inputs'!Q92","v":0}]
[null,null,null,null,null,"EHV/HV","%",null,null,{"$f":"'Fixed inputs'!J93","v":0},{"$f":"'Fixed inputs'!K93","v":0},{"$f":"'Fixed inputs'!L93","v":0},{"$f":"'Fixed inputs'!M93","v":0},{"$f":"'Fixed inputs'!N93","v":0},{"$f":"'Fixed inputs'!O93","v":0},{"$f":"'Fixed inputs'!P93","v":1},{"$f":"'Fixed inputs'!Q93","v":0}]
[null,null,null,null,null,"132kV/HV","%",null,null,{"$f":"'Fixed inputs'!J94","v":0},{"$f":"'Fixed inputs'!K94","v":0},{"$f":"'Fixed inputs'!L94","v":0},{"$f":"'Fixed inputs'!M94","v":0},{"$f":"'Fixed inputs'!N94","v":0},{"$f":"'Fixed inputs'!O94","v":0},{"$f":"'Fixed inputs'!P94","v":0},{"$f":"'Fixed inputs'!Q94","v":0}]
[null,null,null,null,null,"HV","%",null,null,{"$f":"'Fixed inputs'!J95","v":0},{"$f":"'Fixed inputs'!K95","v":0},{"$f":"'Fixed inputs'!L95","v":0},{"$f":"'Fixed inputs'!M95","v":0},{"$f":"'Fixed inputs'!N95","v":0.2},{"$f":"'Fixed inputs'!O95","v":1},{"$f":"'Fixed inputs'!P95","v":1},{"$f":"'Fixed inputs'!Q95","v":0}]
[null,null,null,null,null,"HV/LV","%",null,null,{"$f":"'Fixed inputs'!J96","v":0},{"$f":"'Fixed inputs'!K96","v":0},{"$f":"'Fixed inputs'!L96","v":0},{"$f":"'Fixed inputs'!M96","v":0},{"$f":"'Fixed inputs'!N96","v":1},{"$f":"'Fixed inputs'!O96","v":1},{"$f":"'Fixed inputs'!P96","v":0},{"$f":"'Fixed inputs'!Q96","v":0}]
[null,null,null,null,null,"LV circuits","%",null,null,{"$f":"'Fixed inputs'!J97","v":1},{"$f":"'Fixed inputs'!K97","v":1},{"$f":"'Fixed inputs'!L97","v":1},{"$f":"'Fixed inputs'!M97","v":1},{"$f":"'Fixed inputs'!N97","v":1},{"$f":"'Fixed inputs'!O97","v":0},{"$f":"'Fixed inputs'!P97","v":0},{"$f":"'Fixed inputs'!Q97","v":0}]
[null,null,null,null,null,"LV customers","%"]
[null,null,null,null,null,"HV customers","%"]
[]
[null,null,null,null,"Proportion of load going through 132kV/HV direct transformation"]
[null,null,null,null,null,"Proportion of load going through 132kV/HV direct transformation","%",{"$f":"'Inputs by network level'!P20","v":0}]
[]
[null,null,null,null,"Standing charges factors adapted to use 132kV/HV, by network level"]
[null,null,null,null,"Adjustments as described in Paragraph 75 and 76"]
[null,null,null,null,null,"Transmission exit","%"]
[null,null,null,null,null,"GSPs","%"]
[null,null,null,null,null,"132kV","%",null,">",{"$f":"IF($H$39 = 0, J27, J29 * $H$39)","v":0},{"$f":"IF($H$39 = 0, K27, K29 * $H$39)","v":0},0,0,0,0,0,0,null,null,null,null,null,null,null,null,null,"Paragraph 76"]
[null,null,null,null,null,"132kV/EHV","%",null,null,{"$f":"J28","v":0},0,0,0,0,0,0,0]
[null,null,null,null,null,"EHV","%",null,null,0,0,0,0,0,0,0.2,0]
[null,null,null,null,null,"EHV/HV","%",null,null,0,0,0,0,0,0,1,0]
[null,null,null,null,null,"132kV/HV","%",null,">",{"$f":"J30","v":0},0,0,0,0,0,1,0,null,null,null,null,null,null,null,null,null,"Paragraph 75"]
[null,null,null,null,null,"HV","%",null,null,{"$f":"J32","v":0},0,0,0,0.2,1,1,0]
[null,null,null,null,null,"HV/LV","%",null,null,0,0,0,0,1,1,0,0]
[null,null,null,null,null,"LV circuits","%",null,null,1,1,1,1,1,0,0,0]
[null,null,null,null,null,"LV customers","%"]
[null,null,null,null,null,"HV customers","%"]
[]
[null,"Checks"]
[]
[null,null,null,null,"Check for error values",null,"number of issues",{"$f":"SUM(IF(ISERROR(H25:Y54), 1))","v":0}]
[]
[null,"End of sheet"]

{"sheet":"Load & loss characteristics","index":18,"n_rows":185,"n_cols":23,"rows_kept":185,"cut":false,"hidden":false,"merged":[]}
[{"$f":"MID(CELL(\"filename\",A1),FIND(\"]\",CELL(\"filename\",A1))+1,255)","v":"Load & loss characteristics"}]
[{"$f":"Cover!D21&\" - \"&Cover!D23","v":"SP Distribution - One"}]
[{"$f":"Cover!D2&\" - \"&Cover!D8&\" v\"&Cover!D10&\" - \"&Cover!D19","v":"ARP model - Release for charge setting v5 - 2021/22"}]
[{"$f":"H183 & IF(H183 = 1, \" issue\", \" issues\") &\" identified in checks on this sheet\"","v":"0 issues identified in checks on this sheet"}]
[null,"Click here to return to model map",null,null,null,null,"Units","Constants",null,"Transmission exit","GSPs","132kV","132kV/EHV","EHV","EHV/HV","132kV/HV","HV","HV/LV","LV circuits","LV customers","HV customers",null,"Legal text reference"]
[]
[null,"Description"]
[]
[null,null,"This sheet adjusts diversity allowances, coincidence factors and loss adjustment factors for use in the model"]
[null,null,"This sheet then uses network use factors and loss adjustment factors to calculate user loss factors"]
[null,null,"Network use factors and user loss factors are also adjusted for the share of load going through 132/HV transformation"]
[]
[null,"Load and loss characteristics"]
[]
[null,null,"Brings in diversity allowances to calculate coincidence and cumulative diversity factors. Also adjusts loss adjustment factors."]
[]
[null,null,{"$f":"INDEX('Version control'!$H$34:$H$58,MATCH($A$1,'Version control'!$F$34:$F$58,0),1)&\"-A: Load characteristics\"","v":"Section 505-A: Load characteristics"}]
[]
[null,null,null,null,"Network model diversity allowances",null,"%",null,null,null,{"$f":"'Inputs by network level'!K18","v":0.11600000000000001},{"$f":"'Inputs by network level'!L18","v":0},null,{"$f":"'Inputs by network level'!N18","v":0.13},null,null,{"$f":"'Inputs by network level'!Q18","v":0.25}]
[null,null,null,null,"Coincidence factor",null,"%",null,null,{"$f":"IF(I20 = \"\", 1, I20 / (1 + J19))","v":1},{"$f":"IF(J20 = \"\", 1, J20 / (1 + K19))","v":0.8960573476702508},{"$f":"IF(K20 = \"\", 1, K20 / (1 + L19))","v":0.8960573476702508},0.8960573476702508,0.79297110413296534,0.79297110413296534,0.79297110413296534,0.63437688330637232,0.63437688330637232,0.63437688330637232]
[null,null,null,null,"Network model cumulative diversity factor",null,"%",null,null,{"$f":"1 / J20 - 1","v":0},{"$f":"1 / K20 - 1","v":0.1160000000000001},0.1160000000000001,0.1160000000000001,0.26107999999999998,0.26107999999999998,0.26107999999999998,0.57634999999999992,0.57634999999999992,0.57634999999999992]
[null,null,null,null,"Adjustment for 132/HV diversity",null,"%",null,null,null,null,null,null,null,null,{"$f":"M21","v":0.1160000000000001}]
[null,null,null,null,"Adjusted network model cumulative diversity factor",null,"%",null,">",{"$f":"IF(J22 = \"\", J21, J22)","v":0},0.1160000000000001,0.1160000000000001,0.1160000000000001,0.26107999999999998,0.26107999999999998,0.1160000000000001,0.57634999999999992,0.57634999999999992,0.57634999999999992,null,null,null,"Paragraphs 42 to 44"]
[]
[null,null,{"$f":"INDEX('Version control'!$H$34:$H$58,MATCH($A$1,'Version control'!$F$34:$F$58,0),1)&\"-B: Loss adjustment factors\"","v":"Section 505-B: Loss adjustment factors"}]
[]
[null,null,null,null,"Loss adjustment factor to transmission",null,"scalar",null,null,null,{"$f":"'Inputs by network level'!K22","v":1},{"$f":"'Inputs by network level'!L22","v":1},{"$f":"'Inputs by network level'!M22","v":1},{"$f":"'Inputs by network level'!N22","v":1.004},{"$f":"'Inputs by network level'!O22","v":1.0129999999999999},null,{"$f":"'Inputs by network level'!Q22","v":1.026},{"$f":"'Inputs by network level'!R22","v":1.044},{"$f":"'Inputs by network level'!S22","v":1.0980000000000001}]
[null,null,null,null,"Adjustment for 132/HV transformation & transmission exit",null,"scalar",null,null,{"$f":"K27","v":1},null,null,null,null,null,{"$f":"O27","v":1.0129999999999999}]
[null,null,null,null,"Loss adjustment factor to transmission for each DRM network level",null,"scalar",null,">",{"$f":"J27 + J28","v":1},1,1,1,1.004,1.0129999999999999,1.0129999999999999,1.026,1.044,1.0980000000000001,null,null,null,"Paragraph 47"]
[]
[null,"User loss factor adjustments"]
[]
[null,null,"Calculates user loss factors and makes adjustments for share of load going through 132kV/HV"]
[]
[null,null,{"$f":"INDEX('Version control'!$H$34:$H$58,MATCH($A$1,'Version control'!$F$34:$F$58,0),1)&\"-C: Proportion of relevant load going through 132kV/HV direct transformation\"","v":"Section 505-C: Proportion of relevant load going through 132kV/HV direct transformation"}]
[]
[null,null,null,null,"132kV/HV",null,"%",{"$f":"'Inputs by network level'!P20","v":0}]
[null,null,null,null,"Adjustment to network use factors for 132/HV share",null,"%",null,null,null,null,null,{"$f":"1 - $H$37","v":1},{"$f":"1 - $H$37","v":1},{"$f":"1 - $H$37","v":1},{"$f":"H37","v":0}]
[]
[null,null,{"$f":"INDEX('Version control'!$H$34:$H$58,MATCH($A$1,'Version control'!$F$34:$F$58,0),1)&\"-D: Network use factors\"","v":"Section 505-D: Network use factors"}]
[]
[null,null,null,"Network use factors assume demand and generation use the network from the point of connection."]
[]
[null,null,null,null,"Network use factors (assuming generation contributes at level of connection)"]
[null,null,null,null,"These values are drawn from the \"Fixed inputs\" sheet."]
[null,null,null,null,null,"Domestic Aggregated","1, 0 or -1",null,null,{"$f":"TRANSPOSE('Fixed inputs'!J60:Y69)","v":1},1,1,1,1,1,1,1,1,1]
[null,null,null,null,null,"Domestic Aggregated (Related MPAN)","1, 0 or -1",null,null,1,1,1,1,1,1,1,1,1,1]
[null,null,null,null,null,"Non-Domestic Aggregated","1, 0 or -1",null,null,1,1,1,1,1,1,1,1,1,1]
[null,null,null,null,null,"Non-Domestic Aggregated (Related MPAN)","1, 0 or -1",null,null,1,1,1,1,1,1,1,1,1,1]
[null,null,null,null,null,"LV Site Specific","1, 0 or -1",null,null,1,1,1,1,1,1,1,1,1,1]
[null,null,null,null,null,"LV Sub Site Specific","1, 0 or -1",null,null,1,1,1,1,1,1,1,1,1,0]
[null,null,null,null,null,"HV Site Specific","1, 0 or -1",null,null,1,1,1,1,1,1,1,1,0,0]
[null,null,null,null,null,"Unmetered Supplies","1, 0 or -1",null,null,1,1,1,1,1,1,1,1,1,1]
[null,null,null,null,null,"LV Generation Aggregated","1, 0 or -1",null,null,-1,-1,-1,-1,-1,-1,-1,-1,-1,-1]
[null,null,null,null,null,"LV Sub Generation Aggregated","1, 0 or -1",null,null,-1,-1,-1,-1,-1,-1,-1,-1,-1,0]
[null,null,null,null,null,"LV Generation Site Specific","1, 0 or -1",null,null,-1,-1,-1,-1,-1,-1,-1,-1,-1,-1]
[null,null,null,null,null,"LV Generation Site Specific no RP Charge","1, 0 or -1",null,null,-1,-1,-1,-1,-1,-1,-1,-1,-1,-1]
[null,null,null,null,null,"LV Sub Generation Site Specific","1, 0 or -1",null,null,-1,-1,-1,-1,-1,-1,-1,-1,-1,0]
[null,null,null,null,null,"LV Sub Generation Site Specific no RP Charge","1, 0 or -1",null,null,-1,-1,-1,-1,-1,-1,-1,-1,-1,0]
[null,null,null,null,null,"HV Generation Site Specific","1, 0 or -1",null,null,-1,-1,-1,-1,-1,-1,-1,-1,0,0]
[null,null,null,null,null,"HV Generation Site Specific no RP Charge","1, 0 or -1",null,null,-1,-1,-1,-1,-1,-1,-1,-1,0,0]
[]
[null,null,null,null,"Network use factors (assuming generation contributes at level of connection) scaled for 132/HV"]
[null,null,null,null,"These have been adjusted for the share of load going through 132/HV transformation"]
[null,null,null,null,null,"Domestic Aggregated","1, 0 or -1",null,null,{"$f":"IF(J$38 = \"\", J46, J46 * J$38)","v":1},1,1,1,1,1,0,1,1,1]
[null,null,null,null,null,"Domestic Aggregated (Related MPAN)","1, 0 or -1",null,null,1,1,1,1,1,1,0,1,1,1]
[null,null,null,null,null,"Non-Domestic Aggregated","1, 0 or -1",null,null,1,1,1,1,1,1,0,1,1,1]
[null,null,null,null,null,"Non-Domestic Aggregated (Related MPAN)","1, 0 or -1",null,null,1,1,1,1,1,1,0,1,1,1]
[null,null,null,null,null,"LV Site Specific","1, 0 or -1",null,null,1,1,1,1,1,1,0,1,1,1]
[null,null,null,null,null,"LV Sub Site Specific","1, 0 or -1",null,null,1,1,1,1,1,1,0,1,1,0]
[null,null,null,null,null,"HV Site Specific","1, 0 or -1",null,null,1,1,1,1,1,1,0,1,0,0]
[null,null,null,null,null,"Unmetered Supplies","1, 0 or -1",null,null,1,1,1,1,1,1,0,1,1,1]
[null,null,null,null,null,"LV Generation Aggregated","1, 0 or -1",null,null,-1,-1,-1,-1,-1,-1,0,-1,-1,-1]
[null,null,null,null,null,"LV Sub Generation Aggregated","1, 0 or -1",null,null,-1,-1,-1,-1,-1,-1,0,-1,-1,0]
[null,null,null,null,null,"LV Generation Site Specific","1, 0 or -1",null,null,-1,-1,-1,-1,-1,-1,0,-1,-1,-1]
[null,null,null,null,null,"LV Generation Site Specific no RP Charge","1, 0 or -1",null,null,-1,-1,-1,-1,-1,-1,0,-1,-1,-1]
[null,null,null,null,null,"LV Sub Generation Site Specific","1, 0 or -1",null,null,-1,-1,-1,-1,-1,-1,0,-1,-1,0]
[null,null,null,null,null,"LV Sub Generation Site Specific no RP Charge","1, 0 or -1",null,null,-1,-1,-1,-1,-1,-1,0,-1,-1,0]
[null,null,null,null,null,"HV Generation Site Specific","1, 0 or -1",null,null,-1,-1,-1,-1,-1,-1,0,-1,0,0]
[null,null,null,null,null,"HV Generation Site Specific no RP Charge","1, 0 or -1",null,null,-1,-1,-1,-1,-1,-1,0,-1,0,0]
[]
[null,null,null,null,"Network use factors (assuming generation makes no contribution at level of connection)",null,null,null,">",null,null,null,null,null,null,null,null,null,null,null,null,null,"Paragraphs 62 and 71"]
[null,null,null,null,"Equal to 0 for the network level at which generation is connected, otherwise equal to network use factor"]
[null,null,null,null,null,"Domestic Aggregated","1 or 0",null,null,{"$f":"TRANSPOSE('Fixed inputs'!J73:Y82)","v":1},1,1,1,1,1,1,1,1,1]
[null,null,null,null,null,"Domestic Aggregated (Related MPAN)","1 or 0",null,null,1,1,1,1,1,1,1,1,1,1]
[null,null,null,null,null,"Non-Domestic Aggregated","1 or 0",null,null,1,1,1,1,1,1,1,1,1,1]
[null,null,null,null,null,"Non-Domestic Aggregated (Related MPAN)","1 or 0",null,null,1,1,1,1,1,1,1,1,1,1]
[null,null,null,null,null,"LV Site Specific","1 or 0",null,null,1,1,1,1,1,1,1,1,1,1]
[null,null,null,null,null,"LV Sub Site Specific","1 or 0",null,null,1,1,1,1,1,1,1,1,1,0]
[null,null,null,null,null,"HV Site Specific","1 or 0",null,null,1,1,1,1,1,1,1,1,0,0]
[null,null,null,null,null,"Unmetered Supplies","1 or 0",null,null,1,1,1,1,1,1,1,1,1,1]
[null,null,null,null,null,"LV Generation Aggregated","1 or 0",null,null,-1,-1,-1,-1,-1,-1,-1,-1,-1,0]
[null,null,null,null,null,"LV Sub Generation Aggregated","1 or 0",null,null,-1,-1,-1,-1,-1,-1,-1,-1,0,0]
[null,null,null,null,null,"LV Generation Site Specific","1 or 0",null,null,-1,-1,-1,-1,-1,-1,-1,-1,-1,0]
[null,null,null,null,null,"LV Generation Site Specific no RP Charge","1 or 0",null,null,-1,-1,-1,-1,-1,-1,-1,-1,-1,0]
[null,null,null,null,null,"LV Sub Generation Site Specific","1 or 0",null,null,-1,-1,-1,-1,-1,-1,-1,-1,0,0]
[null,null,null,null,null,"LV Sub Generation Site Specific no RP Charge","1 or 0",null,null,-1,-1,-1,-1,-1,-1,-1,-1,0,0]
[null,null,null,null,null,"HV Generation Site Specific","1 or 0",null,null,-1,-1,-1,-1,-1,-1,-1,0,0,0]
[null,null,null,null,null,"HV Generation Site Specific no RP Charge","1 or 0",null,null,-1,-1,-1,-1,-1,-1,-1,0,0,0]
[]
[null,null,null,null,"Network use factors (assuming generation makes no contribution at level of connection), scaled for 132/HV",null,null,null,">",null,null,null,null,null,null,null,null,null,null,null,null,null,"Paragraphs 62 and 71"]
[null,null,null,null,"Equal to 0 for the network level at which generation is connected, otherwise equal to network use factor"]
[null,null,null,null,"These have been adjusted for the share of load going through 132/HV transformation"]
[null,null,null,null,null,"Domestic Aggregated","1 or 0",null,null,{"$f":"IF(J$38 = \"\", J84, J84 * J$38)","v":1},1,1,1,1,1,0,1,1,1]
[null,null,null,null,null,"Domestic Aggregated (Related MPAN)","1 or 0",null,null,1,1,1,1,1,1,0,1,1,1]
[null,null,null,null,null,"Non-Domestic Aggregated","1 or 0",null,null,1,1,1,1,1,1,0,1,1,1]
[null,null,null,null,null,"Non-Domestic Aggregated (Related MPAN)","1 or 0",null,null,1,1,1,1,1,1,0,1,1,1]
[null,null,null,null,null,"LV Site Specific","1 or 0",null,null,1,1,1,1,1,1,0,1,1,1]
[null,null,null,null,null,"LV Sub Site Specific","1 or 0",null,null,1,1,1,1,1,1,0,1,1,0]
[null,null,null,null,null,"HV Site Specific","1 or 0",null,null,1,1,1,1,1,1,0,1,0,0]
[null,null,null,null,null,"Unmetered Supplies","1 or 0",null,null,1,1,1,1,1,1,0,1,1,1]
[null,null,null,null,null,"LV Generation Aggregated","1 or 0",null,null,-1,-1,-1,-1,-1,-1,0,-1,-1,0]
[null,null,null,null,null,"LV Sub Generation Aggregated","1 or 0",null,null,-1,-1,-1,-1,-1,-1,0,-1,0,0]
[null,null,null,null,null,"LV Generation Site Specific","1 or 0",null,null,-1,-1,-1,-1,-1,-1,0,-1,-1,0]
[null,null,null,null,null,"LV Generation Site Specific no RP Charge","1 or 0",null,null,-1,-1,-1,-1,-1,-1,0,-1,-1,0]
[null,null,null,null,null,"LV Sub Generation Site Specific","1 or 0",null,null,-1,-1,-1,-1,-1,-1,0,-1,0,0]
[null,null,null,null,null,"LV Sub Generation Site Specific no RP Charge","1 or 0",null,null,-1,-1,-1,-1,-1,-1,0,-1,0,0]
[null,null,null,null,null,"HV Generation Site Specific","1 or 0",null,null,-1,-1,-1,-1,-1,-1,0,0,0,0]
[null,null,null,null,null,"HV Generation Site Specific no RP Charge","1 or 0",null,null,-1,-1,-1,-1,-1,-1,0,0,0,0]
[]
[null,null,{"$f":"INDEX('Version control'!$H$34:$H$58,MATCH($A$1,'Version control'!$F$34:$F$58,0),1)&\"-E: User loss factors\"","v":"Section 505-E: User loss factors"}]
[]
[null,null,null,null,"User loss factor (assuming generation contributes at level of connection)"]
[null,null,null,null,"For demand, it is the loss factor at network level which user is supplied."]
[null,null,null,null,"For generation, it is the loss factor at network level which user is supplied.",null,null,"Maximum"]
[null,null,null,null,null,"Domestic Aggregated","scalar",{"$f":"MAX(J126:S126)","v":1.0980000000000001},null,{"$f":"OR(SUM(J65:$S65) = 1, SUM(J65:$S65) = -1) * J$29","v":0},{"$f":"OR(SUM(K65:$S65) = 1, SUM(K65:$S65) = -1) * K$29","v":0},{"$f":"OR(SUM(L65:$S65) = 1, SUM(L65:$S65) = -1) * L$29","v":0},{"$f":"OR(SUM(M65:$S65) = 1, SUM(M65:$S65) = -1) * M$29","v":0},{"$f":"OR(SUM(N65:$S65) = 1, SUM(N65:$S65) = -1) * N$29","v":0},{"$f":"OR(SUM(O65:$S65) = 1, SUM(O65:$S65) = -1) * O$29","v":0},{"$f":"OR(SUM(P65:$S65) = 1, SUM(P65:$S65) = -1) * P$29","v":0},{"$f":"OR(SUM(Q65:$S65) = 1, SUM(Q65:$S65) = -1) * Q$29","v":0},{"$f":"OR(SUM(R65:$S65) = 1, SUM(R65:$S65) = -1) * R$29","v":0},{"$f":"OR(SUM(S65:$S65) = 1, SUM(S65:$S65) = -1) * S$29","v":1.0980000000000001}]
[null,null,null,null,null,"Domestic Aggregated (Related MPAN)","scalar",1.0980000000000001,null,{"$f":"OR(SUM(J66:$S66) = 1, SUM(J66:$S66) = -1) * J$29","v":0},{"$f":"OR(SUM(K66:$S66) = 1, SUM(K66:$S66) = -1) * K$29","v":0},{"$f":"OR(SUM(L66:$S66) = 1, SUM(L66:$S66) = -1) * L$29","v":0},{"$f":"OR(SUM(M66:$S66) = 1, SUM(M66:$S66) = -1) * M$29","v":0},{"$f":"OR(SUM(N66:$S66) = 1, SUM(N66:$S66) = -1) * N$29","v":0},{"$f":"OR(SUM(O66:$S66) = 1, SUM(O66:$S66) = -1) * O$29","v":0},{"$f":"OR(SUM(P66:$S66) = 1, SUM(P66:$S66) = -1) * P$29","v":0},{"$f":"OR(SUM(Q66:$S66) = 1, SUM(Q66:$S66) = -1) * Q$29","v":0},{"$f":"OR(SUM(R66:$S66) = 1, SUM(R66:$S66) = -1) * R$29","v":0},{"$f":"OR(SUM(S66:$S66) = 1, SUM(S66:$S66) = -1) * S$29","v":1.0980000000000001}]
[null,null,null,null,null,"Non-Domestic Aggregated","scalar",1.0980000000000001,null,{"$f":"OR(SUM(J67:$S67) = 1, SUM(J67:$S67) = -1) * J$29","v":0},{"$f":"OR(SUM(K67:$S67) = 1, SUM(K67:$S67) = -1) * K$29","v":0},{"$f":"OR(SUM(L67:$S67) = 1, SUM(L67:$S67) = -1) * L$29","v":0},{"$f":"OR(SUM(M67:$S67) = 1, SUM(M67:$S67) = -1) * M$29","v":0},{"$f":"OR(SUM(N67:$S67) = 1, SUM(N67:$S67) = -1) * N$29","v":0},{"$f":"OR(SUM(O67:$S67) = 1, SUM(O67:$S67) = -1) * O$29","v":0},{"$f":"OR(SUM(P67:$S67) = 1, SUM(P67:$S67) = -1) * P$29","v":0},{"$f":"OR(SUM(Q67:$S67) = 1, SUM(Q67:$S67) = -1) * Q$29","v":0},{"$f":"OR(SUM(R67:$S67) = 1, SUM(R67:$S67) = -1) * R$29","v":0},{"$f":"OR(SUM(S67:$S67) = 1, SUM(S67:$S67) = -1) * S$29","v":1.0980000000000001}]
[null,null,null,null,null,"Non-Domestic Aggregated (Related MPAN)","scalar",1.0980000000000001,null,{"$f":"OR(SUM(J68:$S68) = 1, SUM(J68:$S68) = -1) * J$29","v":0},{"$f":"OR(SUM(K68:$S68) = 1, SUM(K68:$S68) = -1) * K$29","v":0},{"$f":"OR(SUM(L68:$S68) = 1, SUM(L68:$S68) = -1) * L$29","v":0},{"$f":"OR(SUM(M68:$S68) = 1, SUM(M68:$S68) = -1) * M$29","v":0},{"$f":"OR(SUM(N68:$S68) = 1, SUM(N68:$S68) = -1) * N$29","v":0},{"$f":"OR(SUM(O68:$S68) = 1, SUM(O68:$S68) = -1) * O$29","v":0},{"$f":"OR(SUM(P68:$S68) = 1, SUM(P68:$S68) = -1) * P$29","v":0},{"$f":"OR(SUM(Q68:$S68) = 1, SUM(Q68:$S68) = -1) * Q$29","v":0},{"$f":"OR(SUM(R68:$S68) = 1, SUM(R68:$S68) = -1) * R$29","v":0},{"$f":"OR(SUM(S68:$S68) = 1, SUM(S68:$S68) = -1) * S$29","v":1.0980000000000001}]
[null,null,null,null,null,"LV Site Specific","scalar",1.0980000000000001,null,{"$f":"OR(SUM(J69:$S69) = 1, SUM(J69:$S69) = -1) * J$29","v":0},{"$f":"OR(SUM(K69:$S69) = 1, SUM(K69:$S69) = -1) * K$29","v":0},{"$f":"OR(SUM(L69:$S69) = 1, SUM(L69:$S69) = -1) * L$29","v":0},{"$f":"OR(SUM(M69:$S69) = 1, SUM(M69:$S69) = -1) * M$29","v":0},{"$f":"OR(SUM(N69:$S69) = 1, SUM(N69:$S69) = -1) * N$29","v":0},{"$f":"OR(SUM(O69:$S69) = 1, SUM(O69:$S69) = -1) * O$29","v":0},{"$f":"OR(SUM(P69:$S69) = 1, SUM(P69:$S69) = -1) * P$29","v":0},{"$f":"OR(SUM(Q69:$S69) = 1, SUM(Q69:$S69) = -1) * Q$29","v":0},{"$f":"OR(SUM(R69:$S69) = 1, SUM(R69:$S69) = -1) * R$29","v":0},{"$f":"OR(SUM(S69:$S69) = 1, SUM(S69:$S69) = -1) * S$29","v":1.0980000000000001}]
[null,null,null,null,null,"LV Sub Site Specific","scalar",1.044,null,{"$f":"OR(SUM(J70:$S70) = 1, SUM(J70:$S70) = -1) * J$29","v":0},{"$f":"OR(SUM(K70:$S70) = 1, SUM(K70:$S70) = -1) * K$29","v":0},{"$f":"OR(SUM(L70:$S70) = 1, SUM(L70:$S70) = -1) * L$29","v":0},{"$f":"OR(SUM(M70:$S70) = 1, SUM(M70:$S70) = -1) * M$29","v":0},{"$f":"OR(SUM(N70:$S70) = 1, SUM(N70:$S70) = -1) * N$29","v":0},{"$f":"OR(SUM(O70:$S70) = 1, SUM(O70:$S70) = -1) * O$29","v":0},{"$f":"OR(SUM(P70:$S70) = 1, SUM(P70:$S70) = -1) * P$29","v":0},{"$f":"OR(SUM(Q70:$S70) = 1, SUM(Q70:$S70) = -1) * Q$29","v":0},{"$f":"OR(SUM(R70:$S70) = 1, SUM(R70:$S70) = -1) * R$29","v":1.044},{"$f":"OR(SUM(S70:$S70) = 1, SUM(S70:$S70) = -1) * S$29","v":0}]
[null,null,null,null,null,"HV Site Specific","scalar",1.026,null,{"$f":"OR(SUM(J71:$S71) = 1, SUM(J71:$S71) = -1) * J$29","v":0},{"$f":"OR(SUM(K71:$S71) = 1, SUM(K71:$S71) = -1) * K$29","v":0},{"$f":"OR(SUM(L71:$S71) = 1, SUM(L71:$S71) = -1) * L$29","v":0},{"$f":"OR(SUM(M71:$S71) = 1, SUM(M71:$S71) = -1) * M$29","v":0},{"$f":"OR(SUM(N71:$S71) = 1, SUM(N71:$S71) = -1) * N$29","v":0},{"$f":"OR(SUM(O71:$S71) = 1, SUM(O71:$S71) = -1) * O$29","v":0},{"$f":"OR(SUM(P71:$S71) = 1, SUM(P71:$S71) = -1) * P$29","v":1.0129999999999999},{"$f":"OR(SUM(Q71:$S71) = 1, SUM(Q71:$S71) = -1) * Q$29","v":1.026},{"$f":"OR(SUM(R71:$S71) = 1, SUM(R71:$S71) = -1) * R$29","v":0},{"$f":"OR(SUM(S71:$S71) = 1, SUM(S71:$S71) = -1) * S$29","v":0}]
[null,null,null,null,null,"Unmetered Supplies","scalar",1.0980000000000001,null,{"$f":"OR(SUM(J72:$S72) = 1, SUM(J72:$S72) = -1) * J$29","v":0},{"$f":"OR(SUM(K72:$S72) = 1, SUM(K72:$S72) = -1) * K$29","v":0},{"$f":"OR(SUM(L72:$S72) = 1, SUM(L72:$S72) = -1) * L$29","v":0},{"$f":"OR(SUM(M72:$S72) = 1, SUM(M72:$S72) = -1) * M$29","v":0},{"$f":"OR(SUM(N72:$S72) = 1, SUM(N72:$S72) = -1) * N$29","v":0},{"$f":"OR(SUM(O72:$S72) = 1, SUM(O72:$S72) = -1) * O$29","v":0},{"$f":"OR(SUM(P72:$S72) = 1, SUM(P72:$S72) = -1) * P$29","v":0},{"$f":"OR(SUM(Q72:$S72) = 1, SUM(Q72:$S72) = -1) * Q$29","v":0},{"$f":"OR(SUM(R72:$S72) = 1, SUM(R72:$S72) = -1) * R$29","v":0},{"$f":"OR(SUM(S72:$S72) = 1, SUM(S72:$S72) = -1) * S$29","v":1.0980000000000001}]
[null,null,null,null,null,"LV Generation Aggregated","scalar",1.0980000000000001,null,{"$f":"OR(SUM(J73:$S73) = 1, SUM(J73:$S73) = -1) * J$29","v":0},{"$f":"OR(SUM(K73:$S73) = 1, SUM(K73:$S73) = -1) * K$29","v":0},{"$f":"OR(SUM(L73:$S73) = 1, SUM(L73:$S73) = -1) * L$29","v":0},{"$f":"OR(SUM(M73:$S73) = 1, SUM(M73:$S73) = -1) * M$29","v":0},{"$f":"OR(SUM(N73:$S73) = 1, SUM(N73:$S73) = -1) * N$29","v":0},{"$f":"OR(SUM(O73:$S73) = 1, SUM(O73:$S73) = -1) * O$29","v":0},{"$f":"OR(SUM(P73:$S73) = 1, SUM(P73:$S73) = -1) * P$29","v":0},{"$f":"OR(SUM(Q73:$S73) = 1, SUM(Q73:$S73) = -1) * Q$29","v":0},{"$f":"OR(SUM(R73:$S73) = 1, SUM(R73:$S73) = -1) * R$29","v":0},{"$f":"OR(SUM(S73:$S73) = 1, SUM(S73:$S73) = -1) * S$29","v":1.0980000000000001}]
[null,null,null,null,null,"LV Sub Generation Aggregated","scalar",1.044,null,{"$f":"OR(SUM(J74:$S74) = 1, SUM(J74:$S74) = -1) * J$29","v":0},{"$f":"OR(SUM(K74:$S74) = 1, SUM(K74:$S74) = -1) * K$29","v":0},{"$f":"OR(SUM(L74:$S74) = 1, SUM(L74:$S74) = -1) * L$29","v":0},{"$f":"OR(SUM(M74:$S74) = 1, SUM(M74:$S74) = -1) * M$29","v":0},{"$f":"OR(SUM(N74:$S74) = 1, SUM(N74:$S74) = -1) * N$29","v":0},{"$f":"OR(SUM(O74:$S74) = 1, SUM(O74:$S74) = -1) * O$29","v":0},{"$f":"OR(SUM(P74:$S74) = 1, SUM(P74:$S74) = -1) * P$29","v":0},{"$f":"OR(SUM(Q74:$S74) = 1, SUM(Q74:$S74) = -1) * Q$29","v":0},{"$f":"OR(SUM(R74:$S74) = 1, SUM(R74:$S74) = -1) * R$29","v":1.044},{"$f":"OR(SUM(S74:$S74) = 1, SUM(S74:$S74) = -1) * S$29","v":0}]
[null,null,null,null,null,"LV Generation Site Specific","scalar",1.0980000000000001,null,{"$f":"OR(SUM(J75:$S75) = 1, SUM(J75:$S75) = -1) * J$29","v":0},{"$f":"OR(SUM(K75:$S75) = 1, SUM(K75:$S75) = -1) * K$29","v":0},{"$f":"OR(SUM(L75:$S75) = 1, SUM(L75:$S75) = -1) * L$29","v":0},{"$f":"OR(SUM(M75:$S75) = 1, SUM(M75:$S75) = -1) * M$29","v":0},{"$f":"OR(SUM(N75:$S75) = 1, SUM(N75:$S75) = -1) * N$29","v":0},{"$f":"OR(SUM(O75:$S75) = 1, SUM(O75:$S75) = -1) * O$29","v":0},{"$f":"OR(SUM(P75:$S75) = 1, SUM(P75:$S75) = -1) * P$29","v":0},{"$f":"OR(SUM(Q75:$S75) = 1, SUM(Q75:$S75) = -1) * Q$29","v":0},{"$f":"OR(SUM(R75:$S75) = 1, SUM(R75:$S75) = -1) * R$29","v":0},{"$f":"OR(SUM(S75:$S75) = 1, SUM(S75:$S75) = -1) * S$29","v":1.0980000000000001}]
[null,null,null,null,null,"LV Generation Site Specific no RP Charge","scalar",1.0980000000000001,null,{"$f":"OR(SUM(J76:$S76) = 1, SUM(J76:$S76) = -1) * J$29","v":0},{"$f":"OR(SUM(K76:$S76) = 1, SUM(K76:$S76) = -1) * K$29","v":0},{"$f":"OR(SUM(L76:$S76) = 1, SUM(L76:$S76) = -1) * L$29","v":0},{"$f":"OR(SUM(M76:$S76) = 1, SUM(M76:$S76) = -1) * M$29","v":0},{"$f":"OR(SUM(N76:$S76) = 1, SUM(N76:$S76) = -1) * N$29","v":0},{"$f":"OR(SUM(O76:$S76) = 1, SUM(O76:$S76) = -1) * O$29","v":0},{"$f":"OR(SUM(P76:$S76) = 1, SUM(P76:$S76) = -1) * P$29","v":0},{"$f":"OR(SUM(Q76:$S76) = 1, SUM(Q76:$S76) = -1) * Q$29","v":0},{"$f":"OR(SUM(R76:$S76) = 1, SUM(R76:$S76) = -1) * R$29","v":0},{"$f":"OR(SUM(S76:$S76) = 1, SUM(S76:$S76) = -1) * S$29","v":1.0980000000000001}]
[null,null,null,null,null,"LV Sub Generation Site Specific","scalar",1.044,null,{"$f":"OR(SUM(J77:$S77) = 1, SUM(J77:$S77) = -1) * J$29","v":0},{"$f":"OR(SUM(K77:$S77) = 1, SUM(K77:$S77) = -1) * K$29","v":0},{"$f":"OR(SUM(L77:$S77) = 1, SUM(L77:$S77) = -1) * L$29","v":0},{"$f":"OR(SUM(M77:$S77) = 1, SUM(M77:$S77) = -1) * M$29","v":0},{"$f":"OR(SUM(N77:$S77) = 1, SUM(N77:$S77) = -1) * N$29","v":0},{"$f":"OR(SUM(O77:$S77) = 1, SUM(O77:$S77) = -1) * O$29","v":0},{"$f":"OR(SUM(P77:$S77) = 1, SUM(P77:$S77) = -1) * P$29","v":0},{"$f":"OR(SUM(Q77:$S77) = 1, SUM(Q77:$S77) = -1) * Q$29","v":0},{"$f":"OR(SUM(R77:$S77) = 1, SUM(R77:$S77) = -1) * R$29","v":1.044},{"$f":"OR(SUM(S77:$S77) = 1, SUM(S77:$S77) = -1) * S$29","v":0}]
[null,null,null,null,null,"LV Sub Generation Site Specific no RP Charge","scalar",1.044,null,{"$f":"OR(SUM(J78:$S78) = 1, SUM(J78:$S78) = -1) * J$29","v":0},{"$f":"OR(SUM(K78:$S78) = 1, SUM(K78:$S78) = -1) * K$29","v":0},{"$f":"OR(SUM(L78:$S78) = 1, SUM(L78:$S78) = -1) * L$29","v":0},{"$f":"OR(SUM(M78:$S78) = 1, SUM(M78:$S78) = -1) * M$29","v":0},{"$f":"OR(SUM(N78:$S78) = 1, SUM(N78:$S78) = -1) * N$29","v":0},{"$f":"OR(SUM(O78:$S78) = 1, SUM(O78:$S78) = -1) * O$29","v":0},{"$f":"OR(SUM(P78:$S78) = 1, SUM(P78:$S78) = -1) * P$29","v":0},{"$f":"OR(SUM(Q78:$S78) = 1, SUM(Q78:$S78) = -1) * Q$29","v":0},{"$f":"OR(SUM(R78:$S78) = 1, SUM(R78:$S78) = -1) * R$29","v":1.044},{"$f":"OR(SUM(S78:$S78) = 1, SUM(S78:$S78) = -1) * S$29","v":0}]
[null,null,null,null,null,"HV Generation Site Specific","scalar",1.026,null,{"$f":"OR(SUM(J79:$S79) = 1, SUM(J79:$S79) = -1) * J$29","v":0},{"$f":"OR(SUM(K79:$S79) = 1, SUM(K79:$S79) = -1) * K$29","v":0},{"$f":"OR(SUM(L79:$S79) = 1, SUM(L79:$S79) = -1) * L$29","v":0},{"$f":"OR(SUM(M79:$S79) = 1, SUM(M79:$S79) = -1) * M$29","v":0},{"$f":"OR(SUM(N79:$S79) = 1, SUM(N79:$S79) = -1) * N$29","v":0},{"$f":"OR(SUM(O79:$S79) = 1, SUM(O79:$S79) = -1) * O$29","v":0},{"$f":"OR(SUM(P79:$S79) = 1, SUM(P79:$S79) = -1) * P$29","v":1.0129999999999999},{"$f":"OR(SUM(Q79:$S79) = 1, SUM(Q79:$S79) = -1) * Q$29","v":1.026},{"$f":"OR(SUM(R79:$S79) = 1, SUM(R79:$S79) = -1) * R$29","v":0},{"$f":"OR(SUM(S79:$S79) = 1, SUM(S79:$S79) = -1) * S$29","v":0}]
[null,null,null,null,null,"HV Generation Site Specific no RP Charge","scalar",1.026,null,{"$f":"OR(SUM(J80:$S80) = 1, SUM(J80:$S80) = -1) * J$29","v":0},{"$f":"OR(SUM(K80:$S80) = 1, SUM(K80:$S80) = -1) * K$29","v":0},{"$f":"OR(SUM(L80:$S80) = 1, SUM(L80:$S80) = -1) * L$29","v":0},{"$f":"OR(SUM(M80:$S80) = 1, SUM(M80:$S80) = -1) * M$29","v":0},{"$f":"OR(SUM(N80:$S80) = 1, SUM(N80:$S80) = -1) * N$29","v":0},{"$f":"OR(SUM(O80:$S80) = 1, SUM(O80:$S80) = -1) * O$29","v":0},{"$f":"OR(SUM(P80:$S80) = 1, SUM(P80:$S80) = -1) * P$29","v":1.0129999999999999},{"$f":"OR(SUM(Q80:$S80) = 1, SUM(Q80:$S80) = -1) * Q$29","v":1.026},{"$f":"OR(SUM(R80:$S80) = 1, SUM(R80:$S80) = -1) * R$29","v":0},{"$f":"OR(SUM(S80:$S80) = 1, SUM(S80:$S80) = -1) * S$29","v":0}]
[]
[null,null,null,null,"User loss factor (assuming generation does not contribute at level of connection)",null,null,null,">",null,null,null,null,null,null,null,null,null,null,null,null,null,"Paragraph 70 (a)"]
[null,null,null,null,"These have been adjusted for the share of load going through 132/HV transformation"]
[null,null,null,null,null,"Domestic Aggregated","scalar",null,null,{"$f":"$H126 * J104","v":1.0980000000000001},1.0980000000000001,1.0980000000000001,1.0980000000000001,1.0980000000000001,1.0980000000000001,0,1.0980000000000001,1.0980000000000001,1.0980000000000001]
[null,null,null,null,null,"Domestic Aggregated (Related MPAN)","scalar",null,null,1.0980000000000001,1.0980000000000001,1.0980000000000001,1.0980000000000001,1.0980000000000001,1.0980000000000001,0,1.0980000000000001,1.0980000000000001,1.0980000000000001]
[null,null,null,null,null,"Non-Domestic Aggregated","scalar",null,null,1.0980000000000001,1.0980000000000001,1.0980000000000001,1.0980000000000001,1.0980000000000001,1.0980000000000001,0,1.0980000000000001,1.0980000000000001,1.0980000000000001]
[null,null,null,null,null,"Non-Domestic Aggregated (Related MPAN)","scalar",null,null,1.0980000000000001,1.0980000000000001,1.0980000000000001,1.0980000000000001,1.0980000000000001,1.0980000000000001,0,1.0980000000000001,1.0980000000000001,1.0980000000000001]
[null,null,null,null,null,"LV Site Specific","scalar",null,null,1.0980000000000001,1.0980000000000001,1.0980000000000001,1.0980000000000001,1.0980000000000001,1.0980000000000001,0,1.0980000000000001,1.0980000000000001,1.0980000000000001]
[null,null,null,null,null,"LV Sub Site Specific","scalar",null,null,1.044,1.044,1.044,1.044,1.044,1.044,0,1.044,1.044,0]
[null,null,null,null,null,"HV Site Specific","scalar",null,null,1.026,1.026,1.026,1.026,1.026,1.026,0,1.026,0,0]
[null,null,null,null,null,"Unmetered Supplies","scalar",null,null,1.0980000000000001,1.0980000000000001,1.0980000000000001,1.0980000000000001,1.0980000000000001,1.0980000000000001,0,1.0980000000000001,1.0980000000000001,1.0980000000000001]
[null,null,null,null,null,"LV Generation Aggregated","scalar",null,null,-1.0980000000000001,-1.0980000000000001,-1.0980000000000001,-1.0980000000000001,-1.0980000000000001,-1.0980000000000001,0,-1.0980000000000001,-1.0980000000000001,0]
[null,null,null,null,null,"LV Sub Generation Aggregated","scalar",null,null,-1.044,-1.044,-1.044,-1.044,-1.044,-1.044,0,-1.044,0,0]
[null,null,null,null,null,"LV Generation Site Specific","scalar",null,null,-1.0980000000000001,-1.0980000000000001,-1.0980000000000001,-1.0980000000000001,-1.0980000000000001,-1.0980000000000001,0,-1.0980000000000001,-1.0980000000000001,0]
[null,null,null,null,null,"LV Generation Site Specific no RP Charge","scalar",null,null,-1.0980000000000001,-1.0980000000000001,-1.0980000000000001,-1.0980000000000001,-1.0980000000000001,-1.0980000000000001,0,-1.0980000000000001,-1.0980000000000001,0]
[null,null,null,null,null,"LV Sub Generation Site Specific","scalar",null,null,-1.044,-1.044,-1.044,-1.044,-1.044,-1.044,0,-1.044,0,0]
[null,null,null,null,null,"LV Sub Generation Site Specific no RP Charge","scalar",null,null,-1.044,-1.044,-1.044,-1.044,-1.044,-1.044,0,-1.044,0,0]
[null,null,null,null,null,"HV Generation Site Specific","scalar",null,null,-1.026,-1.026,-1.026,-1.026,-1.026,-1.026,0,0,0,0]
[null,null,null,null,null,"HV Generation Site Specific no RP Charge","scalar",null,null,-1.026,-1.026,-1.026,-1.026,-1.026,-1.026,0,0,0,0]
[]
[null,null,null,null,"User loss factor (assuming generation contributes at level of connection)",null,null,null,">",null,null,null,null,null,null,null,null,null,null,null,null,null,"Paragraph 70 (a)"]
[null,null,null,null,"These have been adjusted for the share of load going through 132/HV transformation"]
[null,null,null,null,null,"Domestic Aggregated","scalar"]
[null,null,null,null,null,"Domestic Aggregated (Related MPAN)","scalar"]
[null,null,null,null,null,"Non-Domestic Aggregated","scalar"]
[null,null,null,null,null,"Non-Domestic Aggregated (Related MPAN)","scalar"]
[null,null,null,null,null,"LV Site Specific","scalar"]
[null,null,null,null,null,"LV Sub Site Specific","scalar"]
[null,null,null,null,null,"HV Site Specific","scalar"]
[null,null,null,null,null,"Unmetered Supplies","scalar"]
[null,null,null,null,null,"LV Generation Aggregated","scalar",null,null,{"$f":"$H134 * J73","v":-1.0980000000000001},-1.0980000000000001,-1.0980000000000001,-1.0980000000000001,-1.0980000000000001,-1.0980000000000001,0,-1.0980000000000001,-1.0980000000000001,-1.0980000000000001]
[null,null,null,null,null,"LV Sub Generation Aggregated","scalar",null,null,-1.044,-1.044,-1.044,-1.044,-1.044,-1.044,0,-1.044,-1.044,0]
[null,null,null,null,null,"LV Generation Site Specific","scalar",null,null,-1.0980000000000001,-1.0980000000000001,-1.0980000000000001,-1.0980000000000001,-1.0980000000000001,-1.0980000000000001,0,-1.0980000000000001,-1.0980000000000001,-1.0980000000000001]
[null,null,null,null,null,"LV Generation Site Specific no RP Charge","scalar",null,null,-1.0980000000000001,-1.0980000000000001,-1.0980000000000001,-1.0980000000000001,-1.0980000000000001,-1.0980000000000001,0,-1.0980000000000001,-1.0980000000000001,-1.0980000000000001]
[null,null,null,null,null,"LV Sub Generation Site Specific","scalar",null,null,-1.044,-1.044,-1.044,-1.044,-1.044,-1.044,0,-1.044,-1.044,0]
[null,null,null,null,null,"LV Sub Generation Site Specific no RP Charge","scalar",null,null,-1.044,-1.044,-1.044,-1.044,-1.044,-1.044,0,-1.044,-1.044,0]
[null,null,null,null,null,"HV Generation Site Specific","scalar",null,null,-1.026,-1.026,-1.026,-1.026,-1.026,-1.026,0,-1.026,0,0]
[null,null,null,null,null,"HV Generation Site Specific no RP Charge","scalar",null,null,{"$f":"$H141 * J80","v":-1.026},-1.026,-1.026,-1.026,-1.026,-1.026,0,-1.026,0,0]
[]
[null,"Checks"]
[]
[null,null,null,null,"Check for error values",null,"number of issues",{"$f":"SUM(IF(ISERROR(H19:W181), 1))","v":0}]
[]
[null,"End of sheet"]

{"sheet":"Customer contributions","index":19,"n_rows":72,"n_cols":23,"rows_kept":72,"cut":false,"hidden":false,"merged":[]}
[{"$f":"MID(CELL(\"filename\",A1),FIND(\"]\",CELL(\"filename\",A1))+1,255)","v":"Customer contributions"}]
[{"$f":"Cover!D21&\" - \"&Cover!D23","v":"SP Distribution - One"}]
[{"$f":"Cover!D2&\" - \"&Cover!D8&\" v\"&Cover!D10&\" - \"&Cover!D19","v":"ARP model - Release for charge setting v5 - 2021/22"}]
[{"$f":"H70 & IF(H70 = 1, \" issue\", \" issues\") &\" identified in checks on this sheet\"","v":"0 issues identified in checks on this sheet"}]
[null,"Click here to return to model map",null,null,null,null,"Units","Constants",null,null,null,null,null,null,null,null,null,null,null,null,null,null,"Legal text reference"]
[]
[null,"Description"]
[]
[null,null,"This sheet calculates customer contributions towards assets (i.e. assets that are paid for, and should not be "]
[null,null,"recovered under UoS charges)"]
[]
[null,"Customer contributions"]
[]
[null,null,"Maps customer contributions to customer categories"]
[]
[null,null,{"$f":"INDEX('Version control'!$H$34:$H$58,MATCH($A$1,'Version control'!$F$34:$F$58,0),1)&\"-A: Network use factors\"","v":"Section 506-A: Network use factors"}]
[]
[null,null,null,null,"Network level at which users are supplied",null,null,null,">",null,null,null,null,null,null,null,null,null,null,null,null,null,"Paragraph 30"]
[null,null,null,null,"Network use factors based on customer contributed assets"]
[null,null,null,null,null,null,null,null,null,"HV substation","HV network","LV substation","LV network"]
[null,null,null,null,null,"Domestic Aggregated","1 or 0",null,null,{"$f":"TRANSPOSE('Fixed inputs'!J53:Y56)","v":0},0,0,1]
[null,null,null,null,null,"Domestic Aggregated (Related MPAN)","1 or 0",null,null,0,0,0,1]
[null,null,null,null,null,"Non-Domestic Aggregated","1 or 0",null,null,0,0,0,1]
[null,null,null,null,null,"Non-Domestic Aggregated (Related MPAN)","1 or 0",null,null,0,0,0,1]
[null,null,null,null,null,"LV Site Specific","1 or 0",null,null,0,0,0,1]
[null,null,null,null,null,"LV Sub Site Specific","1 or 0",null,null,0,0,1,0]
[null,null,null,null,null,"HV Site Specific","1 or 0",null,null,0,1,0,0]
[null,null,null,null,null,"Unmetered Supplies","1 or 0",null,null,0,0,0,1]
[null,null,null,null,null,"LV Generation Aggregated","1 or 0",null,null,0,0,0,1]
[null,null,null,null,null,"LV Sub Generation Aggregated","1 or 0",null,null,0,0,1,0]
[null,null,null,null,null,"LV Generation Site Specific","1 or 0",null,null,0,0,0,1]
[null,null,null,null,null,"LV Generation Site Specific no RP Charge","1 or 0",null,null,0,0,0,1]
[null,null,null,null,null,"LV Sub Generation Site Specific","1 or 0",null,null,0,0,1,0]
[null,null,null,null,null,"LV Sub Generation Site Specific no RP Charge","1 or 0",null,null,0,0,1,0]
[null,null,null,null,null,"HV Generation Site Specific","1 or 0",null,null,0,1,0,0]
[null,null,null,null,null,"HV Generation Site Specific no RP Charge","1 or 0",null,null,0,1,0,0]
[]
[null,null,{"$f":"INDEX('Version control'!$H$34:$H$58,MATCH($A$1,'Version control'!$F$34:$F$58,0),1)&\"-B: Customer contributions\"","v":"Section 506-B: Customer contributions"}]
[]
[null,null,null,null,"Customer contributions, by network level of supply",null,null,null,">",null,null,null,null,null,null,null,null,null,null,null,null,null,"Paragraph 29"]
[null,null,null,null,"Share of customer contributions by network level and asset type"]
[null,null,null,null,null,null,null,null,null,"Transmission exit","GSPs","132kV","132kV/EHV","EHV","EHV/HV","132kV/HV","HV","HV/LV","LV circuits","LV customers","HV customers"]
[null,null,null,null,null,"LV network","%",null,null,null,null,{"$f":"'Inputs by network level'!L29","v":0},{"$f":"'Inputs by network level'!M29","v":0},{"$f":"'Inputs by network level'!N29","v":0},{"$f":"'Inputs by network level'!O29","v":0},{"$f":"'Inputs by network level'!P29","v":0},{"$f":"'Inputs by network level'!Q29","v":0.20065197841726601},{"$f":"'Inputs by network level'!R29","v":0.26968503937007898},{"$f":"'Inputs by network level'!S29","v":0.92371773930088197}]
[null,null,null,null,null,"LV substation","%",null,null,null,null,{"$f":"'Inputs by network level'!L30","v":0},{"$f":"'Inputs by network level'!M30","v":0},{"$f":"'Inputs by network level'!N30","v":0},{"$f":"'Inputs by network level'!O30","v":0},{"$f":"'Inputs by network level'!P30","v":0},{"$f":"'Inputs by network level'!Q30","v":0.20065197841726601},{"$f":"'Inputs by network level'!R30","v":0.26968503937007898},{"$f":"'Inputs by network level'!S30","v":0}]
[null,null,null,null,null,"HV network","%",null,null,null,null,{"$f":"'Inputs by network level'!L31","v":0},{"$f":"'Inputs by network level'!M31","v":0},{"$f":"'Inputs by network level'!N31","v":3.11004784688995E-2},{"$f":"'Inputs by network level'!O31","v":0.14212259371833799},{"$f":"'Inputs by network level'!P31","v":0},{"$f":"'Inputs by network level'!Q31","v":0.45146695143884902},{"$f":"'Inputs by network level'!R31","v":0},{"$f":"'Inputs by network level'!S31","v":0}]
[null,null,null,null,null,"HV substation","%",null,null,null,null,{"$f":"'Inputs by network level'!L32","v":0},{"$f":"'Inputs by network level'!M32","v":0},{"$f":"'Inputs by network level'!N32","v":3.11004784688995E-2},{"$f":"'Inputs by network level'!O32","v":0.14212259371833799},{"$f":"'Inputs by network level'!P32","v":0},{"$f":"'Inputs by network level'!Q32","v":0},{"$f":"'Inputs by network level'!R32","v":0},{"$f":"'Inputs by network level'!S32","v":0}]
[]
[null,null,null,null,"Customer contributions, by network level"]
[null,null,null,null,"Customer contributions by network level and customer type based on mappings above"]
[null,null,null,null,null,null,null,null,null,"Transmission exit","GSPs","132kV","132kV/EHV","EHV","EHV/HV","132kV/HV","HV","HV/LV","LV circuits","LV customers","HV customers"]
[null,null,null,null,null,"Domestic Aggregated",null,"%",null,null,null,{"$f":"$M21 * L$43 + $L21 * L$44 + $K21 * L$45 + $J21 * L$46","v":0},0,0,0,0,0.20065197841726601,0.26968503937007898,0.92371773930088197]
[null,null,null,null,null,"Domestic Aggregated (Related MPAN)",null,"%",null,null,null,0,0,0,0,0,0.20065197841726601,0.26968503937007898,0.92371773930088197]
[null,null,null,null,null,"Non-Domestic Aggregated",null,"%",null,null,null,0,0,0,0,0,0.20065197841726601,0.26968503937007898,0.92371773930088197]
[null,null,null,null,null,"Non-Domestic Aggregated (Related MPAN)",null,"%",null,null,null,0,0,0,0,0,0.20065197841726601,0.26968503937007898,0.92371773930088197]
[null,null,null,null,null,"LV Site Specific",null,"%",null,null,null,0,0,0,0,0,0.20065197841726601,0.26968503937007898,0.92371773930088197]
[null,null,null,null,null,"LV Sub Site Specific",null,"%",null,null,null,0,0,0,0,0,0.20065197841726601,0.26968503937007898,0]
[null,null,null,null,null,"HV Site Specific",null,"%",null,null,null,0,0,3.11004784688995E-2,0.14212259371833799,0,0.45146695143884902,0,0]
[null,null,null,null,null,"Unmetered Supplies",null,"%",null,null,null,0,0,0,0,0,0.20065197841726601,0.26968503937007898,0.92371773930088197]
[null,null,null,null,null,"LV Generation Aggregated",null,"%",null,null,null,0,0,0,0,0,0.20065197841726601,0.26968503937007898,0.92371773930088197]
[null,null,null,null,null,"LV Sub Generation Aggregated",null,"%",null,null,null,0,0,0,0,0,0.20065197841726601,0.26968503937007898,0]
[null,null,null,null,null,"LV Generation Site Specific",null,"%",null,null,null,0,0,0,0,0,0.20065197841726601,0.26968503937007898,0.92371773930088197]
[null,null,null,null,null,"LV Generation Site Specific no RP Charge",null,"%",null,null,null,0,0,0,0,0,0.20065197841726601,0.26968503937007898,0.92371773930088197]
[null,null,null,null,null,"LV Sub Generation Site Specific",null,"%",null,null,null,0,0,0,0,0,0.20065197841726601,0.26968503937007898,0]
[null,null,null,null,null,"LV Sub Generation Site Specific no RP Charge",null,"%",null,null,null,0,0,0,0,0,0.20065197841726601,0.26968503937007898,0]
[null,null,null,null,null,"HV Generation Site Specific",null,"%",null,null,null,0,0,3.11004784688995E-2,0.14212259371833799,0,0.45146695143884902,0,0]
[null,null,null,null,null,"HV Generation Site Specific no RP Charge",null,"%",null,null,null,0,0,3.11004784688995E-2,0.14212259371833799,0,0.45146695143884902,0,0]
[]
[null,"Checks"]
[]
[null,null,null,null,"Check for error values",null,"number of issues",{"$f":"SUM(IF(ISERROR(H21:U66), 1))","v":0}]
[]
[null,"End of sheet"]

{"sheet":"Volume adjustments","index":20,"n_rows":142,"n_cols":27,"rows_kept":142,"cut":false,"hidden":false,"merged":[]}
[{"$f":"MID(CELL(\"filename\",A1),FIND(\"]\",CELL(\"filename\",A1))+1,255)","v":"Volume adjustments"}]
[{"$f":"Cover!D21&\" - \"&Cover!D23","v":"SP Distribution - One"}]
[{"$f":"Cover!D2&\" - \"&Cover!D8&\" v\"&Cover!D10&\" - \"&Cover!D19","v":"ARP model - Release for charge setting v5 - 2021/22"}]
[{"$f":"H140 & IF(H140 = 1, \" issue\", \" issues\") &\" identified in checks on this sheet\"","v":"0 issues identified in checks on this sheet"}]
[null,"Click here to return to model map",null,null,null,null,"Units","Constants",null,"Domestic Aggregated","Domestic Aggregated (Related MPAN)","Non-Domestic Aggregated","Non-Domestic Aggregated (Related MPAN)","LV Site Specific","LV Sub Site Specific","HV Site Specific","Unmetered Supplies","LV Generation Aggregated","LV Sub Generation Aggregated","LV Generation Site Specific","LV Generation Site Specific no RP Charge","LV Sub Generation Site Specific","LV Sub Generation Site Specific no RP Charge","HV Generation Site Specific","HV Generation Site Specific no RP Charge",null,"Legal text reference"]
[]
[null,"Description"]
[]
[null,null,"This sheet calculates volumes (kWh, MPAN, import and exceeded capacity) to be used throughout the model."]
[null,null,"This sheet first calculates the discounts to be applied to LDNO volumes, then combines these with volumes for "]
[null,null,"all the way customers."]
[]
[null,"LDNO discounts"]
[]
[null,null,{"$f":"INDEX('Version control'!$H$34:$H$58,MATCH($A$1,'Version control'!$F$34:$F$58,0),1)&\"-A: LDNO discounts\"","v":"Section 507-A: LDNO discounts"}]
[]
[null,null,null,"This section maps the LDNO discounts from the PCDM to different customer categories"]
[null,null,null,"Generation LDNO customers do not receive the standard LDNO discounts, and this adjustment is made in this section"]
[]
[null,null,null,null,"Discounts from PCDM",null,null,null,">"]
[null,null,null,null,"LDNO discounts calculated in the PCDM",null,null,null,null,null,null,null,null,null,null,null,null,null,null,null,null,null,null,null,null,null,"Paragraph 97"]
[null,null,null,null,null,"LDNO LV: LV user","%",{"$f":"'General inputs'!H33","v":0.39067242808448932}]
[null,null,null,null,null,"LDNO HV: LV user","%",{"$f":"'General inputs'!H34","v":0.60361788113874959}]
[null,null,null,null,null,"LDNO HV: LV Sub user","%",{"$f":"'General inputs'!H35","v":0.34819248571328243}]
[null,null,null,null,null,"LDNO HV: HV user","%",{"$f":"'General inputs'!H36","v":0.25174009320591562}]
[]
[null,null,null,null,"Discount mapping",null,null,null,">",null,null,null,null,null,null,null,null,null,null,null,null,null,null,null,null,null,"Paragraphs 98 & 99"]
[null,null,null,null,"Maps customer types to LDNO discount categories and calculates the appropriate discount to be applied to "]
[null,null,null,null,"each customer"]
[null,null,null,null,null,"LDNO LV: LV user","1 or 0",null,null,{"$f":"'Fixed inputs'!J46","v":1},{"$f":"'Fixed inputs'!K46","v":1},{"$f":"'Fixed inputs'!L46","v":1},{"$f":"'Fixed inputs'!M46","v":1},{"$f":"'Fixed inputs'!N46","v":1},{"$f":"'Fixed inputs'!O46","v":0},{"$f":"'Fixed inputs'!P46","v":0},{"$f":"'Fixed inputs'!Q46","v":1},{"$f":"'Fixed inputs'!R46","v":0},{"$f":"'Fixed inputs'!S46","v":0},{"$f":"'Fixed inputs'!T46","v":0},{"$f":"'Fixed inputs'!U46","v":0},{"$f":"'Fixed inputs'!V46","v":0},{"$f":"'Fixed inputs'!W46","v":0},{"$f":"'Fixed inputs'!X46","v":0},{"$f":"'Fixed inputs'!Y46","v":0}]
[null,null,null,null,null,"LDNO HV: LV user","1 or 0",null,null,{"$f":"'Fixed inputs'!J47","v":1},{"$f":"'Fixed inputs'!K47","v":1},{"$f":"'Fixed inputs'!L47","v":1},{"$f":"'Fixed inputs'!M47","v":1},{"$f":"'Fixed inputs'!N47","v":1},{"$f":"'Fixed inputs'!O47","v":0},{"$f":"'Fixed inputs'!P47","v":0},{"$f":"'Fixed inputs'!Q47","v":1},{"$f":"'Fixed inputs'!R47","v":0},{"$f":"'Fixed inputs'!S47","v":0},{"$f":"'Fixed inputs'!T47","v":0},{"$f":"'Fixed inputs'!U47","v":0},{"$f":"'Fixed inputs'!V47","v":0},{"$f":"'Fixed inputs'!W47","v":0},{"$f":"'Fixed inputs'!X47","v":0},{"$f":"'Fixed inputs'!Y47","v":0}]
[null,null,null,null,null,"LDNO HV: LV Sub user","1 or 0",null,null,{"$f":"'Fixed inputs'!J48","v":0},{"$f":"'Fixed inputs'!K48","v":0},{"$f":"'Fixed inputs'!L48","v":0},{"$f":"'Fixed inputs'!M48","v":0},{"$f":"'Fixed inputs'!N48","v":0},{"$f":"'Fixed inputs'!O48","v":1},{"$f":"'Fixed inputs'!P48","v":0},{"$f":"'Fixed inputs'!Q48","v":0},{"$f":"'Fixed inputs'!R48","v":0},{"$f":"'Fixed inputs'!S48","v":0},{"$f":"'Fixed inputs'!T48","v":0},{"$f":"'Fixed inputs'!U48","v":0},{"$f":"'Fixed inputs'!V48","v":0},{"$f":"'Fixed inputs'!W48","v":0},{"$f":"'Fixed inputs'!X48","v":0},{"$f":"'Fixed inputs'!Y48","v":0}]
[null,null,null,null,null,"LDNO HV: HV user","1 or 0",null,null,{"$f":"'Fixed inputs'!J49","v":0},{"$f":"'Fixed inputs'!K49","v":0},{"$f":"'Fixed inputs'!L49","v":0},{"$f":"'Fixed inputs'!M49","v":0},{"$f":"'Fixed inputs'!N49","v":0},{"$f":"'Fixed inputs'!O49","v":0},{"$f":"'Fixed inputs'!P49","v":1},{"$f":"'Fixed inputs'!Q49","v":0},{"$f":"'Fixed inputs'!R49","v":0},{"$f":"'Fixed inputs'!S49","v":0},{"$f":"'Fixed inputs'!T49","v":0},{"$f":"'Fixed inputs'!U49","v":0},{"$f":"'Fixed inputs'!V49","v":0},{"$f":"'Fixed inputs'!W49","v":0},{"$f":"'Fixed inputs'!X49","v":0},{"$f":"'Fixed inputs'!Y49","v":0}]
[null,null,null,null,null,"LV discount","%",null,null,{"$f":"J30 * $H$22","v":0.39067242808448932},0.39067242808448932,0.39067242808448932,0.39067242808448932,0.39067242808448932,0,0,0.39067242808448932,0,0,0,0,0,0,0,0]
[null,null,null,null,null,"HV discount","%",null,null,{"$f":"SUMPRODUCT(J31:J33,$H$23:$H$25)","v":0.60361788113874959},0.60361788113874959,0.60361788113874959,0.60361788113874959,0.60361788113874959,0.34819248571328243,0.25174009320591562,0.60361788113874959,0,0,0,0,0,0,0,0]
[]
[null,null,null,null,"Discount override",null,null,null,">",null,null,null,null,null,null,null,null,null,null,null,null,null,null,null,null,null,"Paragraphs 98 & 99"]
[null,null,null,null,"This table overrides discount factors for certain categories of user"]
[null,null,null,null,null,"Flag for overriding MWh discount rate","TRUE / FALSE",null,null,{"$f":"'Fixed inputs'!J105","v":false},{"$f":"'Fixed inputs'!K105","v":false},{"$f":"'Fixed inputs'!L105","v":false},{"$f":"'Fixed inputs'!M105","v":false},{"$f":"'Fixed inputs'!N105","v":false},{"$f":"'Fixed inputs'!O105","v":false},{"$f":"'Fixed inputs'!P105","v":false},{"$f":"'Fixed inputs'!Q105","v":false},{"$f":"'Fixed inputs'!R105","v":true},{"$f":"'Fixed inputs'!S105","v":true},{"$f":"'Fixed inputs'!T105","v":true},{"$f":"'Fixed inputs'!U105","v":true},{"$f":"'Fixed inputs'!V105","v":true},{"$f":"'Fixed inputs'!W105","v":true},{"$f":"'Fixed inputs'!X105","v":true},{"$f":"'Fixed inputs'!Y105","v":true}]
[null,null,null,null,null,"Flag for overriding MPAN discount rate","TRUE / FALSE",null,null,{"$f":"'Fixed inputs'!J109","v":false},{"$f":"'Fixed inputs'!K109","v":false},{"$f":"'Fixed inputs'!L109","v":false},{"$f":"'Fixed inputs'!M109","v":false},{"$f":"'Fixed inputs'!N109","v":false},{"$f":"'Fixed inputs'!O109","v":false},{"$f":"'Fixed inputs'!P109","v":false},{"$f":"'Fixed inputs'!Q109","v":false},{"$f":"'Fixed inputs'!R109","v":true},{"$f":"'Fixed inputs'!S109","v":true},{"$f":"'Fixed inputs'!T109","v":true},{"$f":"'Fixed inputs'!U109","v":true},{"$f":"'Fixed inputs'!V109","v":true},{"$f":"'Fixed inputs'!W109","v":true},{"$f":"'Fixed inputs'!X109","v":true},{"$f":"'Fixed inputs'!Y109","v":true}]
[null,null,null,null,null,"Flag for overriding import capacity discount rate","TRUE / FALSE",null,null,{"$f":"'Fixed inputs'!J113","v":false},{"$f":"'Fixed inputs'!K113","v":false},{"$f":"'Fixed inputs'!L113","v":false},{"$f":"'Fixed inputs'!M113","v":false},{"$f":"'Fixed inputs'!N113","v":false},{"$f":"'Fixed inputs'!O113","v":false},{"$f":"'Fixed inputs'!P113","v":false},{"$f":"'Fixed inputs'!Q113","v":false},{"$f":"'Fixed inputs'!R113","v":true},{"$f":"'Fixed inputs'!S113","v":true},{"$f":"'Fixed inputs'!T113","v":true},{"$f":"'Fixed inputs'!U113","v":true},{"$f":"'Fixed inputs'!V113","v":true},{"$f":"'Fixed inputs'!W113","v":true},{"$f":"'Fixed inputs'!X113","v":true},{"$f":"'Fixed inputs'!Y113","v":true}]
[null,null,null,null,null,"Flag for overriding exceeded capacity discount rate","TRUE / FALSE",null,null,{"$f":"'Fixed inputs'!J117","v":false},{"$f":"'Fixed inputs'!K117","v":false},{"$f":"'Fixed inputs'!L117","v":false},{"$f":"'Fixed inputs'!M117","v":false},{"$f":"'Fixed inputs'!N117","v":false},{"$f":"'Fixed inputs'!O117","v":false},{"$f":"'Fixed inputs'!P117","v":false},{"$f":"'Fixed inputs'!Q117","v":false},{"$f":"'Fixed inputs'!R117","v":true},{"$f":"'Fixed inputs'!S117","v":true},{"$f":"'Fixed inputs'!T117","v":true},{"$f":"'Fixed inputs'!U117","v":true},{"$f":"'Fixed inputs'!V117","v":true},{"$f":"'Fixed inputs'!W117","v":true},{"$f":"'Fixed inputs'!X117","v":true},{"$f":"'Fixed inputs'!Y117","v":true}]
[null,null,null,null,null,"Flag for overriding reactive power units discount rate","TRUE / FALSE",null,null,{"$f":"'Fixed inputs'!J121","v":false},{"$f":"'Fixed inputs'!K121","v":false},{"$f":"'Fixed inputs'!L121","v":false},{"$f":"'Fixed inputs'!M121","v":false},{"$f":"'Fixed inputs'!N121","v":false},{"$f":"'Fixed inputs'!O121","v":false},{"$f":"'Fixed inputs'!P121","v":false},{"$f":"'Fixed inputs'!Q121","v":false},{"$f":"'Fixed inputs'!R121","v":true},{"$f":"'Fixed inputs'!S121","v":true},{"$f":"'Fixed inputs'!T121","v":true},{"$f":"'Fixed inputs'!U121","v":true},{"$f":"'Fixed inputs'!V121","v":true},{"$f":"'Fixed inputs'!W121","v":true},{"$f":"'Fixed inputs'!X121","v":true},{"$f":"'Fixed inputs'!Y121","v":true}]
[]
[null,null,null,null,null,"Override MWh discount rate","%",null,null,{"$f":"'Fixed inputs'!J106","v":0},{"$f":"'Fixed inputs'!K106","v":0},{"$f":"'Fixed inputs'!L106","v":0},{"$f":"'Fixed inputs'!M106","v":0},{"$f":"'Fixed inputs'!N106","v":0},{"$f":"'Fixed inputs'!O106","v":0},{"$f":"'Fixed inputs'!P106","v":0},{"$f":"'Fixed inputs'!Q106","v":0},{"$f":"'Fixed inputs'!R106","v":0},{"$f":"'Fixed inputs'!S106","v":0},{"$f":"'Fixed inputs'!T106","v":0},{"$f":"'Fixed inputs'!U106","v":0},{"$f":"'Fixed inputs'!V106","v":0},{"$f":"'Fixed inputs'!W106","v":0},{"$f":"'Fixed inputs'!X106","v":0},{"$f":"'Fixed inputs'!Y106","v":0}]
[null,null,null,null,null,"Override MPAN discount rate","%",null,null,{"$f":"'Fixed inputs'!J110","v":0},{"$f":"'Fixed inputs'!K110","v":0},{"$f":"'Fixed inputs'!L110","v":0},{"$f":"'Fixed inputs'!M110","v":0},{"$f":"'Fixed inputs'!N110","v":0},{"$f":"'Fixed inputs'!O110","v":0},{"$f":"'Fixed inputs'!P110","v":0},{"$f":"'Fixed inputs'!Q110","v":0},{"$f":"'Fixed inputs'!R110","v":1},{"$f":"'Fixed inputs'!S110","v":1},{"$f":"'Fixed inputs'!T110","v":1},{"$f":"'Fixed inputs'!U110","v":1},{"$f":"'Fixed inputs'!V110","v":1},{"$f":"'Fixed inputs'!W110","v":1},{"$f":"'Fixed inputs'!X110","v":1},{"$f":"'Fixed inputs'!Y110","v":1}]
[null,null,null,null,null,"Override import capacity discount rate","%",null,null,{"$f":"'Fixed inputs'!J114","v":0},{"$f":"'Fixed inputs'!K114","v":0},{"$f":"'Fixed inputs'!L114","v":0},{"$f":"'Fixed inputs'!M114","v":0},{"$f":"'Fixed inputs'!N114","v":0},{"$f":"'Fixed inputs'!O114","v":0},{"$f":"'Fixed inputs'!P114","v":0},{"$f":"'Fixed inputs'!Q114","v":0},{"$f":"'Fixed inputs'!R114","v":0},{"$f":"'Fixed inputs'!S114","v":0},{"$f":"'Fixed inputs'!T114","v":0},{"$f":"'Fixed inputs'!U114","v":0},{"$f":"'Fixed inputs'!V114","v":0},{"$f":"'Fixed inputs'!W114","v":0},{"$f":"'Fixed inputs'!X114","v":0},{"$f":"'Fixed inputs'!Y114","v":0}]
[null,null,null,null,null,"Override exceeded capacity discount rate","%",null,null,{"$f":"'Fixed inputs'!J118","v":0},{"$f":"'Fixed inputs'!K118","v":0},{"$f":"'Fixed inputs'!L118","v":0},{"$f":"'Fixed inputs'!M118","v":0},{"$f":"'Fixed inputs'!N118","v":0},{"$f":"'Fixed inputs'!O118","v":0},{"$f":"'Fixed inputs'!P118","v":0},{"$f":"'Fixed inputs'!Q118","v":0},{"$f":"'Fixed inputs'!R118","v":0},{"$f":"'Fixed inputs'!S118","v":0},{"$f":"'Fixed inputs'!T118","v":0},{"$f":"'Fixed inputs'!U118","v":0},{"$f":"'Fixed inputs'!V118","v":0},{"$f":"'Fixed inputs'!W118","v":0},{"$f":"'Fixed inputs'!X118","v":0},{"$f":"'Fixed inputs'!Y118","v":0}]
[null,null,null,null,null,"Override reactive power units discount rate","%",null,null,{"$f":"'Fixed inputs'!J122","v":0},{"$f":"'Fixed inputs'!K122","v":0},{"$f":"'Fixed inputs'!L122","v":0},{"$f":"'Fixed inputs'!M122","v":0},{"$f":"'Fixed inputs'!N122","v":0},{"$f":"'Fixed inputs'!O122","v":0},{"$f":"'Fixed inputs'!P122","v":0},{"$f":"'Fixed inputs'!Q122","v":0},{"$f":"'Fixed inputs'!R122","v":0},{"$f":"'Fixed inputs'!S122","v":0},{"$f":"'Fixed inputs'!T122","v":0},{"$f":"'Fixed inputs'!U122","v":0},{"$f":"'Fixed inputs'!V122","v":0},{"$f":"'Fixed inputs'!W122","v":0},{"$f":"'Fixed inputs'!X122","v":0},{"$f":"'Fixed inputs'!Y122","v":0}]
[]
[null,"Volume discounting"]
[]
[null,null,"Applies LDNO discounts and aggregates with volumes from all the way customers"]
[]
[null,null,{"$f":"INDEX('Version control'!$H$34:$H$58,MATCH($A$1,'Version control'!$F$34:$F$58,0),1)&\"-B: Volume discounting\"","v":"Section 507-B: Volume discounting"}]
[]
[null,null,null,null,"Unit rate 1",null,null,null,">",null,null,null,null,null,null,null,null,null,null,null,null,null,null,null,null,null,"Paragraph 53"]
[]
[null,null,null,null,null,"All the way customers","MWh",null,null,{"$f":"'Inputs by customer type'!J24","v":728182.66484023235},{"$f":"'Inputs by customer type'!K24","v":1325.9025558238502},{"$f":"'Inputs by customer type'!L24","v":187782.12741331305},{"$f":"'Inputs by customer type'!M24","v":4172.2410596369182},{"$f":"'Inputs by customer type'!N24","v":275821.76887612289},{"$f":"'Inputs by customer type'!O24","v":21569.598912405832},{"$f":"'Inputs by customer type'!P24","v":322473.77411167003},{"$f":"'Inputs by customer type'!Q24","v":13844.286088792498},{"$f":"'Inputs by customer type'!R24","v":139.21456342227521},{"$f":"'Inputs by customer type'!S24","v":2.8776284544589532},{"$f":"'Inputs by customer type'!T24","v":6131.3814104814819},{"$f":"'Inputs by customer type'!U24","v":0},{"$f":"'Inputs by customer type'!V24","v":144.6141525623608},{"$f":"'Inputs by customer type'!W24","v":0},{"$f":"'Inputs by customer type'!X24","v":116075.81817719914},{"$f":"'Inputs by customer type'!Y24","v":0}]
[null,null,null,null,null,"LDNO LV","MWh",null,null,{"$f":"'Inputs by customer type'!J33","v":13713.32246963591},{"$f":"'Inputs by customer type'!K33","v":1.3981029513384524},{"$f":"'Inputs by customer type'!L33","v":601.04321517970027},{"$f":"'Inputs by customer type'!M33","v":0},{"$f":"'Inputs by customer type'!N33","v":1596.4649999999999},{"$f":"'Inputs by customer type'!O33","v":0},{"$f":"'Inputs by customer type'!P33","v":0},{"$f":"'Inputs by customer type'!Q33","v":20.430032150505486},{"$f":"'Inputs by customer type'!R33","v":0.57025605316046324},{"$f":"'Inputs by customer type'!S33","v":0},{"$f":"'Inputs by customer type'!T33","v":0},{"$f":"'Inputs by customer type'!U33","v":0},{"$f":"'Inputs by customer type'!V33","v":0},{"$f":"'Inputs by customer type'!W33","v":0},{"$f":"'Inputs by customer type'!X33","v":0},{"$f":"'Inputs by customer type'!Y33","v":0}]
[null,null,null,null,null,"LDNO HV","MWh",null,null,{"$f":"'Inputs by customer type'!J42","v":20104.099696926573},{"$f":"'Inputs by customer type'!K42","v":2.0480897481131533},{"$f":"'Inputs by customer type'!L42","v":2081.7354094794059},{"$f":"'Inputs by customer type'!M42","v":0},{"$f":"'Inputs by customer type'!N42","v":13322.004999999999},{"$f":"'Inputs by customer type'!O42","v":2210.538},{"$f":"'Inputs by customer type'!P42","v":5129.4559999999992},{"$f":"'Inputs by customer type'!Q42","v":30.879361230900383},{"$f":"'Inputs by customer type'!R42","v":0.25597879022110009},{"$f":"'Inputs by customer type'!S42","v":0},{"$f":"'Inputs by customer type'!T42","v":0},{"$f":"'Inputs by customer type'!U42","v":0},{"$f":"'Inputs by customer type'!V42","v":0},{"$f":"'Inputs by customer type'!W42","v":0},{"$f":"'Inputs by customer type'!X42","v":0},{"$f":"'Inputs by customer type'!Y42","v":0}]
[null,null,null,null,null,"LDNO LV discount rate applied","%",null,null,{"$f":"IF(J$39, J$45, J$34)","v":0.39067242808448932},0.39067242808448932,0.39067242808448932,0.39067242808448932,0.39067242808448932,0,0,0.39067242808448932,0,0,0,0,0,0,0,0]
[null,null,null,null,null,"LDNO HV discount rate applied","%",null,null,{"$f":"IF(J$39, J$45, J$35)","v":0.60361788113874959},0.60361788113874959,0.60361788113874959,0.60361788113874959,0.60361788113874959,0.34819248571328243,0.25174009320591562,0.60361788113874959,0,0,0,0,0,0,0,0]
[null,null,null,null,null,"LDNO LV, discounted","MWh",null,null,{"$f":"J60 * (1 - J62)","v":8355.9054833176633},0.85190267662696861,366.23220292173858,0,972.77014209809568,0,0,12.448581884423326,0.57025605316046324,0,0,0,0,0,0,0]
[null,null,null,null,null,"LDNO HV, discounted","MWh",null,null,7968.9056356655774,0.81182615397509628,825.16269251793972,0,5280.6045693801716,1440.8452790163321,3838.1662684643561,12.240026633786243,0.25597879022110009,0,0,0,0,0,0,0]
[null,null,null,null,null,"Total after discounting","MWh",null,null,{"$f":"J59 + J64 + J65","v":744507.47595921555},1327.5662846544521,188973.52230875273,4172.2410596369182,282075.14358760114,23010.444191422164,326311.94038013439,13868.974697310709,140.04079826565675,2.8776284544589532,6131.3814104814819,0,144.6141525623608,0,116075.81817719914,0]
[]
[null,null,null,null,"Unit rate 2",null,null,null,">",null,null,null,null,null,null,null,null,null,null,null,null,null,null,null,null,null,"Paragraph 53"]
[]
[null,null,null,null,null,"All the way customers","MWh",null,null,{"$f":"'Inputs by customer type'!J25","v":2586978.352218715},{"$f":"'Inputs by customer type'!K25","v":24004.867020018988},{"$f":"'Inputs by customer type'!L25","v":1017175.5544889377},{"$f":"'Inputs by customer type'!M25","v":25319.415482001521},{"$f":"'Inputs by customer type'!N25","v":1322296.4326402938},{"$f":"'Inputs by customer type'!O25","v":101185.04898982702},{"$f":"'Inputs by customer type'!P25","v":1497042.8901385467},{"$f":"'Inputs by customer type'!Q25","v":52546.80809158679},{"$f":"'Inputs by customer type'!R25","v":625.58915267962095},{"$f":"'Inputs by customer type'!S25","v":11.85801478940583},{"$f":"'Inputs by customer type'!T25","v":27525.456251959484},{"$f":"'Inputs by customer type'!U25","v":0},{"$f":"'Inputs by customer type'!V25","v":597.34783091345412},{"$f":"'Inputs by customer type'!W25","v":0},{"$f":"'Inputs by customer type'!X25","v":445212.43930388504},{"$f":"'Inputs by customer type'!Y25","v":0}]
[null,null,null,null,null,"LDNO LV","MWh",null,null,{"$f":"'Inputs by customer type'!J34","v":48809.781090218552},{"$f":"'Inputs by customer type'!K34","v":25.329659479528413},{"$f":"'Inputs by customer type'!L34","v":3253.025245448257},{"$f":"'Inputs by customer type'!M34","v":0},{"$f":"'Inputs by customer type'!N34","v":7155.5069999999996},{"$f":"'Inputs by customer type'!O34","v":0},{"$f":"'Inputs by customer type'!P34","v":0},{"$f":"'Inputs by customer type'!Q34","v":273.96068150852608},{"$f":"'Inputs by customer type'!R34","v":2.0830307980493821},{"$f":"'Inputs by customer type'!S34","v":0},{"$f":"'Inputs by customer type'!T34","v":0},{"$f":"'Inputs by customer type'!U34","v":0},{"$f":"'Inputs by customer type'!V34","v":0},{"$f":"'Inputs by customer type'!W34","v":0},{"$f":"'Inputs by customer type'!X34","v":0},{"$f":"'Inputs by customer type'!Y34","v":0}]
[null,null,null,null,null,"LDNO HV","MWh",null,null,{"$f":"'Inputs by customer type'!J43","v":71593.395504093525},{"$f":"'Inputs by customer type'!K43","v":37.263746671521595},{"$f":"'Inputs by customer type'!L43","v":11268.104540991542},{"$f":"'Inputs by customer type'!M43","v":0},{"$f":"'Inputs by customer type'!N43","v":59210.165999999997},{"$f":"'Inputs by customer type'!O43","v":9690.4299999999985},{"$f":"'Inputs by customer type'!P43","v":23108.695},{"$f":"'Inputs by customer type'!Q43","v":425.49872061278865},{"$f":"'Inputs by customer type'!R43","v":0.94265200118290493},{"$f":"'Inputs by customer type'!S43","v":0},{"$f":"'Inputs by customer type'!T43","v":0},{"$f":"'Inputs by customer type'!U43","v":0},{"$f":"'Inputs by customer type'!V43","v":0},{"$f":"'Inputs by customer type'!W43","v":0},{"$f":"'Inputs by customer type'!X43","v":0},{"$f":"'Inputs by customer type'!Y43","v":0}]
[null,null,null,null,null,"LDNO LV discount rate applied","%",null,null,{"$f":"IF(J$39, J$45, J$34)","v":0.39067242808448932},0.39067242808448932,0.39067242808448932,0.39067242808448932,0.39067242808448932,0,0,0.39067242808448932,0,0,0,0,0,0,0,0]
[null,null,null,null,null,"LDNO HV discount rate applied","%",null,null,{"$f":"IF(J$39, J$45, J$35)","v":0.60361788113874959},0.60361788113874959,0.60361788113874959,0.60361788113874959,0.60361788113874959,0.34819248571328243,0.25174009320591562,0.60361788113874959,0,0,0,0,0,0,0,0]
[null,null,null,null,null,"LDNO LV, discounted","MWh",null,null,{"$f":"J71 * (1 - J73)","v":29741.145397430479},15.434059908107745,1982.1579741888445,0,4360.04770613444,0,0,166.93179686390874,2.0830307980493821,0,0,0,0,0,0,0]
[null,null,null,null,null,"LDNO HV, discounted","MWh",null,null,28378.341806384109,14.770682862366597,4466.4751535083051,0,23469.851057206368,6316.2950906694359,17291.309966832923,168.66008444924836,0.94265200118290493,0,0,0,0,0,0,0]
[null,null,null,null,null,"Total after discounting","MWh",null,null,{"$f":"J70 + J75 + J76","v":2645097.8394225296},24035.071762789463,1023624.1876166349,25319.415482001521,1350126.3314036345,107501.34408049645,1514334.2001053796,52882.399972899948,628.61483547885325,11.85801478940583,27525.456251959484,0,597.34783091345412,0,445212.43930388504,0]
[]
[null,null,null,null,"Unit rate 3",null,null,null,">",null,null,null,null,null,null,null,null,null,null,null,null,null,null,null,null,null,"Paragraph 53"]
[]
[null,null,null,null,null,"All the way customers","MWh",null,null,{"$f":"'Inputs by customer type'!J26","v":2382458.5766185289},{"$f":"'Inputs by customer type'!K26","v":245208.33115400965},{"$f":"'Inputs by customer type'!L26","v":982488.05164342187},{"$f":"'Inputs by customer type'!M26","v":52561.158034119573},{"$f":"'Inputs by customer type'!N26","v":1154944.2406044872},{"$f":"'Inputs by customer type'!O26","v":100898.01610776718},{"$f":"'Inputs by customer type'!P26","v":1602377.0319897835},{"$f":"'Inputs by customer type'!Q26","v":189052.68521962134},{"$f":"'Inputs by customer type'!R26","v":698.17114006254928},{"$f":"'Inputs by customer type'!S26","v":16.006356756135215},{"$f":"'Inputs by customer type'!T26","v":30981.276337559029},{"$f":"'Inputs by customer type'!U26","v":0},{"$f":"'Inputs by customer type'!V26","v":807.27901652418518},{"$f":"'Inputs by customer type'!W26","v":0},{"$f":"'Inputs by customer type'!X26","v":507559.16751891578},{"$f":"'Inputs by customer type'!Y26","v":0}]
[null,null,null,null,null,"LDNO LV","MWh",null,null,{"$f":"'Inputs by customer type'!J35","v":44956.580637555373},{"$f":"'Inputs by customer type'!K35","v":257.47123756913317},{"$f":"'Inputs by customer type'!L35","v":3140.330539372042},{"$f":"'Inputs by customer type'!M35","v":0},{"$f":"'Inputs by customer type'!N35","v":6545.246000000001},{"$f":"'Inputs by customer type'!O35","v":0},{"$f":"'Inputs by customer type'!P35","v":0},{"$f":"'Inputs by customer type'!Q35","v":303.25428634096841},{"$f":"'Inputs by customer type'!R35","v":1.9454499908954175},{"$f":"'Inputs by customer type'!S35","v":0},{"$f":"'Inputs by customer type'!T35","v":0},{"$f":"'Inputs by customer type'!U35","v":0},{"$f":"'Inputs by customer type'!V35","v":0},{"$f":"'Inputs by customer type'!W35","v":0},{"$f":"'Inputs by customer type'!X35","v":0},{"$f":"'Inputs by customer type'!Y35","v":0}]
[null,null,null,null,null,"LDNO HV","MWh",null,null,{"$f":"'Inputs by customer type'!J44","v":65951.865798979896},{"$f":"'Inputs by customer type'!K44","v":378.23816358036527},{"$f":"'Inputs by customer type'!L44","v":10881.052049529049},{"$f":"'Inputs by customer type'!M44","v":0},{"$f":"'Inputs by customer type'!N44","v":50706.112000000001},{"$f":"'Inputs by customer type'!O44","v":8312.2019999999993},{"$f":"'Inputs by customer type'!P44","v":25303.565000000002},{"$f":"'Inputs by customer type'!Q44","v":470.53235815631092},{"$f":"'Inputs by customer type'!R44","v":0.86715492288170914},{"$f":"'Inputs by customer type'!S44","v":0},{"$f":"'Inputs by customer type'!T44","v":0},{"$f":"'Inputs by customer type'!U44","v":0},{"$f":"'Inputs by customer type'!V44","v":0},{"$f":"'Inputs by customer type'!W44","v":0},{"$f":"'Inputs by customer type'!X44","v":0},{"$f":"'Inputs by customer type'!Y44","v":0}]
[null,null,null,null,null,"LDNO LV discount rate applied","%",null,null,{"$f":"IF(J$39, J$45, J$34)","v":0.39067242808448932},0.39067242808448932,0.39067242808448932,0.39067242808448932,0.39067242808448932,0,0,0.39067242808448932,0,0,0,0,0,0,0,0]
[null,null,null,null,null,"LDNO HV discount rate applied","%",null,null,{"$f":"IF(J$39, J$45, J$35)","v":0.60361788113874959},0.60361788113874959,0.60361788113874959,0.60361788113874959,0.60361788113874959,0.34819248571328243,0.25174009320591562,0.60361788113874959,0,0,0,0,0,0,0,0]
[null,null,null,null,null,"LDNO LV, discounted","MWh",null,null,{"$f":"J82 * (1 - J84)","v":27393.284121505476},156.88432402608152,1913.4899825676923,0,3988.1988527697094,0,0,184.78119796911329,1.9454499908954175,0,0,0,0,0,0,0]
[null,null,null,null,null,"LDNO HV, discounted","MWh",null,null,26142.140308252485,149.92684471417343,4313.0544668318762,0,20098.996113775876,5417.9557238690822,18933.643188458056,186.51061311877928,0.86715492288170914,0,0,0,0,0,0,0]
[null,null,null,null,null,"Total after discounting","MWh",null,null,{"$f":"J81 + J86 + J87","v":2435994.0010482869},245515.14232274992,988714.59609282145,52561.158034119573,1179031.4355710328,106315.97183163626,1621310.6751782417,189423.97703070924,700.98374497632642,16.006356756135215,30981.276337559029,0,807.27901652418518,0,507559.16751891578,0]
[]
[null,null,null,null,"Total units",null,null,null,">"]
[]
[null,null,null,null,null,"Total after discounting","MWh",null,null,{"$f":"J88 + J77 + J66","v":5825599.3164300323},270877.78037019382,2201312.3060182091,82052.814575758006,2811232.9105622685,236827.76010355487,3461956.8156637559,256175.35170091991,1469.6393787208365,30.742000000000001,64638.113999999994,0,1549.241,0,1068847.425,0]
[]
[null,null,null,null,"MPANs",null,null,null,">",null,null,null,null,null,null,null,null,null,null,null,null,null,null,null,null,null,"Paragraph 53"]
[]
[null,null,null,null,null,"All the way customers","MPANs",null,null,{"$f":"'Inputs by customer type'!J27","v":1852569},{"$f":"'Inputs by customer type'!K27","v":100059},{"$f":"'Inputs by customer type'!L27","v":125030},{"$f":"'Inputs by customer type'!M27","v":7441},{"$f":"'Inputs by customer type'!N27","v":10491},{"$f":"'Inputs by customer type'!O27","v":219},{"$f":"'Inputs by customer type'!P27","v":1257},{"$f":"'Inputs by customer type'!Q27","v":4868},{"$f":"'Inputs by customer type'!R27","v":167},{"$f":"'Inputs by customer type'!S27","v":4},{"$f":"'Inputs by customer type'!T27","v":472},{"$f":"'Inputs by customer type'!U27","v":0},{"$f":"'Inputs by customer type'!V27","v":8},{"$f":"'Inputs by customer type'!W27","v":0},{"$f":"'Inputs by customer type'!X27","v":255},{"$f":"'Inputs by customer type'!Y27","v":0}]
[null,null,null,null,null,"LDNO LV","MPANs",null,null,{"$f":"'Inputs by customer type'!J36","v":41179.93548387097},{"$f":"'Inputs by customer type'!K36","v":67},{"$f":"'Inputs by customer type'!L36","v":1036.6774193548388},{"$f":"'Inputs by customer type'!M36","v":0},{"$f":"'Inputs by customer type'!N36","v":76},{"$f":"'Inputs by customer type'!O36","v":0},{"$f":"'Inputs by customer type'!P36","v":0},{"$f":"'Inputs by customer type'!Q36","v":34},{"$f":"'Inputs by customer type'!R36","v":3},{"$f":"'Inputs by customer type'!S36","v":0},{"$f":"'Inputs by customer type'!T36","v":0},{"$f":"'Inputs by customer type'!U36","v":0},{"$f":"'Inputs by customer type'!V36","v":0},{"$f":"'Inputs by customer type'!W36","v":0},{"$f":"'Inputs by customer type'!X36","v":0},{"$f":"'Inputs by customer type'!Y36","v":0}]
[null,null,null,null,null,"LDNO HV","MPANs",null,null,{"$f":"'Inputs by customer type'!J45","v":58740.548387096773},{"$f":"'Inputs by customer type'!K45","v":78.451612903225808},{"$f":"'Inputs by customer type'!L45","v":1509.8709677419354},{"$f":"'Inputs by customer type'!M45","v":0},{"$f":"'Inputs by customer type'!N45","v":381},{"$f":"'Inputs by customer type'!O45","v":26},{"$f":"'Inputs by customer type'!P45","v":30},{"$f":"'Inputs by customer type'!Q45","v":46},{"$f":"'Inputs by customer type'!R45","v":5},{"$f":"'Inputs by customer type'!S45","v":0},{"$f":"'Inputs by customer type'!T45","v":0},{"$f":"'Inputs by customer type'!U45","v":0},{"$f":"'Inputs by customer type'!V45","v":0},{"$f":"'Inputs by customer type'!W45","v":0},{"$f":"'Inputs by customer type'!X45","v":0},{"$f":"'Inputs by customer type'!Y45","v":0}]
[null,null,null,null,null,"LDNO LV discount rate applied","%",null,null,{"$f":"IF(J$40, J$46, J$34)","v":0.39067242808448932},0.39067242808448932,0.39067242808448932,0.39067242808448932,0.39067242808448932,0,0,0.39067242808448932,1,1,1,1,1,1,1,1]
[null,null,null,null,null,"LDNO HV discount rate applied","%",null,null,{"$f":"IF(J$40, J$46, J$35)","v":0.60361788113874959},0.60361788113874959,0.60361788113874959,0.60361788113874959,0.60361788113874959,0.34819248571328243,0.25174009320591562,0.60361788113874959,1,1,1,1,1,1,1,1]
[null,null,null,null,null,"LDNO LV, discounted","MPANs",null,null,{"$f":"J97 * (1 - J99)","v":25092.070100024477},40.824947318339213,631.67613479512158,0,46.308895465578814,0,0,20.717137445127364,0,0,0,0,0,0,0,0]
[null,null,null,null,null,"LDNO HV, discounted","MPANs",null,null,23283.703032749225,31.096816550663259,598.48585340063505,0,151.02158728613639,16.946995371454658,22.447797203822532,18.233577467617518,0,0,0,0,0,0,0,0]
[null,null,null,null,null,"Total after discounting","MPANs",null,null,{"$f":"J96 + J101 + J102","v":1900944.7731327738},100130.921763869,126260.16198819576,7441,10688.330482751717,235.94699537145465,1279.4477972038226,4906.9507149127448,167,4,472,0,8,0,255,0]
[]
[null,null,null,null,"Import capacity",null,null,null,">",null,null,null,null,null,null,null,null,null,null,null,null,null,null,null,null,null,"Paragraph 53"]
[]
[null,null,null,null,null,"All the way customers","kVA",null,null,{"$f":"'Inputs by customer type'!J28","v":0},{"$f":"'Inputs by customer type'!K28","v":0},{"$f":"'Inputs by customer type'!L28","v":0},{"$f":"'Inputs by customer type'!M28","v":0},{"$f":"'Inputs by customer type'!N28","v":1465414},{"$f":"'Inputs by customer type'!O28","v":92670},{"$f":"'Inputs by customer type'!P28","v":1282859},{"$f":"'Inputs by customer type'!Q28","v":0},{"$f":"'Inputs by customer type'!R28","v":0},{"$f":"'Inputs by customer type'!S28","v":0},{"$f":"'Inputs by customer type'!T28","v":0},{"$f":"'Inputs by customer type'!U28","v":0},{"$f":"'Inputs by customer type'!V28","v":0},{"$f":"'Inputs by customer type'!W28","v":0},{"$f":"'Inputs by customer type'!X28","v":0},{"$f":"'Inputs by customer type'!Y28","v":0}]
[null,null,null,null,null,"LDNO LV","kVA",null,null,{"$f":"'Inputs by customer type'!J37","v":0},{"$f":"'Inputs by customer type'!K37","v":0},{"$f":"'Inputs by customer type'!L37","v":0},{"$f":"'Inputs by customer type'!M37","v":0},{"$f":"'Inputs by customer type'!N37","v":10403},{"$f":"'Inputs by customer type'!O37","v":0},{"$f":"'Inputs by customer type'!P37","v":0},{"$f":"'Inputs by customer type'!Q37","v":0},{"$f":"'Inputs by customer type'!R37","v":0},{"$f":"'Inputs by customer type'!S37","v":0},{"$f":"'Inputs by customer type'!T37","v":0},{"$f":"'Inputs by customer type'!U37","v":0},{"$f":"'Inputs by customer type'!V37","v":0},{"$f":"'Inputs by customer type'!W37","v":0},{"$f":"'Inputs by customer type'!X37","v":0},{"$f":"'Inputs by customer type'!Y37","v":0}]
[null,null,null,null,null,"LDNO HV","kVA",null,null,{"$f":"'Inputs by customer type'!J46","v":0},{"$f":"'Inputs by customer type'!K46","v":0},{"$f":"'Inputs by customer type'!L46","v":0},{"$f":"'Inputs by customer type'!M46","v":0},{"$f":"'Inputs by customer type'!N46","v":87614},{"$f":"'Inputs by customer type'!O46","v":13995},{"$f":"'Inputs by customer type'!P46","v":28618},{"$f":"'Inputs by customer type'!Q46","v":0},{"$f":"'Inputs by customer type'!R46","v":0},{"$f":"'Inputs by customer type'!S46","v":0},{"$f":"'Inputs by customer type'!T46","v":0},{"$f":"'Inputs by customer type'!U46","v":0},{"$f":"'Inputs by customer type'!V46","v":0},{"$f":"'Inputs by customer type'!W46","v":0},{"$f":"'Inputs by customer type'!X46","v":0},{"$f":"'Inputs by customer type'!Y46","v":0}]
[null,null,null,null,null,"LDNO LV discount rate applied","%",null,null,{"$f":"IF(J$41, J$47, J$34)","v":0.39067242808448932},0.39067242808448932,0.39067242808448932,0.39067242808448932,0.39067242808448932,0,0,0.39067242808448932,0,0,0,0,0,0,0,0]
[null,null,null,null,null,"LDNO HV discount rate applied","%",null,null,{"$f":"IF(J$41, J$47, J$35)","v":0.60361788113874959},0.60361788113874959,0.60361788113874959,0.60361788113874959,0.60361788113874959,0.34819248571328243,0.25174009320591562,0.60361788113874959,0,0,0,0,0,0,0,0]
[null,null,null,null,null,"LDNO LV, discounted","kVA",null,null,{"$f":"J108 * (1 - J110)","v":0},0,0,0,6338.8347306370579,0,0,0,0,0,0,0,0,0,0,0]
[null,null,null,null,null,"LDNO HV, discounted","kVA",null,null,0,0,0,0,34728.62296190959,9122.0461624426116,21413.702012633108,0,0,0,0,0,0,0,0,0]
[null,null,null,null,null,"Total after discounting","kVA",null,null,{"$f":"J107 + J112 + J113","v":0},0,0,0,1506481.4576925465,101792.04616244261,1304272.7020126332,0,0,0,0,0,0,0,0,0]
[]
[null,null,null,null,"Exceeded capacity",null,null,null,">",null,null,null,null,null,null,null,null,null,null,null,null,null,null,null,null,null,"Paragraph 53"]
[]
[null,null,null,null,null,"All the way customers","kVA",null,null,{"$f":"'Inputs by customer type'!J29","v":0},{"$f":"'Inputs by customer type'!K29","v":0},{"$f":"'Inputs by customer type'!L29","v":0},{"$f":"'Inputs by customer type'!M29","v":0},{"$f":"'Inputs by customer type'!N29","v":29539.140000000003},{"$f":"'Inputs by customer type'!O29","v":1042.17},{"$f":"'Inputs by customer type'!P29","v":16267.89},{"$f":"'Inputs by customer type'!Q29","v":0},{"$f":"'Inputs by customer type'!R29","v":0},{"$f":"'Inputs by customer type'!S29","v":0},{"$f":"'Inputs by customer type'!T29","v":0},{"$f":"'Inputs by customer type'!U29","v":0},{"$f":"'Inputs by customer type'!V29","v":0},{"$f":"'Inputs by customer type'!W29","v":0},{"$f":"'Inputs by customer type'!X29","v":0},{"$f":"'Inputs by customer type'!Y29","v":0}]
[null,null,null,null,null,"LDNO LV","kVA",null,null,{"$f":"'Inputs by customer type'!J38","v":0},{"$f":"'Inputs by customer type'!K38","v":0},{"$f":"'Inputs by customer type'!L38","v":0},{"$f":"'Inputs by customer type'!M38","v":0},{"$f":"'Inputs by customer type'!N38","v":41.612000000000002},{"$f":"'Inputs by customer type'!O38","v":0},{"$f":"'Inputs by customer type'!P38","v":0},{"$f":"'Inputs by customer type'!Q38","v":0},{"$f":"'Inputs by customer type'!R38","v":0},{"$f":"'Inputs by customer type'!S38","v":0},{"$f":"'Inputs by customer type'!T38","v":0},{"$f":"'Inputs by customer type'!U38","v":0},{"$f":"'Inputs by customer type'!V38","v":0},{"$f":"'Inputs by customer type'!W38","v":0},{"$f":"'Inputs by customer type'!X38","v":0},{"$f":"'Inputs by customer type'!Y38","v":0}]
[null,null,null,null,null,"LDNO HV","kVA",null,null,{"$f":"'Inputs by customer type'!J47","v":0},{"$f":"'Inputs by customer type'!K47","v":0},{"$f":"'Inputs by customer type'!L47","v":0},{"$f":"'Inputs by customer type'!M47","v":0},{"$f":"'Inputs by customer type'!N47","v":175.22800000000001},{"$f":"'Inputs by customer type'!O47","v":0},{"$f":"'Inputs by customer type'!P47","v":14.309000000000001},{"$f":"'Inputs by customer type'!Q47","v":0},{"$f":"'Inputs by customer type'!R47","v":0},{"$f":"'Inputs by customer type'!S47","v":0},{"$f":"'Inputs by customer type'!T47","v":0},{"$f":"'Inputs by customer type'!U47","v":0},{"$f":"'Inputs by customer type'!V47","v":0},{"$f":"'Inputs by customer type'!W47","v":0},{"$f":"'Inputs by customer type'!X47","v":0},{"$f":"'Inputs by customer type'!Y47","v":0}]
[null,null,null,null,null,"LDNO LV discount rate applied","%",null,null,{"$f":"IF(J$42, J$48, J$34)","v":0.39067242808448932},0.39067242808448932,0.39067242808448932,0.39067242808448932,0.39067242808448932,0,0,0.39067242808448932,0,0,0,0,0,0,0,0]
[null,null,null,null,null,"LDNO HV discount rate applied","%",null,null,{"$f":"IF(J$42, J$48, J$35)","v":0.60361788113874959},0.60361788113874959,0.60361788113874959,0.60361788113874959,0.60361788113874959,0.34819248571328243,0.25174009320591562,0.60361788113874959,0,0,0,0,0,0,0,0]
[null,null,null,null,null,"LDNO LV, discounted","kVA",null,null,{"$f":"J119 * (1 - J121)","v":0},0,0,0,25.355338922548231,0,0,0,0,0,0,0,0,0,0,0]
[null,null,null,null,null,"LDNO HV, discounted","kVA",null,null,0,0,0,0,69.457245923819187,0,10.706851006316555,0,0,0,0,0,0,0,0,0]
[null,null,null,null,null,"Total after discounting","kVA",null,null,{"$f":"J118 + J123 + J124","v":0},0,0,0,29633.952584846371,1042.17,16278.596851006316,0,0,0,0,0,0,0,0,0]
[]
[null,null,null,null,"Reactive power units",null,null,null,">",null,null,null,null,null,null,null,null,null,null,null,null,null,null,null,null,null,"Paragraph 53"]
[]
[null,null,null,null,null,"All the way customers","MVArh",null,null,{"$f":"'Inputs by customer type'!J30","v":0},{"$f":"'Inputs by customer type'!K30","v":0},{"$f":"'Inputs by customer type'!L30","v":0},{"$f":"'Inputs by customer type'!M30","v":0},{"$f":"'Inputs by customer type'!N30","v":241920},{"$f":"'Inputs by customer type'!O30","v":19020},{"$f":"'Inputs by customer type'!P30","v":250200},{"$f":"'Inputs by customer type'!Q30","v":0},{"$f":"'Inputs by customer type'!R30","v":0},{"$f":"'Inputs by customer type'!S30","v":0},{"$f":"'Inputs by customer type'!T30","v":4452},{"$f":"'Inputs by customer type'!U30","v":0},{"$f":"'Inputs by customer type'!V30","v":408},{"$f":"'Inputs by customer type'!W30","v":0},{"$f":"'Inputs by customer type'!X30","v":16464},{"$f":"'Inputs by customer type'!Y30","v":0}]
[null,null,null,null,null,"LDNO LV","MVArh",null,null,{"$f":"'Inputs by customer type'!J39","v":0},{"$f":"'Inputs by customer type'!K39","v":0},{"$f":"'Inputs by customer type'!L39","v":0},{"$f":"'Inputs by customer type'!M39","v":0},{"$f":"'Inputs by customer type'!N39","v":936},{"$f":"'Inputs by customer type'!O39","v":0},{"$f":"'Inputs by customer type'!P39","v":0},{"$f":"'Inputs by customer type'!Q39","v":0},{"$f":"'Inputs by customer type'!R39","v":0},{"$f":"'Inputs by customer type'!S39","v":0},{"$f":"'Inputs by customer type'!T39","v":0},{"$f":"'Inputs by customer type'!U39","v":0},{"$f":"'Inputs by customer type'!V39","v":0},{"$f":"'Inputs by customer type'!W39","v":0},{"$f":"'Inputs by customer type'!X39","v":0},{"$f":"'Inputs by customer type'!Y39","v":0}]
[null,null,null,null,null,"LDNO HV","MVArh",null,null,{"$f":"'Inputs by customer type'!J48","v":0},{"$f":"'Inputs by customer type'!K48","v":0},{"$f":"'Inputs by customer type'!L48","v":0},{"$f":"'Inputs by customer type'!M48","v":0},{"$f":"'Inputs by customer type'!N48","v":9000},{"$f":"'Inputs by customer type'!O48","v":1320},{"$f":"'Inputs by customer type'!P48","v":1908},{"$f":"'Inputs by customer type'!Q48","v":0},{"$f":"'Inputs by customer type'!R48","v":0},{"$f":"'Inputs by customer type'!S48","v":0},{"$f":"'Inputs by customer type'!T48","v":0},{"$f":"'Inputs by customer type'!U48","v":0},{"$f":"'Inputs by customer type'!V48","v":0},{"$f":"'Inputs by customer type'!W48","v":0},{"$f":"'Inputs by customer type'!X48","v":0},{"$f":"'Inputs by customer type'!Y48","v":0}]
[null,null,null,null,null,"LDNO LV discount rate applied","%",null,null,{"$f":"IF(J$43, J$49, J$34)","v":0.39067242808448932},0.39067242808448932,0.39067242808448932,0.39067242808448932,0.39067242808448932,0,0,0.39067242808448932,0,0,0,0,0,0,0,0]
[null,null,null,null,null,"LDNO HV discount rate applied","%",null,null,{"$f":"IF(J$43, J$49, J$35)","v":0.60361788113874959},0.60361788113874959,0.60361788113874959,0.60361788113874959,0.60361788113874959,0.34819248571328243,0.25174009320591562,0.60361788113874959,0,0,0,0,0,0,0,0]
[null,null,null,null,null,"LDNO LV, discounted","MVArh",null,null,{"$f":"J130 * (1 - J132)","v":0},0,0,0,570.330607312918,0,0,0,0,0,0,0,0,0,0,0]
[null,null,null,null,null,"LDNO HV, discounted","MVArh",null,null,0,0,0,0,3567.4390697512536,860.38591885846722,1427.679902163113,0,0,0,0,0,0,0,0,0]
[null,null,null,null,null,"Total after discounting","MVArh",null,null,{"$f":"J129 + J134 + J135","v":0},0,0,0,246057.76967706415,19880.385918858468,251627.6799021631,0,0,0,4452,0,408,0,16464,0]
[]
[null,"Checks"]
[]
[null,null,null,null,"Check for error values",null,"number of issues",{"$f":"SUM(IF(ISERROR(H22:Y137), 1))","v":0}]
[]
[null,"End of sheet"]

{"sheet":"Pseudo-load coefficients","index":21,"n_rows":308,"n_cols":27,"rows_kept":308,"cut":false,"hidden":false,"merged":[]}
[{"$f":"MID(CELL(\"filename\",A1),FIND(\"]\",CELL(\"filename\",A1))+1,255)","v":"Pseudo-load coefficients"}]
[{"$f":"Cover!D21&\" - \"&Cover!D23","v":"SP Distribution - One"}]
[{"$f":"Cover!D2&\" - \"&Cover!D8&\" v\"&Cover!D10&\" - \"&Cover!D19","v":"ARP model - Release for charge setting v5 - 2021/22"}]
[{"$f":"H306 & IF(H306 = 1, \" issue\", \" issues\") &\" identified in checks on this sheet\"","v":"0 issues identified in checks on this sheet"}]
[null,"Click here to return to model map",null,null,null,null,"Units","Constants",null,"Domestic Aggregated","Domestic Aggregated (Related MPAN)","Non-Domestic Aggregated","Non-Domestic Aggregated (Related MPAN)","LV Site Specific","LV Sub Site Specific","HV Site Specific","Unmetered Supplies","LV Generation Aggregated","LV Sub Generation Aggregated","LV Generation Site Specific","LV Generation Site Specific no RP Charge","LV Sub Generation Site Specific","LV Sub Generation Site Specific no RP Charge","HV Generation Site Specific","HV Generation Site Specific no RP Charge",null,"Legal text reference"]
[]
[null,"Description"]
[]
[null,null,"This sheet calculates the pseudo load coefficients used in the calculation of unit rates and system simultaneous peak demand."]
[null,null,"The pseudo load coefficient is specified by customer category, network level and unit rate."]
[null,null,"The calculations in this sheet follow the steps set out in Paragraph 70."]
[]
[null,"Step 1: Ratio of coincidence to load factor assuming units evenly spread within time bands, and peak falls in Red period"]
[]
[null,null,"This section first calculates the split of MWh by unit rate, aggregating \"related MPAN\" and \"Aggregated\" tariffs.",null,null,null,null,null,">",null,null,null,null,null,null,null,null,null,null,null,null,null,null,null,null,null,"Paragraphs 52A & 70 (c) i"]
[null,null,"The last part of this section then calculates the ratio of coincidence to load factor based on a simplified load profile."]
[]
[null,null,{"$f":"INDEX('Version control'!$H$34:$H$58,MATCH($A$1,'Version control'!$F$34:$F$58,0),1)&\"-A: Flags and hours in timebands\"","v":"Section 508-A: Flags and hours in timebands"}]
[]
[null,null,null,null,"Flag for unmetered customers",null,"TRUE/FALSE",null,null,{"$f":"'Fixed inputs'!J127","v":false},{"$f":"'Fixed inputs'!K127","v":false},{"$f":"'Fixed inputs'!L127","v":false},{"$f":"'Fixed inputs'!M127","v":false},{"$f":"'Fixed inputs'!N127","v":false},{"$f":"'Fixed inputs'!O127","v":false},{"$f":"'Fixed inputs'!P127","v":false},{"$f":"'Fixed inputs'!Q127","v":true},{"$f":"'Fixed inputs'!R127","v":false},{"$f":"'Fixed inputs'!S127","v":false},{"$f":"'Fixed inputs'!T127","v":false},{"$f":"'Fixed inputs'!U127","v":false},{"$f":"'Fixed inputs'!V127","v":false},{"$f":"'Fixed inputs'!W127","v":false},{"$f":"'Fixed inputs'!X127","v":false},{"$f":"'Fixed inputs'!Y127","v":false}]
[]
[null,null,null,null,"Hours per timeband",null,null,null,">",null,null,null,null,null,null,null,null,null,null,null,null,null,null,null,null,null,"Paragraph 40"]
[null,null,null,null,"UMS customers use Black & Yellow timebands, other customers use Red & Amber"]
[null,null,null,null,null,"Red or Black","hours",null,null,{"$f":"IF(J$20, 'General inputs'!$H19, 'General inputs'!$H24)","v":783},{"$f":"IF(K$20, 'General inputs'!$H19, 'General inputs'!$H24)","v":783},{"$f":"IF(L$20, 'General inputs'!$H19, 'General inputs'!$H24)","v":783},{"$f":"IF(M$20, 'General inputs'!$H19, 'General inputs'!$H24)","v":783},{"$f":"IF(N$20, 'General inputs'!$H19, 'General inputs'!$H24)","v":783},{"$f":"IF(O$20, 'General inputs'!$H19, 'General inputs'!$H24)","v":783},{"$f":"IF(P$20, 'General inputs'!$H19, 'General inputs'!$H24)","v":783},{"$f":"IF(Q$20, 'General inputs'!$H19, 'General inputs'!$H24)","v":258},{"$f":"IF(R$20, 'General inputs'!$H19, 'General inputs'!$H24)","v":783},{"$f":"IF(S$20, 'General inputs'!$H19, 'General inputs'!$H24)","v":783},{"$f":"IF(T$20, 'General inputs'!$H19, 'General inputs'!$H24)","v":783},{"$f":"IF(U$20, 'General inputs'!$H19, 'General inputs'!$H24)","v":783},{"$f":"IF(V$20, 'General inputs'!$H19, 'General inputs'!$H24)","v":783},{"$f":"IF(W$20, 'General inputs'!$H19, 'General inputs'!$H24)","v":783},{"$f":"IF(X$20, 'General inputs'!$H19, 'General inputs'!$H24)","v":783},{"$f":"IF(Y$20, 'General inputs'!$H19, 'General inputs'!$H24)","v":783}]
[null,null,null,null,null,"Amber or Yellow","hours",null,null,{"$f":"IF(J$20, 'General inputs'!$H20, 'General inputs'!$H25)","v":3417.5},{"$f":"IF(K$20, 'General inputs'!$H20, 'General inputs'!$H25)","v":3417.5},{"$f":"IF(L$20, 'General inputs'!$H20, 'General inputs'!$H25)","v":3417.5},{"$f":"IF(M$20, 'General inputs'!$H20, 'General inputs'!$H25)","v":3417.5},{"$f":"IF(N$20, 'General inputs'!$H20, 'General inputs'!$H25)","v":3417.5},{"$f":"IF(O$20, 'General inputs'!$H20, 'General inputs'!$H25)","v":3417.5},{"$f":"IF(P$20, 'General inputs'!$H20, 'General inputs'!$H25)","v":3417.5},{"$f":"IF(Q$20, 'General inputs'!$H20, 'General inputs'!$H25)","v":3942.5},{"$f":"IF(R$20, 'General inputs'!$H20, 'General inputs'!$H25)","v":3417.5},{"$f":"IF(S$20, 'General inputs'!$H20, 'General inputs'!$H25)","v":3417.5},{"$f":"IF(T$20, 'General inputs'!$H20, 'General inputs'!$H25)","v":3417.5},{"$f":"IF(U$20, 'General inputs'!$H20, 'General inputs'!$H25)","v":3417.5},{"$f":"IF(V$20, 'General inputs'!$H20, 'General inputs'!$H25)","v":3417.5},{"$f":"IF(W$20, 'General inputs'!$H20, 'General inputs'!$H25)","v":3417.5},{"$f":"IF(X$20, 'General inputs'!$H20, 'General inputs'!$H25)","v":3417.5},{"$f":"IF(Y$20, 'General inputs'!$H20, 'General inputs'!$H25)","v":3417.5}]
[null,null,null,null,null,"Green","hours",null,null,{"$f":"IF(J$20, 'General inputs'!$H21, 'General inputs'!$H26)","v":4559.5},{"$f":"IF(K$20, 'General inputs'!$H21, 'General inputs'!$H26)","v":4559.5},{"$f":"IF(L$20, 'General inputs'!$H21, 'General inputs'!$H26)","v":4559.5},{"$f":"IF(M$20, 'General inputs'!$H21, 'General inputs'!$H26)","v":4559.5},{"$f":"IF(N$20, 'General inputs'!$H21, 'General inputs'!$H26)","v":4559.5},{"$f":"IF(O$20, 'General inputs'!$H21, 'General inputs'!$H26)","v":4559.5},{"$f":"IF(P$20, 'General inputs'!$H21, 'General inputs'!$H26)","v":4559.5},{"$f":"IF(Q$20, 'General inputs'!$H21, 'General inputs'!$H26)","v":4559.5},{"$f":"IF(R$20, 'General inputs'!$H21, 'General inputs'!$H26)","v":4559.5},{"$f":"IF(S$20, 'General inputs'!$H21, 'General inputs'!$H26)","v":4559.5},{"$f":"IF(T$20, 'General inputs'!$H21, 'General inputs'!$H26)","v":4559.5},{"$f":"IF(U$20, 'General inputs'!$H21, 'General inputs'!$H26)","v":4559.5},{"$f":"IF(V$20, 'General inputs'!$H21, 'General inputs'!$H26)","v":4559.5},{"$f":"IF(W$20, 'General inputs'!$H21, 'General inputs'!$H26)","v":4559.5},{"$f":"IF(X$20, 'General inputs'!$H21, 'General inputs'!$H26)","v":4559.5},{"$f":"IF(Y$20, 'General inputs'!$H21, 'General inputs'!$H26)","v":4559.5}]
[]
[null,null,{"$f":"INDEX('Version control'!$H$34:$H$58,MATCH($A$1,'Version control'!$F$34:$F$58,0),1)&\"-B: Average load by timeband\"","v":"Section 508-B: Average load by timeband"}]
[]
[null,null,null,null,"Split of units by time pattern regime"]
[null,null,null,null,null,"Unit rate 1","MWh",null,null,{"$f":"'Volume adjustments'!J66","v":744507.47595921555},{"$f":"'Volume adjustments'!K66","v":1327.5662846544521},{"$f":"'Volume adjustments'!L66","v":188973.52230875273},{"$f":"'Volume adjustments'!M66","v":4172.2410596369182},{"$f":"'Volume adjustments'!N66","v":282075.14358760114},{"$f":"'Volume adjustments'!O66","v":23010.444191422164},{"$f":"'Volume adjustments'!P66","v":326311.94038013439},{"$f":"'Volume adjustments'!Q66","v":13868.974697310709},{"$f":"'Volume adjustments'!R66","v":140.04079826565675},{"$f":"'Volume adjustments'!S66","v":2.8776284544589532},{"$f":"'Volume adjustments'!T66","v":6131.3814104814819},{"$f":"'Volume adjustments'!U66","v":0},{"$f":"'Volume adjustments'!V66","v":144.6141525623608},{"$f":"'Volume adjustments'!W66","v":0},{"$f":"'Volume adjustments'!X66","v":116075.81817719914},{"$f":"'Volume adjustments'!Y66","v":0}]
[null,null,null,null,null,"Unit rate 2","MWh",null,null,{"$f":"'Volume adjustments'!J77","v":2645097.8394225296},{"$f":"'Volume adjustments'!K77","v":24035.071762789463},{"$f":"'Volume adjustments'!L77","v":1023624.1876166349},{"$f":"'Volume adjustments'!M77","v":25319.415482001521},{"$f":"'Volume adjustments'!N77","v":1350126.3314036345},{"$f":"'Volume adjustments'!O77","v":107501.34408049645},{"$f":"'Volume adjustments'!P77","v":1514334.2001053796},{"$f":"'Volume adjustments'!Q77","v":52882.399972899948},{"$f":"'Volume adjustments'!R77","v":628.61483547885325},{"$f":"'Volume adjustments'!S77","v":11.85801478940583},{"$f":"'Volume adjustments'!T77","v":27525.456251959484},{"$f":"'Volume adjustments'!U77","v":0},{"$f":"'Volume adjustments'!V77","v":597.34783091345412},{"$f":"'Volume adjustments'!W77","v":0},{"$f":"'Volume adjustments'!X77","v":445212.43930388504},{"$f":"'Volume adjustments'!Y77","v":0}]
[null,null,null,null,null,"Unit rate 3","MWh",null,null,{"$f":"'Volume adjustments'!J88","v":2435994.0010482869},{"$f":"'Volume adjustments'!K88","v":245515.14232274992},{"$f":"'Volume adjustments'!L88","v":988714.59609282145},{"$f":"'Volume adjustments'!M88","v":52561.158034119573},{"$f":"'Volume adjustments'!N88","v":1179031.4355710328},{"$f":"'Volume adjustments'!O88","v":106315.97183163626},{"$f":"'Volume adjustments'!P88","v":1621310.6751782417},{"$f":"'Volume adjustments'!Q88","v":189423.97703070924},{"$f":"'Volume adjustments'!R88","v":700.98374497632642},{"$f":"'Volume adjustments'!S88","v":16.006356756135215},{"$f":"'Volume adjustments'!T88","v":30981.276337559029},{"$f":"'Volume adjustments'!U88","v":0},{"$f":"'Volume adjustments'!V88","v":807.27901652418518},{"$f":"'Volume adjustments'!W88","v":0},{"$f":"'Volume adjustments'!X88","v":507559.16751891578},{"$f":"'Volume adjustments'!Y88","v":0}]
[null,null,null,null,null,"Total units","MWh",null,null,{"$f":"SUM(J31:J33)","v":5825599.3164300323},270877.78037019382,2201312.3060182091,82052.814575758006,2811232.9105622685,236827.76010355487,3461956.8156637559,256175.35170091991,1469.6393787208362,30.741999999999997,64638.113999999994,0,1549.241,0,1068847.425,0]
[]
[null,null,{"$f":"INDEX('Version control'!$H$34:$H$58,MATCH($A$1,'Version control'!$F$34:$F$58,0),1)&\"-C: Aggregated groups for pseudo-load coefficients\"","v":"Section 508-C: Aggregated groups for pseudo-load coefficients"}]
[]
[null,null,null,null,"Pseudo-load coefficient aggregation group",null,"integer",null,">",{"$f":"'Fixed inputs'!J149","v":1},{"$f":"'Fixed inputs'!K149","v":1},{"$f":"'Fixed inputs'!L149","v":2},{"$f":"'Fixed inputs'!M149","v":2},null,null,null,null,null,null,null,null,null,null,null,null,null,"Paragraphs 52A & 70 (c) iv"]
[]
[null,null,null,null,"Split of total units by timeband for aggregate groups"]
[null,null,null,null,"UMS customers use Black & Yellow timebands, other customers use Red & Amber"]
[null,null,null,null,null,"Red or Black","%",null,null,{"$f":"SUMIF($J$38:$Y$38, J$38, $J31:$Y31) / SUMIF($J$38:$Y$38, J$38, $J$34:$Y$34)","v":0.12233869338003847},0.12233869338003847,8.4588207828166811E-2,8.4588207828166811E-2]
[null,null,null,null,null,"Amber or Yellow","%",null,null,0.43781562184269179,0.43781562184269179,0.4593849637265971,0.4593849637265971]
[null,null,null,null,null,"Green","%",null,null,0.43984568477726976,0.43984568477726976,0.45602682844523618,0.45602682844523618]
[]
[null,null,null,null,"Final split of total units by timeband"]
[null,null,null,null,"UMS customers use Black & Yellow timebands, other customers use Red & Amber"]
[null,null,null,null,null,"Red or Black","%",null,null,{"$f":"IF(ISNUMBER(J$38), J42, IF(J$34 = 0, 0, J31 / J$34))","v":0.12233869338003847},{"$f":"IF(ISNUMBER(K$38), K42, IF(K$34 = 0, 0, K31 / K$34))","v":0.12233869338003847},8.4588207828166811E-2,8.4588207828166811E-2,0.10033858899694793,9.7161093705233958E-2,9.4256502248590612E-2,5.4138599225980515E-2,9.528922557011725E-2,9.360576587271334E-2,9.4857059265087501E-2,0,9.3345162284215827E-2,0,0.10859905301937658,0]
[null,null,null,null,null,"Amber or Yellow","%",null,null,{"$f":"IF(ISNUMBER(J$38), J43, IF(J$34 = 0, 0, J32 / J$34))","v":0.43781562184269179},0.43781562184269179,0.4593849637265971,0.4593849637265971,0.48026128547762298,0.45392205725161022,0.43742145865416826,0.20643047670971559,0.42773407175983214,0.38572684891698106,0.42583940880390608,0,0.38557450449184738,0,0.41653507216325569,0]
[null,null,null,null,null,"Green","%",null,null,0.43984568477726976,0.43984568477726976,0.45602682844523618,0.45602682844523618,0.4194001255254291,0.44891684904315576,0.46832203909724107,0.73943092406430388,0.47697670267005077,0.52066738521030564,0.47930353193100639,0,0.52108033322393688,0,0.47486587481736764,0]
[]
[null,null,{"$f":"INDEX('Version control'!$H$34:$H$58,MATCH($A$1,'Version control'!$F$34:$F$58,0),1)&\"-D: Ratio of coincidence to load factor assuming units evenly spread within time bands, and peak falls in Red period\"","v":"Section 508-D: Ratio of coincidence to load factor assuming units evenly spread within time bands, and peak falls in Red period"}]
[]
[null,null,null,null,"Ratio of coincidence to load factor",null,"scalar",null,null,{"$f":"J48 * hours_in_year / J24","v":1.3686934278533041},1.3686934278533041,0.94635083087451,0.94635083087451,1.122561991843249,1.0870130023727325,1.0545171899076038,1.8381942993007336,1.066071029366829,1.0472369208748007,1.0612360653412087,0,1.0443213558234108,0,1.2149779111746346,0]
[]
[null,"Step 2: Calculate correction factor"]
[]
[null,null,"This section calculates the correction factor described in Paragraph 70 (c) ii"]
[]
[null,null,{"$f":"INDEX('Version control'!$H$34:$H$58,MATCH($A$1,'Version control'!$F$34:$F$58,0),1)&\"-E: Load characteristics for all customers\"","v":"Section 508-E: Load characteristics for all customers"}]
[]
[null,null,null,null,"Load factor",null,"%",null,null,{"$f":"'Inputs by customer type'!J18","v":0.44866666666666671},{"$f":"'Inputs by customer type'!K18","v":9.9666666666666667E-2},{"$f":"'Inputs by customer type'!L18","v":0.41666666666666669},{"$f":"'Inputs by customer type'!M18","v":0.32},{"$f":"'Inputs by customer type'!N18","v":0.55600000000000005},{"$f":"'Inputs by customer type'!O18","v":0.67266666666666675},{"$f":"'Inputs by customer type'!P18","v":0.73533333333333328},{"$f":"'Inputs by customer type'!Q18","v":0.45833333333333331},{"$f":"'Inputs by customer type'!R18","v":0},{"$f":"'Inputs by customer type'!S18","v":0},{"$f":"'Inputs by customer type'!T18","v":0},{"$f":"'Inputs by customer type'!U18","v":0},{"$f":"'Inputs by customer type'!V18","v":0},{"$f":"'Inputs by customer type'!W18","v":0},{"$f":"'Inputs by customer type'!X18","v":0},{"$f":"'Inputs by customer type'!Y18","v":0}]
[null,null,null,null,"Coincidence factor",null,"%",null,null,{"$f":"'Inputs by customer type'!J19","v":0.89866666666666661},{"$f":"'Inputs by customer type'!K19","v":0},{"$f":"'Inputs by customer type'!L19","v":0.66433333333333333},{"$f":"'Inputs by customer type'!M19","v":0},{"$f":"'Inputs by customer type'!N19","v":0.78366666666666662},{"$f":"'Inputs by customer type'!O19","v":0.78533333333333333},{"$f":"'Inputs by customer type'!P19","v":0.84533333333333338},{"$f":"'Inputs by customer type'!Q19","v":0.92600000000000016},{"$f":"'Inputs by customer type'!R19","v":0},{"$f":"'Inputs by customer type'!S19","v":0},{"$f":"'Inputs by customer type'!T19","v":0},{"$f":"'Inputs by customer type'!U19","v":0},{"$f":"'Inputs by customer type'!V19","v":0},{"$f":"'Inputs by customer type'!W19","v":0},{"$f":"'Inputs by customer type'!X19","v":0},{"$f":"'Inputs by customer type'!Y19","v":0}]
[]
[null,null,{"$f":"INDEX('Version control'!$H$34:$H$58,MATCH($A$1,'Version control'!$F$34:$F$58,0),1)&\"-F: Aggregated load characteristics for grouped customers\"","v":"Section 508-F: Aggregated load characteristics for grouped customers"}]
[]
[null,null,null,"Calculation of maximum load"]
[]
[null,null,null,null,"Average load",null,"MW",null,null,{"$f":"J34 / hours_in_year","v":665.022753017127},{"$f":"K34 / hours_in_year","v":30.922121046825779},{"$f":"L34 / hours_in_year","v":251.29135913449875},{"$f":"M34 / hours_in_year","v":9.366759654766895}]
[]
[null,null,null,null,"Maximum load",null,"MW",null,null,{"$f":"IF(J62 = 0, 0, J34 / (J62 * hours_in_year))","v":1482.2201033071178},{"$f":"IF(K62 = 0, 0, K34 / (K62 * hours_in_year))","v":310.25539511865327},{"$f":"IF(L62 = 0, 0, L34 / (L62 * hours_in_year))","v":603.09926192279704},{"$f":"IF(M62 = 0, 0, M34 / (M62 * hours_in_year))","v":29.271123921146547}]
[]
[null,null,null,null,"System peak load",null,"MW",null,null,{"$f":"J71 * J63","v":1332.0217995053299},{"$f":"K71 * K63","v":0},400.65894300404483,0]
[]
[null,null,null,"Load and coincidence factor for aggregate groups"]
[]
[null,null,null,null,"Load factor",null,"%",null,null,{"$f":"SUMIF($J$38:$Y$38, J$38, $J$69:$Y$69) / SUMIF($J$38:$Y$38, J$38, $J$71:$Y$71)","v":0.38825907225798145},{"$f":"SUMIF($J$38:$Y$38, K$38, $J$69:$Y$69) / SUMIF($J$38:$Y$38, K$38, $J$71:$Y$71)","v":0.38825907225798145},0.41219216557935218,0.41219216557935218]
[]
[null,null,null,null,"Coincidence factor",null,"%",null,null,{"$f":"SUMIF($J$38:$Y$38, J$38, $J$73:$Y$73) / SUMIF($J$38:$Y$38, J$38, $J$71:$Y$71)","v":0.74311855346149425},{"$f":"SUMIF($J$38:$Y$38, K$38, $J$73:$Y$73) / SUMIF($J$38:$Y$38, K$38, $J$71:$Y$71)","v":0.74311855346149425},0.63358271034361724,0.63358271034361724]
[]
[null,null,null,"Final load and coincidence factor "]
[]
[null,null,null,null,"Load factor",null,"%",null,null,{"$f":"IF(J$38 = 0, J62, J77)","v":0.38825907225798145},{"$f":"IF(K$38 = 0, K62, K77)","v":0.38825907225798145},0.41219216557935218,0.41219216557935218,0.55600000000000005,0.67266666666666675,0.73533333333333328,0.45833333333333331,0,0,0,0,0,0,0,0]
[]
[null,null,null,null,"Coincidence factor",null,"%",null,null,{"$f":"IF(J38 = 0, J63, J79)","v":0.74311855346149425},{"$f":"IF(K38 = 0, K63, K79)","v":0.74311855346149425},0.63358271034361724,0.63358271034361724,0.78366666666666662,0.78533333333333333,0.84533333333333338,0.92600000000000016,0,0,0,0,0,0,0,0]
[]
[null,null,{"$f":"INDEX('Version control'!$H$34:$H$58,MATCH($A$1,'Version control'!$F$34:$F$58,0),1)&\"-G: Calculation of correction factor\"","v":"Section 508-G: Calculation of correction factor"}]
[]
[null,null,null,null,"Load coefficient",null,"scalar",null,null,{"$f":"IF(AND(J62 = 0, J63 = 0), 1, J63 / J62)","v":2.0029717682020798},0,1.5943999999999998,0,1.40947242206235,1.1674925668979186,1.1495920217588396,2.0203636363636366,1,1,1,1,1,1,1,1]
[]
[null,null,null,null,"Load coefficient, adjusted for aggregate groups",null,"scalar",null,">",{"$f":"IF(AND(J83 = 0, J85 = 0), 1, J85 / J83)","v":1.9139760190013639},{"$f":"IF(AND(K83 = 0, K85 = 0), 1, K85 / K83)","v":1.9139760190013639},1.5371051738770727,1.5371051738770727,1.40947242206235,1.1674925668979186,1.1495920217588396,2.0203636363636366,1,1,1,1,1,1,1,1,null,"Paragraphs 52A & 70 (c) iv"]
[]
[null,null,null,null,"Correction factor",null,"scalar",null,">",{"$f":"IF(OR(J54 = 0, J85 = 0), 1, J91 / J54)","v":1.3983964414904044},{"$f":"IF(OR(K54 = 0, K85 = 0), 1, K91 / K54)","v":1.3983964414904044},1.6242445441260454,1.6242445441260454,1.255585377292165,1.0740373522207327,1.0901595846527321,1.0991023294611466,1,1,1,1,1,1,1,1,null,"Paragraph 70 (c.ii)"]
[]
[null,"Step 3: Ratio of coincidence factor (to network asset peak) to load factor, given peaking probabilities, multiplied by correction factor"]
[]
[null,null,"This section calculates the pseudo load coefficient in line with Paragraph 70 (c) iii",null,null,null,null,null,">",null,null,null,null,null,null,null,null,null,null,null,null,null,null,null,null,null,"Paragraph 70 (c.iii)"]
[null,null,"Mathematical simplifications have been used to avoid errors when estimated volumes are zero"]
[]
[null,null,{"$f":"INDEX('Version control'!$H$34:$H$58,MATCH($A$1,'Version control'!$F$34:$F$58,0),1)&\"-H: Peaking probabilities, by network level\"","v":"Section 508-H: Peaking probabilities, by network level"}]
[]
[null,null,null,null,"GSPs peaking probabilities"]
[null,null,null,null,null,"Red","%",{"$f":"'Inputs by network level'!K43","v":0.73685290844250551}]
[null,null,null,null,null,"Amber","%",{"$f":"'Inputs by network level'!K44","v":0.25763649230764868}]
[null,null,null,null,null,"Green","%",{"$f":"'Inputs by network level'!K45","v":5.5105992498457714E-3}]
[null,null,null,null,null,"Black","%",{"$f":"'Inputs by network level'!K46","v":0.67055113994438198}]
[null,null,null,null,null,"Yellow","%",{"$f":"SUM(H103:H104) - H106","v":0.32393826080577215}]
[null,null,null,null,null,"Green","%",{"$f":"H105","v":5.5105992498457714E-3}]
[]
[null,null,null,null,"132kV peaking probabilities"]
[null,null,null,null,null,"Red or Black","%",{"$f":"'Inputs by network level'!L43","v":0}]
[null,null,null,null,null,"Amber or Yellow","%",{"$f":"'Inputs by network level'!L44","v":0}]
[null,null,null,null,null,"Green","%",{"$f":"'Inputs by network level'!L45","v":0}]
[null,null,null,null,null,"Black","%",{"$f":"'Inputs by network level'!L46","v":0}]
[null,null,null,null,null,"Yellow","%",{"$f":"SUM(H111:H112) - H114","v":0}]
[null,null,null,null,null,"Green","%",{"$f":"H113","v":0}]
[]
[null,null,null,null,"132kV/EHV peaking probabilities"]
[null,null,null,null,null,"Red or Black","%",{"$f":"'Inputs by network level'!M43","v":0}]
[null,null,null,null,null,"Amber or Yellow","%",{"$f":"'Inputs by network level'!M44","v":0}]
[null,null,null,null,null,"Green","%",{"$f":"'Inputs by network level'!M45","v":0}]
[null,null,null,null,null,"Black","%",{"$f":"'Inputs by network level'!M46","v":0}]
[null,null,null,null,null,"Yellow","%",{"$f":"SUM(H119:H120) - H122","v":0}]
[null,null,null,null,null,"Green","%",{"$f":"H121","v":0}]
[]
[null,null,null,null,"EHV peaking probabilities"]
[null,null,null,null,null,"Red or Black","%",{"$f":"'Inputs by network level'!N43","v":0.73685290844250551}]
[null,null,null,null,null,"Amber or Yellow","%",{"$f":"'Inputs by network level'!N44","v":0.25763649230764868}]
[null,null,null,null,null,"Green","%",{"$f":"'Inputs by network level'!N45","v":5.5105992498457714E-3}]
[null,null,null,null,null,"Black","%",{"$f":"'Inputs by network level'!N46","v":0.67055113994438198}]
[null,null,null,null,null,"Yellow","%",{"$f":"SUM(H127:H128) - H130","v":0.32393826080577215}]
[null,null,null,null,null,"Green","%",{"$f":"H129","v":5.5105992498457714E-3}]
[]
[null,null,null,null,"EHV/HV peaking probabilities"]
[null,null,null,null,null,"Red or Black","%",{"$f":"'Inputs by network level'!O43","v":0.64549570804091005}]
[null,null,null,null,null,"Amber or Yellow","%",{"$f":"'Inputs by network level'!O44","v":0.33912381234136874}]
[null,null,null,null,null,"Green","%",{"$f":"'Inputs by network level'!O45","v":1.5380479617721122E-2}]
[null,null,null,null,null,"Black","%",{"$f":"'Inputs by network level'!O46","v":0.60511449175300125}]
[null,null,null,null,null,"Yellow","%",{"$f":"SUM(H135:H136) - H138","v":0.37950502862927749}]
[null,null,null,null,null,"Green","%",{"$f":"H137","v":1.5380479617721122E-2}]
[]
[null,null,null,null,"132kV/HV peaking probabilities"]
[null,null,null,null,null,"Red or Black","%",{"$f":"'Inputs by network level'!P43","v":0}]
[null,null,null,null,null,"Amber or Yellow","%",{"$f":"'Inputs by network level'!P44","v":0}]
[null,null,null,null,null,"Green","%",{"$f":"'Inputs by network level'!P45","v":0}]
[null,null,null,null,null,"Black","%",{"$f":"'Inputs by network level'!P46","v":0}]
[null,null,null,null,null,"Yellow","%",{"$f":"SUM(H143:H144) - H146","v":0}]
[null,null,null,null,null,"Green","%",{"$f":"H145","v":0}]
[]
[null,null,null,null,"HV peaking probabilities"]
[null,null,null,null,null,"Red or Black","%",{"$f":"'Inputs by network level'!Q43","v":0.64549570804091005}]
[null,null,null,null,null,"Amber or Yellow","%",{"$f":"'Inputs by network level'!Q44","v":0.33912381234136874}]
[null,null,null,null,null,"Green","%",{"$f":"'Inputs by network level'!Q45","v":1.5380479617721122E-2}]
[null,null,null,null,null,"Black","%",{"$f":"'Inputs by network level'!Q46","v":0.60511449175300125}]
[null,null,null,null,null,"Yellow","%",{"$f":"SUM(H151:H152) - H154","v":0.37950502862927749}]
[null,null,null,null,null,"Green","%",{"$f":"H153","v":1.5380479617721122E-2}]
[]
[null,null,null,null,"HV/LV peaking probabilities"]
[null,null,null,null,null,"Red or Black","%",{"$f":"'Inputs by network level'!R43","v":0.64549570804091005}]
[null,null,null,null,null,"Amber or Yellow","%",{"$f":"'Inputs by network level'!R44","v":0.33912381234136874}]
[null,null,null,null,null,"Green","%",{"$f":"'Inputs by network level'!R45","v":1.5380479617721122E-2}]
[null,null,null,null,null,"Black","%",{"$f":"'Inputs by network level'!R46","v":0.60511449175300125}]
[null,null,null,null,null,"Yellow","%",{"$f":"SUM(H159:H160) - H162","v":0.37950502862927749}]
[null,null,null,null,null,"Green","%",{"$f":"H161","v":1.5380479617721122E-2}]
[]
[null,null,null,null,"LV circuits peaking probabilities"]
[null,null,null,null,null,"Red or Black","%",{"$f":"'Inputs by network level'!S43","v":0.64549570804091005}]
[null,null,null,null,null,"Amber or Yellow","%",{"$f":"'Inputs by network level'!S44","v":0.33912381234136874}]
[null,null,null,null,null,"Green","%",{"$f":"'Inputs by network level'!S45","v":1.5380479617721122E-2}]
[null,null,null,null,null,"Black","%",{"$f":"'Inputs by network level'!S46","v":0.60511449175300125}]
[null,null,null,null,null,"Yellow","%",{"$f":"SUM(H167:H168) - H170","v":0.37950502862927749}]
[null,null,null,null,null,"Green","%",{"$f":"H169","v":1.5380479617721122E-2}]
[]
[null,null,{"$f":"INDEX('Version control'!$H$34:$H$58,MATCH($A$1,'Version control'!$F$34:$F$58,0),1)&\"-I: Peaking probabilities, by network level and customer type\"","v":"Section 508-I: Peaking probabilities, by network level and customer type"}]
[]
[null,null,null,null,"GSPs peaking probabilities"]
[null,null,null,null,null,"Red or Black","%",null,null,{"$f":"IF(J$20, $H106, $H103)","v":0.73685290844250551},0.73685290844250551,0.73685290844250551,0.73685290844250551,0.73685290844250551,0.73685290844250551,0.73685290844250551,0.67055113994438198,0.73685290844250551,0.73685290844250551,0.73685290844250551,0.73685290844250551,0.73685290844250551,0.73685290844250551,0.73685290844250551,0.73685290844250551]
[null,null,null,null,null,"Amber or Yellow","%",null,null,0.25763649230764868,0.25763649230764868,0.25763649230764868,0.25763649230764868,0.25763649230764868,0.25763649230764868,0.25763649230764868,0.32393826080577215,0.25763649230764868,0.25763649230764868,0.25763649230764868,0.25763649230764868,0.25763649230764868,0.25763649230764868,0.25763649230764868,0.25763649230764868]
[null,null,null,null,null,"Green","%",null,null,5.5105992498457714E-3,5.5105992498457714E-3,5.5105992498457714E-3,5.5105992498457714E-3,5.5105992498457714E-3,5.5105992498457714E-3,5.5105992498457714E-3,5.5105992498457714E-3,5.5105992498457714E-3,5.5105992498457714E-3,5.5105992498457714E-3,5.5105992498457714E-3,5.5105992498457714E-3,5.5105992498457714E-3,5.5105992498457714E-3,5.5105992498457714E-3]
[]
[null,null,null,null,"132kV peaking probabilities"]
[null,null,null,null,null,"Red or Black","%",null,null,{"$f":"IF(J$20, $H114, $H111)","v":0},0,0,0,0,0,0,0,0,0,0,0,0,0,0,0]
[null,null,null,null,null,"Amber or Yellow","%",null,null,0,0,0,0,0,0,0,0,0,0,0,0,0,0,0,0]
[null,null,null,null,null,"Green","%",null,null,0,0,0,0,0,0,0,0,0,0,0,0,0,0,0,0]
[]
[null,null,null,null,"132kV/EHV peaking probabilities"]
[null,null,null,null,null,"Red or Black","%",null,null,{"$f":"IF(J$20, $H122, $H119)","v":0},0,0,0,0,0,0,0,0,0,0,0,0,0,0,0]
[null,null,null,null,null,"Amber or Yellow","%",null,null,0,0,0,0,0,0,0,0,0,0,0,0,0,0,0,0]
[null,null,null,null,null,"Green","%",null,null,0,0,0,0,0,0,0,0,0,0,0,0,0,0,0,0]
[]
[null,null,null,null,"EHV peaking probabilities"]
[null,null,null,null,null,"Red or Black","%",null,null,{"$f":"IF(J$20, $H130, $H127)","v":0.73685290844250551},0.73685290844250551,0.73685290844250551,0.73685290844250551,0.73685290844250551,0.73685290844250551,0.73685290844250551,0.67055113994438198,0.73685290844250551,0.73685290844250551,0.73685290844250551,0.73685290844250551,0.73685290844250551,0.73685290844250551,0.73685290844250551,0.73685290844250551]
[null,null,null,null,null,"Amber or Yellow","%",null,null,0.25763649230764868,0.25763649230764868,0.25763649230764868,0.25763649230764868,0.25763649230764868,0.25763649230764868,0.25763649230764868,0.32393826080577215,0.25763649230764868,0.25763649230764868,0.25763649230764868,0.25763649230764868,0.25763649230764868,0.25763649230764868,0.25763649230764868,0.25763649230764868]
[null,null,null,null,null,"Green","%",null,null,5.5105992498457714E-3,5.5105992498457714E-3,5.5105992498457714E-3,5.5105992498457714E-3,5.5105992498457714E-3,5.5105992498457714E-3,5.5105992498457714E-3,5.5105992498457714E-3,5.5105992498457714E-3,5.5105992498457714E-3,5.5105992498457714E-3,5.5105992498457714E-3,5.5105992498457714E-3,5.5105992498457714E-3,5.5105992498457714E-3,5.5105992498457714E-3]
[]
[null,null,null,null,"EHV/HV peaking probabilities"]
[null,null,null,null,null,"Red or Black","%",null,null,{"$f":"IF(J$20, $H138, $H135)","v":0.64549570804091005},0.64549570804091005,0.64549570804091005,0.64549570804091005,0.64549570804091005,0.64549570804091005,0.64549570804091005,0.60511449175300125,0.64549570804091005,0.64549570804091005,0.64549570804091005,0.64549570804091005,0.64549570804091005,0.64549570804091005,0.64549570804091005,0.64549570804091005]
[null,null,null,null,null,"Amber or Yellow","%",null,null,0.33912381234136874,0.33912381234136874,0.33912381234136874,0.33912381234136874,0.33912381234136874,0.33912381234136874,0.33912381234136874,0.37950502862927749,0.33912381234136874,0.33912381234136874,0.33912381234136874,0.33912381234136874,0.33912381234136874,0.33912381234136874,0.33912381234136874,0.33912381234136874]
[null,null,null,null,null,"Green","%",null,null,1.5380479617721122E-2,1.5380479617721122E-2,1.5380479617721122E-2,1.5380479617721122E-2,1.5380479617721122E-2,1.5380479617721122E-2,1.5380479617721122E-2,1.5380479617721122E-2,1.5380479617721122E-2,1.5380479617721122E-2,1.5380479617721122E-2,1.5380479617721122E-2,1.5380479617721122E-2,1.5380479617721122E-2,1.5380479617721122E-2,1.5380479617721122E-2]
[]
[null,null,null,null,"132kV/HV peaking probabilities"]
[null,null,null,null,null,"Red or Black","%",null,null,{"$f":"IF(J$20, $H146, $H143)","v":0},0,0,0,0,0,0,0,0,0,0,0,0,0,0,0]
[null,null,null,null,null,"Amber or Yellow","%",null,null,0,0,0,0,0,0,0,0,0,0,0,0,0,0,0,0]
[null,null,null,null,null,"Green","%",null,null,0,0,0,0,0,0,0,0,0,0,0,0,0,0,0,0]
[]
[null,null,null,null,"HV peaking probabilities"]
[null,null,null,null,null,"Red or Black","%",null,null,{"$f":"IF(J$20, $H154, $H151)","v":0.64549570804091005},0.64549570804091005,0.64549570804091005,0.64549570804091005,0.64549570804091005,0.64549570804091005,0.64549570804091005,0.60511449175300125,0.64549570804091005,0.64549570804091005,0.64549570804091005,0.64549570804091005,0.64549570804091005,0.64549570804091005,0.64549570804091005,0.64549570804091005]
[null,null,null,null,null,"Amber or Yellow","%",null,null,0.33912381234136874,0.33912381234136874,0.33912381234136874,0.33912381234136874,0.33912381234136874,0.33912381234136874,0.33912381234136874,0.37950502862927749,0.33912381234136874,0.33912381234136874,0.33912381234136874,0.33912381234136874,0.33912381234136874,0.33912381234136874,0.33912381234136874,0.33912381234136874]
[null,null,null,null,null,"Green","%",null,null,1.5380479617721122E-2,1.5380479617721122E-2,1.5380479617721122E-2,1.5380479617721122E-2,1.5380479617721122E-2,1.5380479617721122E-2,1.5380479617721122E-2,1.5380479617721122E-2,1.5380479617721122E-2,1.5380479617721122E-2,1.5380479617721122E-2,1.5380479617721122E-2,1.5380479617721122E-2,1.5380479617721122E-2,1.5380479617721122E-2,1.5380479617721122E-2]
[]
[null,null,null,null,"HV/LV peaking probabilities"]
[null,null,null,null,null,"Red or Black","%",null,null,{"$f":"IF(J$20, $H162, $H159)","v":0.64549570804091005},0.64549570804091005,0.64549570804091005,0.64549570804091005,0.64549570804091005,0.64549570804091005,0.64549570804091005,0.60511449175300125,0.64549570804091005,0.64549570804091005,0.64549570804091005,0.64549570804091005,0.64549570804091005,0.64549570804091005,0.64549570804091005,0.64549570804091005]
[null,null,null,null,null,"Amber or Yellow","%",null,null,0.33912381234136874,0.33912381234136874,0.33912381234136874,0.33912381234136874,0.33912381234136874,0.33912381234136874,0.33912381234136874,0.37950502862927749,0.33912381234136874,0.33912381234136874,0.33912381234136874,0.33912381234136874,0.33912381234136874,0.33912381234136874,0.33912381234136874,0.33912381234136874]
[null,null,null,null,null,"Green","%",null,null,1.5380479617721122E-2,1.5380479617721122E-2,1.5380479617721122E-2,1.5380479617721122E-2,1.5380479617721122E-2,1.5380479617721122E-2,1.5380479617721122E-2,1.5380479617721122E-2,1.5380479617721122E-2,1.5380479617721122E-2,1.5380479617721122E-2,1.5380479617721122E-2,1.5380479617721122E-2,1.5380479617721122E-2,1.5380479617721122E-2,1.5380479617721122E-2]
[]
[null,null,null,null,"LV circuits peaking probabilities"]
[null,null,null,null,null,"Red or Black","%",null,null,{"$f":"IF(J$20, $H170, $H167)","v":0.64549570804091005},0.64549570804091005,0.64549570804091005,0.64549570804091005,0.64549570804091005,0.64549570804091005,0.64549570804091005,0.60511449175300125,0.64549570804091005,0.64549570804091005,0.64549570804091005,0.64549570804091005,0.64549570804091005,0.64549570804091005,0.64549570804091005,0.64549570804091005]
[null,null,null,null,null,"Amber or Yellow","%",null,null,0.33912381234136874,0.33912381234136874,0.33912381234136874,0.33912381234136874,0.33912381234136874,0.33912381234136874,0.33912381234136874,0.37950502862927749,0.33912381234136874,0.33912381234136874,0.33912381234136874,0.33912381234136874,0.33912381234136874,0.33912381234136874,0.33912381234136874,0.33912381234136874]
[null,null,null,null,null,"Green","%",null,null,1.5380479617721122E-2,1.5380479617721122E-2,1.5380479617721122E-2,1.5380479617721122E-2,1.5380479617721122E-2,1.5380479617721122E-2,1.5380479617721122E-2,1.5380479617721122E-2,1.5380479617721122E-2,1.5380479617721122E-2,1.5380479617721122E-2,1.5380479617721122E-2,1.5380479617721122E-2,1.5380479617721122E-2,1.5380479617721122E-2,1.5380479617721122E-2]
[]
[null,null,{"$f":"INDEX('Version control'!$H$34:$H$58,MATCH($A$1,'Version control'!$F$34:$F$58,0),1)&\"-J: Ratio of coincidence factor to load factor, based on uniform distribution in timebands and peaking probabilities\"","v":"Section 508-J: Ratio of coincidence factor to load factor, based on uniform distribution in timebands and peaking probabilities"}]
[]
[null,null,null,null,"Inverse of hours in timeband"]
[null,null,null,null,null,"Red or Black","1 / hours",null,null,{"$f":"1 / J24","v":1.277139208173691E-3},1.277139208173691E-3,1.277139208173691E-3,1.277139208173691E-3,1.277139208173691E-3,1.277139208173691E-3,1.277139208173691E-3,3.875968992248062E-3,1.277139208173691E-3,1.277139208173691E-3,1.277139208173691E-3,1.277139208173691E-3,1.277139208173691E-3,1.277139208173691E-3,1.277139208173691E-3,1.277139208173691E-3]
[null,null,null,null,null,"Amber or Yellow","1 / hours",null,null,2.9261155815654721E-4,2.9261155815654721E-4,2.9261155815654721E-4,2.9261155815654721E-4,2.9261155815654721E-4,2.9261155815654721E-4,2.9261155815654721E-4,2.5364616360177552E-4,2.9261155815654721E-4,2.9261155815654721E-4,2.9261155815654721E-4,2.9261155815654721E-4,2.9261155815654721E-4,2.9261155815654721E-4,2.9261155815654721E-4,2.9261155815654721E-4]
[null,null,null,null,null,"Green","1 / hours",null,null,2.193222941111964E-4,2.193222941111964E-4,2.193222941111964E-4,2.193222941111964E-4,2.193222941111964E-4,2.193222941111964E-4,2.193222941111964E-4,2.193222941111964E-4,2.193222941111964E-4,2.193222941111964E-4,2.193222941111964E-4,2.193222941111964E-4,2.193222941111964E-4,2.193222941111964E-4,2.193222941111964E-4,2.193222941111964E-4]
[]
[null,null,null,null,"Unit rate 1"]
[null,null,null,null,null,"GSPs","scalar",null,null,{"$f":"J177 * J$224 * hours_in_year","v":8.2437183626517871},8.2437183626517871,8.2437183626517871,8.2437183626517871,8.2437183626517871,8.2437183626517871,8.2437183626517871,22.767550332995295,8.2437183626517871,8.2437183626517871,8.2437183626517871,8.2437183626517871,8.2437183626517871,8.2437183626517871,8.2437183626517871,8.2437183626517871]
[null,null,null,null,null,"132kV","scalar",null,null,{"$f":"J182 * J224 * hours_in_year","v":0},0,0,0,0,0,0,0,0,0,0,0,0,0,0,0]
[null,null,null,null,null,"132kV/EHV","scalar",null,null,{"$f":"J187 * J224 * hours_in_year","v":0},0,0,0,0,0,0,0,0,0,0,0,0,0,0,0]
[null,null,null,null,null,"EHV","scalar",null,null,{"$f":"J192 * J224 * hours_in_year","v":8.2437183626517871},8.2437183626517871,8.2437183626517871,8.2437183626517871,8.2437183626517871,8.2437183626517871,8.2437183626517871,22.767550332995295,8.2437183626517871,8.2437183626517871,8.2437183626517871,8.2437183626517871,8.2437183626517871,8.2437183626517871,8.2437183626517871,8.2437183626517871]
[null,null,null,null,null,"EHV/HV","scalar",null,null,{"$f":"J197 * J224 * hours_in_year","v":7.2216378064347033},7.2216378064347033,7.2216378064347033,7.2216378064347033,7.2216378064347033,7.2216378064347033,7.2216378064347033,20.545747859520507,7.2216378064347033,7.2216378064347033,7.2216378064347033,7.2216378064347033,7.2216378064347033,7.2216378064347033,7.2216378064347033,7.2216378064347033]
[null,null,null,null,null,"132kV/HV","scalar",null,null,{"$f":"J202 * J224 * hours_in_year","v":0},0,0,0,0,0,0,0,0,0,0,0,0,0,0,0]
[null,null,null,null,null,"HV","scalar",null,null,{"$f":"J207 * J224 * hours_in_year","v":7.2216378064347033},7.2216378064347033,7.2216378064347033,7.2216378064347033,7.2216378064347033,7.2216378064347033,7.2216378064347033,20.545747859520507,7.2216378064347033,7.2216378064347033,7.2216378064347033,7.2216378064347033,7.2216378064347033,7.2216378064347033,7.2216378064347033,7.2216378064347033]
[null,null,null,null,null,"HV/LV","scalar",null,null,{"$f":"J212 * J224 * hours_in_year","v":7.2216378064347033},7.2216378064347033,7.2216378064347033,7.2216378064347033,7.2216378064347033,7.2216378064347033,7.2216378064347033,20.545747859520507,7.2216378064347033,7.2216378064347033,7.2216378064347033,7.2216378064347033,7.2216378064347033,7.2216378064347033,7.2216378064347033,7.2216378064347033]
[null,null,null,null,null,"LV circuits","scalar",null,null,{"$f":"J217 * J224 * hours_in_year","v":7.2216378064347033},7.2216378064347033,7.2216378064347033,7.2216378064347033,7.2216378064347033,7.2216378064347033,7.2216378064347033,20.545747859520507,7.2216378064347033,7.2216378064347033,7.2216378064347033,7.2216378064347033,7.2216378064347033,7.2216378064347033,7.2216378064347033,7.2216378064347033]
[]
[null,null,null,null,"Unit rate 2"]
[null,null,null,null,null,"GSPs","scalar",null,null,{"$f":"J178 * J225 * hours_in_year","v":0.66039375936064448},0.66039375936064448,0.66039375936064448,0.66039375936064448,0.66039375936064448,0.66039375936064448,0.66039375936064448,0.71977150657160782,0.66039375936064448,0.66039375936064448,0.66039375936064448,0.66039375936064448,0.66039375936064448,0.66039375936064448,0.66039375936064448,0.66039375936064448]
[null,null,null,null,null,"132kV","scalar",null,null,{"$f":"J183 * J225 * hours_in_year","v":0},0,0,0,0,0,0,0,0,0,0,0,0,0,0,0]
[null,null,null,null,null,"132kV/EHV","scalar",null,null,{"$f":"J188 * J225 * hours_in_year","v":0},0,0,0,0,0,0,0,0,0,0,0,0,0,0,0]
[null,null,null,null,null,"EHV","scalar",null,null,{"$f":"J193 * J225 * hours_in_year","v":0.66039375936064448},0.66039375936064448,0.66039375936064448,0.66039375936064448,0.66039375936064448,0.66039375936064448,0.66039375936064448,0.71977150657160782,0.66039375936064448,0.66039375936064448,0.66039375936064448,0.66039375936064448,0.66039375936064448,0.66039375936064448,0.66039375936064448,0.66039375936064448]
[null,null,null,null,null,"EHV/HV","scalar",null,null,{"$f":"J198 * J225 * hours_in_year","v":0.86926835292184057},0.86926835292184057,0.86926835292184057,0.86926835292184057,0.86926835292184057,0.86926835292184057,0.86926835292184057,0.84323755251552845,0.86926835292184057,0.86926835292184057,0.86926835292184057,0.86926835292184057,0.86926835292184057,0.86926835292184057,0.86926835292184057,0.86926835292184057]
[null,null,null,null,null,"132kV/HV","scalar",null,null,{"$f":"J203 * J225 * hours_in_year","v":0},0,0,0,0,0,0,0,0,0,0,0,0,0,0,0]
[null,null,null,null,null,"HV","scalar",null,null,{"$f":"J208 * J225 * hours_in_year","v":0.86926835292184057},0.86926835292184057,0.86926835292184057,0.86926835292184057,0.86926835292184057,0.86926835292184057,0.86926835292184057,0.84323755251552845,0.86926835292184057,0.86926835292184057,0.86926835292184057,0.86926835292184057,0.86926835292184057,0.86926835292184057,0.86926835292184057,0.86926835292184057]
[null,null,null,null,null,"HV/LV","scalar",null,null,{"$f":"J213 * J225 * hours_in_year","v":0.86926835292184057},0.86926835292184057,0.86926835292184057,0.86926835292184057,0.86926835292184057,0.86926835292184057,0.86926835292184057,0.84323755251552845,0.86926835292184057,0.86926835292184057,0.86926835292184057,0.86926835292184057,0.86926835292184057,0.86926835292184057,0.86926835292184057,0.86926835292184057]
[null,null,null,null,null,"LV circuits","scalar",null,null,{"$f":"J218 * J225 * hours_in_year","v":0.86926835292184057},0.86926835292184057,0.86926835292184057,0.86926835292184057,0.86926835292184057,0.86926835292184057,0.86926835292184057,0.84323755251552845,0.86926835292184057,0.86926835292184057,0.86926835292184057,0.86926835292184057,0.86926835292184057,0.86926835292184057,0.86926835292184057,0.86926835292184057]
[]
[null,null,null,null,"Unit rate 3"]
[null,null,null,null,null,"GSPs","scalar",null,null,{"$f":"J179 * J226 * hours_in_year","v":1.0587312079975646E-2},1.0587312079975646E-2,1.0587312079975646E-2,1.0587312079975646E-2,1.0587312079975646E-2,1.0587312079975646E-2,1.0587312079975646E-2,1.0587312079975646E-2,1.0587312079975646E-2,1.0587312079975646E-2,1.0587312079975646E-2,1.0587312079975646E-2,1.0587312079975646E-2,1.0587312079975646E-2,1.0587312079975646E-2,1.0587312079975646E-2]
[null,null,null,null,null,"132kV","scalar",null,null,{"$f":"J184 * J226 * hours_in_year","v":0},0,0,0,0,0,0,0,0,0,0,0,0,0,0,0]
[null,null,null,null,null,"132kV/EHV","scalar",null,null,{"$f":"J189 * J226 * hours_in_year","v":0},0,0,0,0,0,0,0,0,0,0,0,0,0,0,0]
[null,null,null,null,null,"EHV","scalar",null,null,{"$f":"J194 * J226 * hours_in_year","v":1.0587312079975646E-2},1.0587312079975646E-2,1.0587312079975646E-2,1.0587312079975646E-2,1.0587312079975646E-2,1.0587312079975646E-2,1.0587312079975646E-2,1.0587312079975646E-2,1.0587312079975646E-2,1.0587312079975646E-2,1.0587312079975646E-2,1.0587312079975646E-2,1.0587312079975646E-2,1.0587312079975646E-2,1.0587312079975646E-2,1.0587312079975646E-2]
[null,null,null,null,null,"EHV/HV","scalar",null,null,{"$f":"J199 * J226 * hours_in_year","v":2.9549950970772461E-2},2.9549950970772461E-2,2.9549950970772461E-2,2.9549950970772461E-2,2.9549950970772461E-2,2.9549950970772461E-2,2.9549950970772461E-2,2.9549950970772461E-2,2.9549950970772461E-2,2.9549950970772461E-2,2.9549950970772461E-2,2.9549950970772461E-2,2.9549950970772461E-2,2.9549950970772461E-2,2.9549950970772461E-2,2.9549950970772461E-2]
[null,null,null,null,null,"132kV/HV","scalar",null,null,{"$f":"J204 * J226 * hours_in_year","v":0},0,0,0,0,0,0,0,0,0,0,0,0,0,0,0]
[null,null,null,null,null,"HV","scalar",null,null,{"$f":"J209 * J226 * hours_in_year","v":2.9549950970772461E-2},2.9549950970772461E-2,2.9549950970772461E-2,2.9549950970772461E-2,2.9549950970772461E-2,2.9549950970772461E-2,2.9549950970772461E-2,2.9549950970772461E-2,2.9549950970772461E-2,2.9549950970772461E-2,2.9549950970772461E-2,2.9549950970772461E-2,2.9549950970772461E-2,2.9549950970772461E-2,2.9549950970772461E-2,2.9549950970772461E-2]
[null,null,null,null,null,"HV/LV","scalar",null,null,{"$f":"J214 * J226 * hours_in_year","v":2.9549950970772461E-2},2.9549950970772461E-2,2.9549950970772461E-2,2.9549950970772461E-2,2.9549950970772461E-2,2.9549950970772461E-2,2.9549950970772461E-2,2.9549950970772461E-2,2.9549950970772461E-2,2.9549950970772461E-2,2.9549950970772461E-2,2.9549950970772461E-2,2.9549950970772461E-2,2.9549950970772461E-2,2.9549950970772461E-2,2.9549950970772461E-2]
[null,null,null,null,null,"LV circuits","scalar",null,null,{"$f":"J219 * J226 * hours_in_year","v":2.9549950970772461E-2},2.9549950970772461E-2,2.9549950970772461E-2,2.9549950970772461E-2,2.9549950970772461E-2,2.9549950970772461E-2,2.9549950970772461E-2,2.9549950970772461E-2,2.9549950970772461E-2,2.9549950970772461E-2,2.9549950970772461E-2,2.9549950970772461E-2,2.9549950970772461E-2,2.9549950970772461E-2,2.9549950970772461E-2,2.9549950970772461E-2]
[]
[null,"Step 4: Results of Step 3"]
[]
[null,null,"This section combines the load coefficient, and pseudo load coefficients"]
[]
[null,null,{"$f":"INDEX('Version control'!$H$34:$H$58,MATCH($A$1,'Version control'!$F$34:$F$58,0),1)&\"-K: Load coefficient\"","v":"Section 508-K: Load coefficient"}]
[]
[null,null,null,null,"Load coefficient",null,"scalar",null,null,{"$f":"J89","v":2.0029717682020798},{"$f":"K89","v":0},1.5943999999999998,0,1.40947242206235,1.1674925668979186,1.1495920217588396,2.0203636363636366,1,1,1,1,1,1,1,1]
[]
[null,null,{"$f":"INDEX('Version control'!$H$34:$H$58,MATCH($A$1,'Version control'!$F$34:$F$58,0),1)&\"-L: Pseudo load coefficients, by unit rate\"","v":"Section 508-L: Pseudo load coefficients, by unit rate"}]
[]
[null,null,null,null,"Unit rate 1"]
[null,null,null,null,null,"GSPs","scalar",null,null,{"$f":"J229 * J$93","v":11.527986422981362},{"$f":"K229 * K$93","v":11.527986422981362},13.389814573848861,13.389814573848861,10.350692230660494,8.8540614426759596,8.9869685862225737,25.023867607119033,8.2437183626517871,8.2437183626517871,8.2437183626517871,8.2437183626517871,8.2437183626517871,8.2437183626517871,8.2437183626517871,8.2437183626517871]
[null,null,null,null,null,"132kV","scalar",null,null,{"$f":"J230 * J$93","v":0},0,0,0,0,0,0,0,0,0,0,0,0,0,0,0]
[null,null,null,null,null,"132kV/EHV","scalar",null,null,0,0,0,0,0,0,0,0,0,0,0,0,0,0,0,0]
[null,null,null,null,null,"EHV","scalar",null,null,11.527986422981362,11.527986422981362,13.389814573848861,13.389814573848861,10.350692230660494,8.8540614426759596,8.9869685862225737,25.023867607119033,8.2437183626517871,8.2437183626517871,8.2437183626517871,8.2437183626517871,8.2437183626517871,8.2437183626517871,8.2437183626517871,8.2437183626517871]
[null,null,null,null,null,"EHV/HV","scalar",null,null,10.098712610250859,10.098712610250859,11.729705806755948,11.729705806755948,9.0673828298596799,7.7563087483202686,7.8727376715753232,22.581879332920355,7.2216378064347033,7.2216378064347033,7.2216378064347033,7.2216378064347033,7.2216378064347033,7.2216378064347033,7.2216378064347033,7.2216378064347033]
[null,null,null,null,null,"132kV/HV","scalar",null,null,0,0,0,0,0,0,0,0,0,0,0,0,0,0,0,0]
[null,null,null,null,null,"HV","scalar",null,null,10.098712610250859,10.098712610250859,11.729705806755948,11.729705806755948,9.0673828298596799,7.7563087483202686,7.8727376715753232,22.581879332920355,7.2216378064347033,7.2216378064347033,7.2216378064347033,7.2216378064347033,7.2216378064347033,7.2216378064347033,7.2216378064347033,7.2216378064347033]
[null,null,null,null,null,"HV/LV","scalar",null,null,10.098712610250859,10.098712610250859,11.729705806755948,11.729705806755948,9.0673828298596799,7.7563087483202686,7.8727376715753232,22.581879332920355,7.2216378064347033,7.2216378064347033,7.2216378064347033,7.2216378064347033,7.2216378064347033,7.2216378064347033,7.2216378064347033,7.2216378064347033]
[null,null,null,null,null,"LV circuits","scalar",null,null,10.098712610250859,10.098712610250859,11.729705806755948,11.729705806755948,9.0673828298596799,7.7563087483202686,7.8727376715753232,22.581879332920355,7.2216378064347033,7.2216378064347033,7.2216378064347033,7.2216378064347033,7.2216378064347033,7.2216378064347033,7.2216378064347033,7.2216378064347033]
[]
[null,null,null,null,"Unit rate 2"]
[null,null,null,null,null,"GSPs","scalar",null,null,{"$f":"J240 * J$93","v":0.92349228307239573},{"$f":"K240 * K$93","v":0.92349228307239573},1.0726409606164153,1.0726409606164153,0.82918074750822601,0.70928756472680232,0.71993458641185648,0.79110253955261312,0.66039375936064448,0.66039375936064448,0.66039375936064448,0.66039375936064448,0.66039375936064448,0.66039375936064448,0.66039375936064448,0.66039375936064448]
[null,null,null,null,null,"132kV","scalar",null,null,{"$f":"J241 * J$93","v":0},0,0,0,0,0,0,0,0,0,0,0,0,0,0,0]
[null,null,null,null,null,"132kV/EHV","scalar",null,null,0,0,0,0,0,0,0,0,0,0,0,0,0,0,0,0]
[null,null,null,null,null,"EHV","scalar",null,null,0.92349228307239573,0.92349228307239573,1.0726409606164153,1.0726409606164153,0.82918074750822601,0.70928756472680232,0.71993458641185648,0.79110253955261312,0.66039375936064448,0.66039375936064448,0.66039375936064448,0.66039375936064448,0.66039375936064448,0.66039375936064448,0.66039375936064448,0.66039375936064448]
[null,null,null,null,null,"EHV/HV","scalar",null,null,1.2155817714261268,1.2155817714261268,1.4119043796147333,1.4119043796147333,1.0914406328715081,0.93362668014145112,0.94764122657303829,0.92680435825893326,0.86926835292184057,0.86926835292184057,0.86926835292184057,0.86926835292184057,0.86926835292184057,0.86926835292184057,0.86926835292184057,0.86926835292184057]
[null,null,null,null,null,"132kV/HV","scalar",null,null,0,0,0,0,0,0,0,0,0,0,0,0,0,0,0,0]
[null,null,null,null,null,"HV","scalar",null,null,1.2155817714261268,1.2155817714261268,1.4119043796147333,1.4119043796147333,1.0914406328715081,0.93362668014145112,0.94764122657303829,0.92680435825893326,0.86926835292184057,0.86926835292184057,0.86926835292184057,0.86926835292184057,0.86926835292184057,0.86926835292184057,0.86926835292184057,0.86926835292184057]
[null,null,null,null,null,"HV/LV","scalar",null,null,1.2155817714261268,1.2155817714261268,1.4119043796147333,1.4119043796147333,1.0914406328715081,0.93362668014145112,0.94764122657303829,0.92680435825893326,0.86926835292184057,0.86926835292184057,0.86926835292184057,0.86926835292184057,0.86926835292184057,0.86926835292184057,0.86926835292184057,0.86926835292184057]
[null,null,null,null,null,"LV circuits","scalar",null,null,1.2155817714261268,1.2155817714261268,1.4119043796147333,1.4119043796147333,1.0914406328715081,0.93362668014145112,0.94764122657303829,0.92680435825893326,0.86926835292184057,0.86926835292184057,0.86926835292184057,0.86926835292184057,0.86926835292184057,0.86926835292184057,0.86926835292184057,0.86926835292184057]
[]
[null,null,null,null,"Unit rate 3"]
[null,null,null,null,null,"GSPs","scalar",null,null,{"$f":"J251 * J$93","v":1.4805259537586315E-2},{"$f":"K251 * K$93","v":1.4805259537586315E-2},1.7196383882860215E-2,1.7196383882860215E-2,1.3293274232446117E-2,1.1371168633511621E-2,1.1541859739695104E-2,1.163653936983337E-2,1.0587312079975646E-2,1.0587312079975646E-2,1.0587312079975646E-2,1.0587312079975646E-2,1.0587312079975646E-2,1.0587312079975646E-2,1.0587312079975646E-2,1.0587312079975646E-2]
[null,null,null,null,null,"132kV","scalar",null,null,{"$f":"J252 * J$93","v":0},0,0,0,0,0,0,0,0,0,0,0,0,0,0,0]
[null,null,null,null,null,"132kV/EHV","scalar",null,null,0,0,0,0,0,0,0,0,0,0,0,0,0,0,0,0]
[null,null,null,null,null,"EHV","scalar",null,null,1.4805259537586315E-2,1.4805259537586315E-2,1.7196383882860215E-2,1.7196383882860215E-2,1.3293274232446117E-2,1.1371168633511621E-2,1.1541859739695104E-2,1.163653936983337E-2,1.0587312079975646E-2,1.0587312079975646E-2,1.0587312079975646E-2,1.0587312079975646E-2,1.0587312079975646E-2,1.0587312079975646E-2,1.0587312079975646E-2,1.0587312079975646E-2]
[null,null,null,null,null,"EHV/HV","scalar",null,null,4.1322546283744134E-2,4.1322546283744134E-2,4.7996346643469308E-2,4.7996346643469308E-2,3.7102486338602317E-2,3.1737751098900924E-2,3.2214162276805902E-2,3.2478419947438684E-2,2.9549950970772461E-2,2.9549950970772461E-2,2.9549950970772461E-2,2.9549950970772461E-2,2.9549950970772461E-2,2.9549950970772461E-2,2.9549950970772461E-2,2.9549950970772461E-2]
[null,null,null,null,null,"132kV/HV","scalar",null,null,0,0,0,0,0,0,0,0,0,0,0,0,0,0,0,0]
[null,null,null,null,null,"HV","scalar",null,null,4.1322546283744134E-2,4.1322546283744134E-2,4.7996346643469308E-2,4.7996346643469308E-2,3.7102486338602317E-2,3.1737751098900924E-2,3.2214162276805902E-2,3.2478419947438684E-2,2.9549950970772461E-2,2.9549950970772461E-2,2.9549950970772461E-2,2.9549950970772461E-2,2.9549950970772461E-2,2.9549950970772461E-2,2.9549950970772461E-2,2.9549950970772461E-2]
[null,null,null,null,null,"HV/LV","scalar",null,null,4.1322546283744134E-2,4.1322546283744134E-2,4.7996346643469308E-2,4.7996346643469308E-2,3.7102486338602317E-2,3.1737751098900924E-2,3.2214162276805902E-2,3.2478419947438684E-2,2.9549950970772461E-2,2.9549950970772461E-2,2.9549950970772461E-2,2.9549950970772461E-2,2.9549950970772461E-2,2.9549950970772461E-2,2.9549950970772461E-2,2.9549950970772461E-2]
[null,null,null,null,null,"LV circuits","scalar",null,null,4.1322546283744134E-2,4.1322546283744134E-2,4.7996346643469308E-2,4.7996346643469308E-2,3.7102486338602317E-2,3.1737751098900924E-2,3.2214162276805902E-2,3.2478419947438684E-2,2.9549950970772461E-2,2.9549950970772461E-2,2.9549950970772461E-2,2.9549950970772461E-2,2.9549950970772461E-2,2.9549950970772461E-2,2.9549950970772461E-2,2.9549950970772461E-2]
[]
[null,"Checks"]
[]
[null,null,null,null,"Check for error values",null,"number of issues",{"$f":"SUM(IF(ISERROR(H20:Y302), 1))","v":0}]
[]
[null,"End of sheet"]

{"sheet":"System peak demand","index":22,"n_rows":283,"n_cols":27,"rows_kept":283,"cut":false,"hidden":false,"merged":[]}
[{"$f":"MID(CELL(\"filename\",A1),FIND(\"]\",CELL(\"filename\",A1))+1,255)","v":"System peak demand"}]
[{"$f":"Cover!D21&\" - \"&Cover!D23","v":"SP Distribution - One"}]
[{"$f":"Cover!D2&\" - \"&Cover!D8&\" v\"&Cover!D10&\" - \"&Cover!D19","v":"ARP model - Release for charge setting v5 - 2021/22"}]
[{"$f":"H281 & IF(H281 = 1, \" issue\", \" issues\") &\" identified in checks on this sheet\"","v":"0 issues identified in checks on this sheet"}]
[null,"Click here to return to model map",null,null,null,null,"Units","Constants",null,"Domestic Aggregated","Domestic Aggregated (Related MPAN)","Non-Domestic Aggregated","Non-Domestic Aggregated (Related MPAN)","LV Site Specific","LV Sub Site Specific","HV Site Specific","Unmetered Supplies","LV Generation Aggregated","LV Sub Generation Aggregated","LV Generation Site Specific","LV Generation Site Specific no RP Charge","LV Sub Generation Site Specific","LV Sub Generation Site Specific no RP Charge","HV Generation Site Specific","HV Generation Site Specific no RP Charge",null,"Legal text reference"]
[]
[null,"Description"]
[]
[null,null,"This sheet calculates load at system peak based on chargeable load."]
[null,null,"This is used to calculate notional asset values used in the allocation of other operating costs in the 'Unit costs' tab."]
[null,null,"Chargeable volumes are made up of three components:"]
[null,null,null,"1. Load charged to unit rates"]
[null,null,null,"2.  Import and exceeded capacity charged to capacity charges."]
[null,null,null,"3. Estimated maximum load (i.e. capacity) used to calculate fixed charges."]
[]
[null,"Common inputs for chargeable load calculations"]
[]
[null,null,{"$f":"INDEX('Version control'!$H$34:$H$58,MATCH($A$1,'Version control'!$F$34:$F$58,0),1)&\"-A: Common inputs for chargeable load calculations\"","v":"Section 509-A: Common inputs for chargeable load calculations"}]
[]
[null,null,null,"This section brings in common inputs used for the three elements of chargeable load"]
[]
[null,null,null,null,"Standing charges factors adapted to use 132kV/HV, by network level"]
[null,null,null,null,null,"GSPs","%",null,null,{"$f":"'Standing charge factors'!J44","v":0},{"$f":"'Standing charge factors'!K44","v":0},{"$f":"'Standing charge factors'!L44","v":0},{"$f":"'Standing charge factors'!M44","v":0},{"$f":"'Standing charge factors'!N44","v":0},{"$f":"'Standing charge factors'!O44","v":0},{"$f":"'Standing charge factors'!P44","v":0},{"$f":"'Standing charge factors'!Q44","v":0},{"$f":"'Standing charge factors'!R44","v":0},{"$f":"'Standing charge factors'!S44","v":0},{"$f":"'Standing charge factors'!T44","v":0},{"$f":"'Standing charge factors'!U44","v":0},{"$f":"'Standing charge factors'!V44","v":0},{"$f":"'Standing charge factors'!W44","v":0},{"$f":"'Standing charge factors'!X44","v":0},{"$f":"'Standing charge factors'!Y44","v":0}]
[null,null,null,null,null,"132kV","%",null,null,{"$f":"'Standing charge factors'!J45","v":0},{"$f":"'Standing charge factors'!K45","v":0},{"$f":"'Standing charge factors'!L45","v":0},{"$f":"'Standing charge factors'!M45","v":0},{"$f":"'Standing charge factors'!N45","v":0},{"$f":"'Standing charge factors'!O45","v":0},{"$f":"'Standing charge factors'!P45","v":0},{"$f":"'Standing charge factors'!Q45","v":0},{"$f":"'Standing charge factors'!R45","v":0},{"$f":"'Standing charge factors'!S45","v":0},{"$f":"'Standing charge factors'!T45","v":0},{"$f":"'Standing charge factors'!U45","v":0},{"$f":"'Standing charge factors'!V45","v":0},{"$f":"'Standing charge factors'!W45","v":0},{"$f":"'Standing charge factors'!X45","v":0},{"$f":"'Standing charge factors'!Y45","v":0}]
[null,null,null,null,null,"132kV/EHV","%",null,null,{"$f":"'Standing charge factors'!J46","v":0},{"$f":"'Standing charge factors'!K46","v":0},{"$f":"'Standing charge factors'!L46","v":0},{"$f":"'Standing charge factors'!M46","v":0},{"$f":"'Standing charge factors'!N46","v":0},{"$f":"'Standing charge factors'!O46","v":0},{"$f":"'Standing charge factors'!P46","v":0},{"$f":"'Standing charge factors'!Q46","v":0},{"$f":"'Standing charge factors'!R46","v":0},{"$f":"'Standing charge factors'!S46","v":0},{"$f":"'Standing charge factors'!T46","v":0},{"$f":"'Standing charge factors'!U46","v":0},{"$f":"'Standing charge factors'!V46","v":0},{"$f":"'Standing charge factors'!W46","v":0},{"$f":"'Standing charge factors'!X46","v":0},{"$f":"'Standing charge factors'!Y46","v":0}]
[null,null,null,null,null,"EHV","%",null,null,{"$f":"'Standing charge factors'!J47","v":0},{"$f":"'Standing charge factors'!K47","v":0},{"$f":"'Standing charge factors'!L47","v":0},{"$f":"'Standing charge factors'!M47","v":0},{"$f":"'Standing charge factors'!N47","v":0},{"$f":"'Standing charge factors'!O47","v":0},{"$f":"'Standing charge factors'!P47","v":0.2},{"$f":"'Standing charge factors'!Q47","v":0},{"$f":"'Standing charge factors'!R47","v":0},{"$f":"'Standing charge factors'!S47","v":0},{"$f":"'Standing charge factors'!T47","v":0},{"$f":"'Standing charge factors'!U47","v":0},{"$f":"'Standing charge factors'!V47","v":0},{"$f":"'Standing charge factors'!W47","v":0},{"$f":"'Standing charge factors'!X47","v":0},{"$f":"'Standing charge factors'!Y47","v":0}]
[null,null,null,null,null,"EHV/HV","%",null,null,{"$f":"'Standing charge factors'!J48","v":0},{"$f":"'Standing charge factors'!K48","v":0},{"$f":"'Standing charge factors'!L48","v":0},{"$f":"'Standing charge factors'!M48","v":0},{"$f":"'Standing charge factors'!N48","v":0},{"$f":"'Standing charge factors'!O48","v":0},{"$f":"'Standing charge factors'!P48","v":1},{"$f":"'Standing charge factors'!Q48","v":0},{"$f":"'Standing charge factors'!R48","v":0},{"$f":"'Standing charge factors'!S48","v":0},{"$f":"'Standing charge factors'!T48","v":0},{"$f":"'Standing charge factors'!U48","v":0},{"$f":"'Standing charge factors'!V48","v":0},{"$f":"'Standing charge factors'!W48","v":0},{"$f":"'Standing charge factors'!X48","v":0},{"$f":"'Standing charge factors'!Y48","v":0}]
[null,null,null,null,null,"132kV/HV","%",null,null,{"$f":"'Standing charge factors'!J49","v":0},{"$f":"'Standing charge factors'!K49","v":0},{"$f":"'Standing charge factors'!L49","v":0},{"$f":"'Standing charge factors'!M49","v":0},{"$f":"'Standing charge factors'!N49","v":0},{"$f":"'Standing charge factors'!O49","v":0},{"$f":"'Standing charge factors'!P49","v":1},{"$f":"'Standing charge factors'!Q49","v":0},{"$f":"'Standing charge factors'!R49","v":0},{"$f":"'Standing charge factors'!S49","v":0},{"$f":"'Standing charge factors'!T49","v":0},{"$f":"'Standing charge factors'!U49","v":0},{"$f":"'Standing charge factors'!V49","v":0},{"$f":"'Standing charge factors'!W49","v":0},{"$f":"'Standing charge factors'!X49","v":0},{"$f":"'Standing charge factors'!Y49","v":0}]
[null,null,null,null,null,"HV","%",null,null,{"$f":"'Standing charge factors'!J50","v":0},{"$f":"'Standing charge factors'!K50","v":0},{"$f":"'Standing charge factors'!L50","v":0},{"$f":"'Standing charge factors'!M50","v":0},{"$f":"'Standing charge factors'!N50","v":0.2},{"$f":"'Standing charge factors'!O50","v":1},{"$f":"'Standing charge factors'!P50","v":1},{"$f":"'Standing charge factors'!Q50","v":0},{"$f":"'Standing charge factors'!R50","v":0},{"$f":"'Standing charge factors'!S50","v":0},{"$f":"'Standing charge factors'!T50","v":0},{"$f":"'Standing charge factors'!U50","v":0},{"$f":"'Standing charge factors'!V50","v":0},{"$f":"'Standing charge factors'!W50","v":0},{"$f":"'Standing charge factors'!X50","v":0},{"$f":"'Standing charge factors'!Y50","v":0}]
[null,null,null,null,null,"HV/LV","%",null,null,{"$f":"'Standing charge factors'!J51","v":0},{"$f":"'Standing charge factors'!K51","v":0},{"$f":"'Standing charge factors'!L51","v":0},{"$f":"'Standing charge factors'!M51","v":0},{"$f":"'Standing charge factors'!N51","v":1},{"$f":"'Standing charge factors'!O51","v":1},{"$f":"'Standing charge factors'!P51","v":0},{"$f":"'Standing charge factors'!Q51","v":0},{"$f":"'Standing charge factors'!R51","v":0},{"$f":"'Standing charge factors'!S51","v":0},{"$f":"'Standing charge factors'!T51","v":0},{"$f":"'Standing charge factors'!U51","v":0},{"$f":"'Standing charge factors'!V51","v":0},{"$f":"'Standing charge factors'!W51","v":0},{"$f":"'Standing charge factors'!X51","v":0},{"$f":"'Standing charge factors'!Y51","v":0}]
[null,null,null,null,null,"LV circuits","%",null,null,{"$f":"'Standing charge factors'!J52","v":1},{"$f":"'Standing charge factors'!K52","v":1},{"$f":"'Standing charge factors'!L52","v":1},{"$f":"'Standing charge factors'!M52","v":1},{"$f":"'Standing charge factors'!N52","v":1},{"$f":"'Standing charge factors'!O52","v":0},{"$f":"'Standing charge factors'!P52","v":0},{"$f":"'Standing charge factors'!Q52","v":0},{"$f":"'Standing charge factors'!R52","v":0},{"$f":"'Standing charge factors'!S52","v":0},{"$f":"'Standing charge factors'!T52","v":0},{"$f":"'Standing charge factors'!U52","v":0},{"$f":"'Standing charge factors'!V52","v":0},{"$f":"'Standing charge factors'!W52","v":0},{"$f":"'Standing charge factors'!X52","v":0},{"$f":"'Standing charge factors'!Y52","v":0}]
[]
[null,null,null,null,"User loss factor",null,null,null,">",null,null,null,null,null,null,null,null,null,null,null,null,null,null,null,null,null,"Paragraph 61 (b)"]
[null,null,null,null,null,"GSPs","scalar",null,null,{"$f":"TRANSPOSE('Load & loss characteristics'!K145:S160)","v":1.0980000000000001},1.0980000000000001,1.0980000000000001,1.0980000000000001,1.0980000000000001,1.044,1.026,1.0980000000000001,-1.0980000000000001,-1.044,-1.0980000000000001,-1.0980000000000001,-1.044,-1.044,-1.026,-1.026]
[null,null,null,null,null,"132kV","scalar",null,null,1.0980000000000001,1.0980000000000001,1.0980000000000001,1.0980000000000001,1.0980000000000001,1.044,1.026,1.0980000000000001,-1.0980000000000001,-1.044,-1.0980000000000001,-1.0980000000000001,-1.044,-1.044,-1.026,-1.026]
[null,null,null,null,null,"132kV/EHV","scalar",null,null,1.0980000000000001,1.0980000000000001,1.0980000000000001,1.0980000000000001,1.0980000000000001,1.044,1.026,1.0980000000000001,-1.0980000000000001,-1.044,-1.0980000000000001,-1.0980000000000001,-1.044,-1.044,-1.026,-1.026]
[null,null,null,null,null,"EHV","scalar",null,null,1.0980000000000001,1.0980000000000001,1.0980000000000001,1.0980000000000001,1.0980000000000001,1.044,1.026,1.0980000000000001,-1.0980000000000001,-1.044,-1.0980000000000001,-1.0980000000000001,-1.044,-1.044,-1.026,-1.026]
[null,null,null,null,null,"EHV/HV","scalar",null,null,1.0980000000000001,1.0980000000000001,1.0980000000000001,1.0980000000000001,1.0980000000000001,1.044,1.026,1.0980000000000001,-1.0980000000000001,-1.044,-1.0980000000000001,-1.0980000000000001,-1.044,-1.044,-1.026,-1.026]
[null,null,null,null,null,"132kV/HV","scalar",null,null,0,0,0,0,0,0,0,0,0,0,0,0,0,0,0,0]
[null,null,null,null,null,"HV","scalar",null,null,1.0980000000000001,1.0980000000000001,1.0980000000000001,1.0980000000000001,1.0980000000000001,1.044,1.026,1.0980000000000001,-1.0980000000000001,-1.044,-1.0980000000000001,-1.0980000000000001,-1.044,-1.044,0,0]
[null,null,null,null,null,"HV/LV","scalar",null,null,1.0980000000000001,1.0980000000000001,1.0980000000000001,1.0980000000000001,1.0980000000000001,1.044,0,1.0980000000000001,-1.0980000000000001,0,-1.0980000000000001,-1.0980000000000001,0,0,0,0]
[null,null,null,null,null,"LV circuits","scalar",null,null,1.0980000000000001,1.0980000000000001,1.0980000000000001,1.0980000000000001,1.0980000000000001,0,0,1.0980000000000001,0,0,0,0,0,0,0,0]
[]
[null,null,null,null,"Network loss factor"]
[null,null,null,null,null,"GSPs","scalar",{"$f":"'Load & loss characteristics'!K29","v":1}]
[null,null,null,null,null,"132kV","scalar",{"$f":"'Load & loss characteristics'!L29","v":1}]
[null,null,null,null,null,"132kV/EHV","scalar",{"$f":"'Load & loss characteristics'!M29","v":1}]
[null,null,null,null,null,"EHV","scalar",{"$f":"'Load & loss characteristics'!N29","v":1.004}]
[null,null,null,null,null,"EHV/HV","scalar",{"$f":"'Load & loss characteristics'!O29","v":1.0129999999999999}]
[null,null,null,null,null,"132kV/HV","scalar",{"$f":"'Load & loss characteristics'!P29","v":1.0129999999999999}]
[null,null,null,null,null,"HV","scalar",{"$f":"'Load & loss characteristics'!Q29","v":1.026}]
[null,null,null,null,null,"HV/LV","scalar",{"$f":"'Load & loss characteristics'!R29","v":1.044}]
[null,null,null,null,null,"LV circuits","scalar",{"$f":"'Load & loss characteristics'!S29","v":1.0980000000000001}]
[]
[null,null,null,null,"Discounted volumes (MWh)",null,null,null,">",null,null,null,null,null,null,null,null,null,null,null,null,null,null,null,null,null,"Paragraph 61 (a)"]
[null,null,null,null,null,"Unit rate 1","MWh",null,null,{"$f":"'Volume adjustments'!J66","v":744507.47595921555},{"$f":"'Volume adjustments'!K66","v":1327.5662846544521},{"$f":"'Volume adjustments'!L66","v":188973.52230875273},{"$f":"'Volume adjustments'!M66","v":4172.2410596369182},{"$f":"'Volume adjustments'!N66","v":282075.14358760114},{"$f":"'Volume adjustments'!O66","v":23010.444191422164},{"$f":"'Volume adjustments'!P66","v":326311.94038013439},{"$f":"'Volume adjustments'!Q66","v":13868.974697310709},{"$f":"'Volume adjustments'!R66","v":140.04079826565675},{"$f":"'Volume adjustments'!S66","v":2.8776284544589532},{"$f":"'Volume adjustments'!T66","v":6131.3814104814819},{"$f":"'Volume adjustments'!U66","v":0},{"$f":"'Volume adjustments'!V66","v":144.6141525623608},{"$f":"'Volume adjustments'!W66","v":0},{"$f":"'Volume adjustments'!X66","v":116075.81817719914},{"$f":"'Volume adjustments'!Y66","v":0}]
[null,null,null,null,null,"Unit rate 2","MWh",null,null,{"$f":"'Volume adjustments'!J77","v":2645097.8394225296},{"$f":"'Volume adjustments'!K77","v":24035.071762789463},{"$f":"'Volume adjustments'!L77","v":1023624.1876166349},{"$f":"'Volume adjustments'!M77","v":25319.415482001521},{"$f":"'Volume adjustments'!N77","v":1350126.3314036345},{"$f":"'Volume adjustments'!O77","v":107501.34408049645},{"$f":"'Volume adjustments'!P77","v":1514334.2001053796},{"$f":"'Volume adjustments'!Q77","v":52882.399972899948},{"$f":"'Volume adjustments'!R77","v":628.61483547885325},{"$f":"'Volume adjustments'!S77","v":11.85801478940583},{"$f":"'Volume adjustments'!T77","v":27525.456251959484},{"$f":"'Volume adjustments'!U77","v":0},{"$f":"'Volume adjustments'!V77","v":597.34783091345412},{"$f":"'Volume adjustments'!W77","v":0},{"$f":"'Volume adjustments'!X77","v":445212.43930388504},{"$f":"'Volume adjustments'!Y77","v":0}]
[null,null,null,null,null,"Unit rate 3","MWh",null,null,{"$f":"'Volume adjustments'!J88","v":2435994.0010482869},{"$f":"'Volume adjustments'!K88","v":245515.14232274992},{"$f":"'Volume adjustments'!L88","v":988714.59609282145},{"$f":"'Volume adjustments'!M88","v":52561.158034119573},{"$f":"'Volume adjustments'!N88","v":1179031.4355710328},{"$f":"'Volume adjustments'!O88","v":106315.97183163626},{"$f":"'Volume adjustments'!P88","v":1621310.6751782417},{"$f":"'Volume adjustments'!Q88","v":189423.97703070924},{"$f":"'Volume adjustments'!R88","v":700.98374497632642},{"$f":"'Volume adjustments'!S88","v":16.006356756135215},{"$f":"'Volume adjustments'!T88","v":30981.276337559029},{"$f":"'Volume adjustments'!U88","v":0},{"$f":"'Volume adjustments'!V88","v":807.27901652418518},{"$f":"'Volume adjustments'!W88","v":0},{"$f":"'Volume adjustments'!X88","v":507559.16751891578},{"$f":"'Volume adjustments'!Y88","v":0}]
[null,null,null,null,null,"Total discounted MWh","MWh",null,null,{"$f":"SUM(J56:J58)","v":5825599.3164300323},270877.78037019382,2201312.3060182091,82052.814575758006,2811232.9105622685,236827.76010355487,3461956.8156637559,256175.35170091991,1469.6393787208362,30.741999999999997,64638.113999999994,0,1549.241,0,1068847.425,0]
[]
[null,null,null,null,"Load factor",null,"%",null,">",{"$f":"'Inputs by customer type'!J18","v":0.44866666666666671},{"$f":"'Inputs by customer type'!K18","v":9.9666666666666667E-2},{"$f":"'Inputs by customer type'!L18","v":0.41666666666666669},{"$f":"'Inputs by customer type'!M18","v":0.32},{"$f":"'Inputs by customer type'!N18","v":0.55600000000000005},{"$f":"'Inputs by customer type'!O18","v":0.67266666666666675},{"$f":"'Inputs by customer type'!P18","v":0.73533333333333328},{"$f":"'Inputs by customer type'!Q18","v":0.45833333333333331},null,null,null,null,null,null,null,null,null,"Paragraph 61 (c) "]
[]
[null,"Load at system peak charged to unit rates"]
[]
[null,null,"This section calculates the system peak load based on load charged to unit rates"]
[]
[null,null,{"$f":"INDEX('Version control'!$H$34:$H$58,MATCH($A$1,'Version control'!$F$34:$F$58,0),1)&\"-B: System peak load, by unit rate\"","v":"Section 509-B: System peak load, by unit rate"}]
[]
[null,null,null,null,"Pseudo load coefficient, unit rate 1"]
[null,null,null,null,null,"GSPs","scalar",null,null,{"$f":"'Pseudo-load coefficients'!J272","v":11.527986422981362},{"$f":"'Pseudo-load coefficients'!K272","v":11.527986422981362},{"$f":"'Pseudo-load coefficients'!L272","v":13.389814573848861},{"$f":"'Pseudo-load coefficients'!M272","v":13.389814573848861},{"$f":"'Pseudo-load coefficients'!N272","v":10.350692230660494},{"$f":"'Pseudo-load coefficients'!O272","v":8.8540614426759596},{"$f":"'Pseudo-load coefficients'!P272","v":8.9869685862225737},{"$f":"'Pseudo-load coefficients'!Q272","v":25.023867607119033},{"$f":"'Pseudo-load coefficients'!R272","v":8.2437183626517871},{"$f":"'Pseudo-load coefficients'!S272","v":8.2437183626517871},{"$f":"'Pseudo-load coefficients'!T272","v":8.2437183626517871},{"$f":"'Pseudo-load coefficients'!U272","v":8.2437183626517871},{"$f":"'Pseudo-load coefficients'!V272","v":8.2437183626517871},{"$f":"'Pseudo-load coefficients'!W272","v":8.2437183626517871},{"$f":"'Pseudo-load coefficients'!X272","v":8.2437183626517871},{"$f":"'Pseudo-load coefficients'!Y272","v":8.2437183626517871}]
[null,null,null,null,null,"132kV","scalar",null,null,{"$f":"'Pseudo-load coefficients'!J273","v":0},{"$f":"'Pseudo-load coefficients'!K273","v":0},{"$f":"'Pseudo-load coefficients'!L273","v":0},{"$f":"'Pseudo-load coefficients'!M273","v":0},{"$f":"'Pseudo-load coefficients'!N273","v":0},{"$f":"'Pseudo-load coefficients'!O273","v":0},{"$f":"'Pseudo-load coefficients'!P273","v":0},{"$f":"'Pseudo-load coefficients'!Q273","v":0},{"$f":"'Pseudo-load coefficients'!R273","v":0},{"$f":"'Pseudo-load coefficients'!S273","v":0},{"$f":"'Pseudo-load coefficients'!T273","v":0},{"$f":"'Pseudo-load coefficients'!U273","v":0},{"$f":"'Pseudo-load coefficients'!V273","v":0},{"$f":"'Pseudo-load coefficients'!W273","v":0},{"$f":"'Pseudo-load coefficients'!X273","v":0},{"$f":"'Pseudo-load coefficients'!Y273","v":0}]
[null,null,null,null,null,"132kV/EHV","scalar",null,null,{"$f":"'Pseudo-load coefficients'!J274","v":0},{"$f":"'Pseudo-load coefficients'!K274","v":0},{"$f":"'Pseudo-load coefficients'!L274","v":0},{"$f":"'Pseudo-load coefficients'!M274","v":0},{"$f":"'Pseudo-load coefficients'!N274","v":0},{"$f":"'Pseudo-load coefficients'!O274","v":0},{"$f":"'Pseudo-load coefficients'!P274","v":0},{"$f":"'Pseudo-load coefficients'!Q274","v":0},{"$f":"'Pseudo-load coefficients'!R274","v":0},{"$f":"'Pseudo-load coefficients'!S274","v":0},{"$f":"'Pseudo-load coefficients'!T274","v":0},{"$f":"'Pseudo-load coefficients'!U274","v":0},{"$f":"'Pseudo-load coefficients'!V274","v":0},{"$f":"'Pseudo-load coefficients'!W274","v":0},{"$f":"'Pseudo-load coefficients'!X274","v":0},{"$f":"'Pseudo-load coefficients'!Y274","v":0}]
[null,null,null,null,null,"EHV","scalar",null,null,{"$f":"'Pseudo-load coefficients'!J275","v":11.527986422981362},{"$f":"'Pseudo-load coefficients'!K275","v":11.527986422981362},{"$f":"'Pseudo-load coefficients'!L275","v":13.389814573848861},{"$f":"'Pseudo-load coefficients'!M275","v":13.389814573848861},{"$f":"'Pseudo-load coefficients'!N275","v":10.350692230660494},{"$f":"'Pseudo-load coefficients'!O275","v":8.8540614426759596},{"$f":"'Pseudo-load coefficients'!P275","v":8.9869685862225737},{"$f":"'Pseudo-load coefficients'!Q275","v":25.023867607119033},{"$f":"'Pseudo-load coefficients'!R275","v":8.2437183626517871},{"$f":"'Pseudo-load coefficients'!S275","v":8.2437183626517871},{"$f":"'Pseudo-load coefficients'!T275","v":8.2437183626517871},{"$f":"'Pseudo-load coefficients'!U275","v":8.2437183626517871},{"$f":"'Pseudo-load coefficients'!V275","v":8.2437183626517871},{"$f":"'Pseudo-load coefficients'!W275","v":8.2437183626517871},{"$f":"'Pseudo-load coefficients'!X275","v":8.2437183626517871},{"$f":"'Pseudo-load coefficients'!Y275","v":8.2437183626517871}]
[null,null,null,null,null,"EHV/HV","scalar",null,null,{"$f":"'Pseudo-load coefficients'!J276","v":10.098712610250859},{"$f":"'Pseudo-load coefficients'!K276","v":10.098712610250859},{"$f":"'Pseudo-load coefficients'!L276","v":11.729705806755948},{"$f":"'Pseudo-load coefficients'!M276","v":11.729705806755948},{"$f":"'Pseudo-load coefficients'!N276","v":9.0673828298596799},{"$f":"'Pseudo-load coefficients'!O276","v":7.7563087483202686},{"$f":"'Pseudo-load coefficients'!P276","v":7.8727376715753232},{"$f":"'Pseudo-load coefficients'!Q276","v":22.581879332920355},{"$f":"'Pseudo-load coefficients'!R276","v":7.2216378064347033},{"$f":"'Pseudo-load coefficients'!S276","v":7.2216378064347033},{"$f":"'Pseudo-load coefficients'!T276","v":7.2216378064347033},{"$f":"'Pseudo-load coefficients'!U276","v":7.2216378064347033},{"$f":"'Pseudo-load coefficients'!V276","v":7.2216378064347033},{"$f":"'Pseudo-load coefficients'!W276","v":7.2216378064347033},{"$f":"'Pseudo-load coefficients'!X276","v":7.2216378064347033},{"$f":"'Pseudo-load coefficients'!Y276","v":7.2216378064347033}]
[null,null,null,null,null,"132kV/HV","scalar",null,null,{"$f":"'Pseudo-load coefficients'!J277","v":0},{"$f":"'Pseudo-load coefficients'!K277","v":0},{"$f":"'Pseudo-load coefficients'!L277","v":0},{"$f":"'Pseudo-load coefficients'!M277","v":0},{"$f":"'Pseudo-load coefficients'!N277","v":0},{"$f":"'Pseudo-load coefficients'!O277","v":0},{"$f":"'Pseudo-load coefficients'!P277","v":0},{"$f":"'Pseudo-load coefficients'!Q277","v":0},{"$f":"'Pseudo-load coefficients'!R277","v":0},{"$f":"'Pseudo-load coefficients'!S277","v":0},{"$f":"'Pseudo-load coefficients'!T277","v":0},{"$f":"'Pseudo-load coefficients'!U277","v":0},{"$f":"'Pseudo-load coefficients'!V277","v":0},{"$f":"'Pseudo-load coefficients'!W277","v":0},{"$f":"'Pseudo-load coefficients'!X277","v":0},{"$f":"'Pseudo-load coefficients'!Y277","v":0}]
[null,null,null,null,null,"HV","scalar",null,null,{"$f":"'Pseudo-load coefficients'!J278","v":10.098712610250859},{"$f":"'Pseudo-load coefficients'!K278","v":10.098712610250859},{"$f":"'Pseudo-load coefficients'!L278","v":11.729705806755948},{"$f":"'Pseudo-load coefficients'!M278","v":11.729705806755948},{"$f":"'Pseudo-load coefficients'!N278","v":9.0673828298596799},{"$f":"'Pseudo-load coefficients'!O278","v":7.7563087483202686},{"$f":"'Pseudo-load coefficients'!P278","v":7.8727376715753232},{"$f":"'Pseudo-load coefficients'!Q278","v":22.581879332920355},{"$f":"'Pseudo-load coefficients'!R278","v":7.2216378064347033},{"$f":"'Pseudo-load coefficients'!S278","v":7.2216378064347033},{"$f":"'Pseudo-load coefficients'!T278","v":7.2216378064347033},{"$f":"'Pseudo-load coefficients'!U278","v":7.2216378064347033},{"$f":"'Pseudo-load coefficients'!V278","v":7.2216378064347033},{"$f":"'Pseudo-load coefficients'!W278","v":7.2216378064347033},{"$f":"'Pseudo-load coefficients'!X278","v":7.2216378064347033},{"$f":"'Pseudo-load coefficients'!Y278","v":7.2216378064347033}]
[null,null,null,null,null,"HV/LV","scalar",null,null,{"$f":"'Pseudo-load coefficients'!J279","v":10.098712610250859},{"$f":"'Pseudo-load coefficients'!K279","v":10.098712610250859},{"$f":"'Pseudo-load coefficients'!L279","v":11.729705806755948},{"$f":"'Pseudo-load coefficients'!M279","v":11.729705806755948},{"$f":"'Pseudo-load coefficients'!N279","v":9.0673828298596799},{"$f":"'Pseudo-load coefficients'!O279","v":7.7563087483202686},{"$f":"'Pseudo-load coefficients'!P279","v":7.8727376715753232},{"$f":"'Pseudo-load coefficients'!Q279","v":22.581879332920355},{"$f":"'Pseudo-load coefficients'!R279","v":7.2216378064347033},{"$f":"'Pseudo-load coefficients'!S279","v":7.2216378064347033},{"$f":"'Pseudo-load coefficients'!T279","v":7.2216378064347033},{"$f":"'Pseudo-load coefficients'!U279","v":7.2216378064347033},{"$f":"'Pseudo-load coefficients'!V279","v":7.2216378064347033},{"$f":"'Pseudo-load coefficients'!W279","v":7.2216378064347033},{"$f":"'Pseudo-load coefficients'!X279","v":7.2216378064347033},{"$f":"'Pseudo-load coefficients'!Y279","v":7.2216378064347033}]
[null,null,null,null,null,"LV circuits","scalar",null,null,{"$f":"'Pseudo-load coefficients'!J280","v":10.098712610250859},{"$f":"'Pseudo-load coefficients'!K280","v":10.098712610250859},{"$f":"'Pseudo-load coefficients'!L280","v":11.729705806755948},{"$f":"'Pseudo-load coefficients'!M280","v":11.729705806755948},{"$f":"'Pseudo-load coefficients'!N280","v":9.0673828298596799},{"$f":"'Pseudo-load coefficients'!O280","v":7.7563087483202686},{"$f":"'Pseudo-load coefficients'!P280","v":7.8727376715753232},{"$f":"'Pseudo-load coefficients'!Q280","v":22.581879332920355},{"$f":"'Pseudo-load coefficients'!R280","v":7.2216378064347033},{"$f":"'Pseudo-load coefficients'!S280","v":7.2216378064347033},{"$f":"'Pseudo-load coefficients'!T280","v":7.2216378064347033},{"$f":"'Pseudo-load coefficients'!U280","v":7.2216378064347033},{"$f":"'Pseudo-load coefficients'!V280","v":7.2216378064347033},{"$f":"'Pseudo-load coefficients'!W280","v":7.2216378064347033},{"$f":"'Pseudo-load coefficients'!X280","v":7.2216378064347033},{"$f":"'Pseudo-load coefficients'!Y280","v":7.2216378064347033}]
[]
[null,null,null,null,"System peak load, based on unit rate 1 MWh"]
[null,null,null,null,"This is the load charged to unit rate 1, before application of standing charge factors"]
[null,null,null,null,null,"GSPs","MW",null,null,{"$f":"J$56 * J34 * J70 / hours_in_year / $H45","v":1075.7732805916924},1.9182619159137628,317.15660097525762,7.0023238004838877,365.95901266206619,24.280852249846941,343.47050132428615,43.50077791847508,-0.14470247447499363,-2.8271851947799897E-3,-6.3354827524160724,0,-0.14207914522336507,0,-112.07484691383036,0]
[null,null,null,null,null,"132kV","MW",null,null,{"$f":"J$56 * J35 * J71 / hours_in_year / $H46","v":0},0,0,0,0,0,0,0,0,0,0,0,0,0,0,0]
[null,null,null,null,null,"132kV/EHV","MW",null,null,{"$f":"J$56 * J36 * J72 / hours_in_year / $H47","v":0},0,0,0,0,0,0,0,0,0,0,0,0,0,0,0]
[null,null,null,null,null,"EHV","MW",null,null,{"$f":"J$56 * J37 * J73 / hours_in_year / $H48","v":1071.4873312666259},1.9106194381611183,315.89302885981834,6.9744260960994895,364.50100862755596,24.18411578670014,342.10209295247626,43.327468046289923,-0.14412597059262314,-2.8159215087450095E-3,-6.3102417852749726,0,-0.14151309285195723,0,-111.6283335795123,0]
[null,null,null,null,null,"EHV/HV","MW",null,null,{"$f":"J$56 * J38 * J74 / hours_in_year / $H49","v":930.30180771129608},1.658864893034683,274.26909046539015,6.0554343627005114,316.47219462497441,20.997473304393147,297.02469288114435,38.751920171156669,-0.12513507819263067,-2.4448789953137899E-3,-5.4787669145813567,0,-0.1228664887146789,0,-96.91952250901474,0]
[null,null,null,null,null,"132kV/HV","MW",null,null,{"$f":"J$56 * J39 * J75 / hours_in_year / $H50","v":0},0,0,0,0,0,0,0,0,0,0,0,0,0,0,0]
[null,null,null,null,null,"HV","MW",null,null,{"$f":"J$56 * J40 * J76 / hours_in_year / $H51","v":918.51435790598714},1.6378461370800523,270.79394604428865,5.978708586175066,{"$f":"N$56 * N40 * N76 / hours_in_year / $H51","v":312.46231301666575},20.731423447709798,293.26122211364441,38.260911436044537,-0.12354954601280201,-2.4139009963478255E-3,-5.4093478406149256,0,-0.12130970084597437,0,0,0]
[null,null,null,null,null,"HV/LV","MW",null,null,{"$f":"J$56 * J41 * J77 / hours_in_year / $H52","v":902.67790345933224},1.609607410578672,266.12508490559401,5.8756274036548062,307.0750317577577,20.373985112404458,0,37.601240549216186,-0.12141938142637439,0,-5.3160832226732886,0,0,0,0,0]
[null,null,null,null,null,"LV circuits","MW",null,null,{"$f":"J$56 * J42 * J78 / hours_in_year / $H53","v":858.28390820723382},1.5304463903862782,253.03696597581072,5.5866621215078478,291.97298101557288,0,0,35.751999210730141,0,0,0,0,0,0,0,0]
[]
[null,null,null,null,"Pseudo load coefficient, unit rate 2"]
[null,null,null,null,null,"GSPs","scalar",null,null,{"$f":"'Pseudo-load coefficients'!J283","v":0.92349228307239573},{"$f":"'Pseudo-load coefficients'!K283","v":0.92349228307239573},{"$f":"'Pseudo-load coefficients'!L283","v":1.0726409606164153},{"$f":"'Pseudo-load coefficients'!M283","v":1.0726409606164153},{"$f":"'Pseudo-load coefficients'!N283","v":0.82918074750822601},{"$f":"'Pseudo-load coefficients'!O283","v":0.70928756472680232},{"$f":"'Pseudo-load coefficients'!P283","v":0.71993458641185648},{"$f":"'Pseudo-load coefficients'!Q283","v":0.79110253955261312},{"$f":"'Pseudo-load coefficients'!R283","v":0.66039375936064448},{"$f":"'Pseudo-load coefficients'!S283","v":0.66039375936064448},{"$f":"'Pseudo-load coefficients'!T283","v":0.66039375936064448},{"$f":"'Pseudo-load coefficients'!U283","v":0.66039375936064448},{"$f":"'Pseudo-load coefficients'!V283","v":0.66039375936064448},{"$f":"'Pseudo-load coefficients'!W283","v":0.66039375936064448},{"$f":"'Pseudo-load coefficients'!X283","v":0.66039375936064448},{"$f":"'Pseudo-load coefficients'!Y283","v":0.66039375936064448}]
[null,null,null,null,null,"132kV","scalar",null,null,{"$f":"'Pseudo-load coefficients'!J284","v":0},{"$f":"'Pseudo-load coefficients'!K284","v":0},{"$f":"'Pseudo-load coefficients'!L284","v":0},{"$f":"'Pseudo-load coefficients'!M284","v":0},{"$f":"'Pseudo-load coefficients'!N284","v":0},{"$f":"'Pseudo-load coefficients'!O284","v":0},{"$f":"'Pseudo-load coefficients'!P284","v":0},{"$f":"'Pseudo-load coefficients'!Q284","v":0},{"$f":"'Pseudo-load coefficients'!R284","v":0},{"$f":"'Pseudo-load coefficients'!S284","v":0},{"$f":"'Pseudo-load coefficients'!T284","v":0},{"$f":"'Pseudo-load coefficients'!U284","v":0},{"$f":"'Pseudo-load coefficients'!V284","v":0},{"$f":"'Pseudo-load coefficients'!W284","v":0},{"$f":"'Pseudo-load coefficients'!X284","v":0},{"$f":"'Pseudo-load coefficients'!Y284","v":0}]
[null,null,null,null,null,"132kV/EHV","scalar",null,null,{"$f":"'Pseudo-load coefficients'!J285","v":0},{"$f":"'Pseudo-load coefficients'!K285","v":0},{"$f":"'Pseudo-load coefficients'!L285","v":0},{"$f":"'Pseudo-load coefficients'!M285","v":0},{"$f":"'Pseudo-load coefficients'!N285","v":0},{"$f":"'Pseudo-load coefficients'!O285","v":0},{"$f":"'Pseudo-load coefficients'!P285","v":0},{"$f":"'Pseudo-load coefficients'!Q285","v":0},{"$f":"'Pseudo-load coefficients'!R285","v":0},{"$f":"'Pseudo-load coefficients'!S285","v":0},{"$f":"'Pseudo-load coefficients'!T285","v":0},{"$f":"'Pseudo-load coefficients'!U285","v":0},{"$f":"'Pseudo-load coefficients'!V285","v":0},{"$f":"'Pseudo-load coefficients'!W285","v":0},{"$f":"'Pseudo-load coefficients'!X285","v":0},{"$f":"'Pseudo-load coefficients'!Y285","v":0}]
[null,null,null,null,null,"EHV","scalar",null,null,{"$f":"'Pseudo-load coefficients'!J286","v":0.92349228307239573},{"$f":"'Pseudo-load coefficients'!K286","v":0.92349228307239573},{"$f":"'Pseudo-load coefficients'!L286","v":1.0726409606164153},{"$f":"'Pseudo-load coefficients'!M286","v":1.0726409606164153},{"$f":"'Pseudo-load coefficients'!N286","v":0.82918074750822601},{"$f":"'Pseudo-load coefficients'!O286","v":0.70928756472680232},{"$f":"'Pseudo-load coefficients'!P286","v":0.71993458641185648},{"$f":"'Pseudo-load coefficients'!Q286","v":0.79110253955261312},{"$f":"'Pseudo-load coefficients'!R286","v":0.66039375936064448},{"$f":"'Pseudo-load coefficients'!S286","v":0.66039375936064448},{"$f":"'Pseudo-load coefficients'!T286","v":0.66039375936064448},{"$f":"'Pseudo-load coefficients'!U286","v":0.66039375936064448},{"$f":"'Pseudo-load coefficients'!V286","v":0.66039375936064448},{"$f":"'Pseudo-load coefficients'!W286","v":0.66039375936064448},{"$f":"'Pseudo-load coefficients'!X286","v":0.66039375936064448},{"$f":"'Pseudo-load coefficients'!Y286","v":0.66039375936064448}]
[null,null,null,null,null,"EHV/HV","scalar",null,null,{"$f":"'Pseudo-load coefficients'!J287","v":1.2155817714261268},{"$f":"'Pseudo-load coefficients'!K287","v":1.2155817714261268},{"$f":"'Pseudo-load coefficients'!L287","v":1.4119043796147333},{"$f":"'Pseudo-load coefficients'!M287","v":1.4119043796147333},{"$f":"'Pseudo-load coefficients'!N287","v":1.0914406328715081},{"$f":"'Pseudo-load coefficients'!O287","v":0.93362668014145112},{"$f":"'Pseudo-load coefficients'!P287","v":0.94764122657303829},{"$f":"'Pseudo-load coefficients'!Q287","v":0.92680435825893326},{"$f":"'Pseudo-load coefficients'!R287","v":0.86926835292184057},{"$f":"'Pseudo-load coefficients'!S287","v":0.86926835292184057},{"$f":"'Pseudo-load coefficients'!T287","v":0.86926835292184057},{"$f":"'Pseudo-load coefficients'!U287","v":0.86926835292184057},{"$f":"'Pseudo-load coefficients'!V287","v":0.86926835292184057},{"$f":"'Pseudo-load coefficients'!W287","v":0.86926835292184057},{"$f":"'Pseudo-load coefficients'!X287","v":0.86926835292184057},{"$f":"'Pseudo-load coefficients'!Y287","v":0.86926835292184057}]
[null,null,null,null,null,"132kV/HV","scalar",null,null,{"$f":"'Pseudo-load coefficients'!J288","v":0},{"$f":"'Pseudo-load coefficients'!K288","v":0},{"$f":"'Pseudo-load coefficients'!L288","v":0},{"$f":"'Pseudo-load coefficients'!M288","v":0},{"$f":"'Pseudo-load coefficients'!N288","v":0},{"$f":"'Pseudo-load coefficients'!O288","v":0},{"$f":"'Pseudo-load coefficients'!P288","v":0},{"$f":"'Pseudo-load coefficients'!Q288","v":0},{"$f":"'Pseudo-load coefficients'!R288","v":0},{"$f":"'Pseudo-load coefficients'!S288","v":0},{"$f":"'Pseudo-load coefficients'!T288","v":0},{"$f":"'Pseudo-load coefficients'!U288","v":0},{"$f":"'Pseudo-load coefficients'!V288","v":0},{"$f":"'Pseudo-load coefficients'!W288","v":0},{"$f":"'Pseudo-load coefficients'!X288","v":0},{"$f":"'Pseudo-load coefficients'!Y288","v":0}]
[null,null,null,null,null,"HV","scalar",null,null,{"$f":"'Pseudo-load coefficients'!J289","v":1.2155817714261268},{"$f":"'Pseudo-load coefficients'!K289","v":1.2155817714261268},{"$f":"'Pseudo-load coefficients'!L289","v":1.4119043796147333},{"$f":"'Pseudo-load coefficients'!M289","v":1.4119043796147333},{"$f":"'Pseudo-load coefficients'!N289","v":1.0914406328715081},{"$f":"'Pseudo-load coefficients'!O289","v":0.93362668014145112},{"$f":"'Pseudo-load coefficients'!P289","v":0.94764122657303829},{"$f":"'Pseudo-load coefficients'!Q289","v":0.92680435825893326},{"$f":"'Pseudo-load coefficients'!R289","v":0.86926835292184057},{"$f":"'Pseudo-load coefficients'!S289","v":0.86926835292184057},{"$f":"'Pseudo-load coefficients'!T289","v":0.86926835292184057},{"$f":"'Pseudo-load coefficients'!U289","v":0.86926835292184057},{"$f":"'Pseudo-load coefficients'!V289","v":0.86926835292184057},{"$f":"'Pseudo-load coefficients'!W289","v":0.86926835292184057},{"$f":"'Pseudo-load coefficients'!X289","v":0.86926835292184057},{"$f":"'Pseudo-load coefficients'!Y289","v":0.86926835292184057}]
[null,null,null,null,null,"HV/LV","scalar",null,null,{"$f":"'Pseudo-load coefficients'!J290","v":1.2155817714261268},{"$f":"'Pseudo-load coefficients'!K290","v":1.2155817714261268},{"$f":"'Pseudo-load coefficients'!L290","v":1.4119043796147333},{"$f":"'Pseudo-load coefficients'!M290","v":1.4119043796147333},{"$f":"'Pseudo-load coefficients'!N290","v":1.0914406328715081},{"$f":"'Pseudo-load coefficients'!O290","v":0.93362668014145112},{"$f":"'Pseudo-load coefficients'!P290","v":0.94764122657303829},{"$f":"'Pseudo-load coefficients'!Q290","v":0.92680435825893326},{"$f":"'Pseudo-load coefficients'!R290","v":0.86926835292184057},{"$f":"'Pseudo-load coefficients'!S290","v":0.86926835292184057},{"$f":"'Pseudo-load coefficients'!T290","v":0.86926835292184057},{"$f":"'Pseudo-load coefficients'!U290","v":0.86926835292184057},{"$f":"'Pseudo-load coefficients'!V290","v":0.86926835292184057},{"$f":"'Pseudo-load coefficients'!W290","v":0.86926835292184057},{"$f":"'Pseudo-load coefficients'!X290","v":0.86926835292184057},{"$f":"'Pseudo-load coefficients'!Y290","v":0.86926835292184057}]
[null,null,null,null,null,"LV circuits","scalar",null,null,{"$f":"'Pseudo-load coefficients'!J291","v":1.2155817714261268},{"$f":"'Pseudo-load coefficients'!K291","v":1.2155817714261268},{"$f":"'Pseudo-load coefficients'!L291","v":1.4119043796147333},{"$f":"'Pseudo-load coefficients'!M291","v":1.4119043796147333},{"$f":"'Pseudo-load coefficients'!N291","v":1.0914406328715081},{"$f":"'Pseudo-load coefficients'!O291","v":0.93362668014145112},{"$f":"'Pseudo-load coefficients'!P291","v":0.94764122657303829},{"$f":"'Pseudo-load coefficients'!Q291","v":0.92680435825893326},{"$f":"'Pseudo-load coefficients'!R291","v":0.86926835292184057},{"$f":"'Pseudo-load coefficients'!S291","v":0.86926835292184057},{"$f":"'Pseudo-load coefficients'!T291","v":0.86926835292184057},{"$f":"'Pseudo-load coefficients'!U291","v":0.86926835292184057},{"$f":"'Pseudo-load coefficients'!V291","v":0.86926835292184057},{"$f":"'Pseudo-load coefficients'!W291","v":0.86926835292184057},{"$f":"'Pseudo-load coefficients'!X291","v":0.86926835292184057},{"$f":"'Pseudo-load coefficients'!Y291","v":0.86926835292184057}]
[]
[null,null,null,null,"System peak load, based on unit rate 2 MWh"]
[null,null,null,null,"This is the load charged to unit rate 2, before application of standing charge factors"]
[null,null,null,null,null,"GSPs","MW",null,null,{"$f":"J$57 * J34 * J93 / hours_in_year / $H45","v":306.17748082883958},2.7821268514883548,137.62367495924715,3.4041311729516619,140.32073507451798,9.087253273494607,127.69033410494212,5.2437523066193616,-5.2033833242253968E-2,-9.3327867121054239E-4,-2.2784301605614874,0,-4.7013939498834312E-2,0,-34.436063919540167,0]
[null,null,null,null,null,"132kV","MW",null,null,{"$f":"J$57 * J35 * J94 / hours_in_year / $H46","v":0},0,0,0,0,0,0,0,0,0,0,0,0,0,0,0]
[null,null,null,null,null,"132kV/EHV","MW",null,null,{"$f":"J$57 * J36 * J95 / hours_in_year / $H47","v":0},0,0,0,0,0,0,0,0,0,0,0,0,0,0,0]
[null,null,null,null,null,"EHV","MW",null,null,{"$f":"J$57 * J37 * J96 / hours_in_year / $H48","v":304.95765022792784},2.7710426807652935,137.07537346538561,3.390568897362213,139.76168832123304,9.0510490771858638,127.18160767424514,5.2228608631666953,-5.1826527133719089E-2,-9.2956042949257211E-4,-2.2693527495632346,0,-4.6826632966966444E-2,0,-34.298868445757137,0]
[null,null,null,null,null,"EHV/HV","MW",null,null,{"$f":"J$57 * J38 * J97 / hours_in_year / $H49","v":397.84573642310295},3.6150839802344334,178.8276269214706,4.4233137908038751,182.33217554089418,11.80793884929038,165.92028541279871,6.0644024225641084,-6.7612545015203321E-2,-1.2126983971211757E-3,-2.9605826093524117,0,-6.1089716106590766E-2,0,-44.746077250669067,0]
[null,null,null,null,null,"132kV/HV","MW",null,null,{"$f":"J$57 * J39 * J98 / hours_in_year / $H50","v":0},0,0,0,0,0,0,0,0,0,0,0,0,0,0,0]
[null,null,null,null,null,"HV","MW",null,null,{"$f":"J$57 * J40 * J99 / hours_in_year / $H51","v":392.80480603957432},3.5692788225901371,176.56177979673458,4.3672679045656189,180.02192380402124,11.658325589016719,163.81798160152542,5.9875630156505277,-6.6755855848344009E-2,-1.1973328228886461E-3,-2.9230703540682188,0,-6.0315674869372747E-2,0,0,0]
[null,null,null,null,null,"HV/LV","MW",null,null,{"$f":"J$57 * J41 * J100 / hours_in_year / $H52","v":386.03230938371956},3.5077395325454797,173.5176111795495,4.2919701820731087,176.91809753153811,11.457319975412982,0,5.8843291705531042,-6.560489281647601E-2,0,-2.8726725893429048,0,0,0,0,0]
[null,null,null,null,null,"LV circuits","MW",null,null,{"$f":"J$57 * J42 * J101 / hours_in_year / $H53","v":367.04711384025791},3.3352277522563574,164.98395817071918,4.0808896813154147,168.21720748900344,0,0,5.5949359326570498,0,0,0,0,0,0,0,0]
[]
[null,null,null,null,"Pseudo load coefficient, unit rate 3"]
[null,null,null,null,null,"GSPs","scalar",null,null,{"$f":"'Pseudo-load coefficients'!J294","v":1.4805259537586315E-2},{"$f":"'Pseudo-load coefficients'!K294","v":1.4805259537586315E-2},{"$f":"'Pseudo-load coefficients'!L294","v":1.7196383882860215E-2},{"$f":"'Pseudo-load coefficients'!M294","v":1.7196383882860215E-2},{"$f":"'Pseudo-load coefficients'!N294","v":1.3293274232446117E-2},{"$f":"'Pseudo-load coefficients'!O294","v":1.1371168633511621E-2},{"$f":"'Pseudo-load coefficients'!P294","v":1.1541859739695104E-2},{"$f":"'Pseudo-load coefficients'!Q294","v":1.163653936983337E-2},{"$f":"'Pseudo-load coefficients'!R294","v":1.0587312079975646E-2},{"$f":"'Pseudo-load coefficients'!S294","v":1.0587312079975646E-2},{"$f":"'Pseudo-load coefficients'!T294","v":1.0587312079975646E-2},{"$f":"'Pseudo-load coefficients'!U294","v":1.0587312079975646E-2},{"$f":"'Pseudo-load coefficients'!V294","v":1.0587312079975646E-2},{"$f":"'Pseudo-load coefficients'!W294","v":1.0587312079975646E-2},{"$f":"'Pseudo-load coefficients'!X294","v":1.0587312079975646E-2},{"$f":"'Pseudo-load coefficients'!Y294","v":1.0587312079975646E-2}]
[null,null,null,null,null,"132kV","scalar",null,null,{"$f":"'Pseudo-load coefficients'!J295","v":0},{"$f":"'Pseudo-load coefficients'!K295","v":0},{"$f":"'Pseudo-load coefficients'!L295","v":0},{"$f":"'Pseudo-load coefficients'!M295","v":0},{"$f":"'Pseudo-load coefficients'!N295","v":0},{"$f":"'Pseudo-load coefficients'!O295","v":0},{"$f":"'Pseudo-load coefficients'!P295","v":0},{"$f":"'Pseudo-load coefficients'!Q295","v":0},{"$f":"'Pseudo-load coefficients'!R295","v":0},{"$f":"'Pseudo-load coefficients'!S295","v":0},{"$f":"'Pseudo-load coefficients'!T295","v":0},{"$f":"'Pseudo-load coefficients'!U295","v":0},{"$f":"'Pseudo-load coefficients'!V295","v":0},{"$f":"'Pseudo-load coefficients'!W295","v":0},{"$f":"'Pseudo-load coefficients'!X295","v":0},{"$f":"'Pseudo-load coefficients'!Y295","v":0}]
[null,null,null,null,null,"132kV/EHV","scalar",null,null,{"$f":"'Pseudo-load coefficients'!J296","v":0},{"$f":"'Pseudo-load coefficients'!K296","v":0},{"$f":"'Pseudo-load coefficients'!L296","v":0},{"$f":"'Pseudo-load coefficients'!M296","v":0},{"$f":"'Pseudo-load coefficients'!N296","v":0},{"$f":"'Pseudo-load coefficients'!O296","v":0},{"$f":"'Pseudo-load coefficients'!P296","v":0},{"$f":"'Pseudo-load coefficients'!Q296","v":0},{"$f":"'Pseudo-load coefficients'!R296","v":0},{"$f":"'Pseudo-load coefficients'!S296","v":0},{"$f":"'Pseudo-load coefficients'!T296","v":0},{"$f":"'Pseudo-load coefficients'!U296","v":0},{"$f":"'Pseudo-load coefficients'!V296","v":0},{"$f":"'Pseudo-load coefficients'!W296","v":0},{"$f":"'Pseudo-load coefficients'!X296","v":0},{"$f":"'Pseudo-load coefficients'!Y296","v":0}]
[null,null,null,null,null,"EHV","scalar",null,null,{"$f":"'Pseudo-load coefficients'!J297","v":1.4805259537586315E-2},{"$f":"'Pseudo-load coefficients'!K297","v":1.4805259537586315E-2},{"$f":"'Pseudo-load coefficients'!L297","v":1.7196383882860215E-2},{"$f":"'Pseudo-load coefficients'!M297","v":1.7196383882860215E-2},{"$f":"'Pseudo-load coefficients'!N297","v":1.3293274232446117E-2},{"$f":"'Pseudo-load coefficients'!O297","v":1.1371168633511621E-2},{"$f":"'Pseudo-load coefficients'!P297","v":1.1541859739695104E-2},{"$f":"'Pseudo-load coefficients'!Q297","v":1.163653936983337E-2},{"$f":"'Pseudo-load coefficients'!R297","v":1.0587312079975646E-2},{"$f":"'Pseudo-load coefficients'!S297","v":1.0587312079975646E-2},{"$f":"'Pseudo-load coefficients'!T297","v":1.0587312079975646E-2},{"$f":"'Pseudo-load coefficients'!U297","v":1.0587312079975646E-2},{"$f":"'Pseudo-load coefficients'!V297","v":1.0587312079975646E-2},{"$f":"'Pseudo-load coefficients'!W297","v":1.0587312079975646E-2},{"$f":"'Pseudo-load coefficients'!X297","v":1.0587312079975646E-2},{"$f":"'Pseudo-load coefficients'!Y297","v":1.0587312079975646E-2}]
[null,null,null,null,null,"EHV/HV","scalar",null,null,{"$f":"'Pseudo-load coefficients'!J298","v":4.1322546283744134E-2},{"$f":"'Pseudo-load coefficients'!K298","v":4.1322546283744134E-2},{"$f":"'Pseudo-load coefficients'!L298","v":4.7996346643469308E-2},{"$f":"'Pseudo-load coefficients'!M298","v":4.7996346643469308E-2},{"$f":"'Pseudo-load coefficients'!N298","v":3.7102486338602317E-2},{"$f":"'Pseudo-load coefficients'!O298","v":3.1737751098900924E-2},{"$f":"'Pseudo-load coefficients'!P298","v":3.2214162276805902E-2},{"$f":"'Pseudo-load coefficients'!Q298","v":3.2478419947438684E-2},{"$f":"'Pseudo-load coefficients'!R298","v":2.9549950970772461E-2},{"$f":"'Pseudo-load coefficients'!S298","v":2.9549950970772461E-2},{"$f":"'Pseudo-load coefficients'!T298","v":2.9549950970772461E-2},{"$f":"'Pseudo-load coefficients'!U298","v":2.9549950970772461E-2},{"$f":"'Pseudo-load coefficients'!V298","v":2.9549950970772461E-2},{"$f":"'Pseudo-load coefficients'!W298","v":2.9549950970772461E-2},{"$f":"'Pseudo-load coefficients'!X298","v":2.9549950970772461E-2},{"$f":"'Pseudo-load coefficients'!Y298","v":2.9549950970772461E-2}]
[null,null,null,null,null,"132kV/HV","scalar",null,null,{"$f":"'Pseudo-load coefficients'!J299","v":0},{"$f":"'Pseudo-load coefficients'!K299","v":0},{"$f":"'Pseudo-load coefficients'!L299","v":0},{"$f":"'Pseudo-load coefficients'!M299","v":0},{"$f":"'Pseudo-load coefficients'!N299","v":0},{"$f":"'Pseudo-load coefficients'!O299","v":0},{"$f":"'Pseudo-load coefficients'!P299","v":0},{"$f":"'Pseudo-load coefficients'!Q299","v":0},{"$f":"'Pseudo-load coefficients'!R299","v":0},{"$f":"'Pseudo-load coefficients'!S299","v":0},{"$f":"'Pseudo-load coefficients'!T299","v":0},{"$f":"'Pseudo-load coefficients'!U299","v":0},{"$f":"'Pseudo-load coefficients'!V299","v":0},{"$f":"'Pseudo-load coefficients'!W299","v":0},{"$f":"'Pseudo-load coefficients'!X299","v":0},{"$f":"'Pseudo-load coefficients'!Y299","v":0}]
[null,null,null,null,null,"HV","scalar",null,null,{"$f":"'Pseudo-load coefficients'!J300","v":4.1322546283744134E-2},{"$f":"'Pseudo-load coefficients'!K300","v":4.1322546283744134E-2},{"$f":"'Pseudo-load coefficients'!L300","v":4.7996346643469308E-2},{"$f":"'Pseudo-load coefficients'!M300","v":4.7996346643469308E-2},{"$f":"'Pseudo-load coefficients'!N300","v":3.7102486338602317E-2},{"$f":"'Pseudo-load coefficients'!O300","v":3.1737751098900924E-2},{"$f":"'Pseudo-load coefficients'!P300","v":3.2214162276805902E-2},{"$f":"'Pseudo-load coefficients'!Q300","v":3.2478419947438684E-2},{"$f":"'Pseudo-load coefficients'!R300","v":2.9549950970772461E-2},{"$f":"'Pseudo-load coefficients'!S300","v":2.9549950970772461E-2},{"$f":"'Pseudo-load coefficients'!T300","v":2.9549950970772461E-2},{"$f":"'Pseudo-load coefficients'!U300","v":2.9549950970772461E-2},{"$f":"'Pseudo-load coefficients'!V300","v":2.9549950970772461E-2},{"$f":"'Pseudo-load coefficients'!W300","v":2.9549950970772461E-2},{"$f":"'Pseudo-load coefficients'!X300","v":2.9549950970772461E-2},{"$f":"'Pseudo-load coefficients'!Y300","v":2.9549950970772461E-2}]
[null,null,null,null,null,"HV/LV","scalar",null,null,{"$f":"'Pseudo-load coefficients'!J301","v":4.1322546283744134E-2},{"$f":"'Pseudo-load coefficients'!K301","v":4.1322546283744134E-2},{"$f":"'Pseudo-load coefficients'!L301","v":4.7996346643469308E-2},{"$f":"'Pseudo-load coefficients'!M301","v":4.7996346643469308E-2},{"$f":"'Pseudo-load coefficients'!N301","v":3.7102486338602317E-2},{"$f":"'Pseudo-load coefficients'!O301","v":3.1737751098900924E-2},{"$f":"'Pseudo-load coefficients'!P301","v":3.2214162276805902E-2},{"$f":"'Pseudo-load coefficients'!Q301","v":3.2478419947438684E-2},{"$f":"'Pseudo-load coefficients'!R301","v":2.9549950970772461E-2},{"$f":"'Pseudo-load coefficients'!S301","v":2.9549950970772461E-2},{"$f":"'Pseudo-load coefficients'!T301","v":2.9549950970772461E-2},{"$f":"'Pseudo-load coefficients'!U301","v":2.9549950970772461E-2},{"$f":"'Pseudo-load coefficients'!V301","v":2.9549950970772461E-2},{"$f":"'Pseudo-load coefficients'!W301","v":2.9549950970772461E-2},{"$f":"'Pseudo-load coefficients'!X301","v":2.9549950970772461E-2},{"$f":"'Pseudo-load coefficients'!Y301","v":2.9549950970772461E-2}]
[null,null,null,null,null,"LV circuits","scalar",null,null,{"$f":"'Pseudo-load coefficients'!J302","v":4.1322546283744134E-2},{"$f":"'Pseudo-load coefficients'!K302","v":4.1322546283744134E-2},{"$f":"'Pseudo-load coefficients'!L302","v":4.7996346643469308E-2},{"$f":"'Pseudo-load coefficients'!M302","v":4.7996346643469308E-2},{"$f":"'Pseudo-load coefficients'!N302","v":3.7102486338602317E-2},{"$f":"'Pseudo-load coefficients'!O302","v":3.1737751098900924E-2},{"$f":"'Pseudo-load coefficients'!P302","v":3.2214162276805902E-2},{"$f":"'Pseudo-load coefficients'!Q302","v":3.2478419947438684E-2},{"$f":"'Pseudo-load coefficients'!R302","v":2.9549950970772461E-2},{"$f":"'Pseudo-load coefficients'!S302","v":2.9549950970772461E-2},{"$f":"'Pseudo-load coefficients'!T302","v":2.9549950970772461E-2},{"$f":"'Pseudo-load coefficients'!U302","v":2.9549950970772461E-2},{"$f":"'Pseudo-load coefficients'!V302","v":2.9549950970772461E-2},{"$f":"'Pseudo-load coefficients'!W302","v":2.9549950970772461E-2},{"$f":"'Pseudo-load coefficients'!X302","v":2.9549950970772461E-2},{"$f":"'Pseudo-load coefficients'!Y302","v":2.9549950970772461E-2}]
[]
[null,null,null,null,"System peak load, based on unit rate 3 MWh"]
[null,null,null,null,"This is the load charged to unit rate 3, before application of standing charge factors"]
[null,null,null,null,null,"GSPs","MW",null,null,{"$f":"J$58 * J34 * J116 / hours_in_year / $H45","v":4.5205416338402369},0.45560925935391994,2.1311121789964806,0.11329227309005457,1.9645160554211145,0.14407877457477949,2.1917211025079286,0.2762848223523367,-9.3023333000202759E-4,-2.0196429587581949E-5,-4.1113386810665425E-2,0,-1.0186049244787544E-3,0,-0.62938392414615973,0]
[null,null,null,null,null,"132kV","MW",null,null,{"$f":"J$58 * J35 * J117 / hours_in_year / $H46","v":0},0,0,0,0,0,0,0,0,0,0,0,0,0,0,0]
[null,null,null,null,null,"132kV/EHV","MW",null,null,{"$f":"J$58 * J36 * J118 / hours_in_year / $H47","v":0},0,0,0,0,0,0,0,0,0,0,0,0,0,0,0]
[null,null,null,null,null,"EHV","MW",null,null,{"$f":"J$58 * J37 * J119 / hours_in_year / $H48","v":4.5025315078090005},0.45379408302183261,2.1226216922275705,0.11284090945224559,1.9566892982282018,0.14350475555256922,2.1829891459242319,0.27518408600830346,-9.2652722111755733E-4,-2.0115965724683215E-5,-4.0949588456838076E-2,0,-1.0145467375286398E-3,0,-0.6268764184722706,0]
[null,null,null,null,null,"EHV/HV","MW",null,null,{"$f":"J$58 * J38 * J120 / hours_in_year / $H49","v":12.455239353141412},1.2553191268675106,5.8717548532446511,0.31214896189317154,5.4127402566521647,0.39697358599741761,6.0387478178974332,0.76123479679473427,-2.5630288841300636E-3,-5.5646288645837635E-5,-0.11327781377164567,0,-2.8065150524659E-3,0,-1.734112426169697,0]
[null,null,null,null,null,"132kV/HV","MW",null,null,{"$f":"J$58 * J39 * J121 / hours_in_year / $H50","v":0},0,0,0,0,0,0,0,0,0,0,0,0,0,0,0]
[null,null,null,null,null,"HV","MW",null,null,{"$f":"J$58 * J40 * J122 / hours_in_year / $H51","v":12.297424429563597},1.2394135238955049,5.7973563999384314,0.30819385808750754,5.344157777766708,0.39194370625281089,5.9622334693275816,0.75158952159168202,-2.5305538592824113E-3,-5.4941218711728573E-5,-0.11184251983496787,0,-2.7709549202221797E-3,0,0,0]
[null,null,null,null,null,"HV/LV","MW",null,null,{"$f":"J$58 * J41 * J123 / hours_in_year / $H52","v":12.085399870433189},1.2180443252076514,5.6974019792498378,0.30288017087910224,5.2520171264259021,0.38518605614500384,0,0.73863108156423918,-2.4869236203292661E-3,0,-0.10991420052746843,0,0,0,0,0]
[null,null,null,null,null,"LV circuits","MW",null,null,{"$f":"J$58 * J42 * J124 / hours_in_year / $H53","v":11.491035942379098},1.1581405059351439,5.4172018819096817,0.28798442477029396,4.9937212021754478,0,0,0.70230496279878474,0,0,0,0,0,0,0,0]
[]
[null,null,{"$f":"INDEX('Version control'!$H$34:$H$58,MATCH($A$1,'Version control'!$F$34:$F$58,0),1)&\"-C: System peak load, all unit rates\"","v":"Section 509-C: System peak load, all unit rates"}]
[]
[null,null,null,null,"System peak load, all unit rates, by customer category"]
[null,null,null,null,"This is the load charged to unit rates, before application of standing charge factors"]
[null,null,null,null,null,"GSPs","MW",null,null,{"$f":"J82 + J105 + J128","v":1386.4713030543721},5.1559980267560368,456.91138811350123,10.519747246525604,508.24426379200531,33.512184297916328,473.35255653173618,49.020815047446781,-0.19766654104724962,-3.780660295578114E-3,-8.6550262997882239,0,-0.19011168964667813,0,-147.1402947575167,0]
[null,null,null,null,null,"132kV","MW",null,null,0,0,0,0,0,0,0,0,0,0,0,0,0,0,0,0]
[null,null,null,null,null,"132kV/EHV","MW",null,null,0,0,0,0,0,0,0,0,0,0,0,0,0,0,0,0]
[null,null,null,null,null,"EHV","MW",null,null,1380.9475130023627,5.1354562019482444,455.09102401743155,10.477835902913949,506.21938624701716,33.378669619438575,471.46668977264562,48.825512995464919,-0.19687902494745976,-3.7655979039622647E-3,-8.6205441232950459,0,-0.18935427255645229,0,-146.5540784437417,0]
[null,null,null,null,null,"EHV/HV","MW",null,null,1340.6027834875406,6.5292680001366268,458.96847224010537,10.790897115397559,504.21711042252076,33.202385739680942,468.9837261118405,45.577557390515508,-0.19531065209196408,-3.7132236810808032E-3,-8.5526273377054132,0,-0.18676271987373558,0,-143.3997121858535,0]
[null,null,null,null,null,"132kV/HV","MW",null,null,0,0,0,0,0,0,0,0,0,0,0,0,0,0,0,0]
[null,null,null,null,null,"HV","MW",null,null,1323.616588375125,6.4465384835656936,453.15308224096168,10.654170348828194,{"$f":"N88 + N111 + N134","v":497.82839459845371},32.781692742979324,463.0414371844974,45.00006397328675,-0.19283595572042844,-3.6661750379482E-3,-8.4442607145181121,0,-0.18439633063556929,0,0,0]
[null,null,null,null,null,"HV/LV","MW",null,null,1300.7956127134848,6.3353912683318026,445.34009806439332,10.470477756607018,489.24514641572171,32.216491143962443,0,44.224200801333524,-0.18951119786317966,0,-8.2986700125436617,0,0,0,0,0]
[null,null,null,null,null,"LV circuits","MW",null,null,1236.8220579898709,6.0238146485777797,423.43812602843957,9.9555362275935551,465.18390970675176,0,0,42.049240106185977,0,0,0,0,0,0,0,0]
[]
[null,null,null,null,"System peak load, all unit rates, total"]
[null,null,null,null,"This step sums system peak load by network level in kW, which is an input to the EDCM model"]
[null,null,null,null,null,"GSPs","kW",{"$f":"SUM(J142:Y142) * thousand","v":2767001.376161966}]
[null,null,null,null,null,"132kV","kW",0]
[null,null,null,null,null,"132kV/EHV","kW",0]
[null,null,null,null,null,"EHV","kW",2755977.4662967776]
[null,null,null,null,null,"EHV/HV","kW",2716534.0743885324]
[null,null,null,null,null,"132kV/HV","kW",0]
[null,null,null,null,null,"HV","kW",2823696.8087717858]
[null,null,null,null,null,"HV/LV","kW",2320139.2369534275]
[null,null,null,null,null,"LV circuits","kW",2183472.6847074195]
[]
[null,null,{"$f":"INDEX('Version control'!$H$34:$H$58,MATCH($A$1,'Version control'!$F$34:$F$58,0),1)&\"-D: Unit rate contributions to chargeable peak load\"","v":"Section 509-D: Unit rate contributions to chargeable peak load"}]
[]
[null,null,null,null,"Unit rate contributions to chargeable peak load"]
[null,null,null,null,"This is the load charged to unit rates (adjusted for standing charge factors)"]
[null,null,null,null,null,"GSPs","MW",null,null,{"$f":"J142 * (1 - J23)","v":1386.4713030543721},5.1559980267560368,456.91138811350123,10.519747246525604,508.24426379200531,33.512184297916328,473.35255653173618,49.020815047446781,-0.19766654104724962,-3.780660295578114E-3,-8.6550262997882239,0,-0.19011168964667813,0,-147.1402947575167,0]
[null,null,null,null,null,"132kV","MW",null,null,0,0,0,0,0,0,0,0,0,0,0,0,0,0,0,0]
[null,null,null,null,null,"132kV/EHV","MW",null,null,0,0,0,0,0,0,0,0,0,0,0,0,0,0,0,0]
[null,null,null,null,null,"EHV","MW",null,null,1380.9475130023627,5.1354562019482444,455.09102401743155,10.477835902913949,506.21938624701716,33.378669619438575,377.17335181811654,48.825512995464919,-0.19687902494745976,-3.7655979039622647E-3,-8.6205441232950459,0,-0.18935427255645229,0,-146.5540784437417,0]
[null,null,null,null,null,"EHV/HV","MW",null,null,1340.6027834875406,6.5292680001366268,458.96847224010537,10.790897115397559,504.21711042252076,33.202385739680942,0,45.577557390515508,-0.19531065209196408,-3.7132236810808032E-3,-8.5526273377054132,0,-0.18676271987373558,0,-143.3997121858535,0]
[null,null,null,null,null,"132kV/HV","MW",null,null,0,0,0,0,0,0,0,0,0,0,0,0,0,0,0,0]
[null,null,null,null,null,"HV","MW",null,null,1323.616588375125,6.4465384835656936,453.15308224096168,10.654170348828194,398.26271567876302,0,0,45.00006397328675,-0.19283595572042844,-3.6661750379482E-3,-8.4442607145181121,0,-0.18439633063556929,0,0,0]
[null,null,null,null,null,"HV/LV","MW",null,null,1300.7956127134848,6.3353912683318026,445.34009806439332,10.470477756607018,0,0,0,44.224200801333524,-0.18951119786317966,0,-8.2986700125436617,0,0,0,0,0]
[null,null,null,null,null,"LV circuits","MW",null,null,0,0,0,0,0,0,0,42.049240106185977,0,0,0,0,0,0,0,0]
[null,null,null,null,null,"Total","MW",null,null,{"$f":"SUM(J168:J176)","v":6732.4338006328844},29.602651980738401,2269.4640646763933,52.913128370272325,1916.9434761403063,100.09323965703584,850.52590834985267,274.69739031423342,-0.97220337167028159,-1.4925656918569383E-2,-42.571128487850451,0,-0.75062501271243531,0,-437.09408538711187,0]
[]
[null,"Load at system peak charged to standing charges"]
[]
[null,null,"This section calculates load subject to fixed and capacity charges"]
[null,null,"As part of this, it also calculates the LV diversity factor in line with Paragraph 80"]
[]
[null,null,{"$f":"INDEX('Version control'!$H$34:$H$58,MATCH($A$1,'Version control'!$F$34:$F$58,0),1)&\"-E: Adjustment of import and exceeded capacity\"","v":"Section 509-E: Adjustment of import and exceeded capacity"}]
[]
[null,null,null,"This brings in import and exceeded capacity (in kVA), and converts it to MW"]
[]
[null,null,null,null,"Import capacity",null,"kVA",null,null,{"$f":"'Volume adjustments'!J114","v":0},{"$f":"'Volume adjustments'!K114","v":0},{"$f":"'Volume adjustments'!L114","v":0},{"$f":"'Volume adjustments'!M114","v":0},{"$f":"'Volume adjustments'!N114","v":1506481.4576925465},{"$f":"'Volume adjustments'!O114","v":101792.04616244261},{"$f":"'Volume adjustments'!P114","v":1304272.7020126332},{"$f":"'Volume adjustments'!Q114","v":0},{"$f":"'Volume adjustments'!R114","v":0},{"$f":"'Volume adjustments'!S114","v":0},{"$f":"'Volume adjustments'!T114","v":0},{"$f":"'Volume adjustments'!U114","v":0},{"$f":"'Volume adjustments'!V114","v":0},{"$f":"'Volume adjustments'!W114","v":0},{"$f":"'Volume adjustments'!X114","v":0},{"$f":"'Volume adjustments'!Y114","v":0}]
[null,null,null,null,"Exceeded capacity",null,"kVA",null,null,{"$f":"'Volume adjustments'!J125","v":0},{"$f":"'Volume adjustments'!K125","v":0},{"$f":"'Volume adjustments'!L125","v":0},{"$f":"'Volume adjustments'!M125","v":0},{"$f":"'Volume adjustments'!N125","v":29633.952584846371},{"$f":"'Volume adjustments'!O125","v":1042.17},{"$f":"'Volume adjustments'!P125","v":16278.596851006316},{"$f":"'Volume adjustments'!Q125","v":0},{"$f":"'Volume adjustments'!R125","v":0},{"$f":"'Volume adjustments'!S125","v":0},{"$f":"'Volume adjustments'!T125","v":0},{"$f":"'Volume adjustments'!U125","v":0},{"$f":"'Volume adjustments'!V125","v":0},{"$f":"'Volume adjustments'!W125","v":0},{"$f":"'Volume adjustments'!X125","v":0},{"$f":"'Volume adjustments'!Y125","v":0}]
[]
[null,null,null,null,"Import and exceeded capacity",null,"kVA",null,null,{"$f":"SUM(J188:J189)","v":0},0,0,0,1536115.4102773929,102834.21616244261,1320551.2988636396,0,0,0,0,0,0,0,0,0]
[null,null,null,null,"Adjusted import capacities and exceeded capacity",null,"MW",null,null,{"$f":"J191 * PowerFactor / thousand","v":0},0,0,0,1459.3096397635231,97.692505354320474,1254.5237339204575,0,0,0,0,0,0,0,0,0]
[]
[null,null,{"$f":"INDEX('Version control'!$H$34:$H$58,MATCH($A$1,'Version control'!$F$34:$F$58,0),1)&\"-F: Calculation of LV circuit diversity factor\"","v":"Section 509-F: Calculation of LV circuit diversity factor"}]
[]
[null,null,null,"Recalculates LV diversity factor in line with Paragraph 80. See the User Guide for additional detail."]
[]
[null,null,null,null,"Flag for customers included in aggregate maximum demand",null,"TRUE / FALSE",null,">",{"$f":"'Fixed inputs'!J131","v":true},{"$f":"'Fixed inputs'!K131","v":false},{"$f":"'Fixed inputs'!L131","v":true},{"$f":"'Fixed inputs'!M131","v":false},{"$f":"'Fixed inputs'!N131","v":true},{"$f":"'Fixed inputs'!O131","v":true},{"$f":"'Fixed inputs'!P131","v":true},{"$f":"'Fixed inputs'!Q131","v":true},{"$f":"'Fixed inputs'!R131","v":true},{"$f":"'Fixed inputs'!S131","v":true},{"$f":"'Fixed inputs'!T131","v":true},{"$f":"'Fixed inputs'!U131","v":true},{"$f":"'Fixed inputs'!V131","v":true},{"$f":"'Fixed inputs'!W131","v":true},{"$f":"'Fixed inputs'!X131","v":true},{"$f":"'Fixed inputs'!Y131","v":true},null,"Paragraph 80"]
[]
[null,null,null,null,"Estimated capacity (maximum load)",null,"MW",null,">",{"$f":"IF(J61 = 0, 0, J59 / (hours_in_year * J61))","v":1482.2201033071178},310.25539511865327,603.09926192279704,29.271123921146547,577.18884698315355,40.190979829404341,537.444083952818,63.804570784787025,null,null,null,null,null,null,null,null,null,"Paragraph 80"]
[]
[null,null,null,null,"Import + exceeded capacity, LV circuits",null,"MW",null,">",{"$f":"J192 * J42 / $H53","v":0},0,0,0,1459.3096397635231,0,0,0,0,0,0,0,0,0,0,0,null,"Paragraph 80"]
[]
[null,null,null,null,"Estimated capacity, LV circuits, excluding related MPANs",null,"MW",null,null,{"$f":"IF(J198, J$200 * J42 / $H53, 0)","v":1482.2201033071178},0,603.09926192279704,0,577.18884698315355,0,0,63.804570784787018,0,0,0,0,0,0,0,0]
[]
[null,null,null,null,"Aggregate maximum load, LV circuits",null,"MW",null,null,{"$f":"IF(J202 = 0, J204, J202)","v":1482.2201033071178},0,603.09926192279704,0,1459.3096397635231,0,0,63.804570784787018,0,0,0,0,0,0,0,0]
[]
[null,null,null,null,"LV peak load",null,"MW",null,">",{"$f":"J150","v":1236.8220579898709},6.0238146485777797,423.43812602843957,9.9555362275935551,465.18390970675176,0,0,42.049240106185977,0,0,0,0,0,0,0,0,null,"Paragraph 80"]
[]
[null,null,null,null,"Calculated LV diversity factor",null,"%",{"$f":"SUM(J206:Y206) / SUM(J208:Y208) - 1","v":0.65261219022840544}]
[]
[null,null,null,null,"Adjusted network model cumulative diversity factor",null,null,null,null,null,null,null,null,null,null,null,null,null,null,null,null,null,null,null,null,null,"Paragraph 80"]
[null,null,null,null,"Cumulative diversity factor from the network model"]
[null,null,null,null,null,"GSPs","%",{"$f":"TRANSPOSE('Load & loss characteristics'!K23:S23)","v":0.1160000000000001}]
[null,null,null,null,null,"132kV","%",0.1160000000000001]
[null,null,null,null,null,"132kV/EHV","%",0.1160000000000001]
[null,null,null,null,null,"EHV","%",0.26107999999999998]
[null,null,null,null,null,"EHV/HV","%",0.26107999999999998]
[null,null,null,null,null,"132kV/HV","%",0.1160000000000001]
[null,null,null,null,null,"HV","%",0.57634999999999992]
[null,null,null,null,null,"HV/LV","%",0.57634999999999992]
[null,null,null,null,null,"LV circuits","%",0.57634999999999992]
[]
[null,null,null,null,"Network model diversity factor, with calculated LV value",null,null,null,null,null,null,null,null,null,null,null,null,null,null,null,null,null,null,null,null,null,"Paragraph 80"]
[null,null,null,null,"Substitutes the calculated LV diversity factor for the LV diversity factor from the network model"]
[null,null,null,null,null,"GSPs","%",{"$f":"IF(F226 = $F$234, $H$210, H214)","v":0.1160000000000001}]
[null,null,null,null,null,"132kV","%",0.1160000000000001]
[null,null,null,null,null,"132kV/EHV","%",0.1160000000000001]
[null,null,null,null,null,"EHV","%",0.26107999999999998]
[null,null,null,null,null,"EHV/HV","%",0.26107999999999998]
[null,null,null,null,null,"132kV/HV","%",0.1160000000000001]
[null,null,null,null,null,"HV","%",0.57634999999999992]
[null,null,null,null,null,"HV/LV","%",0.57634999999999992]
[null,null,null,null,null,"LV circuits","%",{"$f":"IF(F234 = $F$234, $H$210, H222)","v":0.65261219022840544}]
[]
[null,null,{"$f":"INDEX('Version control'!$H$34:$H$58,MATCH($A$1,'Version control'!$F$34:$F$58,0),1)&\"-G: Import/exceeded capacity contribution to system peak\"","v":"Section 509-G: Import/exceeded capacity contribution to system peak"}]
[]
[null,null,null,null,"System peak load based on load charged to import & exceeded capacity charges"]
[null,null,null,null,null,"GSPs","MW",null,null,{"$f":"J$192 * J23 * J34 / (1 + $H226) / $H45","v":0},0,0,0,0,0,0,0,0,0,0,0,0,0,0,0]
[null,null,null,null,null,"132kV","MW",null,null,0,0,0,0,0,0,0,0,0,0,0,0,0,0,0,0]
[null,null,null,null,null,"132kV/EHV","MW",null,null,0,0,0,0,0,0,0,0,0,0,0,0,0,0,0,0]
[null,null,null,null,null,"EHV","MW",null,null,0,0,0,0,0,0,203.31990005568957,0,0,0,0,0,0,0,0,0]
[null,null,null,null,null,"EHV/HV","MW",null,null,0,0,0,0,0,0,1007.567520512894,0,0,0,0,0,0,0,0,0]
[null,null,null,null,null,"132kV/HV","MW",null,null,0,0,0,0,0,0,0,0,0,0,0,0,0,0,0,0]
[null,null,null,null,null,"HV","MW",null,null,0,0,0,0,198.14347496203465,63.061127894837981,795.84085635833264,0,0,0,0,0,0,0,0,0]
[null,null,null,null,null,"HV/LV","MW",null,null,0,0,0,0,973.6360407617218,61.973867069064909,0,0,0,0,0,0,0,0,0,0]
[null,null,null,null,null,"LV circuits","MW",null,null,0,0,0,0,883.03211630178885,0,0,0,0,0,0,0,0,0,0,0]
[]
[null,null,{"$f":"INDEX('Version control'!$H$34:$H$58,MATCH($A$1,'Version control'!$F$34:$F$58,0),1)&\"-H: Estimated capacity contribution to system peak\"","v":"Section 509-H: Estimated capacity contribution to system peak"}]
[]
[null,null,null,null,"System peak load based on load used to determine fixed charges"]
[null,null,null,null,null,"GSPs","MW",null,null,{"$f":"IF(AND(J$192 = 0, J$198), J$200 * J23 * J34 / (1 + $H226) / $H45, 0)","v":0},0,0,0,0,0,0,0,0,0,0,0,0,0,0,0]
[null,null,null,null,null,"132kV","MW",null,null,0,0,0,0,0,0,0,0,0,0,0,0,0,0,0,0]
[null,null,null,null,null,"132kV/EHV","MW",null,null,0,0,0,0,0,0,0,0,0,0,0,0,0,0,0,0]
[null,null,null,null,null,"EHV","MW",null,null,0,0,0,0,0,0,0,0,0,0,0,0,0,0,0,0]
[null,null,null,null,null,"EHV/HV","MW",null,null,0,0,0,0,0,0,0,0,0,0,0,0,0,0,0,0]
[null,null,null,null,null,"132kV/HV","MW",null,null,0,0,0,0,0,0,0,0,0,0,0,0,0,0,0,0]
[null,null,null,null,null,"HV","MW",null,null,0,0,0,0,0,0,0,0,0,0,0,0,0,0,0,0]
[null,null,null,null,null,"HV/LV","MW",null,null,0,0,0,0,0,0,0,0,0,0,0,0,0,0,0,0]
[null,null,null,null,null,"LV circuits","MW",null,null,896.89529828668515,0,364.93695586224828,0,0,0,0,0,0,0,0,0,0,0,0,0]
[]
[null,"System peak based on chargeable load"]
[]
[null,null,"This section aggregates the system peak load charged to unit rates, capacity charges, and fixed charges"]
[]
[null,null,{"$f":"INDEX('Version control'!$H$34:$H$58,MATCH($A$1,'Version control'!$F$34:$F$58,0),1)&\"-I: System peak based on chargeable load\"","v":"Section 509-I: System peak based on chargeable load"}]
[]
[null,null,null,null,"System peak load charged to unit rates, capacity charges, and fixed charges",null,null,"Sum"]
[null,null,null,null,null,"GSPs","MW",{"$f":"SUM(J269:Y269)","v":2767.0013761619662},null,{"$f":"J239 + J252 + J168","v":1386.4713030543721},5.1559980267560368,456.91138811350123,10.519747246525604,508.24426379200531,33.512184297916328,473.35255653173618,49.020815047446781,-0.19766654104724962,-3.780660295578114E-3,-8.6550262997882239,0,-0.19011168964667813,0,-147.1402947575167,0]
[null,null,null,null,null,"132kV","MW",0,null,0,0,0,0,0,0,0,0,0,0,0,0,0,0,0,0]
[null,null,null,null,null,"132kV/EHV","MW",0,null,0,0,0,0,0,0,0,0,0,0,0,0,0,0,0,0]
[null,null,null,null,null,"EHV","MW",2865.0040283979379,null,1380.9475130023627,5.1354562019482444,455.09102401743155,10.477835902913949,506.21938624701716,33.378669619438575,580.49325187380612,48.825512995464919,-0.19687902494745976,-3.7655979039622647E-3,-8.6205441232950459,0,-0.18935427255645229,0,-146.5540784437417,0]
[null,null,null,null,null,"EHV/HV","MW",3255.1178687895863,null,1340.6027834875406,6.5292680001366268,458.96847224010537,10.790897115397559,504.21711042252076,33.202385739680942,1007.567520512894,45.577557390515508,-0.19531065209196408,-3.7132236810808032E-3,-8.5526273377054132,0,-0.18676271987373558,0,-143.3997121858535,0]
[null,null,null,null,null,"132kV/HV","MW",0,null,0,0,0,0,0,0,0,0,0,0,0,0,0,0,0,0]
[null,null,null,null,null,"HV","MW",3285.3534591398243,null,1323.616588375125,6.4465384835656936,453.15308224096168,10.654170348828194,596.4061906407976,63.061127894837981,795.84085635833264,45.00006397328675,-0.19283595572042844,-3.6661750379482E-3,-8.4442607145181121,0,-0.18439633063556929,0,0,0]
[null,null,null,null,null,"HV/LV","MW",2834.2875072245301,null,1300.7956127134848,6.3353912683318026,445.34009806439332,10.470477756607018,973.6360407617218,61.973867069064909,0,44.224200801333524,-0.18951119786317966,0,-8.2986700125436617,0,0,0,0,0]
[null,null,null,null,null,"LV circuits","MW",2186.9136105569082,null,896.89529828668515,0,364.93695586224828,0,883.03211630178885,0,0,42.049240106185977,0,0,0,0,0,0,0,0]
[]
[null,"Checks"]
[]
[null,null,null,null,"Check for error values",null,"number of issues",{"$f":"SUM(IF(ISERROR(H23:Y277), 1))","v":0}]
[]
[null,"End of sheet"]

{"sheet":"Service model assets","index":23,"n_rows":40,"n_cols":27,"rows_kept":40,"cut":false,"hidden":false,"merged":[]}
[{"$f":"MID(CELL(\"filename\",A1),FIND(\"]\",CELL(\"filename\",A1))+1,255)","v":"Service model assets"}]
[{"$f":"Cover!D21&\" - \"&Cover!D23","v":"SP Distribution - One"}]
[{"$f":"Cover!D2&\" - \"&Cover!D8&\" v\"&Cover!D10&\" - \"&Cover!D19","v":"ARP model - Release for charge setting v5 - 2021/22"}]
[{"$f":"H38 & IF(H38 = 1, \" issue\", \" issues\") &\" identified in checks on this sheet\"","v":"0 issues identified in checks on this sheet"}]
[null,"Click here to return to model map",null,null,null,null,"Units","Constants",null,"Domestic Aggregated","Domestic Aggregated (Related MPAN)","Non-Domestic Aggregated","Non-Domestic Aggregated (Related MPAN)","LV Site Specific","LV Sub Site Specific","HV Site Specific","Unmetered Supplies","LV Generation Aggregated","LV Sub Generation Aggregated","LV Generation Site Specific","LV Generation Site Specific no RP Charge","LV Sub Generation Site Specific","LV Sub Generation Site Specific no RP Charge","HV Generation Site Specific","HV Generation Site Specific no RP Charge",null,"Legal text reference"]
[]
[null,"Description"]
[]
[null,null,"This sheet calculates the notional asset value of the typical service models used by HV and LV customers"]
[null,null,"Service model and network model notional asset values are combined on the 'Unit costs' sheet"]
[]
[null,"Service model notional asset values"]
[]
[null,null,{"$f":"INDEX('Version control'!$H$34:$H$58,MATCH($A$1,'Version control'!$F$34:$F$58,0),1)&\"-A: Service model notional asset values\"","v":"Section 510-A: Service model notional asset values"}]
[]
[null,null,null,null,"Discounted MPANs",null,"MPANs",null,null,{"$f":"'Volume adjustments'!J103","v":1900944.7731327738},{"$f":"'Volume adjustments'!K103","v":100130.921763869},{"$f":"'Volume adjustments'!L103","v":126260.16198819576},{"$f":"'Volume adjustments'!M103","v":7441},{"$f":"'Volume adjustments'!N103","v":10688.330482751717},{"$f":"'Volume adjustments'!O103","v":235.94699537145465},{"$f":"'Volume adjustments'!P103","v":1279.4477972038226},{"$f":"'Volume adjustments'!Q103","v":4906.9507149127448},{"$f":"'Volume adjustments'!R103","v":167},{"$f":"'Volume adjustments'!S103","v":4},{"$f":"'Volume adjustments'!T103","v":472},{"$f":"'Volume adjustments'!U103","v":0},{"$f":"'Volume adjustments'!V103","v":8},{"$f":"'Volume adjustments'!W103","v":0},{"$f":"'Volume adjustments'!X103","v":255},{"$f":"'Volume adjustments'!Y103","v":0}]
[null,null,null,null,"Discounted annual load",null,"MWh",null,null,{"$f":"'Volume adjustments'!J92","v":5825599.3164300323},{"$f":"'Volume adjustments'!K92","v":270877.78037019382},{"$f":"'Volume adjustments'!L92","v":2201312.3060182091},{"$f":"'Volume adjustments'!M92","v":82052.814575758006},{"$f":"'Volume adjustments'!N92","v":2811232.9105622685},{"$f":"'Volume adjustments'!O92","v":236827.76010355487},{"$f":"'Volume adjustments'!P92","v":3461956.8156637559},{"$f":"'Volume adjustments'!Q92","v":256175.35170091991},{"$f":"'Volume adjustments'!R92","v":1469.6393787208365},{"$f":"'Volume adjustments'!S92","v":30.742000000000001},{"$f":"'Volume adjustments'!T92","v":64638.113999999994},{"$f":"'Volume adjustments'!U92","v":0},{"$f":"'Volume adjustments'!V92","v":1549.241},{"$f":"'Volume adjustments'!W92","v":0},{"$f":"'Volume adjustments'!X92","v":1068847.425},{"$f":"'Volume adjustments'!Y92","v":0}]
[]
[null,null,null,null,"Service model costs per MPAN / unit"]
[null,null,null,null,"Presents service model costs per customer for metered customers and per MWh for unmetered customers"]
[null,null,null,null,null,"LV customers","£ per MPAN",null,null,{"$f":"'Inputs by customer type'!J56","v":377.70000000000005},{"$f":"'Inputs by customer type'!K56","v":0},{"$f":"'Inputs by customer type'!L56","v":508.75},{"$f":"'Inputs by customer type'!M56","v":0},{"$f":"'Inputs by customer type'!N56","v":2380},{"$f":"'Inputs by customer type'!O56","v":840},{"$f":"'Inputs by customer type'!P56","v":0},null,{"$f":"'Inputs by customer type'!R56","v":0},{"$f":"'Inputs by customer type'!S56","v":0},{"$f":"'Inputs by customer type'!T56","v":0},{"$f":"'Inputs by customer type'!U56","v":0},{"$f":"'Inputs by customer type'!V56","v":0},{"$f":"'Inputs by customer type'!W56","v":0},{"$f":"'Inputs by customer type'!X56","v":0},{"$f":"'Inputs by customer type'!Y56","v":0}]
[null,null,null,null,null,"HV customers","£ per MPAN",null,null,{"$f":"'Inputs by customer type'!J57","v":0},{"$f":"'Inputs by customer type'!K57","v":0},{"$f":"'Inputs by customer type'!L57","v":0},{"$f":"'Inputs by customer type'!M57","v":0},{"$f":"'Inputs by customer type'!N57","v":0},{"$f":"'Inputs by customer type'!O57","v":0},{"$f":"'Inputs by customer type'!P57","v":12718.10554},null,{"$f":"'Inputs by customer type'!R57","v":0},{"$f":"'Inputs by customer type'!S57","v":0},{"$f":"'Inputs by customer type'!T57","v":0},{"$f":"'Inputs by customer type'!U57","v":0},{"$f":"'Inputs by customer type'!V57","v":0},{"$f":"'Inputs by customer type'!W57","v":0},{"$f":"'Inputs by customer type'!X57","v":9287},{"$f":"'Inputs by customer type'!Y57","v":9287}]
[null,null,null,null,null,"LV UMS customers","£/MWh/year",null,null,null,null,null,null,null,null,null,{"$f":"'Inputs by customer type'!Q59","v":120.51}]
[]
[null,null,null,null,"Service model notional asset value"]
[null,null,null,null,"Converts cost per customer / MWh to £s of notional asset value",null,null,null,">",null,null,null,null,null,null,null,null,null,null,null,null,null,null,null,null,null,"Paragraph 64"]
[null,null,null,null,null,"LV customers","£",null,null,{"$f":"J21 * J$16","v":717986840.81224871},0,64234857.41149459,0,25438226.548949085,198195.47611202189,0,0,0,0,0,0,0,0,0,0]
[null,null,null,null,null,"HV customers","£",null,null,0,0,0,0,0,0,16272152.117758732,0,0,0,0,0,0,0,2368185,0]
[null,null,null,null,null,"LV UMS customers","£",null,null,null,null,null,null,null,null,null,{"$f":"Q23 * Q$17","v":30871691.633477859}]
[]
[null,null,null,null,"Total service model notional asset value"]
[null,null,null,null,"Sums across customer categories to give total service model notional asset value",null,null,"Sum"]
[null,null,null,null,null,"Total LV customers","£",{"$f":"SUM(J33:Y33)","v":838729811.88228226},null,{"$f":"J27 +J29","v":717986840.81224871},0,64234857.41149459,0,25438226.548949085,198195.47611202189,0,30871691.633477859,0,0,0,0,0,0,0,0]
[null,null,null,null,null,"Total HV customers","£",{"$f":"SUM(J34:Y34)","v":18640337.117758732},null,{"$f":"J28","v":0},0,0,0,0,0,16272152.117758732,0,0,0,0,0,0,0,2368185,0]
[]
[null,"Checks"]
[]
[null,null,null,null,"Check for error values",null,"number of issues",{"$f":"SUM(IF(ISERROR(H16:Y35), 1))","v":0}]
[]
[null,"End of sheet"]

{"sheet":"Unit costs","index":24,"n_rows":133,"n_cols":23,"rows_kept":133,"cut":false,"hidden":false,"merged":[]}
[{"$f":"MID(CELL(\"filename\",A1),FIND(\"]\",CELL(\"filename\",A1))+1,255)","v":"Unit costs"}]
[{"$f":"Cover!D21&\" - \"&Cover!D23","v":"SP Distribution - One"}]
[{"$f":"Cover!D2&\" - \"&Cover!D8&\" v\"&Cover!D10&\" - \"&Cover!D19","v":"ARP model - Release for charge setting v5 - 2021/22"}]
[{"$f":"H131 & IF(H131 = 1, \" issue\", \" issues\") &\" identified in checks on this sheet\"","v":"0 issues identified in checks on this sheet"}]
[null,"Click here to return to model map",null,null,null,null,"Units","Constants",null,"Transmission exit","GSPs","132kV","132kV/EHV","EHV","EHV/HV","132kV/HV","HV","HV/LV","LV circuits","LV customers","HV customers",null,"Legal text reference"]
[]
[null,"Description"]
[]
[null,null,"This sheet calculates unit costs used in the calculation of unit rates."]
[null,null,"Two types of unit costs are calculated:"]
[null,null,null,"1. Cost per kW for incremental assets in the 500MW model."]
[null,null,null,"2. Cost per kW for other operating costs, based on notional asset values and estimated system peak load."]
[null,null,"This sheet covers areas in Schedule 16 from Paragraph 57 to 66."]
[]
[null,"500MW model costs"]
[]
[null,null,"This section calculates the incremental asset cost, per kW, based on the 500MW distribution reinforcement model"]
[]
[null,null,{"$f":"INDEX('Version control'!$H$34:$H$58,MATCH($A$1,'Version control'!$F$34:$F$58,0),1)&\"-A: Financial data\"","v":"Section 511-A: Financial data"}]
[]
[null,null,null,"Calculates the annuity rate to be applied to asset costs",null,null,null,null,">",null,null,null,null,null,null,null,null,null,null,null,null,null,"Paragraph 57"]
[]
[null,null,null,null,"Real pre-tax cost of capital",null,"%",{"$f":"'General inputs'!H94","v":3.6900000000000002E-2}]
[null,null,null,null,"Annualisation period",null,"years",{"$f":"'Fixed inputs'!H35","v":40}]
[null,null,null,null,"Annuity rate",null,"%",{"$f":"H23 / (1 - (1 + H23) ^ -H24)","v":4.8216791977211342E-2}]
[]
[null,null,{"$f":"INDEX('Version control'!$H$34:$H$58,MATCH($A$1,'Version control'!$F$34:$F$58,0),1)&\"-B: Diversity and loss adjustment factors\"","v":"Section 511-B: Diversity and loss adjustment factors"}]
[]
[null,null,null,"Brings in loss adjustment factors, and calculates the coincidence factor to for GSPs"]
[]
[null,null,null,null,"Loss adjustment factor to transmission for each DRM level",null,"no.",null,null,null,{"$f":"'Load & loss characteristics'!K29","v":1},{"$f":"'Load & loss characteristics'!L29","v":1},{"$f":"'Load & loss characteristics'!M29","v":1},{"$f":"'Load & loss characteristics'!N29","v":1.004},{"$f":"'Load & loss characteristics'!O29","v":1.0129999999999999},{"$f":"'Load & loss characteristics'!P29","v":1.0129999999999999},{"$f":"'Load & loss characteristics'!Q29","v":1.026},{"$f":"'Load & loss characteristics'!R29","v":1.044},{"$f":"'Load & loss characteristics'!S29","v":1.0980000000000001}]
[null,null,null,null,"Diversity allowance between top and bottom network level",null,"%",null,null,null,{"$f":"'Load & loss characteristics'!$K$23","v":0.1160000000000001}]
[null,null,null,null,"Coincidence to system peak",null,"%",null,null,null,{"$f":" 1 / (1 + K32)","v":0.8960573476702508}]
[]
[null,null,{"$f":"INDEX('Version control'!$H$34:$H$58,MATCH($A$1,'Version control'!$F$34:$F$58,0),1)&\"-C: Maximum demand\"","v":"Section 511-C: Maximum demand"}]
[]
[null,null,null,"Calculates additional simultaneous load at each network level from an increment of 500MW at GSP"]
[]
[null,null,null,null,"Network model GSP peak demand",null,"MW",{"$f":"'Fixed inputs'!H41","v":500}]
[null,null,null,null,"Exit load at system peak, assuming single stage transformation at each network level",null,"MW",null,">",null,{"$f":"$H$39 * $K$33 / K31","v":448.0286738351254},448.0286738351254,448.0286738351254,446.24369903896951,442.27904623408239,442.27904623408239,436.67512069700331,429.14623930567564,408.04068655293747,null,null,null,"Paragraph 60"]
[]
[null,null,{"$f":"INDEX('Version control'!$H$34:$H$58,MATCH($A$1,'Version control'!$F$34:$F$58,0),1)&\"-D: Rerouting matrix\"","v":"Section 511-D: Rerouting matrix"}]
[]
[null,null,null,"Adjusts load going through 132/EHV transformation for networks also containing 132/HV transformation"]
[]
[null,null,null,null,"Proportion of load going through 132kV/HV direct transformation",null,"%",null,null,null,null,null,null,null,null,{"$f":"'Inputs by network level'!P20","v":0}]
[null,null,null,null,"Rerouting for DRM network levels",null,"%",null,null,null,null,null,{"$f":"IF(M46 = \"\", 1 - $P$46, M46)","v":1},{"$f":"IF(N46 = \"\", 1 - $P$46, N46)","v":1},{"$f":"IF(O46 = \"\", 1 - $P$46, O46)","v":1},{"$f":"IF(P46 = \"\", 1 - $P$46, P46)","v":0}]
[null,null,null,null,"GSP simultaneous maximum load assumed through each network level",null,"MW",null,null,null,{"$f":"IF(K47 = \"\", K40, K47 * K40)","v":448.0286738351254},448.0286738351254,448.0286738351254,446.24369903896951,442.27904623408239,0,436.67512069700331,429.14623930567564,408.04068655293747]
[]
[null,null,{"$f":"INDEX('Version control'!$H$34:$H$58,MATCH($A$1,'Version control'!$F$34:$F$58,0),1)&\"-E: Annuitised cost of assets\"","v":"Section 511-E: Annuitised cost of assets"}]
[]
[null,null,null,"Calculates the annuitised asset cost per kW of simultaneous load from the 500MW model"]
[]
[null,null,null,null,"Gross assets",null,"£",null,null,null,null,{"$f":"'Inputs by network level'!L36","v":0},{"$f":"'Inputs by network level'!M36","v":0},{"$f":"'Inputs by network level'!N36","v":115483848.7018043},{"$f":"'Inputs by network level'!O36","v":29592148.796136998},{"$f":"'Inputs by network level'!P36","v":0},{"$f":"'Inputs by network level'!Q36","v":127306253.13245735},{"$f":"'Inputs by network level'!R36","v":31995666.142905347},{"$f":"'Inputs by network level'!S36","v":53817722.025625169}]
[null,null,null,null,"Network level assets per kW (simultaneous peak)",null,"£/kW",null,null,null,null,{"$f":"IF(L48 = 0, 0, L54 / (L48 * thousand))","v":0},0,258.79099010363694,66.908321902446488,0,291.53539347342758,74.556557211527206,131.89302880619255]
[null,null,null,null,"Network level assets per kW (simultaneous peak) per year",null,"£/kW/year",null,">",null,null,{"$f":"L55 * $H$25","v":0},0,12.478071335403621,3.2261046387145558,0,14.056901421102715,3.5948780096052633,6.359458733192529,null,null,null,"Paragraph 59"]
[]
[null,"Allocation of other costs"]
[]
[null,null,"This section allocates operating costs based on notional asset value (£) by network level, then divides this by load on each network level at time of system peak"]
[]
[null,null,{"$f":"INDEX('Version control'!$H$34:$H$58,MATCH($A$1,'Version control'!$F$34:$F$58,0),1)&\"-F: System simultaneous peak load based on charegable units\"","v":"Section 511-F: System simultaneous peak load based on charegable units"}]
[]
[null,null,null,null,"Estimated load at system peak",null,"MW",null,null,null,{"$f":"TRANSPOSE('System peak demand'!H269:H277)","v":2767.0013761619662},0,0,2865.0040283979379,3255.1178687895863,0,3285.3534591398243,2834.2875072245301,2186.9136105569082]
[null,null,null,null,"Adjustment for transmission exit level",null,"MW",null,null,{"$f":"K64","v":2767.0013761619662}]
[]
[null,null,null,null,"Estimated load at system peak",null,"kW",null,null,{"$f":"SUM(J64:J65) * thousand","v":2767001.376161966},2767001.376161966,0,0,2865004.0283979378,3255117.8687895862,0,3285353.4591398244,2834287.50722453,2186913.6105569084]
[]
[null,null,{"$f":"INDEX('Version control'!$H$34:$H$58,MATCH($A$1,'Version control'!$F$34:$F$58,0),1)&\"-G: Notional asset values, by network level\"","v":"Section 511-G: Notional asset values, by network level"}]
[]
[null,null,null,"Calculates the notional asset value, and its relative shares, by network level"]
[]
[null,null,null,null,"Notional asset value (network model)",null,"£",null,null,null,null,{"$f":"L67 * L55","v":0},0,741437229.1600107,217794474.1953792,0,957796813.40961504,211314718.68630251,288438659.83383685]
[null,null,null,null,"Notional asset value (service model)",null,"£",null,null,null,null,null,null,null,null,null,null,null,null,{"$f":"'Service model assets'!H33","v":838729811.88228226},{"$f":"'Service model assets'!H34","v":18640337.117758732}]
[]
[null,null,null,null,"Total notional asset value",null,"£",null,">",null,{"$f":"K73 + K74","v":0},0,0,741437229.1600107,217794474.1953792,0,957796813.40961504,211314718.68630251,288438659.83383685,838729811.88228226,18640337.117758732,null,"Paragraph 63"]
[]
[null,null,null,null,"Share of total notional asset value",null,"%",null,null,null,{"$f":"K76 / SUM($K$76:$U$76)","v":0},0,0,0.22645167943686062,6.6519352568102319E-2,0,0.29253278420022849,6.4540288852846128E-2,8.809568276992126E-2,0.25616703211637021,5.6931800556709643E-3]
[]
[null,null,{"$f":"INDEX('Version control'!$H$34:$H$58,MATCH($A$1,'Version control'!$F$34:$F$58,0),1)&\"-H: Other operating costs\"","v":"Section 511-H: Other operating costs"}]
[]
[null,null,null,"Calculates other operating costs to be allocated to charges"]
[]
[null,null,null,null,"Indirect cost proportion",null,"%",{"$f":"'Fixed inputs'!H39","v":0.6}]
[]
[null,null,null,null,"Direct cost",null,"£ per year",{"$f":"'General inputs'!H105","v":28803040.425109994}]
[null,null,null,null,"Indirect cost",null,"£ per year",{"$f":"'General inputs'!H106","v":83130091.179891989}]
[null,null,null,null,"Network rates",null,"£ per year",{"$f":"'General inputs'!H107","v":37991024.773131475}]
[]
[null,null,null,null,"Other operating costs for allocation",null,"£ per year",{"$f":"H86 + H87 * H84 + H88","v":116672119.90617666}]
[]
[null,null,{"$f":"INDEX('Version control'!$H$34:$H$58,MATCH($A$1,'Version control'!$F$34:$F$58,0),1)&\"-I: Other operating costs by network level\"","v":"Section 511-I: Other operating costs by network level"}]
[]
[null,null,null,"Calculates operating costs per kW for unit rates, based on share of notional asset values by network level."]
[null,null,null,"Costs allocated to service model users are ignored here as they form part of fixed/capacity charges"]
[]
[null,null,null,null,"Other operating costs (allocated)",null,"£ per year",null,">",null,{"$f":"K78 * $H$90","v":0},0,0,26420597.496212482,7760953.878906874,0,34130420.074696757,7530052.3198185405,10278310.063348753,29887550.68709055,664235.38610269618,null,"Paragraph 65"]
[null,null,null,null,"Transmission exit charges",null,"£ per year",null,null,{"$f":"'General inputs'!$H$100","v":35908234.05777806}]
[]
[null,null,null,null,"Other operating costs (excl. service models)",null,"£/kW/ year",null,">",{"$f":"IF(J$67 = 0, 0, SUM(J97:J98) / J$67)","v":12.977309793602421},0,0,0,9.2218360722467949,2.3842312910754226,0,10.388660002395246,2.6567708112266732,4.6999159060203253,null,null,null,"Paragraph 66"]
[]
[null,"Outputs"]
[]
[null,null,{"$f":"INDEX('Version control'!$H$34:$H$58,MATCH($A$1,'Version control'!$F$34:$F$58,0),1)&\"-J: Notional asset values by network level\"","v":"Section 511-J: Notional asset values by network level"}]
[]
[null,null,null,"Exported to 'Output to other models'!"]
[]
[null,null,null,null,"Total notional asset value",null,"£",null,null,null,{"$f":"K76","v":0},0,0,741437229.1600107,217794474.1953792,0,957796813.40961504,211314718.68630251,288438659.83383685,838729811.88228226,18640337.117758732]
[]
[null,null,{"$f":"INDEX('Version control'!$H$34:$H$58,MATCH($A$1,'Version control'!$F$34:$F$58,0),1)&\"-K: Unit costs\"","v":"Section 511-K: Unit costs"}]
[]
[null,null,null,"Exported to 'Initial unit rates'!"]
[]
[null,null,null,null,"Network level assets per kW (simultaneous peak) per year",null,"£/kW/ year",null,null,null,null,{"$f":"L56","v":0},0,12.478071335403621,3.2261046387145558,0,14.056901421102715,3.5948780096052633,6.359458733192529]
[null,null,null,null,"Other operating costs (excl. service models)",null,"£/kW/ year",null,null,{"$f":"J100","v":12.977309793602421},0,0,0,9.2218360722467949,2.3842312910754226,0,10.388660002395246,2.6567708112266732,4.6999159060203253]
[]
[null,null,{"$f":"INDEX('Version control'!$H$34:$H$58,MATCH($A$1,'Version control'!$F$34:$F$58,0),1)&\"-L: Values used for allocating costs to service models\"","v":"Section 511-L: Values used for allocating costs to service models"}]
[]
[null,null,null,"Exported to 'Service model charges'!"]
[]
[null,null,null,null,"Annuity rate",null,"%",{"$f":"H25","v":4.8216791977211342E-2}]
[null,null,null,null,"Other operating costs for allocation",null,"£ per year",{"$f":"H90","v":116672119.90617666}]
[null,null,null,null,"Total notional asset value",null,"£",{"$f":"SUM(K76:U76)","v":3274152044.2851853}]
[]
[null,"Checks"]
[]
[null,null,null,null,"Check for error values",null,"number of issues",{"$f":"SUM(IF(ISERROR(H23:U123), 1))","v":0}]
[]
[null,null,null,null,"Check for DRM assets with zero load (and vice versa)",null,"number of issues",{"$f":"SUM(J129:U129)","v":0},null,null,null,null,null,{"$f":"IFERROR(IF(OR(AND(N54>0, N48=0), AND(N48>0, N54=0)), 1, 0),1)","v":0},0,0,0,0,0,0,0]
[]
[null,null,null,null,"Summary of checks",null,"number of issues",{"$f":"H127 + H129","v":0}]
[]
[null,"End of sheet"]

{"sheet":"Initial unit rates","index":25,"n_rows":243,"n_cols":27,"rows_kept":243,"cut":false,"hidden":false,"merged":[]}
[{"$f":"MID(CELL(\"filename\",A1),FIND(\"]\",CELL(\"filename\",A1))+1,255)","v":"Initial unit rates"}]
[{"$f":"Cover!D21&\" - \"&Cover!D23","v":"SP Distribution - One"}]
[{"$f":"Cover!D2&\" - \"&Cover!D8&\" v\"&Cover!D10&\" - \"&Cover!D19","v":"ARP model - Release for charge setting v5 - 2021/22"}]
[{"$f":"H241 & IF(H241 = 1, \" issue\", \" issues\") &\" identified in checks on this sheet\"","v":"0 issues identified in checks on this sheet"}]
[null,"Click here to return to model map",null,null,null,null,"Units","Constants",null,"Domestic Aggregated","Domestic Aggregated (Related MPAN)","Non-Domestic Aggregated","Non-Domestic Aggregated (Related MPAN)","LV Site Specific","LV Sub Site Specific","HV Site Specific","Unmetered Supplies","LV Generation Aggregated","LV Sub Generation Aggregated","LV Generation Site Specific","LV Generation Site Specific no RP Charge","LV Sub Generation Site Specific","LV Sub Generation Site Specific no RP Charge","HV Generation Site Specific","HV Generation Site Specific no RP Charge",null,"Legal text reference"]
[]
[null,"Description"]
[]
[null,null,"This sheet calculates yardstick charges and unit rates 1, 2 and 3 (before application of standing charge factors)."]
[]
[null,"Inputs for yardstick and unit rate calculations"]
[]
[null,null,{"$f":"INDEX('Version control'!$H$34:$H$58,MATCH($A$1,'Version control'!$F$34:$F$58,0),1)&\"-A: Inputs for yardstick and unit rate calculations\"","v":"Section 512-A: Inputs for yardstick and unit rate calculations"}]
[]
[null,null,null,"This section brings in inputs for calculating unit rates"]
[]
[null,null,null,null,"Network level assets per kW per year",null,null,null,">",null,null,null,null,null,null,null,null,null,null,null,null,null,null,null,null,null,"Paragraph 67"]
[null,null,null,null,null,"Transmission exit","£/kW/year"]
[null,null,null,null,null,"GSPs","£/kW/year"]
[null,null,null,null,null,"132kV","£/kW/year",{"$f":"TRANSPOSE('Unit costs'!L114:S114)","v":0}]
[null,null,null,null,null,"132kV/EHV","£/kW/year",0]
[null,null,null,null,null,"EHV","£/kW/year",12.478071335403621]
[null,null,null,null,null,"EHV/HV","£/kW/year",3.2261046387145558]
[null,null,null,null,null,"132kV/HV","£/kW/year",0]
[null,null,null,null,null,"HV","£/kW/year",14.056901421102715]
[null,null,null,null,null,"HV/LV","£/kW/year",3.5948780096052633]
[null,null,null,null,null,"LV circuits","£/kW/year",6.359458733192529]
[]
[null,null,null,null,"Other operating costs (excl. service models) per kW per year"]
[null,null,null,null,null,"Transmission exit","£/kW/ year",{"$f":"TRANSPOSE('Unit costs'!J115:S115)","v":12.977309793602421}]
[null,null,null,null,null,"GSPs","£/kW/ year",0]
[null,null,null,null,null,"132kV","£/kW/ year",0]
[null,null,null,null,null,"132kV/EHV","£/kW/ year",0]
[null,null,null,null,null,"EHV","£/kW/ year",9.2218360722467949]
[null,null,null,null,null,"EHV/HV","£/kW/ year",2.3842312910754226]
[null,null,null,null,null,"132kV/HV","£/kW/ year",0]
[null,null,null,null,null,"HV","£/kW/ year",10.388660002395246]
[null,null,null,null,null,"HV/LV","£/kW/ year",2.6567708112266732]
[null,null,null,null,null,"LV circuits","£/kW/ year",4.6999159060203253]
[]
[null,null,null,null,"Loss adjustment factors,  by network level"]
[null,null,null,null,"Loss adjustment factor to transmission for each core level"]
[null,null,null,null,null,"Transmission exit","scalar",{"$f":"TRANSPOSE('Load & loss characteristics'!J29:S29)","v":1}]
[null,null,null,null,null,"GSPs","scalar",1]
[null,null,null,null,null,"132kV","scalar",1]
[null,null,null,null,null,"132kV/EHV","scalar",1]
[null,null,null,null,null,"EHV","scalar",1.004]
[null,null,null,null,null,"EHV/HV","scalar",1.0129999999999999]
[null,null,null,null,null,"132kV/HV","scalar",1.0129999999999999]
[null,null,null,null,null,"HV","scalar",1.026]
[null,null,null,null,null,"HV/LV","scalar",1.044]
[null,null,null,null,null,"LV circuits","scalar",1.0980000000000001]
[]
[null,null,null,null,"User loss factor (assuming generation does not contribute at level of connection)"]
[null,null,null,null,null,"Transmission exit","scalar",null,null,{"$f":"TRANSPOSE('Load & loss characteristics'!J145:S160)","v":1.0980000000000001},1.0980000000000001,1.0980000000000001,1.0980000000000001,1.0980000000000001,1.044,1.026,1.0980000000000001,-1.0980000000000001,-1.044,-1.0980000000000001,-1.0980000000000001,-1.044,-1.044,-1.026,-1.026]
[null,null,null,null,null,"GSPs","scalar",null,null,1.0980000000000001,1.0980000000000001,1.0980000000000001,1.0980000000000001,1.0980000000000001,1.044,1.026,1.0980000000000001,-1.0980000000000001,-1.044,-1.0980000000000001,-1.0980000000000001,-1.044,-1.044,-1.026,-1.026]
[null,null,null,null,null,"132kV","scalar",null,null,1.0980000000000001,1.0980000000000001,1.0980000000000001,1.0980000000000001,1.0980000000000001,1.044,1.026,1.0980000000000001,-1.0980000000000001,-1.044,-1.0980000000000001,-1.0980000000000001,-1.044,-1.044,-1.026,-1.026]
[null,null,null,null,null,"132kV/EHV","scalar",null,null,1.0980000000000001,1.0980000000000001,1.0980000000000001,1.0980000000000001,1.0980000000000001,1.044,1.026,1.0980000000000001,-1.0980000000000001,-1.044,-1.0980000000000001,-1.0980000000000001,-1.044,-1.044,-1.026,-1.026]
[null,null,null,null,null,"EHV","scalar",null,null,1.0980000000000001,1.0980000000000001,1.0980000000000001,1.0980000000000001,1.0980000000000001,1.044,1.026,1.0980000000000001,-1.0980000000000001,-1.044,-1.0980000000000001,-1.0980000000000001,-1.044,-1.044,-1.026,-1.026]
[null,null,null,null,null,"EHV/HV","scalar",null,null,1.0980000000000001,1.0980000000000001,1.0980000000000001,1.0980000000000001,1.0980000000000001,1.044,1.026,1.0980000000000001,-1.0980000000000001,-1.044,-1.0980000000000001,-1.0980000000000001,-1.044,-1.044,-1.026,-1.026]
[null,null,null,null,null,"132kV/HV","scalar",null,null,0,0,0,0,0,0,0,0,0,0,0,0,0,0,0,0]
[null,null,null,null,null,"HV","scalar",null,null,1.0980000000000001,1.0980000000000001,1.0980000000000001,1.0980000000000001,1.0980000000000001,1.044,1.026,1.0980000000000001,-1.0980000000000001,-1.044,-1.0980000000000001,-1.0980000000000001,-1.044,-1.044,0,0]
[null,null,null,null,null,"HV/LV","scalar",null,null,1.0980000000000001,1.0980000000000001,1.0980000000000001,1.0980000000000001,1.0980000000000001,1.044,0,1.0980000000000001,-1.0980000000000001,0,-1.0980000000000001,-1.0980000000000001,0,0,0,0]
[null,null,null,null,null,"LV circuits","scalar",null,null,1.0980000000000001,1.0980000000000001,1.0980000000000001,1.0980000000000001,1.0980000000000001,0,0,1.0980000000000001,0,0,0,0,0,0,0,0]
[]
[null,null,null,null,"Customer contributions, by network level"]
[null,null,null,null,null,"Transmission exit","%"]
[null,null,null,null,null,"GSPs","%"]
[null,null,null,null,null,"132kV","%",null,null,{"$f":"TRANSPOSE('Customer contributions'!L51:S66)","v":0},0,0,0,0,0,0,0,0,0,0,0,0,0,0,0]
[null,null,null,null,null,"132kV/EHV","%",null,null,0,0,0,0,0,0,0,0,0,0,0,0,0,0,0,0]
[null,null,null,null,null,"EHV","%",null,null,0,0,0,0,0,0,3.11004784688995E-2,0,0,0,0,0,0,0,3.11004784688995E-2,3.11004784688995E-2]
[null,null,null,null,null,"EHV/HV","%",null,null,0,0,0,0,0,0,0.14212259371833799,0,0,0,0,0,0,0,0.14212259371833799,0.14212259371833799]
[null,null,null,null,null,"132kV/HV","%",null,null,0,0,0,0,0,0,0,0,0,0,0,0,0,0,0,0]
[null,null,null,null,null,"HV","%",null,null,0.20065197841726601,0.20065197841726601,0.20065197841726601,0.20065197841726601,0.20065197841726601,0.20065197841726601,0.45146695143884902,0.20065197841726601,0.20065197841726601,0.20065197841726601,0.20065197841726601,0.20065197841726601,0.20065197841726601,0.20065197841726601,0.45146695143884902,0.45146695143884902]
[null,null,null,null,null,"HV/LV","%",null,null,0.26968503937007898,0.26968503937007898,0.26968503937007898,0.26968503937007898,0.26968503937007898,0.26968503937007898,0,0.26968503937007898,0.26968503937007898,0.26968503937007898,0.26968503937007898,0.26968503937007898,0.26968503937007898,0.26968503937007898,0,0]
[null,null,null,null,null,"LV circuits","%",null,null,0.92371773930088197,0.92371773930088197,0.92371773930088197,0.92371773930088197,0.92371773930088197,0,0,0.92371773930088197,0.92371773930088197,0,0.92371773930088197,0.92371773930088197,0,0,0,0]
[]
[null,null,null,null,"Load coefficient",null,"scalar",null,null,{"$f":"'Pseudo-load coefficients'!J267","v":2.0029717682020798},{"$f":"'Pseudo-load coefficients'!K267","v":0},{"$f":"'Pseudo-load coefficients'!L267","v":1.5943999999999998},{"$f":"'Pseudo-load coefficients'!M267","v":0},{"$f":"'Pseudo-load coefficients'!N267","v":1.40947242206235},{"$f":"'Pseudo-load coefficients'!O267","v":1.1674925668979186},{"$f":"'Pseudo-load coefficients'!P267","v":1.1495920217588396},{"$f":"'Pseudo-load coefficients'!Q267","v":2.0203636363636366},{"$f":"'Pseudo-load coefficients'!R267","v":1},{"$f":"'Pseudo-load coefficients'!S267","v":1},{"$f":"'Pseudo-load coefficients'!T267","v":1},{"$f":"'Pseudo-load coefficients'!U267","v":1},{"$f":"'Pseudo-load coefficients'!V267","v":1},{"$f":"'Pseudo-load coefficients'!W267","v":1},{"$f":"'Pseudo-load coefficients'!X267","v":1},{"$f":"'Pseudo-load coefficients'!Y267","v":1}]
[]
[null,null,null,null,"Pseudo load coefficient, unit rate 1"]
[null,null,null,null,null,"Transmission exit","scalar",null,null,{"$f":"'Pseudo-load coefficients'!J272","v":11.527986422981362},{"$f":"'Pseudo-load coefficients'!K272","v":11.527986422981362},{"$f":"'Pseudo-load coefficients'!L272","v":13.389814573848861},{"$f":"'Pseudo-load coefficients'!M272","v":13.389814573848861},{"$f":"'Pseudo-load coefficients'!N272","v":10.350692230660494},{"$f":"'Pseudo-load coefficients'!O272","v":8.8540614426759596},{"$f":"'Pseudo-load coefficients'!P272","v":8.9869685862225737},{"$f":"'Pseudo-load coefficients'!Q272","v":25.023867607119033},{"$f":"'Pseudo-load coefficients'!R272","v":8.2437183626517871},{"$f":"'Pseudo-load coefficients'!S272","v":8.2437183626517871},{"$f":"'Pseudo-load coefficients'!T272","v":8.2437183626517871},{"$f":"'Pseudo-load coefficients'!U272","v":8.2437183626517871},{"$f":"'Pseudo-load coefficients'!V272","v":8.2437183626517871},{"$f":"'Pseudo-load coefficients'!W272","v":8.2437183626517871},{"$f":"'Pseudo-load coefficients'!X272","v":8.2437183626517871},{"$f":"'Pseudo-load coefficients'!Y272","v":8.2437183626517871}]
[null,null,null,null,null,"GSPs","scalar",null,null,{"$f":"'Pseudo-load coefficients'!J272","v":11.527986422981362},{"$f":"'Pseudo-load coefficients'!K272","v":11.527986422981362},{"$f":"'Pseudo-load coefficients'!L272","v":13.389814573848861},{"$f":"'Pseudo-load coefficients'!M272","v":13.389814573848861},{"$f":"'Pseudo-load coefficients'!N272","v":10.350692230660494},{"$f":"'Pseudo-load coefficients'!O272","v":8.8540614426759596},{"$f":"'Pseudo-load coefficients'!P272","v":8.9869685862225737},{"$f":"'Pseudo-load coefficients'!Q272","v":25.023867607119033},{"$f":"'Pseudo-load coefficients'!R272","v":8.2437183626517871},{"$f":"'Pseudo-load coefficients'!S272","v":8.2437183626517871},{"$f":"'Pseudo-load coefficients'!T272","v":8.2437183626517871},{"$f":"'Pseudo-load coefficients'!U272","v":8.2437183626517871},{"$f":"'Pseudo-load coefficients'!V272","v":8.2437183626517871},{"$f":"'Pseudo-load coefficients'!W272","v":8.2437183626517871},{"$f":"'Pseudo-load coefficients'!X272","v":8.2437183626517871},{"$f":"'Pseudo-load coefficients'!Y272","v":8.2437183626517871}]
[null,null,null,null,null,"132kV","scalar",null,null,{"$f":"'Pseudo-load coefficients'!J273","v":0},{"$f":"'Pseudo-load coefficients'!K273","v":0},{"$f":"'Pseudo-load coefficients'!L273","v":0},{"$f":"'Pseudo-load coefficients'!M273","v":0},{"$f":"'Pseudo-load coefficients'!N273","v":0},{"$f":"'Pseudo-load coefficients'!O273","v":0},{"$f":"'Pseudo-load coefficients'!P273","v":0},{"$f":"'Pseudo-load coefficients'!Q273","v":0},{"$f":"'Pseudo-load coefficients'!R273","v":0},{"$f":"'Pseudo-load coefficients'!S273","v":0},{"$f":"'Pseudo-load coefficients'!T273","v":0},{"$f":"'Pseudo-load coefficients'!U273","v":0},{"$f":"'Pseudo-load coefficients'!V273","v":0},{"$f":"'Pseudo-load coefficients'!W273","v":0},{"$f":"'Pseudo-load coefficients'!X273","v":0},{"$f":"'Pseudo-load coefficients'!Y273","v":0}]
[null,null,null,null,null,"132kV/EHV","scalar",null,null,{"$f":"'Pseudo-load coefficients'!J274","v":0},{"$f":"'Pseudo-load coefficients'!K274","v":0},{"$f":"'Pseudo-load coefficients'!L274","v":0},{"$f":"'Pseudo-load coefficients'!M274","v":0},{"$f":"'Pseudo-load coefficients'!N274","v":0},{"$f":"'Pseudo-load coefficients'!O274","v":0},{"$f":"'Pseudo-load coefficients'!P274","v":0},{"$f":"'Pseudo-load coefficients'!Q274","v":0},{"$f":"'Pseudo-load coefficients'!R274","v":0},{"$f":"'Pseudo-load coefficients'!S274","v":0},{"$f":"'Pseudo-load coefficients'!T274","v":0},{"$f":"'Pseudo-load coefficients'!U274","v":0},{"$f":"'Pseudo-load coefficients'!V274","v":0},{"$f":"'Pseudo-load coefficients'!W274","v":0},{"$f":"'Pseudo-load coefficients'!X274","v":0},{"$f":"'Pseudo-load coefficients'!Y274","v":0}]
[null,null,null,null,null,"EHV","scalar",null,null,{"$f":"'Pseudo-load coefficients'!J275","v":11.527986422981362},{"$f":"'Pseudo-load coefficients'!K275","v":11.527986422981362},{"$f":"'Pseudo-load coefficients'!L275","v":13.389814573848861},{"$f":"'Pseudo-load coefficients'!M275","v":13.389814573848861},{"$f":"'Pseudo-load coefficients'!N275","v":10.350692230660494},{"$f":"'Pseudo-load coefficients'!O275","v":8.8540614426759596},{"$f":"'Pseudo-load coefficients'!P275","v":8.9869685862225737},{"$f":"'Pseudo-load coefficients'!Q275","v":25.023867607119033},{"$f":"'Pseudo-load coefficients'!R275","v":8.2437183626517871},{"$f":"'Pseudo-load coefficients'!S275","v":8.2437183626517871},{"$f":"'Pseudo-load coefficients'!T275","v":8.2437183626517871},{"$f":"'Pseudo-load coefficients'!U275","v":8.2437183626517871},{"$f":"'Pseudo-load coefficients'!V275","v":8.2437183626517871},{"$f":"'Pseudo-load coefficients'!W275","v":8.2437183626517871},{"$f":"'Pseudo-load coefficients'!X275","v":8.2437183626517871},{"$f":"'Pseudo-load coefficients'!Y275","v":8.2437183626517871}]
[null,null,null,null,null,"EHV/HV","scalar",null,null,{"$f":"'Pseudo-load coefficients'!J276","v":10.098712610250859},{"$f":"'Pseudo-load coefficients'!K276","v":10.098712610250859},{"$f":"'Pseudo-load coefficients'!L276","v":11.729705806755948},{"$f":"'Pseudo-load coefficients'!M276","v":11.729705806755948},{"$f":"'Pseudo-load coefficients'!N276","v":9.0673828298596799},{"$f":"'Pseudo-load coefficients'!O276","v":7.7563087483202686},{"$f":"'Pseudo-load coefficients'!P276","v":7.8727376715753232},{"$f":"'Pseudo-load coefficients'!Q276","v":22.581879332920355},{"$f":"'Pseudo-load coefficients'!R276","v":7.2216378064347033},{"$f":"'Pseudo-load coefficients'!S276","v":7.2216378064347033},{"$f":"'Pseudo-load coefficients'!T276","v":7.2216378064347033},{"$f":"'Pseudo-load coefficients'!U276","v":7.2216378064347033},{"$f":"'Pseudo-load coefficients'!V276","v":7.2216378064347033},{"$f":"'Pseudo-load coefficients'!W276","v":7.2216378064347033},{"$f":"'Pseudo-load coefficients'!X276","v":7.2216378064347033},{"$f":"'Pseudo-load coefficients'!Y276","v":7.2216378064347033}]
[null,null,null,null,null,"132kV/HV","scalar",null,null,{"$f":"'Pseudo-load coefficients'!J277","v":0},{"$f":"'Pseudo-load coefficients'!K277","v":0},{"$f":"'Pseudo-load coefficients'!L277","v":0},{"$f":"'Pseudo-load coefficients'!M277","v":0},{"$f":"'Pseudo-load coefficients'!N277","v":0},{"$f":"'Pseudo-load coefficients'!O277","v":0},{"$f":"'Pseudo-load coefficients'!P277","v":0},{"$f":"'Pseudo-load coefficients'!Q277","v":0},{"$f":"'Pseudo-load coefficients'!R277","v":0},{"$f":"'Pseudo-load coefficients'!S277","v":0},{"$f":"'Pseudo-load coefficients'!T277","v":0},{"$f":"'Pseudo-load coefficients'!U277","v":0},{"$f":"'Pseudo-load coefficients'!V277","v":0},{"$f":"'Pseudo-load coefficients'!W277","v":0},{"$f":"'Pseudo-load coefficients'!X277","v":0},{"$f":"'Pseudo-load coefficients'!Y277","v":0}]
[null,null,null,null,null,"HV","scalar",null,null,{"$f":"'Pseudo-load coefficients'!J278","v":10.098712610250859},{"$f":"'Pseudo-load coefficients'!K278","v":10.098712610250859},{"$f":"'Pseudo-load coefficients'!L278","v":11.729705806755948},{"$f":"'Pseudo-load coefficients'!M278","v":11.729705806755948},{"$f":"'Pseudo-load coefficients'!N278","v":9.0673828298596799},{"$f":"'Pseudo-load coefficients'!O278","v":7.7563087483202686},{"$f":"'Pseudo-load coefficients'!P278","v":7.8727376715753232},{"$f":"'Pseudo-load coefficients'!Q278","v":22.581879332920355},{"$f":"'Pseudo-load coefficients'!R278","v":7.2216378064347033},{"$f":"'Pseudo-load coefficients'!S278","v":7.2216378064347033},{"$f":"'Pseudo-load coefficients'!T278","v":7.2216378064347033},{"$f":"'Pseudo-load coefficients'!U278","v":7.2216378064347033},{"$f":"'Pseudo-load coefficients'!V278","v":7.2216378064347033},{"$f":"'Pseudo-load coefficients'!W278","v":7.2216378064347033},{"$f":"'Pseudo-load coefficients'!X278","v":7.2216378064347033},{"$f":"'Pseudo-load coefficients'!Y278","v":7.2216378064347033}]
[null,null,null,null,null,"HV/LV","scalar",null,null,{"$f":"'Pseudo-load coefficients'!J279","v":10.098712610250859},{"$f":"'Pseudo-load coefficients'!K279","v":10.098712610250859},{"$f":"'Pseudo-load coefficients'!L279","v":11.729705806755948},{"$f":"'Pseudo-load coefficients'!M279","v":11.729705806755948},{"$f":"'Pseudo-load coefficients'!N279","v":9.0673828298596799},{"$f":"'Pseudo-load coefficients'!O279","v":7.7563087483202686},{"$f":"'Pseudo-load coefficients'!P279","v":7.8727376715753232},{"$f":"'Pseudo-load coefficients'!Q279","v":22.581879332920355},{"$f":"'Pseudo-load coefficients'!R279","v":7.2216378064347033},{"$f":"'Pseudo-load coefficients'!S279","v":7.2216378064347033},{"$f":"'Pseudo-load coefficients'!T279","v":7.2216378064347033},{"$f":"'Pseudo-load coefficients'!U279","v":7.2216378064347033},{"$f":"'Pseudo-load coefficients'!V279","v":7.2216378064347033},{"$f":"'Pseudo-load coefficients'!W279","v":7.2216378064347033},{"$f":"'Pseudo-load coefficients'!X279","v":7.2216378064347033},{"$f":"'Pseudo-load coefficients'!Y279","v":7.2216378064347033}]
[null,null,null,null,null,"LV circuits","scalar",null,null,{"$f":"'Pseudo-load coefficients'!J280","v":10.098712610250859},{"$f":"'Pseudo-load coefficients'!K280","v":10.098712610250859},{"$f":"'Pseudo-load coefficients'!L280","v":11.729705806755948},{"$f":"'Pseudo-load coefficients'!M280","v":11.729705806755948},{"$f":"'Pseudo-load coefficients'!N280","v":9.0673828298596799},{"$f":"'Pseudo-load coefficients'!O280","v":7.7563087483202686},{"$f":"'Pseudo-load coefficients'!P280","v":7.8727376715753232},{"$f":"'Pseudo-load coefficients'!Q280","v":22.581879332920355},{"$f":"'Pseudo-load coefficients'!R280","v":7.2216378064347033},{"$f":"'Pseudo-load coefficients'!S280","v":7.2216378064347033},{"$f":"'Pseudo-load coefficients'!T280","v":7.2216378064347033},{"$f":"'Pseudo-load coefficients'!U280","v":7.2216378064347033},{"$f":"'Pseudo-load coefficients'!V280","v":7.2216378064347033},{"$f":"'Pseudo-load coefficients'!W280","v":7.2216378064347033},{"$f":"'Pseudo-load coefficients'!X280","v":7.2216378064347033},{"$f":"'Pseudo-load coefficients'!Y280","v":7.2216378064347033}]
[]
[null,null,null,null,"Pseudo load coefficient, unit rate 2"]
[null,null,null,null,null,"Transmission exit","scalar",null,null,{"$f":"'Pseudo-load coefficients'!J283","v":0.92349228307239573},{"$f":"'Pseudo-load coefficients'!K283","v":0.92349228307239573},{"$f":"'Pseudo-load coefficients'!L283","v":1.0726409606164153},{"$f":"'Pseudo-load coefficients'!M283","v":1.0726409606164153},{"$f":"'Pseudo-load coefficients'!N283","v":0.82918074750822601},{"$f":"'Pseudo-load coefficients'!O283","v":0.70928756472680232},{"$f":"'Pseudo-load coefficients'!P283","v":0.71993458641185648},{"$f":"'Pseudo-load coefficients'!Q283","v":0.79110253955261312},{"$f":"'Pseudo-load coefficients'!R283","v":0.66039375936064448},{"$f":"'Pseudo-load coefficients'!S283","v":0.66039375936064448},{"$f":"'Pseudo-load coefficients'!T283","v":0.66039375936064448},{"$f":"'Pseudo-load coefficients'!U283","v":0.66039375936064448},{"$f":"'Pseudo-load coefficients'!V283","v":0.66039375936064448},{"$f":"'Pseudo-load coefficients'!W283","v":0.66039375936064448},{"$f":"'Pseudo-load coefficients'!X283","v":0.66039375936064448},{"$f":"'Pseudo-load coefficients'!Y283","v":0.66039375936064448}]
[null,null,null,null,null,"GSPs","scalar",null,null,{"$f":"'Pseudo-load coefficients'!J283","v":0.92349228307239573},{"$f":"'Pseudo-load coefficients'!K283","v":0.92349228307239573},{"$f":"'Pseudo-load coefficients'!L283","v":1.0726409606164153},{"$f":"'Pseudo-load coefficients'!M283","v":1.0726409606164153},{"$f":"'Pseudo-load coefficients'!N283","v":0.82918074750822601},{"$f":"'Pseudo-load coefficients'!O283","v":0.70928756472680232},{"$f":"'Pseudo-load coefficients'!P283","v":0.71993458641185648},{"$f":"'Pseudo-load coefficients'!Q283","v":0.79110253955261312},{"$f":"'Pseudo-load coefficients'!R283","v":0.66039375936064448},{"$f":"'Pseudo-load coefficients'!S283","v":0.66039375936064448},{"$f":"'Pseudo-load coefficients'!T283","v":0.66039375936064448},{"$f":"'Pseudo-load coefficients'!U283","v":0.66039375936064448},{"$f":"'Pseudo-load coefficients'!V283","v":0.66039375936064448},{"$f":"'Pseudo-load coefficients'!W283","v":0.66039375936064448},{"$f":"'Pseudo-load coefficients'!X283","v":0.66039375936064448},{"$f":"'Pseudo-load coefficients'!Y283","v":0.66039375936064448}]
[null,null,null,null,null,"132kV","scalar",null,null,{"$f":"'Pseudo-load coefficients'!J284","v":0},{"$f":"'Pseudo-load coefficients'!K284","v":0},{"$f":"'Pseudo-load coefficients'!L284","v":0},{"$f":"'Pseudo-load coefficients'!M284","v":0},{"$f":"'Pseudo-load coefficients'!N284","v":0},{"$f":"'Pseudo-load coefficients'!O284","v":0},{"$f":"'Pseudo-load coefficients'!P284","v":0},{"$f":"'Pseudo-load coefficients'!Q284","v":0},{"$f":"'Pseudo-load coefficients'!R284","v":0},{"$f":"'Pseudo-load coefficients'!S284","v":0},{"$f":"'Pseudo-load coefficients'!T284","v":0},{"$f":"'Pseudo-load coefficients'!U284","v":0},{"$f":"'Pseudo-load coefficients'!V284","v":0},{"$f":"'Pseudo-load coefficients'!W284","v":0},{"$f":"'Pseudo-load coefficients'!X284","v":0},{"$f":"'Pseudo-load coefficients'!Y284","v":0}]
[null,null,null,null,null,"132kV/EHV","scalar",null,null,{"$f":"'Pseudo-load coefficients'!J285","v":0},{"$f":"'Pseudo-load coefficients'!K285","v":0},{"$f":"'Pseudo-load coefficients'!L285","v":0},{"$f":"'Pseudo-load coefficients'!M285","v":0},{"$f":"'Pseudo-load coefficients'!N285","v":0},{"$f":"'Pseudo-load coefficients'!O285","v":0},{"$f":"'Pseudo-load coefficients'!P285","v":0},{"$f":"'Pseudo-load coefficients'!Q285","v":0},{"$f":"'Pseudo-load coefficients'!R285","v":0},{"$f":"'Pseudo-load coefficients'!S285","v":0},{"$f":"'Pseudo-load coefficients'!T285","v":0},{"$f":"'Pseudo-load coefficients'!U285","v":0},{"$f":"'Pseudo-load coefficients'!V285","v":0},{"$f":"'Pseudo-load coefficients'!W285","v":0},{"$f":"'Pseudo-load coefficients'!X285","v":0},{"$f":"'Pseudo-load coefficients'!Y285","v":0}]
[null,null,null,null,null,"EHV","scalar",null,null,{"$f":"'Pseudo-load coefficients'!J286","v":0.92349228307239573},{"$f":"'Pseudo-load coefficients'!K286","v":0.92349228307239573},{"$f":"'Pseudo-load coefficients'!L286","v":1.0726409606164153},{"$f":"'Pseudo-load coefficients'!M286","v":1.0726409606164153},{"$f":"'Pseudo-load coefficients'!N286","v":0.82918074750822601},{"$f":"'Pseudo-load coefficients'!O286","v":0.70928756472680232},{"$f":"'Pseudo-load coefficients'!P286","v":0.71993458641185648},{"$f":"'Pseudo-load coefficients'!Q286","v":0.79110253955261312},{"$f":"'Pseudo-load coefficients'!R286","v":0.66039375936064448},{"$f":"'Pseudo-load coefficients'!S286","v":0.66039375936064448},{"$f":"'Pseudo-load coefficients'!T286","v":0.66039375936064448},{"$f":"'Pseudo-load coefficients'!U286","v":0.66039375936064448},{"$f":"'Pseudo-load coefficients'!V286","v":0.66039375936064448},{"$f":"'Pseudo-load coefficients'!W286","v":0.66039375936064448},{"$f":"'Pseudo-load coefficients'!X286","v":0.66039375936064448},{"$f":"'Pseudo-load coefficients'!Y286","v":0.66039375936064448}]
[null,null,null,null,null,"EHV/HV","scalar",null,null,{"$f":"'Pseudo-load coefficients'!J287","v":1.2155817714261268},{"$f":"'Pseudo-load coefficients'!K287","v":1.2155817714261268},{"$f":"'Pseudo-load coefficients'!L287","v":1.4119043796147333},{"$f":"'Pseudo-load coefficients'!M287","v":1.4119043796147333},{"$f":"'Pseudo-load coefficients'!N287","v":1.0914406328715081},{"$f":"'Pseudo-load coefficients'!O287","v":0.93362668014145112},{"$f":"'Pseudo-load coefficients'!P287","v":0.94764122657303829},{"$f":"'Pseudo-load coefficients'!Q287","v":0.92680435825893326},{"$f":"'Pseudo-load coefficients'!R287","v":0.86926835292184057},{"$f":"'Pseudo-load coefficients'!S287","v":0.86926835292184057},{"$f":"'Pseudo-load coefficients'!T287","v":0.86926835292184057},{"$f":"'Pseudo-load coefficients'!U287","v":0.86926835292184057},{"$f":"'Pseudo-load coefficients'!V287","v":0.86926835292184057},{"$f":"'Pseudo-load coefficients'!W287","v":0.86926835292184057},{"$f":"'Pseudo-load coefficients'!X287","v":0.86926835292184057},{"$f":"'Pseudo-load coefficients'!Y287","v":0.86926835292184057}]
[null,null,null,null,null,"132kV/HV","scalar",null,null,{"$f":"'Pseudo-load coefficients'!J288","v":0},{"$f":"'Pseudo-load coefficients'!K288","v":0},{"$f":"'Pseudo-load coefficients'!L288","v":0},{"$f":"'Pseudo-load coefficients'!M288","v":0},{"$f":"'Pseudo-load coefficients'!N288","v":0},{"$f":"'Pseudo-load coefficients'!O288","v":0},{"$f":"'Pseudo-load coefficients'!P288","v":0},{"$f":"'Pseudo-load coefficients'!Q288","v":0},{"$f":"'Pseudo-load coefficients'!R288","v":0},{"$f":"'Pseudo-load coefficients'!S288","v":0},{"$f":"'Pseudo-load coefficients'!T288","v":0},{"$f":"'Pseudo-load coefficients'!U288","v":0},{"$f":"'Pseudo-load coefficients'!V288","v":0},{"$f":"'Pseudo-load coefficients'!W288","v":0},{"$f":"'Pseudo-load coefficients'!X288","v":0},{"$f":"'Pseudo-load coefficients'!Y288","v":0}]
[null,null,null,null,null,"HV","scalar",null,null,{"$f":"'Pseudo-load coefficients'!J289","v":1.2155817714261268},{"$f":"'Pseudo-load coefficients'!K289","v":1.2155817714261268},{"$f":"'Pseudo-load coefficients'!L289","v":1.4119043796147333},{"$f":"'Pseudo-load coefficients'!M289","v":1.4119043796147333},{"$f":"'Pseudo-load coefficients'!N289","v":1.0914406328715081},{"$f":"'Pseudo-load coefficients'!O289","v":0.93362668014145112},{"$f":"'Pseudo-load coefficients'!P289","v":0.94764122657303829},{"$f":"'Pseudo-load coefficients'!Q289","v":0.92680435825893326},{"$f":"'Pseudo-load coefficients'!R289","v":0.86926835292184057},{"$f":"'Pseudo-load coefficients'!S289","v":0.86926835292184057},{"$f":"'Pseudo-load coefficients'!T289","v":0.86926835292184057},{"$f":"'Pseudo-load coefficients'!U289","v":0.86926835292184057},{"$f":"'Pseudo-load coefficients'!V289","v":0.86926835292184057},{"$f":"'Pseudo-load coefficients'!W289","v":0.86926835292184057},{"$f":"'Pseudo-load coefficients'!X289","v":0.86926835292184057},{"$f":"'Pseudo-load coefficients'!Y289","v":0.86926835292184057}]
[null,null,null,null,null,"HV/LV","scalar",null,null,{"$f":"'Pseudo-load coefficients'!J290","v":1.2155817714261268},{"$f":"'Pseudo-load coefficients'!K290","v":1.2155817714261268},{"$f":"'Pseudo-load coefficients'!L290","v":1.4119043796147333},{"$f":"'Pseudo-load coefficients'!M290","v":1.4119043796147333},{"$f":"'Pseudo-load coefficients'!N290","v":1.0914406328715081},{"$f":"'Pseudo-load coefficients'!O290","v":0.93362668014145112},{"$f":"'Pseudo-load coefficients'!P290","v":0.94764122657303829},{"$f":"'Pseudo-load coefficients'!Q290","v":0.92680435825893326},{"$f":"'Pseudo-load coefficients'!R290","v":0.86926835292184057},{"$f":"'Pseudo-load coefficients'!S290","v":0.86926835292184057},{"$f":"'Pseudo-load coefficients'!T290","v":0.86926835292184057},{"$f":"'Pseudo-load coefficients'!U290","v":0.86926835292184057},{"$f":"'Pseudo-load coefficients'!V290","v":0.86926835292184057},{"$f":"'Pseudo-load coefficients'!W290","v":0.86926835292184057},{"$f":"'Pseudo-load coefficients'!X290","v":0.86926835292184057},{"$f":"'Pseudo-load coefficients'!Y290","v":0.86926835292184057}]
[null,null,null,null,null,"LV circuits","scalar",null,null,{"$f":"'Pseudo-load coefficients'!J291","v":1.2155817714261268},{"$f":"'Pseudo-load coefficients'!K291","v":1.2155817714261268},{"$f":"'Pseudo-load coefficients'!L291","v":1.4119043796147333},{"$f":"'Pseudo-load coefficients'!M291","v":1.4119043796147333},{"$f":"'Pseudo-load coefficients'!N291","v":1.0914406328715081},{"$f":"'Pseudo-load coefficients'!O291","v":0.93362668014145112},{"$f":"'Pseudo-load coefficients'!P291","v":0.94764122657303829},{"$f":"'Pseudo-load coefficients'!Q291","v":0.92680435825893326},{"$f":"'Pseudo-load coefficients'!R291","v":0.86926835292184057},{"$f":"'Pseudo-load coefficients'!S291","v":0.86926835292184057},{"$f":"'Pseudo-load coefficients'!T291","v":0.86926835292184057},{"$f":"'Pseudo-load coefficients'!U291","v":0.86926835292184057},{"$f":"'Pseudo-load coefficients'!V291","v":0.86926835292184057},{"$f":"'Pseudo-load coefficients'!W291","v":0.86926835292184057},{"$f":"'Pseudo-load coefficients'!X291","v":0.86926835292184057},{"$f":"'Pseudo-load coefficients'!Y291","v":0.86926835292184057}]
[]
[null,null,null,null,"Pseudo load coefficient, unit rate 3"]
[null,null,null,null,null,"Transmission exit","scalar",null,null,{"$f":"'Pseudo-load coefficients'!J294","v":1.4805259537586315E-2},{"$f":"'Pseudo-load coefficients'!K294","v":1.4805259537586315E-2},{"$f":"'Pseudo-load coefficients'!L294","v":1.7196383882860215E-2},{"$f":"'Pseudo-load coefficients'!M294","v":1.7196383882860215E-2},{"$f":"'Pseudo-load coefficients'!N294","v":1.3293274232446117E-2},{"$f":"'Pseudo-load coefficients'!O294","v":1.1371168633511621E-2},{"$f":"'Pseudo-load coefficients'!P294","v":1.1541859739695104E-2},{"$f":"'Pseudo-load coefficients'!Q294","v":1.163653936983337E-2},{"$f":"'Pseudo-load coefficients'!R294","v":1.0587312079975646E-2},{"$f":"'Pseudo-load coefficients'!S294","v":1.0587312079975646E-2},{"$f":"'Pseudo-load coefficients'!T294","v":1.0587312079975646E-2},{"$f":"'Pseudo-load coefficients'!U294","v":1.0587312079975646E-2},{"$f":"'Pseudo-load coefficients'!V294","v":1.0587312079975646E-2},{"$f":"'Pseudo-load coefficients'!W294","v":1.0587312079975646E-2},{"$f":"'Pseudo-load coefficients'!X294","v":1.0587312079975646E-2},{"$f":"'Pseudo-load coefficients'!Y294","v":1.0587312079975646E-2}]
[null,null,null,null,null,"GSPs","scalar",null,null,{"$f":"'Pseudo-load coefficients'!J294","v":1.4805259537586315E-2},{"$f":"'Pseudo-load coefficients'!K294","v":1.4805259537586315E-2},{"$f":"'Pseudo-load coefficients'!L294","v":1.7196383882860215E-2},{"$f":"'Pseudo-load coefficients'!M294","v":1.7196383882860215E-2},{"$f":"'Pseudo-load coefficients'!N294","v":1.3293274232446117E-2},{"$f":"'Pseudo-load coefficients'!O294","v":1.1371168633511621E-2},{"$f":"'Pseudo-load coefficients'!P294","v":1.1541859739695104E-2},{"$f":"'Pseudo-load coefficients'!Q294","v":1.163653936983337E-2},{"$f":"'Pseudo-load coefficients'!R294","v":1.0587312079975646E-2},{"$f":"'Pseudo-load coefficients'!S294","v":1.0587312079975646E-2},{"$f":"'Pseudo-load coefficients'!T294","v":1.0587312079975646E-2},{"$f":"'Pseudo-load coefficients'!U294","v":1.0587312079975646E-2},{"$f":"'Pseudo-load coefficients'!V294","v":1.0587312079975646E-2},{"$f":"'Pseudo-load coefficients'!W294","v":1.0587312079975646E-2},{"$f":"'Pseudo-load coefficients'!X294","v":1.0587312079975646E-2},{"$f":"'Pseudo-load coefficients'!Y294","v":1.0587312079975646E-2}]
[null,null,null,null,null,"132kV","scalar",null,null,{"$f":"'Pseudo-load coefficients'!J295","v":0},{"$f":"'Pseudo-load coefficients'!K295","v":0},{"$f":"'Pseudo-load coefficients'!L295","v":0},{"$f":"'Pseudo-load coefficients'!M295","v":0},{"$f":"'Pseudo-load coefficients'!N295","v":0},{"$f":"'Pseudo-load coefficients'!O295","v":0},{"$f":"'Pseudo-load coefficients'!P295","v":0},{"$f":"'Pseudo-load coefficients'!Q295","v":0},{"$f":"'Pseudo-load coefficients'!R295","v":0},{"$f":"'Pseudo-load coefficients'!S295","v":0},{"$f":"'Pseudo-load coefficients'!T295","v":0},{"$f":"'Pseudo-load coefficients'!U295","v":0},{"$f":"'Pseudo-load coefficients'!V295","v":0},{"$f":"'Pseudo-load coefficients'!W295","v":0},{"$f":"'Pseudo-load coefficients'!X295","v":0},{"$f":"'Pseudo-load coefficients'!Y295","v":0}]
[null,null,null,null,null,"132kV/EHV","scalar",null,null,{"$f":"'Pseudo-load coefficients'!J296","v":0},{"$f":"'Pseudo-load coefficients'!K296","v":0},{"$f":"'Pseudo-load coefficients'!L296","v":0},{"$f":"'Pseudo-load coefficients'!M296","v":0},{"$f":"'Pseudo-load coefficients'!N296","v":0},{"$f":"'Pseudo-load coefficients'!O296","v":0},{"$f":"'Pseudo-load coefficients'!P296","v":0},{"$f":"'Pseudo-load coefficients'!Q296","v":0},{"$f":"'Pseudo-load coefficients'!R296","v":0},{"$f":"'Pseudo-load coefficients'!S296","v":0},{"$f":"'Pseudo-load coefficients'!T296","v":0},{"$f":"'Pseudo-load coefficients'!U296","v":0},{"$f":"'Pseudo-load coefficients'!V296","v":0},{"$f":"'Pseudo-load coefficients'!W296","v":0},{"$f":"'Pseudo-load coefficients'!X296","v":0},{"$f":"'Pseudo-load coefficients'!Y296","v":0}]
[null,null,null,null,null,"EHV","scalar",null,null,{"$f":"'Pseudo-load coefficients'!J297","v":1.4805259537586315E-2},{"$f":"'Pseudo-load coefficients'!K297","v":1.4805259537586315E-2},{"$f":"'Pseudo-load coefficients'!L297","v":1.7196383882860215E-2},{"$f":"'Pseudo-load coefficients'!M297","v":1.7196383882860215E-2},{"$f":"'Pseudo-load coefficients'!N297","v":1.3293274232446117E-2},{"$f":"'Pseudo-load coefficients'!O297","v":1.1371168633511621E-2},{"$f":"'Pseudo-load coefficients'!P297","v":1.1541859739695104E-2},{"$f":"'Pseudo-load coefficients'!Q297","v":1.163653936983337E-2},{"$f":"'Pseudo-load coefficients'!R297","v":1.0587312079975646E-2},{"$f":"'Pseudo-load coefficients'!S297","v":1.0587312079975646E-2},{"$f":"'Pseudo-load coefficients'!T297","v":1.0587312079975646E-2},{"$f":"'Pseudo-load coefficients'!U297","v":1.0587312079975646E-2},{"$f":"'Pseudo-load coefficients'!V297","v":1.0587312079975646E-2},{"$f":"'Pseudo-load coefficients'!W297","v":1.0587312079975646E-2},{"$f":"'Pseudo-load coefficients'!X297","v":1.0587312079975646E-2},{"$f":"'Pseudo-load coefficients'!Y297","v":1.0587312079975646E-2}]
[null,null,null,null,null,"EHV/HV","scalar",null,null,{"$f":"'Pseudo-load coefficients'!J298","v":4.1322546283744134E-2},{"$f":"'Pseudo-load coefficients'!K298","v":4.1322546283744134E-2},{"$f":"'Pseudo-load coefficients'!L298","v":4.7996346643469308E-2},{"$f":"'Pseudo-load coefficients'!M298","v":4.7996346643469308E-2},{"$f":"'Pseudo-load coefficients'!N298","v":3.7102486338602317E-2},{"$f":"'Pseudo-load coefficients'!O298","v":3.1737751098900924E-2},{"$f":"'Pseudo-load coefficients'!P298","v":3.2214162276805902E-2},{"$f":"'Pseudo-load coefficients'!Q298","v":3.2478419947438684E-2},{"$f":"'Pseudo-load coefficients'!R298","v":2.9549950970772461E-2},{"$f":"'Pseudo-load coefficients'!S298","v":2.9549950970772461E-2},{"$f":"'Pseudo-load coefficients'!T298","v":2.9549950970772461E-2},{"$f":"'Pseudo-load coefficients'!U298","v":2.9549950970772461E-2},{"$f":"'Pseudo-load coefficients'!V298","v":2.9549950970772461E-2},{"$f":"'Pseudo-load coefficients'!W298","v":2.9549950970772461E-2},{"$f":"'Pseudo-load coefficients'!X298","v":2.9549950970772461E-2},{"$f":"'Pseudo-load coefficients'!Y298","v":2.9549950970772461E-2}]
[null,null,null,null,null,"132kV/HV","scalar",null,null,{"$f":"'Pseudo-load coefficients'!J299","v":0},{"$f":"'Pseudo-load coefficients'!K299","v":0},{"$f":"'Pseudo-load coefficients'!L299","v":0},{"$f":"'Pseudo-load coefficients'!M299","v":0},{"$f":"'Pseudo-load coefficients'!N299","v":0},{"$f":"'Pseudo-load coefficients'!O299","v":0},{"$f":"'Pseudo-load coefficients'!P299","v":0},{"$f":"'Pseudo-load coefficients'!Q299","v":0},{"$f":"'Pseudo-load coefficients'!R299","v":0},{"$f":"'Pseudo-load coefficients'!S299","v":0},{"$f":"'Pseudo-load coefficients'!T299","v":0},{"$f":"'Pseudo-load coefficients'!U299","v":0},{"$f":"'Pseudo-load coefficients'!V299","v":0},{"$f":"'Pseudo-load coefficients'!W299","v":0},{"$f":"'Pseudo-load coefficients'!X299","v":0},{"$f":"'Pseudo-load coefficients'!Y299","v":0}]
[null,null,null,null,null,"HV","scalar",null,null,{"$f":"'Pseudo-load coefficients'!J300","v":4.1322546283744134E-2},{"$f":"'Pseudo-load coefficients'!K300","v":4.1322546283744134E-2},{"$f":"'Pseudo-load coefficients'!L300","v":4.7996346643469308E-2},{"$f":"'Pseudo-load coefficients'!M300","v":4.7996346643469308E-2},{"$f":"'Pseudo-load coefficients'!N300","v":3.7102486338602317E-2},{"$f":"'Pseudo-load coefficients'!O300","v":3.1737751098900924E-2},{"$f":"'Pseudo-load coefficients'!P300","v":3.2214162276805902E-2},{"$f":"'Pseudo-load coefficients'!Q300","v":3.2478419947438684E-2},{"$f":"'Pseudo-load coefficients'!R300","v":2.9549950970772461E-2},{"$f":"'Pseudo-load coefficients'!S300","v":2.9549950970772461E-2},{"$f":"'Pseudo-load coefficients'!T300","v":2.9549950970772461E-2},{"$f":"'Pseudo-load coefficients'!U300","v":2.9549950970772461E-2},{"$f":"'Pseudo-load coefficients'!V300","v":2.9549950970772461E-2},{"$f":"'Pseudo-load coefficients'!W300","v":2.9549950970772461E-2},{"$f":"'Pseudo-load coefficients'!X300","v":2.9549950970772461E-2},{"$f":"'Pseudo-load coefficients'!Y300","v":2.9549950970772461E-2}]
[null,null,null,null,null,"HV/LV","scalar",null,null,{"$f":"'Pseudo-load coefficients'!J301","v":4.1322546283744134E-2},{"$f":"'Pseudo-load coefficients'!K301","v":4.1322546283744134E-2},{"$f":"'Pseudo-load coefficients'!L301","v":4.7996346643469308E-2},{"$f":"'Pseudo-load coefficients'!M301","v":4.7996346643469308E-2},{"$f":"'Pseudo-load coefficients'!N301","v":3.7102486338602317E-2},{"$f":"'Pseudo-load coefficients'!O301","v":3.1737751098900924E-2},{"$f":"'Pseudo-load coefficients'!P301","v":3.2214162276805902E-2},{"$f":"'Pseudo-load coefficients'!Q301","v":3.2478419947438684E-2},{"$f":"'Pseudo-load coefficients'!R301","v":2.9549950970772461E-2},{"$f":"'Pseudo-load coefficients'!S301","v":2.9549950970772461E-2},{"$f":"'Pseudo-load coefficients'!T301","v":2.9549950970772461E-2},{"$f":"'Pseudo-load coefficients'!U301","v":2.9549950970772461E-2},{"$f":"'Pseudo-load coefficients'!V301","v":2.9549950970772461E-2},{"$f":"'Pseudo-load coefficients'!W301","v":2.9549950970772461E-2},{"$f":"'Pseudo-load coefficients'!X301","v":2.9549950970772461E-2},{"$f":"'Pseudo-load coefficients'!Y301","v":2.9549950970772461E-2}]
[null,null,null,null,null,"LV circuits","scalar",null,null,{"$f":"'Pseudo-load coefficients'!J302","v":4.1322546283744134E-2},{"$f":"'Pseudo-load coefficients'!K302","v":4.1322546283744134E-2},{"$f":"'Pseudo-load coefficients'!L302","v":4.7996346643469308E-2},{"$f":"'Pseudo-load coefficients'!M302","v":4.7996346643469308E-2},{"$f":"'Pseudo-load coefficients'!N302","v":3.7102486338602317E-2},{"$f":"'Pseudo-load coefficients'!O302","v":3.1737751098900924E-2},{"$f":"'Pseudo-load coefficients'!P302","v":3.2214162276805902E-2},{"$f":"'Pseudo-load coefficients'!Q302","v":3.2478419947438684E-2},{"$f":"'Pseudo-load coefficients'!R302","v":2.9549950970772461E-2},{"$f":"'Pseudo-load coefficients'!S302","v":2.9549950970772461E-2},{"$f":"'Pseudo-load coefficients'!T302","v":2.9549950970772461E-2},{"$f":"'Pseudo-load coefficients'!U302","v":2.9549950970772461E-2},{"$f":"'Pseudo-load coefficients'!V302","v":2.9549950970772461E-2},{"$f":"'Pseudo-load coefficients'!W302","v":2.9549950970772461E-2},{"$f":"'Pseudo-load coefficients'!X302","v":2.9549950970772461E-2},{"$f":"'Pseudo-load coefficients'!Y302","v":2.9549950970772461E-2}]
[]
[null,"Calculation of yardstick & unit rate charges"]
[]
[null,null,{"$f":"INDEX('Version control'!$H$34:$H$58,MATCH($A$1,'Version control'!$F$34:$F$58,0),1)&\"-B: Yardstick charges\"","v":"Section 512-B: Yardstick charges"}]
[]
[null,null,null,"Calculates yardstick charges using formulae in Paragraphs 68 & 71, except using the load coefficient"]
[null,null,null,null,null,null,null,null,">",null,null,null,null,null,null,null,null,null,null,null,null,null,null,null,null,null,"Paragraph 67"]
[null,null,null,null,"Asset costs"]
[null,null,null,null,null,"Transmission exit","p/kWh",null,null,{"$f":"hundred * $H18 * J55 / $H43 * J$78 * (1 - J67) / hours_in_year","v":0},0,0,0,0,0,0,0,0,0,0,0,0,0,0,0]
[null,null,null,null,null,"GSPs","p/kWh",null,null,{"$f":"hundred * $H19 * J56 / $H44 * J$78 * (1 - J68) / hours_in_year","v":0},0,0,0,0,0,0,0,0,0,0,0,0,0,0,0]
[null,null,null,null,null,"132kV","p/kWh",null,null,{"$f":"hundred * $H20 * J57 / $H45 * J$78 * (1 - J69) / hours_in_year","v":0},0,0,0,0,0,0,0,0,0,0,0,0,0,0,0]
[null,null,null,null,null,"132kV/EHV","p/kWh",null,null,{"$f":"hundred * $H21 * J58 / $H46 * J$78 * (1 - J70) / hours_in_year","v":0},0,0,0,0,0,0,0,0,0,0,0,0,0,0,0]
[null,null,null,null,null,"EHV","p/kWh",null,null,{"$f":"hundred * $H22 * J59 / $H47 * J$78 * (1 - J71) / hours_in_year","v":0.31202314734048664},0,0.24837579541434665,0,0.21956775836949444,0.17292758164569083,0.16213601267798952,0.31473245434523334,-0.15578010249269109,-0.14811878597665709,-0.15578010249269109,-0.15578010249269109,-0.14811878597665709,-0.14811878597665709,-0.1410378722269893,-0.1410378722269893]
[null,null,null,null,null,"EHV/HV","p/kWh",null,null,{"$f":"hundred * $H23 * J60 / $H48 * J$78 * (1 - J72) / hours_in_year","v":7.9954344332433008E-2},0,6.3645034157450889E-2,0,5.6263121203050256E-2,4.4311813162973147E-2,3.6785886797316661E-2,8.0648590470920323E-2,-3.9917858854397206E-2,-3.7954685468115375E-2,-3.9917858854397206E-2,-3.9917858854397206E-2,-3.7954685468115375E-2,-3.7954685468115375E-2,-3.1999079761388223E-2,-3.1999079761388223E-2]
[null,null,null,null,null,"132kV/HV","p/kWh",null,null,{"$f":"hundred * $H24 * J61 / $H49 * J$78 * (1 - J73) / hours_in_year","v":0},0,0,0,0,0,0,0,0,0,0,0,0,0,0,0]
[null,null,null,null,null,"HV","p/kWh",null,null,{"$f":"hundred * $H25 * J62 / $H50 * J$78 * (1 - J74) / hours_in_year","v":0.27494840506717239},0,0.21886366248317066,0,0.19347861042498202,0.15238024220594915,0.1011887037750764,0.27733579089460764,-0.13727023487404083,-0.13051923971630108,-0.13727023487404083,-0.13727023487404083,-0.13051923971630108,-0.13051923971630108,0,0]
[null,null,null,null,null,"HV/LV","p/kWh",null,null,{"$f":"hundred * $H26 * J63 / $H51 * J$78 * (1 - J75) / hours_in_year","v":6.3134525092699817E-2},0,5.0256168562054754E-2,0,4.4427172370003175E-2,3.4990034667896359E-2,0,6.3682724200788285E-2,-3.1520426845242575E-2,0,-3.1520426845242575E-2,-3.1520426845242575E-2,0,0,0,0]
[null,null,null,null,null,"LV circuits","p/kWh",null,null,{"$f":"hundred * $H27 * J64 / $H52 * J$78 * (1 - J76) / hours_in_year","v":1.1092116712454801E-2},0,8.8295158060129313E-3,0,7.8054183572120227E-3,0,0,1.1188429917941854E-2,0,0,0,0,0,0,0,0]
[]
[null,null,null,null,"Other operating costs"]
[null,null,null,null,null,"Transmission exit","p/kWh",null,null,{"$f":"hundred * $H30 * J55 / $H43 * J$78 / hours_in_year","v":0.3258049918708929},0,0.25934638085550038,0,0.22926591293120097,0.18056567217062025,0.1747316861813501,0.32863396707411402,-0.16266080083761941,-0.15466108932101516,-0.16266080083761941,-0.16266080083761941,-0.15466108932101516,-0.15466108932101516,-0.1519945188154804,-0.1519945188154804]
[null,null,null,null,null,"GSPs","p/kWh",null,null,{"$f":"hundred * $H31 * J56 / $H44 * J$78 / hours_in_year","v":0},0,0,0,0,0,0,0,0,0,0,0,0,0,0,0]
[null,null,null,null,null,"132kV","p/kWh",null,null,{"$f":"hundred * $H32 * J57 / $H45 * J$78 / hours_in_year","v":0},0,0,0,0,0,0,0,0,0,0,0,0,0,0,0]
[null,null,null,null,null,"132kV/EHV","p/kWh",null,null,{"$f":"hundred * $H33 * J58 / $H46 * J$78 / hours_in_year","v":0},0,0,0,0,0,0,0,0,0,0,0,0,0,0,0]
[null,null,null,null,null,"EHV","p/kWh",null,null,{"$f":"hundred * $H34 * J59 / $H47 * J$78 / hours_in_year","v":0.23059864286529999},0,0.18356048848080439,0,0.16227009928122646,0.12780098521972835,0.12367179970941554,0.23260093828384559,-0.11512825419016834,-0.10946620890212727,-0.11512825419016834,-0.11512825419016834,-0.10946620890212727,-0.10946620890212727,-0.10757886047278024,-0.10757886047278024]
[null,null,null,null,null,"EHV/HV","p/kWh",null,null,{"$f":"hundred * $H35 * J60 / $H48 * J$78 / hours_in_year","v":5.9089729244108526E-2},0,4.703644145287899E-2,0,4.1580887518679929E-2,3.2748352375062628E-2,3.1690269592044677E-2,5.9602807259999946E-2,-2.9501029511339059E-2,-2.8050159207502711E-2,-2.9501029511339059E-2,-2.9501029511339059E-2,-2.8050159207502711E-2,-2.8050159207502711E-2,-2.7566535772890595E-2,-2.7566535772890595E-2]
[null,null,null,null,null,"132kV/HV","p/kWh",null,null,{"$f":"hundred * $H36 * J61 / $H49 * J$78 / hours_in_year","v":0},0,0,0,0,0,0,0,0,0,0,0,0,0,0,0]
[null,null,null,null,null,"HV","p/kWh",null,null,{"$f":"hundred * $H37 * J62 / $H50 * J$78 / hours_in_year","v":0.25420567058181481},0,0.20235208883620881,0,0.17888214297625885,0.14088432934869774,0.13633242757441488,0.25641294657984226,-0.1269142554165886,-0.12067257072396949,-0.1269142554165886,-0.1269142554165886,-0.12067257072396949,-0.12067257072396949,0,0]
[null,null,null,null,null,"HV/LV","p/kWh",null,null,{"$f":"hundred * $H38 * J63 / $H51 * J$78 / hours_in_year","v":6.3889082958922247E-2},0,5.0856809610023666E-2,0,4.495814765391612E-2,3.540822116505131E-2,0,6.44438339171855E-2,-3.1897146017325434E-2,0,-3.1897146017325434E-2,-3.1897146017325434E-2,0,0,0,0]
[null,null,null,null,null,"LV circuits","p/kWh",null,null,{"$f":"hundred * $H39 * J64 / $H52 * J$78 / hours_in_year","v":0.10746345745071476},0,8.5542761650214696E-2,0,7.5621025748262932E-2,0,0,0.10839656610148997,0,0,0,0,0,0,0,0]
[]
[null,null,{"$f":"INDEX('Version control'!$H$34:$H$58,MATCH($A$1,'Version control'!$F$34:$F$58,0),1)&\"-C: Unit rate 1\"","v":"Section 512-C: Unit rate 1"}]
[]
[null,null,null,"Calculates unit rate 1 value using formulae in Paragraphs 68 & 71"]
[null,null,null,"As explained in the User Guide, there is a deviation from the legal text for generation"]
[null,null,null,null,null,null,null,null,">",null,null,null,null,null,null,null,null,null,null,null,null,null,null,null,null,null,"Paragraphs 68 & 71"]
[null,null,null,null,"Asset costs"]
[null,null,null,null,null,"Transmission exit","p/kWh",null,null,{"$f":"hundred * $H18 * J55 / $H43 * J81 * (1 - J67) / hours_in_year","v":0},0,0,0,0,0,0,0,0,0,0,0,0,0,0,0]
[null,null,null,null,null,"GSPs","p/kWh",null,null,{"$f":"hundred * $H19 * J56 / $H44 * J82 * (1 - J68) / hours_in_year","v":0},0,0,0,0,0,0,0,0,0,0,0,0,0,0,0]
[null,null,null,null,null,"132kV","p/kWh",null,null,{"$f":"hundred * $H20 * J57 / $H45 * J83 * (1 - J69) / hours_in_year","v":0},0,0,0,0,0,0,0,0,0,0,0,0,0,0,0]
[null,null,null,null,null,"132kV/EHV","p/kWh",null,null,{"$f":"hundred * $H21 * J58 / $H46 * J84 * (1 - J70) / hours_in_year","v":0},0,0,0,0,0,0,0,0,0,0,0,0,0,0,0]
[null,null,null,null,null,"EHV","p/kWh",null,null,{"$f":"hundred * $H22 * J59 / $H47 * J85 * (1 - J71) / hours_in_year","v":1.7958309065063878},1.7958309065063878,2.0858666866723046,2.0858666866723046,1.612431896562593,1.3114528318518921,1.267502927171626,3.8982206606005354,-1.2842072914547749,-1.2210495558094581,-1.2842072914547749,-1.2842072914547749,-1.2210495558094581,-1.2210495558094581,-1.1626764971069683,-1.1626764971069683]
[null,null,null,null,null,"EHV/HV","p/kWh",null,null,{"$f":"hundred * $H23 * J60 / $H48 * J86 * (1 - J72) / hours_in_year","v":0.40311898458711498},0.40311898458711498,0.46822474079768722,0.46822474079768722,0.36195050798112338,0.29438825893608744,0.2519203606932246,0.90142027187854401,-0.28827231865483915,-0.27409499150787986,-0.28827231865483915,-0.28827231865483915,-0.27409499150787986,-0.27409499150787986,-0.23108576417596077,-0.23108576417596077]
[null,null,null,null,null,"132kV/HV","p/kWh",null,null,{"$f":"hundred * $H24 * J61 / $H49 * J87 * (1 - J73) / hours_in_year","v":0},0,0,0,0,0,0,0,0,0,0,0,0,0,0,0]
[null,null,null,null,null,"HV","p/kWh",null,null,{"$f":"hundred * $H25 * J62 / $H50 * J88 * (1 - J74) / hours_in_year","v":1.3862526519345733},1.3862526519345733,1.6101394710967898,1.6101394710967898,1.2446817707476834,1.0123475208356565,0.69296942312551713,3.0998198799272254,-0.99131591786454487,-0.94256267600235399,-0.99131591786454487,-0.99131591786454487,-0.94256267600235399,-0.94256267600235399,0,0]
[null,null,null,null,null,"HV/LV","p/kWh",null,null,{"$f":"hundred * $H26 * J63 / $H51 * J89 * (1 - J75) / hours_in_year","v":0.31831573206254088},0.31831573206254088,0.36972533379806782,0.36972533379806782,0.2858077771664006,0.23245844958117295,0,0.71179047554141128,-0.22762910618056312,0,-0.22762910618056312,-0.22762910618056312,0,0,0,0]
[null,null,null,null,null,"LV circuits","p/kWh",null,null,{"$f":"hundred * $H27 * J64 / $H52 * J90 * (1 - J76) / hours_in_year","v":5.5924951462990508E-2},5.5924951462990508E-2,6.4957114162464455E-2,6.4957114162464455E-2,5.0213622689046861E-2,0,0,0.12505460392592638,0,0,0,0,0,0,0,0]
[]
[null,null,null,null,"Other operating costs"]
[null,null,null,null,null,"Transmission exit","p/kWh",null,null,{"$f":"hundred * $H30 * J55 / $H43 * J81 / hours_in_year","v":1.8751515036073518},1.8751515036073518,2.1779979616494836,2.1779979616494836,1.6836518874629611,1.369378787639463,1.3659699658727382,4.0704023450285449,-1.3409298307487285,-1.2749824620233809,-1.3409298307487285,-1.3409298307487285,-1.2749824620233809,-1.2749824620233809,-1.2530000057815984,-1.2530000057815984]
[null,null,null,null,null,"GSPs","p/kWh",null,null,{"$f":"hundred * $H31 * J56 / $H44 * J82 / hours_in_year","v":0},0,0,0,0,0,0,0,0,0,0,0,0,0,0,0]
[null,null,null,null,null,"132kV","p/kWh",null,null,{"$f":"hundred * $H32 * J57 / $H45 * J83 / hours_in_year","v":0},0,0,0,0,0,0,0,0,0,0,0,0,0,0,0]
[null,null,null,null,null,"132kV/EHV","p/kWh",null,null,{"$f":"hundred * $H33 * J58 / $H46 * J84 / hours_in_year","v":0},0,0,0,0,0,0,0,0,0,0,0,0,0,0,0]
[null,null,null,null,null,"EHV","p/kWh",null,null,{"$f":"hundred * $H34 * J59 / $H47 * J85 / hours_in_year","v":1.3271969512058077},1.3271969512058077,1.5415459758172922,1.5415459758172922,1.1916571261756816,0.96922053951623688,0.96680783961049732,2.8809541906935197,-0.94908490312753313,-0.90240859641634319,-0.94908490312753313,-0.94908490312753313,-0.90240859641634319,-0.90240859641634319,-0.88684982751261299,-0.88684982751261299]
[null,null,null,null,null,"EHV/HV","p/kWh",null,null,{"$f":"hundred * $H35 * J60 / $H48 * J86 / hours_in_year","v":0.29792241874154252},0.29792241874154252,0.34603839716443235,0.34603839716443235,0.26749712845429946,0.2175656952529296,0.21702410465406455,0.666188688621981,-0.21304575004783205,-0.20256809020941408,-0.21304575004783205,-0.21304575004783205,-0.20256809020941408,-0.20256809020941408,-0.19907553692994143,-0.19907553692994143]
[null,null,null,null,null,"132kV/HV","p/kWh",null,null,{"$f":"hundred * $H36 * J61 / $H49 * J87 / hours_in_year","v":0},0,0,0,0,0,0,0,0,0,0,0,0,0,0,0]
[null,null,null,null,null,"HV","p/kWh",null,null,{"$f":"hundred * $H37 * J62 / $H50 * J88 / hours_in_year","v":1.2816705915961015},1.2816705915961015,1.4886668787200668,1.4886668787200668,1.1507801404288012,0.93597371598862078,0.93364377805987264,2.865962401444837,-0.91652878509194657,-0.87145359893988361,-0.91652878509194657,-0.91652878509194657,-0.87145359893988361,-0.87145359893988361,0,0]
[null,null,null,null,null,"HV/LV","p/kWh",null,null,{"$f":"hundred * $H38 * J63 / $H51 * J89 / hours_in_year","v":0.3221201107161773},0.3221201107161773,0.37414413885836451,0.37414413885836451,0.28922363411902369,0.23523669732191077,0,0.72029750242778401,-0.23034963559608548,0,-0.23034963559608548,-0.23034963559608548,0,0,0,0]
[null,null,null,null,null,"LV circuits","p/kWh",null,null,{"$f":"hundred * $H39 * J64 / $H52 * J90 / hours_in_year","v":0.54181621035669014},0.54181621035669014,0.6293222704807222,0.6293222704807222,0.4864832966670446,0,0,1.2115631719705942,0,0,0,0,0,0,0,0]
[]
[null,null,{"$f":"INDEX('Version control'!$H$34:$H$58,MATCH($A$1,'Version control'!$F$34:$F$58,0),1)&\"-D: Unit rate 2\"","v":"Section 512-D: Unit rate 2"}]
[]
[null,null,null,"Calculates unit rate 2 value using formulae in Paragraph 68 & 71"]
[null,null,null,"As explained in the User Guide, there is a deviation from the legal text for generation"]
[null,null,null,null,null,null,null,null,">",null,null,null,null,null,null,null,null,null,null,null,null,null,null,null,null,null,"Paragraphs 68 & 71"]
[null,null,null,null,"Asset costs"]
[null,null,null,null,null,"Transmission exit","p/kWh",null,null,{"$f":"hundred * $H18 * J55 / $H43 * J93 * (1 - J67) / hours_in_year","v":0},0,0,0,0,0,0,0,0,0,0,0,0,0,0,0]
[null,null,null,null,null,"GSPs","p/kWh",null,null,{"$f":"hundred * $H19 * J56 / $H44 * J94 * (1 - J68) / hours_in_year","v":0},0,0,0,0,0,0,0,0,0,0,0,0,0,0,0]
[null,null,null,null,null,"132kV","p/kWh",null,null,{"$f":"hundred * $H20 * J57 / $H45 * J95 * (1 - J69) / hours_in_year","v":0},0,0,0,0,0,0,0,0,0,0,0,0,0,0,0]
[null,null,null,null,null,"132kV/EHV","p/kWh",null,null,{"$f":"hundred * $H21 * J58 / $H46 * J96 * (1 - J70) / hours_in_year","v":0},0,0,0,0,0,0,0,0,0,0,0,0,0,0,0]
[null,null,null,null,null,"EHV","p/kWh",null,null,{"$f":"hundred * $H22 * J59 / $H47 * J97 * (1 - J71) / hours_in_year","v":0.1438617225082271},0.1438617225082271,0.16709611878268379,0.16709611878268379,0.12916986183179766,0.10505881299567355,0.1015380422101458,0.12323803469373426,-0.10287620751873476,-9.7816721903059289E-2,-0.10287620751873476,-0.10287620751873476,-9.7816721903059289E-2,-9.7816721903059289E-2,-9.3140530652207704E-2,-9.3140530652207704E-2]
[null,null,null,null,null,"EHV/HV","p/kWh",null,null,{"$f":"hundred * $H23 * J60 / $H48 * J98 * (1 - J72) / hours_in_year","v":4.8523421577766256E-2},4.8523421577766256E-2,5.6360199741366176E-2,5.6360199741366176E-2,4.356797313091882E-2,3.5435506989409539E-2,3.0323647194290419E-2,3.699604555862028E-2,-3.4699331418528372E-2,-3.2992806922535173E-2,-3.4699331418528372E-2,-3.4699331418528372E-2,-3.2992806922535173E-2,-3.2992806922535173E-2,-2.7815787359196549E-2,-2.7815787359196549E-2]
[null,null,null,null,null,"132kV/HV","p/kWh",null,null,{"$f":"hundred * $H24 * J61 / $H49 * J99 * (1 - J73) / hours_in_year","v":0},0,0,0,0,0,0,0,0,0,0,0,0,0,0,0]
[null,null,null,null,null,"HV","p/kWh",null,null,{"$f":"hundred * $H25 * J62 / $H50 * J100 * (1 - J74) / hours_in_year","v":0.16686319527226703},0.16686319527226703,0.19381244580940135,0.19381244580940135,0.14982231202534368,0.12185624447091643,8.341271124519431E-2,0.12722265194048846,-0.11932467097415166,-0.11345624453279995,-0.11932467097415166,-0.11932467097415166,-0.11345624453279995,-0.11345624453279995,0,0]
[null,null,null,null,null,"HV/LV","p/kWh",null,null,{"$f":"hundred * $H26 * J63 / $H51 * J101 * (1 - J75) / hours_in_year","v":3.8315656300647608E-2},3.8315656300647608E-2,4.4503828710123795E-2,4.4503828710123795E-2,3.4402674624351627E-2,2.7981017465337491E-2,0,2.9213268974352696E-2,-2.7399709527157375E-2,0,-2.7399709527157375E-2,-2.7399709527157375E-2,0,0,0,0]
[null,null,null,null,null,"LV circuits","p/kWh",null,null,{"$f":"hundred * $H27 * J64 / $H52 * J102 * (1 - J76) / hours_in_year","v":6.7316849374737739E-3},6.7316849374737739E-3,7.8188861241765984E-3,7.8188861241765984E-3,6.0442124430906538E-3,0,0,5.1324847781792039E-3,0,0,0,0,0,0,0,0]
[]
[null,null,null,null,"Other operating costs"]
[null,null,null,null,null,"Transmission exit","p/kWh",null,null,{"$f":"hundred * $H30 * J55 / $H43 * J93 / hours_in_year","v":0.15021599433191743},0.15021599433191743,0.17447663766509949,0.17447663766509949,0.13487520442882392,0.10969918740249729,0.10942611104029204,0.12868137262830254,-0.10742017776576855,-0.10213721820351762,-0.10742017776576855,-0.10742017776576855,-0.10213721820351762,-0.10213721820351762,-0.10037623168276731,-0.10037623168276731]
[null,null,null,null,null,"GSPs","p/kWh",null,null,{"$f":"hundred * $H31 * J56 / $H44 * J94 / hours_in_year","v":0},0,0,0,0,0,0,0,0,0,0,0,0,0,0,0]
[null,null,null,null,null,"132kV","p/kWh",null,null,{"$f":"hundred * $H32 * J57 / $H45 * J95 / hours_in_year","v":0},0,0,0,0,0,0,0,0,0,0,0,0,0,0,0]
[null,null,null,null,null,"132kV/EHV","p/kWh",null,null,{"$f":"hundred * $H33 * J58 / $H46 * J96 / hours_in_year","v":0},0,0,0,0,0,0,0,0,0,0,0,0,0,0,0]
[null,null,null,null,null,"EHV","p/kWh",null,null,{"$f":"hundred * $H34 * J59 / $H47 * J97 / hours_in_year","v":0.10632005430821767},0.10632005430821767,0.12349128116863302,0.12349128116863302,9.5462131868720837E-2,7.7643020732065263E-2,7.7449742421129855E-2,9.1078254264100933E-2,-7.6029980593273136E-2,-7.2290801219833487E-2,-7.6029980593273136E-2,-7.6029980593273136E-2,-7.2290801219833487E-2,-7.2290801219833487E-2,-7.1044408095353589E-2,-7.1044408095353589E-2]
[null,null,null,null,null,"EHV/HV","p/kWh",null,null,{"$f":"hundred * $H35 * J60 / $H48 * J98 / hours_in_year","v":3.586091371228798E-2},3.586091371228798E-2,4.1652632770203112E-2,4.1652632770203112E-2,3.2198622320216939E-2,2.6188377018339912E-2,2.6123185772191582E-2,2.7341682724234446E-2,-2.5644311332820316E-2,-2.4383115693501281E-2,-2.5644311332820316E-2,-2.5644311332820316E-2,-2.4383115693501281E-2,-2.4383115693501281E-2,-2.3962717147061607E-2,-2.3962717147061607E-2]
[null,null,null,null,null,"132kV/HV","p/kWh",null,null,{"$f":"hundred * $H36 * J61 / $H49 * J99 / hours_in_year","v":0},0,0,0,0,0,0,0,0,0,0,0,0,0,0,0]
[null,null,null,null,null,"HV","p/kWh",null,null,{"$f":"hundred * $H37 * J62 / $H50 * J100 / hours_in_year","v":0.15427465541852464},0.15427465541852464,0.1791907930582243,0.1791907930582243,0.13851937525229766,0.1126631315891541,0.1123826770219189,0.11762468504528174,-0.11032254576827975,-0.10489684679606927,-0.11032254576827975,-0.11032254576827975,-0.10489684679606927,-0.10489684679606927,0,0]
[null,null,null,null,null,"HV/LV","p/kWh",null,null,{"$f":"hundred * $H38 * J63 / $H51 * J101 / hours_in_year","v":3.8773589259178273E-2},3.8773589259178273E-2,4.5035720159072423E-2,4.5035720159072423E-2,3.4813841235944575E-2,2.8315435072856953E-2,0,2.9562413944878786E-2,-2.7727179581387928E-2,0,-2.7727179581387928E-2,-2.7727179581387928E-2,0,0,0,0]
[null,null,null,null,null,"LV circuits","p/kWh",null,null,{"$f":"hundred * $H39 * J64 / $H52 * J102 / hours_in_year","v":6.5218402997648611E-2},6.5218402997648611E-2,7.575150515446398E-2,7.575150515446398E-2,5.8557981631389179E-2,0,0,4.9724914898973988E-2,0,0,0,0,0,0,0,0]
[]
[null,null,{"$f":"INDEX('Version control'!$H$34:$H$58,MATCH($A$1,'Version control'!$F$34:$F$58,0),1)&\"-E: Unit rate 3\"","v":"Section 512-E: Unit rate 3"}]
[]
[null,null,"Calculates unit rate 3 value using formulae in Paragraph 68 & 71",null,null,null,null,null,">",null,null,null,null,null,null,null,null,null,null,null,null,null,null,null,null,null,"Paragraphs 68 & 71"]
[null,null,"As explained in the User Guide, there is a deviation from the current legal text for generation"]
[]
[null,null,null,null,"Asset costs"]
[null,null,null,null,null,"Transmission exit","p/kWh",null,null,{"$f":"hundred * $H18 * J55 / $H43 * J105 * (1 - J67) / hours_in_year","v":0},0,0,0,0,0,0,0,0,0,0,0,0,0,0,0]
[null,null,null,null,null,"GSPs","p/kWh",null,null,{"$f":"hundred * $H19 * J56 / $H44 * J106 * (1 - J68) / hours_in_year","v":0},0,0,0,0,0,0,0,0,0,0,0,0,0,0,0]
[null,null,null,null,null,"132kV","p/kWh",null,null,{"$f":"hundred * $H20 * J57 / $H45 * J107 * (1 - J69) / hours_in_year","v":0},0,0,0,0,0,0,0,0,0,0,0,0,0,0,0]
[null,null,null,null,null,"132kV/EHV","p/kWh",null,null,{"$f":"hundred * $H21 * J58 / $H46 * J108 * (1 - J70) / hours_in_year","v":0},0,0,0,0,0,0,0,0,0,0,0,0,0,0,0]
[null,null,null,null,null,"EHV","p/kWh",null,null,{"$f":"hundred * $H22 * J59 / $H47 * J109 * (1 - J71) / hours_in_year","v":2.3063648481960884E-3},2.3063648481960884E-3,2.6788544437756252E-3,2.6788544437756252E-3,2.0708276223939054E-3,1.684283693131584E-3,1.6278393392289501E-3,1.8127412956928774E-3,-1.6492925609407124E-3,-1.5681798120419888E-3,-1.6492925609407124E-3,-1.6492925609407124E-3,-1.5681798120419888E-3,-1.5681798120419888E-3,-1.4932119683628653E-3,-1.4932119683628653E-3]
[null,null,null,null,null,"EHV/HV","p/kWh",null,null,{"$f":"hundred * $H23 * J60 / $H48 * J110 * (1 - J72) / hours_in_year","v":1.6495075700587941E-3},1.6495075700587941E-3,1.9159113908407291E-3,1.9159113908407291E-3,1.4810518128115279E-3,1.2045963604241177E-3,1.0308235481418159E-3,1.2964689832756962E-3,-1.1795707720056528E-3,-1.1215590946938995E-3,-1.1795707720056528E-3,-1.1795707720056528E-3,-1.1215590946938995E-3,-1.1215590946938995E-3,-9.4557123805885939E-4,-9.4557123805885939E-4]
[null,null,null,null,null,"132kV/HV","p/kWh",null,null,{"$f":"hundred * $H24 * J61 / $H49 * J111 * (1 - J73) / hours_in_year","v":0},0,0,0,0,0,0,0,0,0,0,0,0,0,0,0]
[null,null,null,null,null,"HV","p/kWh",null,null,{"$f":"hundred * $H25 * J62 / $H50 * J112 * (1 - J74) / hours_in_year","v":5.6723556339629807E-3},5.6723556339629807E-3,6.5884697768449135E-3,6.5884697768449135E-3,5.093067014110832E-3,4.142387143733748E-3,2.8355357920827429E-3,4.4583203345226413E-3,-4.0563287102743269E-3,-3.8568371343591953E-3,-4.0563287102743269E-3,-4.0563287102743269E-3,-3.8568371343591953E-3,-3.8568371343591953E-3,0,0]
[null,null,null,null,null,"HV/LV","p/kWh",null,null,{"$f":"hundred * $H26 * J63 / $H51 * J113 * (1 - J75) / hours_in_year","v":1.3025042971959073E-3},1.3025042971959073E-3,1.5128653332143784E-3,1.5128653332143784E-3,1.1694862064125261E-3,9.5118807838089449E-4,0,1.0237336600023082E-3,-9.3142706785473818E-4,0,-9.3142706785473818E-4,-9.3142706785473818E-4,0,0,0,0]
[null,null,null,null,null,"LV circuits","p/kWh",null,null,{"$f":"hundred * $H27 * J64 / $H52 * J114 * (1 - J76) / hours_in_year","v":2.2883722751945547E-4},2.2883722751945547E-4,2.6579559791732816E-4,2.6579559791732816E-4,2.0546725386920976E-4,0,0,1.7985996128966103E-4,0,0,0,0,0,0,0,0]
[]
[null,null,null,null,"Other operating costs"]
[null,null,null,null,null,"Transmission exit","p/kWh",null,null,{"$f":"hundred * $H30 * J55 / $H43 * J105 / hours_in_year","v":2.4082353729925929E-3},2.4082353729925929E-3,2.7971775738971738E-3,2.7971775738971738E-3,2.162294632403776E-3,1.7586773277118667E-3,1.7542994173707232E-3,1.8928088128755832E-3,-1.7221406616466405E-3,-1.637445219270576E-3,-1.7221406616466405E-3,-1.7221406616466405E-3,-1.637445219270576E-3,-1.637445219270576E-3,-1.6092134051452214E-3,-1.6092134051452214E-3]
[null,null,null,null,null,"GSPs","p/kWh",null,null,{"$f":"hundred * $H31 * J56 / $H44 * J106 / hours_in_year","v":0},0,0,0,0,0,0,0,0,0,0,0,0,0,0,0]
[null,null,null,null,null,"132kV","p/kWh",null,null,{"$f":"hundred * $H32 * J57 / $H45 * J107 / hours_in_year","v":0},0,0,0,0,0,0,0,0,0,0,0,0,0,0,0]
[null,null,null,null,null,"132kV/EHV","p/kWh",null,null,{"$f":"hundred * $H33 * J58 / $H46 * J108 / hours_in_year","v":0},0,0,0,0,0,0,0,0,0,0,0,0,0,0,0]
[null,null,null,null,null,"EHV","p/kWh",null,null,{"$f":"hundred * $H34 * J59 / $H47 * J109 / hours_in_year","v":1.7045036833946514E-3},1.7045036833946514E-3,1.979789654817645E-3,1.979789654817645E-3,1.5304314548526714E-3,1.2447587210973002E-3,1.2416601185330591E-3,1.3396944624640774E-3,-1.218898756334076E-3,-1.1589529158586296E-3,-1.218898756334076E-3,-1.218898756334076E-3,-1.1589529158586296E-3,-1.1589529158586296E-3,-1.1389709690334806E-3,-1.1389709690334806E-3]
[null,null,null,null,null,"EHV/HV","p/kWh",null,null,{"$f":"hundred * $H35 * J60 / $H48 * J110 / hours_in_year","v":1.2190576574004099E-3},1.2190576574004099E-3,1.4159416387654474E-3,1.4159416387654474E-3,1.0945615444191612E-3,8.9024897121226508E-4,8.8803285679727264E-4,9.5814682535105193E-4,-8.7175397564738066E-4,-8.2888082930406676E-4,-8.7175397564738066E-4,-8.7175397564738066E-4,-8.2888082930406676E-4,-8.2888082930406676E-4,-8.1458978052296213E-4,-8.1458978052296213E-4]
[null,null,null,null,null,"132kV/HV","p/kWh",null,null,{"$f":"hundred * $H36 * J61 / $H49 * J111 / hours_in_year","v":0},0,0,0,0,0,0,0,0,0,0,0,0,0,0,0]
[null,null,null,null,null,"HV","p/kWh",null,null,{"$f":"hundred * $H37 * J62 / $H50 * J112 / hours_in_year","v":5.2444201935189071E-3},5.2444201935189071E-3,6.0914205969723884E-3,6.0914205969723884E-3,4.7088344277678631E-3,3.8298760141018623E-3,3.8203422278050604E-3,4.1219744847364589E-3,-3.750310025052286E-3,-3.5658685484103703E-3,-3.750310025052286E-3,-3.750310025052286E-3,-3.5658685484103703E-3,-3.5658685484103703E-3,0,0]
[null,null,null,null,null,"HV/LV","p/kWh",null,null,{"$f":"hundred * $H38 * J63 / $H51 * J113 / hours_in_year","v":1.3180712926202751E-3},1.3180712926202751E-3,1.530946477184908E-3,1.530946477184908E-3,1.1834634243482202E-3,9.6255628691252568E-4,0,1.0359689034754667E-3,-9.4255910091953666E-4,0,-9.4255910091953666E-4,-9.4255910091953666E-4,0,0,0,0]
[null,null,null,null,null,"LV circuits","p/kWh",null,null,{"$f":"hundred * $H39 * J64 / $H52 * J114 / hours_in_year","v":2.2170375862583351E-3},2.2170375862583351E-3,2.5751003769464232E-3,2.5751003769464232E-3,1.9906228960696218E-3,0,0,1.7425324487828188E-3,0,0,0,0,0,0,0,0]
[]
[null,"Checks"]
[]
[null,null,null,"Other checks"]
[]
[null,null,null,null,"Check for error values",null,"number of issues",{"$f":"SUM(IF(ISERROR(H18:Y232), 1))","v":0}]
[]
[null,null,null,null,"Non-zero tariff check",null,"number of issues",{"$f":"SUM(J239:Y239)","v":0},null,{"$f":"IF(ABS(IFERROR(SUM(J152:J231), 1)) > 0, 0, 1)","v":0},0,{"$f":"IF(ABS(IFERROR(SUM(L152:L231), 1)) > 0, 0, 1)","v":0},0,0,0,0,0,0,0,0,0,0,0,0,0]
[]
[null,null,null,null,"Check summary",null,"number of issues",{"$f":"SUM(H239, H237)","v":0}]
[]
[null,"End of sheet"]

{"sheet":"Service model charges","index":26,"n_rows":50,"n_cols":27,"rows_kept":50,"cut":false,"hidden":false,"merged":[]}
[{"$f":"MID(CELL(\"filename\",A1),FIND(\"]\",CELL(\"filename\",A1))+1,255)","v":"Service model charges"}]
[{"$f":"Cover!D21&\" - \"&Cover!D23","v":"SP Distribution - One"}]
[{"$f":"Cover!D2&\" - \"&Cover!D8&\" v\"&Cover!D10&\" - \"&Cover!D19","v":"ARP model - Release for charge setting v5 - 2021/22"}]
[{"$f":"H48 & IF(H48 = 1, \" issue\", \" issues\") &\" identified in checks on this sheet\"","v":"0 issues identified in checks on this sheet"}]
[null,"Click here to return to model map",null,null,null,null,"Units","Constants",null,"Domestic Aggregated","Domestic Aggregated (Related MPAN)","Non-Domestic Aggregated","Non-Domestic Aggregated (Related MPAN)","LV Site Specific","LV Sub Site Specific","HV Site Specific","Unmetered Supplies","LV Generation Aggregated","LV Sub Generation Aggregated","LV Generation Site Specific","LV Generation Site Specific no RP Charge","LV Sub Generation Site Specific","LV Sub Generation Site Specific no RP Charge","HV Generation Site Specific","HV Generation Site Specific no RP Charge",null,"Legal text reference"]
[]
[null,"Description"]
[]
[null,null,"This sheet calculates costs allocated to service models."]
[null,null,"Costs allocated to service models are attributed to either fixed charges, or to unit charges (in the case"]
[null,null,"of UMS customers)."]
[]
[null,"Inputs to service model charge calculation"]
[]
[null,null,"Brings in inputs used in allocation of costs to service models."]
[]
[null,null,{"$f":"INDEX('Version control'!$H$34:$H$58,MATCH($A$1,'Version control'!$F$34:$F$58,0),1)&\"-A: Inputs to service model charge calculation\"","v":"Section 513-A: Inputs to service model charge calculation"}]
[]
[null,null,null,null,"Annuity rate",null,"%",{"$f":"'Unit costs'!$H$121","v":4.8216791977211342E-2}]
[null,null,null,null,"Other operating costs for allocation",null,"£ per year",{"$f":"'Unit costs'!$H$122","v":116672119.90617666}]
[null,null,null,null,"Notional asset value",null,"£ per year",{"$f":"'Unit costs'!$H$123","v":3274152044.2851853}]
[]
[null,null,null,null,"Service model asset values"]
[null,null,null,null,"This table pulls in service model costs per customer (or per MWh for UMS)"]
[null,null,null,null,null,"LV customers","£ per MPAN",null,null,{"$f":"'Inputs by customer type'!J56","v":377.70000000000005},{"$f":"'Inputs by customer type'!K56","v":0},{"$f":"'Inputs by customer type'!L56","v":508.75},{"$f":"'Inputs by customer type'!M56","v":0},{"$f":"'Inputs by customer type'!N56","v":2380},{"$f":"'Inputs by customer type'!O56","v":840},{"$f":"'Inputs by customer type'!P56","v":0},null,{"$f":"'Inputs by customer type'!R56","v":0},{"$f":"'Inputs by customer type'!S56","v":0},{"$f":"'Inputs by customer type'!T56","v":0},{"$f":"'Inputs by customer type'!U56","v":0},{"$f":"'Inputs by customer type'!V56","v":0},{"$f":"'Inputs by customer type'!W56","v":0},{"$f":"'Inputs by customer type'!X56","v":0},{"$f":"'Inputs by customer type'!Y56","v":0}]
[null,null,null,null,null,"HV customers","£ per MPAN",null,null,{"$f":"'Inputs by customer type'!J57","v":0},{"$f":"'Inputs by customer type'!K57","v":0},{"$f":"'Inputs by customer type'!L57","v":0},{"$f":"'Inputs by customer type'!M57","v":0},{"$f":"'Inputs by customer type'!N57","v":0},{"$f":"'Inputs by customer type'!O57","v":0},{"$f":"'Inputs by customer type'!P57","v":12718.10554},null,{"$f":"'Inputs by customer type'!R57","v":0},{"$f":"'Inputs by customer type'!S57","v":0},{"$f":"'Inputs by customer type'!T57","v":0},{"$f":"'Inputs by customer type'!U57","v":0},{"$f":"'Inputs by customer type'!V57","v":0},{"$f":"'Inputs by customer type'!W57","v":0},{"$f":"'Inputs by customer type'!X57","v":9287},{"$f":"'Inputs by customer type'!Y57","v":9287}]
[null,null,null,null,null,"LV UMS customers","£/MWh/year",null,null,null,null,null,null,null,null,null,{"$f":"'Inputs by customer type'!Q59","v":120.51}]
[]
[null,"Allocation of service model costs"]
[]
[null,null,"This section allocates other operating costs to service model customers"]
[]
[null,null,{"$f":"INDEX('Version control'!$H$34:$H$58,MATCH($A$1,'Version control'!$F$34:$F$58,0),1)&\"-B: Calculation of other operating expenditure per £ of notional asset value\"","v":"Section 513-B: Calculation of other operating expenditure per £ of notional asset value"}]
[]
[null,null,null,null,"Other operating expenditure per £ of notional asset value",null,"£",{"$f":"IF(H21 <> 0, H20  /H21, 0)","v":3.5634301134493764E-2},">",null,null,null,null,null,null,null,null,null,null,null,null,null,null,null,null,null,"Paragraphs 66, 85 & 86"]
[]
[null,null,{"$f":"INDEX('Version control'!$H$34:$H$58,MATCH($A$1,'Version control'!$F$34:$F$58,0),1)&\"-C: Calculation of service model charges\"","v":"Section 513-C: Calculation of service model charges"}]
[]
[null,null,null,null,"LV and HV added to fixed charges in 'Fixed charges' tab. For UMS, added to unit rates in 'Unit rate charges' tab."]
[]
[null,null,null,null,"Operating expenditure for customer assets",null,null,null,">",null,null,null,null,null,null,null,null,null,null,null,null,null,null,null,null,null,"Paragraphs 66 & 85"]
[null,null,null,null,null,"LV customers","p/MPAN/day",null,null,{"$f":"J25 * $H$35 / days_in_year * hundred","v":3.6874179557529576},0,{"$f":"L25 * $H$35 / days_in_year * hundred","v":4.9668358088147135},0,{"$f":"N25 * $H$35 / days_in_year * hundred","v":23.235516904135658},8.2007706720478808,0,{"$f":"Q25 * $H$35 / days_in_year * hundred","v":0},0,0,{"$f":"T25 * $H$35 / days_in_year * hundred","v":0},0,{"$f":"V25 * $H$35 / days_in_year * hundred","v":0},0,{"$f":"X25 * $H$35 / days_in_year * hundred","v":0},0]
[null,null,null,null,null,"HV customers","p/MPAN/day",null,null,{"$f":"J26 * $H$35 / days_in_year * hundred","v":0},0,{"$f":"L26 * $H$35 / days_in_year * hundred","v":0},0,{"$f":"N26 * $H$35 / days_in_year * hundred","v":0},0,124.16460347195436,{"$f":"Q26 * $H$35 / days_in_year * hundred","v":0},0,0,{"$f":"T26 * $H$35 / days_in_year * hundred","v":0},0,{"$f":"V26 * $H$35 / days_in_year * hundred","v":0},0,{"$f":"X26 * $H$35 / days_in_year * hundred","v":90.667330037272208},90.667330037272208]
[null,null,null,null,null,"LV UMS customers","p/kWh",null,null,null,null,null,null,null,null,null,{"$f":"Q27*$H$35/ten","v":0.42942896297178434}]
[]
[null,"Checks"]
[]
[null,null,null,null,"Check for error values",null,"number of issues",{"$f":"SUM(IF(ISERROR(H19:Y45), 1))","v":0}]
[]
[null,"End of sheet"]

{"sheet":"Unit rate charges","index":27,"n_rows":225,"n_cols":27,"rows_kept":225,"cut":false,"hidden":false,"merged":[]}
[{"$f":"MID(CELL(\"filename\",A1),FIND(\"]\",CELL(\"filename\",A1))+1,255)","v":"Unit rate charges"}]
[{"$f":"Cover!D21&\" - \"&Cover!D23","v":"SP Distribution - One"}]
[{"$f":"Cover!D2&\" - \"&Cover!D8&\" v\"&Cover!D10&\" - \"&Cover!D19","v":"ARP model - Release for charge setting v5 - 2021/22"}]
[{"$f":"H223 & IF(H223 = 1, \" issue\", \" issues\") &\" identified in checks on this sheet\"","v":"0 issues identified in checks on this sheet"}]
[null,"Click here to return to model map",null,null,null,null,"Units","Constants",null,"Domestic Aggregated","Domestic Aggregated (Related MPAN)","Non-Domestic Aggregated","Non-Domestic Aggregated (Related MPAN)","LV Site Specific","LV Sub Site Specific","HV Site Specific","Unmetered Supplies","LV Generation Aggregated","LV Sub Generation Aggregated","LV Generation Site Specific","LV Generation Site Specific no RP Charge","LV Sub Generation Site Specific","LV Sub Generation Site Specific no RP Charge","HV Generation Site Specific","HV Generation Site Specific no RP Charge",null,"Legal text reference"]
[]
[null,"Description"]
[]
[null,null,"This sheet adjusts unit rates 1, 2 and 3 to account for costs that will be recovered through fixed "]
[null,null,"or capacity charges instead. This is done by multiplying unit rates by (1 - [standing charge factors]). "]
[null,null,"Where these factors are greater than zero, unit charges are reduced; where they are equal "]
[null,null,"to one, unit charges will be zero."]
[null,null,"Unit rates 1, 2 and 3, are summarised at the bottom. These are scaled later in the model for revenue matching."]
[]
[null,"Inputs to unit rate charge calculations"]
[]
[null,null,"Brings in inputs used in the application of standing charges to unit rates"]
[]
[null,null,{"$f":"INDEX('Version control'!$H$34:$H$58,MATCH($A$1,'Version control'!$F$34:$F$58,0),1)&\"-A: Initial unit rate 1\"","v":"Section 514-A: Initial unit rate 1"}]
[]
[null,null,null,null,"Asset costs"]
[null,null,null,null,null,"Transmission exit","p/kWh",null,null,{"$f":"'Initial unit rates'!J152","v":0},{"$f":"'Initial unit rates'!K152","v":0},{"$f":"'Initial unit rates'!L152","v":0},{"$f":"'Initial unit rates'!M152","v":0},{"$f":"'Initial unit rates'!N152","v":0},{"$f":"'Initial unit rates'!O152","v":0},{"$f":"'Initial unit rates'!P152","v":0},{"$f":"'Initial unit rates'!Q152","v":0},{"$f":"'Initial unit rates'!R152","v":0},{"$f":"'Initial unit rates'!S152","v":0},{"$f":"'Initial unit rates'!T152","v":0},{"$f":"'Initial unit rates'!U152","v":0},{"$f":"'Initial unit rates'!V152","v":0},{"$f":"'Initial unit rates'!W152","v":0},{"$f":"'Initial unit rates'!X152","v":0},{"$f":"'Initial unit rates'!Y152","v":0}]
[null,null,null,null,null,"GSPs","p/kWh",null,null,{"$f":"'Initial unit rates'!J153","v":0},{"$f":"'Initial unit rates'!K153","v":0},{"$f":"'Initial unit rates'!L153","v":0},{"$f":"'Initial unit rates'!M153","v":0},{"$f":"'Initial unit rates'!N153","v":0},{"$f":"'Initial unit rates'!O153","v":0},{"$f":"'Initial unit rates'!P153","v":0},{"$f":"'Initial unit rates'!Q153","v":0},{"$f":"'Initial unit rates'!R153","v":0},{"$f":"'Initial unit rates'!S153","v":0},{"$f":"'Initial unit rates'!T153","v":0},{"$f":"'Initial unit rates'!U153","v":0},{"$f":"'Initial unit rates'!V153","v":0},{"$f":"'Initial unit rates'!W153","v":0},{"$f":"'Initial unit rates'!X153","v":0},{"$f":"'Initial unit rates'!Y153","v":0}]
[null,null,null,null,null,"132kV","p/kWh",null,null,{"$f":"'Initial unit rates'!J154","v":0},{"$f":"'Initial unit rates'!K154","v":0},{"$f":"'Initial unit rates'!L154","v":0},{"$f":"'Initial unit rates'!M154","v":0},{"$f":"'Initial unit rates'!N154","v":0},{"$f":"'Initial unit rates'!O154","v":0},{"$f":"'Initial unit rates'!P154","v":0},{"$f":"'Initial unit rates'!Q154","v":0},{"$f":"'Initial unit rates'!R154","v":0},{"$f":"'Initial unit rates'!S154","v":0},{"$f":"'Initial unit rates'!T154","v":0},{"$f":"'Initial unit rates'!U154","v":0},{"$f":"'Initial unit rates'!V154","v":0},{"$f":"'Initial unit rates'!W154","v":0},{"$f":"'Initial unit rates'!X154","v":0},{"$f":"'Initial unit rates'!Y154","v":0}]
[null,null,null,null,null,"132kV/EHV","p/kWh",null,null,{"$f":"'Initial unit rates'!J155","v":0},{"$f":"'Initial unit rates'!K155","v":0},{"$f":"'Initial unit rates'!L155","v":0},{"$f":"'Initial unit rates'!M155","v":0},{"$f":"'Initial unit rates'!N155","v":0},{"$f":"'Initial unit rates'!O155","v":0},{"$f":"'Initial unit rates'!P155","v":0},{"$f":"'Initial unit rates'!Q155","v":0},{"$f":"'Initial unit rates'!R155","v":0},{"$f":"'Initial unit rates'!S155","v":0},{"$f":"'Initial unit rates'!T155","v":0},{"$f":"'Initial unit rates'!U155","v":0},{"$f":"'Initial unit rates'!V155","v":0},{"$f":"'Initial unit rates'!W155","v":0},{"$f":"'Initial unit rates'!X155","v":0},{"$f":"'Initial unit rates'!Y155","v":0}]
[null,null,null,null,null,"EHV","p/kWh",null,null,{"$f":"'Initial unit rates'!J156","v":1.7958309065063878},{"$f":"'Initial unit rates'!K156","v":1.7958309065063878},{"$f":"'Initial unit rates'!L156","v":2.0858666866723046},{"$f":"'Initial unit rates'!M156","v":2.0858666866723046},{"$f":"'Initial unit rates'!N156","v":1.612431896562593},{"$f":"'Initial unit rates'!O156","v":1.3114528318518921},{"$f":"'Initial unit rates'!P156","v":1.267502927171626},{"$f":"'Initial unit rates'!Q156","v":3.8982206606005354},{"$f":"'Initial unit rates'!R156","v":-1.2842072914547749},{"$f":"'Initial unit rates'!S156","v":-1.2210495558094581},{"$f":"'Initial unit rates'!T156","v":-1.2842072914547749},{"$f":"'Initial unit rates'!U156","v":-1.2842072914547749},{"$f":"'Initial unit rates'!V156","v":-1.2210495558094581},{"$f":"'Initial unit rates'!W156","v":-1.2210495558094581},{"$f":"'Initial unit rates'!X156","v":-1.1626764971069683},{"$f":"'Initial unit rates'!Y156","v":-1.1626764971069683}]
[null,null,null,null,null,"EHV/HV","p/kWh",null,null,{"$f":"'Initial unit rates'!J157","v":0.40311898458711498},{"$f":"'Initial unit rates'!K157","v":0.40311898458711498},{"$f":"'Initial unit rates'!L157","v":0.46822474079768722},{"$f":"'Initial unit rates'!M157","v":0.46822474079768722},{"$f":"'Initial unit rates'!N157","v":0.36195050798112338},{"$f":"'Initial unit rates'!O157","v":0.29438825893608744},{"$f":"'Initial unit rates'!P157","v":0.2519203606932246},{"$f":"'Initial unit rates'!Q157","v":0.90142027187854401},{"$f":"'Initial unit rates'!R157","v":-0.28827231865483915},{"$f":"'Initial unit rates'!S157","v":-0.27409499150787986},{"$f":"'Initial unit rates'!T157","v":-0.28827231865483915},{"$f":"'Initial unit rates'!U157","v":-0.28827231865483915},{"$f":"'Initial unit rates'!V157","v":-0.27409499150787986},{"$f":"'Initial unit rates'!W157","v":-0.27409499150787986},{"$f":"'Initial unit rates'!X157","v":-0.23108576417596077},{"$f":"'Initial unit rates'!Y157","v":-0.23108576417596077}]
[null,null,null,null,null,"132kV/HV","p/kWh",null,null,{"$f":"'Initial unit rates'!J158","v":0},{"$f":"'Initial unit rates'!K158","v":0},{"$f":"'Initial unit rates'!L158","v":0},{"$f":"'Initial unit rates'!M158","v":0},{"$f":"'Initial unit rates'!N158","v":0},{"$f":"'Initial unit rates'!O158","v":0},{"$f":"'Initial unit rates'!P158","v":0},{"$f":"'Initial unit rates'!Q158","v":0},{"$f":"'Initial unit rates'!R158","v":0},{"$f":"'Initial unit rates'!S158","v":0},{"$f":"'Initial unit rates'!T158","v":0},{"$f":"'Initial unit rates'!U158","v":0},{"$f":"'Initial unit rates'!V158","v":0},{"$f":"'Initial unit rates'!W158","v":0},{"$f":"'Initial unit rates'!X158","v":0},{"$f":"'Initial unit rates'!Y158","v":0}]
[null,null,null,null,null,"HV","p/kWh",null,null,{"$f":"'Initial unit rates'!J159","v":1.3862526519345733},{"$f":"'Initial unit rates'!K159","v":1.3862526519345733},{"$f":"'Initial unit rates'!L159","v":1.6101394710967898},{"$f":"'Initial unit rates'!M159","v":1.6101394710967898},{"$f":"'Initial unit rates'!N159","v":1.2446817707476834},{"$f":"'Initial unit rates'!O159","v":1.0123475208356565},{"$f":"'Initial unit rates'!P159","v":0.69296942312551713},{"$f":"'Initial unit rates'!Q159","v":3.0998198799272254},{"$f":"'Initial unit rates'!R159","v":-0.99131591786454487},{"$f":"'Initial unit rates'!S159","v":-0.94256267600235399},{"$f":"'Initial unit rates'!T159","v":-0.99131591786454487},{"$f":"'Initial unit rates'!U159","v":-0.99131591786454487},{"$f":"'Initial unit rates'!V159","v":-0.94256267600235399},{"$f":"'Initial unit rates'!W159","v":-0.94256267600235399},{"$f":"'Initial unit rates'!X159","v":0},{"$f":"'Initial unit rates'!Y159","v":0}]
[null,null,null,null,null,"HV/LV","p/kWh",null,null,{"$f":"'Initial unit rates'!J160","v":0.31831573206254088},{"$f":"'Initial unit rates'!K160","v":0.31831573206254088},{"$f":"'Initial unit rates'!L160","v":0.36972533379806782},{"$f":"'Initial unit rates'!M160","v":0.36972533379806782},{"$f":"'Initial unit rates'!N160","v":0.2858077771664006},{"$f":"'Initial unit rates'!O160","v":0.23245844958117295},{"$f":"'Initial unit rates'!P160","v":0},{"$f":"'Initial unit rates'!Q160","v":0.71179047554141128},{"$f":"'Initial unit rates'!R160","v":-0.22762910618056312},{"$f":"'Initial unit rates'!S160","v":0},{"$f":"'Initial unit rates'!T160","v":-0.22762910618056312},{"$f":"'Initial unit rates'!U160","v":-0.22762910618056312},{"$f":"'Initial unit rates'!V160","v":0},{"$f":"'Initial unit rates'!W160","v":0},{"$f":"'Initial unit rates'!X160","v":0},{"$f":"'Initial unit rates'!Y160","v":0}]
[null,null,null,null,null,"LV circuits","p/kWh",null,null,{"$f":"'Initial unit rates'!J161","v":5.5924951462990508E-2},{"$f":"'Initial unit rates'!K161","v":5.5924951462990508E-2},{"$f":"'Initial unit rates'!L161","v":6.4957114162464455E-2},{"$f":"'Initial unit rates'!M161","v":6.4957114162464455E-2},{"$f":"'Initial unit rates'!N161","v":5.0213622689046861E-2},{"$f":"'Initial unit rates'!O161","v":0},{"$f":"'Initial unit rates'!P161","v":0},{"$f":"'Initial unit rates'!Q161","v":0.12505460392592638},{"$f":"'Initial unit rates'!R161","v":0},{"$f":"'Initial unit rates'!S161","v":0},{"$f":"'Initial unit rates'!T161","v":0},{"$f":"'Initial unit rates'!U161","v":0},{"$f":"'Initial unit rates'!V161","v":0},{"$f":"'Initial unit rates'!W161","v":0},{"$f":"'Initial unit rates'!X161","v":0},{"$f":"'Initial unit rates'!Y161","v":0}]
[null,null,null,null,null,"LV customers","p/kWh"]
[null,null,null,null,null,"HV customers","p/kWh"]
[]
[null,null,null,null,"Other operating costs"]
[null,null,null,null,null,"Transmission exit","p/kWh",null,null,{"$f":"'Initial unit rates'!J164","v":1.8751515036073518},{"$f":"'Initial unit rates'!K164","v":1.8751515036073518},{"$f":"'Initial unit rates'!L164","v":2.1779979616494836},{"$f":"'Initial unit rates'!M164","v":2.1779979616494836},{"$f":"'Initial unit rates'!N164","v":1.6836518874629611},{"$f":"'Initial unit rates'!O164","v":1.369378787639463},{"$f":"'Initial unit rates'!P164","v":1.3659699658727382},{"$f":"'Initial unit rates'!Q164","v":4.0704023450285449},{"$f":"'Initial unit rates'!R164","v":-1.3409298307487285},{"$f":"'Initial unit rates'!S164","v":-1.2749824620233809},{"$f":"'Initial unit rates'!T164","v":-1.3409298307487285},{"$f":"'Initial unit rates'!U164","v":-1.3409298307487285},{"$f":"'Initial unit rates'!V164","v":-1.2749824620233809},{"$f":"'Initial unit rates'!W164","v":-1.2749824620233809},{"$f":"'Initial unit rates'!X164","v":-1.2530000057815984},{"$f":"'Initial unit rates'!Y164","v":-1.2530000057815984}]
[null,null,null,null,null,"GSPs","p/kWh",null,null,{"$f":"'Initial unit rates'!J165","v":0},{"$f":"'Initial unit rates'!K165","v":0},{"$f":"'Initial unit rates'!L165","v":0},{"$f":"'Initial unit rates'!M165","v":0},{"$f":"'Initial unit rates'!N165","v":0},{"$f":"'Initial unit rates'!O165","v":0},{"$f":"'Initial unit rates'!P165","v":0},{"$f":"'Initial unit rates'!Q165","v":0},{"$f":"'Initial unit rates'!R165","v":0},{"$f":"'Initial unit rates'!S165","v":0},{"$f":"'Initial unit rates'!T165","v":0},{"$f":"'Initial unit rates'!U165","v":0},{"$f":"'Initial unit rates'!V165","v":0},{"$f":"'Initial unit rates'!W165","v":0},{"$f":"'Initial unit rates'!X165","v":0},{"$f":"'Initial unit rates'!Y165","v":0}]
[null,null,null,null,null,"132kV","p/kWh",null,null,{"$f":"'Initial unit rates'!J166","v":0},{"$f":"'Initial unit rates'!K166","v":0},{"$f":"'Initial unit rates'!L166","v":0},{"$f":"'Initial unit rates'!M166","v":0},{"$f":"'Initial unit rates'!N166","v":0},{"$f":"'Initial unit rates'!O166","v":0},{"$f":"'Initial unit rates'!P166","v":0},{"$f":"'Initial unit rates'!Q166","v":0},{"$f":"'Initial unit rates'!R166","v":0},{"$f":"'Initial unit rates'!S166","v":0},{"$f":"'Initial unit rates'!T166","v":0},{"$f":"'Initial unit rates'!U166","v":0},{"$f":"'Initial unit rates'!V166","v":0},{"$f":"'Initial unit rates'!W166","v":0},{"$f":"'Initial unit rates'!X166","v":0},{"$f":"'Initial unit rates'!Y166","v":0}]
[null,null,null,null,null,"132kV/EHV","p/kWh",null,null,{"$f":"'Initial unit rates'!J167","v":0},{"$f":"'Initial unit rates'!K167","v":0},{"$f":"'Initial unit rates'!L167","v":0},{"$f":"'Initial unit rates'!M167","v":0},{"$f":"'Initial unit rates'!N167","v":0},{"$f":"'Initial unit rates'!O167","v":0},{"$f":"'Initial unit rates'!P167","v":0},{"$f":"'Initial unit rates'!Q167","v":0},{"$f":"'Initial unit rates'!R167","v":0},{"$f":"'Initial unit rates'!S167","v":0},{"$f":"'Initial unit rates'!T167","v":0},{"$f":"'Initial unit rates'!U167","v":0},{"$f":"'Initial unit rates'!V167","v":0},{"$f":"'Initial unit rates'!W167","v":0},{"$f":"'Initial unit rates'!X167","v":0},{"$f":"'Initial unit rates'!Y167","v":0}]
[null,null,null,null,null,"EHV","p/kWh",null,null,{"$f":"'Initial unit rates'!J168","v":1.3271969512058077},{"$f":"'Initial unit rates'!K168","v":1.3271969512058077},{"$f":"'Initial unit rates'!L168","v":1.5415459758172922},{"$f":"'Initial unit rates'!M168","v":1.5415459758172922},{"$f":"'Initial unit rates'!N168","v":1.1916571261756816},{"$f":"'Initial unit rates'!O168","v":0.96922053951623688},{"$f":"'Initial unit rates'!P168","v":0.96680783961049732},{"$f":"'Initial unit rates'!Q168","v":2.8809541906935197},{"$f":"'Initial unit rates'!R168","v":-0.94908490312753313},{"$f":"'Initial unit rates'!S168","v":-0.90240859641634319},{"$f":"'Initial unit rates'!T168","v":-0.94908490312753313},{"$f":"'Initial unit rates'!U168","v":-0.94908490312753313},{"$f":"'Initial unit rates'!V168","v":-0.90240859641634319},{"$f":"'Initial unit rates'!W168","v":-0.90240859641634319},{"$f":"'Initial unit rates'!X168","v":-0.88684982751261299},{"$f":"'Initial unit rates'!Y168","v":-0.88684982751261299}]
[null,null,null,null,null,"EHV/HV","p/kWh",null,null,{"$f":"'Initial unit rates'!J169","v":0.29792241874154252},{"$f":"'Initial unit rates'!K169","v":0.29792241874154252},{"$f":"'Initial unit rates'!L169","v":0.34603839716443235},{"$f":"'Initial unit rates'!M169","v":0.34603839716443235},{"$f":"'Initial unit rates'!N169","v":0.26749712845429946},{"$f":"'Initial unit rates'!O169","v":0.2175656952529296},{"$f":"'Initial unit rates'!P169","v":0.21702410465406455},{"$f":"'Initial unit rates'!Q169","v":0.666188688621981},{"$f":"'Initial unit rates'!R169","v":-0.21304575004783205},{"$f":"'Initial unit rates'!S169","v":-0.20256809020941408},{"$f":"'Initial unit rates'!T169","v":-0.21304575004783205},{"$f":"'Initial unit rates'!U169","v":-0.21304575004783205},{"$f":"'Initial unit rates'!V169","v":-0.20256809020941408},{"$f":"'Initial unit rates'!W169","v":-0.20256809020941408},{"$f":"'Initial unit rates'!X169","v":-0.19907553692994143},{"$f":"'Initial unit rates'!Y169","v":-0.19907553692994143}]
[null,null,null,null,null,"132kV/HV","p/kWh",null,null,{"$f":"'Initial unit rates'!J170","v":0},{"$f":"'Initial unit rates'!K170","v":0},{"$f":"'Initial unit rates'!L170","v":0},{"$f":"'Initial unit rates'!M170","v":0},{"$f":"'Initial unit rates'!N170","v":0},{"$f":"'Initial unit rates'!O170","v":0},{"$f":"'Initial unit rates'!P170","v":0},{"$f":"'Initial unit rates'!Q170","v":0},{"$f":"'Initial unit rates'!R170","v":0},{"$f":"'Initial unit rates'!S170","v":0},{"$f":"'Initial unit rates'!T170","v":0},{"$f":"'Initial unit rates'!U170","v":0},{"$f":"'Initial unit rates'!V170","v":0},{"$f":"'Initial unit rates'!W170","v":0},{"$f":"'Initial unit rates'!X170","v":0},{"$f":"'Initial unit rates'!Y170","v":0}]
[null,null,null,null,null,"HV","p/kWh",null,null,{"$f":"'Initial unit rates'!J171","v":1.2816705915961015},{"$f":"'Initial unit rates'!K171","v":1.2816705915961015},{"$f":"'Initial unit rates'!L171","v":1.4886668787200668},{"$f":"'Initial unit rates'!M171","v":1.4886668787200668},{"$f":"'Initial unit rates'!N171","v":1.1507801404288012},{"$f":"'Initial unit rates'!O171","v":0.93597371598862078},{"$f":"'Initial unit rates'!P171","v":0.93364377805987264},{"$f":"'Initial unit rates'!Q171","v":2.865962401444837},{"$f":"'Initial unit rates'!R171","v":-0.91652878509194657},{"$f":"'Initial unit rates'!S171","v":-0.87145359893988361},{"$f":"'Initial unit rates'!T171","v":-0.91652878509194657},{"$f":"'Initial unit rates'!U171","v":-0.91652878509194657},{"$f":"'Initial unit rates'!V171","v":-0.87145359893988361},{"$f":"'Initial unit rates'!W171","v":-0.87145359893988361},{"$f":"'Initial unit rates'!X171","v":0},{"$f":"'Initial unit rates'!Y171","v":0}]
[null,null,null,null,null,"HV/LV","p/kWh",null,null,{"$f":"'Initial unit rates'!J172","v":0.3221201107161773},{"$f":"'Initial unit rates'!K172","v":0.3221201107161773},{"$f":"'Initial unit rates'!L172","v":0.37414413885836451},{"$f":"'Initial unit rates'!M172","v":0.37414413885836451},{"$f":"'Initial unit rates'!N172","v":0.28922363411902369},{"$f":"'Initial unit rates'!O172","v":0.23523669732191077},{"$f":"'Initial unit rates'!P172","v":0},{"$f":"'Initial unit rates'!Q172","v":0.72029750242778401},{"$f":"'Initial unit rates'!R172","v":-0.23034963559608548},{"$f":"'Initial unit rates'!S172","v":0},{"$f":"'Initial unit rates'!T172","v":-0.23034963559608548},{"$f":"'Initial unit rates'!U172","v":-0.23034963559608548},{"$f":"'Initial unit rates'!V172","v":0},{"$f":"'Initial unit rates'!W172","v":0},{"$f":"'Initial unit rates'!X172","v":0},{"$f":"'Initial unit rates'!Y172","v":0}]
[null,null,null,null,null,"LV circuits","p/kWh",null,null,{"$f":"'Initial unit rates'!J173","v":0.54181621035669014},{"$f":"'Initial unit rates'!K173","v":0.54181621035669014},{"$f":"'Initial unit rates'!L173","v":0.6293222704807222},{"$f":"'Initial unit rates'!M173","v":0.6293222704807222},{"$f":"'Initial unit rates'!N173","v":0.4864832966670446},{"$f":"'Initial unit rates'!O173","v":0},{"$f":"'Initial unit rates'!P173","v":0},{"$f":"'Initial unit rates'!Q173","v":1.2115631719705942},{"$f":"'Initial unit rates'!R173","v":0},{"$f":"'Initial unit rates'!S173","v":0},{"$f":"'Initial unit rates'!T173","v":0},{"$f":"'Initial unit rates'!U173","v":0},{"$f":"'Initial unit rates'!V173","v":0},{"$f":"'Initial unit rates'!W173","v":0},{"$f":"'Initial unit rates'!X173","v":0},{"$f":"'Initial unit rates'!Y173","v":0}]
[null,null,null,null,null,"LV customers","p/kWh",null,">",null,null,null,null,null,null,null,{"$f":"'Service model charges'!$Q$44","v":0.42942896297178434},null,null,null,null,null,null,null,null,null,"Paragraph 86"]
[null,null,null,null,null,"HV customers","p/kWh"]
[]
[null,null,{"$f":"INDEX('Version control'!$H$34:$H$58,MATCH($A$1,'Version control'!$F$34:$F$58,0),1)&\"-B: Initial unit rate 2\"","v":"Section 514-B: Initial unit rate 2"}]
[]
[null,null,null,null,"Asset costs"]
[null,null,null,null,null,"Transmission exit","p/kWh",null,null,{"$f":"'Initial unit rates'!J181","v":0},{"$f":"'Initial unit rates'!K181","v":0},{"$f":"'Initial unit rates'!L181","v":0},{"$f":"'Initial unit rates'!M181","v":0},{"$f":"'Initial unit rates'!N181","v":0},{"$f":"'Initial unit rates'!O181","v":0},{"$f":"'Initial unit rates'!P181","v":0},{"$f":"'Initial unit rates'!Q181","v":0},{"$f":"'Initial unit rates'!R181","v":0},{"$f":"'Initial unit rates'!S181","v":0},{"$f":"'Initial unit rates'!T181","v":0},{"$f":"'Initial unit rates'!U181","v":0},{"$f":"'Initial unit rates'!V181","v":0},{"$f":"'Initial unit rates'!W181","v":0},{"$f":"'Initial unit rates'!X181","v":0},{"$f":"'Initial unit rates'!Y181","v":0}]
[null,null,null,null,null,"GSPs","p/kWh",null,null,{"$f":"'Initial unit rates'!J182","v":0},{"$f":"'Initial unit rates'!K182","v":0},{"$f":"'Initial unit rates'!L182","v":0},{"$f":"'Initial unit rates'!M182","v":0},{"$f":"'Initial unit rates'!N182","v":0},{"$f":"'Initial unit rates'!O182","v":0},{"$f":"'Initial unit rates'!P182","v":0},{"$f":"'Initial unit rates'!Q182","v":0},{"$f":"'Initial unit rates'!R182","v":0},{"$f":"'Initial unit rates'!S182","v":0},{"$f":"'Initial unit rates'!T182","v":0},{"$f":"'Initial unit rates'!U182","v":0},{"$f":"'Initial unit rates'!V182","v":0},{"$f":"'Initial unit rates'!W182","v":0},{"$f":"'Initial unit rates'!X182","v":0},{"$f":"'Initial unit rates'!Y182","v":0}]
[null,null,null,null,null,"132kV","p/kWh",null,null,{"$f":"'Initial unit rates'!J183","v":0},{"$f":"'Initial unit rates'!K183","v":0},{"$f":"'Initial unit rates'!L183","v":0},{"$f":"'Initial unit rates'!M183","v":0},{"$f":"'Initial unit rates'!N183","v":0},{"$f":"'Initial unit rates'!O183","v":0},{"$f":"'Initial unit rates'!P183","v":0},{"$f":"'Initial unit rates'!Q183","v":0},{"$f":"'Initial unit rates'!R183","v":0},{"$f":"'Initial unit rates'!S183","v":0},{"$f":"'Initial unit rates'!T183","v":0},{"$f":"'Initial unit rates'!U183","v":0},{"$f":"'Initial unit rates'!V183","v":0},{"$f":"'Initial unit rates'!W183","v":0},{"$f":"'Initial unit rates'!X183","v":0},{"$f":"'Initial unit rates'!Y183","v":0}]
[null,null,null,null,null,"132kV/EHV","p/kWh",null,null,{"$f":"'Initial unit rates'!J184","v":0},{"$f":"'Initial unit rates'!K184","v":0},{"$f":"'Initial unit rates'!L184","v":0},{"$f":"'Initial unit rates'!M184","v":0},{"$f":"'Initial unit rates'!N184","v":0},{"$f":"'Initial unit rates'!O184","v":0},{"$f":"'Initial unit rates'!P184","v":0},{"$f":"'Initial unit rates'!Q184","v":0},{"$f":"'Initial unit rates'!R184","v":0},{"$f":"'Initial unit rates'!S184","v":0},{"$f":"'Initial unit rates'!T184","v":0},{"$f":"'Initial unit rates'!U184","v":0},{"$f":"'Initial unit rates'!V184","v":0},{"$f":"'Initial unit rates'!W184","v":0},{"$f":"'Initial unit rates'!X184","v":0},{"$f":"'Initial unit rates'!Y184","v":0}]
[null,null,null,null,null,"EHV","p/kWh",null,null,{"$f":"'Initial unit rates'!J185","v":0.1438617225082271},{"$f":"'Initial unit rates'!K185","v":0.1438617225082271},{"$f":"'Initial unit rates'!L185","v":0.16709611878268379},{"$f":"'Initial unit rates'!M185","v":0.16709611878268379},{"$f":"'Initial unit rates'!N185","v":0.12916986183179766},{"$f":"'Initial unit rates'!O185","v":0.10505881299567355},{"$f":"'Initial unit rates'!P185","v":0.1015380422101458},{"$f":"'Initial unit rates'!Q185","v":0.12323803469373426},{"$f":"'Initial unit rates'!R185","v":-0.10287620751873476},{"$f":"'Initial unit rates'!S185","v":-9.7816721903059289E-2},{"$f":"'Initial unit rates'!T185","v":-0.10287620751873476},{"$f":"'Initial unit rates'!U185","v":-0.10287620751873476},{"$f":"'Initial unit rates'!V185","v":-9.7816721903059289E-2},{"$f":"'Initial unit rates'!W185","v":-9.7816721903059289E-2},{"$f":"'Initial unit rates'!X185","v":-9.3140530652207704E-2},{"$f":"'Initial unit rates'!Y185","v":-9.3140530652207704E-2}]
[null,null,null,null,null,"EHV/HV","p/kWh",null,null,{"$f":"'Initial unit rates'!J186","v":4.8523421577766256E-2},{"$f":"'Initial unit rates'!K186","v":4.8523421577766256E-2},{"$f":"'Initial unit rates'!L186","v":5.6360199741366176E-2},{"$f":"'Initial unit rates'!M186","v":5.6360199741366176E-2},{"$f":"'Initial unit rates'!N186","v":4.356797313091882E-2},{"$f":"'Initial unit rates'!O186","v":3.5435506989409539E-2},{"$f":"'Initial unit rates'!P186","v":3.0323647194290419E-2},{"$f":"'Initial unit rates'!Q186","v":3.699604555862028E-2},{"$f":"'Initial unit rates'!R186","v":-3.4699331418528372E-2},{"$f":"'Initial unit rates'!S186","v":-3.2992806922535173E-2},{"$f":"'Initial unit rates'!T186","v":-3.4699331418528372E-2},{"$f":"'Initial unit rates'!U186","v":-3.4699331418528372E-2},{"$f":"'Initial unit rates'!V186","v":-3.2992806922535173E-2},{"$f":"'Initial unit rates'!W186","v":-3.2992806922535173E-2},{"$f":"'Initial unit rates'!X186","v":-2.7815787359196549E-2},{"$f":"'Initial unit rates'!Y186","v":-2.7815787359196549E-2}]
[null,null,null,null,null,"132kV/HV","p/kWh",null,null,{"$f":"'Initial unit rates'!J187","v":0},{"$f":"'Initial unit rates'!K187","v":0},{"$f":"'Initial unit rates'!L187","v":0},{"$f":"'Initial unit rates'!M187","v":0},{"$f":"'Initial unit rates'!N187","v":0},{"$f":"'Initial unit rates'!O187","v":0},{"$f":"'Initial unit rates'!P187","v":0},{"$f":"'Initial unit rates'!Q187","v":0},{"$f":"'Initial unit rates'!R187","v":0},{"$f":"'Initial unit rates'!S187","v":0},{"$f":"'Initial unit rates'!T187","v":0},{"$f":"'Initial unit rates'!U187","v":0},{"$f":"'Initial unit rates'!V187","v":0},{"$f":"'Initial unit rates'!W187","v":0},{"$f":"'Initial unit rates'!X187","v":0},{"$f":"'Initial unit rates'!Y187","v":0}]
[null,null,null,null,null,"HV","p/kWh",null,null,{"$f":"'Initial unit rates'!J188","v":0.16686319527226703},{"$f":"'Initial unit rates'!K188","v":0.16686319527226703},{"$f":"'Initial unit rates'!L188","v":0.19381244580940135},{"$f":"'Initial unit rates'!M188","v":0.19381244580940135},{"$f":"'Initial unit rates'!N188","v":0.14982231202534368},{"$f":"'Initial unit rates'!O188","v":0.12185624447091643},{"$f":"'Initial unit rates'!P188","v":8.341271124519431E-2},{"$f":"'Initial unit rates'!Q188","v":0.12722265194048846},{"$f":"'Initial unit rates'!R188","v":-0.11932467097415166},{"$f":"'Initial unit rates'!S188","v":-0.11345624453279995},{"$f":"'Initial unit rates'!T188","v":-0.11932467097415166},{"$f":"'Initial unit rates'!U188","v":-0.11932467097415166},{"$f":"'Initial unit rates'!V188","v":-0.11345624453279995},{"$f":"'Initial unit rates'!W188","v":-0.11345624453279995},{"$f":"'Initial unit rates'!X188","v":0},{"$f":"'Initial unit rates'!Y188","v":0}]
[null,null,null,null,null,"HV/LV","p/kWh",null,null,{"$f":"'Initial unit rates'!J189","v":3.8315656300647608E-2},{"$f":"'Initial unit rates'!K189","v":3.8315656300647608E-2},{"$f":"'Initial unit rates'!L189","v":4.4503828710123795E-2},{"$f":"'Initial unit rates'!M189","v":4.4503828710123795E-2},{"$f":"'Initial unit rates'!N189","v":3.4402674624351627E-2},{"$f":"'Initial unit rates'!O189","v":2.7981017465337491E-2},{"$f":"'Initial unit rates'!P189","v":0},{"$f":"'Initial unit rates'!Q189","v":2.9213268974352696E-2},{"$f":"'Initial unit rates'!R189","v":-2.7399709527157375E-2},{"$f":"'Initial unit rates'!S189","v":0},{"$f":"'Initial unit rates'!T189","v":-2.7399709527157375E-2},{"$f":"'Initial unit rates'!U189","v":-2.7399709527157375E-2},{"$f":"'Initial unit rates'!V189","v":0},{"$f":"'Initial unit rates'!W189","v":0},{"$f":"'Initial unit rates'!X189","v":0},{"$f":"'Initial unit rates'!Y189","v":0}]
[null,null,null,null,null,"LV circuits","p/kWh",null,null,{"$f":"'Initial unit rates'!J190","v":6.7316849374737739E-3},{"$f":"'Initial unit rates'!K190","v":6.7316849374737739E-3},{"$f":"'Initial unit rates'!L190","v":7.8188861241765984E-3},{"$f":"'Initial unit rates'!M190","v":7.8188861241765984E-3},{"$f":"'Initial unit rates'!N190","v":6.0442124430906538E-3},{"$f":"'Initial unit rates'!O190","v":0},{"$f":"'Initial unit rates'!P190","v":0},{"$f":"'Initial unit rates'!Q190","v":5.1324847781792039E-3},{"$f":"'Initial unit rates'!R190","v":0},{"$f":"'Initial unit rates'!S190","v":0},{"$f":"'Initial unit rates'!T190","v":0},{"$f":"'Initial unit rates'!U190","v":0},{"$f":"'Initial unit rates'!V190","v":0},{"$f":"'Initial unit rates'!W190","v":0},{"$f":"'Initial unit rates'!X190","v":0},{"$f":"'Initial unit rates'!Y190","v":0}]
[null,null,null,null,null,"LV customers","p/kWh"]
[null,null,null,null,null,"HV customers","p/kWh"]
[]
[null,null,null,null,"Other operating costs"]
[null,null,null,null,null,"Transmission exit","p/kWh",null,null,{"$f":"'Initial unit rates'!J193","v":0.15021599433191743},{"$f":"'Initial unit rates'!K193","v":0.15021599433191743},{"$f":"'Initial unit rates'!L193","v":0.17447663766509949},{"$f":"'Initial unit rates'!M193","v":0.17447663766509949},{"$f":"'Initial unit rates'!N193","v":0.13487520442882392},{"$f":"'Initial unit rates'!O193","v":0.10969918740249729},{"$f":"'Initial unit rates'!P193","v":0.10942611104029204},{"$f":"'Initial unit rates'!Q193","v":0.12868137262830254},{"$f":"'Initial unit rates'!R193","v":-0.10742017776576855},{"$f":"'Initial unit rates'!S193","v":-0.10213721820351762},{"$f":"'Initial unit rates'!T193","v":-0.10742017776576855},{"$f":"'Initial unit rates'!U193","v":-0.10742017776576855},{"$f":"'Initial unit rates'!V193","v":-0.10213721820351762},{"$f":"'Initial unit rates'!W193","v":-0.10213721820351762},{"$f":"'Initial unit rates'!X193","v":-0.10037623168276731},{"$f":"'Initial unit rates'!Y193","v":-0.10037623168276731}]
[null,null,null,null,null,"GSPs","p/kWh",null,null,{"$f":"'Initial unit rates'!J194","v":0},{"$f":"'Initial unit rates'!K194","v":0},{"$f":"'Initial unit rates'!L194","v":0},{"$f":"'Initial unit rates'!M194","v":0},{"$f":"'Initial unit rates'!N194","v":0},{"$f":"'Initial unit rates'!O194","v":0},{"$f":"'Initial unit rates'!P194","v":0},{"$f":"'Initial unit rates'!Q194","v":0},{"$f":"'Initial unit rates'!R194","v":0},{"$f":"'Initial unit rates'!S194","v":0},{"$f":"'Initial unit rates'!T194","v":0},{"$f":"'Initial unit rates'!U194","v":0},{"$f":"'Initial unit rates'!V194","v":0},{"$f":"'Initial unit rates'!W194","v":0},{"$f":"'Initial unit rates'!X194","v":0},{"$f":"'Initial unit rates'!Y194","v":0}]
[null,null,null,null,null,"132kV","p/kWh",null,null,{"$f":"'Initial unit rates'!J195","v":0},{"$f":"'Initial unit rates'!K195","v":0},{"$f":"'Initial unit rates'!L195","v":0},{"$f":"'Initial unit rates'!M195","v":0},{"$f":"'Initial unit rates'!N195","v":0},{"$f":"'Initial unit rates'!O195","v":0},{"$f":"'Initial unit rates'!P195","v":0},{"$f":"'Initial unit rates'!Q195","v":0},{"$f":"'Initial unit rates'!R195","v":0},{"$f":"'Initial unit rates'!S195","v":0},{"$f":"'Initial unit rates'!T195","v":0},{"$f":"'Initial unit rates'!U195","v":0},{"$f":"'Initial unit rates'!V195","v":0},{"$f":"'Initial unit rates'!W195","v":0},{"$f":"'Initial unit rates'!X195","v":0},{"$f":"'Initial unit rates'!Y195","v":0}]
[null,null,null,null,null,"132kV/EHV","p/kWh",null,null,{"$f":"'Initial unit rates'!J196","v":0},{"$f":"'Initial unit rates'!K196","v":0},{"$f":"'Initial unit rates'!L196","v":0},{"$f":"'Initial unit rates'!M196","v":0},{"$f":"'Initial unit rates'!N196","v":0},{"$f":"'Initial unit rates'!O196","v":0},{"$f":"'Initial unit rates'!P196","v":0},{"$f":"'Initial unit rates'!Q196","v":0},{"$f":"'Initial unit rates'!R196","v":0},{"$f":"'Initial unit rates'!S196","v":0},{"$f":"'Initial unit rates'!T196","v":0},{"$f":"'Initial unit rates'!U196","v":0},{"$f":"'Initial unit rates'!V196","v":0},{"$f":"'Initial unit rates'!W196","v":0},{"$f":"'Initial unit rates'!X196","v":0},{"$f":"'Initial unit rates'!Y196","v":0}]
[null,null,null,null,null,"EHV","p/kWh",null,null,{"$f":"'Initial unit rates'!J197","v":0.10632005430821767},{"$f":"'Initial unit rates'!K197","v":0.10632005430821767},{"$f":"'Initial unit rates'!L197","v":0.12349128116863302},{"$f":"'Initial unit rates'!M197","v":0.12349128116863302},{"$f":"'Initial unit rates'!N197","v":9.5462131868720837E-2},{"$f":"'Initial unit rates'!O197","v":7.7643020732065263E-2},{"$f":"'Initial unit rates'!P197","v":7.7449742421129855E-2},{"$f":"'Initial unit rates'!Q197","v":9.1078254264100933E-2},{"$f":"'Initial unit rates'!R197","v":-7.6029980593273136E-2},{"$f":"'Initial unit rates'!S197","v":-7.2290801219833487E-2},{"$f":"'Initial unit rates'!T197","v":-7.6029980593273136E-2},{"$f":"'Initial unit rates'!U197","v":-7.6029980593273136E-2},{"$f":"'Initial unit rates'!V197","v":-7.2290801219833487E-2},{"$f":"'Initial unit rates'!W197","v":-7.2290801219833487E-2},{"$f":"'Initial unit rates'!X197","v":-7.1044408095353589E-2},{"$f":"'Initial unit rates'!Y197","v":-7.1044408095353589E-2}]
[null,null,null,null,null,"EHV/HV","p/kWh",null,null,{"$f":"'Initial unit rates'!J198","v":3.586091371228798E-2},{"$f":"'Initial unit rates'!K198","v":3.586091371228798E-2},{"$f":"'Initial unit rates'!L198","v":4.1652632770203112E-2},{"$f":"'Initial unit rates'!M198","v":4.1652632770203112E-2},{"$f":"'Initial unit rates'!N198","v":3.2198622320216939E-2},{"$f":"'Initial unit rates'!O198","v":2.6188377018339912E-2},{"$f":"'Initial unit rates'!P198","v":2.6123185772191582E-2},{"$f":"'Initial unit rates'!Q198","v":2.7341682724234446E-2},{"$f":"'Initial unit rates'!R198","v":-2.5644311332820316E-2},{"$f":"'Initial unit rates'!S198","v":-2.4383115693501281E-2},{"$f":"'Initial unit rates'!T198","v":-2.5644311332820316E-2},{"$f":"'Initial unit rates'!U198","v":-2.5644311332820316E-2},{"$f":"'Initial unit rates'!V198","v":-2.4383115693501281E-2},{"$f":"'Initial unit rates'!W198","v":-2.4383115693501281E-2},{"$f":"'Initial unit rates'!X198","v":-2.3962717147061607E-2},{"$f":"'Initial unit rates'!Y198","v":-2.3962717147061607E-2}]
[null,null,null,null,null,"132kV/HV","p/kWh",null,null,{"$f":"'Initial unit rates'!J199","v":0},{"$f":"'Initial unit rates'!K199","v":0},{"$f":"'Initial unit rates'!L199","v":0},{"$f":"'Initial unit rates'!M199","v":0},{"$f":"'Initial unit rates'!N199","v":0},{"$f":"'Initial unit rates'!O199","v":0},{"$f":"'Initial unit rates'!P199","v":0},{"$f":"'Initial unit rates'!Q199","v":0},{"$f":"'Initial unit rates'!R199","v":0},{"$f":"'Initial unit rates'!S199","v":0},{"$f":"'Initial unit rates'!T199","v":0},{"$f":"'Initial unit rates'!U199","v":0},{"$f":"'Initial unit rates'!V199","v":0},{"$f":"'Initial unit rates'!W199","v":0},{"$f":"'Initial unit rates'!X199","v":0},{"$f":"'Initial unit rates'!Y199","v":0}]
[null,null,null,null,null,"HV","p/kWh",null,null,{"$f":"'Initial unit rates'!J200","v":0.15427465541852464},{"$f":"'Initial unit rates'!K200","v":0.15427465541852464},{"$f":"'Initial unit rates'!L200","v":0.1791907930582243},{"$f":"'Initial unit rates'!M200","v":0.1791907930582243},{"$f":"'Initial unit rates'!N200","v":0.13851937525229766},{"$f":"'Initial unit rates'!O200","v":0.1126631315891541},{"$f":"'Initial unit rates'!P200","v":0.1123826770219189},{"$f":"'Initial unit rates'!Q200","v":0.11762468504528174},{"$f":"'Initial unit rates'!R200","v":-0.11032254576827975},{"$f":"'Initial unit rates'!S200","v":-0.10489684679606927},{"$f":"'Initial unit rates'!T200","v":-0.11032254576827975},{"$f":"'Initial unit rates'!U200","v":-0.11032254576827975},{"$f":"'Initial unit rates'!V200","v":-0.10489684679606927},{"$f":"'Initial unit rates'!W200","v":-0.10489684679606927},{"$f":"'Initial unit rates'!X200","v":0},{"$f":"'Initial unit rates'!Y200","v":0}]
[null,null,null,null,null,"HV/LV","p/kWh",null,null,{"$f":"'Initial unit rates'!J201","v":3.8773589259178273E-2},{"$f":"'Initial unit rates'!K201","v":3.8773589259178273E-2},{"$f":"'Initial unit rates'!L201","v":4.5035720159072423E-2},{"$f":"'Initial unit rates'!M201","v":4.5035720159072423E-2},{"$f":"'Initial unit rates'!N201","v":3.4813841235944575E-2},{"$f":"'Initial unit rates'!O201","v":2.8315435072856953E-2},{"$f":"'Initial unit rates'!P201","v":0},{"$f":"'Initial unit rates'!Q201","v":2.9562413944878786E-2},{"$f":"'Initial unit rates'!R201","v":-2.7727179581387928E-2},{"$f":"'Initial unit rates'!S201","v":0},{"$f":"'Initial unit rates'!T201","v":-2.7727179581387928E-2},{"$f":"'Initial unit rates'!U201","v":-2.7727179581387928E-2},{"$f":"'Initial unit rates'!V201","v":0},{"$f":"'Initial unit rates'!W201","v":0},{"$f":"'Initial unit rates'!X201","v":0},{"$f":"'Initial unit rates'!Y201","v":0}]
[null,null,null,null,null,"LV circuits","p/kWh",null,null,{"$f":"'Initial unit rates'!J202","v":6.5218402997648611E-2},{"$f":"'Initial unit rates'!K202","v":6.5218402997648611E-2},{"$f":"'Initial unit rates'!L202","v":7.575150515446398E-2},{"$f":"'Initial unit rates'!M202","v":7.575150515446398E-2},{"$f":"'Initial unit rates'!N202","v":5.8557981631389179E-2},{"$f":"'Initial unit rates'!O202","v":0},{"$f":"'Initial unit rates'!P202","v":0},{"$f":"'Initial unit rates'!Q202","v":4.9724914898973988E-2},{"$f":"'Initial unit rates'!R202","v":0},{"$f":"'Initial unit rates'!S202","v":0},{"$f":"'Initial unit rates'!T202","v":0},{"$f":"'Initial unit rates'!U202","v":0},{"$f":"'Initial unit rates'!V202","v":0},{"$f":"'Initial unit rates'!W202","v":0},{"$f":"'Initial unit rates'!X202","v":0},{"$f":"'Initial unit rates'!Y202","v":0}]
[null,null,null,null,null,"LV customers","p/kWh",null,">",null,null,null,null,null,null,null,{"$f":"'Service model charges'!$Q$44","v":0.42942896297178434},null,null,null,null,null,null,null,null,null,"Paragraph 86"]
[null,null,null,null,null,"HV customers","p/kWh"]
[]
[null,null,{"$f":"INDEX('Version control'!$H$34:$H$58,MATCH($A$1,'Version control'!$F$34:$F$58,0),1)&\"-C: Initial unit rate 3\"","v":"Section 514-C: Initial unit rate 3"}]
[]
[null,null,null,null,"Asset costs"]
[null,null,null,null,null,"Transmission exit","p/kWh",null,null,{"$f":"'Initial unit rates'!J210","v":0},{"$f":"'Initial unit rates'!K210","v":0},{"$f":"'Initial unit rates'!L210","v":0},{"$f":"'Initial unit rates'!M210","v":0},{"$f":"'Initial unit rates'!N210","v":0},{"$f":"'Initial unit rates'!O210","v":0},{"$f":"'Initial unit rates'!P210","v":0},{"$f":"'Initial unit rates'!Q210","v":0},{"$f":"'Initial unit rates'!R210","v":0},{"$f":"'Initial unit rates'!S210","v":0},{"$f":"'Initial unit rates'!T210","v":0},{"$f":"'Initial unit rates'!U210","v":0},{"$f":"'Initial unit rates'!V210","v":0},{"$f":"'Initial unit rates'!W210","v":0},{"$f":"'Initial unit rates'!X210","v":0},{"$f":"'Initial unit rates'!Y210","v":0}]
[null,null,null,null,null,"GSPs","p/kWh",null,null,{"$f":"'Initial unit rates'!J211","v":0},{"$f":"'Initial unit rates'!K211","v":0},{"$f":"'Initial unit rates'!L211","v":0},{"$f":"'Initial unit rates'!M211","v":0},{"$f":"'Initial unit rates'!N211","v":0},{"$f":"'Initial unit rates'!O211","v":0},{"$f":"'Initial unit rates'!P211","v":0},{"$f":"'Initial unit rates'!Q211","v":0},{"$f":"'Initial unit rates'!R211","v":0},{"$f":"'Initial unit rates'!S211","v":0},{"$f":"'Initial unit rates'!T211","v":0},{"$f":"'Initial unit rates'!U211","v":0},{"$f":"'Initial unit rates'!V211","v":0},{"$f":"'Initial unit rates'!W211","v":0},{"$f":"'Initial unit rates'!X211","v":0},{"$f":"'Initial unit rates'!Y211","v":0}]
[null,null,null,null,null,"132kV","p/kWh",null,null,{"$f":"'Initial unit rates'!J212","v":0},{"$f":"'Initial unit rates'!K212","v":0},{"$f":"'Initial unit rates'!L212","v":0},{"$f":"'Initial unit rates'!M212","v":0},{"$f":"'Initial unit rates'!N212","v":0},{"$f":"'Initial unit rates'!O212","v":0},{"$f":"'Initial unit rates'!P212","v":0},{"$f":"'Initial unit rates'!Q212","v":0},{"$f":"'Initial unit rates'!R212","v":0},{"$f":"'Initial unit rates'!S212","v":0},{"$f":"'Initial unit rates'!T212","v":0},{"$f":"'Initial unit rates'!U212","v":0},{"$f":"'Initial unit rates'!V212","v":0},{"$f":"'Initial unit rates'!W212","v":0},{"$f":"'Initial unit rates'!X212","v":0},{"$f":"'Initial unit rates'!Y212","v":0}]
[null,null,null,null,null,"132kV/EHV","p/kWh",null,null,{"$f":"'Initial unit rates'!J213","v":0},{"$f":"'Initial unit rates'!K213","v":0},{"$f":"'Initial unit rates'!L213","v":0},{"$f":"'Initial unit rates'!M213","v":0},{"$f":"'Initial unit rates'!N213","v":0},{"$f":"'Initial unit rates'!O213","v":0},{"$f":"'Initial unit rates'!P213","v":0},{"$f":"'Initial unit rates'!Q213","v":0},{"$f":"'Initial unit rates'!R213","v":0},{"$f":"'Initial unit rates'!S213","v":0},{"$f":"'Initial unit rates'!T213","v":0},{"$f":"'Initial unit rates'!U213","v":0},{"$f":"'Initial unit rates'!V213","v":0},{"$f":"'Initial unit rates'!W213","v":0},{"$f":"'Initial unit rates'!X213","v":0},{"$f":"'Initial unit rates'!Y213","v":0}]
[null,null,null,null,null,"EHV","p/kWh",null,null,{"$f":"'Initial unit rates'!J214","v":2.3063648481960884E-3},{"$f":"'Initial unit rates'!K214","v":2.3063648481960884E-3},{"$f":"'Initial unit rates'!L214","v":2.6788544437756252E-3},{"$f":"'Initial unit rates'!M214","v":2.6788544437756252E-3},{"$f":"'Initial unit rates'!N214","v":2.0708276223939054E-3},{"$f":"'Initial unit rates'!O214","v":1.684283693131584E-3},{"$f":"'Initial unit rates'!P214","v":1.6278393392289501E-3},{"$f":"'Initial unit rates'!Q214","v":1.8127412956928774E-3},{"$f":"'Initial unit rates'!R214","v":-1.6492925609407124E-3},{"$f":"'Initial unit rates'!S214","v":-1.5681798120419888E-3},{"$f":"'Initial unit rates'!T214","v":-1.6492925609407124E-3},{"$f":"'Initial unit rates'!U214","v":-1.6492925609407124E-3},{"$f":"'Initial unit rates'!V214","v":-1.5681798120419888E-3},{"$f":"'Initial unit rates'!W214","v":-1.5681798120419888E-3},{"$f":"'Initial unit rates'!X214","v":-1.4932119683628653E-3},{"$f":"'Initial unit rates'!Y214","v":-1.4932119683628653E-3}]
[null,null,null,null,null,"EHV/HV","p/kWh",null,null,{"$f":"'Initial unit rates'!J215","v":1.6495075700587941E-3},{"$f":"'Initial unit rates'!K215","v":1.6495075700587941E-3},{"$f":"'Initial unit rates'!L215","v":1.9159113908407291E-3},{"$f":"'Initial unit rates'!M215","v":1.9159113908407291E-3},{"$f":"'Initial unit rates'!N215","v":1.4810518128115279E-3},{"$f":"'Initial unit rates'!O215","v":1.2045963604241177E-3},{"$f":"'Initial unit rates'!P215","v":1.0308235481418159E-3},{"$f":"'Initial unit rates'!Q215","v":1.2964689832756962E-3},{"$f":"'Initial unit rates'!R215","v":-1.1795707720056528E-3},{"$f":"'Initial unit rates'!S215","v":-1.1215590946938995E-3},{"$f":"'Initial unit rates'!T215","v":-1.1795707720056528E-3},{"$f":"'Initial unit rates'!U215","v":-1.1795707720056528E-3},{"$f":"'Initial unit rates'!V215","v":-1.1215590946938995E-3},{"$f":"'Initial unit rates'!W215","v":-1.1215590946938995E-3},{"$f":"'Initial unit rates'!X215","v":-9.4557123805885939E-4},{"$f":"'Initial unit rates'!Y215","v":-9.4557123805885939E-4}]
[null,null,null,null,null,"132kV/HV","p/kWh",null,null,{"$f":"'Initial unit rates'!J216","v":0},{"$f":"'Initial unit rates'!K216","v":0},{"$f":"'Initial unit rates'!L216","v":0},{"$f":"'Initial unit rates'!M216","v":0},{"$f":"'Initial unit rates'!N216","v":0},{"$f":"'Initial unit rates'!O216","v":0},{"$f":"'Initial unit rates'!P216","v":0},{"$f":"'Initial unit rates'!Q216","v":0},{"$f":"'Initial unit rates'!R216","v":0},{"$f":"'Initial unit rates'!S216","v":0},{"$f":"'Initial unit rates'!T216","v":0},{"$f":"'Initial unit rates'!U216","v":0},{"$f":"'Initial unit rates'!V216","v":0},{"$f":"'Initial unit rates'!W216","v":0},{"$f":"'Initial unit rates'!X216","v":0},{"$f":"'Initial unit rates'!Y216","v":0}]
[null,null,null,null,null,"HV","p/kWh",null,null,{"$f":"'Initial unit rates'!J217","v":5.6723556339629807E-3},{"$f":"'Initial unit rates'!K217","v":5.6723556339629807E-3},{"$f":"'Initial unit rates'!L217","v":6.5884697768449135E-3},{"$f":"'Initial unit rates'!M217","v":6.5884697768449135E-3},{"$f":"'Initial unit rates'!N217","v":5.093067014110832E-3},{"$f":"'Initial unit rates'!O217","v":4.142387143733748E-3},{"$f":"'Initial unit rates'!P217","v":2.8355357920827429E-3},{"$f":"'Initial unit rates'!Q217","v":4.4583203345226413E-3},{"$f":"'Initial unit rates'!R217","v":-4.0563287102743269E-3},{"$f":"'Initial unit rates'!S217","v":-3.8568371343591953E-3},{"$f":"'Initial unit rates'!T217","v":-4.0563287102743269E-3},{"$f":"'Initial unit rates'!U217","v":-4.0563287102743269E-3},{"$f":"'Initial unit rates'!V217","v":-3.8568371343591953E-3},{"$f":"'Initial unit rates'!W217","v":-3.8568371343591953E-3},{"$f":"'Initial unit rates'!X217","v":0},{"$f":"'Initial unit rates'!Y217","v":0}]
[null,null,null,null,null,"HV/LV","p/kWh",null,null,{"$f":"'Initial unit rates'!J218","v":1.3025042971959073E-3},{"$f":"'Initial unit rates'!K218","v":1.3025042971959073E-3},{"$f":"'Initial unit rates'!L218","v":1.5128653332143784E-3},{"$f":"'Initial unit rates'!M218","v":1.5128653332143784E-3},{"$f":"'Initial unit rates'!N218","v":1.1694862064125261E-3},{"$f":"'Initial unit rates'!O218","v":9.5118807838089449E-4},{"$f":"'Initial unit rates'!P218","v":0},{"$f":"'Initial unit rates'!Q218","v":1.0237336600023082E-3},{"$f":"'Initial unit rates'!R218","v":-9.3142706785473818E-4},{"$f":"'Initial unit rates'!S218","v":0},{"$f":"'Initial unit rates'!T218","v":-9.3142706785473818E-4},{"$f":"'Initial unit rates'!U218","v":-9.3142706785473818E-4},{"$f":"'Initial unit rates'!V218","v":0},{"$f":"'Initial unit rates'!W218","v":0},{"$f":"'Initial unit rates'!X218","v":0},{"$f":"'Initial unit rates'!Y218","v":0}]
[null,null,null,null,null,"LV circuits","p/kWh",null,null,{"$f":"'Initial unit rates'!J219","v":2.2883722751945547E-4},{"$f":"'Initial unit rates'!K219","v":2.2883722751945547E-4},{"$f":"'Initial unit rates'!L219","v":2.6579559791732816E-4},{"$f":"'Initial unit rates'!M219","v":2.6579559791732816E-4},{"$f":"'Initial unit rates'!N219","v":2.0546725386920976E-4},{"$f":"'Initial unit rates'!O219","v":0},{"$f":"'Initial unit rates'!P219","v":0},{"$f":"'Initial unit rates'!Q219","v":1.7985996128966103E-4},{"$f":"'Initial unit rates'!R219","v":0},{"$f":"'Initial unit rates'!S219","v":0},{"$f":"'Initial unit rates'!T219","v":0},{"$f":"'Initial unit rates'!U219","v":0},{"$f":"'Initial unit rates'!V219","v":0},{"$f":"'Initial unit rates'!W219","v":0},{"$f":"'Initial unit rates'!X219","v":0},{"$f":"'Initial unit rates'!Y219","v":0}]
[null,null,null,null,null,"LV customers","p/kWh"]
[null,null,null,null,null,"HV customers","p/kWh"]
[]
[null,null,null,null,"Other operating costs"]
[null,null,null,null,null,"Transmission exit","p/kWh",null,null,{"$f":"'Initial unit rates'!J222","v":2.4082353729925929E-3},{"$f":"'Initial unit rates'!K222","v":2.4082353729925929E-3},{"$f":"'Initial unit rates'!L222","v":2.7971775738971738E-3},{"$f":"'Initial unit rates'!M222","v":2.7971775738971738E-3},{"$f":"'Initial unit rates'!N222","v":2.162294632403776E-3},{"$f":"'Initial unit rates'!O222","v":1.7586773277118667E-3},{"$f":"'Initial unit rates'!P222","v":1.7542994173707232E-3},{"$f":"'Initial unit rates'!Q222","v":1.8928088128755832E-3},{"$f":"'Initial unit rates'!R222","v":-1.7221406616466405E-3},{"$f":"'Initial unit rates'!S222","v":-1.637445219270576E-3},{"$f":"'Initial unit rates'!T222","v":-1.7221406616466405E-3},{"$f":"'Initial unit rates'!U222","v":-1.7221406616466405E-3},{"$f":"'Initial unit rates'!V222","v":-1.637445219270576E-3},{"$f":"'Initial unit rates'!W222","v":-1.637445219270576E-3},{"$f":"'Initial unit rates'!X222","v":-1.6092134051452214E-3},{"$f":"'Initial unit rates'!Y222","v":-1.6092134051452214E-3}]
[null,null,null,null,null,"GSPs","p/kWh",null,null,{"$f":"'Initial unit rates'!J223","v":0},{"$f":"'Initial unit rates'!K223","v":0},{"$f":"'Initial unit rates'!L223","v":0},{"$f":"'Initial unit rates'!M223","v":0},{"$f":"'Initial unit rates'!N223","v":0},{"$f":"'Initial unit rates'!O223","v":0},{"$f":"'Initial unit rates'!P223","v":0},{"$f":"'Initial unit rates'!Q223","v":0},{"$f":"'Initial unit rates'!R223","v":0},{"$f":"'Initial unit rates'!S223","v":0},{"$f":"'Initial unit rates'!T223","v":0},{"$f":"'Initial unit rates'!U223","v":0},{"$f":"'Initial unit rates'!V223","v":0},{"$f":"'Initial unit rates'!W223","v":0},{"$f":"'Initial unit rates'!X223","v":0},{"$f":"'Initial unit rates'!Y223","v":0}]
[null,null,null,null,null,"132kV","p/kWh",null,null,{"$f":"'Initial unit rates'!J224","v":0},{"$f":"'Initial unit rates'!K224","v":0},{"$f":"'Initial unit rates'!L224","v":0},{"$f":"'Initial unit rates'!M224","v":0},{"$f":"'Initial unit rates'!N224","v":0},{"$f":"'Initial unit rates'!O224","v":0},{"$f":"'Initial unit rates'!P224","v":0},{"$f":"'Initial unit rates'!Q224","v":0},{"$f":"'Initial unit rates'!R224","v":0},{"$f":"'Initial unit rates'!S224","v":0},{"$f":"'Initial unit rates'!T224","v":0},{"$f":"'Initial unit rates'!U224","v":0},{"$f":"'Initial unit rates'!V224","v":0},{"$f":"'Initial unit rates'!W224","v":0},{"$f":"'Initial unit rates'!X224","v":0},{"$f":"'Initial unit rates'!Y224","v":0}]
[null,null,null,null,null,"132kV/EHV","p/kWh",null,null,{"$f":"'Initial unit rates'!J225","v":0},{"$f":"'Initial unit rates'!K225","v":0},{"$f":"'Initial unit rates'!L225","v":0},{"$f":"'Initial unit rates'!M225","v":0},{"$f":"'Initial unit rates'!N225","v":0},{"$f":"'Initial unit rates'!O225","v":0},{"$f":"'Initial unit rates'!P225","v":0},{"$f":"'Initial unit rates'!Q225","v":0},{"$f":"'Initial unit rates'!R225","v":0},{"$f":"'Initial unit rates'!S225","v":0},{"$f":"'Initial unit rates'!T225","v":0},{"$f":"'Initial unit rates'!U225","v":0},{"$f":"'Initial unit rates'!V225","v":0},{"$f":"'Initial unit rates'!W225","v":0},{"$f":"'Initial unit rates'!X225","v":0},{"$f":"'Initial unit rates'!Y225","v":0}]
[null,null,null,null,null,"EHV","p/kWh",null,null,{"$f":"'Initial unit rates'!J226","v":1.7045036833946514E-3},{"$f":"'Initial unit rates'!K226","v":1.7045036833946514E-3},{"$f":"'Initial unit rates'!L226","v":1.979789654817645E-3},{"$f":"'Initial unit rates'!M226","v":1.979789654817645E-3},{"$f":"'Initial unit rates'!N226","v":1.5304314548526714E-3},{"$f":"'Initial unit rates'!O226","v":1.2447587210973002E-3},{"$f":"'Initial unit rates'!P226","v":1.2416601185330591E-3},{"$f":"'Initial unit rates'!Q226","v":1.3396944624640774E-3},{"$f":"'Initial unit rates'!R226","v":-1.218898756334076E-3},{"$f":"'Initial unit rates'!S226","v":-1.1589529158586296E-3},{"$f":"'Initial unit rates'!T226","v":-1.218898756334076E-3},{"$f":"'Initial unit rates'!U226","v":-1.218898756334076E-3},{"$f":"'Initial unit rates'!V226","v":-1.1589529158586296E-3},{"$f":"'Initial unit rates'!W226","v":-1.1589529158586296E-3},{"$f":"'Initial unit rates'!X226","v":-1.1389709690334806E-3},{"$f":"'Initial unit rates'!Y226","v":-1.1389709690334806E-3}]
[null,null,null,null,null,"EHV/HV","p/kWh",null,null,{"$f":"'Initial unit rates'!J227","v":1.2190576574004099E-3},{"$f":"'Initial unit rates'!K227","v":1.2190576574004099E-3},{"$f":"'Initial unit rates'!L227","v":1.4159416387654474E-3},{"$f":"'Initial unit rates'!M227","v":1.4159416387654474E-3},{"$f":"'Initial unit rates'!N227","v":1.0945615444191612E-3},{"$f":"'Initial unit rates'!O227","v":8.9024897121226508E-4},{"$f":"'Initial unit rates'!P227","v":8.8803285679727264E-4},{"$f":"'Initial unit rates'!Q227","v":9.5814682535105193E-4},{"$f":"'Initial unit rates'!R227","v":-8.7175397564738066E-4},{"$f":"'Initial unit rates'!S227","v":-8.2888082930406676E-4},{"$f":"'Initial unit rates'!T227","v":-8.7175397564738066E-4},{"$f":"'Initial unit rates'!U227","v":-8.7175397564738066E-4},{"$f":"'Initial unit rates'!V227","v":-8.2888082930406676E-4},{"$f":"'Initial unit rates'!W227","v":-8.2888082930406676E-4},{"$f":"'Initial unit rates'!X227","v":-8.1458978052296213E-4},{"$f":"'Initial unit rates'!Y227","v":-8.1458978052296213E-4}]
[null,null,null,null,null,"132kV/HV","p/kWh",null,null,{"$f":"'Initial unit rates'!J228","v":0},{"$f":"'Initial unit rates'!K228","v":0},{"$f":"'Initial unit rates'!L228","v":0},{"$f":"'Initial unit rates'!M228","v":0},{"$f":"'Initial unit rates'!N228","v":0},{"$f":"'Initial unit rates'!O228","v":0},{"$f":"'Initial unit rates'!P228","v":0},{"$f":"'Initial unit rates'!Q228","v":0},{"$f":"'Initial unit rates'!R228","v":0},{"$f":"'Initial unit rates'!S228","v":0},{"$f":"'Initial unit rates'!T228","v":0},{"$f":"'Initial unit rates'!U228","v":0},{"$f":"'Initial unit rates'!V228","v":0},{"$f":"'Initial unit rates'!W228","v":0},{"$f":"'Initial unit rates'!X228","v":0},{"$f":"'Initial unit rates'!Y228","v":0}]
[null,null,null,null,null,"HV","p/kWh",null,null,{"$f":"'Initial unit rates'!J229","v":5.2444201935189071E-3},{"$f":"'Initial unit rates'!K229","v":5.2444201935189071E-3},{"$f":"'Initial unit rates'!L229","v":6.0914205969723884E-3},{"$f":"'Initial unit rates'!M229","v":6.0914205969723884E-3},{"$f":"'Initial unit rates'!N229","v":4.7088344277678631E-3},{"$f":"'Initial unit rates'!O229","v":3.8298760141018623E-3},{"$f":"'Initial unit rates'!P229","v":3.8203422278050604E-3},{"$f":"'Initial unit rates'!Q229","v":4.1219744847364589E-3},{"$f":"'Initial unit rates'!R229","v":-3.750310025052286E-3},{"$f":"'Initial unit rates'!S229","v":-3.5658685484103703E-3},{"$f":"'Initial unit rates'!T229","v":-3.750310025052286E-3},{"$f":"'Initial unit rates'!U229","v":-3.750310025052286E-3},{"$f":"'Initial unit rates'!V229","v":-3.5658685484103703E-3},{"$f":"'Initial unit rates'!W229","v":-3.5658685484103703E-3},{"$f":"'Initial unit rates'!X229","v":0},{"$f":"'Initial unit rates'!Y229","v":0}]
[null,null,null,null,null,"HV/LV","p/kWh",null,null,{"$f":"'Initial unit rates'!J230","v":1.3180712926202751E-3},{"$f":"'Initial unit rates'!K230","v":1.3180712926202751E-3},{"$f":"'Initial unit rates'!L230","v":1.530946477184908E-3},{"$f":"'Initial unit rates'!M230","v":1.530946477184908E-3},{"$f":"'Initial unit rates'!N230","v":1.1834634243482202E-3},{"$f":"'Initial unit rates'!O230","v":9.6255628691252568E-4},{"$f":"'Initial unit rates'!P230","v":0},{"$f":"'Initial unit rates'!Q230","v":1.0359689034754667E-3},{"$f":"'Initial unit rates'!R230","v":-9.4255910091953666E-4},{"$f":"'Initial unit rates'!S230","v":0},{"$f":"'Initial unit rates'!T230","v":-9.4255910091953666E-4},{"$f":"'Initial unit rates'!U230","v":-9.4255910091953666E-4},{"$f":"'Initial unit rates'!V230","v":0},{"$f":"'Initial unit rates'!W230","v":0},{"$f":"'Initial unit rates'!X230","v":0},{"$f":"'Initial unit rates'!Y230","v":0}]
[null,null,null,null,null,"LV circuits","p/kWh",null,null,{"$f":"'Initial unit rates'!J231","v":2.2170375862583351E-3},{"$f":"'Initial unit rates'!K231","v":2.2170375862583351E-3},{"$f":"'Initial unit rates'!L231","v":2.5751003769464232E-3},{"$f":"'Initial unit rates'!M231","v":2.5751003769464232E-3},{"$f":"'Initial unit rates'!N231","v":1.9906228960696218E-3},{"$f":"'Initial unit rates'!O231","v":0},{"$f":"'Initial unit rates'!P231","v":0},{"$f":"'Initial unit rates'!Q231","v":1.7425324487828188E-3},{"$f":"'Initial unit rates'!R231","v":0},{"$f":"'Initial unit rates'!S231","v":0},{"$f":"'Initial unit rates'!T231","v":0},{"$f":"'Initial unit rates'!U231","v":0},{"$f":"'Initial unit rates'!V231","v":0},{"$f":"'Initial unit rates'!W231","v":0},{"$f":"'Initial unit rates'!X231","v":0},{"$f":"'Initial unit rates'!Y231","v":0}]
[null,null,null,null,null,"LV customers","p/kWh",null,">",null,null,null,null,null,null,null,{"$f":"'Service model charges'!$Q$44","v":0.42942896297178434},null,null,null,null,null,null,null,null,null,"Paragraph 86"]
[null,null,null,null,null,"HV customers","p/kWh"]
[]
[null,null,{"$f":"INDEX('Version control'!$H$34:$H$58,MATCH($A$1,'Version control'!$F$34:$F$58,0),1)&\"-D: Standing charge factors\"","v":"Section 514-D: Standing charge factors"}]
[]
[null,null,null,null,"Standing charge factors",null,null,null,">",null,null,null,null,null,null,null,null,null,null,null,null,null,null,null,null,null,"Paragraph 74"]
[null,null,null,null,null,"GSPs","%",null,null,{"$f":"'Standing charge factors'!J44","v":0},{"$f":"'Standing charge factors'!K44","v":0},{"$f":"'Standing charge factors'!L44","v":0},{"$f":"'Standing charge factors'!M44","v":0},{"$f":"'Standing charge factors'!N44","v":0},{"$f":"'Standing charge factors'!O44","v":0},{"$f":"'Standing charge factors'!P44","v":0},{"$f":"'Standing charge factors'!Q44","v":0},{"$f":"'Standing charge factors'!R44","v":0},{"$f":"'Standing charge factors'!S44","v":0},{"$f":"'Standing charge factors'!T44","v":0},{"$f":"'Standing charge factors'!U44","v":0},{"$f":"'Standing charge factors'!V44","v":0},{"$f":"'Standing charge factors'!W44","v":0},{"$f":"'Standing charge factors'!X44","v":0},{"$f":"'Standing charge factors'!Y44","v":0}]
[null,null,null,null,null,"132kV","%",null,null,{"$f":"'Standing charge factors'!J45","v":0},{"$f":"'Standing charge factors'!K45","v":0},{"$f":"'Standing charge factors'!L45","v":0},{"$f":"'Standing charge factors'!M45","v":0},{"$f":"'Standing charge factors'!N45","v":0},{"$f":"'Standing charge factors'!O45","v":0},{"$f":"'Standing charge factors'!P45","v":0},{"$f":"'Standing charge factors'!Q45","v":0},{"$f":"'Standing charge factors'!R45","v":0},{"$f":"'Standing charge factors'!S45","v":0},{"$f":"'Standing charge factors'!T45","v":0},{"$f":"'Standing charge factors'!U45","v":0},{"$f":"'Standing charge factors'!V45","v":0},{"$f":"'Standing charge factors'!W45","v":0},{"$f":"'Standing charge factors'!X45","v":0},{"$f":"'Standing charge factors'!Y45","v":0}]
[null,null,null,null,null,"132kV/EHV","%",null,null,{"$f":"'Standing charge factors'!J46","v":0},{"$f":"'Standing charge factors'!K46","v":0},{"$f":"'Standing charge factors'!L46","v":0},{"$f":"'Standing charge factors'!M46","v":0},{"$f":"'Standing charge factors'!N46","v":0},{"$f":"'Standing charge factors'!O46","v":0},{"$f":"'Standing charge factors'!P46","v":0},{"$f":"'Standing charge factors'!Q46","v":0},{"$f":"'Standing charge factors'!R46","v":0},{"$f":"'Standing charge factors'!S46","v":0},{"$f":"'Standing charge factors'!T46","v":0},{"$f":"'Standing charge factors'!U46","v":0},{"$f":"'Standing charge factors'!V46","v":0},{"$f":"'Standing charge factors'!W46","v":0},{"$f":"'Standing charge factors'!X46","v":0},{"$f":"'Standing charge factors'!Y46","v":0}]
[null,null,null,null,null,"EHV","%",null,null,{"$f":"'Standing charge factors'!J47","v":0},{"$f":"'Standing charge factors'!K47","v":0},{"$f":"'Standing charge factors'!L47","v":0},{"$f":"'Standing charge factors'!M47","v":0},{"$f":"'Standing charge factors'!N47","v":0},{"$f":"'Standing charge factors'!O47","v":0},{"$f":"'Standing charge factors'!P47","v":0.2},{"$f":"'Standing charge factors'!Q47","v":0},{"$f":"'Standing charge factors'!R47","v":0},{"$f":"'Standing charge factors'!S47","v":0},{"$f":"'Standing charge factors'!T47","v":0},{"$f":"'Standing charge factors'!U47","v":0},{"$f":"'Standing charge factors'!V47","v":0},{"$f":"'Standing charge factors'!W47","v":0},{"$f":"'Standing charge factors'!X47","v":0},{"$f":"'Standing charge factors'!Y47","v":0}]
[null,null,null,null,null,"EHV/HV","%",null,null,{"$f":"'Standing charge factors'!J48","v":0},{"$f":"'Standing charge factors'!K48","v":0},{"$f":"'Standing charge factors'!L48","v":0},{"$f":"'Standing charge factors'!M48","v":0},{"$f":"'Standing charge factors'!N48","v":0},{"$f":"'Standing charge factors'!O48","v":0},{"$f":"'Standing charge factors'!P48","v":1},{"$f":"'Standing charge factors'!Q48","v":0},{"$f":"'Standing charge factors'!R48","v":0},{"$f":"'Standing charge factors'!S48","v":0},{"$f":"'Standing charge factors'!T48","v":0},{"$f":"'Standing charge factors'!U48","v":0},{"$f":"'Standing charge factors'!V48","v":0},{"$f":"'Standing charge factors'!W48","v":0},{"$f":"'Standing charge factors'!X48","v":0},{"$f":"'Standing charge factors'!Y48","v":0}]
[null,null,null,null,null,"132kV/HV","%",null,null,{"$f":"'Standing charge factors'!J49","v":0},{"$f":"'Standing charge factors'!K49","v":0},{"$f":"'Standing charge factors'!L49","v":0},{"$f":"'Standing charge factors'!M49","v":0},{"$f":"'Standing charge factors'!N49","v":0},{"$f":"'Standing charge factors'!O49","v":0},{"$f":"'Standing charge factors'!P49","v":1},{"$f":"'Standing charge factors'!Q49","v":0},{"$f":"'Standing charge factors'!R49","v":0},{"$f":"'Standing charge factors'!S49","v":0},{"$f":"'Standing charge factors'!T49","v":0},{"$f":"'Standing charge factors'!U49","v":0},{"$f":"'Standing charge factors'!V49","v":0},{"$f":"'Standing charge factors'!W49","v":0},{"$f":"'Standing charge factors'!X49","v":0},{"$f":"'Standing charge factors'!Y49","v":0}]
[null,null,null,null,null,"HV","%",null,null,{"$f":"'Standing charge factors'!J50","v":0},{"$f":"'Standing charge factors'!K50","v":0},{"$f":"'Standing charge factors'!L50","v":0},{"$f":"'Standing charge factors'!M50","v":0},{"$f":"'Standing charge factors'!N50","v":0.2},{"$f":"'Standing charge factors'!O50","v":1},{"$f":"'Standing charge factors'!P50","v":1},{"$f":"'Standing charge factors'!Q50","v":0},{"$f":"'Standing charge factors'!R50","v":0},{"$f":"'Standing charge factors'!S50","v":0},{"$f":"'Standing charge factors'!T50","v":0},{"$f":"'Standing charge factors'!U50","v":0},{"$f":"'Standing charge factors'!V50","v":0},{"$f":"'Standing charge factors'!W50","v":0},{"$f":"'Standing charge factors'!X50","v":0},{"$f":"'Standing charge factors'!Y50","v":0}]
[null,null,null,null,null,"HV/LV","%",null,null,{"$f":"'Standing charge factors'!J51","v":0},{"$f":"'Standing charge factors'!K51","v":0},{"$f":"'Standing charge factors'!L51","v":0},{"$f":"'Standing charge factors'!M51","v":0},{"$f":"'Standing charge factors'!N51","v":1},{"$f":"'Standing charge factors'!O51","v":1},{"$f":"'Standing charge factors'!P51","v":0},{"$f":"'Standing charge factors'!Q51","v":0},{"$f":"'Standing charge factors'!R51","v":0},{"$f":"'Standing charge factors'!S51","v":0},{"$f":"'Standing charge factors'!T51","v":0},{"$f":"'Standing charge factors'!U51","v":0},{"$f":"'Standing charge factors'!V51","v":0},{"$f":"'Standing charge factors'!W51","v":0},{"$f":"'Standing charge factors'!X51","v":0},{"$f":"'Standing charge factors'!Y51","v":0}]
[null,null,null,null,null,"LV circuits","%",null,null,{"$f":"'Standing charge factors'!J52","v":1},{"$f":"'Standing charge factors'!K52","v":1},{"$f":"'Standing charge factors'!L52","v":1},{"$f":"'Standing charge factors'!M52","v":1},{"$f":"'Standing charge factors'!N52","v":1},{"$f":"'Standing charge factors'!O52","v":0},{"$f":"'Standing charge factors'!P52","v":0},{"$f":"'Standing charge factors'!Q52","v":0},{"$f":"'Standing charge factors'!R52","v":0},{"$f":"'Standing charge factors'!S52","v":0},{"$f":"'Standing charge factors'!T52","v":0},{"$f":"'Standing charge factors'!U52","v":0},{"$f":"'Standing charge factors'!V52","v":0},{"$f":"'Standing charge factors'!W52","v":0},{"$f":"'Standing charge factors'!X52","v":0},{"$f":"'Standing charge factors'!Y52","v":0}]
[]
[null,"Application of standing charges to unit rates"]
[]
[null,null,{"$f":"INDEX('Version control'!$H$34:$H$58,MATCH($A$1,'Version control'!$F$34:$F$58,0),1)&\"-E: Contributions to unit rate 1 p/kWh by network level (taking account of standing charges)\"","v":"Section 514-E: Contributions to unit rate 1 p/kWh by network level (taking account of standing charges)"}]
[null,null,null,null,null,null,null,null,">",null,null,null,null,null,null,null,null,null,null,null,null,null,null,null,null,null,"Paragraph 77"]
[null,null,null,null,"Asset costs"]
[null,null,null,null,null,"Transmission exit","p/kWh",null,null,{"$f":"J22 * (1 - J$112)","v":0},0,0,0,0,0,0,0,0,0,0,0,0,0,0,0]
[null,null,null,null,null,"GSPs","p/kWh",null,null,0,0,0,0,0,0,0,0,0,0,0,0,0,0,0,0]
[null,null,null,null,null,"132kV","p/kWh",null,null,{"$f":"J24 * (1 - J$113)","v":0},0,0,0,0,0,0,0,0,0,0,0,0,0,0,0]
[null,null,null,null,null,"132kV/EHV","p/kWh",null,null,{"$f":"J25 * (1 - J$114)","v":0},0,0,0,0,0,0,0,0,0,0,0,0,0,0,0]
[null,null,null,null,null,"EHV","p/kWh",null,null,{"$f":"J26 * (1 - J$115)","v":1.7958309065063878},1.7958309065063878,2.0858666866723046,2.0858666866723046,1.612431896562593,1.3114528318518921,1.014002341737301,3.8982206606005354,-1.2842072914547749,-1.2210495558094581,-1.2842072914547749,-1.2842072914547749,-1.2210495558094581,-1.2210495558094581,-1.1626764971069683,-1.1626764971069683]
[null,null,null,null,null,"EHV/HV","p/kWh",null,null,{"$f":"J27 * (1 - J$116)","v":0.40311898458711498},0.40311898458711498,0.46822474079768722,0.46822474079768722,0.36195050798112338,0.29438825893608744,0,0.90142027187854401,-0.28827231865483915,-0.27409499150787986,-0.28827231865483915,-0.28827231865483915,-0.27409499150787986,-0.27409499150787986,-0.23108576417596077,-0.23108576417596077]
[null,null,null,null,null,"132kV/HV","p/kWh",null,null,{"$f":"J28 * (1 - J$117)","v":0},0,0,0,0,0,0,0,0,0,0,0,0,0,0,0]
[null,null,null,null,null,"HV","p/kWh",null,null,{"$f":"J29 * (1 - J$118)","v":1.3862526519345733},1.3862526519345733,1.6101394710967898,1.6101394710967898,0.99574541659814675,0,0,3.0998198799272254,-0.99131591786454487,-0.94256267600235399,-0.99131591786454487,-0.99131591786454487,-0.94256267600235399,-0.94256267600235399,0,0]
[null,null,null,null,null,"HV/LV","p/kWh",null,null,{"$f":"J30 * (1 - J$119)","v":0.31831573206254088},0.31831573206254088,0.36972533379806782,0.36972533379806782,0,0,0,0.71179047554141128,-0.22762910618056312,0,-0.22762910618056312,-0.22762910618056312,0,0,0,0]
[null,null,null,null,null,"LV circuits","p/kWh",null,null,{"$f":"J31 * (1 - J$120)","v":0},0,0,0,0,0,0,0.12505460392592638,0,0,0,0,0,0,0,0]
[null,null,null,null,null,"LV customers","p/kWh"]
[null,null,null,null,null,"HV customers","p/kWh"]
[]
[null,null,null,null,"Other operating costs"]
[null,null,null,null,null,"Transmission exit","p/kWh",null,null,{"$f":"J36 * (1 - J$112)","v":1.8751515036073518},1.8751515036073518,2.1779979616494836,2.1779979616494836,1.6836518874629611,1.369378787639463,1.3659699658727382,4.0704023450285449,-1.3409298307487285,-1.2749824620233809,-1.3409298307487285,-1.3409298307487285,-1.2749824620233809,-1.2749824620233809,-1.2530000057815984,-1.2530000057815984]
[null,null,null,null,null,"GSPs","p/kWh",null,null,0,0,0,0,0,0,0,0,0,0,0,0,0,0,0,0]
[null,null,null,null,null,"132kV","p/kWh",null,null,{"$f":"J38 * (1 - J$113)","v":0},0,0,0,0,0,0,0,0,0,0,0,0,0,0,0]
[null,null,null,null,null,"132kV/EHV","p/kWh",null,null,{"$f":"J39 * (1 - J$114)","v":0},0,0,0,0,0,0,0,0,0,0,0,0,0,0,0]
[null,null,null,null,null,"EHV","p/kWh",null,null,{"$f":"J40 * (1 - J$115)","v":1.3271969512058077},1.3271969512058077,1.5415459758172922,1.5415459758172922,1.1916571261756816,0.96922053951623688,0.77344627168839786,2.8809541906935197,-0.94908490312753313,-0.90240859641634319,-0.94908490312753313,-0.94908490312753313,-0.90240859641634319,-0.90240859641634319,-0.88684982751261299,-0.88684982751261299]
[null,null,null,null,null,"EHV/HV","p/kWh",null,null,{"$f":"J41 * (1 - J$116)","v":0.29792241874154252},0.29792241874154252,0.34603839716443235,0.34603839716443235,0.26749712845429946,0.2175656952529296,0,0.666188688621981,-0.21304575004783205,-0.20256809020941408,-0.21304575004783205,-0.21304575004783205,-0.20256809020941408,-0.20256809020941408,-0.19907553692994143,-0.19907553692994143]
[null,null,null,null,null,"132kV/HV","p/kWh",null,null,{"$f":"J42 * (1 - J$117)","v":0},0,0,0,0,0,0,0,0,0,0,0,0,0,0,0]
[null,null,null,null,null,"HV","p/kWh",null,null,{"$f":"J43 * (1 - J$118)","v":1.2816705915961015},1.2816705915961015,1.4886668787200668,1.4886668787200668,0.92062411234304098,0,0,2.865962401444837,-0.91652878509194657,-0.87145359893988361,-0.91652878509194657,-0.91652878509194657,-0.87145359893988361,-0.87145359893988361,0,0]
[null,null,null,null,null,"HV/LV","p/kWh",null,null,{"$f":"J44 * (1 - J$119)","v":0.3221201107161773},0.3221201107161773,0.37414413885836451,0.37414413885836451,0,0,0,0.72029750242778401,-0.23034963559608548,0,-0.23034963559608548,-0.23034963559608548,0,0,0,0]
[null,null,null,null,null,"LV circuits","p/kWh",null,null,{"$f":"J45 * (1 - J$120)","v":0},0,0,0,0,0,0,1.2115631719705942,0,0,0,0,0,0,0,0]
[null,null,null,null,null,"LV customers","p/kWh",null,">",null,null,null,null,null,null,null,{"$f":"Q46","v":0.42942896297178434},null,null,null,null,null,null,null,null,null,"Paragraph 86"]
[null,null,null,null,null,"HV customers","p/kWh"]
[]
[null,null,{"$f":"INDEX('Version control'!$H$34:$H$58,MATCH($A$1,'Version control'!$F$34:$F$58,0),1)&\"-F: Contributions to unit rate 2 p/kWh by network level (taking account of standing charges)\"","v":"Section 514-F: Contributions to unit rate 2 p/kWh by network level (taking account of standing charges)"}]
[null,null,null,null,null,null,null,null,">",null,null,null,null,null,null,null,null,null,null,null,null,null,null,null,null,null,"Paragraph 77"]
[null,null,null,null,"Asset costs"]
[null,null,null,null,null,"Transmission exit","p/kWh",null,null,{"$f":"J52 * (1 - J$112)","v":0},0,0,0,0,0,0,0,0,0,0,0,0,0,0,0]
[null,null,null,null,null,"GSPs","p/kWh",null,null,0,0,0,0,0,0,0,0,0,0,0,0,0,0,0,0]
[null,null,null,null,null,"132kV","p/kWh",null,null,{"$f":"J54 * (1 - J$113)","v":0},0,0,0,0,0,0,0,0,0,0,0,0,0,0,0]
[null,null,null,null,null,"132kV/EHV","p/kWh",null,null,{"$f":"J55 * (1 - J$114)","v":0},0,0,0,0,0,0,0,0,0,0,0,0,0,0,0]
[null,null,null,null,null,"EHV","p/kWh",null,null,{"$f":"J56 * (1 - J$115)","v":0.1438617225082271},0.1438617225082271,0.16709611878268379,0.16709611878268379,0.12916986183179766,0.10505881299567355,8.1230433768116644E-2,0.12323803469373426,-0.10287620751873476,-9.7816721903059289E-2,-0.10287620751873476,-0.10287620751873476,-9.7816721903059289E-2,-9.7816721903059289E-2,-9.3140530652207704E-2,-9.3140530652207704E-2]
[null,null,null,null,null,"EHV/HV","p/kWh",null,null,{"$f":"J57 * (1 - J$116)","v":4.8523421577766256E-2},4.8523421577766256E-2,5.6360199741366176E-2,5.6360199741366176E-2,4.356797313091882E-2,3.5435506989409539E-2,0,3.699604555862028E-2,-3.4699331418528372E-2,-3.2992806922535173E-2,-3.4699331418528372E-2,-3.4699331418528372E-2,-3.2992806922535173E-2,-3.2992806922535173E-2,-2.7815787359196549E-2,-2.7815787359196549E-2]
[null,null,null,null,null,"132kV/HV","p/kWh",null,null,{"$f":"J58 * (1 - J$117)","v":0},0,0,0,0,0,0,0,0,0,0,0,0,0,0,0]
[null,null,null,null,null,"HV","p/kWh",null,null,{"$f":"J59 * (1 - J$118)","v":0.16686319527226703},0.16686319527226703,0.19381244580940135,0.19381244580940135,0.11985784962027496,0,0,0.12722265194048846,-0.11932467097415166,-0.11345624453279995,-0.11932467097415166,-0.11932467097415166,-0.11345624453279995,-0.11345624453279995,0,0]
[null,null,null,null,null,"HV/LV","p/kWh",null,null,{"$f":"J60 * (1 - J$119)","v":3.8315656300647608E-2},3.8315656300647608E-2,4.4503828710123795E-2,4.4503828710123795E-2,0,0,0,2.9213268974352696E-2,-2.7399709527157375E-2,0,-2.7399709527157375E-2,-2.7399709527157375E-2,0,0,0,0]
[null,null,null,null,null,"LV circuits","p/kWh",null,null,{"$f":"J61 * (1 - J$120)","v":0},0,0,0,0,0,0,5.1324847781792039E-3,0,0,0,0,0,0,0,0]
[null,null,null,null,null,"LV customers","p/kWh"]
[null,null,null,null,null,"HV customers","p/kWh"]
[]
[null,null,null,null,"Other operating costs"]
[null,null,null,null,null,"Transmission exit","p/kWh",null,null,{"$f":"J66 * (1 - J$112)","v":0.15021599433191743},0.15021599433191743,0.17447663766509949,0.17447663766509949,0.13487520442882392,0.10969918740249729,0.10942611104029204,0.12868137262830254,-0.10742017776576855,-0.10213721820351762,-0.10742017776576855,-0.10742017776576855,-0.10213721820351762,-0.10213721820351762,-0.10037623168276731,-0.10037623168276731]
[null,null,null,null,null,"GSPs","p/kWh",null,null,0,0,0,0,0,0,0,0,0,0,0,0,0,0,0,0]
[null,null,null,null,null,"132kV","p/kWh",null,null,{"$f":"J68 * (1 - J$113)","v":0},0,0,0,0,0,0,0,0,0,0,0,0,0,0,0]
[null,null,null,null,null,"132kV/EHV","p/kWh",null,null,{"$f":"J69 * (1 - J$114)","v":0},0,0,0,0,0,0,0,0,0,0,0,0,0,0,0]
[null,null,null,null,null,"EHV","p/kWh",null,null,{"$f":"J70 * (1 - J$115)","v":0.10632005430821767},0.10632005430821767,0.12349128116863302,0.12349128116863302,9.5462131868720837E-2,7.7643020732065263E-2,6.1959793936903887E-2,9.1078254264100933E-2,-7.6029980593273136E-2,-7.2290801219833487E-2,-7.6029980593273136E-2,-7.6029980593273136E-2,-7.2290801219833487E-2,-7.2290801219833487E-2,-7.1044408095353589E-2,-7.1044408095353589E-2]
[null,null,null,null,null,"EHV/HV","p/kWh",null,null,{"$f":"J71 * (1 - J$116)","v":3.586091371228798E-2},3.586091371228798E-2,4.1652632770203112E-2,4.1652632770203112E-2,3.2198622320216939E-2,2.6188377018339912E-2,0,2.7341682724234446E-2,-2.5644311332820316E-2,-2.4383115693501281E-2,-2.5644311332820316E-2,-2.5644311332820316E-2,-2.4383115693501281E-2,-2.4383115693501281E-2,-2.3962717147061607E-2,-2.3962717147061607E-2]
[null,null,null,null,null,"132kV/HV","p/kWh",null,null,{"$f":"J72 * (1 - J$117)","v":0},0,0,0,0,0,0,0,0,0,0,0,0,0,0,0]
[null,null,null,null,null,"HV","p/kWh",null,null,{"$f":"J73 * (1 - J$118)","v":0.15427465541852464},0.15427465541852464,0.1791907930582243,0.1791907930582243,0.11081550020183813,0,0,0.11762468504528174,-0.11032254576827975,-0.10489684679606927,-0.11032254576827975,-0.11032254576827975,-0.10489684679606927,-0.10489684679606927,0,0]
[null,null,null,null,null,"HV/LV","p/kWh",null,null,{"$f":"J74 * (1 - J$119)","v":3.8773589259178273E-2},3.8773589259178273E-2,4.5035720159072423E-2,4.5035720159072423E-2,0,0,0,2.9562413944878786E-2,-2.7727179581387928E-2,0,-2.7727179581387928E-2,-2.7727179581387928E-2,0,0,0,0]
[null,null,null,null,null,"LV circuits","p/kWh",null,null,{"$f":"J75 * (1 - J$120)","v":0},0,0,0,0,0,0,4.9724914898973988E-2,0,0,0,0,0,0,0,0]
[null,null,null,null,null,"LV customers","p/kWh",null,">",null,null,null,null,null,null,null,{"$f":"Q76","v":0.42942896297178434},null,null,null,null,null,null,null,null,null,"Paragraph 86"]
[null,null,null,null,null,"HV customers","p/kWh"]
[]
[null,null,{"$f":"INDEX('Version control'!$H$34:$H$58,MATCH($A$1,'Version control'!$F$34:$F$58,0),1)&\"-G: Contributions to unit rate 3 p/kWh by network level (taking account of standing charges)\"","v":"Section 514-G: Contributions to unit rate 3 p/kWh by network level (taking account of standing charges)"}]
[null,null,null,null,null,null,null,null,">",null,null,null,null,null,null,null,null,null,null,null,null,null,null,null,null,null,"Paragraph 77"]
[null,null,null,null,"Asset costs"]
[null,null,null,null,null,"Transmission exit","p/kWh",null,null,{"$f":"J82 * (1 - J$112)","v":0},0,0,0,0,0,0,0,0,0,0,0,0,0,0,0]
[null,null,null,null,null,"GSPs","p/kWh",null,null,0,0,0,0,0,0,0,0,0,0,0,0,0,0,0,0]
[null,null,null,null,null,"132kV","p/kWh",null,null,{"$f":"J84 * (1 - J$113)","v":0},0,0,0,0,0,0,0,0,0,0,0,0,0,0,0]
[null,null,null,null,null,"132kV/EHV","p/kWh",null,null,{"$f":"J85 * (1 - J$114)","v":0},0,0,0,0,0,0,0,0,0,0,0,0,0,0,0]
[null,null,null,null,null,"EHV","p/kWh",null,null,{"$f":"J86 * (1 - J$115)","v":2.3063648481960884E-3},2.3063648481960884E-3,2.6788544437756252E-3,2.6788544437756252E-3,2.0708276223939054E-3,1.684283693131584E-3,1.3022714713831602E-3,1.8127412956928774E-3,-1.6492925609407124E-3,-1.5681798120419888E-3,-1.6492925609407124E-3,-1.6492925609407124E-3,-1.5681798120419888E-3,-1.5681798120419888E-3,-1.4932119683628653E-3,-1.4932119683628653E-3]
[null,null,null,null,null,"EHV/HV","p/kWh",null,null,{"$f":"J87 * (1 - J$116)","v":1.6495075700587941E-3},1.6495075700587941E-3,1.9159113908407291E-3,1.9159113908407291E-3,1.4810518128115279E-3,1.2045963604241177E-3,0,1.2964689832756962E-3,-1.1795707720056528E-3,-1.1215590946938995E-3,-1.1795707720056528E-3,-1.1795707720056528E-3,-1.1215590946938995E-3,-1.1215590946938995E-3,-9.4557123805885939E-4,-9.4557123805885939E-4]
[null,null,null,null,null,"132kV/HV","p/kWh",null,null,{"$f":"J88 * (1 - J$117)","v":0},0,0,0,0,0,0,0,0,0,0,0,0,0,0,0]
[null,null,null,null,null,"HV","p/kWh",null,null,{"$f":"J89 * (1 - J$118)","v":5.6723556339629807E-3},5.6723556339629807E-3,6.5884697768449135E-3,6.5884697768449135E-3,4.074453611288666E-3,0,0,4.4583203345226413E-3,-4.0563287102743269E-3,-3.8568371343591953E-3,-4.0563287102743269E-3,-4.0563287102743269E-3,-3.8568371343591953E-3,-3.8568371343591953E-3,0,0]
[null,null,null,null,null,"HV/LV","p/kWh",null,null,{"$f":"J90 * (1 - J$119)","v":1.3025042971959073E-3},1.3025042971959073E-3,1.5128653332143784E-3,1.5128653332143784E-3,0,0,0,1.0237336600023082E-3,-9.3142706785473818E-4,0,-9.3142706785473818E-4,-9.3142706785473818E-4,0,0,0,0]
[null,null,null,null,null,"LV circuits","p/kWh",null,null,{"$f":"J91 * (1 - J$120)","v":0},0,0,0,0,0,0,1.7985996128966103E-4,0,0,0,0,0,0,0,0]
[null,null,null,null,null,"LV customers","p/kWh"]
[null,null,null,null,null,"HV customers","p/kWh"]
[]
[null,null,null,null,"Other operating costs"]
[null,null,null,null,null,"Transmission exit","p/kWh",null,null,{"$f":"J96 * (1 - J$112)","v":2.4082353729925929E-3},2.4082353729925929E-3,2.7971775738971738E-3,2.7971775738971738E-3,2.162294632403776E-3,1.7586773277118667E-3,1.7542994173707232E-3,1.8928088128755832E-3,-1.7221406616466405E-3,-1.637445219270576E-3,-1.7221406616466405E-3,-1.7221406616466405E-3,-1.637445219270576E-3,-1.637445219270576E-3,-1.6092134051452214E-3,-1.6092134051452214E-3]
[null,null,null,null,null,"GSPs","p/kWh",null,null,0,0,0,0,0,0,0,0,0,0,0,0,0,0,0,0]
[null,null,null,null,null,"132kV","p/kWh",null,null,{"$f":"J98 * (1 - J$113)","v":0},0,0,0,0,0,0,0,0,0,0,0,0,0,0,0]
[null,null,null,null,null,"132kV/EHV","p/kWh",null,null,{"$f":"J99 * (1 - J$114)","v":0},0,0,0,0,0,0,0,0,0,0,0,0,0,0,0]
[null,null,null,null,null,"EHV","p/kWh",null,null,{"$f":"J100 * (1 - J$115)","v":1.7045036833946514E-3},1.7045036833946514E-3,1.979789654817645E-3,1.979789654817645E-3,1.5304314548526714E-3,1.2447587210973002E-3,9.9332809482644739E-4,1.3396944624640774E-3,-1.218898756334076E-3,-1.1589529158586296E-3,-1.218898756334076E-3,-1.218898756334076E-3,-1.1589529158586296E-3,-1.1589529158586296E-3,-1.1389709690334806E-3,-1.1389709690334806E-3]
[null,null,null,null,null,"EHV/HV","p/kWh",null,null,{"$f":"J101 * (1 - J$116)","v":1.2190576574004099E-3},1.2190576574004099E-3,1.4159416387654474E-3,1.4159416387654474E-3,1.0945615444191612E-3,8.9024897121226508E-4,0,9.5814682535105193E-4,-8.7175397564738066E-4,-8.2888082930406676E-4,-8.7175397564738066E-4,-8.7175397564738066E-4,-8.2888082930406676E-4,-8.2888082930406676E-4,-8.1458978052296213E-4,-8.1458978052296213E-4]
[null,null,null,null,null,"132kV/HV","p/kWh",null,null,{"$f":"J102 * (1 - J$117)","v":0},0,0,0,0,0,0,0,0,0,0,0,0,0,0,0]
[null,null,null,null,null,"HV","p/kWh",null,null,{"$f":"J103 * (1 - J$118)","v":5.2444201935189071E-3},5.2444201935189071E-3,6.0914205969723884E-3,6.0914205969723884E-3,3.7670675422142906E-3,0,0,4.1219744847364589E-3,-3.750310025052286E-3,-3.5658685484103703E-3,-3.750310025052286E-3,-3.750310025052286E-3,-3.5658685484103703E-3,-3.5658685484103703E-3,0,0]
[null,null,null,null,null,"HV/LV","p/kWh",null,null,{"$f":"J104 * (1 - J$119)","v":1.3180712926202751E-3},1.3180712926202751E-3,1.530946477184908E-3,1.530946477184908E-3,0,0,0,1.0359689034754667E-3,-9.4255910091953666E-4,0,-9.4255910091953666E-4,-9.4255910091953666E-4,0,0,0,0]
[null,null,null,null,null,"LV circuits","p/kWh",null,null,{"$f":"J105 * (1 - J$120)","v":0},0,0,0,0,0,0,1.7425324487828188E-3,0,0,0,0,0,0,0,0]
[null,null,null,null,null,"LV customers","p/kWh",null,">",null,null,null,null,null,null,null,{"$f":"Q106","v":0.42942896297178434},null,null,null,null,null,null,null,null,null,"Paragraph 86"]
[null,null,null,null,null,"HV customers","p/kWh"]
[]
[null,null,{"$f":"INDEX('Version control'!$H$34:$H$58,MATCH($A$1,'Version control'!$F$34:$F$58,0),1)&\"-H: Unit rates, post application of standing charges\"","v":"Section 514-H: Unit rates, post application of standing charges"}]
[]
[null,null,null,null,"Unit rates"]
[null,null,null,null,null,"Total unit rate 1","p/kWh",null,null,{"$f":"SUM(J127:J138,J141:J152)","v":9.0075798509575993},9.0075798509575993,10.462349584574492,10.462349584574492,7.0335580755778464,4.1620061131966093,3.1534185792984371,21.581103155032686,-6.4413635387668471,-5.6891199709087141,-6.4413635387668471,-6.4413635387668471,-5.6891199709087141,-5.6891199709087141,-3.732687631507082,-3.732687631507082]
[null,null,null,null,null,"Total unit rate 2","p/kWh",null,null,{"$f":"SUM(J157:J168,J171:J182)","v":0.88300920268903393},0.88300920268903393,1.0256196578648074,1.0256196578648074,0.66594714340259142,0.35402490513798557,0.25261633874531259,1.1952447724229316,-0.63144411448010185,-0.54797375527131609,-0.63144411448010185,-0.63144411448010185,-0.54797375527131609,-0.54797375527131609,-0.31633967493658671,-0.31633967493658671]
[null,null,null,null,null,"Total unit rate 3","p/kWh",null,null,{"$f":"SUM(J187:J198,J201:J212)","v":2.2825020549340613E-2},2.2825020549340613E-2,2.6511376886313207E-2,2.6511376886313207E-2,1.6180688220383998E-2,6.782565073577133E-3,4.0498989835803315E-3,0.44929121314425297,-1.632228163067535E-2,-1.3737723553938727E-2,-1.632228163067535E-2,-1.632228163067535E-2,-1.3737723553938727E-2,-1.3737723553938727E-2,-6.0015573611233893E-3,-6.0015573611233893E-3]
[]
[null,"Checks"]
[]
[null,null,null,null,"Check for error values",null,"number of issues",{"$f":"SUM(IF(ISERROR(H22:Y219), 1))","v":0}]
[]
[null,"End of sheet"]

{"sheet":"Reactive power charges","index":28,"n_rows":256,"n_cols":27,"rows_kept":256,"cut":false,"hidden":false,"merged":[]}
[{"$f":"MID(CELL(\"filename\",A1),FIND(\"]\",CELL(\"filename\",A1))+1,255)","v":"Reactive power charges"}]
[{"$f":"Cover!D21&\" - \"&Cover!D23","v":"SP Distribution - One"}]
[{"$f":"Cover!D2&\" - \"&Cover!D8&\" v\"&Cover!D10&\" - \"&Cover!D19","v":"ARP model - Release for charge setting v5 - 2021/22"}]
[{"$f":"H254 & IF(H254 = 1, \" issue\", \" issues\") &\" identified in checks on this sheet\"","v":"0 issues identified in checks on this sheet"}]
[null,"Click here to return to model map",null,null,null,null,"Units","Constants",null,"Domestic Aggregated","Domestic Aggregated (Related MPAN)","Non-Domestic Aggregated","Non-Domestic Aggregated (Related MPAN)","LV Site Specific","LV Sub Site Specific","HV Site Specific","Unmetered Supplies","LV Generation Aggregated","LV Sub Generation Aggregated","LV Generation Site Specific","LV Generation Site Specific no RP Charge","LV Sub Generation Site Specific","LV Sub Generation Site Specific no RP Charge","HV Generation Site Specific","HV Generation Site Specific no RP Charge",null,"Legal text reference"]
[]
[null,"Description"]
[]
[null,null,"This sheet calculates reactive power charges (p/kVArh) in line with Paragraph 87-88."]
[null,null,"Reactive charges are based on yardstick charges. For generation, yardstick charges are "]
[null,null,"re-calculated to account for a contribution at the network level they are connected (para 88)."]
[]
[null,"Inputs to reactive power charge calculations"]
[]
[null,null,"Bring in inputs required to calculate reactive power charges"]
[]
[null,null,{"$f":"INDEX('Version control'!$H$34:$H$58,MATCH($A$1,'Version control'!$F$34:$F$58,0),1)&\"-A: Inputs to reactive power charge calculations\"","v":"Section 515-A: Inputs to reactive power charge calculations"}]
[]
[null,null,null,"Average kVAr by kVA, by network level"]
[null,null,null,"This table transposes 'Average kVAr by kVA, by network level' from DNO inputs. "]
[null,null,null,null,"Transmission exit",null,"kVAr/ kVA"]
[null,null,null,null,"GSPs",null,"kVAr/ kVA",{"$f":"TRANSPOSE('Inputs by network level'!K24:S24)","v":0.26509994640061324}]
[null,null,null,null,"132kV",null,"kVAr/ kVA",0]
[null,null,null,null,"132kV/EHV",null,"kVAr/ kVA",0]
[null,null,null,null,"EHV",null,"kVAr/ kVA",0.26509994640061324]
[null,null,null,null,"EHV/HV",null,"kVAr/ kVA",0.21690566590786087]
[null,null,null,null,"132kV/HV",null,"kVAr/ kVA",0]
[null,null,null,null,"HV",null,"kVAr/ kVA",0.21690566590786087]
[null,null,null,null,"HV/LV",null,"kVAr/ kVA",0.21690566590786087]
[null,null,null,null,"LV circuits",null,"kVAr/ kVA",0.21690566590786087]
[null,null,null,null,"LV customers",null,"kVAr/ kVA"]
[null,null,null,null,"HV customers",null,"kVAr/ kVA"]
[]
[null,null,null,"Loss adjustment factor to transmission for each DRM network level"]
[null,null,null,null,"Transmission exit",null,"scalar",{"$f":"TRANSPOSE('Load & loss characteristics'!J29:S29)","v":1}]
[null,null,null,null,"GSPs",null,"scalar",1]
[null,null,null,null,"132kV",null,"scalar",1]
[null,null,null,null,"132kV/EHV",null,"scalar",1]
[null,null,null,null,"EHV",null,"scalar",1.004]
[null,null,null,null,"EHV/HV",null,"scalar",1.0129999999999999]
[null,null,null,null,"132kV/HV",null,"scalar",1.0129999999999999]
[null,null,null,null,"HV",null,"scalar",1.026]
[null,null,null,null,"HV/LV",null,"scalar",1.044]
[null,null,null,null,"LV circuits",null,"scalar",1.0980000000000001]
[null,null,null,null,"LV customers",null,"scalar"]
[null,null,null,null,"HV customers",null,"scalar"]
[]
[null,null,null,"Network level assets per kW of system simultaneous peak load per year"]
[null,null,null,null,"Transmission exit",null,"£/kW/year"]
[null,null,null,null,"GSPs",null,"£/kW/year"]
[null,null,null,null,"132kV",null,"£/kW/year",{"$f":"TRANSPOSE('Unit costs'!L114:S114)","v":0}]
[null,null,null,null,"132kV/EHV",null,"£/kW/year",0]
[null,null,null,null,"EHV",null,"£/kW/year",12.478071335403621]
[null,null,null,null,"EHV/HV",null,"£/kW/year",3.2261046387145558]
[null,null,null,null,"132kV/HV",null,"£/kW/year",0]
[null,null,null,null,"HV",null,"£/kW/year",14.056901421102715]
[null,null,null,null,"HV/LV",null,"£/kW/year",3.5948780096052633]
[null,null,null,null,"LV circuits",null,"£/kW/year",6.359458733192529]
[null,null,null,null,"LV customers",null,"£/kW/year"]
[null,null,null,null,"HV customers",null,"£/kW/year"]
[]
[null,null,null,"Other operating costs (excl. service models) per kW of system simultaneous peak load per year"]
[null,null,null,null,"Transmission exit",null,"£/kW/year",{"$f":"TRANSPOSE('Unit costs'!J115:S115)","v":12.977309793602421}]
[null,null,null,null,"GSPs",null,"£/kW/year",0]
[null,null,null,null,"132kV",null,"£/kW/year",0]
[null,null,null,null,"132kV/EHV",null,"£/kW/year",0]
[null,null,null,null,"EHV",null,"£/kW/year",9.2218360722467949]
[null,null,null,null,"EHV/HV",null,"£/kW/year",2.3842312910754226]
[null,null,null,null,"132kV/HV",null,"£/kW/year",0]
[null,null,null,null,"HV",null,"£/kW/year",10.388660002395246]
[null,null,null,null,"HV/LV",null,"£/kW/year",2.6567708112266732]
[null,null,null,null,"LV circuits",null,"£/kW/year",4.6999159060203253]
[null,null,null,null,"LV customers",null,"£/kW/year"]
[null,null,null,null,"HV customers",null,"£/kW/year"]
[]
[null,null,null,"Flag for applicability of reactive charges"]
[null,null,null,"This flag is used to filter out customers that do not receive reactive power charges"]
[null,null,null,null,"Reactive power charge flag",null,"0 or 1",null,">",{"$f":"'Fixed inputs'!J138","v":0},{"$f":"'Fixed inputs'!K138","v":0},{"$f":"'Fixed inputs'!L138","v":0},{"$f":"'Fixed inputs'!M138","v":0},{"$f":"'Fixed inputs'!N138","v":1},{"$f":"'Fixed inputs'!O138","v":1},{"$f":"'Fixed inputs'!P138","v":1},{"$f":"'Fixed inputs'!Q138","v":0},{"$f":"'Fixed inputs'!R138","v":0},{"$f":"'Fixed inputs'!S138","v":0},{"$f":"'Fixed inputs'!T138","v":1},{"$f":"'Fixed inputs'!U138","v":0},{"$f":"'Fixed inputs'!V138","v":1},{"$f":"'Fixed inputs'!W138","v":0},{"$f":"'Fixed inputs'!X138","v":1},{"$f":"'Fixed inputs'!Y138","v":0},null,"Paragraphs 141 & 146"]
[]
[null,null,null,"Standing charge factors"]
[null,null,null,null,"GSPs",null,"%",null,null,{"$f":"'Standing charge factors'!J44","v":0},{"$f":"'Standing charge factors'!K44","v":0},{"$f":"'Standing charge factors'!L44","v":0},{"$f":"'Standing charge factors'!M44","v":0},{"$f":"'Standing charge factors'!N44","v":0},{"$f":"'Standing charge factors'!O44","v":0},{"$f":"'Standing charge factors'!P44","v":0},{"$f":"'Standing charge factors'!Q44","v":0},{"$f":"'Standing charge factors'!R44","v":0},{"$f":"'Standing charge factors'!S44","v":0},{"$f":"'Standing charge factors'!T44","v":0},{"$f":"'Standing charge factors'!U44","v":0},{"$f":"'Standing charge factors'!V44","v":0},{"$f":"'Standing charge factors'!W44","v":0},{"$f":"'Standing charge factors'!X44","v":0},{"$f":"'Standing charge factors'!Y44","v":0}]
[null,null,null,null,"132kV",null,"%",null,null,{"$f":"'Standing charge factors'!J45","v":0},{"$f":"'Standing charge factors'!K45","v":0},{"$f":"'Standing charge factors'!L45","v":0},{"$f":"'Standing charge factors'!M45","v":0},{"$f":"'Standing charge factors'!N45","v":0},{"$f":"'Standing charge factors'!O45","v":0},{"$f":"'Standing charge factors'!P45","v":0},{"$f":"'Standing charge factors'!Q45","v":0},{"$f":"'Standing charge factors'!R45","v":0},{"$f":"'Standing charge factors'!S45","v":0},{"$f":"'Standing charge factors'!T45","v":0},{"$f":"'Standing charge factors'!U45","v":0},{"$f":"'Standing charge factors'!V45","v":0},{"$f":"'Standing charge factors'!W45","v":0},{"$f":"'Standing charge factors'!X45","v":0},{"$f":"'Standing charge factors'!Y45","v":0}]
[null,null,null,null,"132kV/EHV",null,"%",null,null,{"$f":"'Standing charge factors'!J46","v":0},{"$f":"'Standing charge factors'!K46","v":0},{"$f":"'Standing charge factors'!L46","v":0},{"$f":"'Standing charge factors'!M46","v":0},{"$f":"'Standing charge factors'!N46","v":0},{"$f":"'Standing charge factors'!O46","v":0},{"$f":"'Standing charge factors'!P46","v":0},{"$f":"'Standing charge factors'!Q46","v":0},{"$f":"'Standing charge factors'!R46","v":0},{"$f":"'Standing charge factors'!S46","v":0},{"$f":"'Standing charge factors'!T46","v":0},{"$f":"'Standing charge factors'!U46","v":0},{"$f":"'Standing charge factors'!V46","v":0},{"$f":"'Standing charge factors'!W46","v":0},{"$f":"'Standing charge factors'!X46","v":0},{"$f":"'Standing charge factors'!Y46","v":0}]
[null,null,null,null,"EHV",null,"%",null,null,{"$f":"'Standing charge factors'!J47","v":0},{"$f":"'Standing charge factors'!K47","v":0},{"$f":"'Standing charge factors'!L47","v":0},{"$f":"'Standing charge factors'!M47","v":0},{"$f":"'Standing charge factors'!N47","v":0},{"$f":"'Standing charge factors'!O47","v":0},{"$f":"'Standing charge factors'!P47","v":0.2},{"$f":"'Standing charge factors'!Q47","v":0},{"$f":"'Standing charge factors'!R47","v":0},{"$f":"'Standing charge factors'!S47","v":0},{"$f":"'Standing charge factors'!T47","v":0},{"$f":"'Standing charge factors'!U47","v":0},{"$f":"'Standing charge factors'!V47","v":0},{"$f":"'Standing charge factors'!W47","v":0},{"$f":"'Standing charge factors'!X47","v":0},{"$f":"'Standing charge factors'!Y47","v":0}]
[null,null,null,null,"EHV/HV",null,"%",null,null,{"$f":"'Standing charge factors'!J48","v":0},{"$f":"'Standing charge factors'!K48","v":0},{"$f":"'Standing charge factors'!L48","v":0},{"$f":"'Standing charge factors'!M48","v":0},{"$f":"'Standing charge factors'!N48","v":0},{"$f":"'Standing charge factors'!O48","v":0},{"$f":"'Standing charge factors'!P48","v":1},{"$f":"'Standing charge factors'!Q48","v":0},{"$f":"'Standing charge factors'!R48","v":0},{"$f":"'Standing charge factors'!S48","v":0},{"$f":"'Standing charge factors'!T48","v":0},{"$f":"'Standing charge factors'!U48","v":0},{"$f":"'Standing charge factors'!V48","v":0},{"$f":"'Standing charge factors'!W48","v":0},{"$f":"'Standing charge factors'!X48","v":0},{"$f":"'Standing charge factors'!Y48","v":0}]
[null,null,null,null,"132kV/HV",null,"%",null,null,{"$f":"'Standing charge factors'!J49","v":0},{"$f":"'Standing charge factors'!K49","v":0},{"$f":"'Standing charge factors'!L49","v":0},{"$f":"'Standing charge factors'!M49","v":0},{"$f":"'Standing charge factors'!N49","v":0},{"$f":"'Standing charge factors'!O49","v":0},{"$f":"'Standing charge factors'!P49","v":1},{"$f":"'Standing charge factors'!Q49","v":0},{"$f":"'Standing charge factors'!R49","v":0},{"$f":"'Standing charge factors'!S49","v":0},{"$f":"'Standing charge factors'!T49","v":0},{"$f":"'Standing charge factors'!U49","v":0},{"$f":"'Standing charge factors'!V49","v":0},{"$f":"'Standing charge factors'!W49","v":0},{"$f":"'Standing charge factors'!X49","v":0},{"$f":"'Standing charge factors'!Y49","v":0}]
[null,null,null,null,"HV",null,"%",null,null,{"$f":"'Standing charge factors'!J50","v":0},{"$f":"'Standing charge factors'!K50","v":0},{"$f":"'Standing charge factors'!L50","v":0},{"$f":"'Standing charge factors'!M50","v":0},{"$f":"'Standing charge factors'!N50","v":0.2},{"$f":"'Standing charge factors'!O50","v":1},{"$f":"'Standing charge factors'!P50","v":1},{"$f":"'Standing charge factors'!Q50","v":0},{"$f":"'Standing charge factors'!R50","v":0},{"$f":"'Standing charge factors'!S50","v":0},{"$f":"'Standing charge factors'!T50","v":0},{"$f":"'Standing charge factors'!U50","v":0},{"$f":"'Standing charge factors'!V50","v":0},{"$f":"'Standing charge factors'!W50","v":0},{"$f":"'Standing charge factors'!X50","v":0},{"$f":"'Standing charge factors'!Y50","v":0}]
[null,null,null,null,"HV/LV",null,"%",null,null,{"$f":"'Standing charge factors'!J51","v":0},{"$f":"'Standing charge factors'!K51","v":0},{"$f":"'Standing charge factors'!L51","v":0},{"$f":"'Standing charge factors'!M51","v":0},{"$f":"'Standing charge factors'!N51","v":1},{"$f":"'Standing charge factors'!O51","v":1},{"$f":"'Standing charge factors'!P51","v":0},{"$f":"'Standing charge factors'!Q51","v":0},{"$f":"'Standing charge factors'!R51","v":0},{"$f":"'Standing charge factors'!S51","v":0},{"$f":"'Standing charge factors'!T51","v":0},{"$f":"'Standing charge factors'!U51","v":0},{"$f":"'Standing charge factors'!V51","v":0},{"$f":"'Standing charge factors'!W51","v":0},{"$f":"'Standing charge factors'!X51","v":0},{"$f":"'Standing charge factors'!Y51","v":0}]
[null,null,null,null,"LV circuits",null,"%",null,null,{"$f":"'Standing charge factors'!J52","v":1},{"$f":"'Standing charge factors'!K52","v":1},{"$f":"'Standing charge factors'!L52","v":1},{"$f":"'Standing charge factors'!M52","v":1},{"$f":"'Standing charge factors'!N52","v":1},{"$f":"'Standing charge factors'!O52","v":0},{"$f":"'Standing charge factors'!P52","v":0},{"$f":"'Standing charge factors'!Q52","v":0},{"$f":"'Standing charge factors'!R52","v":0},{"$f":"'Standing charge factors'!S52","v":0},{"$f":"'Standing charge factors'!T52","v":0},{"$f":"'Standing charge factors'!U52","v":0},{"$f":"'Standing charge factors'!V52","v":0},{"$f":"'Standing charge factors'!W52","v":0},{"$f":"'Standing charge factors'!X52","v":0},{"$f":"'Standing charge factors'!Y52","v":0}]
[]
[null,null,null,"User loss factor (assuming generation contributes at level of connection)",null,null,null,null,">",null,null,null,null,null,null,null,null,null,null,null,null,null,null,null,null,null,"Paragraphs 146 & 88"]
[null,null,null,"These have been adjusted for the share of load going through 132/HV transformation"]
[null,null,null,null,"Transmission exit",null,"scalar",null,null,null,null,null,null,null,null,null,null,{"$f":"TRANSPOSE('Load & loss characteristics'!J172:S179)","v":-1.0980000000000001},-1.044,-1.0980000000000001,-1.0980000000000001,-1.044,-1.044,-1.026,-1.026]
[null,null,null,null,"GSPs",null,"scalar",null,null,null,null,null,null,null,null,null,null,-1.0980000000000001,-1.044,-1.0980000000000001,-1.0980000000000001,-1.044,-1.044,-1.026,-1.026]
[null,null,null,null,"132kV",null,"scalar",null,null,null,null,null,null,null,null,null,null,-1.0980000000000001,-1.044,-1.0980000000000001,-1.0980000000000001,-1.044,-1.044,-1.026,-1.026]
[null,null,null,null,"132kV/EHV",null,"scalar",null,null,null,null,null,null,null,null,null,null,-1.0980000000000001,-1.044,-1.0980000000000001,-1.0980000000000001,-1.044,-1.044,-1.026,-1.026]
[null,null,null,null,"EHV",null,"scalar",null,null,null,null,null,null,null,null,null,null,-1.0980000000000001,-1.044,-1.0980000000000001,-1.0980000000000001,-1.044,-1.044,-1.026,-1.026]
[null,null,null,null,"EHV/HV",null,"scalar",null,null,null,null,null,null,null,null,null,null,-1.0980000000000001,-1.044,-1.0980000000000001,-1.0980000000000001,-1.044,-1.044,-1.026,-1.026]
[null,null,null,null,"132kV/HV",null,"scalar",null,null,null,null,null,null,null,null,null,null,0,0,0,0,0,0,0,0]
[null,null,null,null,"HV",null,"scalar",null,null,null,null,null,null,null,null,null,null,-1.0980000000000001,-1.044,-1.0980000000000001,-1.0980000000000001,-1.044,-1.044,-1.026,-1.026]
[null,null,null,null,"HV/LV",null,"scalar",null,null,null,null,null,null,null,null,null,null,-1.0980000000000001,-1.044,-1.0980000000000001,-1.0980000000000001,-1.044,-1.044,0,0]
[null,null,null,null,"LV circuits",null,"scalar",null,null,null,null,null,null,null,null,null,null,-1.0980000000000001,0,-1.0980000000000001,-1.0980000000000001,0,0,0,0]
[null,null,null,null,"LV customers",null,"scalar"]
[null,null,null,null,"HV customers",null,"scalar"]
[]
[null,null,null,"Customer contributions, by network level"]
[null,null,null,null,"Transmission exit",null,"%"]
[null,null,null,null,"GSPs",null,"%"]
[null,null,null,null,"132kV",null,"%",null,null,{"$f":"TRANSPOSE('Customer contributions'!L51:S66)","v":0},0,0,0,0,0,0,0,0,0,0,0,0,0,0,0]
[null,null,null,null,"132kV/EHV",null,"%",null,null,0,0,0,0,0,0,0,0,0,0,0,0,0,0,0,0]
[null,null,null,null,"EHV",null,"%",null,null,0,0,0,0,0,0,3.11004784688995E-2,0,0,0,0,0,0,0,3.11004784688995E-2,3.11004784688995E-2]
[null,null,null,null,"EHV/HV",null,"%",null,null,0,0,0,0,0,0,0.14212259371833799,0,0,0,0,0,0,0,0.14212259371833799,0.14212259371833799]
[null,null,null,null,"132kV/HV",null,"%",null,null,0,0,0,0,0,0,0,0,0,0,0,0,0,0,0,0]
[null,null,null,null,"HV",null,"%",null,null,0.20065197841726601,0.20065197841726601,0.20065197841726601,0.20065197841726601,0.20065197841726601,0.20065197841726601,0.45146695143884902,0.20065197841726601,0.20065197841726601,0.20065197841726601,0.20065197841726601,0.20065197841726601,0.20065197841726601,0.20065197841726601,0.45146695143884902,0.45146695143884902]
[null,null,null,null,"HV/LV",null,"%",null,null,0.26968503937007898,0.26968503937007898,0.26968503937007898,0.26968503937007898,0.26968503937007898,0.26968503937007898,0,0.26968503937007898,0.26968503937007898,0.26968503937007898,0.26968503937007898,0.26968503937007898,0.26968503937007898,0.26968503937007898,0,0]
[null,null,null,null,"LV circuits",null,"%",null,null,0.92371773930088197,0.92371773930088197,0.92371773930088197,0.92371773930088197,0.92371773930088197,0,0,0.92371773930088197,0.92371773930088197,0,0.92371773930088197,0.92371773930088197,0,0,0,0]
[null,null,null,null,"LV customers",null,"%"]
[null,null,null,null,"HV customers",null,"%"]
[]
[null,null,{"$f":"INDEX('Version control'!$H$34:$H$58,MATCH($A$1,'Version control'!$F$34:$F$58,0),1)&\"-B: Yardstick charge (demand)\"","v":"Section 515-B: Yardstick charge (demand)"}]
[]
[null,null,null,"Asset costs"]
[null,null,null,null,"Transmission exit",null,"p/kWh"]
[null,null,null,null,"GSPs",null,"p/kWh"]
[null,null,null,null,"132kV",null,"p/kWh",null,null,{"$f":"'Initial unit rates'!J125","v":0},{"$f":"'Initial unit rates'!K125","v":0},{"$f":"'Initial unit rates'!L125","v":0},{"$f":"'Initial unit rates'!M125","v":0},{"$f":"'Initial unit rates'!N125","v":0},{"$f":"'Initial unit rates'!O125","v":0},{"$f":"'Initial unit rates'!P125","v":0},{"$f":"'Initial unit rates'!Q125","v":0}]
[null,null,null,null,"132kV/EHV",null,"p/kWh",null,null,{"$f":"'Initial unit rates'!J126","v":0},{"$f":"'Initial unit rates'!K126","v":0},{"$f":"'Initial unit rates'!L126","v":0},{"$f":"'Initial unit rates'!M126","v":0},{"$f":"'Initial unit rates'!N126","v":0},{"$f":"'Initial unit rates'!O126","v":0},{"$f":"'Initial unit rates'!P126","v":0},{"$f":"'Initial unit rates'!Q126","v":0}]
[null,null,null,null,"EHV",null,"p/kWh",null,null,{"$f":"'Initial unit rates'!J127","v":0.31202314734048664},{"$f":"'Initial unit rates'!K127","v":0},{"$f":"'Initial unit rates'!L127","v":0.24837579541434665},{"$f":"'Initial unit rates'!M127","v":0},{"$f":"'Initial unit rates'!N127","v":0.21956775836949444},{"$f":"'Initial unit rates'!O127","v":0.17292758164569083},{"$f":"'Initial unit rates'!P127","v":0.16213601267798952},{"$f":"'Initial unit rates'!Q127","v":0.31473245434523334}]
[null,null,null,null,"EHV/HV",null,"p/kWh",null,null,{"$f":"'Initial unit rates'!J128","v":7.9954344332433008E-2},{"$f":"'Initial unit rates'!K128","v":0},{"$f":"'Initial unit rates'!L128","v":6.3645034157450889E-2},{"$f":"'Initial unit rates'!M128","v":0},{"$f":"'Initial unit rates'!N128","v":5.6263121203050256E-2},{"$f":"'Initial unit rates'!O128","v":4.4311813162973147E-2},{"$f":"'Initial unit rates'!P128","v":3.6785886797316661E-2},{"$f":"'Initial unit rates'!Q128","v":8.0648590470920323E-2}]
[null,null,null,null,"132kV/HV",null,"p/kWh",null,null,{"$f":"'Initial unit rates'!J129","v":0},{"$f":"'Initial unit rates'!K129","v":0},{"$f":"'Initial unit rates'!L129","v":0},{"$f":"'Initial unit rates'!M129","v":0},{"$f":"'Initial unit rates'!N129","v":0},{"$f":"'Initial unit rates'!O129","v":0},{"$f":"'Initial unit rates'!P129","v":0},{"$f":"'Initial unit rates'!Q129","v":0}]
[null,null,null,null,"HV",null,"p/kWh",null,null,{"$f":"'Initial unit rates'!J130","v":0.27494840506717239},{"$f":"'Initial unit rates'!K130","v":0},{"$f":"'Initial unit rates'!L130","v":0.21886366248317066},{"$f":"'Initial unit rates'!M130","v":0},{"$f":"'Initial unit rates'!N130","v":0.19347861042498202},{"$f":"'Initial unit rates'!O130","v":0.15238024220594915},{"$f":"'Initial unit rates'!P130","v":0.1011887037750764},{"$f":"'Initial unit rates'!Q130","v":0.27733579089460764}]
[null,null,null,null,"HV/LV",null,"p/kWh",null,null,{"$f":"'Initial unit rates'!J131","v":6.3134525092699817E-2},{"$f":"'Initial unit rates'!K131","v":0},{"$f":"'Initial unit rates'!L131","v":5.0256168562054754E-2},{"$f":"'Initial unit rates'!M131","v":0},{"$f":"'Initial unit rates'!N131","v":4.4427172370003175E-2},{"$f":"'Initial unit rates'!O131","v":3.4990034667896359E-2},{"$f":"'Initial unit rates'!P131","v":0},{"$f":"'Initial unit rates'!Q131","v":6.3682724200788285E-2}]
[null,null,null,null,"LV circuits",null,"p/kWh",null,null,{"$f":"'Initial unit rates'!J132","v":1.1092116712454801E-2},{"$f":"'Initial unit rates'!K132","v":0},{"$f":"'Initial unit rates'!L132","v":8.8295158060129313E-3},{"$f":"'Initial unit rates'!M132","v":0},{"$f":"'Initial unit rates'!N132","v":7.8054183572120227E-3},{"$f":"'Initial unit rates'!O132","v":0},{"$f":"'Initial unit rates'!P132","v":0},{"$f":"'Initial unit rates'!Q132","v":1.1188429917941854E-2}]
[null,null,null,null,"LV customers",null,"p/kWh"]
[null,null,null,null,"HV customers",null,"p/kWh"]
[]
[null,null,null,"Other operating costs"]
[null,null,null,null,"Transmission exit",null,"p/kWh",null,null,{"$f":"'Initial unit rates'!J135","v":0.3258049918708929},{"$f":"'Initial unit rates'!K135","v":0},{"$f":"'Initial unit rates'!L135","v":0.25934638085550038},{"$f":"'Initial unit rates'!M135","v":0},{"$f":"'Initial unit rates'!N135","v":0.22926591293120097},{"$f":"'Initial unit rates'!O135","v":0.18056567217062025},{"$f":"'Initial unit rates'!P135","v":0.1747316861813501},{"$f":"'Initial unit rates'!Q135","v":0.32863396707411402}]
[null,null,null,null,"GSPs",null,"p/kWh",null,null,{"$f":"'Initial unit rates'!J136","v":0},{"$f":"'Initial unit rates'!K136","v":0},{"$f":"'Initial unit rates'!L136","v":0},{"$f":"'Initial unit rates'!M136","v":0},{"$f":"'Initial unit rates'!N136","v":0},{"$f":"'Initial unit rates'!O136","v":0},{"$f":"'Initial unit rates'!P136","v":0},{"$f":"'Initial unit rates'!Q136","v":0}]
[null,null,null,null,"132kV",null,"p/kWh",null,null,{"$f":"'Initial unit rates'!J137","v":0},{"$f":"'Initial unit rates'!K137","v":0},{"$f":"'Initial unit rates'!L137","v":0},{"$f":"'Initial unit rates'!M137","v":0},{"$f":"'Initial unit rates'!N137","v":0},{"$f":"'Initial unit rates'!O137","v":0},{"$f":"'Initial unit rates'!P137","v":0},{"$f":"'Initial unit rates'!Q137","v":0}]
[null,null,null,null,"132kV/EHV",null,"p/kWh",null,null,{"$f":"'Initial unit rates'!J138","v":0},{"$f":"'Initial unit rates'!K138","v":0},{"$f":"'Initial unit rates'!L138","v":0},{"$f":"'Initial unit rates'!M138","v":0},{"$f":"'Initial unit rates'!N138","v":0},{"$f":"'Initial unit rates'!O138","v":0},{"$f":"'Initial unit rates'!P138","v":0},{"$f":"'Initial unit rates'!Q138","v":0}]
[null,null,null,null,"EHV",null,"p/kWh",null,null,{"$f":"'Initial unit rates'!J139","v":0.23059864286529999},{"$f":"'Initial unit rates'!K139","v":0},{"$f":"'Initial unit rates'!L139","v":0.18356048848080439},{"$f":"'Initial unit rates'!M139","v":0},{"$f":"'Initial unit rates'!N139","v":0.16227009928122646},{"$f":"'Initial unit rates'!O139","v":0.12780098521972835},{"$f":"'Initial unit rates'!P139","v":0.12367179970941554},{"$f":"'Initial unit rates'!Q139","v":0.23260093828384559}]
[null,null,null,null,"EHV/HV",null,"p/kWh",null,null,{"$f":"'Initial unit rates'!J140","v":5.9089729244108526E-2},{"$f":"'Initial unit rates'!K140","v":0},{"$f":"'Initial unit rates'!L140","v":4.703644145287899E-2},{"$f":"'Initial unit rates'!M140","v":0},{"$f":"'Initial unit rates'!N140","v":4.1580887518679929E-2},{"$f":"'Initial unit rates'!O140","v":3.2748352375062628E-2},{"$f":"'Initial unit rates'!P140","v":3.1690269592044677E-2},{"$f":"'Initial unit rates'!Q140","v":5.9602807259999946E-2}]
[null,null,null,null,"132kV/HV",null,"p/kWh",null,null,{"$f":"'Initial unit rates'!J141","v":0},{"$f":"'Initial unit rates'!K141","v":0},{"$f":"'Initial unit rates'!L141","v":0},{"$f":"'Initial unit rates'!M141","v":0},{"$f":"'Initial unit rates'!N141","v":0},{"$f":"'Initial unit rates'!O141","v":0},{"$f":"'Initial unit rates'!P141","v":0},{"$f":"'Initial unit rates'!Q141","v":0}]
[null,null,null,null,"HV",null,"p/kWh",null,null,{"$f":"'Initial unit rates'!J142","v":0.25420567058181481},{"$f":"'Initial unit rates'!K142","v":0},{"$f":"'Initial unit rates'!L142","v":0.20235208883620881},{"$f":"'Initial unit rates'!M142","v":0},{"$f":"'Initial unit rates'!N142","v":0.17888214297625885},{"$f":"'Initial unit rates'!O142","v":0.14088432934869774},{"$f":"'Initial unit rates'!P142","v":0.13633242757441488},{"$f":"'Initial unit rates'!Q142","v":0.25641294657984226}]
[null,null,null,null,"HV/LV",null,"p/kWh",null,null,{"$f":"'Initial unit rates'!J143","v":6.3889082958922247E-2},{"$f":"'Initial unit rates'!K143","v":0},{"$f":"'Initial unit rates'!L143","v":5.0856809610023666E-2},{"$f":"'Initial unit rates'!M143","v":0},{"$f":"'Initial unit rates'!N143","v":4.495814765391612E-2},{"$f":"'Initial unit rates'!O143","v":3.540822116505131E-2},{"$f":"'Initial unit rates'!P143","v":0},{"$f":"'Initial unit rates'!Q143","v":6.44438339171855E-2}]
[null,null,null,null,"LV circuits",null,"p/kWh",null,null,{"$f":"'Initial unit rates'!J144","v":0.10746345745071476},{"$f":"'Initial unit rates'!K144","v":0},{"$f":"'Initial unit rates'!L144","v":8.5542761650214696E-2},{"$f":"'Initial unit rates'!M144","v":0},{"$f":"'Initial unit rates'!N144","v":7.5621025748262932E-2},{"$f":"'Initial unit rates'!O144","v":0},{"$f":"'Initial unit rates'!P144","v":0},{"$f":"'Initial unit rates'!Q144","v":0.10839656610148997}]
[null,null,null,null,"LV customers",null,"p/kWh"]
[null,null,null,null,"HV customers",null,"p/kWh"]
[]
[null,"Calculation of yardstick charges for generation"]
[]
[null,null,"Recalculates yardstick charge for generation assuming a full contribution at the network level in which they are "]
[null,null,"connected, and all levels above that"]
[]
[null,null,{"$f":"INDEX('Version control'!$H$34:$H$58,MATCH($A$1,'Version control'!$F$34:$F$58,0),1)&\"-C: Yardstick charge used for generation\"","v":"Section 515-C: Yardstick charge used for generation"}]
[null,null,null,null,null,null,null,null,">",null,null,null,null,null,null,null,null,null,null,null,null,null,null,null,null,null,"Paragraphs 87 (a)"]
[null,null,null,null,"Asset costs"]
[null,null,null,null,null,"Transmission exit","p/kWh"]
[null,null,null,null,null,"GSPs","p/kWh"]
[null,null,null,null,null,"132kV","p/kWh",null,null,null,null,null,null,null,null,null,null,{"$f":"hundred * $H51 * R95 / $H37 * (1 - R109) / hours_in_year","v":0},0,{"$f":"hundred * $H51 * T95 / $H37 * (1 - T109) / hours_in_year","v":0},0,{"$f":"hundred * $H51 * V95 / $H37 * (1 - V109) / hours_in_year","v":0},0,{"$f":"hundred * $H51 * X95 / $H37 * (1 - X109) / hours_in_year","v":0},0]
[null,null,null,null,null,"132kV/EHV","p/kWh",null,null,null,null,null,null,null,null,null,null,{"$f":"hundred * $H52 * R96 / $H38 * (1 - R110) / hours_in_year","v":0},0,{"$f":"hundred * $H52 * T96 / $H38 * (1 - T110) / hours_in_year","v":0},0,{"$f":"hundred * $H52 * V96 / $H38 * (1 - V110) / hours_in_year","v":0},0,{"$f":"hundred * $H52 * X96 / $H38 * (1 - X110) / hours_in_year","v":0},0]
[null,null,null,null,null,"EHV","p/kWh",null,null,null,null,null,null,null,null,null,null,{"$f":"hundred * $H53 * R97 / $H39 * (1 - R111) / hours_in_year","v":-0.15578010249269109},-0.14811878597665709,{"$f":"hundred * $H53 * T97 / $H39 * (1 - T111) / hours_in_year","v":-0.15578010249269109},-0.15578010249269109,{"$f":"hundred * $H53 * V97 / $H39 * (1 - V111) / hours_in_year","v":-0.14811878597665709},-0.14811878597665709,{"$f":"hundred * $H53 * X97 / $H39 * (1 - X111) / hours_in_year","v":-0.1410378722269893},-0.1410378722269893]
[null,null,null,null,null,"EHV/HV","p/kWh",null,null,null,null,null,null,null,null,null,null,{"$f":"hundred * $H54 * R98 / $H40 * (1 - R112) / hours_in_year","v":-3.9917858854397206E-2},-3.7954685468115375E-2,{"$f":"hundred * $H54 * T98 / $H40 * (1 - T112) / hours_in_year","v":-3.9917858854397206E-2},-3.9917858854397206E-2,{"$f":"hundred * $H54 * V98 / $H40 * (1 - V112) / hours_in_year","v":-3.7954685468115375E-2},-3.7954685468115375E-2,{"$f":"hundred * $H54 * X98 / $H40 * (1 - X112) / hours_in_year","v":-3.1999079761388223E-2},-3.1999079761388223E-2]
[null,null,null,null,null,"132kV/HV","p/kWh",null,null,null,null,null,null,null,null,null,null,{"$f":"hundred * $H55 * R99 / $H41 * (1 - R113) / hours_in_year","v":0},0,{"$f":"hundred * $H55 * T99 / $H41 * (1 - T113) / hours_in_year","v":0},0,{"$f":"hundred * $H55 * V99 / $H41 * (1 - V113) / hours_in_year","v":0},0,{"$f":"hundred * $H55 * X99 / $H41 * (1 - X113) / hours_in_year","v":0},0]
[null,null,null,null,null,"HV","p/kWh",null,null,null,null,null,null,null,null,null,null,{"$f":"hundred * $H56 * R100 / $H42 * (1 - R114) / hours_in_year","v":-0.13727023487404083},-0.13051923971630108,{"$f":"hundred * $H56 * T100 / $H42 * (1 - T114) / hours_in_year","v":-0.13727023487404083},-0.13727023487404083,{"$f":"hundred * $H56 * V100 / $H42 * (1 - V114) / hours_in_year","v":-0.13051923971630108},-0.13051923971630108,{"$f":"hundred * $H56 * X100 / $H42 * (1 - X114) / hours_in_year","v":-8.8021403993619282E-2},-8.8021403993619282E-2]
[null,null,null,null,null,"HV/LV","p/kWh",null,null,null,null,null,null,null,null,null,null,{"$f":"hundred * $H57 * R101 / $H43 * (1 - R115) / hours_in_year","v":-3.1520426845242575E-2},-2.997024191842736E-2,{"$f":"hundred * $H57 * T101 / $H43 * (1 - T115) / hours_in_year","v":-3.1520426845242575E-2},-3.1520426845242575E-2,{"$f":"hundred * $H57 * V101 / $H43 * (1 - V115) / hours_in_year","v":-2.997024191842736E-2},-2.997024191842736E-2,{"$f":"hundred * $H57 * X101 / $H43 * (1 - X115) / hours_in_year","v":0},0]
[null,null,null,null,null,"LV circuits","p/kWh",null,null,null,null,null,null,null,null,null,null,{"$f":"hundred * $H58 * R102 / $H44 * (1 - R116) / hours_in_year","v":-5.5378297829985776E-3},0,{"$f":"hundred * $H58 * T102 / $H44 * (1 - T116) / hours_in_year","v":-5.5378297829985776E-3},-5.5378297829985776E-3,{"$f":"hundred * $H58 * V102 / $H44 * (1 - V116) / hours_in_year","v":0},0,{"$f":"hundred * $H58 * X102 / $H44 * (1 - X116) / hours_in_year","v":0},0]
[null,null,null,null,null,"LV customers","p/kWh"]
[null,null,null,null,null,"HV customers","p/kWh"]
[]
[null,null,null,null,"Other operating costs"]
[null,null,null,null,null,"Transmission exit","p/kWh",null,null,null,null,null,null,null,null,null,null,{"$f":"hundred * $H63 * R93 / $H35 / hours_in_year","v":-0.16266080083761941},-0.15466108932101516,{"$f":"hundred * $H63 * T93 / $H35 / hours_in_year","v":-0.16266080083761941},-0.16266080083761941,{"$f":"hundred * $H63 * V93 / $H35 / hours_in_year","v":-0.15466108932101516},-0.15466108932101516,{"$f":"hundred * $H63 * X93 / $H35 / hours_in_year","v":-0.1519945188154804},-0.1519945188154804]
[null,null,null,null,null,"GSPs","p/kWh",null,null,null,null,null,null,null,null,null,null,{"$f":"hundred * $H64 * R94 / $H36 / hours_in_year","v":0},0,{"$f":"hundred * $H64 * T94 / $H36 / hours_in_year","v":0},0,{"$f":"hundred * $H64 * V94 / $H36 / hours_in_year","v":0},0,{"$f":"hundred * $H64 * X94 / $H36 / hours_in_year","v":0},0]
[null,null,null,null,null,"132kV","p/kWh",null,null,null,null,null,null,null,null,null,null,{"$f":"hundred * $H65 * R95 / $H37 / hours_in_year","v":0},0,{"$f":"hundred * $H65 * T95 / $H37 / hours_in_year","v":0},0,{"$f":"hundred * $H65 * V95 / $H37 / hours_in_year","v":0},0,{"$f":"hundred * $H65 * X95 / $H37 / hours_in_year","v":0},0]
[null,null,null,null,null,"132kV/EHV","p/kWh",null,null,null,null,null,null,null,null,null,null,{"$f":"hundred * $H66 * R96 / $H38 / hours_in_year","v":0},0,{"$f":"hundred * $H66 * T96 / $H38 / hours_in_year","v":0},0,{"$f":"hundred * $H66 * V96 / $H38 / hours_in_year","v":0},0,{"$f":"hundred * $H66 * X96 / $H38 / hours_in_year","v":0},0]
[null,null,null,null,null,"EHV","p/kWh",null,null,null,null,null,null,null,null,null,null,{"$f":"hundred * $H67 * R97 / $H39 / hours_in_year","v":-0.11512825419016834},-0.10946620890212727,{"$f":"hundred * $H67 * T97 / $H39 / hours_in_year","v":-0.11512825419016834},-0.11512825419016834,{"$f":"hundred * $H67 * V97 / $H39 / hours_in_year","v":-0.10946620890212727},-0.10946620890212727,{"$f":"hundred * $H67 * X97 / $H39 / hours_in_year","v":-0.10757886047278024},-0.10757886047278024]
[null,null,null,null,null,"EHV/HV","p/kWh",null,null,null,null,null,null,null,null,null,null,{"$f":"hundred * $H68 * R98 / $H40 / hours_in_year","v":-2.9501029511339059E-2},-2.8050159207502711E-2,{"$f":"hundred * $H68 * T98 / $H40 / hours_in_year","v":-2.9501029511339059E-2},-2.9501029511339059E-2,{"$f":"hundred * $H68 * V98 / $H40 / hours_in_year","v":-2.8050159207502711E-2},-2.8050159207502711E-2,{"$f":"hundred * $H68 * X98 / $H40 / hours_in_year","v":-2.7566535772890595E-2},-2.7566535772890595E-2]
[null,null,null,null,null,"132kV/HV","p/kWh",null,null,null,null,null,null,null,null,null,null,{"$f":"hundred * $H69 * R99 / $H41 / hours_in_year","v":0},0,{"$f":"hundred * $H69 * T99 / $H41 / hours_in_year","v":0},0,{"$f":"hundred * $H69 * V99 / $H41 / hours_in_year","v":0},0,{"$f":"hundred * $H69 * X99 / $H41 / hours_in_year","v":0},0]
[null,null,null,null,null,"HV","p/kWh",null,null,null,null,null,null,null,null,null,null,{"$f":"hundred * $H70 * R100 / $H42 / hours_in_year","v":-0.1269142554165886},-0.12067257072396949,{"$f":"hundred * $H70 * T100 / $H42 / hours_in_year","v":-0.1269142554165886},-0.1269142554165886,{"$f":"hundred * $H70 * V100 / $H42 / hours_in_year","v":-0.12067257072396949},-0.12067257072396949,{"$f":"hundred * $H70 * X100 / $H42 / hours_in_year","v":-0.1185920091597631},-0.1185920091597631]
[null,null,null,null,null,"HV/LV","p/kWh",null,null,null,null,null,null,null,null,null,null,{"$f":"hundred * $H71 * R101 / $H43 / hours_in_year","v":-3.1897146017325434E-2},-3.0328433918112709E-2,{"$f":"hundred * $H71 * T101 / $H43 / hours_in_year","v":-3.1897146017325434E-2},-3.1897146017325434E-2,{"$f":"hundred * $H71 * V101 / $H43 / hours_in_year","v":-3.0328433918112709E-2},-3.0328433918112709E-2,{"$f":"hundred * $H71 * X101 / $H43 / hours_in_year","v":0},0]
[null,null,null,null,null,"LV circuits","p/kWh",null,null,null,null,null,null,null,null,null,null,{"$f":"hundred * $H72 * R102 / $H44 / hours_in_year","v":-5.3652008059592762E-2},0,{"$f":"hundred * $H72 * T102 / $H44 / hours_in_year","v":-5.3652008059592762E-2},-5.3652008059592762E-2,{"$f":"hundred * $H72 * V102 / $H44 / hours_in_year","v":0},0,{"$f":"hundred * $H72 * X102 / $H44 / hours_in_year","v":0},0]
[null,null,null,null,null,"LV customers","p/kWh"]
[null,null,null,null,null,"HV customers","p/kWh"]
[]
[null,"Calculation of reactive power charges"]
[]
[null,null,"Calculates reactive power charges for demand and generation"]
[null,null,"Average kVAr by kVA at transmission exit is assumed equal to kVAr by kVA at the GSP, as per Paragraph 51",null,null,null,null,null,">",null,null,null,null,null,null,null,null,null,null,null,null,null,null,null,null,null,"Paragraph 51"]
[]
[null,null,{"$f":"INDEX('Version control'!$H$34:$H$58,MATCH($A$1,'Version control'!$F$34:$F$58,0),1)&\"-D: Reactive power charges, all customer categories\"","v":"Section 515-D: Reactive power charges, all customer categories"}]
[null,null,null,null,null,null,null,null,">",null,null,null,null,null,null,null,null,null,null,null,null,null,null,null,null,null,"Paragraphs 146, 87 & 88"]
[null,null,null,null,"Asset costs"]
[null,null,null,null,null,"Transmission exit","p/kVArh"]
[null,null,null,null,null,"GSPs","p/kVArh"]
[null,null,null,null,null,"132kV","p/kVArh",null,null,{"$f":"ABS(J125 + J160)*(1-J82)*PowerFactor*$H23","v":0},0,{"$f":"ABS(L125 + L160)*(1-L82)*PowerFactor*$H23","v":0},0,{"$f":"ABS(N125 + N160)*(1-N82)*PowerFactor*$H23","v":0},0,0,{"$f":"ABS(Q125 + Q160)*(1-Q82)*PowerFactor*$H23","v":0},0,0,{"$f":"ABS(T125 + T160)*(1-T82)*PowerFactor*$H23","v":0},0,{"$f":"ABS(V125 + V160)*(1-V82)*PowerFactor*$H23","v":0},0,{"$f":"ABS(X125 + X160)*(1-X82)*PowerFactor*$H23","v":0},0]
[null,null,null,null,null,"132kV/EHV","p/kVArh",null,null,{"$f":"ABS(J126 + J161)*(1-J83)*PowerFactor*$H24","v":0},0,{"$f":"ABS(L126 + L161)*(1-L83)*PowerFactor*$H24","v":0},0,{"$f":"ABS(N126 + N161)*(1-N83)*PowerFactor*$H24","v":0},0,0,{"$f":"ABS(Q126 + Q161)*(1-Q83)*PowerFactor*$H24","v":0},0,0,{"$f":"ABS(T126 + T161)*(1-T83)*PowerFactor*$H24","v":0},0,{"$f":"ABS(V126 + V161)*(1-V83)*PowerFactor*$H24","v":0},0,{"$f":"ABS(X126 + X161)*(1-X83)*PowerFactor*$H24","v":0},0]
[null,null,null,null,null,"EHV","p/kVArh",null,null,{"$f":"ABS(J127 + J162)*(1-J84)*PowerFactor*$H25","v":7.8581453653927977E-2},0,{"$f":"ABS(L127 + L162)*(1-L84)*PowerFactor*$H25","v":6.2552189548975332E-2},0,{"$f":"ABS(N127 + N162)*(1-N84)*PowerFactor*$H25","v":5.529703092630299E-2},4.3550937994187293E-2,3.266650868561357E-2,{"$f":"ABS(Q127 + Q162)*(1-Q84)*PowerFactor*$H25","v":7.9263778938582066E-2},3.9232431980039721E-2,3.7302968112168919E-2,{"$f":"ABS(T127 + T162)*(1-T84)*PowerFactor*$H25","v":3.9232431980039721E-2},3.9232431980039721E-2,{"$f":"ABS(V127 + V162)*(1-V84)*PowerFactor*$H25","v":3.7302968112168919E-2},3.7302968112168919E-2,{"$f":"ABS(X127 + X162)*(1-X84)*PowerFactor*$H25","v":3.551967574943983E-2},3.551967574943983E-2]
[null,null,null,null,null,"EHV/HV","p/kVArh",null,null,{"$f":"ABS(J128 + J163)*(1-J85)*PowerFactor*$H26","v":1.6475422784670145E-2},0,{"$f":"ABS(L128 + L163)*(1-L85)*PowerFactor*$H26","v":1.3114720089867913E-2},0,{"$f":"ABS(N128 + N163)*(1-N85)*PowerFactor*$H26","v":1.1593600282072188E-2},9.1309091746144353E-3,0,{"$f":"ABS(Q128 + Q163)*(1-Q85)*PowerFactor*$H26","v":1.6618479409594069E-2},8.2254892686075744E-3,7.820957009495727E-3,{"$f":"ABS(T128 + T163)*(1-T85)*PowerFactor*$H26","v":8.2254892686075744E-3},8.2254892686075744E-3,{"$f":"ABS(V128 + V163)*(1-V85)*PowerFactor*$H26","v":7.820957009495727E-3},7.820957009495727E-3,{"$f":"ABS(X128 + X163)*(1-X85)*PowerFactor*$H26","v":6.5937426188785323E-3},6.5937426188785323E-3]
[null,null,null,null,null,"132kV/HV","p/kVArh",null,null,{"$f":"ABS(J129 + J164)*(1-J86)*PowerFactor*$H27","v":0},0,{"$f":"ABS(L129 + L164)*(1-L86)*PowerFactor*$H27","v":0},0,{"$f":"ABS(N129 + N164)*(1-N86)*PowerFactor*$H27","v":0},0,0,{"$f":"ABS(Q129 + Q164)*(1-Q86)*PowerFactor*$H27","v":0},0,0,{"$f":"ABS(T129 + T164)*(1-T86)*PowerFactor*$H27","v":0},0,{"$f":"ABS(V129 + V164)*(1-V86)*PowerFactor*$H27","v":0},0,{"$f":"ABS(X129 + X164)*(1-X86)*PowerFactor*$H27","v":0},0]
[null,null,null,null,null,"HV","p/kVArh",null,null,{"$f":"ABS(J130 + J165)*(1-J87)*PowerFactor*$H28","v":5.665597354682933E-2},0,{"$f":"ABS(L130 + L165)*(1-L87)*PowerFactor*$H28","v":4.5099130031248165E-2},0,{"$f":"ABS(N130 + N165)*(1-N87)*PowerFactor*$H28","v":3.1894621193200322E-2},0,0,{"$f":"ABS(Q130 + Q165)*(1-Q87)*PowerFactor*$H28","v":5.7147919183874213E-2},2.8285957119448174E-2,2.6894844474229407E-2,{"$f":"ABS(T130 + T165)*(1-T87)*PowerFactor*$H28","v":2.8285957119448174E-2},2.8285957119448174E-2,{"$f":"ABS(V130 + V165)*(1-V87)*PowerFactor*$H28","v":2.6894844474229407E-2},2.6894844474229407E-2,{"$f":"ABS(X130 + X165)*(1-X87)*PowerFactor*$H28","v":1.8137724185011792E-2},1.8137724185011792E-2]
[null,null,null,null,null,"HV/LV","p/kVArh",null,null,{"$f":"ABS(J131 + J166)*(1-J88)*PowerFactor*$H29","v":1.3009524396658175E-2},0,{"$f":"ABS(L131 + L166)*(1-L88)*PowerFactor*$H29","v":1.0355805322533679E-2},0,{"$f":"ABS(N131 + N166)*(1-N88)*PowerFactor*$H29","v":0},0,0,{"$f":"ABS(Q131 + Q166)*(1-Q88)*PowerFactor*$H29","v":1.3122486514618698E-2},6.4951112158389869E-3,6.1756795166993637E-3,{"$f":"ABS(T131 + T166)*(1-T88)*PowerFactor*$H29","v":6.4951112158389869E-3},6.4951112158389869E-3,{"$f":"ABS(V131 + V166)*(1-V88)*PowerFactor*$H29","v":6.1756795166993637E-3},6.1756795166993637E-3,{"$f":"ABS(X131 + X166)*(1-X88)*PowerFactor*$H29","v":0},0]
[null,null,null,null,null,"LV circuits","p/kVArh",null,null,{"$f":"ABS(J132 + J167)*(1-J89)*PowerFactor*$H30","v":0},0,{"$f":"ABS(L132 + L167)*(1-L89)*PowerFactor*$H30","v":0},0,{"$f":"ABS(N132 + N167)*(1-N89)*PowerFactor*$H30","v":0},0,0,{"$f":"ABS(Q132 + Q167)*(1-Q89)*PowerFactor*$H30","v":2.3054921497238801E-3},1.1411273239274064E-3,0,{"$f":"ABS(T132 + T167)*(1-T89)*PowerFactor*$H30","v":1.1411273239274064E-3},1.1411273239274064E-3,{"$f":"ABS(V132 + V167)*(1-V89)*PowerFactor*$H30","v":0},0,{"$f":"ABS(X132 + X167)*(1-X89)*PowerFactor*$H30","v":0},0]
[null,null,null,null,null,"LV customers","p/kVArh"]
[null,null,null,null,null,"HV customers","p/kVArh"]
[]
[null,null,null,null,"Other operating costs"]
[null,null,null,null,null,"Transmission exit","p/kVArh",null,null,{"$f":"ABS(J137 + J172)*(1-J81)*PowerFactor*$H22","v":8.205234158792464E-2},0,{"$f":"ABS(L137 + L172)*(1-L81)*PowerFactor*$H22","v":6.5315076080786863E-2},0,{"$f":"ABS(N137 + N172)*(1-N81)*PowerFactor*$H22","v":5.7739462168071583E-2},4.547455251351102E-2,4.4005292609106447E-2,{"$f":"ABS(Q137 + Q172)*(1-Q81)*PowerFactor*$H22","v":8.2764804703930092E-2},4.0965301104357039E-2,3.8950614164798496E-2,{"$f":"ABS(T137 + T172)*(1-T81)*PowerFactor*$H22","v":4.0965301104357039E-2},4.0965301104357039E-2,{"$f":"ABS(V137 + V172)*(1-V81)*PowerFactor*$H22","v":3.8950614164798496E-2},3.8950614164798496E-2,{"$f":"ABS(X137 + X172)*(1-X81)*PowerFactor*$H22","v":3.827905185161231E-2},3.827905185161231E-2]
[null,null,null,null,null,"GSPs","p/kVArh",null,null,{"$f":"ABS(J138 + J173)*(1-J81)*PowerFactor*$H22","v":0},0,{"$f":"ABS(L138 + L173)*(1-L81)*PowerFactor*$H22","v":0},0,{"$f":"ABS(N138 + N173)*(1-N81)*PowerFactor*$H22","v":0},0,0,{"$f":"ABS(Q138 + Q173)*(1-Q81)*PowerFactor*$H22","v":0},0,0,{"$f":"ABS(T138 + T173)*(1-T81)*PowerFactor*$H22","v":0},0,{"$f":"ABS(V138 + V173)*(1-V81)*PowerFactor*$H22","v":0},0,{"$f":"ABS(X138 + X173)*(1-X81)*PowerFactor*$H22","v":0},0]
[null,null,null,null,null,"132kV","p/kVArh",null,null,{"$f":"ABS(J139 + J174)*(1-J82)*PowerFactor*$H23","v":0},0,{"$f":"ABS(L139 + L174)*(1-L82)*PowerFactor*$H23","v":0},0,{"$f":"ABS(N139 + N174)*(1-N82)*PowerFactor*$H23","v":0},0,0,{"$f":"ABS(Q139 + Q174)*(1-Q82)*PowerFactor*$H23","v":0},0,0,{"$f":"ABS(T139 + T174)*(1-T82)*PowerFactor*$H23","v":0},0,{"$f":"ABS(V139 + V174)*(1-V82)*PowerFactor*$H23","v":0},0,{"$f":"ABS(X139 + X174)*(1-X82)*PowerFactor*$H23","v":0},0]
[null,null,null,null,null,"132kV/EHV","p/kVArh",null,null,{"$f":"ABS(J140 + J175)*(1-J83)*PowerFactor*$H24","v":0},0,{"$f":"ABS(L140 + L175)*(1-L83)*PowerFactor*$H24","v":0},0,{"$f":"ABS(N140 + N175)*(1-N83)*PowerFactor*$H24","v":0},0,0,{"$f":"ABS(Q140 + Q175)*(1-Q83)*PowerFactor*$H24","v":0},0,0,{"$f":"ABS(T140 + T175)*(1-T83)*PowerFactor*$H24","v":0},0,{"$f":"ABS(V140 + V175)*(1-V83)*PowerFactor*$H24","v":0},0,{"$f":"ABS(X140 + X175)*(1-X83)*PowerFactor*$H24","v":0},0]
[null,null,null,null,null,"EHV","p/kVArh",null,null,{"$f":"ABS(J141 + J176)*(1-J84)*PowerFactor*$H25","v":5.8075103470462922E-2},0,{"$f":"ABS(L141 + L176)*(1-L84)*PowerFactor*$H25","v":4.6228781874655046E-2},0,{"$f":"ABS(N141 + N176)*(1-N84)*PowerFactor*$H25","v":4.0866904890781555E-2},3.2186032615110771E-2,2.4916894480417413E-2,{"$f":"ABS(Q141 + Q176)*(1-Q84)*PowerFactor*$H25","v":5.8579371458190824E-2},2.8994469314259311E-2,2.7568511807000658E-2,{"$f":"ABS(T141 + T176)*(1-T84)*PowerFactor*$H25","v":2.8994469314259311E-2},2.8994469314259311E-2,{"$f":"ABS(V141 + V176)*(1-V84)*PowerFactor*$H25","v":2.7568511807000658E-2},2.7568511807000658E-2,{"$f":"ABS(X141 + X176)*(1-X84)*PowerFactor*$H25","v":2.7093192637914435E-2},2.7093192637914435E-2]
[null,null,null,null,null,"EHV/HV","p/kVArh",null,null,{"$f":"ABS(J142 + J177)*(1-J85)*PowerFactor*$H26","v":1.2176052216508132E-2},0,{"$f":"ABS(L142 + L177)*(1-L85)*PowerFactor*$H26","v":9.6923471225091873E-3},0,{"$f":"ABS(N142 + N177)*(1-N85)*PowerFactor*$H26","v":8.5681735914651738E-3},6.7481380203333243E-3,0,{"$f":"ABS(Q142 + Q177)*(1-Q85)*PowerFactor*$H26","v":1.2281777268772763E-2},6.0789934285682308E-3,5.7800265386386456E-3,{"$f":"ABS(T142 + T177)*(1-T85)*PowerFactor*$H26","v":6.0789934285682308E-3},6.0789934285682308E-3,{"$f":"ABS(V142 + V177)*(1-V85)*PowerFactor*$H26","v":5.7800265386386456E-3},5.7800265386386456E-3,{"$f":"ABS(X142 + X177)*(1-X85)*PowerFactor*$H26","v":5.6803709086621175E-3},5.6803709086621175E-3]
[null,null,null,null,null,"132kV/HV","p/kVArh",null,null,{"$f":"ABS(J143 + J178)*(1-J86)*PowerFactor*$H27","v":0},0,{"$f":"ABS(L143 + L178)*(1-L86)*PowerFactor*$H27","v":0},0,{"$f":"ABS(N143 + N178)*(1-N86)*PowerFactor*$H27","v":0},0,0,{"$f":"ABS(Q143 + Q178)*(1-Q86)*PowerFactor*$H27","v":0},0,0,{"$f":"ABS(T143 + T178)*(1-T86)*PowerFactor*$H27","v":0},0,{"$f":"ABS(V143 + V178)*(1-V86)*PowerFactor*$H27","v":0},0,{"$f":"ABS(X143 + X178)*(1-X86)*PowerFactor*$H27","v":0},0]
[null,null,null,null,null,"HV","p/kVArh",null,null,{"$f":"ABS(J144 + J179)*(1-J87)*PowerFactor*$H28","v":5.2381717742347712E-2},0,{"$f":"ABS(L144 + L179)*(1-L87)*PowerFactor*$H28","v":4.1696748848021263E-2},0,{"$f":"ABS(N144 + N179)*(1-N87)*PowerFactor*$H28","v":2.9488418259380856E-2},0,0,{"$f":"ABS(Q144 + Q179)*(1-Q87)*PowerFactor*$H28","v":5.2836549879032566E-2},2.6152000030118715E-2,2.4865836094211235E-2,{"$f":"ABS(T144 + T179)*(1-T87)*PowerFactor*$H28","v":2.6152000030118715E-2},2.6152000030118715E-2,{"$f":"ABS(V144 + V179)*(1-V87)*PowerFactor*$H28","v":2.4865836094211235E-2},2.4865836094211235E-2,{"$f":"ABS(X144 + X179)*(1-X87)*PowerFactor*$H28","v":2.4437114782242073E-2},2.4437114782242073E-2]
[null,null,null,null,null,"HV/LV","p/kVArh",null,null,{"$f":"ABS(J145 + J180)*(1-J88)*PowerFactor*$H29","v":1.3165008879275216E-2},0,{"$f":"ABS(L145 + L180)*(1-L88)*PowerFactor*$H29","v":1.0479573646690906E-2},0,{"$f":"ABS(N145 + N180)*(1-N88)*PowerFactor*$H29","v":0},0,0,{"$f":"ABS(Q145 + Q180)*(1-Q88)*PowerFactor*$H29","v":1.3279321073989575E-2},6.5727381125758322E-3,6.2494886972032518E-3,{"$f":"ABS(T145 + T180)*(1-T88)*PowerFactor*$H29","v":6.5727381125758322E-3},6.5727381125758322E-3,{"$f":"ABS(V145 + V180)*(1-V88)*PowerFactor*$H29","v":6.2494886972032518E-3},6.2494886972032518E-3,{"$f":"ABS(X145 + X180)*(1-X88)*PowerFactor*$H29","v":0},0]
[null,null,null,null,null,"LV circuits","p/kVArh",null,null,{"$f":"ABS(J146 + J181)*(1-J89)*PowerFactor*$H30","v":0},0,{"$f":"ABS(L146 + L181)*(1-L89)*PowerFactor*$H30","v":0},0,{"$f":"ABS(N146 + N181)*(1-N89)*PowerFactor*$H30","v":0},0,0,{"$f":"ABS(Q146 + Q181)*(1-Q89)*PowerFactor*$H30","v":2.2336237884750681E-2},1.1055553308686891E-2,0,{"$f":"ABS(T146 + T181)*(1-T89)*PowerFactor*$H30","v":1.1055553308686891E-2},1.1055553308686891E-2,{"$f":"ABS(V146 + V181)*(1-V89)*PowerFactor*$H30","v":0},0,{"$f":"ABS(X146 + X181)*(1-X89)*PowerFactor*$H30","v":0},0]
[null,null,null,null,null,"LV customers","p/kVArh"]
[null,null,null,null,null,"HV customers","p/kVArh"]
[]
[null,null,{"$f":"INDEX('Version control'!$H$34:$H$58,MATCH($A$1,'Version control'!$F$34:$F$58,0),1)&\"-E: Reactive power charges for applicable customers\"","v":"Section 515-E: Reactive power charges for applicable customers"}]
[]
[null,null,null,null,"Asset costs"]
[null,null,null,null,null,"Transmission exit","p/kVArh"]
[null,null,null,null,null,"GSPs","p/kVArh"]
[null,null,null,null,null,"132kV","p/kVArh",null,null,{"$f":"J$78 * J195","v":0},0,0,0,0,0,0,0,0,0,0,0,0,0,0,0]
[null,null,null,null,null,"132kV/EHV","p/kVArh",null,null,0,0,0,0,0,0,0,0,0,0,0,0,0,0,0,0]
[null,null,null,null,null,"EHV","p/kVArh",null,null,0,0,0,0,5.529703092630299E-2,4.3550937994187293E-2,3.266650868561357E-2,0,0,0,3.9232431980039721E-2,0,3.7302968112168919E-2,0,3.551967574943983E-2,0]
[null,null,null,null,null,"EHV/HV","p/kVArh",null,null,0,0,0,0,1.1593600282072188E-2,9.1309091746144353E-3,0,0,0,0,8.2254892686075744E-3,0,7.820957009495727E-3,0,6.5937426188785323E-3,0]
[null,null,null,null,null,"132kV/HV","p/kVArh",null,null,0,0,0,0,0,0,0,0,0,0,0,0,0,0,0,0]
[null,null,null,null,null,"HV","p/kVArh",null,null,0,0,0,0,3.1894621193200322E-2,0,0,0,0,0,2.8285957119448174E-2,0,2.6894844474229407E-2,0,1.8137724185011792E-2,0]
[null,null,null,null,null,"HV/LV","p/kVArh",null,null,0,0,0,0,0,0,0,0,0,0,6.4951112158389869E-3,0,6.1756795166993637E-3,0,0,0]
[null,null,null,null,null,"LV circuits","p/kVArh",null,null,0,0,0,0,0,0,0,0,0,0,1.1411273239274064E-3,0,0,0,0,0]
[null,null,null,null,null,"LV customers","p/kVArh"]
[null,null,null,null,null,"HV customers","p/kVArh"]
[]
[null,null,null,null,"Other operating costs"]
[null,null,null,null,null,"Transmission exit","p/kVArh",null,null,{"$f":"J$78 * J207","v":0},0,0,0,5.7739462168071583E-2,4.547455251351102E-2,4.4005292609106447E-2,0,0,0,4.0965301104357039E-2,0,3.8950614164798496E-2,0,3.827905185161231E-2,0]
[null,null,null,null,null,"GSPs","p/kVArh",null,null,0,0,0,0,0,0,0,0,0,0,0,0,0,0,0,0]
[null,null,null,null,null,"132kV","p/kVArh",null,null,0,0,0,0,0,0,0,0,0,0,0,0,0,0,0,0]
[null,null,null,null,null,"132kV/EHV","p/kVArh",null,null,0,0,0,0,0,0,0,0,0,0,0,0,0,0,0,0]
[null,null,null,null,null,"EHV","p/kVArh",null,null,0,0,0,0,4.0866904890781555E-2,3.2186032615110771E-2,2.4916894480417413E-2,0,0,0,2.8994469314259311E-2,0,2.7568511807000658E-2,0,2.7093192637914435E-2,0]
[null,null,null,null,null,"EHV/HV","p/kVArh",null,null,0,0,0,0,8.5681735914651738E-3,6.7481380203333243E-3,0,0,0,0,6.0789934285682308E-3,0,5.7800265386386456E-3,0,5.6803709086621175E-3,0]
[null,null,null,null,null,"132kV/HV","p/kVArh",null,null,0,0,0,0,0,0,0,0,0,0,0,0,0,0,0,0]
[null,null,null,null,null,"HV","p/kVArh",null,null,0,0,0,0,2.9488418259380856E-2,0,0,0,0,0,2.6152000030118715E-2,0,2.4865836094211235E-2,0,2.4437114782242073E-2,0]
[null,null,null,null,null,"HV/LV","p/kVArh",null,null,0,0,0,0,0,0,0,0,0,0,6.5727381125758322E-3,0,6.2494886972032518E-3,0,0,0]
[null,null,null,null,null,"LV circuits","p/kVArh",null,null,0,0,0,0,0,0,0,0,0,0,1.1055553308686891E-2,0,0,0,0,0]
[null,null,null,null,null,"LV customers","p/kVArh"]
[null,null,null,null,null,"HV customers","p/kVArh"]
[]
[null,null,null,null,"Reactive charge",null,"p/kVArh",null,">",{"$f":"SUM(J223:J234,J237:J248)","v":0},0,0,0,0.23544821131127469,0.13709057031775684,0.10158869577513742,0,0,0,0.20319917220642791,0,0.1816089264144457,0,0.15574087273376108,0,null,"Paragraphs 146, 87 & 88"]
[]
[null,"Checks"]
[]
[null,null,null,null,"Check for error values",null,"number of issues",{"$f":"SUM(IF(ISERROR(H21:Y250), 1))","v":0}]
[]
[null,"End of sheet"]

{"sheet":"Capacity charges","index":29,"n_rows":297,"n_cols":27,"rows_kept":297,"cut":false,"hidden":false,"merged":[]}
[{"$f":"MID(CELL(\"filename\",A1),FIND(\"]\",CELL(\"filename\",A1))+1,255)","v":"Capacity charges"}]
[{"$f":"Cover!D21&\" - \"&Cover!D23","v":"SP Distribution - One"}]
[{"$f":"Cover!D2&\" - \"&Cover!D8&\" v\"&Cover!D10&\" - \"&Cover!D19","v":"ARP model - Release for charge setting v5 - 2021/22"}]
[{"$f":"H295 & IF(H295 = 1, \" issue\", \" issues\") &\" identified in checks on this sheet\"","v":"0 issues identified in checks on this sheet"}]
[null,"Click here to return to model map",null,null,null,null,"Units","Constants",null,"Domestic Aggregated","Domestic Aggregated (Related MPAN)","Non-Domestic Aggregated","Non-Domestic Aggregated (Related MPAN)","LV Site Specific","LV Sub Site Specific","HV Site Specific","Unmetered Supplies","LV Generation Aggregated","LV Sub Generation Aggregated","LV Generation Site Specific","LV Generation Site Specific no RP Charge","LV Sub Generation Site Specific","LV Sub Generation Site Specific no RP Charge","HV Generation Site Specific","HV Generation Site Specific no RP Charge",null,"Legal text reference"]
[]
[null,"Description"]
[]
[null,null,null,"For demand users (other than UMS), this sheet allocates unit rates to capacity charge elements"]
[null,null,null,"(p/kVA/day) in line with Paragraph 78. "]
[null,null,null,"As per DCUSA Schedule 16, Paragraphs 81 to 82, non half-hourly settled tariff forecast "]
[null,null,null,"recover capacity-related costs through a fixed charge (p/MPAN/day). For these tariff forecast, the"]
[null,null,null,"elements calculated here are further transformed into fixed charges on a separate sheet. "]
[null,null,null,"Exceeded capacity charges (p/kVA/day) are calculated for half-hourly settled tariff forecast in accordance with "]
[null,null,null,"Paragraph 81."]
[]
[null,"Inputs to capacity charge calculations"]
[]
[null,null,{"$f":"INDEX('Version control'!$H$34:$H$58,MATCH($A$1,'Version control'!$F$34:$F$58,0),1)&\"-A: Inputs to capacity charge calculations\"","v":"Section 516-A: Inputs to capacity charge calculations"}]
[]
[null,null,null,null,"Network model diversity factor"]
[null,null,null,null,"Uses re-calculated LV circuit value in line with Paragraph 80"]
[null,null,null,null,null,"Transmission exit","%",{"$f":"'System peak demand'!H226","v":0.1160000000000001}]
[null,null,null,null,null,"GSPs","%",{"$f":"'System peak demand'!H226","v":0.1160000000000001}]
[null,null,null,null,null,"132kV","%",{"$f":"'System peak demand'!H227","v":0.1160000000000001}]
[null,null,null,null,null,"132kV/EHV","%",{"$f":"'System peak demand'!H228","v":0.1160000000000001}]
[null,null,null,null,null,"EHV","%",{"$f":"'System peak demand'!H229","v":0.26107999999999998}]
[null,null,null,null,null,"EHV/HV","%",{"$f":"'System peak demand'!H230","v":0.26107999999999998}]
[null,null,null,null,null,"132kV/HV","%",{"$f":"'System peak demand'!H231","v":0.1160000000000001}]
[null,null,null,null,null,"HV","%",{"$f":"'System peak demand'!H232","v":0.57634999999999992}]
[null,null,null,null,null,"HV/LV","%",{"$f":"'System peak demand'!H233","v":0.57634999999999992}]
[null,null,null,null,null,"LV circuits","%",{"$f":"'System peak demand'!H234","v":0.65261219022840544}]
[null,null,null,null,null,"LV customers","%"]
[null,null,null,null,null,"HV customers","%"]
[]
[null,null,null,null,"Loss adjustment factor to transmission for each DRM network level"]
[null,null,null,null,null,"Transmission exit","scalar",{"$f":"TRANSPOSE('Load & loss characteristics'!J29:S29)","v":1}]
[null,null,null,null,null,"GSPs","scalar",1]
[null,null,null,null,null,"132kV","scalar",1]
[null,null,null,null,null,"132kV/EHV","scalar",1]
[null,null,null,null,null,"EHV","scalar",1.004]
[null,null,null,null,null,"EHV/HV","scalar",1.0129999999999999]
[null,null,null,null,null,"132kV/HV","scalar",1.0129999999999999]
[null,null,null,null,null,"HV","scalar",1.026]
[null,null,null,null,null,"HV/LV","scalar",1.044]
[null,null,null,null,null,"LV circuits","scalar",1.0980000000000001]
[null,null,null,null,null,"LV customers","scalar"]
[null,null,null,null,null,"HV customers","scalar"]
[]
[null,null,null,null,"Network level assets per kW (simultaneous peak) per year"]
[null,null,null,null,null,"Transmission exit","£/kW/year"]
[null,null,null,null,null,"GSPs","£/kW/year"]
[null,null,null,null,null,"132kV","£/kW/year",{"$f":"TRANSPOSE('Unit costs'!L114:S114)","v":0}]
[null,null,null,null,null,"132kV/EHV","£/kW/year",0]
[null,null,null,null,null,"EHV","£/kW/year",12.478071335403621]
[null,null,null,null,null,"EHV/HV","£/kW/year",3.2261046387145558]
[null,null,null,null,null,"132kV/HV","£/kW/year",0]
[null,null,null,null,null,"HV","£/kW/year",14.056901421102715]
[null,null,null,null,null,"HV/LV","£/kW/year",3.5948780096052633]
[null,null,null,null,null,"LV circuits","£/kW/year",6.359458733192529]
[null,null,null,null,null,"LV customers","£/kW/year"]
[null,null,null,null,null,"HV customers","£/kW/year"]
[]
[null,null,null,null,"Other operating costs (excl. service models)"]
[null,null,null,null,null,"Transmission exit","£/kW/year",{"$f":"TRANSPOSE('Unit costs'!J115:S115)","v":12.977309793602421}]
[null,null,null,null,null,"GSPs","£/kW/year",0]
[null,null,null,null,null,"132kV","£/kW/year",0]
[null,null,null,null,null,"132kV/EHV","£/kW/year",0]
[null,null,null,null,null,"EHV","£/kW/year",9.2218360722467949]
[null,null,null,null,null,"EHV/HV","£/kW/year",2.3842312910754226]
[null,null,null,null,null,"132kV/HV","£/kW/year",0]
[null,null,null,null,null,"HV","£/kW/year",10.388660002395246]
[null,null,null,null,null,"HV/LV","£/kW/year",2.6567708112266732]
[null,null,null,null,null,"LV circuits","£/kW/year",4.6999159060203253]
[null,null,null,null,null,"LV customers","£/kW/year"]
[null,null,null,null,null,"HV customers","£/kW/year"]
[]
[null,null,null,null,"User loss factor (assuming generation does not contribute at level of connection)"]
[null,null,null,null,"These have been adjusted for the share of load going through 132/HV transformation"]
[null,null,null,null,null,"Transmission exit","scalar",null,null,{"$f":"TRANSPOSE('Load & loss characteristics'!J145:S160)","v":1.0980000000000001},1.0980000000000001,1.0980000000000001,1.0980000000000001,1.0980000000000001,1.044,1.026,1.0980000000000001,-1.0980000000000001,-1.044,-1.0980000000000001,-1.0980000000000001,-1.044,-1.044,-1.026,-1.026]
[null,null,null,null,null,"GSPs","scalar",null,null,1.0980000000000001,1.0980000000000001,1.0980000000000001,1.0980000000000001,1.0980000000000001,1.044,1.026,1.0980000000000001,-1.0980000000000001,-1.044,-1.0980000000000001,-1.0980000000000001,-1.044,-1.044,-1.026,-1.026]
[null,null,null,null,null,"132kV","scalar",null,null,1.0980000000000001,1.0980000000000001,1.0980000000000001,1.0980000000000001,1.0980000000000001,1.044,1.026,1.0980000000000001,-1.0980000000000001,-1.044,-1.0980000000000001,-1.0980000000000001,-1.044,-1.044,-1.026,-1.026]
[null,null,null,null,null,"132kV/EHV","scalar",null,null,1.0980000000000001,1.0980000000000001,1.0980000000000001,1.0980000000000001,1.0980000000000001,1.044,1.026,1.0980000000000001,-1.0980000000000001,-1.044,-1.0980000000000001,-1.0980000000000001,-1.044,-1.044,-1.026,-1.026]
[null,null,null,null,null,"EHV","scalar",null,null,1.0980000000000001,1.0980000000000001,1.0980000000000001,1.0980000000000001,1.0980000000000001,1.044,1.026,1.0980000000000001,-1.0980000000000001,-1.044,-1.0980000000000001,-1.0980000000000001,-1.044,-1.044,-1.026,-1.026]
[null,null,null,null,null,"EHV/HV","scalar",null,null,1.0980000000000001,1.0980000000000001,1.0980000000000001,1.0980000000000001,1.0980000000000001,1.044,1.026,1.0980000000000001,-1.0980000000000001,-1.044,-1.0980000000000001,-1.0980000000000001,-1.044,-1.044,-1.026,-1.026]
[null,null,null,null,null,"132kV/HV","scalar",null,null,0,0,0,0,0,0,0,0,0,0,0,0,0,0,0,0]
[null,null,null,null,null,"HV","scalar",null,null,1.0980000000000001,1.0980000000000001,1.0980000000000001,1.0980000000000001,1.0980000000000001,1.044,1.026,1.0980000000000001,-1.0980000000000001,-1.044,-1.0980000000000001,-1.0980000000000001,-1.044,-1.044,0,0]
[null,null,null,null,null,"HV/LV","scalar",null,null,1.0980000000000001,1.0980000000000001,1.0980000000000001,1.0980000000000001,1.0980000000000001,1.044,0,1.0980000000000001,-1.0980000000000001,0,-1.0980000000000001,-1.0980000000000001,0,0,0,0]
[null,null,null,null,null,"LV circuits","scalar",null,null,1.0980000000000001,1.0980000000000001,1.0980000000000001,1.0980000000000001,1.0980000000000001,0,0,1.0980000000000001,0,0,0,0,0,0,0,0]
[null,null,null,null,null,"LV customers","scalar"]
[null,null,null,null,null,"HV customers","scalar"]
[]
[null,null,null,null,"Standing charge factors"]
[null,null,null,null,null,"GSPs","%",null,null,{"$f":"'Standing charge factors'!J44","v":0},{"$f":"'Standing charge factors'!K44","v":0},{"$f":"'Standing charge factors'!L44","v":0},{"$f":"'Standing charge factors'!M44","v":0},{"$f":"'Standing charge factors'!N44","v":0},{"$f":"'Standing charge factors'!O44","v":0},{"$f":"'Standing charge factors'!P44","v":0},{"$f":"'Standing charge factors'!Q44","v":0},{"$f":"'Standing charge factors'!R44","v":0},{"$f":"'Standing charge factors'!S44","v":0},{"$f":"'Standing charge factors'!T44","v":0},{"$f":"'Standing charge factors'!U44","v":0},{"$f":"'Standing charge factors'!V44","v":0},{"$f":"'Standing charge factors'!W44","v":0},{"$f":"'Standing charge factors'!X44","v":0},{"$f":"'Standing charge factors'!Y44","v":0}]
[null,null,null,null,null,"132kV","%",null,null,{"$f":"'Standing charge factors'!J45","v":0},{"$f":"'Standing charge factors'!K45","v":0},{"$f":"'Standing charge factors'!L45","v":0},{"$f":"'Standing charge factors'!M45","v":0},{"$f":"'Standing charge factors'!N45","v":0},{"$f":"'Standing charge factors'!O45","v":0},{"$f":"'Standing charge factors'!P45","v":0},{"$f":"'Standing charge factors'!Q45","v":0},{"$f":"'Standing charge factors'!R45","v":0},{"$f":"'Standing charge factors'!S45","v":0},{"$f":"'Standing charge factors'!T45","v":0},{"$f":"'Standing charge factors'!U45","v":0},{"$f":"'Standing charge factors'!V45","v":0},{"$f":"'Standing charge factors'!W45","v":0},{"$f":"'Standing charge factors'!X45","v":0},{"$f":"'Standing charge factors'!Y45","v":0}]
[null,null,null,null,null,"132kV/EHV","%",null,null,{"$f":"'Standing charge factors'!J46","v":0},{"$f":"'Standing charge factors'!K46","v":0},{"$f":"'Standing charge factors'!L46","v":0},{"$f":"'Standing charge factors'!M46","v":0},{"$f":"'Standing charge factors'!N46","v":0},{"$f":"'Standing charge factors'!O46","v":0},{"$f":"'Standing charge factors'!P46","v":0},{"$f":"'Standing charge factors'!Q46","v":0},{"$f":"'Standing charge factors'!R46","v":0},{"$f":"'Standing charge factors'!S46","v":0},{"$f":"'Standing charge factors'!T46","v":0},{"$f":"'Standing charge factors'!U46","v":0},{"$f":"'Standing charge factors'!V46","v":0},{"$f":"'Standing charge factors'!W46","v":0},{"$f":"'Standing charge factors'!X46","v":0},{"$f":"'Standing charge factors'!Y46","v":0}]
[null,null,null,null,null,"EHV","%",null,null,{"$f":"'Standing charge factors'!J47","v":0},{"$f":"'Standing charge factors'!K47","v":0},{"$f":"'Standing charge factors'!L47","v":0},{"$f":"'Standing charge factors'!M47","v":0},{"$f":"'Standing charge factors'!N47","v":0},{"$f":"'Standing charge factors'!O47","v":0},{"$f":"'Standing charge factors'!P47","v":0.2},{"$f":"'Standing charge factors'!Q47","v":0},{"$f":"'Standing charge factors'!R47","v":0},{"$f":"'Standing charge factors'!S47","v":0},{"$f":"'Standing charge factors'!T47","v":0},{"$f":"'Standing charge factors'!U47","v":0},{"$f":"'Standing charge factors'!V47","v":0},{"$f":"'Standing charge factors'!W47","v":0},{"$f":"'Standing charge factors'!X47","v":0},{"$f":"'Standing charge factors'!Y47","v":0}]
[null,null,null,null,null,"EHV/HV","%",null,null,{"$f":"'Standing charge factors'!J48","v":0},{"$f":"'Standing charge factors'!K48","v":0},{"$f":"'Standing charge factors'!L48","v":0},{"$f":"'Standing charge factors'!M48","v":0},{"$f":"'Standing charge factors'!N48","v":0},{"$f":"'Standing charge factors'!O48","v":0},{"$f":"'Standing charge factors'!P48","v":1},{"$f":"'Standing charge factors'!Q48","v":0},{"$f":"'Standing charge factors'!R48","v":0},{"$f":"'Standing charge factors'!S48","v":0},{"$f":"'Standing charge factors'!T48","v":0},{"$f":"'Standing charge factors'!U48","v":0},{"$f":"'Standing charge factors'!V48","v":0},{"$f":"'Standing charge factors'!W48","v":0},{"$f":"'Standing charge factors'!X48","v":0},{"$f":"'Standing charge factors'!Y48","v":0}]
[null,null,null,null,null,"132kV/HV","%",null,null,{"$f":"'Standing charge factors'!J49","v":0},{"$f":"'Standing charge factors'!K49","v":0},{"$f":"'Standing charge factors'!L49","v":0},{"$f":"'Standing charge factors'!M49","v":0},{"$f":"'Standing charge factors'!N49","v":0},{"$f":"'Standing charge factors'!O49","v":0},{"$f":"'Standing charge factors'!P49","v":1},{"$f":"'Standing charge factors'!Q49","v":0},{"$f":"'Standing charge factors'!R49","v":0},{"$f":"'Standing charge factors'!S49","v":0},{"$f":"'Standing charge factors'!T49","v":0},{"$f":"'Standing charge factors'!U49","v":0},{"$f":"'Standing charge factors'!V49","v":0},{"$f":"'Standing charge factors'!W49","v":0},{"$f":"'Standing charge factors'!X49","v":0},{"$f":"'Standing charge factors'!Y49","v":0}]
[null,null,null,null,null,"HV","%",null,null,{"$f":"'Standing charge factors'!J50","v":0},{"$f":"'Standing charge factors'!K50","v":0},{"$f":"'Standing charge factors'!L50","v":0},{"$f":"'Standing charge factors'!M50","v":0},{"$f":"'Standing charge factors'!N50","v":0.2},{"$f":"'Standing charge factors'!O50","v":1},{"$f":"'Standing charge factors'!P50","v":1},{"$f":"'Standing charge factors'!Q50","v":0},{"$f":"'Standing charge factors'!R50","v":0},{"$f":"'Standing charge factors'!S50","v":0},{"$f":"'Standing charge factors'!T50","v":0},{"$f":"'Standing charge factors'!U50","v":0},{"$f":"'Standing charge factors'!V50","v":0},{"$f":"'Standing charge factors'!W50","v":0},{"$f":"'Standing charge factors'!X50","v":0},{"$f":"'Standing charge factors'!Y50","v":0}]
[null,null,null,null,null,"HV/LV","%",null,null,{"$f":"'Standing charge factors'!J51","v":0},{"$f":"'Standing charge factors'!K51","v":0},{"$f":"'Standing charge factors'!L51","v":0},{"$f":"'Standing charge factors'!M51","v":0},{"$f":"'Standing charge factors'!N51","v":1},{"$f":"'Standing charge factors'!O51","v":1},{"$f":"'Standing charge factors'!P51","v":0},{"$f":"'Standing charge factors'!Q51","v":0},{"$f":"'Standing charge factors'!R51","v":0},{"$f":"'Standing charge factors'!S51","v":0},{"$f":"'Standing charge factors'!T51","v":0},{"$f":"'Standing charge factors'!U51","v":0},{"$f":"'Standing charge factors'!V51","v":0},{"$f":"'Standing charge factors'!W51","v":0},{"$f":"'Standing charge factors'!X51","v":0},{"$f":"'Standing charge factors'!Y51","v":0}]
[null,null,null,null,null,"LV circuits","%",null,null,{"$f":"'Standing charge factors'!J52","v":1},{"$f":"'Standing charge factors'!K52","v":1},{"$f":"'Standing charge factors'!L52","v":1},{"$f":"'Standing charge factors'!M52","v":1},{"$f":"'Standing charge factors'!N52","v":1},{"$f":"'Standing charge factors'!O52","v":0},{"$f":"'Standing charge factors'!P52","v":0},{"$f":"'Standing charge factors'!Q52","v":0},{"$f":"'Standing charge factors'!R52","v":0},{"$f":"'Standing charge factors'!S52","v":0},{"$f":"'Standing charge factors'!T52","v":0},{"$f":"'Standing charge factors'!U52","v":0},{"$f":"'Standing charge factors'!V52","v":0},{"$f":"'Standing charge factors'!W52","v":0},{"$f":"'Standing charge factors'!X52","v":0},{"$f":"'Standing charge factors'!Y52","v":0}]
[]
[null,null,null,null,"Customer contributions by network level"]
[null,null,null,null,null,"Transmission exit","%"]
[null,null,null,null,null,"GSPs","%"]
[null,null,null,null,null,"132kV","%",null,null,{"$f":"TRANSPOSE('Customer contributions'!L51:S66)","v":0},0,0,0,0,0,0,0,0,0,0,0,0,0,0,0]
[null,null,null,null,null,"132kV/EHV","%",null,null,0,0,0,0,0,0,0,0,0,0,0,0,0,0,0,0]
[null,null,null,null,null,"EHV","%",null,null,0,0,0,0,0,0,3.11004784688995E-2,0,0,0,0,0,0,0,3.11004784688995E-2,3.11004784688995E-2]
[null,null,null,null,null,"EHV/HV","%",null,null,0,0,0,0,0,0,0.14212259371833799,0,0,0,0,0,0,0,0.14212259371833799,0.14212259371833799]
[null,null,null,null,null,"132kV/HV","%",null,null,0,0,0,0,0,0,0,0,0,0,0,0,0,0,0,0]
[null,null,null,null,null,"HV","%",null,null,0.20065197841726601,0.20065197841726601,0.20065197841726601,0.20065197841726601,0.20065197841726601,0.20065197841726601,0.45146695143884902,0.20065197841726601,0.20065197841726601,0.20065197841726601,0.20065197841726601,0.20065197841726601,0.20065197841726601,0.20065197841726601,0.45146695143884902,0.45146695143884902]
[null,null,null,null,null,"HV/LV","%",null,null,0.26968503937007898,0.26968503937007898,0.26968503937007898,0.26968503937007898,0.26968503937007898,0.26968503937007898,0,0.26968503937007898,0.26968503937007898,0.26968503937007898,0.26968503937007898,0.26968503937007898,0.26968503937007898,0.26968503937007898,0,0]
[null,null,null,null,null,"LV circuits","%",null,null,0.92371773930088197,0.92371773930088197,0.92371773930088197,0.92371773930088197,0.92371773930088197,0,0,0.92371773930088197,0.92371773930088197,0,0.92371773930088197,0.92371773930088197,0,0,0,0]
[null,null,null,null,null,"LV customers","%"]
[null,null,null,null,null,"HV customers","%"]
[]
[null,null,null,null,"Flag for applicability of capacity charges and exceeded capacity charges",null,null,null,">",null,null,null,null,null,null,null,null,null,null,null,null,null,null,null,null,null,"Paragraphs 141, 146 & 81 to 84"]
[null,null,null,null,"These flags are used to filter customers into those that receive capacity charges, exceeded "]
[null,null,null,null,"capacity charges, and fixed charges"]
[null,null,null,null,null,"Capacity charge flag","0 or 1",null,null,{"$f":"'Fixed inputs'!J136","v":0},{"$f":"'Fixed inputs'!K136","v":0},{"$f":"'Fixed inputs'!L136","v":0},{"$f":"'Fixed inputs'!M136","v":0},{"$f":"'Fixed inputs'!N136","v":1},{"$f":"'Fixed inputs'!O136","v":1},{"$f":"'Fixed inputs'!P136","v":1},{"$f":"'Fixed inputs'!Q136","v":0},{"$f":"'Fixed inputs'!R136","v":0},{"$f":"'Fixed inputs'!S136","v":0},{"$f":"'Fixed inputs'!T136","v":0},{"$f":"'Fixed inputs'!U136","v":0},{"$f":"'Fixed inputs'!V136","v":0},{"$f":"'Fixed inputs'!W136","v":0},{"$f":"'Fixed inputs'!X136","v":0},{"$f":"'Fixed inputs'!Y136","v":0}]
[null,null,null,null,null,"Exceeded capacity charge flag","0 or 1",null,null,{"$f":"'Fixed inputs'!J137","v":0},{"$f":"'Fixed inputs'!K137","v":0},{"$f":"'Fixed inputs'!L137","v":0},{"$f":"'Fixed inputs'!M137","v":0},{"$f":"'Fixed inputs'!N137","v":1},{"$f":"'Fixed inputs'!O137","v":1},{"$f":"'Fixed inputs'!P137","v":1},{"$f":"'Fixed inputs'!Q137","v":0},{"$f":"'Fixed inputs'!R137","v":0},{"$f":"'Fixed inputs'!S137","v":0},{"$f":"'Fixed inputs'!T137","v":0},{"$f":"'Fixed inputs'!U137","v":0},{"$f":"'Fixed inputs'!V137","v":0},{"$f":"'Fixed inputs'!W137","v":0},{"$f":"'Fixed inputs'!X137","v":0},{"$f":"'Fixed inputs'!Y137","v":0}]
[null,null,null,null,null,"Capacity charge allocated to fixed charge","0 or 1",null,null,{"$f":"'Fixed inputs'!J139","v":1},{"$f":"'Fixed inputs'!K139","v":0},{"$f":"'Fixed inputs'!L139","v":1},{"$f":"'Fixed inputs'!M139","v":0},{"$f":"'Fixed inputs'!N139","v":0},{"$f":"'Fixed inputs'!O139","v":0},{"$f":"'Fixed inputs'!P139","v":0},{"$f":"'Fixed inputs'!Q139","v":0},{"$f":"'Fixed inputs'!R139","v":0},{"$f":"'Fixed inputs'!S139","v":0},{"$f":"'Fixed inputs'!T139","v":0},{"$f":"'Fixed inputs'!U139","v":0},{"$f":"'Fixed inputs'!V139","v":0},{"$f":"'Fixed inputs'!W139","v":0},{"$f":"'Fixed inputs'!X139","v":0},{"$f":"'Fixed inputs'!Y139","v":0}]
[]
[null,"Calculation of capacity charges"]
[]
[null,null,"Calculates capacity element of charges in line with Paragraph 78"]
[]
[null,null,{"$f":"INDEX('Version control'!$H$34:$H$58,MATCH($A$1,'Version control'!$F$34:$F$58,0),1)&\"-B: Capacity-based charge elements (to be split between capacity & fixed charges)\"","v":"Section 516-B: Capacity-based charge elements (to be split between capacity & fixed charges)"}]
[]
[null,null,null,null,"Asset costs",null,null,null,">",null,null,null,null,null,null,null,null,null,null,null,null,null,null,null,null,null,"Paragraph 73 and 78"]
[null,null,null,null,null,"Transmission exit","p/kVA/day"]
[null,null,null,null,null,"GSPs","p/kVA/day"]
[null,null,null,null,null,"132kV","p/kVA/day",null,null,{"$f":"hundred*J95*$H53*J82/$H39*(1-J107)/days_in_year/(1+$H25)*PowerFactor","v":0},0,{"$f":"hundred*L95*$H53*L82/$H39*(1-L107)/days_in_year/(1+$H25)*PowerFactor","v":0},0,{"$f":"hundred*N95*$H53*N82/$H39*(1-N107)/days_in_year/(1+$H25)*PowerFactor","v":0},0,0,{"$f":"hundred*Q95*$H53*Q82/$H39*(1-Q107)/days_in_year/(1+$H25)*PowerFactor","v":0}]
[null,null,null,null,null,"132kV/EHV","p/kVA/day",null,null,{"$f":"hundred*J96*$H54*J83/$H40*(1-J108)/days_in_year/(1+$H26)*PowerFactor","v":0},0,{"$f":"hundred*L96*$H54*L83/$H40*(1-L108)/days_in_year/(1+$H26)*PowerFactor","v":0},0,{"$f":"hundred*N96*$H54*N83/$H40*(1-N108)/days_in_year/(1+$H26)*PowerFactor","v":0},0,0,{"$f":"hundred*Q96*$H54*Q83/$H40*(1-Q108)/days_in_year/(1+$H26)*PowerFactor","v":0}]
[null,null,null,null,null,"EHV","p/kVA/day",null,null,{"$f":"hundred*J97*$H55*J84/$H41*(1-J109)/days_in_year/(1+$H27)*PowerFactor","v":0},0,{"$f":"hundred*L97*$H55*L84/$H41*(1-L109)/days_in_year/(1+$H27)*PowerFactor","v":0},0,{"$f":"hundred*N97*$H55*N84/$H41*(1-N109)/days_in_year/(1+$H27)*PowerFactor","v":0},0,0.50998564512566313,{"$f":"hundred*Q97*$H55*Q84/$H41*(1-Q109)/days_in_year/(1+$H27)*PowerFactor","v":0}]
[null,null,null,null,null,"EHV/HV","p/kVA/day",null,null,{"$f":"hundred*J98*$H56*J85/$H42*(1-J110)/days_in_year/(1+$H28)*PowerFactor","v":0},0,{"$f":"hundred*L98*$H56*L85/$H42*(1-L110)/days_in_year/(1+$H28)*PowerFactor","v":0},0,{"$f":"hundred*N98*$H56*N85/$H42*(1-N110)/days_in_year/(1+$H28)*PowerFactor","v":0},0,0.57853507989949204,{"$f":"hundred*Q98*$H56*Q85/$H42*(1-Q110)/days_in_year/(1+$H28)*PowerFactor","v":0}]
[null,null,null,null,null,"132kV/HV","p/kVA/day",null,null,{"$f":"hundred*J99*$H57*J86/$H43*(1-J111)/days_in_year/(1+$H29)*PowerFactor","v":0},0,{"$f":"hundred*L99*$H57*L86/$H43*(1-L111)/days_in_year/(1+$H29)*PowerFactor","v":0},0,{"$f":"hundred*N99*$H57*N86/$H43*(1-N111)/days_in_year/(1+$H29)*PowerFactor","v":0},0,0,{"$f":"hundred*Q99*$H57*Q86/$H43*(1-Q111)/days_in_year/(1+$H29)*PowerFactor","v":0}]
[null,null,null,null,null,"HV","p/kVA/day",null,null,{"$f":"hundred*J100*$H58*J87/$H44*(1-J112)/days_in_year/(1+$H30)*PowerFactor","v":0},0,{"$f":"hundred*L100*$H58*L87/$H44*(1-L112)/days_in_year/(1+$H30)*PowerFactor","v":0},0,{"$f":"hundred*N100*$H58*N87/$H44*(1-N112)/days_in_year/(1+$H30)*PowerFactor","v":0.39708965079178232},1.8878032578625719,1.2731233615976907,{"$f":"hundred*Q100*$H58*Q87/$H44*(1-Q112)/days_in_year/(1+$H30)*PowerFactor","v":0}]
[null,null,null,null,null,"HV/LV","p/kVA/day",null,null,{"$f":"hundred*J101*$H59*J88/$H45*(1-J113)/days_in_year/(1+$H31)*PowerFactor","v":0},0,{"$f":"hundred*L101*$H59*L88/$H45*(1-L113)/days_in_year/(1+$H31)*PowerFactor","v":0},0,{"$f":"hundred*N101*$H59*N88/$H45*(1-N113)/days_in_year/(1+$H31)*PowerFactor","v":0.45590492725063009},0.43348337345141869,0,{"$f":"hundred*Q101*$H59*Q88/$H45*(1-Q113)/days_in_year/(1+$H31)*PowerFactor","v":0}]
[null,null,null,null,null,"LV circuits","p/kVA/day",null,null,{"$f":"hundred*J102*$H60*J89/$H46*(1-J114)/days_in_year/(1+$H32)*PowerFactor","v":7.640178367250032E-2},7.640178367250032E-2,{"$f":"hundred*L102*$H60*L89/$H46*(1-L114)/days_in_year/(1+$H32)*PowerFactor","v":7.640178367250032E-2},7.640178367250032E-2,{"$f":"hundred*N102*$H60*N89/$H46*(1-N114)/days_in_year/(1+$H32)*PowerFactor","v":7.640178367250032E-2},0,0,{"$f":"hundred*Q102*$H60*Q89/$H46*(1-Q114)/days_in_year/(1+$H32)*PowerFactor","v":0}]
[null,null,null,null,null,"LV customers","p/kVA/day"]
[null,null,null,null,null,"HV customers","p/kVA/day"]
[]
[null,null,null,null,"Other operating costs"]
[null,null,null,null,null,"Transmission exit","p/kVA/day",null,null,{"$f":"hundred*J94*$H65*J80/$H37/days_in_year/(1+$H23)*PowerFactor","v":0},0,{"$f":"hundred*L94*$H65*L80/$H37/days_in_year/(1+$H23)*PowerFactor","v":0},0,{"$f":"hundred*N94*$H65*N80/$H37/days_in_year/(1+$H23)*PowerFactor","v":0},0,0,{"$f":"hundred*Q94*$H65*Q80/$H37/days_in_year/(1+$H23)*PowerFactor","v":0}]
[null,null,null,null,null,"GSPs","p/kVA/day",null,null,{"$f":"hundred*J94*$H66*J81/$H38/days_in_year/(1+$H24)*PowerFactor","v":0},0,{"$f":"hundred*L94*$H66*L81/$H38/days_in_year/(1+$H24)*PowerFactor","v":0},0,{"$f":"hundred*N94*$H66*N81/$H38/days_in_year/(1+$H24)*PowerFactor","v":0},0,0,{"$f":"hundred*Q94*$H66*Q81/$H38/days_in_year/(1+$H24)*PowerFactor","v":0}]
[null,null,null,null,null,"132kV","p/kVA/day",null,null,{"$f":"hundred*J95*$H67*J82/$H39/days_in_year/(1+$H25)*PowerFactor","v":0},0,{"$f":"hundred*L95*$H67*L82/$H39/days_in_year/(1+$H25)*PowerFactor","v":0},0,{"$f":"hundred*N95*$H67*N82/$H39/days_in_year/(1+$H25)*PowerFactor","v":0},0,0,{"$f":"hundred*Q95*$H67*Q82/$H39/days_in_year/(1+$H25)*PowerFactor","v":0}]
[null,null,null,null,null,"132kV/EHV","p/kVA/day",null,null,{"$f":"hundred*J96*$H68*J83/$H40/days_in_year/(1+$H26)*PowerFactor","v":0},0,{"$f":"hundred*L96*$H68*L83/$H40/days_in_year/(1+$H26)*PowerFactor","v":0},0,{"$f":"hundred*N96*$H68*N83/$H40/days_in_year/(1+$H26)*PowerFactor","v":0},0,0,{"$f":"hundred*Q96*$H68*Q83/$H40/days_in_year/(1+$H26)*PowerFactor","v":0}]
[null,null,null,null,null,"EHV","p/kVA/day",null,null,{"$f":"hundred*J97*$H69*J84/$H41/days_in_year/(1+$H27)*PowerFactor","v":0},0,{"$f":"hundred*L97*$H69*L84/$H41/days_in_year/(1+$H27)*PowerFactor","v":0},0,{"$f":"hundred*N97*$H69*N84/$H41/days_in_year/(1+$H27)*PowerFactor","v":0},0,0.38899959063332851,{"$f":"hundred*Q97*$H69*Q84/$H41/days_in_year/(1+$H27)*PowerFactor","v":0}]
[null,null,null,null,null,"EHV/HV","p/kVA/day",null,null,{"$f":"hundred*J98*$H70*J85/$H42/days_in_year/(1+$H28)*PowerFactor","v":0},0,{"$f":"hundred*L98*$H70*L85/$H42/days_in_year/(1+$H28)*PowerFactor","v":0},0,{"$f":"hundred*N98*$H70*N85/$H42/days_in_year/(1+$H28)*PowerFactor","v":0},0,0.49839583184405867,{"$f":"hundred*Q98*$H70*Q85/$H42/days_in_year/(1+$H28)*PowerFactor","v":0}]
[null,null,null,null,null,"132kV/HV","p/kVA/day",null,null,{"$f":"hundred*J99*$H71*J86/$H43/days_in_year/(1+$H29)*PowerFactor","v":0},0,{"$f":"hundred*L99*$H71*L86/$H43/days_in_year/(1+$H29)*PowerFactor","v":0},0,{"$f":"hundred*N99*$H71*N86/$H43/days_in_year/(1+$H29)*PowerFactor","v":0},0,0,{"$f":"hundred*Q99*$H71*Q86/$H43/days_in_year/(1+$H29)*PowerFactor","v":0}]
[null,null,null,null,null,"HV","p/kVA/day",null,null,{"$f":"hundred*J100*$H72*J87/$H44/days_in_year/(1+$H30)*PowerFactor","v":0},0,{"$f":"hundred*L100*$H72*L87/$H44/days_in_year/(1+$H30)*PowerFactor","v":0},0,{"$f":"hundred*N100*$H72*N87/$H44/days_in_year/(1+$H30)*PowerFactor","v":0.36713230228035904},1.7453830764148219,1.7152902647524968,{"$f":"hundred*Q100*$H72*Q87/$H44/days_in_year/(1+$H30)*PowerFactor","v":0}]
[null,null,null,null,null,"HV/LV","p/kVA/day",null,null,{"$f":"hundred*J101*$H73*J88/$H45/days_in_year/(1+$H31)*PowerFactor","v":0},0,{"$f":"hundred*L101*$H73*L88/$H45/days_in_year/(1+$H31)*PowerFactor","v":0},0,{"$f":"hundred*N101*$H73*N88/$H45/days_in_year/(1+$H31)*PowerFactor","v":0.4613537153519332},0.438664188367412,0,{"$f":"hundred*Q101*$H73*Q88/$H45/days_in_year/(1+$H31)*PowerFactor","v":0}]
[null,null,null,null,null,"LV circuits","p/kVA/day",null,null,{"$f":"hundred*J102*$H74*J89/$H46/days_in_year/(1+$H32)*PowerFactor","v":0.74020135576371915},0.74020135576371915,{"$f":"hundred*L102*$H74*L89/$H46/days_in_year/(1+$H32)*PowerFactor","v":0.74020135576371915},0.74020135576371915,{"$f":"hundred*N102*$H74*N89/$H46/days_in_year/(1+$H32)*PowerFactor","v":0.74020135576371915},0,0,{"$f":"hundred*Q102*$H74*Q89/$H46/days_in_year/(1+$H32)*PowerFactor","v":0}]
[null,null,null,null,null,"LV customers","p/kVA/day"]
[null,null,null,null,null,"HV customers","p/kVA/day"]
[]
[null,null,{"$f":"INDEX('Version control'!$H$34:$H$58,MATCH($A$1,'Version control'!$F$34:$F$58,0),1)&\"-C: Exceeded capacity-based charge elements\"","v":"Section 516-C: Exceeded capacity-based charge elements"}]
[]
[null,null,null,null,"Asset costs"]
[null,null,null,null,null,"Transmission exit","p/kVA/day"]
[null,null,null,null,null,"GSPs","p/kVA/day"]
[null,null,null,null,null,"132kV","p/kVA/day",null,null,{"$f":"hundred*J95*$H53*J82/$H39/days_in_year/(1+$H25)*PowerFactor","v":0},0,{"$f":"hundred*L95*$H53*L82/$H39/days_in_year/(1+$H25)*PowerFactor","v":0},0,{"$f":"hundred*N95*$H53*N82/$H39/days_in_year/(1+$H25)*PowerFactor","v":0},0,0,{"$f":"hundred*Q95*$H53*Q82/$H39/days_in_year/(1+$H25)*PowerFactor","v":0}]
[null,null,null,null,null,"132kV/EHV","p/kVA/day",null,null,{"$f":"hundred*J96*$H54*J83/$H40/days_in_year/(1+$H26)*PowerFactor","v":0},0,{"$f":"hundred*L96*$H54*L83/$H40/days_in_year/(1+$H26)*PowerFactor","v":0},0,{"$f":"hundred*N96*$H54*N83/$H40/days_in_year/(1+$H26)*PowerFactor","v":0},0,0,{"$f":"hundred*Q96*$H54*Q83/$H40/days_in_year/(1+$H26)*PowerFactor","v":0}]
[null,null,null,null,null,"EHV","p/kVA/day",null,null,{"$f":"hundred*J97*$H55*J84/$H41/days_in_year/(1+$H27)*PowerFactor","v":0},0,{"$f":"hundred*L97*$H55*L84/$H41/days_in_year/(1+$H27)*PowerFactor","v":0},0,{"$f":"hundred*N97*$H55*N84/$H41/days_in_year/(1+$H27)*PowerFactor","v":0},0,0.52635555472228934,{"$f":"hundred*Q97*$H55*Q84/$H41/days_in_year/(1+$H27)*PowerFactor","v":0}]
[null,null,null,null,null,"EHV/HV","p/kVA/day",null,null,{"$f":"hundred*J98*$H56*J85/$H42/days_in_year/(1+$H28)*PowerFactor","v":0},0,{"$f":"hundred*L98*$H56*L85/$H42/days_in_year/(1+$H28)*PowerFactor","v":0},0,{"$f":"hundred*N98*$H56*N85/$H42/days_in_year/(1+$H28)*PowerFactor","v":0},0,0.67437966737819066,{"$f":"hundred*Q98*$H56*Q85/$H42/days_in_year/(1+$H28)*PowerFactor","v":0}]
[null,null,null,null,null,"132kV/HV","p/kVA/day",null,null,{"$f":"hundred*J99*$H57*J86/$H43/days_in_year/(1+$H29)*PowerFactor","v":0},0,{"$f":"hundred*L99*$H57*L86/$H43/days_in_year/(1+$H29)*PowerFactor","v":0},0,{"$f":"hundred*N99*$H57*N86/$H43/days_in_year/(1+$H29)*PowerFactor","v":0},0,0,{"$f":"hundred*Q99*$H57*Q86/$H43/days_in_year/(1+$H29)*PowerFactor","v":0}]
[null,null,null,null,null,"HV","p/kVA/day",null,null,{"$f":"hundred*J100*$H58*J87/$H44/days_in_year/(1+$H30)*PowerFactor","v":0},0,{"$f":"hundred*L100*$H58*L87/$H44/days_in_year/(1+$H30)*PowerFactor","v":0},0,{"$f":"hundred*N100*$H58*N87/$H44/days_in_year/(1+$H30)*PowerFactor","v":0.49676691512356835},2.3616787768169649,2.3209601772166724,{"$f":"hundred*Q100*$H58*Q87/$H44/days_in_year/(1+$H30)*PowerFactor","v":0}]
[null,null,null,null,null,"HV/LV","p/kVA/day",null,null,{"$f":"hundred*J101*$H59*J88/$H45/days_in_year/(1+$H31)*PowerFactor","v":0},0,{"$f":"hundred*L101*$H59*L88/$H45/days_in_year/(1+$H31)*PowerFactor","v":0},0,{"$f":"hundred*N101*$H59*N88/$H45/days_in_year/(1+$H31)*PowerFactor","v":0.62425795968549891},0.59355674855342522,0,{"$f":"hundred*Q101*$H59*Q88/$H45/days_in_year/(1+$H31)*PowerFactor","v":0}]
[null,null,null,null,null,"LV circuits","p/kVA/day",null,null,{"$f":"hundred*J102*$H60*J89/$H46/days_in_year/(1+$H32)*PowerFactor","v":1.0015668514840392},1.0015668514840392,{"$f":"hundred*L102*$H60*L89/$H46/days_in_year/(1+$H32)*PowerFactor","v":1.0015668514840392},1.0015668514840392,{"$f":"hundred*N102*$H60*N89/$H46/days_in_year/(1+$H32)*PowerFactor","v":1.0015668514840392},0,0,{"$f":"hundred*Q102*$H60*Q89/$H46/days_in_year/(1+$H32)*PowerFactor","v":0}]
[null,null,null,null,null,"LV customers","p/kVA/day"]
[null,null,null,null,null,"HV customers","p/kVA/day"]
[]
[null,null,null,null,"Other operating costs"]
[null,null,null,null,null,"Transmission exit","p/kVA/day",null,null,{"$f":"hundred*J94*$H65*J80/$H37/days_in_year/(1+$H23)*PowerFactor","v":0},0,{"$f":"hundred*L94*$H65*L80/$H37/days_in_year/(1+$H23)*PowerFactor","v":0},0,{"$f":"hundred*N94*$H65*N80/$H37/days_in_year/(1+$H23)*PowerFactor","v":0},0,0,{"$f":"hundred*Q94*$H65*Q80/$H37/days_in_year/(1+$H23)*PowerFactor","v":0}]
[null,null,null,null,null,"GSPs","p/kVA/day",null,null,{"$f":"hundred*J94*$H66*J81/$H38/days_in_year/(1+$H24)*PowerFactor","v":0},0,{"$f":"hundred*L94*$H66*L81/$H38/days_in_year/(1+$H24)*PowerFactor","v":0},0,{"$f":"hundred*N94*$H66*N81/$H38/days_in_year/(1+$H24)*PowerFactor","v":0},0,0,{"$f":"hundred*Q94*$H66*Q81/$H38/days_in_year/(1+$H24)*PowerFactor","v":0}]
[null,null,null,null,null,"132kV","p/kVA/day",null,null,{"$f":"hundred*J95*$H67*J82/$H39/days_in_year/(1+$H25)*PowerFactor","v":0},0,{"$f":"hundred*L95*$H67*L82/$H39/days_in_year/(1+$H25)*PowerFactor","v":0},0,{"$f":"hundred*N95*$H67*N82/$H39/days_in_year/(1+$H25)*PowerFactor","v":0},0,0,{"$f":"hundred*Q95*$H67*Q82/$H39/days_in_year/(1+$H25)*PowerFactor","v":0}]
[null,null,null,null,null,"132kV/EHV","p/kVA/day",null,null,{"$f":"hundred*J96*$H68*J83/$H40/days_in_year/(1+$H26)*PowerFactor","v":0},0,{"$f":"hundred*L96*$H68*L83/$H40/days_in_year/(1+$H26)*PowerFactor","v":0},0,{"$f":"hundred*N96*$H68*N83/$H40/days_in_year/(1+$H26)*PowerFactor","v":0},0,0,{"$f":"hundred*Q96*$H68*Q83/$H40/days_in_year/(1+$H26)*PowerFactor","v":0}]
[null,null,null,null,null,"EHV","p/kVA/day",null,null,{"$f":"hundred*J97*$H69*J84/$H41/days_in_year/(1+$H27)*PowerFactor","v":0},0,{"$f":"hundred*L97*$H69*L84/$H41/days_in_year/(1+$H27)*PowerFactor","v":0},0,{"$f":"hundred*N97*$H69*N84/$H41/days_in_year/(1+$H27)*PowerFactor","v":0},0,0.38899959063332851,{"$f":"hundred*Q97*$H69*Q84/$H41/days_in_year/(1+$H27)*PowerFactor","v":0}]
[null,null,null,null,null,"EHV/HV","p/kVA/day",null,null,{"$f":"hundred*J98*$H70*J85/$H42/days_in_year/(1+$H28)*PowerFactor","v":0},0,{"$f":"hundred*L98*$H70*L85/$H42/days_in_year/(1+$H28)*PowerFactor","v":0},0,{"$f":"hundred*N98*$H70*N85/$H42/days_in_year/(1+$H28)*PowerFactor","v":0},0,0.49839583184405867,{"$f":"hundred*Q98*$H70*Q85/$H42/days_in_year/(1+$H28)*PowerFactor","v":0}]
[null,null,null,null,null,"132kV/HV","p/kVA/day",null,null,{"$f":"hundred*J99*$H71*J86/$H43/days_in_year/(1+$H29)*PowerFactor","v":0},0,{"$f":"hundred*L99*$H71*L86/$H43/days_in_year/(1+$H29)*PowerFactor","v":0},0,{"$f":"hundred*N99*$H71*N86/$H43/days_in_year/(1+$H29)*PowerFactor","v":0},0,0,{"$f":"hundred*Q99*$H71*Q86/$H43/days_in_year/(1+$H29)*PowerFactor","v":0}]
[null,null,null,null,null,"HV","p/kVA/day",null,null,{"$f":"hundred*J100*$H72*J87/$H44/days_in_year/(1+$H30)*PowerFactor","v":0},0,{"$f":"hundred*L100*$H72*L87/$H44/days_in_year/(1+$H30)*PowerFactor","v":0},0,{"$f":"hundred*N100*$H72*N87/$H44/days_in_year/(1+$H30)*PowerFactor","v":0.36713230228035904},1.7453830764148219,1.7152902647524968,{"$f":"hundred*Q100*$H72*Q87/$H44/days_in_year/(1+$H30)*PowerFactor","v":0}]
[null,null,null,null,null,"HV/LV","p/kVA/day",null,null,{"$f":"hundred*J101*$H73*J88/$H45/days_in_year/(1+$H31)*PowerFactor","v":0},0,{"$f":"hundred*L101*$H73*L88/$H45/days_in_year/(1+$H31)*PowerFactor","v":0},0,{"$f":"hundred*N101*$H73*N88/$H45/days_in_year/(1+$H31)*PowerFactor","v":0.4613537153519332},0.438664188367412,0,{"$f":"hundred*Q101*$H73*Q88/$H45/days_in_year/(1+$H31)*PowerFactor","v":0}]
[null,null,null,null,null,"LV circuits","p/kVA/day",null,null,{"$f":"hundred*J102*$H74*J89/$H46/days_in_year/(1+$H32)*PowerFactor","v":0.74020135576371915},0.74020135576371915,{"$f":"hundred*L102*$H74*L89/$H46/days_in_year/(1+$H32)*PowerFactor","v":0.74020135576371915},0.74020135576371915,{"$f":"hundred*N102*$H74*N89/$H46/days_in_year/(1+$H32)*PowerFactor","v":0.74020135576371915},0,0,{"$f":"hundred*Q102*$H74*Q89/$H46/days_in_year/(1+$H32)*PowerFactor","v":0}]
[null,null,null,null,null,"LV customers","p/kVA/day"]
[null,null,null,null,null,"HV customers","p/kVA/day"]
[]
[null,null,{"$f":"INDEX('Version control'!$H$34:$H$58,MATCH($A$1,'Version control'!$F$34:$F$58,0),1)&\"-D: Capacity charges for eligible customers, by network level\"","v":"Section 516-D: Capacity charges for eligible customers, by network level"}]
[null,null,null,null,null,null,null,null,">",null,null,null,null,null,null,null,null,null,null,null,null,null,null,null,null,null,"Paragraph 73, 78"]
[null,null,null,null,"Asset costs"]
[null,null,null,null,null,"Transmission exit","p/kVA/day"]
[null,null,null,null,null,"GSPs","p/kVA/day"]
[null,null,null,null,null,"132kV","p/kVA/day",null,null,{"$f":"J$121 * J134","v":0},0,0,0,0,0,0,0]
[null,null,null,null,null,"132kV/EHV","p/kVA/day",null,null,0,0,0,0,0,0,0,0]
[null,null,null,null,null,"EHV","p/kVA/day",null,null,0,0,0,0,0,0,0.50998564512566313,0]
[null,null,null,null,null,"EHV/HV","p/kVA/day",null,null,0,0,0,0,0,0,0.57853507989949204,0]
[null,null,null,null,null,"132kV/HV","p/kVA/day",null,null,0,0,0,0,0,0,0,0]
[null,null,null,null,null,"HV","p/kVA/day",null,null,0,0,0,0,0.39708965079178232,1.8878032578625719,1.2731233615976907,0]
[null,null,null,null,null,"HV/LV","p/kVA/day",null,null,0,0,0,0,0.45590492725063009,0.43348337345141869,0,0]
[null,null,null,null,null,"LV circuits","p/kVA/day",null,null,0,0,0,0,7.640178367250032E-2,0,0,0]
[null,null,null,null,null,"LV customers","p/kVA/day"]
[null,null,null,null,null,"HV customers","p/kVA/day"]
[]
[null,null,null,null,"Other operating costs"]
[null,null,null,null,null,"Transmission exit","p/kVA/day",null,null,{"$f":"J$121 * J146","v":0},0,0,0,0,0,0,0]
[null,null,null,null,null,"GSPs","p/kVA/day",null,null,0,0,0,0,0,0,0,0]
[null,null,null,null,null,"132kV","p/kVA/day",null,null,0,0,0,0,0,0,0,0]
[null,null,null,null,null,"132kV/EHV","p/kVA/day",null,null,0,0,0,0,0,0,0,0]
[null,null,null,null,null,"EHV","p/kVA/day",null,null,0,0,0,0,0,0,0.38899959063332851,0]
[null,null,null,null,null,"EHV/HV","p/kVA/day",null,null,0,0,0,0,0,0,0.49839583184405867,0]
[null,null,null,null,null,"132kV/HV","p/kVA/day",null,null,0,0,0,0,0,0,0,0]
[null,null,null,null,null,"HV","p/kVA/day",null,null,0,0,0,0,0.36713230228035904,1.7453830764148219,1.7152902647524968,0]
[null,null,null,null,null,"HV/LV","p/kVA/day",null,null,0,0,0,0,0.4613537153519332,0.438664188367412,0,0]
[null,null,null,null,null,"LV circuits","p/kVA/day",null,null,0,0,0,0,0.74020135576371915,0,0,0]
[null,null,null,null,null,"LV customers","p/kVA/day"]
[null,null,null,null,null,"HV customers","p/kVA/day"]
[]
[null,null,{"$f":"INDEX('Version control'!$H$34:$H$58,MATCH($A$1,'Version control'!$F$34:$F$58,0),1)&\"-E: Exceeded capacity charges for eligible customers, by network level\"","v":"Section 516-E: Exceeded capacity charges for eligible customers, by network level"}]
[null,null,null,null,null,null,null,null,">",null,null,null,null,null,null,null,null,null,null,null,null,null,null,null,null,null,"Paragraphs 81 & 153"]
[null,null,null,null,"Asset costs"]
[null,null,null,null,null,"Transmission exit","p/kVA/day"]
[null,null,null,null,null,"GSPs","p/kVA/day"]
[null,null,null,null,null,"132kV","p/kVA/day",null,null,{"$f":"J$122 * J164","v":0},0,0,0,0,0,0,0]
[null,null,null,null,null,"132kV/EHV","p/kVA/day",null,null,0,0,0,0,0,0,0,0]
[null,null,null,null,null,"EHV","p/kVA/day",null,null,0,0,0,0,0,0,0.52635555472228934,0]
[null,null,null,null,null,"EHV/HV","p/kVA/day",null,null,0,0,0,0,0,0,0.67437966737819066,0]
[null,null,null,null,null,"132kV/HV","p/kVA/day",null,null,0,0,0,0,0,0,0,0]
[null,null,null,null,null,"HV","p/kVA/day",null,null,0,0,0,0,0.49676691512356835,2.3616787768169649,2.3209601772166724,0]
[null,null,null,null,null,"HV/LV","p/kVA/day",null,null,0,0,0,0,0.62425795968549891,0.59355674855342522,0,0]
[null,null,null,null,null,"LV circuits","p/kVA/day",null,null,0,0,0,0,1.0015668514840392,0,0,0]
[null,null,null,null,null,"LV customers","p/kVA/day"]
[null,null,null,null,null,"HV customers","p/kVA/day"]
[]
[null,null,null,null,"Other operating costs"]
[null,null,null,null,null,"Transmission exit","p/kVA/day",null,null,{"$f":"J$122 * J176","v":0},0,0,0,0,0,0,0]
[null,null,null,null,null,"GSPs","p/kVA/day",null,null,0,0,0,0,0,0,0,0]
[null,null,null,null,null,"132kV","p/kVA/day",null,null,0,0,0,0,0,0,0,0]
[null,null,null,null,null,"132kV/EHV","p/kVA/day",null,null,0,0,0,0,0,0,0,0]
[null,null,null,null,null,"EHV","p/kVA/day",null,null,0,0,0,0,0,0,0.38899959063332851,0]
[null,null,null,null,null,"EHV/HV","p/kVA/day",null,null,0,0,0,0,0,0,0.49839583184405867,0]
[null,null,null,null,null,"132kV/HV","p/kVA/day",null,null,0,0,0,0,0,0,0,0]
[null,null,null,null,null,"HV","p/kVA/day",null,null,0,0,0,0,0.36713230228035904,1.7453830764148219,1.7152902647524968,0]
[null,null,null,null,null,"HV/LV","p/kVA/day",null,null,0,0,0,0,0.4613537153519332,0.438664188367412,0,0]
[null,null,null,null,null,"LV circuits","p/kVA/day",null,null,0,0,0,0,0.74020135576371915,0,0,0]
[null,null,null,null,null,"LV customers","p/kVA/day"]
[null,null,null,null,null,"HV customers","p/kVA/day"]
[]
[null,"Capacity charges (and elements allocated to fixed charges)"]
[]
[null,null,"Exports capacity and exceeded capacity charges"]
[null,null,"Exports capacity element of charges that is allocated to fixed charges"]
[]
[null,null,{"$f":"INDEX('Version control'!$H$34:$H$58,MATCH($A$1,'Version control'!$F$34:$F$58,0),1)&\"-F: Capacity and exceeded capacity charges\"","v":"Section 516-F: Capacity and exceeded capacity charges"}]
[]
[null,null,null,null,"Total capacity charge",null,"p/kVA/day",null,">",{"$f":"SUM(J192:J203,J206:J217)","v":0},0,0,0,2.498083735110924,4.5053338960962241,4.9643297738527297,0,null,null,null,null,null,null,null,null,null,"Paragraph 81"]
[null,null,null,null,"Total exceeded capacity charge",null,"p/kVA/day",null,">",{"$f":"SUM(J222:J233,J236:J247)","v":0},0,0,0,3.691279099689118,5.1392827901526239,6.1243810865470367,0,null,null,null,null,null,null,null,null,null,"Paragraph 81"]
[]
[null,null,{"$f":"INDEX('Version control'!$H$34:$H$58,MATCH($A$1,'Version control'!$F$34:$F$58,0),1)&\"-G: Capacity elements allocated to fixed charges\"","v":"Section 516-G: Capacity elements allocated to fixed charges"}]
[null,null,null,null,null,null,null,null,">",null,null,null,null,null,null,null,null,null,null,null,null,null,null,null,null,null,"Paragraphs 73 & 78"]
[null,null,null,null,"Asset costs"]
[null,null,null,null,null,"Transmission exit","p/kVA/day"]
[null,null,null,null,null,"GSPs","p/kVA/day"]
[null,null,null,null,null,"132kV","p/kVA/day",null,null,{"$f":"J$123 * J134","v":0},0,0,0,0,0,0,0]
[null,null,null,null,null,"132kV/EHV","p/kVA/day",null,null,0,0,0,0,0,0,0,0]
[null,null,null,null,null,"EHV","p/kVA/day",null,null,0,0,0,0,0,0,0,0]
[null,null,null,null,null,"EHV/HV","p/kVA/day",null,null,0,0,0,0,0,0,0,0]
[null,null,null,null,null,"132kV/HV","p/kVA/day",null,null,0,0,0,0,0,0,0,0]
[null,null,null,null,null,"HV","p/kVA/day",null,null,0,0,0,0,0,0,0,0]
[null,null,null,null,null,"HV/LV","p/kVA/day",null,null,0,0,0,0,0,0,0,0]
[null,null,null,null,null,"LV circuits","p/kVA/day",null,null,7.640178367250032E-2,0,7.640178367250032E-2,0,0,0,0,0]
[null,null,null,null,null,"LV customers","p/kVA/day"]
[null,null,null,null,null,"HV customers","p/kVA/day"]
[]
[null,null,null,null,"Other costs"]
[null,null,null,null,null,"Transmission exit","p/kVA/day",null,null,{"$f":"J$123 * J146","v":0},0,0,0,0,0,0,0]
[null,null,null,null,null,"GSPs","p/kVA/day",null,null,0,0,0,0,0,0,0,0]
[null,null,null,null,null,"132kV","p/kVA/day",null,null,0,0,0,0,0,0,0,0]
[null,null,null,null,null,"132kV/EHV","p/kVA/day",null,null,0,0,0,0,0,0,0,0]
[null,null,null,null,null,"EHV","p/kVA/day",null,null,0,0,0,0,0,0,0,0]
[null,null,null,null,null,"EHV/HV","p/kVA/day",null,null,0,0,0,0,0,0,0,0]
[null,null,null,null,null,"132kV/HV","p/kVA/day",null,null,0,0,0,0,0,0,0,0]
[null,null,null,null,null,"HV","p/kVA/day",null,null,0,0,0,0,0,0,0,0]
[null,null,null,null,null,"HV/LV","p/kVA/day",null,null,0,0,0,0,0,0,0,0]
[null,null,null,null,null,"LV circuits","p/kVA/day",null,null,0.74020135576371915,0,0.74020135576371915,0,0,0,0,0]
[null,null,null,null,null,"LV customers","p/kVA/day"]
[null,null,null,null,null,"HV customers","p/kVA/day"]
[]
[null,"Checks"]
[]
[null,null,null,null,"Check for error values",null,"number of issues",{"$f":"SUM(IF(ISERROR(H51:Y287), 1))","v":0}]
[]
[null,null,null,null,"Check that costs are not allocated to both capacity and fixed charges",null,"number of issues",{"$f":"SUM(J293:Y293)","v":0},null,{"$f":"IF(J121 + J123 < 2, 0, 1)","v":0},0,0,0,0,0,0,0,0,0,0,0,0,0,0,0]
[]
[null,null,null,null,"Summary of checks",null,"number of issues",{"$f":"H291 + H293","v":0}]
[]
[null,"End of sheet"]

{"sheet":"Fixed charges","index":30,"n_rows":167,"n_cols":27,"rows_kept":167,"cut":false,"hidden":false,"merged":[]}
[{"$f":"MID(CELL(\"filename\",A1),FIND(\"]\",CELL(\"filename\",A1))+1,255)","v":"Fixed charges"}]
[{"$f":"Cover!D21&\" - \"&Cover!D23","v":"SP Distribution - One"}]
[{"$f":"Cover!D2&\" - \"&Cover!D8&\" v\"&Cover!D10&\" - \"&Cover!D19","v":"ARP model - Release for charge setting v5 - 2021/22"}]
[{"$f":"H165 & IF(H165 = 1, \" issue\", \" issues\") &\" identified in checks on this sheet\"","v":"0 issues identified in checks on this sheet"}]
[null,"Click here to return to model map",null,null,null,null,"Units","Constants",null,"Domestic Aggregated","Domestic Aggregated (Related MPAN)","Non-Domestic Aggregated","Non-Domestic Aggregated (Related MPAN)","LV Site Specific","LV Sub Site Specific","HV Site Specific","Unmetered Supplies","LV Generation Aggregated","LV Sub Generation Aggregated","LV Generation Site Specific","LV Generation Site Specific no RP Charge","LV Sub Generation Site Specific","LV Sub Generation Site Specific no RP Charge","HV Generation Site Specific","HV Generation Site Specific no RP Charge",null,"Legal text reference"]
[]
[null,"Description"]
[]
[null,null,null,"This sheet calculates fixed charges (p/MPAN/day) for non half-hourly settled demand"]
[null,null,null,"users (pre-matching) in accordance with Paragraphs 82 to 86. "]
[null,null,null,"The calculations transform capacity elements of the yardstick charge into a fixed charge. As"]
[null,null,null,"explained in, Paragraphs 83 to 84, this calculation differs slightly by customer type."]
[]
[null,"Inputs to fixed charge calculations"]
[]
[null,null,{"$f":"INDEX('Version control'!$H$34:$H$58,MATCH($A$1,'Version control'!$F$34:$F$58,0),1)&\"-A: Volumes (discounted MPANs & maximum load)\"","v":"Section 517-A: Volumes (discounted MPANs & maximum load)"}]
[null,null,null,null,null,null,null,null,">",null,null,null,null,null,null,null,null,null,null,null,null,null,null,null,null,null,"Paragraph 73 & 78"]
[null,null,null,null,"Discounted MPANs",null,"MPANs",null,null,{"$f":"'Volume adjustments'!J103","v":1900944.7731327738},{"$f":"'Volume adjustments'!K103","v":100130.921763869},{"$f":"'Volume adjustments'!L103","v":126260.16198819576},{"$f":"'Volume adjustments'!M103","v":7441},{"$f":"'Volume adjustments'!N103","v":10688.330482751717},{"$f":"'Volume adjustments'!O103","v":235.94699537145465},{"$f":"'Volume adjustments'!P103","v":1279.4477972038226},{"$f":"'Volume adjustments'!Q103","v":4906.9507149127448},{"$f":"'Volume adjustments'!R103","v":167},{"$f":"'Volume adjustments'!S103","v":4},{"$f":"'Volume adjustments'!T103","v":472},{"$f":"'Volume adjustments'!U103","v":0},{"$f":"'Volume adjustments'!V103","v":8},{"$f":"'Volume adjustments'!W103","v":0},{"$f":"'Volume adjustments'!X103","v":255},{"$f":"'Volume adjustments'!Y103","v":0}]
[]
[null,null,null,null,"Maximum load",null,"MW",null,null,{"$f":"'System peak demand'!J200","v":1482.2201033071178},{"$f":"'System peak demand'!K200","v":310.25539511865327},{"$f":"'System peak demand'!L200","v":603.09926192279704},{"$f":"'System peak demand'!M200","v":29.271123921146547},{"$f":"'System peak demand'!N200","v":577.18884698315355},{"$f":"'System peak demand'!O200","v":40.190979829404341},{"$f":"'System peak demand'!P200","v":537.444083952818},{"$f":"'System peak demand'!Q200","v":63.804570784787025},{"$f":"'System peak demand'!R200","v":0},{"$f":"'System peak demand'!S200","v":0},{"$f":"'System peak demand'!T200","v":0},{"$f":"'System peak demand'!U200","v":0},{"$f":"'System peak demand'!V200","v":0},{"$f":"'System peak demand'!W200","v":0},{"$f":"'System peak demand'!X200","v":0},{"$f":"'System peak demand'!Y200","v":0}]
[]
[null,null,{"$f":"INDEX('Version control'!$H$34:$H$58,MATCH($A$1,'Version control'!$F$34:$F$58,0),1)&\"-B: Capacity elements allocated to fixed charges\"","v":"Section 517-B: Capacity elements allocated to fixed charges"}]
[null,null,null,null,null,null,null,null,">",null,null,null,null,null,null,null,null,null,null,null,null,null,null,null,null,null,"Paragraph 73 & 78"]
[null,null,null,null,"Asset costs"]
[null,null,null,null,null,"Transmission exit","p/kVA/day"]
[null,null,null,null,null,"GSPs","p/kVA/day"]
[null,null,null,null,null,"132kV","p/kVA/day",null,null,{"$f":"'Capacity charges'!J264","v":0},{"$f":"'Capacity charges'!K264","v":0},{"$f":"'Capacity charges'!L264","v":0},{"$f":"'Capacity charges'!M264","v":0},{"$f":"'Capacity charges'!N264","v":0},{"$f":"'Capacity charges'!O264","v":0},{"$f":"'Capacity charges'!P264","v":0},{"$f":"'Capacity charges'!Q264","v":0},{"$f":"'Capacity charges'!R264","v":0},{"$f":"'Capacity charges'!S264","v":0},{"$f":"'Capacity charges'!T264","v":0},{"$f":"'Capacity charges'!U264","v":0},{"$f":"'Capacity charges'!V264","v":0},{"$f":"'Capacity charges'!W264","v":0},{"$f":"'Capacity charges'!X264","v":0},{"$f":"'Capacity charges'!Y264","v":0}]
[null,null,null,null,null,"132kV/EHV","p/kVA/day",null,null,{"$f":"'Capacity charges'!J265","v":0},{"$f":"'Capacity charges'!K265","v":0},{"$f":"'Capacity charges'!L265","v":0},{"$f":"'Capacity charges'!M265","v":0},{"$f":"'Capacity charges'!N265","v":0},{"$f":"'Capacity charges'!O265","v":0},{"$f":"'Capacity charges'!P265","v":0},{"$f":"'Capacity charges'!Q265","v":0},{"$f":"'Capacity charges'!R265","v":0},{"$f":"'Capacity charges'!S265","v":0},{"$f":"'Capacity charges'!T265","v":0},{"$f":"'Capacity charges'!U265","v":0},{"$f":"'Capacity charges'!V265","v":0},{"$f":"'Capacity charges'!W265","v":0},{"$f":"'Capacity charges'!X265","v":0},{"$f":"'Capacity charges'!Y265","v":0}]
[null,null,null,null,null,"EHV","p/kVA/day",null,null,{"$f":"'Capacity charges'!J266","v":0},{"$f":"'Capacity charges'!K266","v":0},{"$f":"'Capacity charges'!L266","v":0},{"$f":"'Capacity charges'!M266","v":0},{"$f":"'Capacity charges'!N266","v":0},{"$f":"'Capacity charges'!O266","v":0},{"$f":"'Capacity charges'!P266","v":0},{"$f":"'Capacity charges'!Q266","v":0},{"$f":"'Capacity charges'!R266","v":0},{"$f":"'Capacity charges'!S266","v":0},{"$f":"'Capacity charges'!T266","v":0},{"$f":"'Capacity charges'!U266","v":0},{"$f":"'Capacity charges'!V266","v":0},{"$f":"'Capacity charges'!W266","v":0},{"$f":"'Capacity charges'!X266","v":0},{"$f":"'Capacity charges'!Y266","v":0}]
[null,null,null,null,null,"EHV/HV","p/kVA/day",null,null,{"$f":"'Capacity charges'!J267","v":0},{"$f":"'Capacity charges'!K267","v":0},{"$f":"'Capacity charges'!L267","v":0},{"$f":"'Capacity charges'!M267","v":0},{"$f":"'Capacity charges'!N267","v":0},{"$f":"'Capacity charges'!O267","v":0},{"$f":"'Capacity charges'!P267","v":0},{"$f":"'Capacity charges'!Q267","v":0},{"$f":"'Capacity charges'!R267","v":0},{"$f":"'Capacity charges'!S267","v":0},{"$f":"'Capacity charges'!T267","v":0},{"$f":"'Capacity charges'!U267","v":0},{"$f":"'Capacity charges'!V267","v":0},{"$f":"'Capacity charges'!W267","v":0},{"$f":"'Capacity charges'!X267","v":0},{"$f":"'Capacity charges'!Y267","v":0}]
[null,null,null,null,null,"132kV/HV","p/kVA/day",null,null,{"$f":"'Capacity charges'!J268","v":0},{"$f":"'Capacity charges'!K268","v":0},{"$f":"'Capacity charges'!L268","v":0},{"$f":"'Capacity charges'!M268","v":0},{"$f":"'Capacity charges'!N268","v":0},{"$f":"'Capacity charges'!O268","v":0},{"$f":"'Capacity charges'!P268","v":0},{"$f":"'Capacity charges'!Q268","v":0},{"$f":"'Capacity charges'!R268","v":0},{"$f":"'Capacity charges'!S268","v":0},{"$f":"'Capacity charges'!T268","v":0},{"$f":"'Capacity charges'!U268","v":0},{"$f":"'Capacity charges'!V268","v":0},{"$f":"'Capacity charges'!W268","v":0},{"$f":"'Capacity charges'!X268","v":0},{"$f":"'Capacity charges'!Y268","v":0}]
[null,null,null,null,null,"HV","p/kVA/day",null,null,{"$f":"'Capacity charges'!J269","v":0},{"$f":"'Capacity charges'!K269","v":0},{"$f":"'Capacity charges'!L269","v":0},{"$f":"'Capacity charges'!M269","v":0},{"$f":"'Capacity charges'!N269","v":0},{"$f":"'Capacity charges'!O269","v":0},{"$f":"'Capacity charges'!P269","v":0},{"$f":"'Capacity charges'!Q269","v":0},{"$f":"'Capacity charges'!R269","v":0},{"$f":"'Capacity charges'!S269","v":0},{"$f":"'Capacity charges'!T269","v":0},{"$f":"'Capacity charges'!U269","v":0},{"$f":"'Capacity charges'!V269","v":0},{"$f":"'Capacity charges'!W269","v":0},{"$f":"'Capacity charges'!X269","v":0},{"$f":"'Capacity charges'!Y269","v":0}]
[null,null,null,null,null,"HV/LV","p/kVA/day",null,null,{"$f":"'Capacity charges'!J270","v":0},{"$f":"'Capacity charges'!K270","v":0},{"$f":"'Capacity charges'!L270","v":0},{"$f":"'Capacity charges'!M270","v":0},{"$f":"'Capacity charges'!N270","v":0},{"$f":"'Capacity charges'!O270","v":0},{"$f":"'Capacity charges'!P270","v":0},{"$f":"'Capacity charges'!Q270","v":0},{"$f":"'Capacity charges'!R270","v":0},{"$f":"'Capacity charges'!S270","v":0},{"$f":"'Capacity charges'!T270","v":0},{"$f":"'Capacity charges'!U270","v":0},{"$f":"'Capacity charges'!V270","v":0},{"$f":"'Capacity charges'!W270","v":0},{"$f":"'Capacity charges'!X270","v":0},{"$f":"'Capacity charges'!Y270","v":0}]
[null,null,null,null,null,"LV circuits","p/kVA/day",null,null,{"$f":"'Capacity charges'!J271","v":7.640178367250032E-2},{"$f":"'Capacity charges'!K271","v":0},{"$f":"'Capacity charges'!L271","v":7.640178367250032E-2},{"$f":"'Capacity charges'!M271","v":0},{"$f":"'Capacity charges'!N271","v":0},{"$f":"'Capacity charges'!O271","v":0},{"$f":"'Capacity charges'!P271","v":0},{"$f":"'Capacity charges'!Q271","v":0},{"$f":"'Capacity charges'!R271","v":0},{"$f":"'Capacity charges'!S271","v":0},{"$f":"'Capacity charges'!T271","v":0},{"$f":"'Capacity charges'!U271","v":0},{"$f":"'Capacity charges'!V271","v":0},{"$f":"'Capacity charges'!W271","v":0},{"$f":"'Capacity charges'!X271","v":0},{"$f":"'Capacity charges'!Y271","v":0}]
[null,null,null,null,null,"LV customers","p/kVA/day"]
[null,null,null,null,null,"HV customers","p/kVA/day"]
[]
[null,null,null,null,"Other operating costs"]
[null,null,null,null,null,"Transmission exit","p/kVA/day",null,null,{"$f":"'Capacity charges'!J276","v":0},{"$f":"'Capacity charges'!K276","v":0},{"$f":"'Capacity charges'!L276","v":0},{"$f":"'Capacity charges'!M276","v":0},{"$f":"'Capacity charges'!N276","v":0},{"$f":"'Capacity charges'!O276","v":0},{"$f":"'Capacity charges'!P276","v":0},{"$f":"'Capacity charges'!Q276","v":0},{"$f":"'Capacity charges'!R276","v":0},{"$f":"'Capacity charges'!S276","v":0},{"$f":"'Capacity charges'!T276","v":0},{"$f":"'Capacity charges'!U276","v":0},{"$f":"'Capacity charges'!V276","v":0},{"$f":"'Capacity charges'!W276","v":0},{"$f":"'Capacity charges'!X276","v":0},{"$f":"'Capacity charges'!Y276","v":0}]
[null,null,null,null,null,"GSPs","p/kVA/day",null,null,{"$f":"'Capacity charges'!J277","v":0},{"$f":"'Capacity charges'!K277","v":0},{"$f":"'Capacity charges'!L277","v":0},{"$f":"'Capacity charges'!M277","v":0},{"$f":"'Capacity charges'!N277","v":0},{"$f":"'Capacity charges'!O277","v":0},{"$f":"'Capacity charges'!P277","v":0},{"$f":"'Capacity charges'!Q277","v":0},{"$f":"'Capacity charges'!R277","v":0},{"$f":"'Capacity charges'!S277","v":0},{"$f":"'Capacity charges'!T277","v":0},{"$f":"'Capacity charges'!U277","v":0},{"$f":"'Capacity charges'!V277","v":0},{"$f":"'Capacity charges'!W277","v":0},{"$f":"'Capacity charges'!X277","v":0},{"$f":"'Capacity charges'!Y277","v":0}]
[null,null,null,null,null,"132kV","p/kVA/day",null,null,{"$f":"'Capacity charges'!J278","v":0},{"$f":"'Capacity charges'!K278","v":0},{"$f":"'Capacity charges'!L278","v":0},{"$f":"'Capacity charges'!M278","v":0},{"$f":"'Capacity charges'!N278","v":0},{"$f":"'Capacity charges'!O278","v":0},{"$f":"'Capacity charges'!P278","v":0},{"$f":"'Capacity charges'!Q278","v":0},{"$f":"'Capacity charges'!R278","v":0},{"$f":"'Capacity charges'!S278","v":0},{"$f":"'Capacity charges'!T278","v":0},{"$f":"'Capacity charges'!U278","v":0},{"$f":"'Capacity charges'!V278","v":0},{"$f":"'Capacity charges'!W278","v":0},{"$f":"'Capacity charges'!X278","v":0},{"$f":"'Capacity charges'!Y278","v":0}]
[null,null,null,null,null,"132kV/EHV","p/kVA/day",null,null,{"$f":"'Capacity charges'!J279","v":0},{"$f":"'Capacity charges'!K279","v":0},{"$f":"'Capacity charges'!L279","v":0},{"$f":"'Capacity charges'!M279","v":0},{"$f":"'Capacity charges'!N279","v":0},{"$f":"'Capacity charges'!O279","v":0},{"$f":"'Capacity charges'!P279","v":0},{"$f":"'Capacity charges'!Q279","v":0},{"$f":"'Capacity charges'!R279","v":0},{"$f":"'Capacity charges'!S279","v":0},{"$f":"'Capacity charges'!T279","v":0},{"$f":"'Capacity charges'!U279","v":0},{"$f":"'Capacity charges'!V279","v":0},{"$f":"'Capacity charges'!W279","v":0},{"$f":"'Capacity charges'!X279","v":0},{"$f":"'Capacity charges'!Y279","v":0}]
[null,null,null,null,null,"EHV","p/kVA/day",null,null,{"$f":"'Capacity charges'!J280","v":0},{"$f":"'Capacity charges'!K280","v":0},{"$f":"'Capacity charges'!L280","v":0},{"$f":"'Capacity charges'!M280","v":0},{"$f":"'Capacity charges'!N280","v":0},{"$f":"'Capacity charges'!O280","v":0},{"$f":"'Capacity charges'!P280","v":0},{"$f":"'Capacity charges'!Q280","v":0},{"$f":"'Capacity charges'!R280","v":0},{"$f":"'Capacity charges'!S280","v":0},{"$f":"'Capacity charges'!T280","v":0},{"$f":"'Capacity charges'!U280","v":0},{"$f":"'Capacity charges'!V280","v":0},{"$f":"'Capacity charges'!W280","v":0},{"$f":"'Capacity charges'!X280","v":0},{"$f":"'Capacity charges'!Y280","v":0}]
[null,null,null,null,null,"EHV/HV","p/kVA/day",null,null,{"$f":"'Capacity charges'!J281","v":0},{"$f":"'Capacity charges'!K281","v":0},{"$f":"'Capacity charges'!L281","v":0},{"$f":"'Capacity charges'!M281","v":0},{"$f":"'Capacity charges'!N281","v":0},{"$f":"'Capacity charges'!O281","v":0},{"$f":"'Capacity charges'!P281","v":0},{"$f":"'Capacity charges'!Q281","v":0},{"$f":"'Capacity charges'!R281","v":0},{"$f":"'Capacity charges'!S281","v":0},{"$f":"'Capacity charges'!T281","v":0},{"$f":"'Capacity charges'!U281","v":0},{"$f":"'Capacity charges'!V281","v":0},{"$f":"'Capacity charges'!W281","v":0},{"$f":"'Capacity charges'!X281","v":0},{"$f":"'Capacity charges'!Y281","v":0}]
[null,null,null,null,null,"132kV/HV","p/kVA/day",null,null,{"$f":"'Capacity charges'!J282","v":0},{"$f":"'Capacity charges'!K282","v":0},{"$f":"'Capacity charges'!L282","v":0},{"$f":"'Capacity charges'!M282","v":0},{"$f":"'Capacity charges'!N282","v":0},{"$f":"'Capacity charges'!O282","v":0},{"$f":"'Capacity charges'!P282","v":0},{"$f":"'Capacity charges'!Q282","v":0},{"$f":"'Capacity charges'!R282","v":0},{"$f":"'Capacity charges'!S282","v":0},{"$f":"'Capacity charges'!T282","v":0},{"$f":"'Capacity charges'!U282","v":0},{"$f":"'Capacity charges'!V282","v":0},{"$f":"'Capacity charges'!W282","v":0},{"$f":"'Capacity charges'!X282","v":0},{"$f":"'Capacity charges'!Y282","v":0}]
[null,null,null,null,null,"HV","p/kVA/day",null,null,{"$f":"'Capacity charges'!J283","v":0},{"$f":"'Capacity charges'!K283","v":0},{"$f":"'Capacity charges'!L283","v":0},{"$f":"'Capacity charges'!M283","v":0},{"$f":"'Capacity charges'!N283","v":0},{"$f":"'Capacity charges'!O283","v":0},{"$f":"'Capacity charges'!P283","v":0},{"$f":"'Capacity charges'!Q283","v":0},{"$f":"'Capacity charges'!R283","v":0},{"$f":"'Capacity charges'!S283","v":0},{"$f":"'Capacity charges'!T283","v":0},{"$f":"'Capacity charges'!U283","v":0},{"$f":"'Capacity charges'!V283","v":0},{"$f":"'Capacity charges'!W283","v":0},{"$f":"'Capacity charges'!X283","v":0},{"$f":"'Capacity charges'!Y283","v":0}]
[null,null,null,null,null,"HV/LV","p/kVA/day",null,null,{"$f":"'Capacity charges'!J284","v":0},{"$f":"'Capacity charges'!K284","v":0},{"$f":"'Capacity charges'!L284","v":0},{"$f":"'Capacity charges'!M284","v":0},{"$f":"'Capacity charges'!N284","v":0},{"$f":"'Capacity charges'!O284","v":0},{"$f":"'Capacity charges'!P284","v":0},{"$f":"'Capacity charges'!Q284","v":0},{"$f":"'Capacity charges'!R284","v":0},{"$f":"'Capacity charges'!S284","v":0},{"$f":"'Capacity charges'!T284","v":0},{"$f":"'Capacity charges'!U284","v":0},{"$f":"'Capacity charges'!V284","v":0},{"$f":"'Capacity charges'!W284","v":0},{"$f":"'Capacity charges'!X284","v":0},{"$f":"'Capacity charges'!Y284","v":0}]
[null,null,null,null,null,"LV circuits","p/kVA/day",null,null,{"$f":"'Capacity charges'!J285","v":0.74020135576371915},{"$f":"'Capacity charges'!K285","v":0},{"$f":"'Capacity charges'!L285","v":0.74020135576371915},{"$f":"'Capacity charges'!M285","v":0},{"$f":"'Capacity charges'!N285","v":0},{"$f":"'Capacity charges'!O285","v":0},{"$f":"'Capacity charges'!P285","v":0},{"$f":"'Capacity charges'!Q285","v":0},{"$f":"'Capacity charges'!R285","v":0},{"$f":"'Capacity charges'!S285","v":0},{"$f":"'Capacity charges'!T285","v":0},{"$f":"'Capacity charges'!U285","v":0},{"$f":"'Capacity charges'!V285","v":0},{"$f":"'Capacity charges'!W285","v":0},{"$f":"'Capacity charges'!X285","v":0},{"$f":"'Capacity charges'!Y285","v":0}]
[null,null,null,null,null,"LV customers","p/kVA/day"]
[null,null,null,null,null,"HV customers","p/kVA/day"]
[]
[null,null,{"$f":"INDEX('Version control'!$H$34:$H$58,MATCH($A$1,'Version control'!$F$34:$F$58,0),1)&\"-C: Service model costs allocated to fixed charges\"","v":"Section 517-C: Service model costs allocated to fixed charges"}]
[]
[null,null,null,null,"Other operating costs",null,null,null,">",null,null,null,null,null,null,null,null,null,null,null,null,null,null,null,null,null,"Paragraphs 85 & 86"]
[null,null,null,null,null,"LV customers","p/MPAN/day",null,null,{"$f":"'Service model charges'!J42","v":3.6874179557529576},{"$f":"'Service model charges'!K42","v":0},{"$f":"'Service model charges'!L42","v":4.9668358088147135},{"$f":"'Service model charges'!M42","v":0},{"$f":"'Service model charges'!N42","v":23.235516904135658},{"$f":"'Service model charges'!O42","v":8.2007706720478808},{"$f":"'Service model charges'!P42","v":0},null,{"$f":"'Service model charges'!R42","v":0},{"$f":"'Service model charges'!S42","v":0},{"$f":"'Service model charges'!T42","v":0},{"$f":"'Service model charges'!U42","v":0},{"$f":"'Service model charges'!V42","v":0},{"$f":"'Service model charges'!W42","v":0},{"$f":"'Service model charges'!X42","v":0},{"$f":"'Service model charges'!Y42","v":0}]
[null,null,null,null,null,"HV customers","p/MPAN/day",null,null,{"$f":"'Service model charges'!J43","v":0},{"$f":"'Service model charges'!K43","v":0},{"$f":"'Service model charges'!L43","v":0},{"$f":"'Service model charges'!M43","v":0},{"$f":"'Service model charges'!N43","v":0},{"$f":"'Service model charges'!O43","v":0},{"$f":"'Service model charges'!P43","v":124.16460347195436},null,{"$f":"'Service model charges'!R43","v":0},{"$f":"'Service model charges'!S43","v":0},{"$f":"'Service model charges'!T43","v":0},{"$f":"'Service model charges'!U43","v":0},{"$f":"'Service model charges'!V43","v":0},{"$f":"'Service model charges'!W43","v":0},{"$f":"'Service model charges'!X43","v":90.667330037272208},{"$f":"'Service model charges'!Y43","v":90.667330037272208}]
[]
[null,null,{"$f":"INDEX('Version control'!$H$34:$H$58,MATCH($A$1,'Version control'!$F$34:$F$58,0),1)&\"-D: Flags\"","v":"Section 517-D: Flags"}]
[]
[null,null,null,"This table flags user categories to be summed together for the sake of setting a common fixed "]
[null,null,null,"charge, as identified in Schedule 16, Paragraph 83."]
[]
[null,null,null,null,"Aggregation group identified",null,"integer",null,">",{"$f":"'Fixed inputs'!J145","v":1},{"$f":"'Fixed inputs'!K145","v":0},{"$f":"'Fixed inputs'!L145","v":1},{"$f":"'Fixed inputs'!M145","v":0},{"$f":"'Fixed inputs'!N145","v":0},{"$f":"'Fixed inputs'!O145","v":0},{"$f":"'Fixed inputs'!P145","v":0},{"$f":"'Fixed inputs'!Q145","v":0},{"$f":"'Fixed inputs'!R145","v":0},{"$f":"'Fixed inputs'!S145","v":0},{"$f":"'Fixed inputs'!T145","v":0},{"$f":"'Fixed inputs'!U145","v":0},{"$f":"'Fixed inputs'!V145","v":0},{"$f":"'Fixed inputs'!W145","v":0},{"$f":"'Fixed inputs'!X145","v":0},{"$f":"'Fixed inputs'!Y145","v":0},null,"Paragraphs 83 & 84"]
[]
[null,"Calculation of fixed charges"]
[]
[null,null,{"$f":"INDEX('Version control'!$H$34:$H$58,MATCH($A$1,'Version control'!$F$34:$F$58,0),1)&\"-E: Revenue allocated to fixed charges\"","v":"Section 517-E: Revenue allocated to fixed charges"}]
[null,null,null,null,null,null,null,null,">",null,null,null,null,null,null,null,null,null,null,null,null,null,null,null,null,null,"Paragraphs 83 & 84"]
[null,null,null,null,"Asset costs"]
[null,null,null,null,null,"Transmission exit","pence per day"]
[null,null,null,null,null,"GSPs","pence per day"]
[null,null,null,null,null,"132kV","pence per day",null,null,{"$f":"J$20 * J27 * thousand / PowerFactor","v":0},0,{"$f":"L$20 * L27 * thousand / PowerFactor","v":0},0,{"$f":"N$20 * N27 * thousand / PowerFactor","v":0},0,0,{"$f":"Q$20 * Q27 * thousand / PowerFactor","v":0},0,0,{"$f":"T$20 * T27 * thousand / PowerFactor","v":0},0,{"$f":"V$20 * V27 * thousand / PowerFactor","v":0},0,{"$f":"X$20 * X27 * thousand / PowerFactor","v":0},0]
[null,null,null,null,null,"132kV/EHV","pence per day",null,null,{"$f":"J$20 * J28 * thousand / PowerFactor","v":0},0,{"$f":"L$20 * L28 * thousand / PowerFactor","v":0},0,{"$f":"N$20 * N28 * thousand / PowerFactor","v":0},0,0,{"$f":"Q$20 * Q28 * thousand / PowerFactor","v":0},0,0,{"$f":"T$20 * T28 * thousand / PowerFactor","v":0},0,{"$f":"V$20 * V28 * thousand / PowerFactor","v":0},0,{"$f":"X$20 * X28 * thousand / PowerFactor","v":0},0]
[null,null,null,null,null,"EHV","pence per day",null,null,{"$f":"J$20 * J29 * thousand / PowerFactor","v":0},0,{"$f":"L$20 * L29 * thousand / PowerFactor","v":0},0,{"$f":"N$20 * N29 * thousand / PowerFactor","v":0},0,0,{"$f":"Q$20 * Q29 * thousand / PowerFactor","v":0},0,0,{"$f":"T$20 * T29 * thousand / PowerFactor","v":0},0,{"$f":"V$20 * V29 * thousand / PowerFactor","v":0},0,{"$f":"X$20 * X29 * thousand / PowerFactor","v":0},0]
[null,null,null,null,null,"EHV/HV","pence per day",null,null,{"$f":"J$20 * J30 * thousand / PowerFactor","v":0},0,{"$f":"L$20 * L30 * thousand / PowerFactor","v":0},0,{"$f":"N$20 * N30 * thousand / PowerFactor","v":0},0,0,{"$f":"Q$20 * Q30 * thousand / PowerFactor","v":0},0,0,{"$f":"T$20 * T30 * thousand / PowerFactor","v":0},0,{"$f":"V$20 * V30 * thousand / PowerFactor","v":0},0,{"$f":"X$20 * X30 * thousand / PowerFactor","v":0},0]
[null,null,null,null,null,"132kV/HV","pence per day",null,null,{"$f":"J$20 * J31 * thousand / PowerFactor","v":0},0,{"$f":"L$20 * L31 * thousand / PowerFactor","v":0},0,{"$f":"N$20 * N31 * thousand / PowerFactor","v":0},0,0,{"$f":"Q$20 * Q31 * thousand / PowerFactor","v":0},0,0,{"$f":"T$20 * T31 * thousand / PowerFactor","v":0},0,{"$f":"V$20 * V31 * thousand / PowerFactor","v":0},0,{"$f":"X$20 * X31 * thousand / PowerFactor","v":0},0]
[null,null,null,null,null,"HV","pence per day",null,null,{"$f":"J$20 * J32 * thousand / PowerFactor","v":0},0,{"$f":"L$20 * L32 * thousand / PowerFactor","v":0},0,{"$f":"N$20 * N32 * thousand / PowerFactor","v":0},0,0,{"$f":"Q$20 * Q32 * thousand / PowerFactor","v":0},0,0,{"$f":"T$20 * T32 * thousand / PowerFactor","v":0},0,{"$f":"V$20 * V32 * thousand / PowerFactor","v":0},0,{"$f":"X$20 * X32 * thousand / PowerFactor","v":0},0]
[null,null,null,null,null,"HV/LV","pence per day",null,null,{"$f":"J$20 * J33 * thousand / PowerFactor","v":0},0,{"$f":"L$20 * L33 * thousand / PowerFactor","v":0},0,{"$f":"N$20 * N33 * thousand / PowerFactor","v":0},0,0,{"$f":"Q$20 * Q33 * thousand / PowerFactor","v":0},0,0,{"$f":"T$20 * T33 * thousand / PowerFactor","v":0},0,{"$f":"V$20 * V33 * thousand / PowerFactor","v":0},0,{"$f":"X$20 * X33 * thousand / PowerFactor","v":0},0]
[null,null,null,null,null,"LV circuits","pence per day",null,null,{"$f":"J$20 * J34 * thousand / PowerFactor","v":119204.48388200157},0,{"$f":"L$20 * L34 * thousand / PowerFactor","v":48503.009834179102},0,{"$f":"N$20 * N34 * thousand / PowerFactor","v":0},0,0,{"$f":"Q$20 * Q34 * thousand / PowerFactor","v":0},0,0,{"$f":"T$20 * T34 * thousand / PowerFactor","v":0},0,{"$f":"V$20 * V34 * thousand / PowerFactor","v":0},0,{"$f":"X$20 * X34 * thousand / PowerFactor","v":0},0]
[null,null,null,null,null,"LV customers","pence per day"]
[null,null,null,null,null,"HV customers","pence per day"]
[]
[null,null,null,null,"Other operating costs"]
[null,null,null,null,null,"Transmission exit","pence per day",null,null,{"$f":"J$20 * J39 * thousand / PowerFactor","v":0},0,{"$f":"L$20 * L39 * thousand / PowerFactor","v":0},0,{"$f":"N$20 * N39 * thousand / PowerFactor","v":0},0,0,{"$f":"Q$20 * Q39 * thousand / PowerFactor","v":0},0,0,{"$f":"T$20 * T39 * thousand / PowerFactor","v":0},0,{"$f":"V$20 * V39 * thousand / PowerFactor","v":0},0,{"$f":"X$20 * X39 * thousand / PowerFactor","v":0},0]
[null,null,null,null,null,"GSPs","pence per day",null,null,{"$f":"J$20 * J40 * thousand / PowerFactor","v":0},0,{"$f":"L$20 * L40 * thousand / PowerFactor","v":0},0,{"$f":"N$20 * N40 * thousand / PowerFactor","v":0},0,0,{"$f":"Q$20 * Q40 * thousand / PowerFactor","v":0},0,0,{"$f":"T$20 * T40 * thousand / PowerFactor","v":0},0,{"$f":"V$20 * V40 * thousand / PowerFactor","v":0},0,{"$f":"X$20 * X40 * thousand / PowerFactor","v":0},0]
[null,null,null,null,null,"132kV","pence per day",null,null,{"$f":"J$20 * J41 * thousand / PowerFactor","v":0},0,{"$f":"L$20 * L41 * thousand / PowerFactor","v":0},0,{"$f":"N$20 * N41 * thousand / PowerFactor","v":0},0,0,{"$f":"Q$20 * Q41 * thousand / PowerFactor","v":0},0,0,{"$f":"T$20 * T41 * thousand / PowerFactor","v":0},0,{"$f":"V$20 * V41 * thousand / PowerFactor","v":0},0,{"$f":"X$20 * X41 * thousand / PowerFactor","v":0},0]
[null,null,null,null,null,"132kV/EHV","pence per day",null,null,{"$f":"J$20 * J42 * thousand / PowerFactor","v":0},0,{"$f":"L$20 * L42 * thousand / PowerFactor","v":0},0,{"$f":"N$20 * N42 * thousand / PowerFactor","v":0},0,0,{"$f":"Q$20 * Q42 * thousand / PowerFactor","v":0},0,0,{"$f":"T$20 * T42 * thousand / PowerFactor","v":0},0,{"$f":"V$20 * V42 * thousand / PowerFactor","v":0},0,{"$f":"X$20 * X42 * thousand / PowerFactor","v":0},0]
[null,null,null,null,null,"EHV","pence per day",null,null,{"$f":"J$20 * J43 * thousand / PowerFactor","v":0},0,{"$f":"L$20 * L43 * thousand / PowerFactor","v":0},0,{"$f":"N$20 * N43 * thousand / PowerFactor","v":0},0,0,{"$f":"Q$20 * Q43 * thousand / PowerFactor","v":0},0,0,{"$f":"T$20 * T43 * thousand / PowerFactor","v":0},0,{"$f":"V$20 * V43 * thousand / PowerFactor","v":0},0,{"$f":"X$20 * X43 * thousand / PowerFactor","v":0},0]
[null,null,null,null,null,"EHV/HV","pence per day",null,null,{"$f":"J$20 * J44 * thousand / PowerFactor","v":0},0,{"$f":"L$20 * L44 * thousand / PowerFactor","v":0},0,{"$f":"N$20 * N44 * thousand / PowerFactor","v":0},0,0,{"$f":"Q$20 * Q44 * thousand / PowerFactor","v":0},0,0,{"$f":"T$20 * T44 * thousand / PowerFactor","v":0},0,{"$f":"V$20 * V44 * thousand / PowerFactor","v":0},0,{"$f":"X$20 * X44 * thousand / PowerFactor","v":0},0]
[null,null,null,null,null,"132kV/HV","pence per day",null,null,{"$f":"J$20 * J45 * thousand / PowerFactor","v":0},0,{"$f":"L$20 * L45 * thousand / PowerFactor","v":0},0,{"$f":"N$20 * N45 * thousand / PowerFactor","v":0},0,0,{"$f":"Q$20 * Q45 * thousand / PowerFactor","v":0},0,0,{"$f":"T$20 * T45 * thousand / PowerFactor","v":0},0,{"$f":"V$20 * V45 * thousand / PowerFactor","v":0},0,{"$f":"X$20 * X45 * thousand / PowerFactor","v":0},0]
[null,null,null,null,null,"HV","pence per day",null,null,{"$f":"J$20 * J46 * thousand / PowerFactor","v":0},0,{"$f":"L$20 * L46 * thousand / PowerFactor","v":0},0,{"$f":"N$20 * N46 * thousand / PowerFactor","v":0},0,0,{"$f":"Q$20 * Q46 * thousand / PowerFactor","v":0},0,0,{"$f":"T$20 * T46 * thousand / PowerFactor","v":0},0,{"$f":"V$20 * V46 * thousand / PowerFactor","v":0},0,{"$f":"X$20 * X46 * thousand / PowerFactor","v":0},0]
[null,null,null,null,null,"HV/LV","pence per day",null,null,{"$f":"J$20 * J47 * thousand / PowerFactor","v":0},0,{"$f":"L$20 * L47 * thousand / PowerFactor","v":0},0,{"$f":"N$20 * N47 * thousand / PowerFactor","v":0},0,0,{"$f":"Q$20 * Q47 * thousand / PowerFactor","v":0},0,0,{"$f":"T$20 * T47 * thousand / PowerFactor","v":0},0,{"$f":"V$20 * V47 * thousand / PowerFactor","v":0},0,{"$f":"X$20 * X47 * thousand / PowerFactor","v":0},0]
[null,null,null,null,null,"LV circuits","pence per day",null,null,{"$f":"J$20 * J48 * thousand / PowerFactor","v":1154885.6105349143},0,{"$f":"L$20 * L48 * thousand / PowerFactor","v":469910.41193195025},0,{"$f":"N$20 * N48 * thousand / PowerFactor","v":0},0,0,{"$f":"Q$20 * Q48 * thousand / PowerFactor","v":0},0,0,{"$f":"T$20 * T48 * thousand / PowerFactor","v":0},0,{"$f":"V$20 * V48 * thousand / PowerFactor","v":0},0,{"$f":"X$20 * X48 * thousand / PowerFactor","v":0},0]
[null,null,null,null,null,"LV customers","pence per day"]
[null,null,null,null,null,"HV customers","pence per day"]
[]
[null,null,{"$f":"INDEX('Version control'!$H$34:$H$58,MATCH($A$1,'Version control'!$F$34:$F$58,0),1)&\"-F: Revenue allocated to fixed charges, by aggregation group\"","v":"Section 517-F: Revenue allocated to fixed charges, by aggregation group"}]
[null,null,null,null,null,null,null,null,">",null,null,null,null,null,null,null,null,null,null,null,null,null,null,null,null,null,"Paragraphs 83 & 84"]
[null,null,null,null,"Asset costs"]
[null,null,null,null,null,"Transmission exit","pence per day"]
[null,null,null,null,null,"GSPs","pence per day"]
[null,null,null,null,null,"132kV","pence per day",null,null,{"$f":"SUMIFS($J72:$Y72,$J$63:$Y$63,J$63)","v":0},0,0,0,0,0,0,0,0,0,0,0,0,0,0,0]
[null,null,null,null,null,"132kV/EHV","pence per day",null,null,0,0,0,0,0,0,0,0,0,0,0,0,0,0,0,0]
[null,null,null,null,null,"EHV","pence per day",null,null,0,0,0,0,0,0,0,0,0,0,0,0,0,0,0,0]
[null,null,null,null,null,"EHV/HV","pence per day",null,null,0,0,0,0,0,0,0,0,0,0,0,0,0,0,0,0]
[null,null,null,null,null,"132kV/HV","pence per day",null,null,0,0,0,0,0,0,0,0,0,0,0,0,0,0,0,0]
[null,null,null,null,null,"HV","pence per day",null,null,0,0,0,0,0,0,0,0,0,0,0,0,0,0,0,0]
[null,null,null,null,null,"HV/LV","pence per day",null,null,0,0,0,0,0,0,0,0,0,0,0,0,0,0,0,0]
[null,null,null,null,null,"LV circuits","pence per day",null,null,167707.49371618067,0,167707.49371618067,0,0,0,0,0,0,0,0,0,0,0,0,0]
[null,null,null,null,null,"LV customers","pence per day"]
[null,null,null,null,null,"HV customers","pence per day"]
[]
[null,null,null,null,"Other operating costs"]
[null,null,null,null,null,"Transmission exit","pence per day",null,null,{"$f":"SUMIFS($J84:$Y84,$J$63:$Y$63,J$63)","v":0},0,0,0,0,0,0,0,0,0,0,0,0,0,0,0]
[null,null,null,null,null,"GSPs","pence per day",null,null,0,0,0,0,0,0,0,0,0,0,0,0,0,0,0,0]
[null,null,null,null,null,"132kV","pence per day",null,null,0,0,0,0,0,0,0,0,0,0,0,0,0,0,0,0]
[null,null,null,null,null,"132kV/EHV","pence per day",null,null,0,0,0,0,0,0,0,0,0,0,0,0,0,0,0,0]
[null,null,null,null,null,"EHV","pence per day",null,null,0,0,0,0,0,0,0,0,0,0,0,0,0,0,0,0]
[null,null,null,null,null,"EHV/HV","pence per day",null,null,0,0,0,0,0,0,0,0,0,0,0,0,0,0,0,0]
[null,null,null,null,null,"132kV/HV","pence per day",null,null,0,0,0,0,0,0,0,0,0,0,0,0,0,0,0,0]
[null,null,null,null,null,"HV","pence per day",null,null,0,0,0,0,0,0,0,0,0,0,0,0,0,0,0,0]
[null,null,null,null,null,"HV/LV","pence per day",null,null,0,0,0,0,0,0,0,0,0,0,0,0,0,0,0,0]
[null,null,null,null,null,"LV circuits","pence per day",null,null,1624796.0224668644,0,1624796.0224668644,0,0,0,0,0,0,0,0,0,0,0,0,0]
[null,null,null,null,null,"LV customers","pence per day"]
[null,null,null,null,null,"HV customers","pence per day"]
[]
[null,null,{"$f":"INDEX('Version control'!$H$34:$H$58,MATCH($A$1,'Version control'!$F$34:$F$58,0),1)&\"-G: Fixed charges, by network level\"","v":"Section 517-G: Fixed charges, by network level"}]
[]
[null,null,null,null,"Total MPANs by aggregation group",null,"MPANs",null,null,{"$f":"SUMIFS($J$18:$Y$18,$J$63:$Y$63,J63)","v":2027204.9351209695},125588.59775410875,2027204.9351209695,125588.59775410875,125588.59775410875,125588.59775410875,125588.59775410875,125588.59775410875,125588.59775410875,125588.59775410875,125588.59775410875,125588.59775410875,125588.59775410875,125588.59775410875,125588.59775410875,125588.59775410875]
[]
[null,null,null,null,"Asset costs",null,null,null,">",null,null,null,null,null,null,null,null,null,null,null,null,null,null,null,null,null,"Paragraphs 83 & 84"]
[null,null,null,null,null,"Transmission exit","p/MPAN/day",null,null,{"$f":"IF(J$129 = 0, 0, J100 / J$129)","v":0},0,0,0,0,0,0,0,0,0,0,0,0,0,0,0]
[null,null,null,null,null,"GSPs","p/MPAN/day",null,null,0,0,0,0,0,0,0,0,0,0,0,0,0,0,0,0]
[null,null,null,null,null,"132kV","p/MPAN/day",null,null,0,0,0,0,0,0,0,0,0,0,0,0,0,0,0,0]
[null,null,null,null,null,"132kV/EHV","p/MPAN/day",null,null,0,0,0,0,0,0,0,0,0,0,0,0,0,0,0,0]
[null,null,null,null,null,"EHV","p/MPAN/day",null,null,0,0,0,0,0,0,0,0,0,0,0,0,0,0,0,0]
[null,null,null,null,null,"EHV/HV","p/MPAN/day",null,null,0,0,0,0,0,0,0,0,0,0,0,0,0,0,0,0]
[null,null,null,null,null,"132kV/HV","p/MPAN/day",null,null,0,0,0,0,0,0,0,0,0,0,0,0,0,0,0,0]
[null,null,null,null,null,"HV","p/MPAN/day",null,null,0,0,0,0,0,0,0,0,0,0,0,0,0,0,0,0]
[null,null,null,null,null,"HV/LV","p/MPAN/day",null,null,0,0,0,0,0,0,0,0,0,0,0,0,0,0,0,0]
[null,null,null,null,null,"LV circuits","p/MPAN/day",null,null,8.2728435991190521E-2,0,8.2728435991190521E-2,0,0,0,0,0,0,0,0,0,0,0,0,0]
[null,null,null,null,null,"LV customers","p/MPAN/day"]
[null,null,null,null,null,"HV customers","p/MPAN/day"]
[]
[null,null,null,null,"Other operating costs"]
[null,null,null,null,null,"Transmission exit","p/MPAN/day",null,null,{"$f":"IF(J$129 = 0, 0, J114 / J$129)","v":0},0,0,0,0,0,0,0,0,0,0,0,0,0,0,0]
[null,null,null,null,null,"GSPs","p/MPAN/day",null,null,0,0,0,0,0,0,0,0,0,0,0,0,0,0,0,0]
[null,null,null,null,null,"132kV","p/MPAN/day",null,null,0,0,0,0,0,0,0,0,0,0,0,0,0,0,0,0]
[null,null,null,null,null,"132kV/EHV","p/MPAN/day",null,null,0,0,0,0,0,0,0,0,0,0,0,0,0,0,0,0]
[null,null,null,null,null,"EHV","p/MPAN/day",null,null,0,0,0,0,0,0,0,0,0,0,0,0,0,0,0,0]
[null,null,null,null,null,"EHV/HV","p/MPAN/day",null,null,0,0,0,0,0,0,0,0,0,0,0,0,0,0,0,0]
[null,null,null,null,null,"132kV/HV","p/MPAN/day",null,null,0,0,0,0,0,0,0,0,0,0,0,0,0,0,0,0]
[null,null,null,null,null,"HV","p/MPAN/day",null,null,0,0,0,0,0,0,0,0,0,0,0,0,0,0,0,0]
[null,null,null,null,null,"HV/LV","p/MPAN/day",null,null,0,0,0,0,0,0,0,0,0,0,0,0,0,0,0,0]
[null,null,null,null,null,"LV circuits","p/MPAN/day",null,null,0.80149569208201832,0,0.80149569208201832,0,0,0,0,0,0,0,0,0,0,0,0,0]
[null,null,null,null,null,"LV customers","p/MPAN/day",null,null,{"$f":"J55","v":3.6874179557529576},0,4.9668358088147135,0,23.235516904135658,8.2007706720478808,0,0,0,0,0,0,0,0,0,0]
[null,null,null,null,null,"HV customers","p/MPAN/day",null,null,0,0,0,0,0,0,124.16460347195436,0,0,0,0,0,0,0,90.667330037272208,90.667330037272208]
[]
[null,null,{"$f":"INDEX('Version control'!$H$34:$H$58,MATCH($A$1,'Version control'!$F$34:$F$58,0),1)&\"-H: Aggregated fixed charges\"","v":"Section 517-H: Aggregated fixed charges"}]
[]
[null,null,null,null,"Fixed charge",null,"p/MPAN/day",null,null,{"$f":"SUM(J132:J143,J146:J157)","v":4.5716420838261662},0,5.8510599368879221,0,23.235516904135658,8.2007706720478808,124.16460347195436,0,0,0,0,0,0,0,90.667330037272208,{"$f":"SUM(Y132:Y143,Y146:Y157)","v":90.667330037272208}]
[]
[null,"Checks"]
[]
[null,null,null,null,"Check for error values",null,"number of issues",{"$f":"SUM(IF(ISERROR(H18:Y161), 1))","v":0}]
[]
[null,"End of sheet"]

{"sheet":"Revenue matching","index":31,"n_rows":164,"n_cols":59,"rows_kept":164,"cut":false,"hidden":false,"merged":[]}
[{"$f":"MID(CELL(\"filename\",A1),FIND(\"]\",CELL(\"filename\",A1))+1,255)","v":"Revenue matching"}]
[{"$f":"Cover!D21&\" - \"&Cover!D23","v":"SP Distribution - One"}]
[{"$f":"Cover!D2&\" - \"&Cover!D8&\" v\"&Cover!D10&\" - \"&Cover!D19","v":"ARP model - Release for charge setting v5 - 2021/22"}]
[{"$f":"H162 & IF(H162 = 1, \" issue\", \" issues\") &\" identified in checks on this sheet\"","v":"0 issues identified in checks on this sheet"}]
[null,"Click here to return to model map",null,null,null,null,"Units","Constants",null,"Domestic Aggregated","Domestic Aggregated (Related MPAN)","Non-Domestic Aggregated","Non-Domestic Aggregated (Related MPAN)","LV Site Specific","LV Sub Site Specific","HV Site Specific","Unmetered Supplies","LV Generation Aggregated","LV Sub Generation Aggregated","LV Generation Site Specific","LV Generation Site Specific no RP Charge","LV Sub Generation Site Specific","LV Sub Generation Site Specific no RP Charge","HV Generation Site Specific","HV Generation Site Specific no RP Charge",null,null,null,null,null,null,null,null,null,null,null,null,null,null,null,null,null,null,null,null,null,null,null,null,null,null,null,null,null,null,null,null,null,"Legal text reference"]
[]
[null,"Description"]
[]
[null,null,null,"This sheet adjusts unit charges for demand only, such that expected revenue to be collected "]
[null,null,null,"through the CDCM matches allowed revenue determined through the company's price control."]
[null,null,null,"This is done by applying an algorithm that complies with Paragraphs 89-95."]
[]
[null,"Pre-matching net revenue calculations"]
[]
[null,null,{"$f":"INDEX('Version control'!$H$34:$H$58,MATCH($A$1,'Version control'!$F$34:$F$58,0),1)&\"-A: Inputs to revenue matching\"","v":"Section 518-A: Inputs to revenue matching"}]
[]
[null,null,null,"Brings in charges, volumes and revenues"]
[]
[null,null,null,null,"Summary of charges before revenue matching"]
[null,null,null,null,null,"Unit rate 1","p/kWh",null,null,{"$f":"'Unit rate charges'!J217","v":9.0075798509575993},{"$f":"'Unit rate charges'!K217","v":9.0075798509575993},{"$f":"'Unit rate charges'!L217","v":10.462349584574492},{"$f":"'Unit rate charges'!M217","v":10.462349584574492},{"$f":"'Unit rate charges'!N217","v":7.0335580755778464},{"$f":"'Unit rate charges'!O217","v":4.1620061131966093},{"$f":"'Unit rate charges'!P217","v":3.1534185792984371},{"$f":"'Unit rate charges'!Q217","v":21.581103155032686},{"$f":"'Unit rate charges'!R217","v":-6.4413635387668471},{"$f":"'Unit rate charges'!S217","v":-5.6891199709087141},{"$f":"'Unit rate charges'!T217","v":-6.4413635387668471},{"$f":"'Unit rate charges'!U217","v":-6.4413635387668471},{"$f":"'Unit rate charges'!V217","v":-5.6891199709087141},{"$f":"'Unit rate charges'!W217","v":-5.6891199709087141},{"$f":"'Unit rate charges'!X217","v":-3.732687631507082},{"$f":"'Unit rate charges'!Y217","v":-3.732687631507082}]
[null,null,null,null,null,"Unit rate 2","p/kWh",null,null,{"$f":"'Unit rate charges'!J218","v":0.88300920268903393},{"$f":"'Unit rate charges'!K218","v":0.88300920268903393},{"$f":"'Unit rate charges'!L218","v":1.0256196578648074},{"$f":"'Unit rate charges'!M218","v":1.0256196578648074},{"$f":"'Unit rate charges'!N218","v":0.66594714340259142},{"$f":"'Unit rate charges'!O218","v":0.35402490513798557},{"$f":"'Unit rate charges'!P218","v":0.25261633874531259},{"$f":"'Unit rate charges'!Q218","v":1.1952447724229316},{"$f":"'Unit rate charges'!R218","v":-0.63144411448010185},{"$f":"'Unit rate charges'!S218","v":-0.54797375527131609},{"$f":"'Unit rate charges'!T218","v":-0.63144411448010185},{"$f":"'Unit rate charges'!U218","v":-0.63144411448010185},{"$f":"'Unit rate charges'!V218","v":-0.54797375527131609},{"$f":"'Unit rate charges'!W218","v":-0.54797375527131609},{"$f":"'Unit rate charges'!X218","v":-0.31633967493658671},{"$f":"'Unit rate charges'!Y218","v":-0.31633967493658671}]
[null,null,null,null,null,"Unit rate 3","p/kWh",null,null,{"$f":"'Unit rate charges'!J219","v":2.2825020549340613E-2},{"$f":"'Unit rate charges'!K219","v":2.2825020549340613E-2},{"$f":"'Unit rate charges'!L219","v":2.6511376886313207E-2},{"$f":"'Unit rate charges'!M219","v":2.6511376886313207E-2},{"$f":"'Unit rate charges'!N219","v":1.6180688220383998E-2},{"$f":"'Unit rate charges'!O219","v":6.782565073577133E-3},{"$f":"'Unit rate charges'!P219","v":4.0498989835803315E-3},{"$f":"'Unit rate charges'!Q219","v":0.44929121314425297},{"$f":"'Unit rate charges'!R219","v":-1.632228163067535E-2},{"$f":"'Unit rate charges'!S219","v":-1.3737723553938727E-2},{"$f":"'Unit rate charges'!T219","v":-1.632228163067535E-2},{"$f":"'Unit rate charges'!U219","v":-1.632228163067535E-2},{"$f":"'Unit rate charges'!V219","v":-1.3737723553938727E-2},{"$f":"'Unit rate charges'!W219","v":-1.3737723553938727E-2},{"$f":"'Unit rate charges'!X219","v":-6.0015573611233893E-3},{"$f":"'Unit rate charges'!Y219","v":-6.0015573611233893E-3}]
[null,null,null,null,null,"Fixed charge","p/MPAN/day",null,null,{"$f":"'Fixed charges'!J161","v":4.5716420838261662},{"$f":"'Fixed charges'!K161","v":0},{"$f":"'Fixed charges'!L161","v":5.8510599368879221},{"$f":"'Fixed charges'!M161","v":0},{"$f":"'Fixed charges'!N161","v":23.235516904135658},{"$f":"'Fixed charges'!O161","v":8.2007706720478808},{"$f":"'Fixed charges'!P161","v":124.16460347195436},{"$f":"'Fixed charges'!Q161","v":0},{"$f":"'Fixed charges'!R161","v":0},{"$f":"'Fixed charges'!S161","v":0},{"$f":"'Fixed charges'!T161","v":0},{"$f":"'Fixed charges'!U161","v":0},{"$f":"'Fixed charges'!V161","v":0},{"$f":"'Fixed charges'!W161","v":0},{"$f":"'Fixed charges'!X161","v":90.667330037272208},{"$f":"'Fixed charges'!Y161","v":90.667330037272208}]
[null,null,null,null,null,"Capacity charge","p/kVA/day",null,null,{"$f":"'Capacity charges'!J256","v":0},{"$f":"'Capacity charges'!K256","v":0},{"$f":"'Capacity charges'!L256","v":0},{"$f":"'Capacity charges'!M256","v":0},{"$f":"'Capacity charges'!N256","v":2.498083735110924},{"$f":"'Capacity charges'!O256","v":4.5053338960962241},{"$f":"'Capacity charges'!P256","v":4.9643297738527297},{"$f":"'Capacity charges'!Q256","v":0},{"$f":"'Capacity charges'!R256","v":0},{"$f":"'Capacity charges'!S256","v":0},{"$f":"'Capacity charges'!T256","v":0},{"$f":"'Capacity charges'!U256","v":0},{"$f":"'Capacity charges'!V256","v":0},{"$f":"'Capacity charges'!W256","v":0},{"$f":"'Capacity charges'!X256","v":0},{"$f":"'Capacity charges'!Y256","v":0}]
[null,null,null,null,null,"Exceeded capacity charge","p/kVA/day",null,null,{"$f":"'Capacity charges'!J257","v":0},{"$f":"'Capacity charges'!K257","v":0},{"$f":"'Capacity charges'!L257","v":0},{"$f":"'Capacity charges'!M257","v":0},{"$f":"'Capacity charges'!N257","v":3.691279099689118},{"$f":"'Capacity charges'!O257","v":5.1392827901526239},{"$f":"'Capacity charges'!P257","v":6.1243810865470367},{"$f":"'Capacity charges'!Q257","v":0},{"$f":"'Capacity charges'!R257","v":0},{"$f":"'Capacity charges'!S257","v":0},{"$f":"'Capacity charges'!T257","v":0},{"$f":"'Capacity charges'!U257","v":0},{"$f":"'Capacity charges'!V257","v":0},{"$f":"'Capacity charges'!W257","v":0},{"$f":"'Capacity charges'!X257","v":0},{"$f":"'Capacity charges'!Y257","v":0}]
[null,null,null,null,null,"Reactive power charge","p/kVArh",null,null,{"$f":"'Reactive power charges'!J250","v":0},{"$f":"'Reactive power charges'!K250","v":0},{"$f":"'Reactive power charges'!L250","v":0},{"$f":"'Reactive power charges'!M250","v":0},{"$f":"'Reactive power charges'!N250","v":0.23544821131127469},{"$f":"'Reactive power charges'!O250","v":0.13709057031775684},{"$f":"'Reactive power charges'!P250","v":0.10158869577513742},{"$f":"'Reactive power charges'!Q250","v":0},{"$f":"'Reactive power charges'!R250","v":0},{"$f":"'Reactive power charges'!S250","v":0},{"$f":"'Reactive power charges'!T250","v":0.20319917220642791},{"$f":"'Reactive power charges'!U250","v":0},{"$f":"'Reactive power charges'!V250","v":0.1816089264144457},{"$f":"'Reactive power charges'!W250","v":0},{"$f":"'Reactive power charges'!X250","v":0.15574087273376108},{"$f":"'Reactive power charges'!Y250","v":0}]
[]
[null,null,null,null,"Volumes (discounted)"]
[null,null,null,null,null,"Unit rate 1","MWh",null,null,{"$f":"'Volume adjustments'!J66","v":744507.47595921555},{"$f":"'Volume adjustments'!K66","v":1327.5662846544521},{"$f":"'Volume adjustments'!L66","v":188973.52230875273},{"$f":"'Volume adjustments'!M66","v":4172.2410596369182},{"$f":"'Volume adjustments'!N66","v":282075.14358760114},{"$f":"'Volume adjustments'!O66","v":23010.444191422164},{"$f":"'Volume adjustments'!P66","v":326311.94038013439},{"$f":"'Volume adjustments'!Q66","v":13868.974697310709},{"$f":"'Volume adjustments'!R66","v":140.04079826565675},{"$f":"'Volume adjustments'!S66","v":2.8776284544589532},{"$f":"'Volume adjustments'!T66","v":6131.3814104814819},{"$f":"'Volume adjustments'!U66","v":0},{"$f":"'Volume adjustments'!V66","v":144.6141525623608},{"$f":"'Volume adjustments'!W66","v":0},{"$f":"'Volume adjustments'!X66","v":116075.81817719914},{"$f":"'Volume adjustments'!Y66","v":0}]
[null,null,null,null,null,"Unit rate 2","MWh",null,null,{"$f":"'Volume adjustments'!J77","v":2645097.8394225296},{"$f":"'Volume adjustments'!K77","v":24035.071762789463},{"$f":"'Volume adjustments'!L77","v":1023624.1876166349},{"$f":"'Volume adjustments'!M77","v":25319.415482001521},{"$f":"'Volume adjustments'!N77","v":1350126.3314036345},{"$f":"'Volume adjustments'!O77","v":107501.34408049645},{"$f":"'Volume adjustments'!P77","v":1514334.2001053796},{"$f":"'Volume adjustments'!Q77","v":52882.399972899948},{"$f":"'Volume adjustments'!R77","v":628.61483547885325},{"$f":"'Volume adjustments'!S77","v":11.85801478940583},{"$f":"'Volume adjustments'!T77","v":27525.456251959484},{"$f":"'Volume adjustments'!U77","v":0},{"$f":"'Volume adjustments'!V77","v":597.34783091345412},{"$f":"'Volume adjustments'!W77","v":0},{"$f":"'Volume adjustments'!X77","v":445212.43930388504},{"$f":"'Volume adjustments'!Y77","v":0}]
[null,null,null,null,null,"Unit rate 3","MWh",null,null,{"$f":"'Volume adjustments'!J88","v":2435994.0010482869},{"$f":"'Volume adjustments'!K88","v":245515.14232274992},{"$f":"'Volume adjustments'!L88","v":988714.59609282145},{"$f":"'Volume adjustments'!M88","v":52561.158034119573},{"$f":"'Volume adjustments'!N88","v":1179031.4355710328},{"$f":"'Volume adjustments'!O88","v":106315.97183163626},{"$f":"'Volume adjustments'!P88","v":1621310.6751782417},{"$f":"'Volume adjustments'!Q88","v":189423.97703070924},{"$f":"'Volume adjustments'!R88","v":700.98374497632642},{"$f":"'Volume adjustments'!S88","v":16.006356756135215},{"$f":"'Volume adjustments'!T88","v":30981.276337559029},{"$f":"'Volume adjustments'!U88","v":0},{"$f":"'Volume adjustments'!V88","v":807.27901652418518},{"$f":"'Volume adjustments'!W88","v":0},{"$f":"'Volume adjustments'!X88","v":507559.16751891578},{"$f":"'Volume adjustments'!Y88","v":0}]
[null,null,null,null,null,"MPANs","MPANs",null,null,{"$f":"'Volume adjustments'!J103","v":1900944.7731327738},{"$f":"'Volume adjustments'!K103","v":100130.921763869},{"$f":"'Volume adjustments'!L103","v":126260.16198819576},{"$f":"'Volume adjustments'!M103","v":7441},{"$f":"'Volume adjustments'!N103","v":10688.330482751717},{"$f":"'Volume adjustments'!O103","v":235.94699537145465},{"$f":"'Volume adjustments'!P103","v":1279.4477972038226},{"$f":"'Volume adjustments'!Q103","v":4906.9507149127448},{"$f":"'Volume adjustments'!R103","v":167},{"$f":"'Volume adjustments'!S103","v":4},{"$f":"'Volume adjustments'!T103","v":472},{"$f":"'Volume adjustments'!U103","v":0},{"$f":"'Volume adjustments'!V103","v":8},{"$f":"'Volume adjustments'!W103","v":0},{"$f":"'Volume adjustments'!X103","v":255},{"$f":"'Volume adjustments'!Y103","v":0}]
[null,null,null,null,null,"Capacity","kVA",null,null,{"$f":"'Volume adjustments'!J114","v":0},{"$f":"'Volume adjustments'!K114","v":0},{"$f":"'Volume adjustments'!L114","v":0},{"$f":"'Volume adjustments'!M114","v":0},{"$f":"'Volume adjustments'!N114","v":1506481.4576925465},{"$f":"'Volume adjustments'!O114","v":101792.04616244261},{"$f":"'Volume adjustments'!P114","v":1304272.7020126332},{"$f":"'Volume adjustments'!Q114","v":0},{"$f":"'Volume adjustments'!R114","v":0},{"$f":"'Volume adjustments'!S114","v":0},{"$f":"'Volume adjustments'!T114","v":0},{"$f":"'Volume adjustments'!U114","v":0},{"$f":"'Volume adjustments'!V114","v":0},{"$f":"'Volume adjustments'!W114","v":0},{"$f":"'Volume adjustments'!X114","v":0},{"$f":"'Volume adjustments'!Y114","v":0}]
[null,null,null,null,null,"Exceeded capacity","kVA",null,null,{"$f":"'Volume adjustments'!J125","v":0},{"$f":"'Volume adjustments'!K125","v":0},{"$f":"'Volume adjustments'!L125","v":0},{"$f":"'Volume adjustments'!M125","v":0},{"$f":"'Volume adjustments'!N125","v":29633.952584846371},{"$f":"'Volume adjustments'!O125","v":1042.17},{"$f":"'Volume adjustments'!P125","v":16278.596851006316},{"$f":"'Volume adjustments'!Q125","v":0},{"$f":"'Volume adjustments'!R125","v":0},{"$f":"'Volume adjustments'!S125","v":0},{"$f":"'Volume adjustments'!T125","v":0},{"$f":"'Volume adjustments'!U125","v":0},{"$f":"'Volume adjustments'!V125","v":0},{"$f":"'Volume adjustments'!W125","v":0},{"$f":"'Volume adjustments'!X125","v":0},{"$f":"'Volume adjustments'!Y125","v":0}]
[null,null,null,null,null,"Reactive power units (MVArh)","MVArh",null,null,{"$f":"'Volume adjustments'!J136","v":0},{"$f":"'Volume adjustments'!K136","v":0},{"$f":"'Volume adjustments'!L136","v":0},{"$f":"'Volume adjustments'!M136","v":0},{"$f":"'Volume adjustments'!N136","v":246057.76967706415},{"$f":"'Volume adjustments'!O136","v":19880.385918858468},{"$f":"'Volume adjustments'!P136","v":251627.6799021631},{"$f":"'Volume adjustments'!Q136","v":0},{"$f":"'Volume adjustments'!R136","v":0},{"$f":"'Volume adjustments'!S136","v":0},{"$f":"'Volume adjustments'!T136","v":4452},{"$f":"'Volume adjustments'!U136","v":0},{"$f":"'Volume adjustments'!V136","v":408},{"$f":"'Volume adjustments'!W136","v":0},{"$f":"'Volume adjustments'!X136","v":16464},{"$f":"'Volume adjustments'!Y136","v":0}]
[]
[null,null,null,null,"Target CDCM net revenue",null,"£",{"$f":"'General inputs'!$H$90","v":417181725.07818514}]
[]
[null,null,null,null,"Pass-through costs not allocated through revenue matching"]
[null,null,null,null,null,"Pass-through Supplier of Last Resort Adjustment","£",{"$f":"'General inputs'!$H$56","v":47073.343842731156}]
[null,null,null,null,null,"Pass-through Eligible Bad Debt Adjustment","£",{"$f":"'General inputs'!$H$57","v":1417380.0307358583}]
[]
[null,null,null,null,"Target CDCM net revenue, less applicable pass-through costs",null,"£",{"$f":"H37 - H40 - H41","v":415717271.70360655},">",null,null,null,null,null,null,null,null,null,null,null,null,null,null,null,null,null,null,null,null,null,null,null,null,null,null,null,null,null,null,null,null,null,null,null,null,null,null,null,null,null,null,null,null,null,null,null,null,null,"Paragraph 90A"]
[]
[null,null,{"$f":"INDEX('Version control'!$H$34:$H$58,MATCH($A$1,'Version control'!$F$34:$F$58,0),1)&\"-B: Net revenue before matching\"","v":"Section 518-B: Net revenue before matching"}]
[]
[null,null,null,"This section calculates the shortfall (or surplus) between the net revenue that would be expected "]
[null,null,null,"if pre-matching charges are used, and the net revenue which the company is allowed to collect."]
[]
[null,null,null,null,"Net revenue before matching",null,null,"Sum"]
[null,null,null,null,null,"Unit rate 1","£",{"$f":"SUM(J51:Y51)","v":116724842.38709189},null,{"$f":"J29 * thousand * J20 / hundred","v":67062105.393375292},119581.59316464086,{"$f":"L29 * thousand * L20 / hundred","v":19771070.526225574},436514.44517036952,{"$f":"N29 * thousand * N20 / hundred","v":19839919.041003525},957696.09392068465,10289981.354416398,{"$f":"Q29 * thousand * Q20 / hundred","v":2993077.7359720063},-9020.5369188820496,-163.71173509117608,{"$f":"T29 * thousand * T20 / hundred","v":-394944.56659748266},0,{"$f":"V29 * thousand * V20 / hundred","v":-8227.2726341856651},0,{"$f":"X29 * thousand * X20 / hundred","v":-4332747.7082709614},0]
[null,null,null,null,null,"Unit rate 2","£",46566600.936367683,null,{"$f":"J30 * thousand * J21 / hundred","v":23356457.342229743},212231.89553834434,{"$f":"L30 * thousand * L21 / hundred","v":10498490.890855145},259680.90243987308,{"$f":"N30 * thousand * N21 / hundred","v":8991127.7363087088},380581.53140303702,3825455.6126743257,{"$f":"Q30 * thousand * Q21 / hundred","v":632074.12120787252},-3969.3513813799941,-64.978808942135174,{"$f":"T30 * thousand * T21 / hundred","v":-173807.87348679343},0,{"$f":"V30 * thousand * V21 / hundred","v":-3273.3093410882057},0,{"$f":"X30 * thousand * X21 / hundred","v":-1408383.5832711584},0]
[null,null,null,null,null,"Unit rate 3","£",1967078.8091679572,null,{"$f":"J31 * thousand * J22 / hundred","v":556016.13131997606},56038.881686910521,{"$f":"L31 * thousand * L22 / hundred","v":262121.85290015725},13934.686702236135,{"$f":"N31 * thousand * N22 / hundred","v":190775.40061006643},7210.9499730866637,65661.444554723013,{"$f":"Q31 * thousand * Q22 / hundred","v":851065.28438736463},-114.41654104029107,-2.1989090422150501,{"$f":"T31 * thousand * T22 / hundred","v":-5056.8511765941666},0,{"$f":"V31 * thousand * V22 / hundred","v":-110.90175959904789},0,{"$f":"X31 * thousand * X22 / hundred","v":-30461.454580288082},0]
[null,null,null,null,null,"Fixed charge","£",35994332.751062781,null,{"$f":"J32 * J23 * days_in_year / hundred","v":31720102.802173581},0,{"$f":"L32 * L23 * days_in_year / hundred","v":2696458.5803345065},0,{"$f":"N32 * N23 * days_in_year / hundred","v":906473.42517272581},7062.557279270155,579846.76867050515,{"$f":"Q32 * Q23 * days_in_year / hundred","v":0},0,0,{"$f":"T32 * T23 * days_in_year / hundred","v":0},0,{"$f":"V32 * V23 * days_in_year / hundred","v":0},0,{"$f":"X32 * X23 * days_in_year / hundred","v":84388.617432191109},0]
[null,null,null,null,null,"Capacity","£",39043187.835183576,null,{"$f":"J33 * J24 * days_in_year / hundred","v":0},0,{"$f":"L33 * L24 * days_in_year / hundred","v":0},0,{"$f":"N33 * N24 * days_in_year / hundred","v":13736106.417484004},1673916.1191395519,23633165.298560023,{"$f":"Q33 * Q24 * days_in_year / hundred","v":0},0,0,{"$f":"T33 * T24 * days_in_year / hundred","v":0},0,{"$f":"V33 * V24 * days_in_year / hundred","v":0},0,{"$f":"X33 * X24 * days_in_year / hundred","v":0},0]
[null,null,null,null,null,"Exceeded capacity","£",782704.27293994743,null,{"$f":"J34 * J25 * days_in_year / hundred","v":0},0,{"$f":"L34 * L25 * days_in_year / hundred","v":0},0,{"$f":"N34 * N25 * days_in_year / hundred","v":399263.24283431924},19549.423160758764,363891.60694486939,{"$f":"Q34 * Q25 * days_in_year / hundred","v":0},0,0,{"$f":"T34 * T25 * days_in_year / hundred","v":0},0,{"$f":"V34 * V25 * days_in_year / hundred","v":0},0,{"$f":"X34 * X25 * days_in_year / hundred","v":0},0]
[null,null,null,null,null,"Reactive power units (MVArh)","£",897646.59900973027,null,{"$f":"J35 * thousand * J26 / hundred","v":0},0,{"$f":"L35 * thousand * L26 / hundred","v":0},0,{"$f":"N35 * thousand * N26 / hundred","v":579338.61749706359},27254.134437534096,255625.27822184507,{"$f":"Q35 * thousand * Q26 / hundred","v":0},0,0,{"$f":"T35 * thousand * T26 / hundred","v":9046.4271466301707},0,{"$f":"V35 * thousand * V26 / hundred","v":740.96441977093843},0,{"$f":"X35 * thousand * X26 / hundred","v":25641.177286886425},0]
[null,null,null,null,null,"Total","£",241976393.59082356,null,{"$f":"SUM(J51:J57)","v":122694681.66909859},387852.37038989575,{"$f":"SUM(L51:L57)","v":33228141.850315385},710130.03431247885,44643003.880910419,3073270.8093139231,39013627.364042692,4476217.1415672433,-13104.304841302335,-230.88945307552632,-564762.86411424004,0,-10870.519315101981,0,-5661562.951403331,0]
[]
[null,null,null,null,"Net revenue shortfall (or surplus)",null,"£",{"$f":"H43 - H58","v":173740878.11278298},">",null,null,null,null,null,null,null,null,null,null,null,null,null,null,null,null,null,null,null,null,null,null,null,null,null,null,null,null,null,null,null,null,null,null,null,null,null,null,null,null,null,null,null,null,null,null,null,null,null,"Paragraph 92"]
[]
[null,"Adder calculation"]
[]
[null,null,"This section calculates a \"fixed adder\" to unit rate charges for demand users that would equalise "]
[null,null,"expected and allowed net revenue. This section includes a simple algorithm to account for "]
[null,null,"the requirement that demand customers should not have negative unit rates."]
[]
[null,null,{"$f":"INDEX('Version control'!$H$34:$H$58,MATCH($A$1,'Version control'!$F$34:$F$58,0),1)&\"-C: Calculation of unconstrained adder solution\"","v":"Section 518-C: Calculation of unconstrained adder solution"}]
[]
[null,null,null,null,"Adder value at which the non-negative demand charge constraint is breached"]
[null,null,null,null,"Negative unit rates are not permitted for demand customers. This table calculates the lowest value "]
[null,null,null,null,"a fixed adder could take before this constraint binds (for each unit rate and customer category). This is "]
[null,null,null,null,"the negative of each pre-matching charge. "]
[null,null,null,null,null,"Unit rate 1 - Adder threshold","p/kWh",null,null,{"$f":"-J20","v":-9.0075798509575993},-9.0075798509575993,-10.462349584574492,-10.462349584574492,-7.0335580755778464,-4.1620061131966093,-3.1534185792984371,-21.581103155032686,6.4413635387668471,5.6891199709087141,6.4413635387668471,6.4413635387668471,5.6891199709087141,5.6891199709087141,3.732687631507082,3.732687631507082]
[null,null,null,null,null,"Unit rate 2 - Adder threshold","p/kWh",null,null,-0.88300920268903393,-0.88300920268903393,-1.0256196578648074,-1.0256196578648074,-0.66594714340259142,-0.35402490513798557,-0.25261633874531259,-1.1952447724229316,0.63144411448010185,0.54797375527131609,0.63144411448010185,0.63144411448010185,0.54797375527131609,0.54797375527131609,0.31633967493658671,0.31633967493658671]
[null,null,null,null,null,"Unit rate 3 - Adder threshold","p/kWh",null,null,-2.2825020549340613E-2,-2.2825020549340613E-2,-2.6511376886313207E-2,-2.6511376886313207E-2,-1.6180688220383998E-2,-6.782565073577133E-3,-4.0498989835803315E-3,-0.44929121314425297,1.632228163067535E-2,1.3737723553938727E-2,1.632228163067535E-2,1.632228163067535E-2,1.3737723553938727E-2,1.3737723553938727E-2,6.0015573611233893E-3,6.0015573611233893E-3]
[]
[null,null,null,null,"Expected units to be charged"]
[null,null,null,null,"Calculates the effect on expected net revenue from the addition of a 1 p/kWh fixed adder to each unit "]
[null,null,null,null,"rate charge for each customer category - driven by the units of energy each customer category is expected "]
[null,null,null,null,"to use."]
[null,null,null,null,null,"Unit rate 1 - expected units to be charged","MWh",null,null,{"$f":"J29","v":744507.47595921555},1327.5662846544521,188973.52230875273,4172.2410596369182,282075.14358760114,23010.444191422164,326311.94038013439,13868.974697310709]
[null,null,null,null,null,"Unit rate 2 - expected units to be charged","MWh",null,null,2645097.8394225296,24035.071762789463,1023624.1876166349,25319.415482001521,1350126.3314036345,107501.34408049645,1514334.2001053796,52882.399972899948]
[null,null,null,null,null,"Unit rate 3 - expected units to be charged","MWh",null,null,2435994.0010482869,245515.14232274992,988714.59609282145,52561.158034119573,1179031.4355710328,106315.97183163626,1621310.6751782417,189423.97703070924]
[]
[null,null,null,null,"Unconstrained adder solution (i.e. unit rates for demand can be negative)",null,null,null,">",null,null,null,null,null,null,null,null,null,null,null,null,null,null,null,null,null,null,null,null,null,null,null,null,null,null,null,null,null,null,null,null,null,null,null,null,null,null,null,null,null,null,null,null,null,null,null,null,null,"Paragraph 93"]
[null,null,null,null,"Calculates the value of fixed adder that would equalise expected and allowed net revenue if it was "]
[null,null,null,null,"unconstrained by the requirement that demand charges be non-negative. In some cases, the constraints "]
[null,null,null,null,"will not bind, and this equal the constrained solution. "]
[null,null,null,null,null,"Constraint-free adder solution","p/kWh",{"$f":"H60/SUM(J82:Y84)/ten","v":1.147104687642698}]
[]
[null,null,{"$f":"INDEX('Version control'!$H$34:$H$58,MATCH($A$1,'Version control'!$F$34:$F$58,0),1)&\"-D: Algorithm to find constrained adder solution\"","v":"Section 518-D: Algorithm to find constrained adder solution"}]
[]
[null,null,null,"This algorithm only affects the adder solution if pre-match net revenue exceeds target net revenue, in ",null,null,null,null,">",null,null,null,null,null,null,null,null,null,null,null,null,null,null,null,null,null,null,null,null,null,null,null,null,null,null,null,null,null,null,null,null,null,null,null,null,null,null,null,null,null,null,null,null,null,null,null,null,null,"Paragraph 93"]
[null,null,null,"which case the unconstrained adder solution will be negative and the non-negative adder constraint may "]
[null,null,null,"bind. If this is not the case the following steps can be ignored. "]
[]
[null,null,null,"Step 1 - Arrange all unit rate : customer category pre-match charges (and expected units to be charged) "]
[null,null,null,"onto a single row. "]
[]
[null,null,null,null,"Unit rate_customer category (arbitrary order)>> ",null,null,null,null,"Unit rate 1 p/kWh_Domestic Aggregated","Unit rate 1 p/kWh_Domestic Aggregated (Related MPAN)","Unit rate 1 p/kWh_Non-Domestic Aggregated","Unit rate 1 p/kWh_Non-Domestic Aggregated (Related MPAN)","Unit rate 1 p/kWh_LV Site Specific","Unit rate 1 p/kWh_LV Sub Site Specific","Unit rate 1 p/kWh_HV Site Specific","Unit rate 1 p/kWh_Unmetered Supplies","Unit rate 1 p/kWh_LV Generation Aggregated","Unit rate 1 p/kWh_LV Sub Generation Aggregated","Unit rate 1 p/kWh_LV Generation Site Specific","Unit rate 1 p/kWh_LV Generation Site Specific no RP Charge","Unit rate 1 p/kWh_LV Sub Generation Site Specific","Unit rate 1 p/kWh_LV Sub Generation Site Specific no RP Charge","Unit rate 1 p/kWh_HV Generation Site Specific","Unit rate 1 p/kWh_HV Generation Site Specific no RP Charge","Unit rate 2 p/kWh_Domestic Aggregated","Unit rate 2 p/kWh_Domestic Aggregated (Related MPAN)","Unit rate 2 p/kWh_Non-Domestic Aggregated","Unit rate 2 p/kWh_Non-Domestic Aggregated (Related MPAN)","Unit rate 2 p/kWh_LV Site Specific","Unit rate 2 p/kWh_LV Sub Site Specific","Unit rate 2 p/kWh_HV Site Specific","Unit rate 2 p/kWh_Unmetered Supplies","Unit rate 2 p/kWh_LV Generation Aggregated","Unit rate 2 p/kWh_LV Sub Generation Aggregated","Unit rate 2 p/kWh_LV Generation Site Specific","Unit rate 2 p/kWh_LV Generation Site Specific no RP Charge","Unit rate 2 p/kWh_LV Sub Generation Site Specific","Unit rate 2 p/kWh_LV Sub Generation Site Specific no RP Charge","Unit rate 2 p/kWh_HV Generation Site Specific","Unit rate 2 p/kWh_HV Generation Site Specific no RP Charge","Unit rate 3 p/kWh_Domestic Aggregated","Unit rate 3 p/kWh_Domestic Aggregated (Related MPAN)","Unit rate 3 p/kWh_Non-Domestic Aggregated","Unit rate 3 p/kWh_Non-Domestic Aggregated (Related MPAN)","Unit rate 3 p/kWh_LV Site Specific","Unit rate 3 p/kWh_LV Sub Site Specific","Unit rate 3 p/kWh_HV Site Specific","Unit rate 3 p/kWh_Unmetered Supplies","Unit rate 3 p/kWh_LV Generation Aggregated","Unit rate 3 p/kWh_LV Sub Generation Aggregated","Unit rate 3 p/kWh_LV Generation Site Specific","Unit rate 3 p/kWh_LV Generation Site Specific no RP Charge","Unit rate 3 p/kWh_LV Sub Generation Site Specific","Unit rate 3 p/kWh_LV Sub Generation Site Specific no RP Charge","Unit rate 3 p/kWh_HV Generation Site Specific","Unit rate 3 p/kWh_HV Generation Site Specific no RP Charge"]
[null,null,null,null,"Combined - Adder threshold",null,"p/kWh",null,null,{"$f":"J74","v":-9.0075798509575993},-9.0075798509575993,-10.462349584574492,-10.462349584574492,-7.0335580755778464,-4.1620061131966093,-3.1534185792984371,-21.581103155032686,6.4413635387668471,5.6891199709087141,6.4413635387668471,6.4413635387668471,5.6891199709087141,5.6891199709087141,3.732687631507082,3.732687631507082,{"$f":"J75","v":-0.88300920268903393},{"$f":"K75","v":-0.88300920268903393},-1.0256196578648074,-1.0256196578648074,-0.66594714340259142,-0.35402490513798557,-0.25261633874531259,-1.1952447724229316,0.63144411448010185,0.54797375527131609,0.63144411448010185,0.63144411448010185,0.54797375527131609,0.54797375527131609,0.31633967493658671,0.31633967493658671,{"$f":"J76","v":-2.2825020549340613E-2},{"$f":"K76","v":-2.2825020549340613E-2},-2.6511376886313207E-2,-2.6511376886313207E-2,-1.6180688220383998E-2,-6.782565073577133E-3,-4.0498989835803315E-3,-0.44929121314425297,1.632228163067535E-2,1.3737723553938727E-2,1.632228163067535E-2,1.632228163067535E-2,1.3737723553938727E-2,1.3737723553938727E-2,6.0015573611233893E-3,6.0015573611233893E-3]
[null,null,null,null,"Combined - expected units to be charged",null,"MWh",null,null,{"$f":"J82","v":744507.47595921555},1327.5662846544521,188973.52230875273,4172.2410596369182,282075.14358760114,23010.444191422164,326311.94038013439,13868.974697310709,0,0,0,0,0,0,0,0,{"$f":"J83","v":2645097.8394225296},{"$f":"K83","v":24035.071762789463},1023624.1876166349,25319.415482001521,1350126.3314036345,107501.34408049645,1514334.2001053796,52882.399972899948,0,0,0,0,0,0,0,0,{"$f":"J84","v":2435994.0010482869},{"$f":"K84","v":245515.14232274992},988714.59609282145,52561.158034119573,1179031.4355710328,106315.97183163626,1621310.6751782417,189423.97703070924,0,0,0,0,0,0,0,0]
[]
[null,null,null,"Step 2 - Rank the unit rate : customer category pre-match charges by their adder threshold values - from "]
[null,null,null,"lowest to highest. "]
[]
[null,null,null,null,"Unit rate_customer category (arbitrary order)>> ",null,null,null,null,"Unit rate 1 p/kWh_LV Network Domestic","Unit rate 1 p/kWh_LV Network Non-Domestic Non-CT","Unit rate 1 p/kWh_LV Network Domestic","Unit rate 1 p/kWh_LV Network Non-Domestic Non-CT","Unit rate 1 p/kWh_LV HH Metered","Unit rate 1 p/kWh_LV Sub HH Metered","Unit rate 1 p/kWh_HV HH Metered","Unit rate 1 p/kWh_LV UMS (Pseudo HH Metered)","Unit rate 1 p/kWh_LV Generation NHH or Aggregate HH","Unit rate 1 p/kWh_LV Sub Generation NHH","Unit rate 1 p/kWh_LV Generation Non-Intermittent","Unit rate 1 p/kWh_LV Generation Non-Intermittent no RP charge","Unit rate 1 p/kWh_LV Sub Generation Non-Intermittent","Unit rate 1 p/kWh_LV Sub Generation Non-Intermittent no RP charge","Unit rate 1 p/kWh_HV Generation Non-Intermittent","Unit rate 1 p/kWh_HV Generation Non-Intermittent no RP charge","Unit rate 2 p/kWh_Domestic Unrestricted","Unit rate 2 p/kWh_Domestic Two Rate","Unit rate 2 p/kWh_Domestic Off Peak (related MPAN)","Unit rate 2 p/kWh_Small Non Domestic Unrestricted","Unit rate 2 p/kWh_Small Non Domestic Two Rate","Unit rate 2 p/kWh_Small Non Domestic Off Peak (related MPAN)","Unit rate 2 p/kWh_LV Medium Non-Domestic","Unit rate 2 p/kWh_LV Sub Medium Non-Domestic","Unit rate 2 p/kWh_HV Medium Non-Domestic","Unit rate 2 p/kWh_LV Network Domestic","Unit rate 2 p/kWh_LV Network Non-Domestic Non-CT","Unit rate 2 p/kWh_LV HH Metered","Unit rate 2 p/kWh_LV Sub HH Metered","Unit rate 2 p/kWh_HV HH Metered","Unit rate 2 p/kWh_NHH UMS category A","Unit rate 2 p/kWh_NHH UMS category B","Unit rate 2 p/kWh_NHH UMS category C","Unit rate 2 p/kWh_NHH UMS category D","Unit rate 2 p/kWh_LV UMS (Pseudo HH Metered)","Unit rate 2 p/kWh_LV Generation NHH or Aggregate HH","Unit rate 2 p/kWh_LV Sub Generation NHH","Unit rate 2 p/kWh_LV Generation Intermittent","Unit rate 2 p/kWh_LV Generation Intermittent no RP charge","Unit rate 2 p/kWh_LV Generation Non-Intermittent","Unit rate 2 p/kWh_LV Generation Non-Intermittent no RP charge","Unit rate 2 p/kWh_LV Sub Generation Intermittent","Unit rate 2 p/kWh_LV Sub Generation Intermittent no RP charge","Unit rate 2 p/kWh_LV Sub Generation Non-Intermittent","Unit rate 2 p/kWh_LV Sub Generation Non-Intermittent no RP charge","Unit rate 2 p/kWh_HV Generation Intermittent","Unit rate 2 p/kWh_HV Generation Intermittent no RP charge","Unit rate 2 p/kWh_HV Generation Non-Intermittent"]
[null,null,null,null,"Adder thresholds ranked from lowest (1) to highest (99)",null,"no.",null,null,{"$f":"RANK(J102, $J$102:$BE$102, 1)","v":4},4,2,2,6,7,8,1,46,43,46,46,43,43,41,41,12,12,10,10,14,16,17,9,38,35,38,38,35,35,33,33,20,20,18,18,22,23,24,15,30,27,30,30,27,27,25,25]
[null,null,null,null,"Tie-breaker between equal threshold rates",null,"no.",null,null,{"$f":"J109 + (COUNT($J$109:J$109) / COUNT($J$109:$BE$109))","v":4.020833333333333},{"$f":"K109 + (COUNT($J$109:K$109) / COUNT($J$109:$BE$109))","v":4.041666666666667},{"$f":"L109 + (COUNT($J$109:L$109) / COUNT($J$109:$BE$109))","v":2.0625},{"$f":"M109 + (COUNT($J$109:M$109) / COUNT($J$109:$BE$109))","v":2.0833333333333335},{"$f":"N109 + (COUNT($J$109:N$109) / COUNT($J$109:$BE$109))","v":6.104166666666667},{"$f":"O109 + (COUNT($J$109:O$109) / COUNT($J$109:$BE$109))","v":7.125},{"$f":"P109 + (COUNT($J$109:P$109) / COUNT($J$109:$BE$109))","v":8.1458333333333339},{"$f":"Q109 + (COUNT($J$109:Q$109) / COUNT($J$109:$BE$109))","v":1.1666666666666667},{"$f":"R109 + (COUNT($J$109:R$109) / COUNT($J$109:$BE$109))","v":46.1875},{"$f":"S109 + (COUNT($J$109:S$109) / COUNT($J$109:$BE$109))","v":43.208333333333336},{"$f":"T109 + (COUNT($J$109:T$109) / COUNT($J$109:$BE$109))","v":46.229166666666664},{"$f":"U109 + (COUNT($J$109:U$109) / COUNT($J$109:$BE$109))","v":46.25},{"$f":"V109 + (COUNT($J$109:V$109) / COUNT($J$109:$BE$109))","v":43.270833333333336},{"$f":"W109 + (COUNT($J$109:W$109) / COUNT($J$109:$BE$109))","v":43.291666666666664},{"$f":"X109 + (COUNT($J$109:X$109) / COUNT($J$109:$BE$109))","v":41.3125},{"$f":"Y109 + (COUNT($J$109:Y$109) / COUNT($J$109:$BE$109))","v":41.333333333333336},{"$f":"Z109 + (COUNT($J$109:Z$109) / COUNT($J$109:$BE$109))","v":12.354166666666666},{"$f":"AA109 + (COUNT($J$109:AA$109) / COUNT($J$109:$BE$109))","v":12.375},{"$f":"AB109 + (COUNT($J$109:AB$109) / COUNT($J$109:$BE$109))","v":10.395833333333334},{"$f":"AC109 + (COUNT($J$109:AC$109) / COUNT($J$109:$BE$109))","v":10.416666666666666},{"$f":"AD109 + (COUNT($J$109:AD$109) / COUNT($J$109:$BE$109))","v":14.4375},{"$f":"AE109 + (COUNT($J$109:AE$109) / COUNT($J$109:$BE$109))","v":16.458333333333332},{"$f":"AF109 + (COUNT($J$109:AF$109) / COUNT($J$109:$BE$109))","v":17.479166666666668},{"$f":"AG109 + (COUNT($J$109:AG$109) / COUNT($J$109:$BE$109))","v":9.5},{"$f":"AH109 + (COUNT($J$109:AH$109) / COUNT($J$109:$BE$109))","v":38.520833333333336},{"$f":"AI109 + (COUNT($J$109:AI$109) / COUNT($J$109:$BE$109))","v":35.541666666666664},{"$f":"AJ109 + (COUNT($J$109:AJ$109) / COUNT($J$109:$BE$109))","v":38.5625},{"$f":"AK109 + (COUNT($J$109:AK$109) / COUNT($J$109:$BE$109))","v":38.583333333333336},{"$f":"AL109 + (COUNT($J$109:AL$109) / COUNT($J$109:$BE$109))","v":35.604166666666664},{"$f":"AM109 + (COUNT($J$109:AM$109) / COUNT($J$109:$BE$109))","v":35.625},{"$f":"AN109 + (COUNT($J$109:AN$109) / COUNT($J$109:$BE$109))","v":33.645833333333336},{"$f":"AO109 + (COUNT($J$109:AO$109) / COUNT($J$109:$BE$109))","v":33.666666666666664},{"$f":"AP109 + (COUNT($J$109:AP$109) / COUNT($J$109:$BE$109))","v":20.6875},{"$f":"AQ109 + (COUNT($J$109:AQ$109) / COUNT($J$109:$BE$109))","v":20.708333333333332},{"$f":"AR109 + (COUNT($J$109:AR$109) / COUNT($J$109:$BE$109))","v":18.729166666666668},{"$f":"AS109 + (COUNT($J$109:AS$109) / COUNT($J$109:$BE$109))","v":18.75},{"$f":"AT109 + (COUNT($J$109:AT$109) / COUNT($J$109:$BE$109))","v":22.770833333333332},{"$f":"AU109 + (COUNT($J$109:AU$109) / COUNT($J$109:$BE$109))","v":23.791666666666668},{"$f":"AV109 + (COUNT($J$109:AV$109) / COUNT($J$109:$BE$109))","v":24.8125},{"$f":"AW109 + (COUNT($J$109:AW$109) / COUNT($J$109:$BE$109))","v":15.833333333333334},{"$f":"AX109 + (COUNT($J$109:AX$109) / COUNT($J$109:$BE$109))","v":30.854166666666668},{"$f":"AY109 + (COUNT($J$109:AY$109) / COUNT($J$109:$BE$109))","v":27.875},{"$f":"AZ109 + (COUNT($J$109:AZ$109) / COUNT($J$109:$BE$109))","v":30.895833333333332},{"$f":"BA109 + (COUNT($J$109:BA$109) / COUNT($J$109:$BE$109))","v":30.916666666666668},{"$f":"BB109 + (COUNT($J$109:BB$109) / COUNT($J$109:$BE$109))","v":27.9375},{"$f":"BC109 + (COUNT($J$109:BC$109) / COUNT($J$109:$BE$109))","v":27.958333333333332},{"$f":"BD109 + (COUNT($J$109:BD$109) / COUNT($J$109:$BE$109))","v":25.979166666666668},{"$f":"BE109 + (COUNT($J$109:BE$109) / COUNT($J$109:$BE$109))","v":26}]
[null,null,null,null,"Adder thresholds ranked from lowest (1) to highest (99), post tie-breaker",null,"no.",null,null,{"$f":"RANK(J110, $J$110:$BE$110, 1)","v":4},5,2,3,6,7,8,1,46,43,47,48,44,45,41,42,12,13,10,11,14,16,17,9,38,35,39,40,36,37,33,34,20,21,18,19,22,23,24,15,30,27,31,32,28,29,25,26]
[]
[null,null,null,"Step 3 - Reorder adder thresholds (and their respective numbers of units to be charged) by rank. Identify "]
[null,null,null,"the value at which the fixed adder would equalise expected and allowed net revenue. "]
[]
[null,null,null,null,"Rank>>",null,null,"Starting point",null,1,{"$f":"J116 + 1","v":2},{"$f":"K116 + 1","v":3},4,5,6,7,8,9,10,11,12,13,14,15,16,17,18,19,20,21,22,23,24,25,26,27,28,29,30,31,32,33,34,35,36,37,38,39,40,41,42,43,44,45,46,47,48]
[null,null,null,null,"Reordered adder threshold values for each tariff / unit rate (lowest to highest)",null,"p/kWh",null,null,{"$f":"INDEX($J$102:$BE$102, 1, MATCH(J116, $J$111:$BE$111, 0))","v":-21.581103155032686},{"$f":"INDEX($J$102:$BE$102, 1, MATCH(K116, $J$111:$BE$111, 0))","v":-10.462349584574492},-10.462349584574492,-9.0075798509575993,-9.0075798509575993,-7.0335580755778464,-4.1620061131966093,-3.1534185792984371,-1.1952447724229316,-1.0256196578648074,-1.0256196578648074,-0.88300920268903393,-0.88300920268903393,-0.66594714340259142,-0.44929121314425297,-0.35402490513798557,-0.25261633874531259,-2.6511376886313207E-2,-2.6511376886313207E-2,-2.2825020549340613E-2,-2.2825020549340613E-2,-1.6180688220383998E-2,-6.782565073577133E-3,-4.0498989835803315E-3,6.0015573611233893E-3,6.0015573611233893E-3,1.3737723553938727E-2,1.3737723553938727E-2,1.3737723553938727E-2,1.632228163067535E-2,1.632228163067535E-2,1.632228163067535E-2,0.31633967493658671,0.31633967493658671,0.54797375527131609,0.54797375527131609,0.54797375527131609,0.63144411448010185,0.63144411448010185,0.63144411448010185,3.732687631507082,3.732687631507082,5.6891199709087141,5.6891199709087141,5.6891199709087141,6.4413635387668471,6.4413635387668471,6.4413635387668471]
[null,null,null,null,"Cumulative units, aggregating across tariff / unit rates from lowest to highest adder threshold.",null,"MWh",null,null,{"$f":"I118 + INDEX($J$103:$BE$103, 1, MATCH(J116, $J$111:$BE$111, 0))","v":13868.974697310709},202842.49700606344,207014.73806570037,951522.21402491594,952849.78030957037,1234924.9238971714,1257935.3680885935,1584247.3084687279,1637129.7084416279,2660753.8960582628,2686073.3115402642,5331171.1509627942,5355206.2227255832,6705332.5541292178,6894756.5311599271,7002257.8752404237,8516592.0753458031,9505306.6714386251,9557867.8294727448,11993861.830521032,12239376.972843783,13418408.408414816,13524724.380246453,15146035.055424694,15146035.055424694,15146035.055424694,15146035.055424694,15146035.055424694,15146035.055424694,15146035.055424694,15146035.055424694,15146035.055424694,15146035.055424694,15146035.055424694,15146035.055424694,15146035.055424694,15146035.055424694,15146035.055424694,15146035.055424694,15146035.055424694,15146035.055424694,15146035.055424694,15146035.055424694,15146035.055424694,15146035.055424694,15146035.055424694,15146035.055424694,15146035.055424694]
[null,null,null,null,"Unscaleable net revenue",null,"£",null,null,{"$f":"SUM($J$54:$Y$57,$R$51:$Y$53)","v":70347522.742783532},{"$f":"SUM($J$54:$Y$57,$R$51:$Y$53)","v":70347522.742783532},{"$f":"SUM($J$54:$Y$57,$R$51:$Y$53)","v":70347522.742783532},70347522.742783532,70347522.742783532,70347522.742783532,70347522.742783532,70347522.742783532,70347522.742783532,70347522.742783532,70347522.742783532,70347522.742783532,70347522.742783532,70347522.742783532,70347522.742783532,70347522.742783532,70347522.742783532,70347522.742783532,70347522.742783532,70347522.742783532,70347522.742783532,70347522.742783532,70347522.742783532,70347522.742783532,70347522.742783532,70347522.742783532,70347522.742783532,70347522.742783532,70347522.742783532,70347522.742783532,70347522.742783532,70347522.742783532,70347522.742783532,70347522.742783532,70347522.742783532,70347522.742783532,70347522.742783532,70347522.742783532,70347522.742783532,70347522.742783532,70347522.742783532,70347522.742783532,70347522.742783532,70347522.742783532,70347522.742783532,70347522.742783532,70347522.742783532,70347522.742783532]
[null,null,null,null,"Scaleable net revenue, for a given (threshold) adder value",null,"£",null,null,null,{"$f":"J120 + J118 * (K117 - J117) * ten","v":1542057.1193431781},1542057.1193431781,4553644.8728492754,4553644.8728492754,23363107.022818331,58824617.908922553,71511997.21596019,102534313.046525,105311296.18993419,105311296.18993419,109141917.56587674,109141917.56587674,120766038.4719606,135293539.09402448,141861919.08728153,148962808.41368088,168219245.67732808,168219245.67732808,168571582.74373931,168571582.74373931,169384807.62480885,170645886.17137316,171015471.72827768,172537868.82982722,172537868.82982722,173709591.27333695,173709591.27333695,173709591.27333695,174101049.34566727,174101049.34566727,174101049.34566727,219541788.90815198,219541788.90815198,254625167.9159607,254625167.9159607,254625167.9159607,267267617.78261229,267267617.78261229,267267617.78261229,736983048.02560437,736983048.02560437,1033304975.987041,1033304975.987041,1033304975.987041,1147240050.4770112,1147240050.4770112,1147240050.4770112]
[null,null,null,null,"Total net revenue, for a given (threshold) adder value",null,"£",null,null,{"$f":"J119 + J120","v":70347522.742783532},{"$f":"K119 + K120","v":71889579.862126708},71889579.862126708,74901167.615632802,74901167.615632802,93710629.765601858,129172140.65170608,141859519.95874372,172881835.78930855,175658818.93271774,175658818.93271774,179489440.30866027,179489440.30866027,191113561.21474415,205641061.83680803,212209441.83006507,219310331.1564644,238566768.4201116,238566768.4201116,238919105.48652285,238919105.48652285,239732330.36759239,240993408.91415668,241362994.47106123,242885391.57261074,242885391.57261074,244057114.01612049,244057114.01612049,244057114.01612049,244448572.08845079,244448572.08845079,244448572.08845079,289889311.65093553,289889311.65093553,324972690.65874422,324972690.65874422,324972690.65874422,337615140.52539581,337615140.52539581,337615140.52539581,807330570.76838791,807330570.76838791,1103652498.7298245,1103652498.7298245,1103652498.7298245,1217587573.2197948,1217587573.2197948,1217587573.2197948]
[null,null,null,null,"Target CDCM net revenue",null,"£",null,null,{"$f":"$H$43","v":415717271.70360655},{"$f":"$H$43","v":415717271.70360655},415717271.70360655,415717271.70360655,415717271.70360655,415717271.70360655,415717271.70360655,415717271.70360655,415717271.70360655,415717271.70360655,415717271.70360655,415717271.70360655,415717271.70360655,415717271.70360655,415717271.70360655,415717271.70360655,415717271.70360655,415717271.70360655,415717271.70360655,415717271.70360655,415717271.70360655,415717271.70360655,415717271.70360655,415717271.70360655,415717271.70360655,415717271.70360655,415717271.70360655,415717271.70360655,415717271.70360655,415717271.70360655,415717271.70360655,415717271.70360655,415717271.70360655,415717271.70360655,415717271.70360655,415717271.70360655,415717271.70360655,415717271.70360655,415717271.70360655,415717271.70360655,415717271.70360655,415717271.70360655,415717271.70360655,415717271.70360655,415717271.70360655,415717271.70360655,415717271.70360655,415717271.70360655]
[null,null,null,null,"Exact constrained adder value at which expected net revenue = allowed net revenue",null,"p/kWh",{"$f":"IF(((SUMPRODUCT($J$102:$BE$102, $J$103:$BE$103) * ten) - $H$60) > 0, $J$117, IF(BE121 > BE122, \"\", $H$90))","v":""},null,{"$f":"IF((J121 > J122) = (I122 > J122), \"\", J117 - (J121 - J122) / (I118 * ten))","v":""},"","","","","","","","","","","","","","","","","","","","","","","","","","","","","","","","","","","","","","","",{"$f":"IF((AX121 > AX122) = (AW122 > AX122), \"\", AX117 - (AX121 - AX122) / (AW118 * ten))","v":1.147104687642698},1.147104687642698,1.147104687642698,1.147104687642698,1.147104687642698,1.1471046876426989,1.1471046876426989,1.1471046876426989]
[]
[null,null,null,"Constrained adder solution",null,null,null,null,">",null,null,null,null,null,null,null,null,null,null,null,null,null,null,null,null,null,null,null,null,null,null,null,null,null,null,null,null,null,null,null,null,null,null,null,null,null,null,null,null,null,null,null,null,null,null,null,null,null,"Paragraph 94"]
[null,null,null,"Shows the adder value that would equalise expected and allowed net revenue, subject to the constraint "]
[null,null,null,"that demand charges be non-negative. The solution is selected from the last row of the table above."]
[]
[null,null,null,null,"Constrained adder solution",null,"p/kWh",{"$f":"MIN(H123:BE123)","v":1.147104687642698}]
[]
[null,null,{"$f":"INDEX('Version control'!$H$34:$H$58,MATCH($A$1,'Version control'!$F$34:$F$58,0),1)&\"-E: Adder to be applied to unit rates\"","v":"Section 518-E: Adder to be applied to unit rates"}]
[]
[null,null,"This section presents the amount by which unit charges for demand users will be raised or lowered "]
[null,null,"to equalise expected and allowed revenue, subject to the constraint that demand charges are non-negative. "]
[]
[null,null,null,null,"Adder to be applied to unit rates",null,null,null,">",null,null,null,null,null,null,null,null,null,null,null,null,null,null,null,null,null,null,null,null,null,null,null,null,null,null,null,null,null,null,null,null,null,null,null,null,null,null,null,null,null,null,null,null,null,null,null,null,null,"Paragraph 94"]
[null,null,null,null,"Allocates an adder to each unit rate and customer type which will equalise expected and allowed revenue,"]
[null,null,null,null," subject to the constraint that demand charges be non-negative. Adders are applied for demand users only."]
[null,null,null,null,null,"Adder on Unit rate 1","p/kWh",null,null,{"$f":"MAX($H$129, J74)","v":1.147104687642698},{"$f":"MAX($H$129, K74)","v":1.147104687642698},1.147104687642698,1.147104687642698,1.147104687642698,1.147104687642698,1.147104687642698,1.147104687642698]
[null,null,null,null,null,"Adder on Unit rate 2","p/kWh",null,null,{"$f":"MAX($H$129, J75)","v":1.147104687642698},1.147104687642698,1.147104687642698,1.147104687642698,1.147104687642698,1.147104687642698,1.147104687642698,1.147104687642698]
[null,null,null,null,null,"Adder on Unit rate 3","p/kWh",null,null,{"$f":"MAX($H$129, J76)","v":1.147104687642698},1.147104687642698,1.147104687642698,1.147104687642698,1.147104687642698,1.147104687642698,1.147104687642698,1.147104687642698]
[]
[null,"Checks"]
[]
[null,null,null,null,"Check that adder constraint is compatible with revenue matching ",null,"number of issues",{"$f":"IF(IFERROR(J122, 1) > IFERROR(J121, 0), 0, 1)","v":0}]
[]
[null,null,null,null,"Check for error values",null,"number of issues",{"$f":"SUM(IF(ISERROR(H20:BE142), 1))","v":0}]
[]
[null,null,null,null,"Expected revenue from unit rate adder, by tariff (pre-rounding)"]
[null,null,null,null,null,"Unit rate 1","£",null,null,{"$f":"(J139) * J29 * ten","v":8540280.1565784942},15228.575082835225,2167724.1328072222,47859.972774848466,3235697.1947682439,263953.88396721054,3743139.5644383673,159091.65888083083,0,0,0,0,0,0,0,0]
[null,null,null,null,null,"Unit rate 2","£",null,null,{"$f":"(J140) * J30 * ten","v":30342041.308751561},275707.4348692444,11742041.039994903,290440.20187777048,15487362.43662948,1233152.9572262808,17370998.595985364,606616.48902709619,0,0,0,0,0,0,0,0]
[null,null,null,null,null,"Unit rate 3","£",null,null,{"$f":"(J141) * J31 * ten","v":27943401.376719814},2816315.7064569062,11341591.479188323,602931.50768867217,13524724.866216313,1219555.4965935899,18598130.756221086,2172891.3200384933,0,0,0,0,0,0,0,0]
[null,null,null,null,null,"Fixed charge","£",null,null,{"$f":"(J142) * J32 * ten","v":0},0,0,0,0,0,0,0,0,0,0,0,0,0,0,0]
[null,null,null,null,null,"Capacity charge","£",null,null,{"$f":"(J143) * J33 * ten","v":0},0,0,0,0,0,0,0,0,0,0,0,0,0,0,0]
[null,null,null,null,null,"Exceeded capacity charge","£",null,null,{"$f":"(J144) * J34 * ten","v":0},0,0,0,0,0,0,0,0,0,0,0,0,0,0,0]
[null,null,null,null,null,"Reactive power charge","£",null,null,{"$f":"(J145) * J35 * ten","v":0},0,0,0,0,0,0,0,0,0,0,0,0,0,0,0]
[]
[null,null,null,null,"Total expected revenue from unit rate adder, post scaling (pre-rounding)",null,"£",{"$f":"SUM(J150:Y156)","v":173740878.11278296}]
[]
[null,null,null,null,"Total revenue check",null,"number of issues",{"$f":"IF(ABS(IFERROR(H158, 0) - H60) < 10^-check_decimals, 0, 1)","v":0}]
[]
[null,null,null,null,"Summary of error checks",null,"number of issues",{"$f":"H145 + H147 + H160","v":0}]
[]
[null,"End of sheet"]

{"sheet":"Fixed charge adder","index":32,"n_rows":68,"n_cols":27,"rows_kept":68,"cut":false,"hidden":false,"merged":[]}
[{"$f":"MID(CELL(\"filename\",A1),FIND(\"]\",CELL(\"filename\",A1))+1,255)","v":"Fixed charge adder"}]
[{"$f":"Cover!D21&\" - \"&Cover!D23","v":"SP Distribution - One"}]
[{"$f":"Cover!D2&\" - \"&Cover!D8&\" v\"&Cover!D10&\" - \"&Cover!D19","v":"ARP model - Release for charge setting v5 - 2021/22"}]
[{"$f":"H66 & IF(H66 = 1, \" issue\", \" issues\") &\" identified in checks on this sheet\"","v":"0 issues identified in checks on this sheet"}]
[null,"Click here to return to model map",null,null,null,null,"Units","Constants",null,"Domestic Aggregated","Domestic Aggregated (Related MPAN)","Non-Domestic Aggregated","Non-Domestic Aggregated (Related MPAN)","LV Site Specific","LV Sub Site Specific","HV Site Specific","Unmetered Supplies","LV Generation Aggregated","LV Sub Generation Aggregated","LV Generation Site Specific","LV Generation Site Specific no RP Charge","LV Sub Generation Site Specific","LV Sub Generation Site Specific no RP Charge","HV Generation Site Specific","HV Generation Site Specific no RP Charge",null,"Legal text reference"]
[]
[null,"Description"]
[]
[null,null,"This sheet calculates the fixed charge adders for recovering revenue associated with Supplier of Last Resort and Bad Debt"]
[null,null,"costs."]
[]
[null,"Fixed tariff adjustments"]
[]
[null,null,"Tariff adjustments for fixed adders to account for Supplier of Last Resort and Eligible Bad Debt costs"]
[]
[null,null,{"$f":"INDEX('Version control'!$H$34:$H$59,MATCH($A$1,'Version control'!$F$34:$F$59,0),1)&\"-A: Inputs for fixed tariff adjustments\"","v":"Section 519-A: Inputs for fixed tariff adjustments"}]
[]
[null,null,null,null,"MPANs"]
[null,null,null,null,"All-the-way MPANs, plus LDNO-connected MPANs from designated properties"]
[null,null,null,null,null,"All the way customers","MPANs",null,null,{"$f":"'Inputs by customer type'!J27","v":1852569},{"$f":"'Inputs by customer type'!K27","v":100059},{"$f":"'Inputs by customer type'!L27","v":125030},{"$f":"'Inputs by customer type'!M27","v":7441},{"$f":"'Inputs by customer type'!N27","v":10491},{"$f":"'Inputs by customer type'!O27","v":219},{"$f":"'Inputs by customer type'!P27","v":1257},{"$f":"'Inputs by customer type'!Q27","v":4868},{"$f":"'Inputs by customer type'!R27","v":167},{"$f":"'Inputs by customer type'!S27","v":4},{"$f":"'Inputs by customer type'!T27","v":472},{"$f":"'Inputs by customer type'!U27","v":0},{"$f":"'Inputs by customer type'!V27","v":8},{"$f":"'Inputs by customer type'!W27","v":0},{"$f":"'Inputs by customer type'!X27","v":255},{"$f":"'Inputs by customer type'!Y27","v":0}]
[null,null,null,null,null,"LDNO LV","MPANs",null,null,{"$f":"'Inputs by customer type'!J36","v":41179.93548387097},{"$f":"'Inputs by customer type'!K36","v":67},{"$f":"'Inputs by customer type'!L36","v":1036.6774193548388},{"$f":"'Inputs by customer type'!M36","v":0},{"$f":"'Inputs by customer type'!N36","v":76},{"$f":"'Inputs by customer type'!O36","v":0},{"$f":"'Inputs by customer type'!P36","v":0},{"$f":"'Inputs by customer type'!Q36","v":34},{"$f":"'Inputs by customer type'!R36","v":3},{"$f":"'Inputs by customer type'!S36","v":0},{"$f":"'Inputs by customer type'!T36","v":0},{"$f":"'Inputs by customer type'!U36","v":0},{"$f":"'Inputs by customer type'!V36","v":0},{"$f":"'Inputs by customer type'!W36","v":0},{"$f":"'Inputs by customer type'!X36","v":0},{"$f":"'Inputs by customer type'!Y36","v":0}]
[null,null,null,null,null,"LDNO HV","MPANs",null,null,{"$f":"'Inputs by customer type'!J45","v":58740.548387096773},{"$f":"'Inputs by customer type'!K45","v":78.451612903225808},{"$f":"'Inputs by customer type'!L45","v":1509.8709677419354},{"$f":"'Inputs by customer type'!M45","v":0},{"$f":"'Inputs by customer type'!N45","v":381},{"$f":"'Inputs by customer type'!O45","v":26},{"$f":"'Inputs by customer type'!P45","v":30},{"$f":"'Inputs by customer type'!Q45","v":46},{"$f":"'Inputs by customer type'!R45","v":5},{"$f":"'Inputs by customer type'!S45","v":0},{"$f":"'Inputs by customer type'!T45","v":0},{"$f":"'Inputs by customer type'!U45","v":0},{"$f":"'Inputs by customer type'!V45","v":0},{"$f":"'Inputs by customer type'!W45","v":0},{"$f":"'Inputs by customer type'!X45","v":0},{"$f":"'Inputs by customer type'!Y45","v":0}]
[null,null,null,null,null,"LDNO designated customers from EDCM","MPANs",null,null,{"$f":"'Inputs by customer type'!J50","v":3083},{"$f":"'Inputs by customer type'!K50","v":0},{"$f":"'Inputs by customer type'!L50","v":42},{"$f":"'Inputs by customer type'!M50","v":0},{"$f":"'Inputs by customer type'!N50","v":18},{"$f":"'Inputs by customer type'!O50","v":0},{"$f":"'Inputs by customer type'!P50","v":4},{"$f":"'Inputs by customer type'!Q50","v":0},{"$f":"'Inputs by customer type'!R50","v":0},{"$f":"'Inputs by customer type'!S50","v":0},{"$f":"'Inputs by customer type'!T50","v":0},{"$f":"'Inputs by customer type'!U50","v":0},{"$f":"'Inputs by customer type'!V50","v":0},{"$f":"'Inputs by customer type'!W50","v":0},{"$f":"'Inputs by customer type'!X50","v":0},{"$f":"'Inputs by customer type'!Y50","v":0}]
[]
[null,null,null,null,"Map of applicable MPANs"]
[null,null,null,null,null,"Pass-through Supplier of Last Resort Adjustment","1 or 0",null,null,{"$f":"'Fixed inputs'!J158","v":1},{"$f":"'Fixed inputs'!K158","v":0},{"$f":"'Fixed inputs'!L158","v":0},{"$f":"'Fixed inputs'!M158","v":0},{"$f":"'Fixed inputs'!N158","v":0},{"$f":"'Fixed inputs'!O158","v":0},{"$f":"'Fixed inputs'!P158","v":0},{"$f":"'Fixed inputs'!Q158","v":0},{"$f":"'Fixed inputs'!R158","v":0},{"$f":"'Fixed inputs'!S158","v":0},{"$f":"'Fixed inputs'!T158","v":0},{"$f":"'Fixed inputs'!U158","v":0},{"$f":"'Fixed inputs'!V158","v":0},{"$f":"'Fixed inputs'!W158","v":0},{"$f":"'Fixed inputs'!X158","v":0},{"$f":"'Fixed inputs'!Y158","v":0}]
[null,null,null,null,null,"Pass-through Eligible Bad Debt Adjustment","1 or 0",null,null,{"$f":"'Fixed inputs'!J159","v":1},{"$f":"'Fixed inputs'!K159","v":0},{"$f":"'Fixed inputs'!L159","v":1},{"$f":"'Fixed inputs'!M159","v":0},{"$f":"'Fixed inputs'!N159","v":1},{"$f":"'Fixed inputs'!O159","v":1},{"$f":"'Fixed inputs'!P159","v":1},{"$f":"'Fixed inputs'!Q159","v":0},{"$f":"'Fixed inputs'!R159","v":0},{"$f":"'Fixed inputs'!S159","v":0},{"$f":"'Fixed inputs'!T159","v":0},{"$f":"'Fixed inputs'!U159","v":0},{"$f":"'Fixed inputs'!V159","v":0},{"$f":"'Fixed inputs'!W159","v":0},{"$f":"'Fixed inputs'!X159","v":0},{"$f":"'Fixed inputs'!Y159","v":0}]
[]
[null,null,null,null,"Pass-through costs not allocated through revenue matching"]
[null,null,null,null,null,"Pass-through Supplier of Last Resort Adjustment","£",{"$f":"'General inputs'!H56","v":47073.343842731156}]
[null,null,null,null,null,"Pass-through Eligible Bad Debt Adjustment","£",{"$f":"'General inputs'!H57","v":1417380.0307358583}]
[]
[null,null,{"$f":"INDEX('Version control'!$H$34:$H$59,MATCH($A$1,'Version control'!$F$34:$F$59,0),1)&\"-B: Calculation of fixed tariff adjustments\"","v":"Section 519-B: Calculation of fixed tariff adjustments"}]
[]
[null,null,null,null,"MPANs to be charged for allocated pass-through costs"]
[null,null,null,null,null,"Pass-through Supplier of Last Resort Adjustment","MPANs",null,null,{"$f":"SUM( J$20:J$23 ) * J26","v":1955572.4838709678},{"$f":"SUM( K$20:K$23 ) * K26","v":0},0,0,0,0,0,0,0,0,0,0,0,0,0,0]
[null,null,null,null,null,"Pass-through Eligible Bad Debt Adjustment","MPANs",null,null,{"$f":"SUM( J$20:J$23 ) * J27","v":1955572.4838709678},0,127618.54838709677,0,10966,245,1291,0,0,0,0,0,0,0,0,0]
[]
[null,null,null,null,"Adder to fixed charge for allocated pass-through costs",null,null,null,">",null,null,null,null,null,null,null,null,null,null,null,null,null,null,null,null,null,"Paragraphs 101 and 102"]
[null,null,null,null,null,"Pass-through Supplier of Last Resort Adjustment","p/MPAN/day",{"$f":"H30 / SUM( J36:Y36 ) * hundred / days_in_year","v":6.5949007968891344E-3}]
[null,null,null,null,null,"Pass-through Eligible Bad Debt Adjustment","p/MPAN/day",{"$f":"H31 / SUM( J37:Y37 ) * hundred / days_in_year","v":0.18529588547307707}]
[]
[null,null,null,null,"Adder to fixed charge for allocated pass-through costs, mapped to tariffs"]
[null,null,null,null,null,"Pass-through Supplier of Last Resort Adjustment","p/MPAN/day",null,null,{"$f":"IF( J26 = 1, $H40, 0)","v":6.5949007968891344E-3},{"$f":"IF( K26 = 1, $H40, 0)","v":0},0,0,0,0,0,0,0,0,0,0,0,0,0,0]
[null,null,null,null,null,"Pass-through Eligible Bad Debt Adjustment","p/MPAN/day",null,null,{"$f":"IF( J27 = 1, $H41, 0)","v":0.18529588547307707},0,0.18529588547307707,0,0.18529588547307707,0.18529588547307707,0.18529588547307707,0,0,0,0,0,0,0,0,0]
[null,null,null,null,null,"Sum","p/MPAN/day",null,null,{"$f":" J44 + J45","v":0.1918907862699662},{"$f":" K44 + K45","v":0},0.18529588547307707,0,0.18529588547307707,0.18529588547307707,0.18529588547307707,0,0,0,0,0,0,0,0,0]
[]
[null,null,{"$f":"INDEX('Version control'!$H$34:$H$59,MATCH($A$1,'Version control'!$F$34:$F$59,0),1)&\"-C: Calculation of fixed charge adder revenue\"","v":"Section 519-C: Calculation of fixed charge adder revenue"}]
[]
[null,null,null,null,"Revenue from fixed charge adder, by CDCM tariff",null,"£",null,null,{"$f":"J46 / hundred * days_in_year * SUM( J20:J22 )","v":1367526.3091900176},0,86283.84467129875,0,7404.4606426812543,165.70084558429917,870.43668680405324,0,0,0,0,0,0,0,0,0]
[]
[null,null,null,null,"Revenue from fixed charge adder, CDCM total",null,"£",{"$f":"SUM( J50:Y50 )","v":1462250.7520363859}]
[]
[null,null,null,null,"Revenue from fixed charge adder, by EDCM tariff",null,"£",null,null,{"$f":"J46 / hundred * days_in_year * J23","v":2159.337423356616},0,28.405859243022714,0,12.173939675581163,0,2.7053199279069253,0,0,0,0,0,0,0,0,0]
[]
[null,null,null,null,"Revenue from fixed charge adder, EDCM total",null,"£",{"$f":"SUM( J54:Y54 )","v":2202.6225422031271}]
[]
[null,"Checks"]
[]
[null,null,null,null,"Revenue from fixed charge adder, by tariff",null,"£",null,null,{"$f":" J50 + J54","v":1369685.6466133744},{"$f":" K50 + K54","v":0},86312.250530541773,0,7416.6345823568354,165.70084558429917,873.14200673196012,0,0,0,0,0,0,0,0,0]
[]
[null,null,null,null,"Revenue from fixed charge adder, total",null,"£",{"$f":"SUM( J60:Y60 )","v":1464453.3745785893}]
[]
[null,null,null,null,"Revenue from fixed adder equals allocated costs",null,"number of issues",{"$f":"IF( ABS( IFERROR( H62, 0 ) - ( H30 + H31 ) ) < 10^-check_decimals, 0, 1)","v":0}]
[]
[null,null,null,null,"Check for error values",null,"number of issues",{"$f":"SUM( IF( ISERROR( H20:Y57 ), 1 )) + H64","v":0}]
[]
[null,"End of sheet"]

{"sheet":"Rounding","index":33,"n_rows":160,"n_cols":27,"rows_kept":160,"cut":false,"hidden":false,"merged":[]}
[{"$f":"MID(CELL(\"filename\",A1),FIND(\"]\",CELL(\"filename\",A1))+1,255)","v":"Rounding"}]
[{"$f":"Cover!D21&\" - \"&Cover!D23","v":"SP Distribution - One"}]
[{"$f":"Cover!D2&\" - \"&Cover!D8&\" v\"&Cover!D10&\" - \"&Cover!D19","v":"ARP model - Release for charge setting v5 - 2021/22"}]
[{"$f":"H158 & IF(H158 = 1, \" issue\", \" issues\") &\" identified in checks on this sheet\"","v":"0 issues identified in checks on this sheet"}]
[null,"Click here to return to model map",null,null,null,null,"Units","Constants",null,"Domestic Aggregated","Domestic Aggregated (Related MPAN)","Non-Domestic Aggregated","Non-Domestic Aggregated (Related MPAN)","LV Site Specific","LV Sub Site Specific","HV Site Specific","Unmetered Supplies","LV Generation Aggregated","LV Sub Generation Aggregated","LV Generation Site Specific","LV Generation Site Specific no RP Charge","LV Sub Generation Site Specific","LV Sub Generation Site Specific no RP Charge","HV Generation Site Specific","HV Generation Site Specific no RP Charge",null,"Legal text reference"]
[]
[null,"Description"]
[]
[null,null,"This sheet rounds charges to the number of decimal places specified in Paragraph 14."]
[null,null,"These include 'all the way' tariff forecast and LDNO tariff forecast."]
[]
[null,"Inputs"]
[]
[null,null,"Pulls in tariff forecast, adder and inputs for the number of decimal places"]
[]
[null,null,{"$f":"INDEX('Version control'!$H$34:$H$58,MATCH($A$1,'Version control'!$F$34:$F$58,0),1)&\"-A: Pre-match, pre-rounding tariff forecast\"","v":"Section 520-A: Pre-match, pre-rounding tariff forecast"}]
[]
[null,null,null,null,"Pre-match, pre-rounding tariff forecast"]
[null,null,null,null,"Tariff forecast before revenue matching"]
[null,null,null,null,null,"Unit rate 1","p/kWh",null,null,{"$f":"'Revenue matching'!J20","v":9.0075798509575993},{"$f":"'Revenue matching'!K20","v":9.0075798509575993},{"$f":"'Revenue matching'!L20","v":10.462349584574492},{"$f":"'Revenue matching'!M20","v":10.462349584574492},{"$f":"'Revenue matching'!N20","v":7.0335580755778464},{"$f":"'Revenue matching'!O20","v":4.1620061131966093},{"$f":"'Revenue matching'!P20","v":3.1534185792984371},{"$f":"'Revenue matching'!Q20","v":21.581103155032686},{"$f":"'Revenue matching'!R20","v":-6.4413635387668471},{"$f":"'Revenue matching'!S20","v":-5.6891199709087141},{"$f":"'Revenue matching'!T20","v":-6.4413635387668471},{"$f":"'Revenue matching'!U20","v":-6.4413635387668471},{"$f":"'Revenue matching'!V20","v":-5.6891199709087141},{"$f":"'Revenue matching'!W20","v":-5.6891199709087141},{"$f":"'Revenue matching'!X20","v":-3.732687631507082},{"$f":"'Revenue matching'!Y20","v":-3.732687631507082}]
[null,null,null,null,null,"Unit rate 2","p/kWh",null,null,{"$f":"'Revenue matching'!J21","v":0.88300920268903393},{"$f":"'Revenue matching'!K21","v":0.88300920268903393},{"$f":"'Revenue matching'!L21","v":1.0256196578648074},{"$f":"'Revenue matching'!M21","v":1.0256196578648074},{"$f":"'Revenue matching'!N21","v":0.66594714340259142},{"$f":"'Revenue matching'!O21","v":0.35402490513798557},{"$f":"'Revenue matching'!P21","v":0.25261633874531259},{"$f":"'Revenue matching'!Q21","v":1.1952447724229316},{"$f":"'Revenue matching'!R21","v":-0.63144411448010185},{"$f":"'Revenue matching'!S21","v":-0.54797375527131609},{"$f":"'Revenue matching'!T21","v":-0.63144411448010185},{"$f":"'Revenue matching'!U21","v":-0.63144411448010185},{"$f":"'Revenue matching'!V21","v":-0.54797375527131609},{"$f":"'Revenue matching'!W21","v":-0.54797375527131609},{"$f":"'Revenue matching'!X21","v":-0.31633967493658671},{"$f":"'Revenue matching'!Y21","v":-0.31633967493658671}]
[null,null,null,null,null,"Unit rate 3","p/kWh",null,null,{"$f":"'Revenue matching'!J22","v":2.2825020549340613E-2},{"$f":"'Revenue matching'!K22","v":2.2825020549340613E-2},{"$f":"'Revenue matching'!L22","v":2.6511376886313207E-2},{"$f":"'Revenue matching'!M22","v":2.6511376886313207E-2},{"$f":"'Revenue matching'!N22","v":1.6180688220383998E-2},{"$f":"'Revenue matching'!O22","v":6.782565073577133E-3},{"$f":"'Revenue matching'!P22","v":4.0498989835803315E-3},{"$f":"'Revenue matching'!Q22","v":0.44929121314425297},{"$f":"'Revenue matching'!R22","v":-1.632228163067535E-2},{"$f":"'Revenue matching'!S22","v":-1.3737723553938727E-2},{"$f":"'Revenue matching'!T22","v":-1.632228163067535E-2},{"$f":"'Revenue matching'!U22","v":-1.632228163067535E-2},{"$f":"'Revenue matching'!V22","v":-1.3737723553938727E-2},{"$f":"'Revenue matching'!W22","v":-1.3737723553938727E-2},{"$f":"'Revenue matching'!X22","v":-6.0015573611233893E-3},{"$f":"'Revenue matching'!Y22","v":-6.0015573611233893E-3}]
[null,null,null,null,null,"Fixed charge","p/MPAN/day",null,null,{"$f":"'Revenue matching'!J23","v":4.5716420838261662},{"$f":"'Revenue matching'!K23","v":0},{"$f":"'Revenue matching'!L23","v":5.8510599368879221},{"$f":"'Revenue matching'!M23","v":0},{"$f":"'Revenue matching'!N23","v":23.235516904135658},{"$f":"'Revenue matching'!O23","v":8.2007706720478808},{"$f":"'Revenue matching'!P23","v":124.16460347195436},{"$f":"'Revenue matching'!Q23","v":0},{"$f":"'Revenue matching'!R23","v":0},{"$f":"'Revenue matching'!S23","v":0},{"$f":"'Revenue matching'!T23","v":0},{"$f":"'Revenue matching'!U23","v":0},{"$f":"'Revenue matching'!V23","v":0},{"$f":"'Revenue matching'!W23","v":0},{"$f":"'Revenue matching'!X23","v":90.667330037272208},{"$f":"'Revenue matching'!Y23","v":90.667330037272208}]
[null,null,null,null,null,"Capacity charge","p/kVA/day",null,null,{"$f":"'Revenue matching'!J24","v":0},{"$f":"'Revenue matching'!K24","v":0},{"$f":"'Revenue matching'!L24","v":0},{"$f":"'Revenue matching'!M24","v":0},{"$f":"'Revenue matching'!N24","v":2.498083735110924},{"$f":"'Revenue matching'!O24","v":4.5053338960962241},{"$f":"'Revenue matching'!P24","v":4.9643297738527297},{"$f":"'Revenue matching'!Q24","v":0},{"$f":"'Revenue matching'!R24","v":0},{"$f":"'Revenue matching'!S24","v":0},{"$f":"'Revenue matching'!T24","v":0},{"$f":"'Revenue matching'!U24","v":0},{"$f":"'Revenue matching'!V24","v":0},{"$f":"'Revenue matching'!W24","v":0},{"$f":"'Revenue matching'!X24","v":0},{"$f":"'Revenue matching'!Y24","v":0}]
[null,null,null,null,null,"Exceeded capacity charge","p/kVA/day",null,null,{"$f":"'Revenue matching'!J25","v":0},{"$f":"'Revenue matching'!K25","v":0},{"$f":"'Revenue matching'!L25","v":0},{"$f":"'Revenue matching'!M25","v":0},{"$f":"'Revenue matching'!N25","v":3.691279099689118},{"$f":"'Revenue matching'!O25","v":5.1392827901526239},{"$f":"'Revenue matching'!P25","v":6.1243810865470367},{"$f":"'Revenue matching'!Q25","v":0},{"$f":"'Revenue matching'!R25","v":0},{"$f":"'Revenue matching'!S25","v":0},{"$f":"'Revenue matching'!T25","v":0},{"$f":"'Revenue matching'!U25","v":0},{"$f":"'Revenue matching'!V25","v":0},{"$f":"'Revenue matching'!W25","v":0},{"$f":"'Revenue matching'!X25","v":0},{"$f":"'Revenue matching'!Y25","v":0}]
[null,null,null,null,null,"Reactive power charge","p/kVArh",null,null,{"$f":"'Revenue matching'!J26","v":0},{"$f":"'Revenue matching'!K26","v":0},{"$f":"'Revenue matching'!L26","v":0},{"$f":"'Revenue matching'!M26","v":0},{"$f":"'Revenue matching'!N26","v":0.23544821131127469},{"$f":"'Revenue matching'!O26","v":0.13709057031775684},{"$f":"'Revenue matching'!P26","v":0.10158869577513742},{"$f":"'Revenue matching'!Q26","v":0},{"$f":"'Revenue matching'!R26","v":0},{"$f":"'Revenue matching'!S26","v":0},{"$f":"'Revenue matching'!T26","v":0.20319917220642791},{"$f":"'Revenue matching'!U26","v":0},{"$f":"'Revenue matching'!V26","v":0.1816089264144457},{"$f":"'Revenue matching'!W26","v":0},{"$f":"'Revenue matching'!X26","v":0.15574087273376108},{"$f":"'Revenue matching'!Y26","v":0}]
[]
[null,null,{"$f":"INDEX('Version control'!$H$34:$H$58,MATCH($A$1,'Version control'!$F$34:$F$58,0),1)&\"-B: Adder to be applied to unit rates\"","v":"Section 520-B: Adder to be applied to unit rates"}]
[]
[null,null,null,null,"Adder to be applied to unit rates"]
[null,null,null,null,"Adder calculated in revenue matching"]
[null,null,null,null,null,"Unit rate 1","p/kWh",null,null,{"$f":"'Revenue matching'!J139","v":1.147104687642698},{"$f":"'Revenue matching'!K139","v":1.147104687642698},{"$f":"'Revenue matching'!L139","v":1.147104687642698},{"$f":"'Revenue matching'!M139","v":1.147104687642698},{"$f":"'Revenue matching'!N139","v":1.147104687642698},{"$f":"'Revenue matching'!O139","v":1.147104687642698},{"$f":"'Revenue matching'!P139","v":1.147104687642698},{"$f":"'Revenue matching'!Q139","v":1.147104687642698},{"$f":"'Revenue matching'!R139","v":0},{"$f":"'Revenue matching'!S139","v":0},{"$f":"'Revenue matching'!T139","v":0},{"$f":"'Revenue matching'!U139","v":0},{"$f":"'Revenue matching'!V139","v":0},{"$f":"'Revenue matching'!W139","v":0},{"$f":"'Revenue matching'!X139","v":0},{"$f":"'Revenue matching'!Y139","v":0}]
[null,null,null,null,null,"Unit rate 2","p/kWh",null,null,{"$f":"'Revenue matching'!J140","v":1.147104687642698},{"$f":"'Revenue matching'!K140","v":1.147104687642698},{"$f":"'Revenue matching'!L140","v":1.147104687642698},{"$f":"'Revenue matching'!M140","v":1.147104687642698},{"$f":"'Revenue matching'!N140","v":1.147104687642698},{"$f":"'Revenue matching'!O140","v":1.147104687642698},{"$f":"'Revenue matching'!P140","v":1.147104687642698},{"$f":"'Revenue matching'!Q140","v":1.147104687642698},{"$f":"'Revenue matching'!R140","v":0},{"$f":"'Revenue matching'!S140","v":0},{"$f":"'Revenue matching'!T140","v":0},{"$f":"'Revenue matching'!U140","v":0},{"$f":"'Revenue matching'!V140","v":0},{"$f":"'Revenue matching'!W140","v":0},{"$f":"'Revenue matching'!X140","v":0},{"$f":"'Revenue matching'!Y140","v":0}]
[null,null,null,null,null,"Unit rate 3","p/kWh",null,null,{"$f":"'Revenue matching'!J141","v":1.147104687642698},{"$f":"'Revenue matching'!K141","v":1.147104687642698},{"$f":"'Revenue matching'!L141","v":1.147104687642698},{"$f":"'Revenue matching'!M141","v":1.147104687642698},{"$f":"'Revenue matching'!N141","v":1.147104687642698},{"$f":"'Revenue matching'!O141","v":1.147104687642698},{"$f":"'Revenue matching'!P141","v":1.147104687642698},{"$f":"'Revenue matching'!Q141","v":1.147104687642698},{"$f":"'Revenue matching'!R141","v":0},{"$f":"'Revenue matching'!S141","v":0},{"$f":"'Revenue matching'!T141","v":0},{"$f":"'Revenue matching'!U141","v":0},{"$f":"'Revenue matching'!V141","v":0},{"$f":"'Revenue matching'!W141","v":0},{"$f":"'Revenue matching'!X141","v":0},{"$f":"'Revenue matching'!Y141","v":0}]
[null,null,null,null,null,"Fixed charge","p/MPAN/day"]
[null,null,null,null,null,"Capacity charge","p/kVA/day"]
[null,null,null,null,null,"Exceeded capacity charge","p/kVA/day"]
[null,null,null,null,null,"Reactive power charge","p/kVArh"]
[]
[null,null,{"$f":"INDEX('Version control'!$H$34:$H$58,MATCH($A$1,'Version control'!$F$34:$F$58,0),1)&\"-C: Adder to be applied to fixed charge\"","v":"Section 520-C: Adder to be applied to fixed charge"}]
[]
[null,null,null,null,"Adder to be applied to fixed charge"]
[null,null,null,null,"Adder calculated in allocated costs"]
[null,null,null,null,null,"Unit rate 1","p/kWh"]
[null,null,null,null,null,"Unit rate 2","p/kWh"]
[null,null,null,null,null,"Unit rate 3","p/kWh"]
[null,null,null,null,null,"Fixed charge","p/MPAN/day",null,null,{"$f":"'Fixed charge adder'!J46","v":0.1918907862699662},{"$f":"'Fixed charge adder'!K46","v":0},{"$f":"'Fixed charge adder'!L46","v":0.18529588547307707},{"$f":"'Fixed charge adder'!M46","v":0},{"$f":"'Fixed charge adder'!N46","v":0.18529588547307707},{"$f":"'Fixed charge adder'!O46","v":0.18529588547307707},{"$f":"'Fixed charge adder'!P46","v":0.18529588547307707},{"$f":"'Fixed charge adder'!Q46","v":0},{"$f":"'Fixed charge adder'!R46","v":0},{"$f":"'Fixed charge adder'!S46","v":0},{"$f":"'Fixed charge adder'!T46","v":0},{"$f":"'Fixed charge adder'!U46","v":0},{"$f":"'Fixed charge adder'!V46","v":0},{"$f":"'Fixed charge adder'!W46","v":0},{"$f":"'Fixed charge adder'!X46","v":0},{"$f":"'Fixed charge adder'!Y46","v":0}]
[null,null,null,null,null,"Capacity charge","p/kVA/day"]
[null,null,null,null,null,"Exceeded capacity charge","p/kVA/day"]
[null,null,null,null,null,"Reactive power charge","p/kVArh"]
[]
[null,null,{"$f":"INDEX('Version control'!$H$34:$H$58,MATCH($A$1,'Version control'!$F$34:$F$58,0),1)&\"-D: LDNO discounts\"","v":"Section 520-D: LDNO discounts"}]
[]
[null,null,null,null,"LDNO discounts (LV)",null,null,null,">",null,null,null,null,null,null,null,null,null,null,null,null,null,null,null,null,null,"Paragraphs 98 & 99"]
[null,null,null,null,null,"Unit rate 1","%",null,null,{"$f":"'Volume adjustments'!J$62","v":0.39067242808448932},{"$f":"'Volume adjustments'!K$62","v":0.39067242808448932},{"$f":"'Volume adjustments'!L$62","v":0.39067242808448932},{"$f":"'Volume adjustments'!M$62","v":0.39067242808448932},{"$f":"'Volume adjustments'!N$62","v":0.39067242808448932},{"$f":"'Volume adjustments'!O$62","v":0},{"$f":"'Volume adjustments'!P$62","v":0},{"$f":"'Volume adjustments'!Q$62","v":0.39067242808448932},{"$f":"'Volume adjustments'!R$62","v":0},{"$f":"'Volume adjustments'!S$62","v":0},{"$f":"'Volume adjustments'!T$62","v":0},{"$f":"'Volume adjustments'!U$62","v":0},{"$f":"'Volume adjustments'!V$62","v":0},{"$f":"'Volume adjustments'!W$62","v":0},{"$f":"'Volume adjustments'!X$62","v":0},{"$f":"'Volume adjustments'!Y$62","v":0}]
[null,null,null,null,null,"Unit rate 2","%",null,null,{"$f":"'Volume adjustments'!J$73","v":0.39067242808448932},{"$f":"'Volume adjustments'!K$73","v":0.39067242808448932},{"$f":"'Volume adjustments'!L$73","v":0.39067242808448932},{"$f":"'Volume adjustments'!M$73","v":0.39067242808448932},{"$f":"'Volume adjustments'!N$73","v":0.39067242808448932},{"$f":"'Volume adjustments'!O$73","v":0},{"$f":"'Volume adjustments'!P$73","v":0},{"$f":"'Volume adjustments'!Q$73","v":0.39067242808448932},{"$f":"'Volume adjustments'!R$73","v":0},{"$f":"'Volume adjustments'!S$73","v":0},{"$f":"'Volume adjustments'!T$73","v":0},{"$f":"'Volume adjustments'!U$73","v":0},{"$f":"'Volume adjustments'!V$73","v":0},{"$f":"'Volume adjustments'!W$73","v":0},{"$f":"'Volume adjustments'!X$73","v":0},{"$f":"'Volume adjustments'!Y$73","v":0}]
[null,null,null,null,null,"Unit rate 3","%",null,null,{"$f":"'Volume adjustments'!J$84","v":0.39067242808448932},{"$f":"'Volume adjustments'!K$84","v":0.39067242808448932},{"$f":"'Volume adjustments'!L$84","v":0.39067242808448932},{"$f":"'Volume adjustments'!M$84","v":0.39067242808448932},{"$f":"'Volume adjustments'!N$84","v":0.39067242808448932},{"$f":"'Volume adjustments'!O$84","v":0},{"$f":"'Volume adjustments'!P$84","v":0},{"$f":"'Volume adjustments'!Q$84","v":0.39067242808448932},{"$f":"'Volume adjustments'!R$84","v":0},{"$f":"'Volume adjustments'!S$84","v":0},{"$f":"'Volume adjustments'!T$84","v":0},{"$f":"'Volume adjustments'!U$84","v":0},{"$f":"'Volume adjustments'!V$84","v":0},{"$f":"'Volume adjustments'!W$84","v":0},{"$f":"'Volume adjustments'!X$84","v":0},{"$f":"'Volume adjustments'!Y$84","v":0}]
[null,null,null,null,null,"Fixed charge","%",null,null,{"$f":"'Volume adjustments'!J$99","v":0.39067242808448932},{"$f":"'Volume adjustments'!K$99","v":0.39067242808448932},{"$f":"'Volume adjustments'!L$99","v":0.39067242808448932},{"$f":"'Volume adjustments'!M$99","v":0.39067242808448932},{"$f":"'Volume adjustments'!N$99","v":0.39067242808448932},{"$f":"'Volume adjustments'!O$99","v":0},{"$f":"'Volume adjustments'!P$99","v":0},{"$f":"'Volume adjustments'!Q$99","v":0.39067242808448932},{"$f":"'Volume adjustments'!R$99","v":1},{"$f":"'Volume adjustments'!S$99","v":1},{"$f":"'Volume adjustments'!T$99","v":1},{"$f":"'Volume adjustments'!U$99","v":1},{"$f":"'Volume adjustments'!V$99","v":1},{"$f":"'Volume adjustments'!W$99","v":1},{"$f":"'Volume adjustments'!X$99","v":1},{"$f":"'Volume adjustments'!Y$99","v":1}]
[null,null,null,null,null,"Capacity charge","%",null,null,{"$f":"'Volume adjustments'!J$110","v":0.39067242808448932},{"$f":"'Volume adjustments'!K$110","v":0.39067242808448932},{"$f":"'Volume adjustments'!L$110","v":0.39067242808448932},{"$f":"'Volume adjustments'!M$110","v":0.39067242808448932},{"$f":"'Volume adjustments'!N$110","v":0.39067242808448932},{"$f":"'Volume adjustments'!O$110","v":0},{"$f":"'Volume adjustments'!P$110","v":0},{"$f":"'Volume adjustments'!Q$110","v":0.39067242808448932},{"$f":"'Volume adjustments'!R$110","v":0},{"$f":"'Volume adjustments'!S$110","v":0},{"$f":"'Volume adjustments'!T$110","v":0},{"$f":"'Volume adjustments'!U$110","v":0},{"$f":"'Volume adjustments'!V$110","v":0},{"$f":"'Volume adjustments'!W$110","v":0},{"$f":"'Volume adjustments'!X$110","v":0},{"$f":"'Volume adjustments'!Y$110","v":0}]
[null,null,null,null,null,"Exceeded capacity charge","%",null,null,{"$f":"'Volume adjustments'!J$121","v":0.39067242808448932},{"$f":"'Volume adjustments'!K$121","v":0.39067242808448932},{"$f":"'Volume adjustments'!L$121","v":0.39067242808448932},{"$f":"'Volume adjustments'!M$121","v":0.39067242808448932},{"$f":"'Volume adjustments'!N$121","v":0.39067242808448932},{"$f":"'Volume adjustments'!O$121","v":0},{"$f":"'Volume adjustments'!P$121","v":0},{"$f":"'Volume adjustments'!Q$121","v":0.39067242808448932},{"$f":"'Volume adjustments'!R$121","v":0},{"$f":"'Volume adjustments'!S$121","v":0},{"$f":"'Volume adjustments'!T$121","v":0},{"$f":"'Volume adjustments'!U$121","v":0},{"$f":"'Volume adjustments'!V$121","v":0},{"$f":"'Volume adjustments'!W$121","v":0},{"$f":"'Volume adjustments'!X$121","v":0},{"$f":"'Volume adjustments'!Y$121","v":0}]
[null,null,null,null,null,"Reactive power charge","%",null,null,{"$f":"'Volume adjustments'!J$132","v":0.39067242808448932},{"$f":"'Volume adjustments'!K$132","v":0.39067242808448932},{"$f":"'Volume adjustments'!L$132","v":0.39067242808448932},{"$f":"'Volume adjustments'!M$132","v":0.39067242808448932},{"$f":"'Volume adjustments'!N$132","v":0.39067242808448932},{"$f":"'Volume adjustments'!O$132","v":0},{"$f":"'Volume adjustments'!P$132","v":0},{"$f":"'Volume adjustments'!Q$132","v":0.39067242808448932},{"$f":"'Volume adjustments'!R$132","v":0},{"$f":"'Volume adjustments'!S$132","v":0},{"$f":"'Volume adjustments'!T$132","v":0},{"$f":"'Volume adjustments'!U$132","v":0},{"$f":"'Volume adjustments'!V$132","v":0},{"$f":"'Volume adjustments'!W$132","v":0},{"$f":"'Volume adjustments'!X$132","v":0},{"$f":"'Volume adjustments'!Y$132","v":0}]
[]
[null,null,null,null,"LDNO discounts (HV)",null,null,null,">",null,null,null,null,null,null,null,null,null,null,null,null,null,null,null,null,null,"Paragraphs 98 & 99"]
[null,null,null,null,null,"Unit rate 1","%",null,null,{"$f":"'Volume adjustments'!J$63","v":0.60361788113874959},{"$f":"'Volume adjustments'!K$63","v":0.60361788113874959},{"$f":"'Volume adjustments'!L$63","v":0.60361788113874959},{"$f":"'Volume adjustments'!M$63","v":0.60361788113874959},{"$f":"'Volume adjustments'!N$63","v":0.60361788113874959},{"$f":"'Volume adjustments'!O$63","v":0.34819248571328243},{"$f":"'Volume adjustments'!P$63","v":0.25174009320591562},{"$f":"'Volume adjustments'!Q$63","v":0.60361788113874959},{"$f":"'Volume adjustments'!R$63","v":0},{"$f":"'Volume adjustments'!S$63","v":0},{"$f":"'Volume adjustments'!T$63","v":0},{"$f":"'Volume adjustments'!U$63","v":0},{"$f":"'Volume adjustments'!V$63","v":0},{"$f":"'Volume adjustments'!W$63","v":0},{"$f":"'Volume adjustments'!X$63","v":0},{"$f":"'Volume adjustments'!Y$63","v":0}]
[null,null,null,null,null,"Unit rate 2","%",null,null,{"$f":"'Volume adjustments'!J$74","v":0.60361788113874959},{"$f":"'Volume adjustments'!K$74","v":0.60361788113874959},{"$f":"'Volume adjustments'!L$74","v":0.60361788113874959},{"$f":"'Volume adjustments'!M$74","v":0.60361788113874959},{"$f":"'Volume adjustments'!N$74","v":0.60361788113874959},{"$f":"'Volume adjustments'!O$74","v":0.34819248571328243},{"$f":"'Volume adjustments'!P$74","v":0.25174009320591562},{"$f":"'Volume adjustments'!Q$74","v":0.60361788113874959},{"$f":"'Volume adjustments'!R$74","v":0},{"$f":"'Volume adjustments'!S$74","v":0},{"$f":"'Volume adjustments'!T$74","v":0},{"$f":"'Volume adjustments'!U$74","v":0},{"$f":"'Volume adjustments'!V$74","v":0},{"$f":"'Volume adjustments'!W$74","v":0},{"$f":"'Volume adjustments'!X$74","v":0},{"$f":"'Volume adjustments'!Y$74","v":0}]
[null,null,null,null,null,"Unit rate 3","%",null,null,{"$f":"'Volume adjustments'!J$85","v":0.60361788113874959},{"$f":"'Volume adjustments'!K$85","v":0.60361788113874959},{"$f":"'Volume adjustments'!L$85","v":0.60361788113874959},{"$f":"'Volume adjustments'!M$85","v":0.60361788113874959},{"$f":"'Volume adjustments'!N$85","v":0.60361788113874959},{"$f":"'Volume adjustments'!O$85","v":0.34819248571328243},{"$f":"'Volume adjustments'!P$85","v":0.25174009320591562},{"$f":"'Volume adjustments'!Q$85","v":0.60361788113874959},{"$f":"'Volume adjustments'!R$85","v":0},{"$f":"'Volume adjustments'!S$85","v":0},{"$f":"'Volume adjustments'!T$85","v":0},{"$f":"'Volume adjustments'!U$85","v":0},{"$f":"'Volume adjustments'!V$85","v":0},{"$f":"'Volume adjustments'!W$85","v":0},{"$f":"'Volume adjustments'!X$85","v":0},{"$f":"'Volume adjustments'!Y$85","v":0}]
[null,null,null,null,null,"Fixed charge","%",null,null,{"$f":"'Volume adjustments'!J$100","v":0.60361788113874959},{"$f":"'Volume adjustments'!K$100","v":0.60361788113874959},{"$f":"'Volume adjustments'!L$100","v":0.60361788113874959},{"$f":"'Volume adjustments'!M$100","v":0.60361788113874959},{"$f":"'Volume adjustments'!N$100","v":0.60361788113874959},{"$f":"'Volume adjustments'!O$100","v":0.34819248571328243},{"$f":"'Volume adjustments'!P$100","v":0.25174009320591562},{"$f":"'Volume adjustments'!Q$100","v":0.60361788113874959},{"$f":"'Volume adjustments'!R$100","v":1},{"$f":"'Volume adjustments'!S$100","v":1},{"$f":"'Volume adjustments'!T$100","v":1},{"$f":"'Volume adjustments'!U$100","v":1},{"$f":"'Volume adjustments'!V$100","v":1},{"$f":"'Volume adjustments'!W$100","v":1},{"$f":"'Volume adjustments'!X$100","v":1},{"$f":"'Volume adjustments'!Y$100","v":1}]
[null,null,null,null,null,"Capacity charge","%",null,null,{"$f":"'Volume adjustments'!J$111","v":0.60361788113874959},{"$f":"'Volume adjustments'!K$111","v":0.60361788113874959},{"$f":"'Volume adjustments'!L$111","v":0.60361788113874959},{"$f":"'Volume adjustments'!M$111","v":0.60361788113874959},{"$f":"'Volume adjustments'!N$111","v":0.60361788113874959},{"$f":"'Volume adjustments'!O$111","v":0.34819248571328243},{"$f":"'Volume adjustments'!P$111","v":0.25174009320591562},{"$f":"'Volume adjustments'!Q$111","v":0.60361788113874959},{"$f":"'Volume adjustments'!R$111","v":0},{"$f":"'Volume adjustments'!S$111","v":0},{"$f":"'Volume adjustments'!T$111","v":0},{"$f":"'Volume adjustments'!U$111","v":0},{"$f":"'Volume adjustments'!V$111","v":0},{"$f":"'Volume adjustments'!W$111","v":0},{"$f":"'Volume adjustments'!X$111","v":0},{"$f":"'Volume adjustments'!Y$111","v":0}]
[null,null,null,null,null,"Exceeded capacity charge","%",null,null,{"$f":"'Volume adjustments'!J$122","v":0.60361788113874959},{"$f":"'Volume adjustments'!K$122","v":0.60361788113874959},{"$f":"'Volume adjustments'!L$122","v":0.60361788113874959},{"$f":"'Volume adjustments'!M$122","v":0.60361788113874959},{"$f":"'Volume adjustments'!N$122","v":0.60361788113874959},{"$f":"'Volume adjustments'!O$122","v":0.34819248571328243},{"$f":"'Volume adjustments'!P$122","v":0.25174009320591562},{"$f":"'Volume adjustments'!Q$122","v":0.60361788113874959},{"$f":"'Volume adjustments'!R$122","v":0},{"$f":"'Volume adjustments'!S$122","v":0},{"$f":"'Volume adjustments'!T$122","v":0},{"$f":"'Volume adjustments'!U$122","v":0},{"$f":"'Volume adjustments'!V$122","v":0},{"$f":"'Volume adjustments'!W$122","v":0},{"$f":"'Volume adjustments'!X$122","v":0},{"$f":"'Volume adjustments'!Y$122","v":0}]
[null,null,null,null,null,"Reactive power charge","%",null,null,{"$f":"'Volume adjustments'!J$133","v":0.60361788113874959},{"$f":"'Volume adjustments'!K$133","v":0.60361788113874959},{"$f":"'Volume adjustments'!L$133","v":0.60361788113874959},{"$f":"'Volume adjustments'!M$133","v":0.60361788113874959},{"$f":"'Volume adjustments'!N$133","v":0.60361788113874959},{"$f":"'Volume adjustments'!O$133","v":0.34819248571328243},{"$f":"'Volume adjustments'!P$133","v":0.25174009320591562},{"$f":"'Volume adjustments'!Q$133","v":0.60361788113874959},{"$f":"'Volume adjustments'!R$133","v":0},{"$f":"'Volume adjustments'!S$133","v":0},{"$f":"'Volume adjustments'!T$133","v":0},{"$f":"'Volume adjustments'!U$133","v":0},{"$f":"'Volume adjustments'!V$133","v":0},{"$f":"'Volume adjustments'!W$133","v":0},{"$f":"'Volume adjustments'!X$133","v":0},{"$f":"'Volume adjustments'!Y$133","v":0}]
[]
[null,null,{"$f":"INDEX('Version control'!$H$34:$H$58,MATCH($A$1,'Version control'!$F$34:$F$58,0),1)&\"-E: Decimal places for rounding\"","v":"Section 520-E: Decimal places for rounding"}]
[]
[null,null,null,null,"Decimal places for rounding",null,null,null,">",null,null,null,null,null,null,null,null,null,null,null,null,null,null,null,null,null,"Paragraph 14"]
[null,null,null,null,null,"Unit rate 1","integer",{"$f":"'Fixed inputs'!H25","v":3}]
[null,null,null,null,null,"Unit rate 2","integer",{"$f":"'Fixed inputs'!H26","v":3}]
[null,null,null,null,null,"Unit rate 3","integer",{"$f":"'Fixed inputs'!H27","v":3}]
[null,null,null,null,null,"Fixed charge","integer",{"$f":"'Fixed inputs'!H28","v":2}]
[null,null,null,null,null,"Capacity charge","integer",{"$f":"'Fixed inputs'!H29","v":2}]
[null,null,null,null,null,"Exceeded capacity charge","integer",{"$f":"'Fixed inputs'!H30","v":2}]
[null,null,null,null,null,"Reactive power charge","integer",{"$f":"'Fixed inputs'!H31","v":3}]
[]
[null,"Rounding of tariff forecast"]
[]
[null,null,"Calculates rounded tariff forecast"]
[]
[null,null,{"$f":"INDEX('Version control'!$H$34:$H$58,MATCH($A$1,'Version control'!$F$34:$F$58,0),1)&\"-F: Tariff forecast, post-revenue matching\"","v":"Section 520-F: Tariff forecast, post-revenue matching"}]
[]
[null,null,null,null,"All the way tariff forecast, pre-rounding"]
[null,null,null,null,null,"Unit rate 1","p/kWh",null,null,{"$f":" J20 + J32","v":10.154684538600296},{"$f":" K20 + K32","v":10.154684538600296},11.609454272217189,11.609454272217189,8.1806627632205444,5.3091108008393073,4.3005232669411351,22.728207842675385,-6.4413635387668471,-5.6891199709087141,-6.4413635387668471,-6.4413635387668471,-5.6891199709087141,-5.6891199709087141,-3.732687631507082,-3.732687631507082]
[null,null,null,null,null,"Unit rate 2","p/kWh",null,null,{"$f":" J21 + J33","v":2.030113890331732},2.030113890331732,2.1727243455075054,2.1727243455075054,1.8130518310452894,1.5011295927806836,1.3997210263880107,2.3423494600656296,-0.63144411448010185,-0.54797375527131609,-0.63144411448010185,-0.63144411448010185,-0.54797375527131609,-0.54797375527131609,-0.31633967493658671,-0.31633967493658671]
[null,null,null,null,null,"Unit rate 3","p/kWh",null,null,1.1699297081920386,1.1699297081920386,1.1736160645290112,1.1736160645290112,1.1632853758630821,1.1538872527162751,1.1511545866262785,1.596395900786951,-1.632228163067535E-2,-1.3737723553938727E-2,-1.632228163067535E-2,-1.632228163067535E-2,-1.3737723553938727E-2,-1.3737723553938727E-2,-6.0015573611233893E-3,-6.0015573611233893E-3]
[null,null,null,null,null,"Fixed charge","p/MPAN/day",null,null,4.5716420838261662,0,5.8510599368879221,0,23.235516904135658,8.2007706720478808,124.16460347195436,0,0,0,0,0,0,0,90.667330037272208,90.667330037272208]
[null,null,null,null,null,"Capacity charge","p/kVA/day",null,null,0,0,0,0,2.498083735110924,4.5053338960962241,4.9643297738527297,0,0,0,0,0,0,0,0,0]
[null,null,null,null,null,"Exceeded capacity charge","p/kVA/day",null,null,0,0,0,0,3.691279099689118,5.1392827901526239,6.1243810865470367,0,0,0,0,0,0,0,0,0]
[null,null,null,null,null,"Reactive power charge","p/kVArh",null,null,0,0,0,0,0.23544821131127469,0.13709057031775684,0.10158869577513742,0,0,0,0.20319917220642791,0,0.1816089264144457,0,0.15574087273376108,0]
[]
[null,null,{"$f":"INDEX('Version control'!$H$34:$H$58,MATCH($A$1,'Version control'!$F$34:$F$58,0),1)&\"-G: Tariff forecast, post-adders & discounting\"","v":"Section 520-G: Tariff forecast, post-adders & discounting"}]
[]
[null,null,null,null,"All the way tariff forecast, post-adders & discounting",null,null,null,">",null,null,null,null,null,null,null,null,null,null,null,null,null,null,null,null,null,"Paragraphs 98 to 100"]
[null,null,null,null,null,"Unit rate 1","p/kWh",null,null,{"$f":" J90 + J44","v":10.154684538600296},{"$f":" K90 + K44","v":10.154684538600296},11.609454272217189,11.609454272217189,8.1806627632205444,5.3091108008393073,4.3005232669411351,22.728207842675385,-6.4413635387668471,-5.6891199709087141,-6.4413635387668471,-6.4413635387668471,-5.6891199709087141,-5.6891199709087141,-3.732687631507082,-3.732687631507082]
[null,null,null,null,null,"Unit rate 2","p/kWh",null,null,{"$f":" J91 + J45","v":2.030113890331732},2.030113890331732,2.1727243455075054,2.1727243455075054,1.8130518310452894,1.5011295927806836,1.3997210263880107,2.3423494600656296,-0.63144411448010185,-0.54797375527131609,-0.63144411448010185,-0.63144411448010185,-0.54797375527131609,-0.54797375527131609,-0.31633967493658671,-0.31633967493658671]
[null,null,null,null,null,"Unit rate 3","p/kWh",null,null,1.1699297081920386,1.1699297081920386,1.1736160645290112,1.1736160645290112,1.1632853758630821,1.1538872527162751,1.1511545866262785,1.596395900786951,-1.632228163067535E-2,-1.3737723553938727E-2,-1.632228163067535E-2,-1.632228163067535E-2,-1.3737723553938727E-2,-1.3737723553938727E-2,-6.0015573611233893E-3,-6.0015573611233893E-3]
[null,null,null,null,null,"Fixed charge","p/MPAN/day",null,null,4.7635328700961326,0,6.0363558223609992,0,23.420812789608735,8.3860665575209588,124.34989935742745,0,0,0,0,0,0,0,90.667330037272208,90.667330037272208]
[null,null,null,null,null,"Capacity charge","p/kVA/day",null,null,0,0,0,0,2.498083735110924,4.5053338960962241,4.9643297738527297,0,0,0,0,0,0,0,0,0]
[null,null,null,null,null,"Exceeded capacity charge","p/kVA/day",null,null,0,0,0,0,3.691279099689118,5.1392827901526239,6.1243810865470367,0,0,0,0,0,0,0,0,0]
[null,null,null,null,null,"Reactive power charge","p/kVArh",null,null,0,0,0,0,0.23544821131127469,0.13709057031775684,0.10158869577513742,0,0,0,0.20319917220642791,0,0.1816089264144457,0,0.15574087273376108,0]
[]
[null,null,null,null,"LDNO LV tariff forecast, post-adders & discounting",null,null,null,">",null,null,null,null,null,null,null,null,null,null,null,null,null,null,null,null,null,"Paragraphs 98 to 100"]
[null,null,null,null,null,"Unit rate 1","p/kWh",null,null,{"$f":" J90 * (1 - J55) + J44","v":6.1875292734732961},{"$f":" K90 * (1 - K55) + K44","v":6.1875292734732961},7.0739605829542516,7.0739605829542516,4.9847033781728065,null,null,{"$f":" Q90 * (1 - Q55) + Q44","v":13.848923698768459},-6.4413635387668471,null,{"$f":" T90 * (1 - T55) + T44","v":-6.4413635387668471}]
[null,null,null,null,null,"Unit rate 2","p/kWh",null,null,{"$f":" J91 * (1 - J56) + J45","v":1.2370043675077855},1.2370043675077855,1.3239008498898053,1.3239008498898053,1.104742469967797,null,null,1.4272581090793974,-0.63144411448010185,null,-0.63144411448010185]
[null,null,null,null,null,"Unit rate 3","p/kWh",null,null,0.71287042840447679,0.71287042840447679,0.71511662696049971,0.71511662696049971,0.70882185351947402,null,null,0.97272803804238739,-1.632228163067535E-2,null,-1.632228163067535E-2]
[null,null,null,null,null,"Fixed charge","p/MPAN/day",null,null,2.9775183568745298,0,3.750508029949116,0,14.343336982871861,null,null,0,0,null,0]
[null,null,null,null,null,"Capacity charge","p/kVA/day",null,null,0,0,0,0,1.522151296756769,null,null,0,0,null,0]
[null,null,null,null,null,"Exceeded capacity charge","p/kVA/day",null,null,0,0,0,0,2.2491981310760427,null,null,0,0,null,0]
[null,null,null,null,null,"Reactive power charge","p/kVArh",null,null,0,0,0,0,0.14346508691014909,null,null,0,0,null,0.20319917220642791]
[]
[null,null,null,null,"LDNO HV tariff forecast, post-adders & discounting",null,null,null,">",null,null,null,null,null,null,null,null,null,null,null,null,null,null,null,null,null,"Paragraphs 98 to 100"]
[null,null,null,null,null,"Unit rate 1","p/kWh",null,null,{"$f":"J90 * (1 - J64) + J44","v":4.0251353737779647},{"$f":"K90 * (1 - K64) + K44","v":4.0251353737779647},4.601780083244245,4.601780083244245,3.242668439774691,3.4605183141678335,3.217909138887165,9.0090551825985585,-6.4413635387668471,-5.6891199709087141,-6.4413635387668471,null,{"$f":"V90 * (1 - V64) + V44","v":-5.6891199709087141},null,{"$f":"X90 * (1 - X64) + X44","v":-3.732687631507082}]
[null,null,null,null,null,"Unit rate 2","p/kWh",null,null,{"$f":"J91 * (1 - J65) + J45","v":0.80470084537934805},0.80470084537934805,0.86122907977368846,0.86122907977368846,0.71866132639500158,0.97844754849260995,1.047355124742813,0.92846544209432014,-0.63144411448010185,-0.54797375527131609,-0.63144411448010185,null,-0.54797375527131609,null,-0.31633967493658671]
[null,null,null,null,null,"Unit rate 3","p/kWh",null,null,0.46373921665188461,0.46373921665188461,0.46520042238761145,0.46520042238761145,0.46110552212491457,0.75211238196012475,0.86136282369456185,0.63278278969534618,-1.632228163067535E-2,-1.3737723553938727E-2,-1.632228163067535E-2,null,-1.3737723553938727E-2,null,-6.0015573611233893E-3]
[null,null,null,null,null,"Fixed charge","p/MPAN/day",null,null,2.0040079621322442,0,2.5045514208408859,0,9.3954393087707722,5.5306198324560203,93.092690506522104,0,0,0,0,null,0,null,0]
[null,null,null,null,null,"Capacity charge","p/kVA/day",null,null,0,0,0,0,0.99019572401609468,2.9366104878461727,3.7146089338781416,0,0,0,0,null,0,null,0]
[null,null,null,null,null,"Exceeded capacity charge","p/kVA/day",null,null,0,0,0,0,1.4631570308430213,3.349823140665888,4.5826288209911388,0,0,0,0,null,0,null,0]
[null,null,null,null,null,"Reactive power charge","p/kVArh",null,null,0,0,0,0,9.3327460881654487E-2,8.9356663870965553E-2,7.6014748032036922E-2,0,0,0,0.20319917220642791,null,0.1816089264144457,null,0.15574087273376108]
[]
[null,null,{"$f":"INDEX('Version control'!$H$34:$H$58,MATCH($A$1,'Version control'!$F$34:$F$58,0),1)&\"-H: Tariff forecast, post-rounding\"","v":"Section 520-H: Tariff forecast, post-rounding"}]
[]
[null,null,null,null,"All the way tariff forecast, post-rounding",null,null,null,">",null,null,null,null,null,null,null,null,null,null,null,null,null,null,null,null,null,"Paragraph 14"]
[null,null,null,null,null,"Unit rate 1","p/kWh",null,null,{"$f":"ROUND(J101, $H75)","v":10.154999999999999},10.154999999999999,11.609,11.609,8.1809999999999992,5.3090000000000002,4.3010000000000002,22.728000000000002,-6.4409999999999998,-5.6890000000000001,-6.4409999999999998,-6.4409999999999998,-5.6890000000000001,-5.6890000000000001,-3.7330000000000001,-3.7330000000000001]
[null,null,null,null,null,"Unit rate 2","p/kWh",null,null,2.0299999999999998,2.0299999999999998,2.173,2.173,1.8129999999999999,1.5009999999999999,1.4,2.3420000000000001,-0.63100000000000001,-0.54800000000000004,-0.63100000000000001,-0.63100000000000001,-0.54800000000000004,-0.54800000000000004,-0.316,-0.316]
[null,null,null,null,null,"Unit rate 3","p/kWh",null,null,1.17,1.17,1.1739999999999999,1.1739999999999999,1.163,1.1539999999999999,1.151,1.5960000000000001,-1.6E-2,-1.4E-2,-1.6E-2,-1.6E-2,-1.4E-2,-1.4E-2,-6.0000000000000001E-3,-6.0000000000000001E-3]
[null,null,null,null,null,"Fixed charge","p/MPAN/day",null,null,4.76,0,6.04,0,23.42,8.39,124.35,0,0,0,0,0,0,0,90.67,90.67]
[null,null,null,null,null,"Capacity charge","p/kVA/day",null,null,0,0,0,0,2.5,4.51,4.96,0,0,0,0,0,0,0,0,0]
[null,null,null,null,null,"Exceeded capacity charge","p/kVA/day",null,null,0,0,0,0,3.69,5.14,6.12,0,0,0,0,0,0,0,0,0]
[null,null,null,null,null,"Reactive power charge","p/kVArh",null,null,0,0,0,0,0.23499999999999999,0.13700000000000001,0.10199999999999999,0,0,0,0.20300000000000001,0,0.182,0,0.156,0]
[]
[null,null,null,null,"LDNO LV tariff forecast, post-rounding",null,null,null,">",null,null,null,null,null,null,null,null,null,null,null,null,null,null,null,null,null,"Paragraph 14"]
[null,null,null,null,null,"Unit rate 1","p/kWh",null,null,{"$f":"ROUND(J110, $H75)","v":6.1879999999999997},{"$f":"ROUND(K110, $H75)","v":6.1879999999999997},{"$f":"ROUND(L110, $H75)","v":7.0739999999999998},{"$f":"ROUND(M110, $H75)","v":7.0739999999999998},{"$f":"ROUND(N110, $H75)","v":4.9850000000000003},null,null,{"$f":"ROUND(Q110, $H75)","v":13.849},{"$f":"ROUND(R110, $H75)","v":-6.4409999999999998},null,{"$f":"ROUND(T110, $H75)","v":-6.4409999999999998}]
[null,null,null,null,null,"Unit rate 2","p/kWh",null,null,{"$f":"ROUND(J111, $H76)","v":1.2370000000000001},1.2370000000000001,1.3240000000000001,1.3240000000000001,1.105,null,null,{"$f":"ROUND(Q111, $H76)","v":1.427},-0.63100000000000001,null,{"$f":"ROUND(T111, $H76)","v":-0.63100000000000001}]
[null,null,null,null,null,"Unit rate 3","p/kWh",null,null,0.71299999999999997,0.71299999999999997,0.71499999999999997,0.71499999999999997,0.70899999999999996,null,null,0.97299999999999998,-1.6E-2,null,-1.6E-2]
[null,null,null,null,null,"Fixed charge","p/MPAN/day",null,null,2.98,0,3.75,0,14.34,null,null,0,0,null,0]
[null,null,null,null,null,"Capacity charge","p/kVA/day",null,null,0,0,0,0,1.52,null,null,0,0,null,0]
[null,null,null,null,null,"Exceeded capacity charge","p/kVA/day",null,null,0,0,0,0,2.25,null,null,0,0,null,0]
[null,null,null,null,null,"Reactive power charge","p/kVArh",null,null,0,0,0,0,0.14299999999999999,null,null,0,0,null,0.20300000000000001]
[]
[null,null,null,null,"LDNO HV tariff forecast, post-rounding",null,null,null,">",null,null,null,null,null,null,null,null,null,null,null,null,null,null,null,null,null,"Paragraph 14"]
[null,null,null,null,null,"Unit rate 1","p/kWh",null,null,{"$f":"ROUND( J119, $H75)","v":4.0250000000000004},4.0250000000000004,4.6020000000000003,4.6020000000000003,3.2429999999999999,3.4609999999999999,3.218,9.0090000000000003,-6.4409999999999998,-5.6890000000000001,-6.4409999999999998,null,{"$f":"ROUND( V119, $H75)","v":-5.6890000000000001},null,{"$f":"ROUND( X119, $H75)","v":-3.7330000000000001}]
[null,null,null,null,null,"Unit rate 2","p/kWh",null,null,0.80500000000000005,0.80500000000000005,0.86099999999999999,0.86099999999999999,0.71899999999999997,0.97799999999999998,1.0469999999999999,0.92800000000000005,-0.63100000000000001,-0.54800000000000004,-0.63100000000000001,null,{"$f":"ROUND( V120, $H76)","v":-0.54800000000000004},null,{"$f":"ROUND( X120, $H76)","v":-0.316}]
[null,null,null,null,null,"Unit rate 3","p/kWh",null,null,0.46400000000000002,0.46400000000000002,0.46500000000000002,0.46500000000000002,0.46100000000000002,0.752,0.86099999999999999,0.63300000000000001,-1.6E-2,-1.4E-2,-1.6E-2,null,-1.4E-2,null,-6.0000000000000001E-3]
[null,null,null,null,null,"Fixed charge","p/MPAN/day",null,null,2,0,2.5,0,9.4,5.53,93.09,0,0,0,0,null,0,null,0]
[null,null,null,null,null,"Capacity charge","p/kVA/day",null,null,0,0,0,0,0.99,2.94,3.71,0,0,0,0,null,0,null,0]
[null,null,null,null,null,"Exceeded capacity charge","p/kVA/day",null,null,0,0,0,0,1.46,3.35,4.58,0,0,0,0,null,0,null,0]
[null,null,null,null,null,"Reactive power charge","p/kVArh",null,null,0,0,0,0,9.2999999999999999E-2,8.8999999999999996E-2,7.5999999999999998E-2,0,0,0,0.20300000000000001,null,0.182,null,0.156]
[]
[null,"Checks"]
[]
[null,null,null,null,"Check for error values",null,"number of issues",{"$f":"SUM(IF(ISERROR(H20:Y154), 1))","v":0}]
[]
[null,"End of sheet"]

{"sheet":"Net revenue summary","index":34,"n_rows":136,"n_cols":27,"rows_kept":136,"cut":false,"hidden":false,"merged":[]}
[{"$f":"MID(CELL(\"filename\",A1),FIND(\"]\",CELL(\"filename\",A1))+1,255)","v":"Net revenue summary"}]
[{"$f":"Cover!D21&\" - \"&Cover!D23","v":"SP Distribution - One"}]
[{"$f":"Cover!D2&\" - \"&Cover!D8&\" v\"&Cover!D10&\" - \"&Cover!D19","v":"ARP model - Release for charge setting v5 - 2021/22"}]
[{"$f":"H134 & IF(H134 = 1, \" issue\", \" issues\") &\" identified in checks on this sheet\"","v":"0 issues identified in checks on this sheet"}]
[null,"Click here to return to model map",null,null,null,null,"Units","Constants",null,"Domestic Aggregated","Domestic Aggregated (Related MPAN)","Non-Domestic Aggregated","Non-Domestic Aggregated (Related MPAN)","LV Site Specific","LV Sub Site Specific","HV Site Specific","Unmetered Supplies","LV Generation Aggregated","LV Sub Generation Aggregated","LV Generation Site Specific","LV Generation Site Specific no RP Charge","LV Sub Generation Site Specific","LV Sub Generation Site Specific no RP Charge","HV Generation Site Specific","HV Generation Site Specific no RP Charge",null,"Legal text reference"]
[]
[null,"Description"]
[]
[null,null,"This sheet calculates a summary of net revenue and other non-tariff outputs included for users' information"]
[]
[null,"Inputs to net revenue summary calculation"]
[]
[null,null,{"$f":"INDEX('Version control'!$H$34:$H$58,MATCH($A$1,'Version control'!$F$34:$F$58,0),1)&\"-A: Volume forecasts\"","v":"Input 505-A: Volume forecasts"}]
[]
[null,null,null,null,"All the way volume forecast",null,null,null,">",null,null,null,null,null,null,null,null,null,null,null,null,null,null,null,null,null,"Paragraph 52"]
[null,null,null,null,null,"Rate 1 units","MWh",null,null,{"$f":"'Inputs by customer type'!J24","v":728182.66484023235},{"$f":"'Inputs by customer type'!K24","v":1325.9025558238502},{"$f":"'Inputs by customer type'!L24","v":187782.12741331305},{"$f":"'Inputs by customer type'!M24","v":4172.2410596369182},{"$f":"'Inputs by customer type'!N24","v":275821.76887612289},{"$f":"'Inputs by customer type'!O24","v":21569.598912405832},{"$f":"'Inputs by customer type'!P24","v":322473.77411167003},{"$f":"'Inputs by customer type'!Q24","v":13844.286088792498},{"$f":"'Inputs by customer type'!R24","v":139.21456342227521},{"$f":"'Inputs by customer type'!S24","v":2.8776284544589532},{"$f":"'Inputs by customer type'!T24","v":6131.3814104814819},{"$f":"'Inputs by customer type'!U24","v":0},{"$f":"'Inputs by customer type'!V24","v":144.6141525623608},{"$f":"'Inputs by customer type'!W24","v":0},{"$f":"'Inputs by customer type'!X24","v":116075.81817719914},{"$f":"'Inputs by customer type'!Y24","v":0}]
[null,null,null,null,null,"Rate 2 units","MWh",null,null,{"$f":"'Inputs by customer type'!J25","v":2586978.352218715},{"$f":"'Inputs by customer type'!K25","v":24004.867020018988},{"$f":"'Inputs by customer type'!L25","v":1017175.5544889377},{"$f":"'Inputs by customer type'!M25","v":25319.415482001521},{"$f":"'Inputs by customer type'!N25","v":1322296.4326402938},{"$f":"'Inputs by customer type'!O25","v":101185.04898982702},{"$f":"'Inputs by customer type'!P25","v":1497042.8901385467},{"$f":"'Inputs by customer type'!Q25","v":52546.80809158679},{"$f":"'Inputs by customer type'!R25","v":625.58915267962095},{"$f":"'Inputs by customer type'!S25","v":11.85801478940583},{"$f":"'Inputs by customer type'!T25","v":27525.456251959484},{"$f":"'Inputs by customer type'!U25","v":0},{"$f":"'Inputs by customer type'!V25","v":597.34783091345412},{"$f":"'Inputs by customer type'!W25","v":0},{"$f":"'Inputs by customer type'!X25","v":445212.43930388504},{"$f":"'Inputs by customer type'!Y25","v":0}]
[null,null,null,null,null,"Rate 3 units","MWh",null,null,{"$f":"'Inputs by customer type'!J26","v":2382458.5766185289},{"$f":"'Inputs by customer type'!K26","v":245208.33115400965},{"$f":"'Inputs by customer type'!L26","v":982488.05164342187},{"$f":"'Inputs by customer type'!M26","v":52561.158034119573},{"$f":"'Inputs by customer type'!N26","v":1154944.2406044872},{"$f":"'Inputs by customer type'!O26","v":100898.01610776718},{"$f":"'Inputs by customer type'!P26","v":1602377.0319897835},{"$f":"'Inputs by customer type'!Q26","v":189052.68521962134},{"$f":"'Inputs by customer type'!R26","v":698.17114006254928},{"$f":"'Inputs by customer type'!S26","v":16.006356756135215},{"$f":"'Inputs by customer type'!T26","v":30981.276337559029},{"$f":"'Inputs by customer type'!U26","v":0},{"$f":"'Inputs by customer type'!V26","v":807.27901652418518},{"$f":"'Inputs by customer type'!W26","v":0},{"$f":"'Inputs by customer type'!X26","v":507559.16751891578},{"$f":"'Inputs by customer type'!Y26","v":0}]
[null,null,null,null,null,"MPANs","MPANs",null,null,{"$f":"'Inputs by customer type'!J27","v":1852569},{"$f":"'Inputs by customer type'!K27","v":100059},{"$f":"'Inputs by customer type'!L27","v":125030},{"$f":"'Inputs by customer type'!M27","v":7441},{"$f":"'Inputs by customer type'!N27","v":10491},{"$f":"'Inputs by customer type'!O27","v":219},{"$f":"'Inputs by customer type'!P27","v":1257},{"$f":"'Inputs by customer type'!Q27","v":4868},{"$f":"'Inputs by customer type'!R27","v":167},{"$f":"'Inputs by customer type'!S27","v":4},{"$f":"'Inputs by customer type'!T27","v":472},{"$f":"'Inputs by customer type'!U27","v":0},{"$f":"'Inputs by customer type'!V27","v":8},{"$f":"'Inputs by customer type'!W27","v":0},{"$f":"'Inputs by customer type'!X27","v":255},{"$f":"'Inputs by customer type'!Y27","v":0}]
[null,null,null,null,null,"Import capacity","kVA",null,null,{"$f":"'Inputs by customer type'!J28","v":0},{"$f":"'Inputs by customer type'!K28","v":0},{"$f":"'Inputs by customer type'!L28","v":0},{"$f":"'Inputs by customer type'!M28","v":0},{"$f":"'Inputs by customer type'!N28","v":1465414},{"$f":"'Inputs by customer type'!O28","v":92670},{"$f":"'Inputs by customer type'!P28","v":1282859},{"$f":"'Inputs by customer type'!Q28","v":0},{"$f":"'Inputs by customer type'!R28","v":0},{"$f":"'Inputs by customer type'!S28","v":0},{"$f":"'Inputs by customer type'!T28","v":0},{"$f":"'Inputs by customer type'!U28","v":0},{"$f":"'Inputs by customer type'!V28","v":0},{"$f":"'Inputs by customer type'!W28","v":0},{"$f":"'Inputs by customer type'!X28","v":0},{"$f":"'Inputs by customer type'!Y28","v":0}]
[null,null,null,null,null,"Exceeded capacity","kVA",null,null,{"$f":"'Inputs by customer type'!J29","v":0},{"$f":"'Inputs by customer type'!K29","v":0},{"$f":"'Inputs by customer type'!L29","v":0},{"$f":"'Inputs by customer type'!M29","v":0},{"$f":"'Inputs by customer type'!N29","v":29539.140000000003},{"$f":"'Inputs by customer type'!O29","v":1042.17},{"$f":"'Inputs by customer type'!P29","v":16267.89},{"$f":"'Inputs by customer type'!Q29","v":0},{"$f":"'Inputs by customer type'!R29","v":0},{"$f":"'Inputs by customer type'!S29","v":0},{"$f":"'Inputs by customer type'!T29","v":0},{"$f":"'Inputs by customer type'!U29","v":0},{"$f":"'Inputs by customer type'!V29","v":0},{"$f":"'Inputs by customer type'!W29","v":0},{"$f":"'Inputs by customer type'!X29","v":0},{"$f":"'Inputs by customer type'!Y29","v":0}]
[null,null,null,null,null,"Reactive power units","MVArh",null,null,{"$f":"'Inputs by customer type'!J30","v":0},{"$f":"'Inputs by customer type'!K30","v":0},{"$f":"'Inputs by customer type'!L30","v":0},{"$f":"'Inputs by customer type'!M30","v":0},{"$f":"'Inputs by customer type'!N30","v":241920},{"$f":"'Inputs by customer type'!O30","v":19020},{"$f":"'Inputs by customer type'!P30","v":250200},{"$f":"'Inputs by customer type'!Q30","v":0},{"$f":"'Inputs by customer type'!R30","v":0},{"$f":"'Inputs by customer type'!S30","v":0},{"$f":"'Inputs by customer type'!T30","v":4452},{"$f":"'Inputs by customer type'!U30","v":0},{"$f":"'Inputs by customer type'!V30","v":408},{"$f":"'Inputs by customer type'!W30","v":0},{"$f":"'Inputs by customer type'!X30","v":16464},{"$f":"'Inputs by customer type'!Y30","v":0}]
[]
[null,null,null,null,"LDNO LV volume forecast",null,null,null,">",null,null,null,null,null,null,null,null,null,null,null,null,null,null,null,null,null,"Paragraph 52"]
[null,null,null,null,null,"Rate 1 units","MWh",null,null,{"$f":"'Inputs by customer type'!J33","v":13713.32246963591},{"$f":"'Inputs by customer type'!K33","v":1.3981029513384524},{"$f":"'Inputs by customer type'!L33","v":601.04321517970027},{"$f":"'Inputs by customer type'!M33","v":0},{"$f":"'Inputs by customer type'!N33","v":1596.4649999999999},{"$f":"'Inputs by customer type'!O33","v":0},{"$f":"'Inputs by customer type'!P33","v":0},{"$f":"'Inputs by customer type'!Q33","v":20.430032150505486},{"$f":"'Inputs by customer type'!R33","v":0.57025605316046324},{"$f":"'Inputs by customer type'!S33","v":0},{"$f":"'Inputs by customer type'!T33","v":0},{"$f":"'Inputs by customer type'!U33","v":0},{"$f":"'Inputs by customer type'!V33","v":0},{"$f":"'Inputs by customer type'!W33","v":0},{"$f":"'Inputs by customer type'!X33","v":0},{"$f":"'Inputs by customer type'!Y33","v":0}]
[null,null,null,null,null,"Rate 2 units","MWh",null,null,{"$f":"'Inputs by customer type'!J34","v":48809.781090218552},{"$f":"'Inputs by customer type'!K34","v":25.329659479528413},{"$f":"'Inputs by customer type'!L34","v":3253.025245448257},{"$f":"'Inputs by customer type'!M34","v":0},{"$f":"'Inputs by customer type'!N34","v":7155.5069999999996},{"$f":"'Inputs by customer type'!O34","v":0},{"$f":"'Inputs by customer type'!P34","v":0},{"$f":"'Inputs by customer type'!Q34","v":273.96068150852608},{"$f":"'Inputs by customer type'!R34","v":2.0830307980493821},{"$f":"'Inputs by customer type'!S34","v":0},{"$f":"'Inputs by customer type'!T34","v":0},{"$f":"'Inputs by customer type'!U34","v":0},{"$f":"'Inputs by customer type'!V34","v":0},{"$f":"'Inputs by customer type'!W34","v":0},{"$f":"'Inputs by customer type'!X34","v":0},{"$f":"'Inputs by customer type'!Y34","v":0}]
[null,null,null,null,null,"Rate 3 units","MWh",null,null,{"$f":"'Inputs by customer type'!J35","v":44956.580637555373},{"$f":"'Inputs by customer type'!K35","v":257.47123756913317},{"$f":"'Inputs by customer type'!L35","v":3140.330539372042},{"$f":"'Inputs by customer type'!M35","v":0},{"$f":"'Inputs by customer type'!N35","v":6545.246000000001},{"$f":"'Inputs by customer type'!O35","v":0},{"$f":"'Inputs by customer type'!P35","v":0},{"$f":"'Inputs by customer type'!Q35","v":303.25428634096841},{"$f":"'Inputs by customer type'!R35","v":1.9454499908954175},{"$f":"'Inputs by customer type'!S35","v":0},{"$f":"'Inputs by customer type'!T35","v":0},{"$f":"'Inputs by customer type'!U35","v":0},{"$f":"'Inputs by customer type'!V35","v":0},{"$f":"'Inputs by customer type'!W35","v":0},{"$f":"'Inputs by customer type'!X35","v":0},{"$f":"'Inputs by customer type'!Y35","v":0}]
[null,null,null,null,null,"MPANs","MPANs",null,null,{"$f":"'Inputs by customer type'!J36","v":41179.93548387097},{"$f":"'Inputs by customer type'!K36","v":67},{"$f":"'Inputs by customer type'!L36","v":1036.6774193548388},{"$f":"'Inputs by customer type'!M36","v":0},{"$f":"'Inputs by customer type'!N36","v":76},{"$f":"'Inputs by customer type'!O36","v":0},{"$f":"'Inputs by customer type'!P36","v":0},{"$f":"'Inputs by customer type'!Q36","v":34},{"$f":"'Inputs by customer type'!R36","v":3},{"$f":"'Inputs by customer type'!S36","v":0},{"$f":"'Inputs by customer type'!T36","v":0},{"$f":"'Inputs by customer type'!U36","v":0},{"$f":"'Inputs by customer type'!V36","v":0},{"$f":"'Inputs by customer type'!W36","v":0},{"$f":"'Inputs by customer type'!X36","v":0},{"$f":"'Inputs by customer type'!Y36","v":0}]
[null,null,null,null,null,"Import capacity","kVA",null,null,{"$f":"'Inputs by customer type'!J37","v":0},{"$f":"'Inputs by customer type'!K37","v":0},{"$f":"'Inputs by customer type'!L37","v":0},{"$f":"'Inputs by customer type'!M37","v":0},{"$f":"'Inputs by customer type'!N37","v":10403},{"$f":"'Inputs by customer type'!O37","v":0},{"$f":"'Inputs by customer type'!P37","v":0},{"$f":"'Inputs by customer type'!Q37","v":0},{"$f":"'Inputs by customer type'!R37","v":0},{"$f":"'Inputs by customer type'!S37","v":0},{"$f":"'Inputs by customer type'!T37","v":0},{"$f":"'Inputs by customer type'!U37","v":0},{"$f":"'Inputs by customer type'!V37","v":0},{"$f":"'Inputs by customer type'!W37","v":0},{"$f":"'Inputs by customer type'!X37","v":0},{"$f":"'Inputs by customer type'!Y37","v":0}]
[null,null,null,null,null,"Exceeded capacity","kVA",null,null,{"$f":"'Inputs by customer type'!J38","v":0},{"$f":"'Inputs by customer type'!K38","v":0},{"$f":"'Inputs by customer type'!L38","v":0},{"$f":"'Inputs by customer type'!M38","v":0},{"$f":"'Inputs by customer type'!N38","v":41.612000000000002},{"$f":"'Inputs by customer type'!O38","v":0},{"$f":"'Inputs by customer type'!P38","v":0},{"$f":"'Inputs by customer type'!Q38","v":0},{"$f":"'Inputs by customer type'!R38","v":0},{"$f":"'Inputs by customer type'!S38","v":0},{"$f":"'Inputs by customer type'!T38","v":0},{"$f":"'Inputs by customer type'!U38","v":0},{"$f":"'Inputs by customer type'!V38","v":0},{"$f":"'Inputs by customer type'!W38","v":0},{"$f":"'Inputs by customer type'!X38","v":0},{"$f":"'Inputs by customer type'!Y38","v":0}]
[null,null,null,null,null,"Reactive power units","MVArh",null,null,{"$f":"'Inputs by customer type'!J39","v":0},{"$f":"'Inputs by customer type'!K39","v":0},{"$f":"'Inputs by customer type'!L39","v":0},{"$f":"'Inputs by customer type'!M39","v":0},{"$f":"'Inputs by customer type'!N39","v":936},{"$f":"'Inputs by customer type'!O39","v":0},{"$f":"'Inputs by customer type'!P39","v":0},{"$f":"'Inputs by customer type'!Q39","v":0},{"$f":"'Inputs by customer type'!R39","v":0},{"$f":"'Inputs by customer type'!S39","v":0},{"$f":"'Inputs by customer type'!T39","v":0},{"$f":"'Inputs by customer type'!U39","v":0},{"$f":"'Inputs by customer type'!V39","v":0},{"$f":"'Inputs by customer type'!W39","v":0},{"$f":"'Inputs by customer type'!X39","v":0},{"$f":"'Inputs by customer type'!Y39","v":0}]
[]
[null,null,null,null,"LDNO HV volume forecast",null,null,null,">",null,null,null,null,null,null,null,null,null,null,null,null,null,null,null,null,null,"Paragraph 52"]
[null,null,null,null,null,"Rate 1 units","MWh",null,null,{"$f":"'Inputs by customer type'!J42","v":20104.099696926573},{"$f":"'Inputs by customer type'!K42","v":2.0480897481131533},{"$f":"'Inputs by customer type'!L42","v":2081.7354094794059},{"$f":"'Inputs by customer type'!M42","v":0},{"$f":"'Inputs by customer type'!N42","v":13322.004999999999},{"$f":"'Inputs by customer type'!O42","v":2210.538},{"$f":"'Inputs by customer type'!P42","v":5129.4559999999992},{"$f":"'Inputs by customer type'!Q42","v":30.879361230900383},{"$f":"'Inputs by customer type'!R42","v":0.25597879022110009},{"$f":"'Inputs by customer type'!S42","v":0},{"$f":"'Inputs by customer type'!T42","v":0},{"$f":"'Inputs by customer type'!U42","v":0},{"$f":"'Inputs by customer type'!V42","v":0},{"$f":"'Inputs by customer type'!W42","v":0},{"$f":"'Inputs by customer type'!X42","v":0},{"$f":"'Inputs by customer type'!Y42","v":0}]
[null,null,null,null,null,"Rate 2 units","MWh",null,null,{"$f":"'Inputs by customer type'!J43","v":71593.395504093525},{"$f":"'Inputs by customer type'!K43","v":37.263746671521595},{"$f":"'Inputs by customer type'!L43","v":11268.104540991542},{"$f":"'Inputs by customer type'!M43","v":0},{"$f":"'Inputs by customer type'!N43","v":59210.165999999997},{"$f":"'Inputs by customer type'!O43","v":9690.4299999999985},{"$f":"'Inputs by customer type'!P43","v":23108.695},{"$f":"'Inputs by customer type'!Q43","v":425.49872061278865},{"$f":"'Inputs by customer type'!R43","v":0.94265200118290493},{"$f":"'Inputs by customer type'!S43","v":0},{"$f":"'Inputs by customer type'!T43","v":0},{"$f":"'Inputs by customer type'!U43","v":0},{"$f":"'Inputs by customer type'!V43","v":0},{"$f":"'Inputs by customer type'!W43","v":0},{"$f":"'Inputs by customer type'!X43","v":0},{"$f":"'Inputs by customer type'!Y43","v":0}]
[null,null,null,null,null,"Rate 3 units","MWh",null,null,{"$f":"'Inputs by customer type'!J44","v":65951.865798979896},{"$f":"'Inputs by customer type'!K44","v":378.23816358036527},{"$f":"'Inputs by customer type'!L44","v":10881.052049529049},{"$f":"'Inputs by customer type'!M44","v":0},{"$f":"'Inputs by customer type'!N44","v":50706.112000000001},{"$f":"'Inputs by customer type'!O44","v":8312.2019999999993},{"$f":"'Inputs by customer type'!P44","v":25303.565000000002},{"$f":"'Inputs by customer type'!Q44","v":470.53235815631092},{"$f":"'Inputs by customer type'!R44","v":0.86715492288170914},{"$f":"'Inputs by customer type'!S44","v":0},{"$f":"'Inputs by customer type'!T44","v":0},{"$f":"'Inputs by customer type'!U44","v":0},{"$f":"'Inputs by customer type'!V44","v":0},{"$f":"'Inputs by customer type'!W44","v":0},{"$f":"'Inputs by customer type'!X44","v":0},{"$f":"'Inputs by customer type'!Y44","v":0}]
[null,null,null,null,null,"MPANs","MPANs",null,null,{"$f":"'Inputs by customer type'!J45","v":58740.548387096773},{"$f":"'Inputs by customer type'!K45","v":78.451612903225808},{"$f":"'Inputs by customer type'!L45","v":1509.8709677419354},{"$f":"'Inputs by customer type'!M45","v":0},{"$f":"'Inputs by customer type'!N45","v":381},{"$f":"'Inputs by customer type'!O45","v":26},{"$f":"'Inputs by customer type'!P45","v":30},{"$f":"'Inputs by customer type'!Q45","v":46},{"$f":"'Inputs by customer type'!R45","v":5},{"$f":"'Inputs by customer type'!S45","v":0},{"$f":"'Inputs by customer type'!T45","v":0},{"$f":"'Inputs by customer type'!U45","v":0},{"$f":"'Inputs by customer type'!V45","v":0},{"$f":"'Inputs by customer type'!W45","v":0},{"$f":"'Inputs by customer type'!X45","v":0},{"$f":"'Inputs by customer type'!Y45","v":0}]
[null,null,null,null,null,"Import capacity","kVA",null,null,{"$f":"'Inputs by customer type'!J46","v":0},{"$f":"'Inputs by customer type'!K46","v":0},{"$f":"'Inputs by customer type'!L46","v":0},{"$f":"'Inputs by customer type'!M46","v":0},{"$f":"'Inputs by customer type'!N46","v":87614},{"$f":"'Inputs by customer type'!O46","v":13995},{"$f":"'Inputs by customer type'!P46","v":28618},{"$f":"'Inputs by customer type'!Q46","v":0},{"$f":"'Inputs by customer type'!R46","v":0},{"$f":"'Inputs by customer type'!S46","v":0},{"$f":"'Inputs by customer type'!T46","v":0},{"$f":"'Inputs by customer type'!U46","v":0},{"$f":"'Inputs by customer type'!V46","v":0},{"$f":"'Inputs by customer type'!W46","v":0},{"$f":"'Inputs by customer type'!X46","v":0},{"$f":"'Inputs by customer type'!Y46","v":0}]
[null,null,null,null,null,"Exceeded capacity","kVA",null,null,{"$f":"'Inputs by customer type'!J47","v":0},{"$f":"'Inputs by customer type'!K47","v":0},{"$f":"'Inputs by customer type'!L47","v":0},{"$f":"'Inputs by customer type'!M47","v":0},{"$f":"'Inputs by customer type'!N47","v":175.22800000000001},{"$f":"'Inputs by customer type'!O47","v":0},{"$f":"'Inputs by customer type'!P47","v":14.309000000000001},{"$f":"'Inputs by customer type'!Q47","v":0},{"$f":"'Inputs by customer type'!R47","v":0},{"$f":"'Inputs by customer type'!S47","v":0},{"$f":"'Inputs by customer type'!T47","v":0},{"$f":"'Inputs by customer type'!U47","v":0},{"$f":"'Inputs by customer type'!V47","v":0},{"$f":"'Inputs by customer type'!W47","v":0},{"$f":"'Inputs by customer type'!X47","v":0},{"$f":"'Inputs by customer type'!Y47","v":0}]
[null,null,null,null,null,"Reactive power units","MVArh",null,null,{"$f":"'Inputs by customer type'!J48","v":0},{"$f":"'Inputs by customer type'!K48","v":0},{"$f":"'Inputs by customer type'!L48","v":0},{"$f":"'Inputs by customer type'!M48","v":0},{"$f":"'Inputs by customer type'!N48","v":9000},{"$f":"'Inputs by customer type'!O48","v":1320},{"$f":"'Inputs by customer type'!P48","v":1908},{"$f":"'Inputs by customer type'!Q48","v":0},{"$f":"'Inputs by customer type'!R48","v":0},{"$f":"'Inputs by customer type'!S48","v":0},{"$f":"'Inputs by customer type'!T48","v":0},{"$f":"'Inputs by customer type'!U48","v":0},{"$f":"'Inputs by customer type'!V48","v":0},{"$f":"'Inputs by customer type'!W48","v":0},{"$f":"'Inputs by customer type'!X48","v":0},{"$f":"'Inputs by customer type'!Y48","v":0}]
[]
[null,null,{"$f":"INDEX('Version control'!$H$34:$H$58,MATCH($A$1,'Version control'!$F$34:$F$58,0),1)&\"-B: Tariff forecast\"","v":"Input 505-B: Tariff forecast"}]
[]
[null,null,null,null,"All the way tariff forecast",null,null,null,">",null,null,null,null,null,null,null,null,null,null,null,null,null,null,null,null,null,"Paragraph 14"]
[null,null,null,null,null,"Unit rate 1","p/kWh",null,null,{"$f":"Rounding!J130","v":10.154999999999999},{"$f":"Rounding!K130","v":10.154999999999999},{"$f":"Rounding!L130","v":11.609},{"$f":"Rounding!M130","v":11.609},{"$f":"Rounding!N130","v":8.1809999999999992},{"$f":"Rounding!O130","v":5.3090000000000002},{"$f":"Rounding!P130","v":4.3010000000000002},{"$f":"Rounding!Q130","v":22.728000000000002},{"$f":"Rounding!R130","v":-6.4409999999999998},{"$f":"Rounding!S130","v":-5.6890000000000001},{"$f":"Rounding!T130","v":-6.4409999999999998},{"$f":"Rounding!U130","v":-6.4409999999999998},{"$f":"Rounding!V130","v":-5.6890000000000001},{"$f":"Rounding!W130","v":-5.6890000000000001},{"$f":"Rounding!X130","v":-3.7330000000000001},{"$f":"Rounding!Y130","v":-3.7330000000000001}]
[null,null,null,null,null,"Unit rate 2","p/kWh",null,null,{"$f":"Rounding!J131","v":2.0299999999999998},{"$f":"Rounding!K131","v":2.0299999999999998},{"$f":"Rounding!L131","v":2.173},{"$f":"Rounding!M131","v":2.173},{"$f":"Rounding!N131","v":1.8129999999999999},{"$f":"Rounding!O131","v":1.5009999999999999},{"$f":"Rounding!P131","v":1.4},{"$f":"Rounding!Q131","v":2.3420000000000001},{"$f":"Rounding!R131","v":-0.63100000000000001},{"$f":"Rounding!S131","v":-0.54800000000000004},{"$f":"Rounding!T131","v":-0.63100000000000001},{"$f":"Rounding!U131","v":-0.63100000000000001},{"$f":"Rounding!V131","v":-0.54800000000000004},{"$f":"Rounding!W131","v":-0.54800000000000004},{"$f":"Rounding!X131","v":-0.316},{"$f":"Rounding!Y131","v":-0.316}]
[null,null,null,null,null,"Unit rate 3","p/kWh",null,null,{"$f":"Rounding!J132","v":1.17},{"$f":"Rounding!K132","v":1.17},{"$f":"Rounding!L132","v":1.1739999999999999},{"$f":"Rounding!M132","v":1.1739999999999999},{"$f":"Rounding!N132","v":1.163},{"$f":"Rounding!O132","v":1.1539999999999999},{"$f":"Rounding!P132","v":1.151},{"$f":"Rounding!Q132","v":1.5960000000000001},{"$f":"Rounding!R132","v":-1.6E-2},{"$f":"Rounding!S132","v":-1.4E-2},{"$f":"Rounding!T132","v":-1.6E-2},{"$f":"Rounding!U132","v":-1.6E-2},{"$f":"Rounding!V132","v":-1.4E-2},{"$f":"Rounding!W132","v":-1.4E-2},{"$f":"Rounding!X132","v":-6.0000000000000001E-3},{"$f":"Rounding!Y132","v":-6.0000000000000001E-3}]
[null,null,null,null,null,"Fixed charge","p/MPAN/day",null,null,{"$f":"Rounding!J133","v":4.76},{"$f":"Rounding!K133","v":0},{"$f":"Rounding!L133","v":6.04},{"$f":"Rounding!M133","v":0},{"$f":"Rounding!N133","v":23.42},{"$f":"Rounding!O133","v":8.39},{"$f":"Rounding!P133","v":124.35},{"$f":"Rounding!Q133","v":0},{"$f":"Rounding!R133","v":0},{"$f":"Rounding!S133","v":0},{"$f":"Rounding!T133","v":0},{"$f":"Rounding!U133","v":0},{"$f":"Rounding!V133","v":0},{"$f":"Rounding!W133","v":0},{"$f":"Rounding!X133","v":90.67},{"$f":"Rounding!Y133","v":90.67}]
[null,null,null,null,null,"Capacity charge","p/kVA/day",null,null,{"$f":"Rounding!J134","v":0},{"$f":"Rounding!K134","v":0},{"$f":"Rounding!L134","v":0},{"$f":"Rounding!M134","v":0},{"$f":"Rounding!N134","v":2.5},{"$f":"Rounding!O134","v":4.51},{"$f":"Rounding!P134","v":4.96},{"$f":"Rounding!Q134","v":0},{"$f":"Rounding!R134","v":0},{"$f":"Rounding!S134","v":0},{"$f":"Rounding!T134","v":0},{"$f":"Rounding!U134","v":0},{"$f":"Rounding!V134","v":0},{"$f":"Rounding!W134","v":0},{"$f":"Rounding!X134","v":0},{"$f":"Rounding!Y134","v":0}]
[null,null,null,null,null,"Exceeded capacity charge","p/kVA/day",null,null,{"$f":"Rounding!J135","v":0},{"$f":"Rounding!K135","v":0},{"$f":"Rounding!L135","v":0},{"$f":"Rounding!M135","v":0},{"$f":"Rounding!N135","v":3.69},{"$f":"Rounding!O135","v":5.14},{"$f":"Rounding!P135","v":6.12},{"$f":"Rounding!Q135","v":0},{"$f":"Rounding!R135","v":0},{"$f":"Rounding!S135","v":0},{"$f":"Rounding!T135","v":0},{"$f":"Rounding!U135","v":0},{"$f":"Rounding!V135","v":0},{"$f":"Rounding!W135","v":0},{"$f":"Rounding!X135","v":0},{"$f":"Rounding!Y135","v":0}]
[null,null,null,null,null,"Reactive power charge","p/kVArh",null,null,{"$f":"Rounding!J136","v":0},{"$f":"Rounding!K136","v":0},{"$f":"Rounding!L136","v":0},{"$f":"Rounding!M136","v":0},{"$f":"Rounding!N136","v":0.23499999999999999},{"$f":"Rounding!O136","v":0.13700000000000001},{"$f":"Rounding!P136","v":0.10199999999999999},{"$f":"Rounding!Q136","v":0},{"$f":"Rounding!R136","v":0},{"$f":"Rounding!S136","v":0},{"$f":"Rounding!T136","v":0.20300000000000001},{"$f":"Rounding!U136","v":0},{"$f":"Rounding!V136","v":0.182},{"$f":"Rounding!W136","v":0},{"$f":"Rounding!X136","v":0.156},{"$f":"Rounding!Y136","v":0}]
[]
[null,null,null,null,"LDNO LV tariff forecast",null,null,null,">",null,null,null,null,null,null,null,null,null,null,null,null,null,null,null,null,null,"Paragraph 14"]
[null,null,null,null,null,"Unit rate 1","p/kWh",null,null,{"$f":"Rounding!J139","v":6.1879999999999997},{"$f":"Rounding!K139","v":6.1879999999999997},{"$f":"Rounding!L139","v":7.0739999999999998},{"$f":"Rounding!M139","v":7.0739999999999998},{"$f":"Rounding!N139","v":4.9850000000000003},{"$f":"Rounding!O139","v":0},{"$f":"Rounding!P139","v":0},{"$f":"Rounding!Q139","v":13.849},{"$f":"Rounding!R139","v":-6.4409999999999998},{"$f":"Rounding!S139","v":0},{"$f":"Rounding!T139","v":-6.4409999999999998},{"$f":"Rounding!U139","v":0},{"$f":"Rounding!V139","v":0},{"$f":"Rounding!W139","v":0},{"$f":"Rounding!X139","v":0},{"$f":"Rounding!Y139","v":0}]
[null,null,null,null,null,"Unit rate 2","p/kWh",null,null,{"$f":"Rounding!J140","v":1.2370000000000001},{"$f":"Rounding!K140","v":1.2370000000000001},{"$f":"Rounding!L140","v":1.3240000000000001},{"$f":"Rounding!M140","v":1.3240000000000001},{"$f":"Rounding!N140","v":1.105},{"$f":"Rounding!O140","v":0},{"$f":"Rounding!P140","v":0},{"$f":"Rounding!Q140","v":1.427},{"$f":"Rounding!R140","v":-0.63100000000000001},{"$f":"Rounding!S140","v":0},{"$f":"Rounding!T140","v":-0.63100000000000001},{"$f":"Rounding!U140","v":0},{"$f":"Rounding!V140","v":0},{"$f":"Rounding!W140","v":0},{"$f":"Rounding!X140","v":0},{"$f":"Rounding!Y140","v":0}]
[null,null,null,null,null,"Unit rate 3","p/kWh",null,null,{"$f":"Rounding!J141","v":0.71299999999999997},{"$f":"Rounding!K141","v":0.71299999999999997},{"$f":"Rounding!L141","v":0.71499999999999997},{"$f":"Rounding!M141","v":0.71499999999999997},{"$f":"Rounding!N141","v":0.70899999999999996},{"$f":"Rounding!O141","v":0},{"$f":"Rounding!P141","v":0},{"$f":"Rounding!Q141","v":0.97299999999999998},{"$f":"Rounding!R141","v":-1.6E-2},{"$f":"Rounding!S141","v":0},{"$f":"Rounding!T141","v":-1.6E-2},{"$f":"Rounding!U141","v":0},{"$f":"Rounding!V141","v":0},{"$f":"Rounding!W141","v":0},{"$f":"Rounding!X141","v":0},{"$f":"Rounding!Y141","v":0}]
[null,null,null,null,null,"Fixed charge","p/MPAN/day",null,null,{"$f":"Rounding!J142","v":2.98},{"$f":"Rounding!K142","v":0},{"$f":"Rounding!L142","v":3.75},{"$f":"Rounding!M142","v":0},{"$f":"Rounding!N142","v":14.34},{"$f":"Rounding!O142","v":0},{"$f":"Rounding!P142","v":0},{"$f":"Rounding!Q142","v":0},{"$f":"Rounding!R142","v":0},{"$f":"Rounding!S142","v":0},{"$f":"Rounding!T142","v":0},{"$f":"Rounding!U142","v":0},{"$f":"Rounding!V142","v":0},{"$f":"Rounding!W142","v":0},{"$f":"Rounding!X142","v":0},{"$f":"Rounding!Y142","v":0}]
[null,null,null,null,null,"Capacity charge","p/kVA/day",null,null,{"$f":"Rounding!J143","v":0},{"$f":"Rounding!K143","v":0},{"$f":"Rounding!L143","v":0},{"$f":"Rounding!M143","v":0},{"$f":"Rounding!N143","v":1.52},{"$f":"Rounding!O143","v":0},{"$f":"Rounding!P143","v":0},{"$f":"Rounding!Q143","v":0},{"$f":"Rounding!R143","v":0},{"$f":"Rounding!S143","v":0},{"$f":"Rounding!T143","v":0},{"$f":"Rounding!U143","v":0},{"$f":"Rounding!V143","v":0},{"$f":"Rounding!W143","v":0},{"$f":"Rounding!X143","v":0},{"$f":"Rounding!Y143","v":0}]
[null,null,null,null,null,"Exceeded capacity charge","p/kVA/day",null,null,{"$f":"Rounding!J144","v":0},{"$f":"Rounding!K144","v":0},{"$f":"Rounding!L144","v":0},{"$f":"Rounding!M144","v":0},{"$f":"Rounding!N144","v":2.25},{"$f":"Rounding!O144","v":0},{"$f":"Rounding!P144","v":0},{"$f":"Rounding!Q144","v":0},{"$f":"Rounding!R144","v":0},{"$f":"Rounding!S144","v":0},{"$f":"Rounding!T144","v":0},{"$f":"Rounding!U144","v":0},{"$f":"Rounding!V144","v":0},{"$f":"Rounding!W144","v":0},{"$f":"Rounding!X144","v":0},{"$f":"Rounding!Y144","v":0}]
[null,null,null,null,null,"Reactive power charge","p/kVArh",null,null,{"$f":"Rounding!J145","v":0},{"$f":"Rounding!K145","v":0},{"$f":"Rounding!L145","v":0},{"$f":"Rounding!M145","v":0},{"$f":"Rounding!N145","v":0.14299999999999999},{"$f":"Rounding!O145","v":0},{"$f":"Rounding!P145","v":0},{"$f":"Rounding!Q145","v":0},{"$f":"Rounding!R145","v":0},{"$f":"Rounding!S145","v":0},{"$f":"Rounding!T145","v":0.20300000000000001},{"$f":"Rounding!U145","v":0},{"$f":"Rounding!V145","v":0},{"$f":"Rounding!W145","v":0},{"$f":"Rounding!X145","v":0},{"$f":"Rounding!Y145","v":0}]
[]
[null,null,null,null,"LDNO HV tariff forecast",null,null,null,">",null,null,null,null,null,null,null,null,null,null,null,null,null,null,null,null,null,"Paragraph 14"]
[null,null,null,null,null,"Unit rate 1","p/kWh",null,null,{"$f":"Rounding!J148","v":4.0250000000000004},{"$f":"Rounding!K148","v":4.0250000000000004},{"$f":"Rounding!L148","v":4.6020000000000003},{"$f":"Rounding!M148","v":4.6020000000000003},{"$f":"Rounding!N148","v":3.2429999999999999},{"$f":"Rounding!O148","v":3.4609999999999999},{"$f":"Rounding!P148","v":3.218},{"$f":"Rounding!Q148","v":9.0090000000000003},{"$f":"Rounding!R148","v":-6.4409999999999998},{"$f":"Rounding!S148","v":-5.6890000000000001},{"$f":"Rounding!T148","v":-6.4409999999999998},{"$f":"Rounding!U148","v":0},{"$f":"Rounding!V148","v":-5.6890000000000001},{"$f":"Rounding!W148","v":0},{"$f":"Rounding!X148","v":-3.7330000000000001},{"$f":"Rounding!Y148","v":0}]
[null,null,null,null,null,"Unit rate 2","p/kWh",null,null,{"$f":"Rounding!J149","v":0.80500000000000005},{"$f":"Rounding!K149","v":0.80500000000000005},{"$f":"Rounding!L149","v":0.86099999999999999},{"$f":"Rounding!M149","v":0.86099999999999999},{"$f":"Rounding!N149","v":0.71899999999999997},{"$f":"Rounding!O149","v":0.97799999999999998},{"$f":"Rounding!P149","v":1.0469999999999999},{"$f":"Rounding!Q149","v":0.92800000000000005},{"$f":"Rounding!R149","v":-0.63100000000000001},{"$f":"Rounding!S149","v":-0.54800000000000004},{"$f":"Rounding!T149","v":-0.63100000000000001},{"$f":"Rounding!U149","v":0},{"$f":"Rounding!V149","v":-0.54800000000000004},{"$f":"Rounding!W149","v":0},{"$f":"Rounding!X149","v":-0.316},{"$f":"Rounding!Y149","v":0}]
[null,null,null,null,null,"Unit rate 3","p/kWh",null,null,{"$f":"Rounding!J150","v":0.46400000000000002},{"$f":"Rounding!K150","v":0.46400000000000002},{"$f":"Rounding!L150","v":0.46500000000000002},{"$f":"Rounding!M150","v":0.46500000000000002},{"$f":"Rounding!N150","v":0.46100000000000002},{"$f":"Rounding!O150","v":0.752},{"$f":"Rounding!P150","v":0.86099999999999999},{"$f":"Rounding!Q150","v":0.63300000000000001},{"$f":"Rounding!R150","v":-1.6E-2},{"$f":"Rounding!S150","v":-1.4E-2},{"$f":"Rounding!T150","v":-1.6E-2},{"$f":"Rounding!U150","v":0},{"$f":"Rounding!V150","v":-1.4E-2},{"$f":"Rounding!W150","v":0},{"$f":"Rounding!X150","v":-6.0000000000000001E-3},{"$f":"Rounding!Y150","v":0}]
[null,null,null,null,null,"Fixed charge","p/MPAN/day",null,null,{"$f":"Rounding!J151","v":2},{"$f":"Rounding!K151","v":0},{"$f":"Rounding!L151","v":2.5},{"$f":"Rounding!M151","v":0},{"$f":"Rounding!N151","v":9.4},{"$f":"Rounding!O151","v":5.53},{"$f":"Rounding!P151","v":93.09},{"$f":"Rounding!Q151","v":0},{"$f":"Rounding!R151","v":0},{"$f":"Rounding!S151","v":0},{"$f":"Rounding!T151","v":0},{"$f":"Rounding!U151","v":0},{"$f":"Rounding!V151","v":0},{"$f":"Rounding!W151","v":0},{"$f":"Rounding!X151","v":0},{"$f":"Rounding!Y151","v":0}]
[null,null,null,null,null,"Capacity charge","p/kVA/day",null,null,{"$f":"Rounding!J152","v":0},{"$f":"Rounding!K152","v":0},{"$f":"Rounding!L152","v":0},{"$f":"Rounding!M152","v":0},{"$f":"Rounding!N152","v":0.99},{"$f":"Rounding!O152","v":2.94},{"$f":"Rounding!P152","v":3.71},{"$f":"Rounding!Q152","v":0},{"$f":"Rounding!R152","v":0},{"$f":"Rounding!S152","v":0},{"$f":"Rounding!T152","v":0},{"$f":"Rounding!U152","v":0},{"$f":"Rounding!V152","v":0},{"$f":"Rounding!W152","v":0},{"$f":"Rounding!X152","v":0},{"$f":"Rounding!Y152","v":0}]
[null,null,null,null,null,"Exceeded capacity charge","p/kVA/day",null,null,{"$f":"Rounding!J153","v":0},{"$f":"Rounding!K153","v":0},{"$f":"Rounding!L153","v":0},{"$f":"Rounding!M153","v":0},{"$f":"Rounding!N153","v":1.46},{"$f":"Rounding!O153","v":3.35},{"$f":"Rounding!P153","v":4.58},{"$f":"Rounding!Q153","v":0},{"$f":"Rounding!R153","v":0},{"$f":"Rounding!S153","v":0},{"$f":"Rounding!T153","v":0},{"$f":"Rounding!U153","v":0},{"$f":"Rounding!V153","v":0},{"$f":"Rounding!W153","v":0},{"$f":"Rounding!X153","v":0},{"$f":"Rounding!Y153","v":0}]
[null,null,null,null,null,"Reactive power charge","p/kVArh",null,null,{"$f":"Rounding!J154","v":0},{"$f":"Rounding!K154","v":0},{"$f":"Rounding!L154","v":0},{"$f":"Rounding!M154","v":0},{"$f":"Rounding!N154","v":9.2999999999999999E-2},{"$f":"Rounding!O154","v":8.8999999999999996E-2},{"$f":"Rounding!P154","v":7.5999999999999998E-2},{"$f":"Rounding!Q154","v":0},{"$f":"Rounding!R154","v":0},{"$f":"Rounding!S154","v":0},{"$f":"Rounding!T154","v":0.20300000000000001},{"$f":"Rounding!U154","v":0},{"$f":"Rounding!V154","v":0.182},{"$f":"Rounding!W154","v":0},{"$f":"Rounding!X154","v":0.156},{"$f":"Rounding!Y154","v":0}]
[]
[null,null,{"$f":"INDEX('Version control'!$H$34:$H$58,MATCH($A$1,'Version control'!$F$34:$F$58,0),1)&\"-C: Net revenue components\"","v":"Input 505-C: Net revenue components"}]
[]
[null,null,null,null,"Target CDCM net revenue",null,"£",{"$f":"'General inputs'!$H$90","v":417181725.07818514}]
[null,null,null,null,"Net revenue before matching and rounding",null,"£",{"$f":"'Revenue matching'!H58","v":241976393.59082356}]
[null,null,null,null,"Net revenue from unit rate adder",null,"£",{"$f":"'Revenue matching'!H158","v":173740878.11278296}]
[null,null,null,null,"Net revenue from fixed rate adder, CDCM",null,"£",{"$f":"'Fixed charge adder'!H52","v":1462250.7520363859}]
[null,null,null,null,"Net revenue from fixed rate adder, EDCM",null,"£",{"$f":"'Fixed charge adder'!H56","v":2202.6225422031271}]
[]
[null,"Typical bills"]
[]
[null,null,{"$f":"INDEX('Version control'!$H$34:$H$58,MATCH($A$1,'Version control'!$F$34:$F$58,0),1)&\"-D: Net revenue by tariff\"","v":"Input 505-D: Net revenue by tariff"}]
[]
[null,null,null,null,"All the way customer net revenue",null,null,"Sum"]
[null,null,null,null,null,"Unit rate 1","£",{"$f":"SUM(J84:Y84)","v":132346422.75325714},null,{"$f":"J16 * thousand * J45 / hundred","v":73946949.614525601},134645.40454391198,{"$f":"L16 * thousand * L45 / hundred","v":21799627.171411514},484355.46461324982,{"$f":"N16 * thousand * N45 / hundred","v":22564978.91175561},1145130.0062596258,13869597.024542928,{"$f":"Q16 * thousand * Q45 / hundred","v":3146529.3422607589},-8966.810030028746,-163.70828277416985,{"$f":"T16 * thousand * T45 / hundred","v":-394922.27664911223},0,{"$f":"V16 * thousand * V45 / hundred","v":-8227.0991392727065},0,{"$f":"X16 * thousand * X45 / hundred","v":-4333110.2925548442},0]
[null,null,null,null,null,"Unit rate 2","£",121749800.81182724,null,{"$f":"J17 * thousand * J46 / hundred","v":52515660.55003991},487298.80050638539,{"$f":"L17 * thousand * L46 / hundred","v":22103224.79904462},550190.89842389303,{"$f":"N17 * thousand * N46 / hundred","v":23973234.323768526},1518787.5853373036,20958600.461939652,{"$f":"Q17 * thousand * Q46 / hundred","v":1230646.2455049627},-3947.4675534084085,-64.981921045943949,{"$f":"T17 * thousand * T46 / hundred","v":-173685.62894986436},0,{"$f":"V17 * thousand * V46 / hundred","v":-3273.4661134057283},0,{"$f":"X17 * thousand * X46 / hundred","v":-1406871.3082002767},0]
[null,null,null,null,null,"Unit rate 3","£",78916548.139374614,null,{"$f":"J18 * thousand * J47 / hundred","v":27874765.346436787},2868937.4745019125,{"$f":"L18 * thousand * L47 / hundred","v":11534409.726293771},617067.99532056379,{"$f":"N18 * thousand * N47 / hundred","v":13432001.518230185},1164363.1058836333,18443359.63820241,{"$f":"Q18 * thousand * Q47 / hundred","v":3017280.8561051567},-111.70738241000788,-2.2408899458589304,{"$f":"T18 * thousand * T47 / hundred","v":-4957.0042140094447},0,{"$f":"V18 * thousand * V47 / hundred","v":-113.01906231338593},0,{"$f":"X18 * thousand * X47 / hundred","v":-30453.550051134946},0]
[null,null,null,null,null,"Fixed charge","£",36501369.005499989,null,{"$f":" J19 * J48 * days_in_year / hundred","v":32186533.805999998},0,{"$f":" L19 * L48 * days_in_year / hundred","v":2756411.38},0,{"$f":" N19 * N48 * days_in_year / hundred","v":896802.15300000017},6706.5465000000004,570524.01749999996,{"$f":" Q19 * Q48 * days_in_year / hundred","v":0},0,0,{"$f":" T19 * T48 * days_in_year / hundred","v":0},0,{"$f":" V19 * V48 * days_in_year / hundred","v":0},0,{"$f":" X19 * X48 * days_in_year / hundred","v":84391.102499999994},0]
[null,null,null,null,null,"Capacity charge","£",38122269.291000001,null,{"$f":" J20 * J49 * days_in_year / hundred","v":0},0,{"$f":" L20 * L49 * days_in_year / hundred","v":0},0,{"$f":" N20 * N49 * days_in_year / hundred","v":13371902.75},1525487.2049999996,23224879.335999999,{"$f":" Q20 * Q49 * days_in_year / hundred","v":0},0,0,{"$f":" T20 * T49 * days_in_year / hundred","v":0},0,{"$f":" V20 * V49 * days_in_year / hundred","v":0},0,{"$f":" X20 * X49 * days_in_year / hundred","v":0},0]
[null,null,null,null,null,"Exceeded capacity charge","£",780792.18527999986,null,{"$f":" J21 * J50 * days_in_year / hundred","v":0},0,{"$f":" L21 * L50 * days_in_year / hundred","v":0},0,{"$f":" N21 * N50 * days_in_year / hundred","v":397847.90708999999},19552.15137,363392.12681999995,{"$f":" Q21 * Q50 * days_in_year / hundred","v":0},0,0,{"$f":" T21 * T50 * days_in_year / hundred","v":0},0,{"$f":" V21 * V50 * days_in_year / hundred","v":0},0,{"$f":" X21 * X50 * days_in_year / hundred","v":0},0]
[null,null,null,null,null,"Reactive power charge","£",885237.3600000001,null,{"$f":"J22 * thousand * J51 / hundred","v":0},0,{"$f":"L22 * thousand * L51 / hundred","v":0},0,{"$f":"N22 * thousand * N51 / hundred","v":568512},26057.4,255204,{"$f":"Q22 * thousand * Q51 / hundred","v":0},0,0,{"$f":"T22 * thousand * T51 / hundred","v":9037.5600000000013},0,{"$f":"V22 * thousand * V51 / hundred","v":742.56},0,{"$f":"X22 * thousand * X51 / hundred","v":25683.84},0]
[null,null,null,null,null,"Total","£",{"$f":"SUM(H84:H90)","v":409302439.54623908},null,{"$f":"SUM(J84:J90)","v":186523909.3170023},3490881.6795522096,58193673.076749913,1651614.3583577066,75205279.563844308,5406084.0003505629,77685556.605004981,7394456.4438708778,-13025.984965847163,-230.93109376597272,-564527.3498129861,0,-10871.024314991821,0,-5660360.2083062558,0]
[]
[null,null,null,null,"LDNO LV customer net revenue",null,null,"Sum"]
[null,null,null,null,null,"Unit rate 1","£",{"$f":"SUM(J94:Y94)","v":973561.11128365039},null,{"$f":"J25 * thousand * J54 / hundred","v":848580.39442107012},86.514610628823434,{"$f":"L25 * thousand * L54 / hundred","v":42517.797041812002},0,{"$f":"N25 * thousand * N54 / hundred","v":79583.780250000011},0,0,{"$f":"Q25 * thousand * Q54 / hundred","v":2829.3551525235048},-36.730192384065433,0,{"$f":"T25 * thousand * T54 / hundred","v":0},0,{"$f":"V25 * thousand * V54 / hundred","v":0},0,{"$f":"X25 * thousand * X54 / hundred","v":0},0]
[null,null,null,null,null,"Unit rate 2","£",730125.00157429127,null,{"$f":"J26 * thousand * J55 / hundred","v":603776.99208600353},313.32788776176653,{"$f":"L26 * thousand * L55 / hundred","v":43070.054249734923},0,{"$f":"N26 * thousand * N55 / hundred","v":79068.352350000001},0,0,{"$f":"Q26 * thousand * Q55 / hundred","v":3909.4189251266675},-13.143924335691601,0,{"$f":"T26 * thousand * T55 / hundred","v":0},0,{"$f":"V26 * thousand * V55 / hundred","v":0},0,{"$f":"X26 * thousand * X55 / hundred","v":0},0]
[null,null,null,null,null,"Unit rate 3","£",394185.70030024688,null,{"$f":"J27 * thousand * J56 / hundred","v":320540.41994576983},1835.7699238679195,{"$f":"L27 * thousand * L56 / hundred","v":22453.363356510097},0,{"$f":"N27 * thousand * N56 / hundred","v":46405.794140000005},0,0,{"$f":"Q27 * thousand * Q56 / hundred","v":2950.6642060976224},-0.31127199854326681,0,{"$f":"T27 * thousand * T56 / hundred","v":0},0,{"$f":"V27 * thousand * V56 / hundred","v":0},0,{"$f":"X27 * thousand * X56 / hundred","v":0},0]
[null,null,null,null,null,"Fixed charge","£",466081.59643548389,null,{"$f":" J28 * J57 * days_in_year / hundred","v":447914.15825806453},0,{"$f":" L28 * L57 * days_in_year / hundred","v":14189.522177419356},0,{"$f":" N28 * N57 * days_in_year / hundred","v":3977.9159999999997},0,0,{"$f":" Q28 * Q57 * days_in_year / hundred","v":0},0,0,{"$f":" T28 * T57 * days_in_year / hundred","v":0},0,{"$f":" V28 * V57 * days_in_year / hundred","v":0},0,{"$f":" X28 * X57 * days_in_year / hundred","v":0},0]
[null,null,null,null,null,"Capacity charge","£",57715.843999999997,null,{"$f":" J29 * J58 * days_in_year / hundred","v":0},0,{"$f":" L29 * L58 * days_in_year / hundred","v":0},0,{"$f":" N29 * N58 * days_in_year / hundred","v":57715.843999999997},0,0,{"$f":" Q29 * Q58 * days_in_year / hundred","v":0},0,0,{"$f":" T29 * T58 * days_in_year / hundred","v":0},0,{"$f":" V29 * V58 * days_in_year / hundred","v":0},0,{"$f":" X29 * X58 * days_in_year / hundred","v":0},0]
[null,null,null,null,null,"Exceeded capacity charge","£",341.73855000000003,null,{"$f":" J30 * J59 * days_in_year / hundred","v":0},0,{"$f":" L30 * L59 * days_in_year / hundred","v":0},0,{"$f":" N30 * N59 * days_in_year / hundred","v":341.73855000000003},0,0,{"$f":" Q30 * Q59 * days_in_year / hundred","v":0},0,0,{"$f":" T30 * T59 * days_in_year / hundred","v":0},0,{"$f":" V30 * V59 * days_in_year / hundred","v":0},0,{"$f":" X30 * X59 * days_in_year / hundred","v":0},0]
[null,null,null,null,null,"Reactive power charge","£",1338.48,null,{"$f":"J31 * thousand * J60 / hundred","v":0},0,{"$f":"L31 * thousand * L60 / hundred","v":0},0,{"$f":"N31 * thousand * N60 / hundred","v":1338.48},0,0,{"$f":"Q31 * thousand * Q60 / hundred","v":0},0,0,{"$f":"T31 * thousand * T60 / hundred","v":0},0,{"$f":"V31 * thousand * V60 / hundred","v":0},0,{"$f":"X31 * thousand * X60 / hundred","v":0},0]
[null,null,null,null,null,"Total","£",{"$f":"SUM(H94:H100)","v":2623349.4721436724},null,{"$f":"SUM(J94:J100)","v":2220811.964710908},2235.6124222585095,122230.73682547637,0,268431.90529000002,0,0,9689.4382837477951,-50.185388718300302,0,0,0,0,0,0,0]
[]
[null,null,null,null,"LDNO HV customer net revenue",null,null,"Sum"]
[null,null,null,null,null,"Unit rate 1","£",{"$f":"SUM(J104:Y104)","v":1581444.5824273122},null,{"$f":"J34 * thousand * J63 / hundred","v":809190.01280129468},82.435612361554433,{"$f":"L34 * thousand * L63 / hundred","v":95801.463544242273},0,{"$f":"N34 * thousand * N63 / hundred","v":432032.62214999995},76506.720179999989,165065.89407999997,{"$f":"Q34 * thousand * Q63 / hundred","v":2781.9216532918158},-16.487593878141055,0,{"$f":"T34 * thousand * T63 / hundred","v":0},0,{"$f":"V34 * thousand * V63 / hundred","v":0},0,{"$f":"X34 * thousand * X63 / hundred","v":0},0]
[null,null,null,null,null,"Unit rate 2","£",1440029.4026497549,null,{"$f":"J35 * thousand * J64 / hundred","v":576326.83380795293},299.97316070574885,{"$f":"L35 * thousand * L64 / hundred","v":97018.380097937174},0,{"$f":"N35 * thousand * N64 / hundred","v":425721.09353999997},94772.405399999974,241948.03664999999,{"$f":"Q35 * thousand * Q64 / hundred","v":3948.6281272866786},-5.9481341274641295,0,{"$f":"T35 * thousand * T64 / hundred","v":0},0,{"$f":"V35 * thousand * V64 / hundred","v":0},0,{"$f":"X35 * thousand * X64 / hundred","v":0},0]
[null,null,null,null,null,"Unit rate 3","£",875473.53550893161,null,{"$f":"J36 * thousand * J65 / hundred","v":306016.65730726672},1755.0250790128948,{"$f":"L36 * thousand * L65 / hundred","v":50596.892030310082},0,{"$f":"N36 * thousand * N65 / hundred","v":233755.17632},62507.75903999999,217863.69465000005,{"$f":"Q36 * thousand * Q65 / hundred","v":2978.4698271294478},-0.13874478766107345,0,{"$f":"T36 * thousand * T65 / hundred","v":0},0,{"$f":"V36 * thousand * V65 / hundred","v":0},0,{"$f":"X36 * thousand * X65 / hundred","v":0},0]
[null,null,null,null,null,"Fixed charge","£",466373.83780645154,null,{"$f":" J37 * J66 * days_in_year / hundred","v":428806.0032258064},0,{"$f":" L37 * L66 * days_in_year / hundred","v":13777.572580645161},0,{"$f":" N37 * N66 * days_in_year / hundred","v":13072.11},524.79700000000003,10193.355000000001,{"$f":" Q37 * Q66 * days_in_year / hundred","v":0},0,0,{"$f":" T37 * T66 * days_in_year / hundred","v":0},0,{"$f":" V37 * V66 * days_in_year / hundred","v":0},0,{"$f":" X37 * X66 * days_in_year / hundred","v":0},0]
[null,null,null,null,null,"Capacity charge","£",854304.1810000001,null,{"$f":" J38 * J67 * days_in_year / hundred","v":0},0,{"$f":" L38 * L67 * days_in_year / hundred","v":0},0,{"$f":" N38 * N67 * days_in_year / hundred","v":316593.18900000001},150180.34499999997,387530.64700000006,{"$f":" Q38 * Q67 * days_in_year / hundred","v":0},0,0,{"$f":" T38 * T67 * days_in_year / hundred","v":0},0,{"$f":" V38 * V67 * days_in_year / hundred","v":0},0,{"$f":" X38 * X67 * days_in_year / hundred","v":0},0]
[null,null,null,null,null,"Exceeded capacity charge","£",1172.9935650000002,null,{"$f":" J39 * J68 * days_in_year / hundred","v":0},0,{"$f":" L39 * L68 * days_in_year / hundred","v":0},0,{"$f":" N39 * N68 * days_in_year / hundred","v":933.79001200000016},0,239.20355300000003,{"$f":" Q39 * Q68 * days_in_year / hundred","v":0},0,0,{"$f":" T39 * T68 * days_in_year / hundred","v":0},0,{"$f":" V39 * V68 * days_in_year / hundred","v":0},0,{"$f":" X39 * X68 * days_in_year / hundred","v":0},0]
[null,null,null,null,null,"Reactive power charge","£",10994.88,null,{"$f":"J40 * thousand * J69 / hundred","v":0},0,{"$f":"L40 * thousand * L69 / hundred","v":0},0,{"$f":"N40 * thousand * N69 / hundred","v":8370},1174.8,1450.08,{"$f":"Q40 * thousand * Q69 / hundred","v":0},0,0,{"$f":"T40 * thousand * T69 / hundred","v":0},0,{"$f":"V40 * thousand * V69 / hundred","v":0},0,{"$f":"X40 * thousand * X69 / hundred","v":0},0]
[null,null,null,null,null,"Total","£",{"$f":"SUM(H104:H110)","v":5229793.4129574494},null,{"$f":"SUM(J104:J110)","v":2120339.5071423207},2137.433852080198,257194.30825313469,0,1430477.9810220001,385666.82661999989,1024290.9109329999,9709.0196077079418,-22.57447279326626,0,0,0,0,0,0,0]
[]
[null,null,{"$f":"INDEX('Version control'!$H$34:$H$58,MATCH($A$1,'Version control'!$F$34:$F$58,0),1)&\"-E: Net revenue summary (for information only)\"","v":"Input 505-E: Net revenue summary (for information only)"}]
[]
[null,null,null,null,"Target CDCM net revenue",null,"£",{"$f":"H73","v":417181725.07818514}]
[null,null,null,null,"Pre-matching net revenue",null,"£",{"$f":"H74","v":241976393.59082356}]
[null,null,null,null,"Net revenue from unit rate adder",null,"£",173740878.11278296]
[null,null,null,null,"Net revenue from fixed rate adder, CDCM",null,"£",1462250.7520363859]
[null,null,null,null,"Net revenue from fixed rate adder, EDCM",null,"£",2202.6225422031271]
[null,null,null,null,"Net revenue from rounding",null,"£",{"$f":"SUM(H91,H101,H111) - SUM(H116:H118)","v":-23940.024302721024}]
[null,null,null,null,"Total net revenue",null,"£",{"$f":"SUM(H116:H120)","v":417157785.05388236}]
[]
[null,null,null,null,"Deviation from target revenue",null,"£",{"$f":"H121 - H115","v":-23940.024302780628}]
[null,null,null,null,"Deviation from target revenue",null,"%",{"$f":"(H121 - H115) / H115","v":-5.7385122270861615E-5}]
[]
[null,null,{"$f":"INDEX('Version control'!$H$34:$H$58,MATCH($A$1,'Version control'!$F$34:$F$58,0),1)&\"-F: Typical bills\"","v":"Input 505-F: Typical bills"}]
[]
[null,null,null,null,"Typical bills for all the way customers",null,"£/MPAN","All the way",null,{"$f":" IF( J19 <> 0, J91 / J19, \"\")","v":100.68392017625378},34.888232738206554,465.43767957090228,221.96134368468037,7168.5520506952917,24685.315070093893,61802.352112175802,1518.9926959471811,-77.999909975132709,-57.73277344149318,-1196.0325207902247,"",-1358.8780393739776,"",-22197.491012965707,""]
[null,null,null,null,"Typical bills for LDNO LV customers",null,"£/MPAN","LDNO LV",null,{"$f":" IF( J28 <> 0, J101 / J28, \"\")","v":53.929466829318805},33.367349585947899,117.90624020878636,"",3531.9987538157898,"","",284.9834789337587,-16.728462906100102,"","","","","","",""]
[null,null,null,null,"Typical bills for LDNO HV customers",null,"£/MPAN","LDNO HV",null,{"$f":" IF( J37 <> 0, J111 / J37, \"\")","v":36.096692410316081},27.245250581614364,170.34191248658666,"",3754.5353832598425,14833.339485384611,34143.030364433333,211.06564364582482,-4.5148945586532516,"","","","","","",""]
[]
[null,"Checks"]
[]
[null,null,null,"Check for error values",null,null,"number of issues",{"$f":"SUM(IF(ISERROR($H$13:$Z$131), 1))","v":0}]
[]
[null,"End of sheet"]

{"sheet":"Tariff summary","index":35,"n_rows":355,"n_cols":18,"rows_kept":355,"cut":false,"hidden":false,"merged":[]}
[{"$f":"MID(CELL(\"filename\",A1),FIND(\"]\",CELL(\"filename\",A1))+1,255)","v":"Tariff summary"}]
[{"$f":"Cover!D21&\" - \"&Cover!D23","v":"SP Distribution - One"}]
[{"$f":"Cover!D2&\" - \"&Cover!D8&\" v\"&Cover!D10&\" - \"&Cover!D19","v":"ARP model - Release for charge setting v5 - 2021/22"}]
[{"$f":"H353 & IF(H353 = 1, \" issue\", \" issues\") &\" identified in checks on this sheet\"","v":"0 issues identified in checks on this sheet"}]
[null,"Click here to return to model map",null,null,null,null,null,"Identifier",null,"Unit rate 1 \np/kWh","Unit rate 2 \np/kWh","Unit rate 3 \np/kWh","Fixed charge \np/MPAN/day","Capacity charge \np/kVA/day","Exceeded capacity charge \np/kVA/day","Reactive power charge \np/kVArh",null,"Legal text reference"]
[]
[null,"Description"]
[]
[null,null,"This sheet presents tariff forecast for 'all the way' customers and LDNO LV/HV customers"]
[null,null,"The tariff forecast are calculated for the 'live' charging year and updated for each year of the ARP forecast using a macro."]
[null,null,"To run the macro, click the \"Run all years\" box on the User Control sheet"]
[]
[null,"Tariff summary"]
[]
[null,null,{"$f":"INDEX('Version control'!$H$34:$H$60,MATCH($A$1,'Version control'!$F$34:$F$60,0),1)&\"-A: Live tariff results (\" & charging_year_selected & \")\"","v":"Input 506-A: Live tariff results (2021/22)"}]
[]
[null,null,null,null,{"$f":"\"All the way tariff forecast (\" & charging_year_selected & \")\"","v":"All the way tariff forecast (2021/22)"}]
[null,null,null,null,null,"Domestic Aggregated",null,"All the way",null,{"$f":"TRANSPOSE(Rounding!J130:Y136)","v":10.154999999999999},2.0299999999999998,1.17,4.76,0,0,0]
[null,null,null,null,null,"Domestic Aggregated (Related MPAN)",null,"All the way",null,10.154999999999999,2.0299999999999998,1.17,0,0,0,0]
[null,null,null,null,null,"Non-Domestic Aggregated",null,"All the way",null,11.609,2.173,1.1739999999999999,6.04,0,0,0]
[null,null,null,null,null,"Non-Domestic Aggregated (Related MPAN)",null,"All the way",null,11.609,2.173,1.1739999999999999,0,0,0,0]
[null,null,null,null,null,"LV Site Specific",null,"All the way",null,8.1809999999999992,1.8129999999999999,1.163,23.42,2.5,3.69,0.23499999999999999]
[null,null,null,null,null,"LV Sub Site Specific",null,"All the way",null,5.3090000000000002,1.5009999999999999,1.1539999999999999,8.39,4.51,5.14,0.13700000000000001]
[null,null,null,null,null,"HV Site Specific",null,"All the way",null,4.3010000000000002,1.4,1.151,124.35,4.96,6.12,0.10199999999999999]
[null,null,null,null,null,"Unmetered Supplies",null,"All the way",null,22.728000000000002,2.3420000000000001,1.5960000000000001,0,0,0,0]
[null,null,null,null,null,"LV Generation Aggregated",null,"All the way",null,-6.4409999999999998,-0.63100000000000001,-1.6E-2,0,0,0,0]
[null,null,null,null,null,"LV Sub Generation Aggregated",null,"All the way",null,-5.6890000000000001,-0.54800000000000004,-1.4E-2,0,0,0,0]
[null,null,null,null,null,"LV Generation Site Specific",null,"All the way",null,-6.4409999999999998,-0.63100000000000001,-1.6E-2,0,0,0,0.20300000000000001]
[null,null,null,null,null,"LV Generation Site Specific no RP Charge",null,"All the way",null,-6.4409999999999998,-0.63100000000000001,-1.6E-2,0,0,0,0]
[null,null,null,null,null,"LV Sub Generation Site Specific",null,"All the way",null,-5.6890000000000001,-0.54800000000000004,-1.4E-2,0,0,0,0.182]
[null,null,null,null,null,"LV Sub Generation Site Specific no RP Charge",null,"All the way",null,-5.6890000000000001,-0.54800000000000004,-1.4E-2,0,0,0,0]
[null,null,null,null,null,"HV Generation Site Specific",null,"All the way",null,-3.7330000000000001,-0.316,-6.0000000000000001E-3,90.67,0,0,0.156]
[null,null,null,null,null,"HV Generation Site Specific no RP Charge",null,"All the way",null,-3.7330000000000001,-0.316,-6.0000000000000001E-3,90.67,0,0,0]
[]
[null,null,null,null,{"$f":"\"LDNO LV tariff forecast (\" & charging_year_selected & \")\"","v":"LDNO LV tariff forecast (2021/22)"}]
[null,null,null,null,null,"Domestic Aggregated",null,"LDNO LV",null,{"$f":"TRANSPOSE(Rounding!J139:Y145)","v":6.1879999999999997},1.2370000000000001,0.71299999999999997,2.98,0,0,0]
[null,null,null,null,null,"Domestic Aggregated (Related MPAN)",null,"LDNO LV",null,6.1879999999999997,1.2370000000000001,0.71299999999999997,0,0,0,0]
[null,null,null,null,null,"Non-Domestic Aggregated",null,"LDNO LV",null,7.0739999999999998,1.3240000000000001,0.71499999999999997,3.75,0,0,0]
[null,null,null,null,null,"Non-Domestic Aggregated (Related MPAN)",null,"LDNO LV",null,7.0739999999999998,1.3240000000000001,0.71499999999999997,0,0,0,0]
[null,null,null,null,null,"LV Site Specific",null,"LDNO LV",null,4.9850000000000003,1.105,0.70899999999999996,14.34,1.52,2.25,0.14299999999999999]
[null,null,null,null,null,"LV Sub Site Specific",null,"LDNO LV",null,0,0,0,0,0,0,0]
[null,null,null,null,null,"HV Site Specific",null,"LDNO LV",null,0,0,0,0,0,0,0]
[null,null,null,null,null,"Unmetered Supplies",null,"LDNO LV",null,13.849,1.427,0.97299999999999998,0,0,0,0]
[null,null,null,null,null,"LV Generation Aggregated",null,"LDNO LV",null,-6.4409999999999998,-0.63100000000000001,-1.6E-2,0,0,0,0]
[null,null,null,null,null,"LV Sub Generation Aggregated",null,"LDNO LV",null,0,0,0,0,0,0,0]
[null,null,null,null,null,"LV Generation Site Specific",null,"LDNO LV",null,-6.4409999999999998,-0.63100000000000001,-1.6E-2,0,0,0,0.20300000000000001]
[null,null,null,null,null,"LV Generation Site Specific no RP Charge",null,"LDNO LV",null,0,0,0,0,0,0,0]
[null,null,null,null,null,"LV Sub Generation Site Specific",null,"LDNO LV",null,0,0,0,0,0,0,0]
[null,null,null,null,null,"LV Sub Generation Site Specific no RP Charge",null,"LDNO LV",null,0,0,0,0,0,0,0]
[null,null,null,null,null,"HV Generation Site Specific",null,"LDNO LV",null,0,0,0,0,0,0,0]
[null,null,null,null,null,"HV Generation Site Specific no RP Charge",null,"LDNO LV",null,0,0,0,0,0,0,0]
[]
[null,null,null,null,{"$f":"\"LDNO HV tariff forecast (\" & charging_year_selected & \")\"","v":"LDNO HV tariff forecast (2021/22)"}]
[null,null,null,null,null,"Domestic Aggregated",null,"LDNO HV",null,{"$f":"TRANSPOSE(Rounding!J148:Y154)","v":4.0250000000000004},0.80500000000000005,0.46400000000000002,2,0,0,0]
[null,null,null,null,null,"Domestic Aggregated (Related MPAN)",null,"LDNO HV",null,4.0250000000000004,0.80500000000000005,0.46400000000000002,0,0,0,0]
[null,null,null,null,null,"Non-Domestic Aggregated",null,"LDNO HV",null,4.6020000000000003,0.86099999999999999,0.46500000000000002,2.5,0,0,0]
[null,null,null,null,null,"Non-Domestic Aggregated (Related MPAN)",null,"LDNO HV",null,4.6020000000000003,0.86099999999999999,0.46500000000000002,0,0,0,0]
[null,null,null,null,null,"LV Site Specific",null,"LDNO HV",null,3.2429999999999999,0.71899999999999997,0.46100000000000002,9.4,0.99,1.46,9.2999999999999999E-2]
[null,null,null,null,null,"LV Sub Site Specific",null,"LDNO HV",null,3.4609999999999999,0.97799999999999998,0.752,5.53,2.94,3.35,8.8999999999999996E-2]
[null,null,null,null,null,"HV Site Specific",null,"LDNO HV",null,3.218,1.0469999999999999,0.86099999999999999,93.09,3.71,4.58,7.5999999999999998E-2]
[null,null,null,null,null,"Unmetered Supplies",null,"LDNO HV",null,9.0090000000000003,0.92800000000000005,0.63300000000000001,0,0,0,0]
[null,null,null,null,null,"LV Generation Aggregated",null,"LDNO HV",null,-6.4409999999999998,-0.63100000000000001,-1.6E-2,0,0,0,0]
[null,null,null,null,null,"LV Sub Generation Aggregated",null,"LDNO HV",null,-5.6890000000000001,-0.54800000000000004,-1.4E-2,0,0,0,0]
[null,null,null,null,null,"LV Generation Site Specific",null,"LDNO HV",null,-6.4409999999999998,-0.63100000000000001,-1.6E-2,0,0,0,0.20300000000000001]
[null,null,null,null,null,"LV Generation Site Specific no RP Charge",null,"LDNO HV",null,0,0,0,0,0,0,0]
[null,null,null,null,null,"LV Sub Generation Site Specific",null,"LDNO HV",null,-5.6890000000000001,-0.54800000000000004,-1.4E-2,0,0,0,0.182]
[null,null,null,null,null,"LV Sub Generation Site Specific no RP Charge",null,"LDNO HV",null,0,0,0,0,0,0,0]
[null,null,null,null,null,"HV Generation Site Specific",null,"LDNO HV",null,-3.7330000000000001,-0.316,-6.0000000000000001E-3,0,0,0,0.156]
[null,null,null,null,null,"HV Generation Site Specific no RP Charge",null,"LDNO HV",null,0,0,0,0,0,0,0]
[]
[null,null,{"$f":"INDEX('Version control'!$H$34:$H$60,MATCH($A$1,'Version control'!$F$34:$F$60,0),1)&\"-B: tariff forecast results for charging year \" & charging_year","v":"Input 506-B: tariff forecast results for charging year 2021/22"}]
[]
[null,null,null,null,{"$f":"\"All the way tariff forecast \" & charging_year","v":"All the way tariff forecast 2021/22"}]
[null,null,null,null,null,"Domestic Aggregated",null,"All the way",null,10.154999999999999,2.0299999999999998,1.17,4.76,0,0,0]
[null,null,null,null,null,"Domestic Aggregated (Related MPAN)",null,"All the way",null,10.154999999999999,2.0299999999999998,1.17,0,0,0,0]
[null,null,null,null,null,"Non-Domestic Aggregated",null,"All the way",null,11.609,2.173,1.1739999999999999,6.04,0,0,0]
[null,null,null,null,null,"Non-Domestic Aggregated (Related MPAN)",null,"All the way",null,11.609,2.173,1.1739999999999999,0,0,0,0]
[null,null,null,null,null,"LV Site Specific",null,"All the way",null,8.1809999999999992,1.8129999999999999,1.163,23.42,2.5,3.69,0.23499999999999999]
[null,null,null,null,null,"LV Sub Site Specific",null,"All the way",null,5.3090000000000002,1.5009999999999999,1.1539999999999999,8.39,4.51,5.14,0.13700000000000001]
[null,null,null,null,null,"HV Site Specific",null,"All the way",null,4.3010000000000002,1.4,1.151,124.35,4.96,6.12,0.10199999999999999]
[null,null,null,null,null,"Unmetered Supplies",null,"All the way",null,22.728000000000002,2.3420000000000001,1.5960000000000001,0,0,0,0]
[null,null,null,null,null,"LV Generation Aggregated",null,"All the way",null,-6.4409999999999998,-0.63100000000000001,-1.6E-2,0,0,0,0]
[null,null,null,null,null,"LV Sub Generation Aggregated",null,"All the way",null,-5.6890000000000001,-0.54800000000000004,-1.4E-2,0,0,0,0]
[null,null,null,null,null,"LV Generation Site Specific",null,"All the way",null,-6.4409999999999998,-0.63100000000000001,-1.6E-2,0,0,0,0.20300000000000001]
[null,null,null,null,null,"LV Generation Site Specific no RP Charge",null,"All the way",null,-6.4409999999999998,-0.63100000000000001,-1.6E-2,0,0,0,0]
[null,null,null,null,null,"LV Sub Generation Site Specific",null,"All the way",null,-5.6890000000000001,-0.54800000000000004,-1.4E-2,0,0,0,0.182]
[null,null,null,null,null,"LV Sub Generation Site Specific no RP Charge",null,"All the way",null,-5.6890000000000001,-0.54800000000000004,-1.4E-2,0,0,0,0]
[null,null,null,null,null,"HV Generation Site Specific",null,"All the way",null,-3.7330000000000001,-0.316,-6.0000000000000001E-3,90.67,0,0,0.156]
[null,null,null,null,null,"HV Generation Site Specific no RP Charge",null,"All the way",null,-3.7330000000000001,-0.316,-6.0000000000000001E-3,90.67,0,0,0]
[]
[null,null,null,null,{"$f":"\"LDNO LV tariff forecast \" & charging_year","v":"LDNO LV tariff forecast 2021/22"}]
[null,null,null,null,null,"Domestic Aggregated",null,"LDNO LV",null,6.1879999999999997,1.2370000000000001,0.71299999999999997,2.98,0,0,0]
[null,null,null,null,null,"Domestic Aggregated (Related MPAN)",null,"LDNO LV",null,6.1879999999999997,1.2370000000000001,0.71299999999999997,0,0,0,0]
[null,null,null,null,null,"Non-Domestic Aggregated",null,"LDNO LV",null,7.0739999999999998,1.3240000000000001,0.71499999999999997,3.75,0,0,0]
[null,null,null,null,null,"Non-Domestic Aggregated (Related MPAN)",null,"LDNO LV",null,7.0739999999999998,1.3240000000000001,0.71499999999999997,0,0,0,0]
[null,null,null,null,null,"LV Site Specific",null,"LDNO LV",null,4.9850000000000003,1.105,0.70899999999999996,14.34,1.52,2.25,0.14299999999999999]
[null,null,null,null,null,"LV Sub Site Specific",null,"LDNO LV",null,0,0,0,0,0,0,0]
[null,null,null,null,null,"HV Site Specific",null,"LDNO LV",null,0,0,0,0,0,0,0]
[null,null,null,null,null,"Unmetered Supplies",null,"LDNO LV",null,13.849,1.427,0.97299999999999998,0,0,0,0]
[null,null,null,null,null,"LV Generation Aggregated",null,"LDNO LV",null,-6.4409999999999998,-0.63100000000000001,-1.6E-2,0,0,0,0]
[null,null,null,null,null,"LV Sub Generation Aggregated",null,"LDNO LV",null,0,0,0,0,0,0,0]
[null,null,null,null,null,"LV Generation Site Specific",null,"LDNO LV",null,-6.4409999999999998,-0.63100000000000001,-1.6E-2,0,0,0,0.20300000000000001]
[null,null,null,null,null,"LV Generation Site Specific no RP Charge",null,"LDNO LV",null,0,0,0,0,0,0,0]
[null,null,null,null,null,"LV Sub Generation Site Specific",null,"LDNO LV",null,0,0,0,0,0,0,0]
[null,null,null,null,null,"LV Sub Generation Site Specific no RP Charge",null,"LDNO LV",null,0,0,0,0,0,0,0]
[null,null,null,null,null,"HV Generation Site Specific",null,"LDNO LV",null,0,0,0,0,0,0,0]
[null,null,null,null,null,"HV Generation Site Specific no RP Charge",null,"LDNO LV",null,0,0,0,0,0,0,0]
[]
[null,null,null,null,{"$f":"\"LDNO HV tariff forecast \" & charging_year","v":"LDNO HV tariff forecast 2021/22"}]
[null,null,null,null,null,"Domestic Aggregated",null,"LDNO HV",null,4.0250000000000004,0.80500000000000005,0.46400000000000002,2,0,0,0]
[null,null,null,null,null,"Domestic Aggregated (Related MPAN)",null,"LDNO HV",null,4.0250000000000004,0.80500000000000005,0.46400000000000002,0,0,0,0]
[null,null,null,null,null,"Non-Domestic Aggregated",null,"LDNO HV",null,4.6020000000000003,0.86099999999999999,0.46500000000000002,2.5,0,0,0]
[null,null,null,null,null,"Non-Domestic Aggregated (Related MPAN)",null,"LDNO HV",null,4.6020000000000003,0.86099999999999999,0.46500000000000002,0,0,0,0]
[null,null,null,null,null,"LV Site Specific",null,"LDNO HV",null,3.2429999999999999,0.71899999999999997,0.46100000000000002,9.4,0.99,1.46,9.2999999999999999E-2]
[null,null,null,null,null,"LV Sub Site Specific",null,"LDNO HV",null,3.4609999999999999,0.97799999999999998,0.752,5.53,2.94,3.35,8.8999999999999996E-2]
[null,null,null,null,null,"HV Site Specific",null,"LDNO HV",null,3.218,1.0469999999999999,0.86099999999999999,93.09,3.71,4.58,7.5999999999999998E-2]
[null,null,null,null,null,"Unmetered Supplies",null,"LDNO HV",null,9.0090000000000003,0.92800000000000005,0.63300000000000001,0,0,0,0]
[null,null,null,null,null,"LV Generation Aggregated",null,"LDNO HV",null,-6.4409999999999998,-0.63100000000000001,-1.6E-2,0,0,0,0]
[null,null,null,null,null,"LV Sub Generation Aggregated",null,"LDNO HV",null,-5.6890000000000001,-0.54800000000000004,-1.4E-2,0,0,0,0]
[null,null,null,null,null,"LV Generation Site Specific",null,"LDNO HV",null,-6.4409999999999998,-0.63100000000000001,-1.6E-2,0,0,0,0.20300000000000001]
[null,null,null,null,null,"LV Generation Site Specific no RP Charge",null,"LDNO HV",null,0,0,0,0,0,0,0]
[null,null,null,null,null,"LV Sub Generation Site Specific",null,"LDNO HV",null,-5.6890000000000001,-0.54800000000000004,-1.4E-2,0,0,0,0.182]
[null,null,null,null,null,"LV Sub Generation Site Specific no RP Charge",null,"LDNO HV",null,0,0,0,0,0,0,0]
[null,null,null,null,null,"HV Generation Site Specific",null,"LDNO HV",null,-3.7330000000000001,-0.316,-6.0000000000000001E-3,0,0,0,0.156]
[null,null,null,null,null,"HV Generation Site Specific no RP Charge",null,"LDNO HV",null,0,0,0,0,0,0,0]
[]
[null,null,{"$f":"INDEX('Version control'!$H$34:$H$60,MATCH($A$1,'Version control'!$F$34:$F$60,0),1)&\"-C: Tariff results for charging year \" & 'ARP_User control'!G32","v":"Input 506-C: Tariff results for charging year 2022/23"}]
[]
[null,null,null,null,{"$f":"\"All the way tariff forecast \" & 'ARP_User control'!G32","v":"All the way tariff forecast 2022/23"}]
[null,null,null,null,null,"Domestic Aggregated",null,"All the way",null,10.534000000000001,2.1269999999999998,1.2370000000000001,4.66,0,0,0]
[null,null,null,null,null,"Domestic Aggregated (Related MPAN)",null,"All the way",null,10.534000000000001,2.1269999999999998,1.2370000000000001,0,0,0,0]
[null,null,null,null,null,"Non-Domestic Aggregated",null,"All the way",null,12.039,2.2749999999999999,1.2410000000000001,5.93,0,0,0]
[null,null,null,null,null,"Non-Domestic Aggregated (Related MPAN)",null,"All the way",null,12.039,2.2749999999999999,1.2410000000000001,0,0,0,0]
[null,null,null,null,null,"LV Site Specific",null,"All the way",null,8.49,1.903,1.23,23.42,2.59,3.82,0.24399999999999999]
[null,null,null,null,null,"LV Sub Site Specific",null,"All the way",null,5.5170000000000003,1.58,1.22,8.27,4.67,5.32,0.14199999999999999]
[null,null,null,null,null,"HV Site Specific",null,"All the way",null,4.4729999999999999,1.4750000000000001,1.218,125.17,5.14,6.34,0.105]
[null,null,null,null,null,"Unmetered Supplies",null,"All the way",null,23.539000000000001,2.4390000000000001,1.667,0,0,0,0]
[null,null,null,null,null,"LV Generation Aggregated",null,"All the way",null,-6.665,-0.65300000000000002,-1.7000000000000001E-2,0,0,0,0]
[null,null,null,null,null,"LV Sub Generation Aggregated",null,"All the way",null,-5.8860000000000001,-0.56699999999999995,-1.4E-2,0,0,0,0]
[null,null,null,null,null,"LV Generation Site Specific",null,"All the way",null,-6.665,-0.65300000000000002,-1.7000000000000001E-2,0,0,0,0.21]
[null,null,null,null,null,"LV Generation Site Specific no RP Charge",null,"All the way",null,-6.665,-0.65300000000000002,-1.7000000000000001E-2,0,0,0,0]
[null,null,null,null,null,"LV Sub Generation Site Specific",null,"All the way",null,-5.8860000000000001,-0.56699999999999995,-1.4E-2,0,0,0,0.188]
[null,null,null,null,null,"LV Sub Generation Site Specific no RP Charge",null,"All the way",null,-5.8860000000000001,-0.56699999999999995,-1.4E-2,0,0,0,0]
[null,null,null,null,null,"HV Generation Site Specific",null,"All the way",null,-3.86,-0.32700000000000001,-6.0000000000000001E-3,91.4,0,0,0.161]
[null,null,null,null,null,"HV Generation Site Specific no RP Charge",null,"All the way",null,-3.86,-0.32700000000000001,-6.0000000000000001E-3,91.4,0,0,0]
[]
[null,null,null,null,{"$f":"\"LDNO LV tariff forecast \"& 'ARP_User control'!G32","v":"LDNO LV tariff forecast 2022/23"}]
[null,null,null,null,null,"Domestic Aggregated",null,"LDNO LV",null,6.4189999999999996,1.296,0.754,2.84,0,0,0]
[null,null,null,null,null,"Domestic Aggregated (Related MPAN)",null,"LDNO LV",null,6.4189999999999996,1.296,0.754,0,0,0,0]
[null,null,null,null,null,"Non-Domestic Aggregated",null,"LDNO LV",null,7.3360000000000003,1.3859999999999999,0.75600000000000001,3.61,0,0,0]
[null,null,null,null,null,"Non-Domestic Aggregated (Related MPAN)",null,"LDNO LV",null,7.3360000000000003,1.3859999999999999,0.75600000000000001,0,0,0,0]
[null,null,null,null,null,"LV Site Specific",null,"LDNO LV",null,5.173,1.159,0.75,14.27,1.58,2.33,0.14799999999999999]
[null,null,null,null,null,"LV Sub Site Specific",null,"LDNO LV",null,0,0,0,0,0,0,0]
[null,null,null,null,null,"HV Site Specific",null,"LDNO LV",null,0,0,0,0,0,0,0]
[null,null,null,null,null,"Unmetered Supplies",null,"LDNO LV",null,14.343,1.486,1.016,0,0,0,0]
[null,null,null,null,null,"LV Generation Aggregated",null,"LDNO LV",null,-6.665,-0.65300000000000002,-1.7000000000000001E-2,0,0,0,0]
[null,null,null,null,null,"LV Sub Generation Aggregated",null,"LDNO LV",null,0,0,0,0,0,0,0]
[null,null,null,null,null,"LV Generation Site Specific",null,"LDNO LV",null,-6.665,-0.65300000000000002,-1.7000000000000001E-2,0,0,0,0.21]
[null,null,null,null,null,"LV Generation Site Specific no RP Charge",null,"LDNO LV",null,0,0,0,0,0,0,0]
[null,null,null,null,null,"LV Sub Generation Site Specific",null,"LDNO LV",null,0,0,0,0,0,0,0]
[null,null,null,null,null,"LV Sub Generation Site Specific no RP Charge",null,"LDNO LV",null,0,0,0,0,0,0,0]
[null,null,null,null,null,"HV Generation Site Specific",null,"LDNO LV",null,0,0,0,0,0,0,0]
[null,null,null,null,null,"HV Generation Site Specific no RP Charge",null,"LDNO LV",null,0,0,0,0,0,0,0]
[]
[null,null,null,null,{"$f":"\"LDNO HV tariff forecast \"& 'ARP_User control'!G32","v":"LDNO HV tariff forecast 2022/23"}]
[null,null,null,null,null,"Domestic Aggregated",null,"LDNO HV",null,4.1749999999999998,0.84299999999999997,0.49,1.86,0,0,0]
[null,null,null,null,null,"Domestic Aggregated (Related MPAN)",null,"LDNO HV",null,4.1749999999999998,0.84299999999999997,0.49,0,0,0,0]
[null,null,null,null,null,"Non-Domestic Aggregated",null,"LDNO HV",null,4.7720000000000002,0.90200000000000002,0.49199999999999999,2.35,0,0,0]
[null,null,null,null,null,"Non-Domestic Aggregated (Related MPAN)",null,"LDNO HV",null,4.7720000000000002,0.90200000000000002,0.49199999999999999,0,0,0,0]
[null,null,null,null,null,"LV Site Specific",null,"LDNO HV",null,3.3650000000000002,0.754,0.48799999999999999,9.2799999999999994,1.03,1.51,9.7000000000000003E-2]
[null,null,null,null,null,"LV Sub Site Specific",null,"LDNO HV",null,3.5960000000000001,1.03,0.79600000000000004,5.39,3.04,3.47,9.1999999999999998E-2]
[null,null,null,null,null,"HV Site Specific",null,"LDNO HV",null,3.347,1.103,0.91100000000000003,93.66,3.85,4.74,7.9000000000000001E-2]
[null,null,null,null,null,"Unmetered Supplies",null,"LDNO HV",null,9.33,0.96699999999999997,0.66100000000000003,0,0,0,0]
[null,null,null,null,null,"LV Generation Aggregated",null,"LDNO HV",null,-6.665,-0.65300000000000002,-1.7000000000000001E-2,0,0,0,0]
[null,null,null,null,null,"LV Sub Generation Aggregated",null,"LDNO HV",null,-5.8860000000000001,-0.56699999999999995,-1.4E-2,0,0,0,0]
[null,null,null,null,null,"LV Generation Site Specific",null,"LDNO HV",null,-6.665,-0.65300000000000002,-1.7000000000000001E-2,0,0,0,0.21]
[null,null,null,null,null,"LV Generation Site Specific no RP Charge",null,"LDNO HV",null,0,0,0,0,0,0,0]
[null,null,null,null,null,"LV Sub Generation Site Specific",null,"LDNO HV",null,-5.8860000000000001,-0.56699999999999995,-1.4E-2,0,0,0,0.188]
[null,null,null,null,null,"LV Sub Generation Site Specific no RP Charge",null,"LDNO HV",null,0,0,0,0,0,0,0]
[null,null,null,null,null,"HV Generation Site Specific",null,"LDNO HV",null,-3.86,-0.32700000000000001,-6.0000000000000001E-3,0,0,0,0.161]
[null,null,null,null,null,"HV Generation Site Specific no RP Charge",null,"LDNO HV",null,0,0,0,0,0,0,0]
[]
[null,null,{"$f":"INDEX('Version control'!$H$34:$H$60,MATCH($A$1,'Version control'!$F$34:$F$60,0),1)&\"-D: Tariff results for charging year \" & 'ARP_User control'!G33","v":"Input 506-D: Tariff results for charging year 2023/24"}]
[]
[null,null,null,null,{"$f":"\"All the way tariff forecast \"& 'ARP_User control'!G33","v":"All the way tariff forecast 2023/24"}]
[null,null,null,null,null,"Domestic Aggregated",null,"All the way",null,10.863,2.266,1.3580000000000001,4.67,0,0,0]
[null,null,null,null,null,"Domestic Aggregated (Related MPAN)",null,"All the way",null,10.863,2.266,1.3580000000000001,0,0,0,0]
[null,null,null,null,null,"Non-Domestic Aggregated",null,"All the way",null,12.401999999999999,2.4169999999999998,1.3620000000000001,5.97,0,0,0]
[null,null,null,null,null,"Non-Domestic Aggregated (Related MPAN)",null,"All the way",null,12.401999999999999,2.4169999999999998,1.3620000000000001,0,0,0,0]
[null,null,null,null,null,"LV Site Specific",null,"All the way",null,8.7729999999999997,2.0369999999999999,1.351,23.54,2.65,3.9,0.249]
[null,null,null,null,null,"LV Sub Site Specific",null,"All the way",null,5.734,1.708,1.3420000000000001,8.31,4.7699999999999996,5.44,0.14499999999999999]
[null,null,null,null,null,"HV Site Specific",null,"All the way",null,4.6669999999999998,1.601,1.339,125.79,5.26,6.48,0.107]
[null,null,null,null,null,"Unmetered Supplies",null,"All the way",null,24.157,2.593,1.792,0,0,0,0]
[null,null,null,null,null,"LV Generation Aggregated",null,"All the way",null,-6.859,-0.67100000000000004,-1.7000000000000001E-2,0,0,0,0]
[null,null,null,null,null,"LV Sub Generation Aggregated",null,"All the way",null,-6.0570000000000004,-0.58199999999999996,-1.4E-2,0,0,0,0]
[null,null,null,null,null,"LV Generation Site Specific",null,"All the way",null,-6.859,-0.67100000000000004,-1.7000000000000001E-2,0,0,0,0.215]
[null,null,null,null,null,"LV Generation Site Specific no RP Charge",null,"All the way",null,-6.859,-0.67100000000000004,-1.7000000000000001E-2,0,0,0,0]
[null,null,null,null,null,"LV Sub Generation Site Specific",null,"All the way",null,-6.0570000000000004,-0.58199999999999996,-1.4E-2,0,0,0,0.192]
[null,null,null,null,null,"LV Sub Generation Site Specific no RP Charge",null,"All the way",null,-6.0570000000000004,-0.58199999999999996,-1.4E-2,0,0,0,0]
[null,null,null,null,null,"HV Generation Site Specific",null,"All the way",null,-3.972,-0.33600000000000002,-6.0000000000000001E-3,91.85,0,0,0.16500000000000001]
[null,null,null,null,null,"HV Generation Site Specific no RP Charge",null,"All the way",null,-3.972,-0.33600000000000002,-6.0000000000000001E-3,91.85,0,0,0]
[]
[null,null,null,null,{"$f":"\"LDNO LV tariff forecast \"& 'ARP_User control'!G33","v":"LDNO LV tariff forecast 2023/24"}]
[null,null,null,null,null,"Domestic Aggregated",null,"LDNO LV",null,6.6189999999999998,1.381,0.82799999999999996,2.85,0,0,0]
[null,null,null,null,null,"Domestic Aggregated (Related MPAN)",null,"LDNO LV",null,6.6189999999999998,1.381,0.82799999999999996,0,0,0,0]
[null,null,null,null,null,"Non-Domestic Aggregated",null,"LDNO LV",null,7.5570000000000004,1.472,0.83,3.64,0,0,0]
[null,null,null,null,null,"Non-Domestic Aggregated (Related MPAN)",null,"LDNO LV",null,7.5570000000000004,1.472,0.83,0,0,0,0]
[null,null,null,null,null,"LV Site Specific",null,"LDNO LV",null,5.3460000000000001,1.2410000000000001,0.82299999999999995,14.34,1.61,2.38,0.152]
[null,null,null,null,null,"LV Sub Site Specific",null,"LDNO LV",null,0,0,0,0,0,0,0]
[null,null,null,null,null,"HV Site Specific",null,"LDNO LV",null,0,0,0,0,0,0,0]
[null,null,null,null,null,"Unmetered Supplies",null,"LDNO LV",null,14.72,1.58,1.0920000000000001,0,0,0,0]
[null,null,null,null,null,"LV Generation Aggregated",null,"LDNO LV",null,-6.859,-0.67100000000000004,-1.7000000000000001E-2,0,0,0,0]
[null,null,null,null,null,"LV Sub Generation Aggregated",null,"LDNO LV",null,0,0,0,0,0,0,0]
[null,null,null,null,null,"LV Generation Site Specific",null,"LDNO LV",null,-6.859,-0.67100000000000004,-1.7000000000000001E-2,0,0,0,0.215]
[null,null,null,null,null,"LV Generation Site Specific no RP Charge",null,"LDNO LV",null,0,0,0,0,0,0,0]
[null,null,null,null,null,"LV Sub Generation Site Specific",null,"LDNO LV",null,0,0,0,0,0,0,0]
[null,null,null,null,null,"LV Sub Generation Site Specific no RP Charge",null,"LDNO LV",null,0,0,0,0,0,0,0]
[null,null,null,null,null,"HV Generation Site Specific",null,"LDNO LV",null,0,0,0,0,0,0,0]
[null,null,null,null,null,"HV Generation Site Specific no RP Charge",null,"LDNO LV",null,0,0,0,0,0,0,0]
[]
[null,null,null,null,{"$f":"\"LDNO HV tariff forecast \"& 'ARP_User control'!G33","v":"LDNO HV tariff forecast 2023/24"}]
[null,null,null,null,null,"Domestic Aggregated",null,"LDNO HV",null,4.306,0.89800000000000002,0.53800000000000003,1.85,0,0,0]
[null,null,null,null,null,"Domestic Aggregated (Related MPAN)",null,"LDNO HV",null,4.306,0.89800000000000002,0.53800000000000003,0,0,0,0]
[null,null,null,null,null,"Non-Domestic Aggregated",null,"LDNO HV",null,4.9160000000000004,0.95799999999999996,0.54,2.37,0,0,0]
[null,null,null,null,null,"Non-Domestic Aggregated (Related MPAN)",null,"LDNO HV",null,4.9160000000000004,0.95799999999999996,0.54,0,0,0,0]
[null,null,null,null,null,"LV Site Specific",null,"LDNO HV",null,3.4780000000000002,0.80700000000000005,0.53600000000000003,9.33,1.05,1.55,9.9000000000000005E-2]
[null,null,null,null,null,"LV Sub Site Specific",null,"LDNO HV",null,3.738,1.113,0.874,5.42,3.11,3.54,9.4E-2]
[null,null,null,null,null,"HV Site Specific",null,"LDNO HV",null,3.492,1.198,1.002,94.12,3.94,4.8499999999999996,0.08]
[null,null,null,null,null,"Unmetered Supplies",null,"LDNO HV",null,9.5749999999999993,1.028,0.71,0,0,0,0]
[null,null,null,null,null,"LV Generation Aggregated",null,"LDNO HV",null,-6.859,-0.67100000000000004,-1.7000000000000001E-2,0,0,0,0]
[null,null,null,null,null,"LV Sub Generation Aggregated",null,"LDNO HV",null,-6.0570000000000004,-0.58199999999999996,-1.4E-2,0,0,0,0]
[null,null,null,null,null,"LV Generation Site Specific",null,"LDNO HV",null,-6.859,-0.67100000000000004,-1.7000000000000001E-2,0,0,0,0.215]
[null,null,null,null,null,"LV Generation Site Specific no RP Charge",null,"LDNO HV",null,0,0,0,0,0,0,0]
[null,null,null,null,null,"LV Sub Generation Site Specific",null,"LDNO HV",null,-6.0570000000000004,-0.58199999999999996,-1.4E-2,0,0,0,0.192]
[null,null,null,null,null,"LV Sub Generation Site Specific no RP Charge",null,"LDNO HV",null,0,0,0,0,0,0,0]
[null,null,null,null,null,"HV Generation Site Specific",null,"LDNO HV",null,-3.972,-0.33600000000000002,-6.0000000000000001E-3,0,0,0,0.16500000000000001]
[null,null,null,null,null,"HV Generation Site Specific no RP Charge",null,"LDNO HV",null,0,0,0,0,0,0,0]
[]
[null,null,{"$f":"INDEX('Version control'!$H$34:$H$60,MATCH($A$1,'Version control'!$F$34:$F$60,0),1)&\"-E: Tariff results for charging year \" & 'ARP_User control'!G34","v":"Input 506-E: Tariff results for charging year 2024/25"}]
[]
[null,null,null,null,{"$f":"\"All the way tariff forecast \"& 'ARP_User control'!G34","v":"All the way tariff forecast 2024/25"}]
[null,null,null,null,null,"Domestic Aggregated",null,"All the way",null,11.093999999999999,2.302,1.371,4.72,0,0,0]
[null,null,null,null,null,"Domestic Aggregated (Related MPAN)",null,"All the way",null,11.093999999999999,2.302,1.371,0,0,0,0]
[null,null,null,null,null,"Non-Domestic Aggregated",null,"All the way",null,12.667999999999999,2.4569999999999999,1.375,6.03,0,0,0]
[null,null,null,null,null,"Non-Domestic Aggregated (Related MPAN)",null,"All the way",null,12.667999999999999,2.4569999999999999,1.375,0,0,0,0]
[null,null,null,null,null,"LV Site Specific",null,"All the way",null,8.9550000000000001,2.0670000000000002,1.3640000000000001,23.67,2.72,4,0.255]
[null,null,null,null,null,"LV Sub Site Specific",null,"All the way",null,5.8440000000000003,1.7290000000000001,1.3540000000000001,8.35,4.8899999999999997,5.57,0.14799999999999999]
[null,null,null,null,null,"HV Site Specific",null,"All the way",null,4.7519999999999998,1.619,1.351,126.47,5.39,6.64,0.11]
[null,null,null,null,null,"Unmetered Supplies",null,"All the way",null,24.687999999999999,2.6139999999999999,1.806,0,0,0,0]
[null,null,null,null,null,"LV Generation Aggregated",null,"All the way",null,-6.9710000000000001,-0.68400000000000005,-1.7999999999999999E-2,0,0,0,0]
[null,null,null,null,null,"LV Sub Generation Aggregated",null,"All the way",null,-6.1550000000000002,-0.59299999999999997,-1.4999999999999999E-2,0,0,0,0]
[null,null,null,null,null,"LV Generation Site Specific",null,"All the way",null,-6.9710000000000001,-0.68400000000000005,-1.7999999999999999E-2,0,0,0,0.22]
[null,null,null,null,null,"LV Generation Site Specific no RP Charge",null,"All the way",null,-6.9710000000000001,-0.68400000000000005,-1.7999999999999999E-2,0,0,0,0]
[null,null,null,null,null,"LV Sub Generation Site Specific",null,"All the way",null,-6.1550000000000002,-0.59299999999999997,-1.4999999999999999E-2,0,0,0,0.19700000000000001]
[null,null,null,null,null,"LV Sub Generation Site Specific no RP Charge",null,"All the way",null,-6.1550000000000002,-0.59299999999999997,-1.4999999999999999E-2,0,0,0,0]
[null,null,null,null,null,"HV Generation Site Specific",null,"All the way",null,-4.0339999999999998,-0.34200000000000003,-6.0000000000000001E-3,92.35,0,0,0.16900000000000001]
[null,null,null,null,null,"HV Generation Site Specific no RP Charge",null,"All the way",null,-4.0339999999999998,-0.34200000000000003,-6.0000000000000001E-3,92.35,0,0,0]
[]
[null,null,null,null,{"$f":"\"LDNO LV tariff forecast \"& 'ARP_User control'!G34","v":"LDNO LV tariff forecast 2024/25"}]
[null,null,null,null,null,"Domestic Aggregated",null,"LDNO LV",null,6.76,1.403,0.83599999999999997,2.88,0,0,0]
[null,null,null,null,null,"Domestic Aggregated (Related MPAN)",null,"LDNO LV",null,6.76,1.403,0.83599999999999997,0,0,0,0]
[null,null,null,null,null,"Non-Domestic Aggregated",null,"LDNO LV",null,7.7190000000000003,1.4970000000000001,0.83799999999999997,3.67,0,0,0]
[null,null,null,null,null,"Non-Domestic Aggregated (Related MPAN)",null,"LDNO LV",null,7.7190000000000003,1.4970000000000001,0.83799999999999997,0,0,0,0]
[null,null,null,null,null,"LV Site Specific",null,"LDNO LV",null,5.4569999999999999,1.26,0.83099999999999996,14.42,1.66,2.44,0.155]
[null,null,null,null,null,"LV Sub Site Specific",null,"LDNO LV",null,0,0,0,0,0,0,0]
[null,null,null,null,null,"HV Site Specific",null,"LDNO LV",null,0,0,0,0,0,0,0]
[null,null,null,null,null,"Unmetered Supplies",null,"LDNO LV",null,15.042999999999999,1.5920000000000001,1.1000000000000001,0,0,0,0]
[null,null,null,null,null,"LV Generation Aggregated",null,"LDNO LV",null,-6.9710000000000001,-0.68400000000000005,-1.7999999999999999E-2,0,0,0,0]
[null,null,null,null,null,"LV Sub Generation Aggregated",null,"LDNO LV",null,0,0,0,0,0,0,0]
[null,null,null,null,null,"LV Generation Site Specific",null,"LDNO LV",null,-6.9710000000000001,-0.68400000000000005,-1.7999999999999999E-2,0,0,0,0.22]
[null,null,null,null,null,"LV Generation Site Specific no RP Charge",null,"LDNO LV",null,0,0,0,0,0,0,0]
[null,null,null,null,null,"LV Sub Generation Site Specific",null,"LDNO LV",null,0,0,0,0,0,0,0]
[null,null,null,null,null,"LV Sub Generation Site Specific no RP Charge",null,"LDNO LV",null,0,0,0,0,0,0,0]
[null,null,null,null,null,"HV Generation Site Specific",null,"LDNO LV",null,0,0,0,0,0,0,0]
[null,null,null,null,null,"HV Generation Site Specific no RP Charge",null,"LDNO LV",null,0,0,0,0,0,0,0]
[]
[null,null,null,null,{"$f":"\"LDNO HV tariff forecast \"& 'ARP_User control'!G34","v":"LDNO HV tariff forecast 2024/25"}]
[null,null,null,null,null,"Domestic Aggregated",null,"LDNO HV",null,4.3979999999999997,0.91300000000000003,0.54400000000000004,1.87,0,0,0]
[null,null,null,null,null,"Domestic Aggregated (Related MPAN)",null,"LDNO HV",null,4.3979999999999997,0.91300000000000003,0.54400000000000004,0,0,0,0]
[null,null,null,null,null,"Non-Domestic Aggregated",null,"LDNO HV",null,5.0220000000000002,0.97399999999999998,0.54500000000000004,2.39,0,0,0]
[null,null,null,null,null,"Non-Domestic Aggregated (Related MPAN)",null,"LDNO HV",null,5.0220000000000002,0.97399999999999998,0.54500000000000004,0,0,0,0]
[null,null,null,null,null,"LV Site Specific",null,"LDNO HV",null,3.55,0.81899999999999995,0.54100000000000004,9.3800000000000008,1.08,1.59,0.10100000000000001]
[null,null,null,null,null,"LV Sub Site Specific",null,"LDNO HV",null,3.8090000000000002,1.127,0.88200000000000001,5.44,3.19,3.63,9.7000000000000003E-2]
[null,null,null,null,null,"HV Site Specific",null,"LDNO HV",null,3.556,1.212,1.0109999999999999,94.64,4.03,4.97,8.2000000000000003E-2]
[null,null,null,null,null,"Unmetered Supplies",null,"LDNO HV",null,9.7859999999999996,1.036,0.71599999999999997,0,0,0,0]
[null,null,null,null,null,"LV Generation Aggregated",null,"LDNO HV",null,-6.9710000000000001,-0.68400000000000005,-1.7999999999999999E-2,0,0,0,0]
[null,null,null,null,null,"LV Sub Generation Aggregated",null,"LDNO HV",null,-6.1550000000000002,-0.59299999999999997,-1.4999999999999999E-2,0,0,0,0]
[null,null,null,null,null,"LV Generation Site Specific",null,"LDNO HV",null,-6.9710000000000001,-0.68400000000000005,-1.7999999999999999E-2,0,0,0,0.22]
[null,null,null,null,null,"LV Generation Site Specific no RP Charge",null,"LDNO HV",null,0,0,0,0,0,0,0]
[null,null,null,null,null,"LV Sub Generation Site Specific",null,"LDNO HV",null,-6.1550000000000002,-0.59299999999999997,-1.4999999999999999E-2,0,0,0,0.19700000000000001]
[null,null,null,null,null,"LV Sub Generation Site Specific no RP Charge",null,"LDNO HV",null,0,0,0,0,0,0,0]
[null,null,null,null,null,"HV Generation Site Specific",null,"LDNO HV",null,-4.0339999999999998,-0.34200000000000003,-6.0000000000000001E-3,0,0,0,0.16900000000000001]
[null,null,null,null,null,"HV Generation Site Specific no RP Charge",null,"LDNO HV",null,0,0,0,0,0,0,0]
[]
[null,null,{"$f":"INDEX('Version control'!$H$34:$H$60,MATCH($A$1,'Version control'!$F$34:$F$60,0),1)&\"-F: Tariff results for charging year \" & 'ARP_User control'!G35","v":"Input 506-F: Tariff results for charging year 2025/26"}]
[]
[null,null,null,null,{"$f":"\"All the way tariff forecast \"& 'ARP_User control'!G35","v":"All the way tariff forecast 2025/26"}]
[null,null,null,null,null,"Domestic Aggregated",null,"All the way",null,11.308999999999999,2.3260000000000001,1.3740000000000001,4.76,0,0,0]
[null,null,null,null,null,"Domestic Aggregated (Related MPAN)",null,"All the way",null,11.308999999999999,2.3260000000000001,1.3740000000000001,0,0,0,0]
[null,null,null,null,null,"Non-Domestic Aggregated",null,"All the way",null,12.917999999999999,2.4830000000000001,1.3779999999999999,6.07,0,0,0]
[null,null,null,null,null,"Non-Domestic Aggregated (Related MPAN)",null,"All the way",null,12.917999999999999,2.4830000000000001,1.3779999999999999,0,0,0,0]
[null,null,null,null,null,"LV Site Specific",null,"All the way",null,9.1219999999999999,2.085,1.367,23.78,2.78,4.09,0.26]
[null,null,null,null,null,"LV Sub Site Specific",null,"All the way",null,5.9429999999999996,1.74,1.3560000000000001,8.39,5,5.69,0.151]
[null,null,null,null,null,"HV Site Specific",null,"All the way",null,4.8259999999999996,1.627,1.353,127.1,5.51,6.78,0.112]
[null,null,null,null,null,"Unmetered Supplies",null,"All the way",null,25.196999999999999,2.6259999999999999,1.81,0,0,0,0]
[null,null,null,null,null,"LV Generation Aggregated",null,"All the way",null,-7.1230000000000002,-0.69899999999999995,-1.7999999999999999E-2,0,0,0,0]
[null,null,null,null,null,"LV Sub Generation Aggregated",null,"All the way",null,-6.2889999999999997,-0.60599999999999998,-1.4999999999999999E-2,0,0,0,0]
[null,null,null,null,null,"LV Generation Site Specific",null,"All the way",null,-7.1230000000000002,-0.69899999999999995,-1.7999999999999999E-2,0,0,0,0.22500000000000001]
[null,null,null,null,null,"LV Generation Site Specific no RP Charge",null,"All the way",null,-7.1230000000000002,-0.69899999999999995,-1.7999999999999999E-2,0,0,0,0]
[null,null,null,null,null,"LV Sub Generation Site Specific",null,"All the way",null,-6.2889999999999997,-0.60599999999999998,-1.4999999999999999E-2,0,0,0,0.20100000000000001]
[null,null,null,null,null,"LV Sub Generation Site Specific no RP Charge",null,"All the way",null,-6.2889999999999997,-0.60599999999999998,-1.4999999999999999E-2,0,0,0,0]
[null,null,null,null,null,"HV Generation Site Specific",null,"All the way",null,-4.1210000000000004,-0.34899999999999998,-7.0000000000000001E-3,92.81,0,0,0.17199999999999999]
[null,null,null,null,null,"HV Generation Site Specific no RP Charge",null,"All the way",null,-4.1210000000000004,-0.34899999999999998,-7.0000000000000001E-3,92.81,0,0,0]
[]
[null,null,null,null,{"$f":"\"LDNO LV tariff forecast \"& 'ARP_User control'!G35","v":"LDNO LV tariff forecast 2025/26"}]
[null,null,null,null,null,"Domestic Aggregated",null,"LDNO LV",null,6.891,1.417,0.83699999999999997,2.9,0,0,0]
[null,null,null,null,null,"Domestic Aggregated (Related MPAN)",null,"LDNO LV",null,6.891,1.417,0.83699999999999997,0,0,0,0]
[null,null,null,null,null,"Non-Domestic Aggregated",null,"LDNO LV",null,7.8710000000000004,1.5129999999999999,0.84,3.7,0,0,0]
[null,null,null,null,null,"Non-Domestic Aggregated (Related MPAN)",null,"LDNO LV",null,7.8710000000000004,1.5129999999999999,0.84,0,0,0,0]
[null,null,null,null,null,"LV Site Specific",null,"LDNO LV",null,5.5590000000000002,1.27,0.83299999999999996,14.49,1.69,2.4900000000000002,0.159]
[null,null,null,null,null,"LV Sub Site Specific",null,"LDNO LV",null,0,0,0,0,0,0,0]
[null,null,null,null,null,"HV Site Specific",null,"LDNO LV",null,0,0,0,0,0,0,0]
[null,null,null,null,null,"Unmetered Supplies",null,"LDNO LV",null,15.353,1.6,1.103,0,0,0,0]
[null,null,null,null,null,"LV Generation Aggregated",null,"LDNO LV",null,-7.1230000000000002,-0.69899999999999995,-1.7999999999999999E-2,0,0,0,0]
[null,null,null,null,null,"LV Sub Generation Aggregated",null,"LDNO LV",null,0,0,0,0,0,0,0]
[null,null,null,null,null,"LV Generation Site Specific",null,"LDNO LV",null,-7.1230000000000002,-0.69899999999999995,-1.7999999999999999E-2,0,0,0,0.22500000000000001]
[null,null,null,null,null,"LV Generation Site Specific no RP Charge",null,"LDNO LV",null,0,0,0,0,0,0,0]
[null,null,null,null,null,"LV Sub Generation Site Specific",null,"LDNO LV",null,0,0,0,0,0,0,0]
[null,null,null,null,null,"LV Sub Generation Site Specific no RP Charge",null,"LDNO LV",null,0,0,0,0,0,0,0]
[null,null,null,null,null,"HV Generation Site Specific",null,"LDNO LV",null,0,0,0,0,0,0,0]
[null,null,null,null,null,"HV Generation Site Specific no RP Charge",null,"LDNO LV",null,0,0,0,0,0,0,0]
[]
[null,null,null,null,{"$f":"\"LDNO HV tariff forecast \"& 'ARP_User control'!G35","v":"LDNO HV tariff forecast 2025/26"}]
[null,null,null,null,null,"Domestic Aggregated",null,"LDNO HV",null,4.4829999999999997,0.92200000000000004,0.54500000000000004,1.89,0,0,0]
[null,null,null,null,null,"Domestic Aggregated (Related MPAN)",null,"LDNO HV",null,4.4829999999999997,0.92200000000000004,0.54500000000000004,0,0,0,0]
[null,null,null,null,null,"Non-Domestic Aggregated",null,"LDNO HV",null,5.12,0.98399999999999999,0.54600000000000004,2.41,0,0,0]
[null,null,null,null,null,"Non-Domestic Aggregated (Related MPAN)",null,"LDNO HV",null,5.12,0.98399999999999999,0.54600000000000004,0,0,0,0]
[null,null,null,null,null,"LV Site Specific",null,"LDNO HV",null,3.6160000000000001,0.82599999999999996,0.54200000000000004,9.43,1.1000000000000001,1.62,0.10299999999999999]
[null,null,null,null,null,"LV Sub Site Specific",null,"LDNO HV",null,3.8740000000000001,1.1339999999999999,0.88400000000000001,5.47,3.26,3.71,9.9000000000000005E-2]
[null,null,null,null,null,"HV Site Specific",null,"LDNO HV",null,3.6110000000000002,1.218,1.0129999999999999,95.1,4.12,5.08,8.4000000000000005E-2]
[null,null,null,null,null,"Unmetered Supplies",null,"LDNO HV",null,9.9879999999999995,1.0409999999999999,0.71699999999999997,0,0,0,0]
[null,null,null,null,null,"LV Generation Aggregated",null,"LDNO HV",null,-7.1230000000000002,-0.69899999999999995,-1.7999999999999999E-2,0,0,0,0]
[null,null,null,null,null,"LV Sub Generation Aggregated",null,"LDNO HV",null,-6.2889999999999997,-0.60599999999999998,-1.4999999999999999E-2,0,0,0,0]
[null,null,null,null,null,"LV Generation Site Specific",null,"LDNO HV",null,-7.1230000000000002,-0.69899999999999995,-1.7999999999999999E-2,0,0,0,0.22500000000000001]
[null,null,null,null,null,"LV Generation Site Specific no RP Charge",null,"LDNO HV",null,0,0,0,0,0,0,0]
[null,null,null,null,null,"LV Sub Generation Site Specific",null,"LDNO HV",null,-6.2889999999999997,-0.60599999999999998,-1.4999999999999999E-2,0,0,0,0.20100000000000001]
[null,null,null,null,null,"LV Sub Generation Site Specific no RP Charge",null,"LDNO HV",null,0,0,0,0,0,0,0]
[null,null,null,null,null,"HV Generation Site Specific",null,"LDNO HV",null,-4.1210000000000004,-0.34899999999999998,-7.0000000000000001E-3,0,0,0,0.17199999999999999]
[null,null,null,null,null,"HV Generation Site Specific no RP Charge",null,"LDNO HV",null,0,0,0,0,0,0,0]
[]
[null,"Checks"]
[]
[null,null,null,null,"Check for error values",null,"number of issues",{"$f":"SUM(IF(ISERROR(J18:P69), 1))","v":0}]
[]
[null,"End of sheet"]

{"sheet":"Typical bills","index":36,"n_rows":75,"n_cols":18,"rows_kept":75,"cut":false,"hidden":false,"merged":[]}
[{"$f":"MID(CELL(\"filename\",A1),FIND(\"]\",CELL(\"filename\",A1))+1,255)","v":"Typical bills"}]
[{"$f":"Cover!D21&\" - \"&Cover!D23","v":"SP Distribution - One"}]
[{"$f":"Cover!D2&\" - \"&Cover!D8&\" v\"&Cover!D10&\" - \"&Cover!D19","v":"ARP model - Release for charge setting v5 - 2021/22"}]
[{"$f":"H73 & IF(H73 = 1, \" issue\", \" issues\") &\" identified in checks on this sheet\"","v":"0 issues identified in checks on this sheet"}]
[null,"Click here to return to model map",null,null,null,null,"Units","Identifier",null,{"$f":"\"Live results (\" & charging_year_selected & \")\"","v":"Live results (2021/22)"},null,{"$f":"TRANSPOSE('ARP_User control'!G31:G35)","v":"2021/22"},"2022/23","2023/24","2024/25","2025/26",null,"Legal text reference"]
[]
[null,"Description"]
[]
[null,null,"This sheet presents typical bills for 'all the way' customers and LDNO LV/HV customers"]
[null,null,"Bills are calculated for the 'live' charging year and updated for each year of the ARP forecast using a macro."]
[null,null,"To run the macro, click the \"Run all years\" box on the User Control sheet"]
[]
[null,"Typical bills"]
[]
[null,null,{"$f":"INDEX('Version control'!$H$34:$H$60,MATCH($A$1,'Version control'!$F$34:$F$60,0),1)&\"-A: Typical bill results\"","v":"Input 507-A: Typical bill results"}]
[]
[null,null,null,null,"Typical bills for all the way customers",null,null,null,">",null,null,null,null,null,null,null,null,"Schedule 20, Paragraph 2.1 (b)"]
[null,null,null,null,null,"Domestic Aggregated","£","All the way",null,{"$f":"TRANSPOSE('Net revenue summary'!J128:Y128)","v":100.68392017625378},null,100.68392017625378,104.02481644663889,108.89833505534754,110.6120162449497,111.97683254341824]
[null,null,null,null,null,"Domestic Aggregated (Related MPAN)","£","All the way",null,34.888232738206554,null,34.888232738206554,36.813091807047719,40.155430479859149,40.590990200435812,40.750577129292253]
[null,null,null,null,null,"Non-Domestic Aggregated","£","All the way",null,465.43767957090228,null,465.43767957090228,485.05736815009965,511.7754967862121,520.20556482131292,526.45726428743865]
[null,null,null,null,null,"Non-Domestic Aggregated (Related MPAN)","£","All the way",null,221.96134368468037,null,221.96134368468037,232.57583316605931,247.99013315963663,251.76098088922544,254.25936624273115]
[null,null,null,null,null,"LV Site Specific","£","All the way",null,7168.5520506952917,null,7168.5520506952917,7486.2859480681354,7899.843529664633,8034.3455279646269,8137.3120182044977]
[null,null,null,null,null,"LV Sub Site Specific","£","All the way",null,24685.315070093893,null,24685.315070093893,25813.409630645925,27360.429349396487,27790.906393877962,28123.181590655669]
[null,null,null,null,null,"HV Site Specific","£","All the way",null,61802.352112175802,null,61802.352112175802,64680.792327115458,68737.20984487269,69767.110295426886,70537.628330417749]
[null,null,null,null,null,"Unmetered Supplies","£","All the way",null,1518.9926959471811,null,1518.9926959471811,1580.100947905866,1662.8445035784846,1685.6496319189671,1702.974023983825]
[null,null,null,null,null,"LV Generation Aggregated","£","All the way",null,-77.999909975132709,null,-77.999909975132709,-80.733155167085044,-83.024665948651176,-84.487112728782463,-86.31612176652979]
[null,null,null,null,null,"LV Sub Generation Aggregated","£","All the way",null,-57.73277344149318,null,-57.73277344149318,-59.71326115781099,-61.388122876694908,-62.459253146636357,-63.808644159535795]
[null,null,null,null,null,"LV Generation Site Specific","£","All the way",null,-1196.0325207902247,null,-1196.0325207902247,-1237.9563926086257,-1273.1827952816907,-1295.4977725187025,-1323.5187856155792]
[null,null,null,null,null,"LV Generation Site Specific no RP Charge","£","All the way",null,""]
[null,null,null,null,null,"LV Sub Generation Site Specific","£","All the way",null,-1358.8780393739776,null,-1358.8780393739776,-1405.6162854266536,-1445.6878323664853,-1470.07569750109,-1501.9654703076287]
[null,null,null,null,null,"LV Sub Generation Site Specific no RP Charge","£","All the way",null,""]
[null,null,null,null,null,"HV Generation Site Specific","£","All the way",null,-22197.491012965707,null,-22197.491012965707,-22961.753796920493,-23623.567212198188,-24007.057549955432,-24541.58444893828]
[null,null,null,null,null,"HV Generation Site Specific no RP Charge","£","All the way",null,""]
[]
[null,null,null,null,"Typical bills for LDNO LV customers",null,null,null,">",null,null,null,null,null,null,null,null,"Schedule 20, Paragraph 2.1 (b)"]
[null,null,null,null,null,"Domestic Aggregated","£","LDNO LV",null,{"$f":"TRANSPOSE('Net revenue summary'!J129:Y129)","v":53.929466829318805},null,53.929466829318805,55.334636509584371,57.881010687010424,58.779653128102332,59.46575237892845]
[null,null,null,null,null,"Domestic Aggregated (Related MPAN)","£","LDNO LV",null,33.367349585947899,null,33.367349585947899,35.214175321975638,38.420968340803014,38.840991463973374,38.959683696347689]
[null,null,null,null,null,"Non-Domestic Aggregated","£","LDNO LV",null,117.90624020878636,null,117.90624020878636,122.10176154898083,128.46922256241726,130.50838522091652,132.06180240208158]
[null,null,null,null,null,"Non-Domestic Aggregated (Related MPAN)","£","LDNO LV",null,""]
[null,null,null,null,null,"LV Site Specific","£","LDNO LV",null,3531.9987538157898,null,3531.9987538157898,3688.1391293947372,3882.7494915736843,3954.2468287105262,4002.6472314736839]
[null,null,null,null,null,"LV Sub Site Specific","£","LDNO LV",null,""]
[null,null,null,null,null,"HV Site Specific","£","LDNO LV",null,""]
[null,null,null,null,null,"Unmetered Supplies","£","LDNO LV",null,284.9834789337587,null,284.9834789337587,296.54114081729227,313.15930315389693,316.78061575785085,319.5555446630708]
[null,null,null,null,null,"LV Generation Aggregated","£","LDNO LV",null,-16.728462906100102,null,-16.728462906100102,-17.313494517619855,-17.807241946546586,-18.116887040944945,-18.509968314448717]
[null,null,null,null,null,"LV Sub Generation Aggregated","£","LDNO LV",null,""]
[null,null,null,null,null,"LV Generation Site Specific","£","LDNO LV",null,""]
[null,null,null,null,null,"LV Generation Site Specific no RP Charge","£","LDNO LV",null,""]
[null,null,null,null,null,"LV Sub Generation Site Specific","£","LDNO LV",null,""]
[null,null,null,null,null,"LV Sub Generation Site Specific no RP Charge","£","LDNO LV",null,""]
[null,null,null,null,null,"HV Generation Site Specific","£","LDNO LV",null,""]
[null,null,null,null,null,"HV Generation Site Specific no RP Charge","£","LDNO LV",null,""]
[]
[null,null,null,null,"Typical bills for LDNO HV customers",null,null,null,">",null,null,null,null,null,null,null,null,"Schedule 20, Paragraph 2.1 (b)"]
[null,null,null,null,null,"Domestic Aggregated","£","LDNO HV",null,{"$f":"TRANSPOSE('Net revenue summary'!J130:Y130)","v":36.096692410316081},null,36.096692410316081,36.85413690037548,38.49375904363631,39.113318340937937,39.598153260086562]
[null,null,null,null,null,"Domestic Aggregated (Related MPAN)","£","LDNO HV",null,27.245250581614364,null,27.245250581614364,28.718442484383907,31.328106826282003,31.712650792523057,31.825803279688447]
[null,null,null,null,null,"Non-Domestic Aggregated","£","LDNO HV",null,170.34191248658666,null,170.34191248658666,177.14388628161566,186.8644169445171,189.92959642055825,192.17213391473445]
[null,null,null,null,null,"Non-Domestic Aggregated (Related MPAN)","£","LDNO HV",null,""]
[null,null,null,null,null,"LV Site Specific","£","LDNO HV",null,3754.5353832598425,null,3754.5353832598425,3921.6844634435702,4127.4674962834652,4201.3336578950129,4254.1127602729657]
[null,null,null,null,null,"LV Sub Site Specific","£","LDNO HV",null,14833.339485384611,null,14833.339485384611,15480.074400000001,16314.965231538461,16595.061486923074,16821.461230769226]
[null,null,null,null,null,"HV Site Specific","£","LDNO HV",null,34143.030364433333,null,34143.030364433333,35708.412344299999,37810.075772633332,38381.452144149996,38855.088206266657]
[null,null,null,null,null,"Unmetered Supplies","£","LDNO HV",null,211.06564364582482,null,211.06564364582482,219.69208518656274,231.99142236234752,234.76158086964321,236.68237585439584]
[null,null,null,null,null,"LV Generation Aggregated","£","LDNO HV",null,-4.5148945586532516,null,-4.5148945586532516,-4.6727840545701156,-4.8060392972184882,-4.8896218081045344,-4.995718920367235]
[null,null,null,null,null,"LV Sub Generation Aggregated","£","LDNO HV",null,""]
[null,null,null,null,null,"LV Generation Site Specific","£","LDNO HV",null,""]
[null,null,null,null,null,"LV Generation Site Specific no RP Charge","£","LDNO HV",null,""]
[null,null,null,null,null,"LV Sub Generation Site Specific","£","LDNO HV",null,""]
[null,null,null,null,null,"LV Sub Generation Site Specific no RP Charge","£","LDNO HV",null,""]
[null,null,null,null,null,"HV Generation Site Specific","£","LDNO HV",null,""]
[null,null,null,null,null,"HV Generation Site Specific no RP Charge","£","LDNO HV",null,""]
[]
[null,"Checks"]
[]
[null,null,null,null,"Check for error values",null,"number of issues",{"$f":"SUM(IF(ISERROR($I$17:$Q$70), 1))","v":0}]
[]
[null,"End of sheet"]