Workbook
Name OLE_LINK1: 'Annex 3 Preserved charges'!#REF!

Sheet Overview
A2: Company and Licence name, charging year, effective from, status
B3: Company and Licence name | C3: Year | D3: Effective From | E3: Status
A4: Company and Licence name, charging year, effective from, status | B4: SP Manweb | C4: 2027/28 | D4: 1 April 2027 | E4: Final
A6: List of data tables in this workbook
A7: Worksheet | B7: Information
A8: Annex 1 LV, HV and Unmetered Supplies charges | B8: Annex 1 contains the charges to LV and HV Designated Properties and Unmetered Supplies.
A9: Annex 2 Designated EHV charges | B9: ="Annex 2 contains the charges to Designated EHV Properties and charges applied to LDNOs with Designated EHV Properties/end-users embedded in networks within the " &B4 &" Licence area." -> Annex 2 contains the charges to Designated EHV Properties and charges applied to LDNOs with Designated EHV Properties/end-users embedded in networks within the SP Manweb Licence area.
A10: Annex 3 Preserved charges | B10: Annex 3 contains details of any preserved and additional charges that are valid at this time.
A11: Annex 4 LDNO charges | B11: ="Annex 4 contains charges that are levied on the owner of an embedded network within the "&B4&" Licence area. "&"Electricity suppliers and consumers who have properties connected to an embedded network should contact the embedded network owner to determine their distribution charges."&" The charges listed in this table are not payable by domestic consumers, business consumers or electricity suppliers." -> Annex 4 contains charges that are levied on the owner of an embedded network within the SP Manweb Licence area. Electricity suppliers and consumers who have properties connected to an embedded network should contact the embedded network owner to determine their distribution charges. The charges listed in this table are not payable by domestic consumers, business consumers or electricity suppliers.
A12: Annex 5 LLFs | B12: Annex 5 has been intentionally left blank as this charging statement is published a complete year before the LLFs have been audited. The line loss factors that are approved by the BSC Panel for the applicable year and consequently published on the Elexon website will take precedence and be used in Settlement. This annex will be re-published with these values once they are available.
A13: Annex 6 Charges for New or Amended Designated EHV Properties | B13: ="Annex 6 contains the charges for new or amended Designated EHV Properties and charges applied to LDNOs with new or amended Designated EHV Properties/end-users embedded in networks within the " &B4 &" Licence area." -> Annex 6 contains the charges for new or amended Designated EHV Properties and charges applied to LDNOs with new or amended Designated EHV Properties/end-users embedded in networks within the SP Manweb Licence area.
A14: Annex 7 Fixed adders for Supplier of Last Resort and Eligible Bad Debt pass-through costs | B14: Annex 7 contains the fixed adders to recover Supplier of Last Resort and Eligible Bad Debt pass-through costs. The Excess Supplier of Last Resort fixed adder relates to an increase to previously published charges only.
A15: Nodal prices | B15: Contains the underlying [nodal/network group] costs used to calculate the current EDCM charges.
A16: SSC unit rate lookup | B16: Contains a mapping of Standard Settlement Configurations to common decodings
A17: Residual Charging Bandings | B17: Contains the four Residual charging band allocation for Customers
A18: TNUoS Mapping | B18: Contains a mapping of DUoS Tariffs to TNUoS Site Charging Bands
A19: Charge calculator | B19: Charge calculator is a tool to help you estimate your distribution charges using current consumption data and forecast consumption data.
A21: Notes to users of this spreadsheet
A23: Please use this spreadsheet with reference to the LC14 use of system charging statement.
A25: Notes to DNOs populating this spreadsheet
A27: DNOs must endeavour to maintain consistency in the structure of this spreadsheet. Any changes to the structure must be noted in the 'Notes to users of this spreadsheet'
A28: The drop down list on the charge calculator can be expanded by unprotecting the charge calculator sheet and selecting 'data', 'data validation...' and then expanding the 'source' data range. The sheet can then be protected.

Sheet Annex 1 LV, HV and UMS charges
A1: Back to Overview
A2: =Overview!B4& " - Effective from "&Overview!D4&" - "&Overview!E4&" LV and HV charges" -> SP Manweb - Effective from 1 April 2027 - Final LV and HV charges
A4: Time Bands for LV and HV Designated Properties | G4: Time Bands for Unmetered Properties
A5: Time periods | B5: Red Time Band | C5: Amber Time Band | E5: Green Time Band | I5: Black Time Band | J5: Yellow Time Band | K5: Green Time Band
A6: Monday to Friday (Including Bank Holidays) All Year | B6: 16.30 - 19.30 | C6: 08.00 - 16.30 19.30 - 22.30 | E6: 00.00 - 08.00 22.30 - 00.00 | G6: Monday to Friday (Including Bank Holidays) June to August Inclusive | J6: 08.00 - 22.30 | K6: 00.00 - 08.00 22.30 - 00.00
A7: Saturday and Sunday All Year | C7: 16.00 - 20.00 | E7: 00.00 - 16.00 20.00 - 00.00 | G7: Monday to Friday (Including Bank Holidays) November to February Inclusive | I7: 16.30 - 19.30 | J7: 08.00 - 16.30 19.30 - 22.30 | K7: 00.00 - 08.00 22.30 - 00.00
A8: Notes | B8: All the above times are in UK Clock time | G8: Monday to Friday (Including Bank Holidays) March, April, May and September, October | I8: ` | J8: 08.00 - 22.30 | K8: 00.00 - 08.00 22.30 - 00.00
G9: Saturday and Sunday All year | J9: 16.00 - 20.00 | K9: 00:00-16:00 20:00-00:00
G10: Notes | I10: All the above times are in UK Clock time
A12: Tariff name | B12: Open LLFC / DUoS Tariff Id | C12: PCs | D12: Red/black unit charge p/kWh | E12: Amber/yellow unit charge p/kWh | F12: Green unit charge p/kWh | G12: Fixed charge p/MPAN/day | H12: Capacity charge p/kVA/day | I12: Exceeded capacity charge p/kVA/day | J12: Reactive power charge p/kVArh | K12: Closed LLFC / DUoS Tariff Id
A13: Domestic Aggregated or CT with Residual | B13: 101, 102, 103, 105, 111, 112, 113, 114, 115, 116, 117, 118, 119, 120, 131, 132, 133, 134, 147, 148, 149, 150, 180, T01 | C13: 0, 1, 2 | D13: 15.969 | E13: 3.454 | F13: 0.464 | G13: 25.01 | K13: 145, 146
A14: Domestic Aggregated (Related MPAN) | B14: 104, 106, 130, 153, 155 | C14: 2 | D14: 15.969 | E14: 3.454 | F14: 0.464 | K14: 135, 136, 137, 138, 140, 141, 142, 143
A15: Non-Domestic Aggregated or CT No Residual | B15: D00, E00, U00, V00 | C15: 0, 3, 4, 5-8 | D15: 16.63 | E15: 3.597 | F15: 0.483 | G15: 7.08
A16: Non-Domestic Aggregated or CT Band 1 | B16: D01, E01, U01, V01 | C16: 0, 3, 4, 5-8 | D16: 16.63 | E16: 3.597 | F16: 0.483 | G16: 31.1
A17: Non-Domestic Aggregated or CT Band 2 | B17: D02, E02, U02, V02 | C17: 0, 3, 4, 5-8 | D17: 16.63 | E17: 3.597 | F17: 0.483 | G17: 54.62
A18: Non-Domestic Aggregated or CT Band 3 | B18: D03, E03, U03, V03 | C18: 0, 3, 4, 5-8 | D18: 16.63 | E18: 3.597 | F18: 0.483 | G18: 107.32
A19: Non-Domestic Aggregated or CT Band 4 | B19: D04, E04, U04, V04 | C19: 0, 3, 4, 5-8 | D19: 16.63 | E19: 3.597 | F19: 0.483 | G19: 297.35
A20: Non-Domestic Aggregated (related MPAN) | B20: 212 | C20: 4 | D20: 16.63 | E20: 3.597 | F20: 0.483 | K20: 233, 234, 235, 236, 237
A21: LV Site Specific No Residual | B21: G00, H00 | C21: 0 | D21: 12.053 | E21: 2.374 | F21: 0.307 | G21: 23.02 | H21: 6.92 | I21: 6.92 | J21: 0.647
A22: LV Site Specific Band 1 | B22: G01, H01 | C22: 0 | D22: 12.053 | E22: 2.374 | F22: 0.307 | G22: 583.6 | H22: 6.92 | I22: 6.92 | J22: 0.647
A23: LV Site Specific Band 2 | B23: G02, H02 | C23: 0 | D23: 12.053 | E23: 2.374 | F23: 0.307 | G23: 1081.44 | H23: 6.92 | I23: 6.92 | J23: 0.647
A24: LV Site Specific Band 3 | B24: G03, H03 | C24: 0 | D24: 12.053 | E24: 2.374 | F24: 0.307 | G24: 1700.7 | H24: 6.92 | I24: 6.92 | J24: 0.647
A25: LV Site Specific Band 4 | B25: G04, H04 | C25: 0 | D25: 12.053 | E25: 2.374 | F25: 0.307 | G25: 3884.98 | H25: 6.92 | I25: 6.92 | J25: 0.647
A26: LV Sub Site Specific No Residual | B26: K00, L00 | C26: 0 | D26: 8.738 | E26: 1.391 | F26: 0.161 | G26: 8.12 | H26: 10.74 | I26: 10.74 | J26: 0.364
A27: LV Sub Site Specific Band 1 | B27: K01, L01 | C27: 0 | D27: 8.738 | E27: 1.391 | F27: 0.161 | G27: 568.71 | H27: 10.74 | I27: 10.74 | J27: 0.364
A28: LV Sub Site Specific Band 2 | B28: K02, L02 | C28: 0 | D28: 8.738 | E28: 1.391 | F28: 0.161 | G28: 1066.55 | H28: 10.74 | I28: 10.74 | J28: 0.364
A29: LV Sub Site Specific Band 3 | B29: K03, L03 | C29: 0 | D29: 8.738 | E29: 1.391 | F29: 0.161 | G29: 1685.81 | H29: 10.74 | I29: 10.74 | J29: 0.364
A30: LV Sub Site Specific Band 4 | B30: K04, L04 | C30: 0 | D30: 8.738 | E30: 1.391 | F30: 0.161 | G30: 3870.09 | H30: 10.74 | I30: 10.74 | J30: 0.364
A31: HV Site Specific No Residual | B31: M00, N00 | C31: 0 | D31: 6.875 | E31: 1.004 | F31: 0.104 | G31: 122.99 | H31: 9.98 | I31: 9.98 | J31: 0.261
A32: HV Site Specific Band 1 | B32: M01, N01 | C32: 0 | D32: 6.875 | E32: 1.004 | F32: 0.104 | G32: 3164.03 | H32: 9.98 | I32: 9.98 | J32: 0.261
... A35: HV Site Specific Band 4 | B35: M04, N04 | C35: 0 | D35: 6.875 | E35: 1.004 | F35: 0.104 | G35: 39330.22 | H35: 9.98 | I35: 9.98 | J35: 0.261
A36: Unmetered Supplies | B36: 900, 901, 902, 903, 910 | C36: 0, 1 or 8 | D36: 35.737 | E36: 5.57 | F36: 3.017 | K36: 904, 905, 906, 907, 912
A37: LV Generation Aggregated | B37: 781, 782, 783, 784, 785 | C37: 0 | D37: -11.134 | E37: -2.408 | F37: -0.324 | G37: 0
A38: LV Sub Generation Aggregated | B38: 780 | C38: 0 | D38: -9.503 | E38: -1.939 | F38: -0.255 | G38: 0
A39: LV Generation Site Specific | B39: 786, 787, 791, 795 | C39: 0 | D39: -11.134 | E39: -2.408 | F39: -0.324 | G39: 0 | J39: 0.61
A40: LV Generation Site Specific no RP charge | B40: 764, 765 | C40: 0 | D40: -11.134 | E40: -2.408 | F40: -0.324 | G40: 0
A41: LV Sub Generation Site Specific | B41: 788, 789, 792, 796 | C41: 0 | D41: -9.503 | E41: -1.939 | F41: -0.255 | G41: 0 | J41: 0.526
A42: LV Sub Generation Site Specific no RP charge | B42: 766, 767 | C42: 0 | D42: -9.503 | E42: -1.939 | F42: -0.255 | G42: 0
A43: HV Generation Site Specific | B43: 770, 771, 793, 797 | C43: 0 | D43: -7.057 | E43: -1.123 | F43: -0.13 | G43: 89.81 | J43: 0.446
A44: HV Generation Site Specific no RP charge | B44: 768, 769 | C44: 0 | D44: -7.057 | E44: -1.123 | F44: -0.13 | G44: 89.81

Sheet Annex 2 Designated EHV charges
A1: Back to Overview | F1: Note: The list of MPANs / MSIDs provided may be incomplete; the DNO reserves the right to apply the listed charges to any other MPANs / MSIDs associated with the site.
A2: =Overview!B4& " - Effective from "&Overview!D4&" - "&Overview!E4&" Designated EHV charges" -> SP Manweb - Effective from 1 April 2027 - Final Designated EHV charges
A4: Time Periods for Designated EHV Properties
A5: Time periods | D5: Super Red Time Band
A6: Monday to Friday (Including Bank Holidays) June to August Inclusive
A7: Monday to Friday (Including Bank Holidays) November to February Inclusive | D7: 16:30 - 19:30
A8: Notes | D8: All the above times are in UK Clock time
A10: Import Unique Identifier | B10: LLFC / DUoS Tariff ID | C10: Import MPANs/MSIDs | D10: Export Unique Identifier | E10: LLFC / DUoS Tariff ID | F10: Export MPANs/MSIDs | G10: Name | H10: Residual Charging Band | I10: Import Super Red unit charge (p/kWh) | J10: Import fixed charge (p/day) | K10: Import capacity charge (p/kVA/day) | L10: Import exceeded capacity charge (p/kVA/day) | M10: Export Super Red unit charge (p/kWh) | N10: Export fixed charge (p/day) | O10: Export capacity charge (p/kVA/day) | P10: Export exceeded capacity charge (p/kVA/day)
A11: 800 | B11: 800 | C11: 1300060790694 | D11: 622 | E11: 622 | F11: 1300060790700 | G11: Cefyn Mawr | H11: 0 | I11: - | J11: 35.07 | K11: 3.5 | L11: 3.5 | M11: -0.3 | N11: 3507.01 | O11: 0.05 | P11: 0.05 | Q11: 1 | R11: 1
A12: 802 | B12: 802 | C12: 1300060773787 | D12: 601 | E12: 601 | F12: 1300060818667 | G12: Shotton Paper | H12: 4 | I12: - | J12: 240016.72 | K12: 1.08 | L12: 1.08 | M12: - | N12: 77029.47 | O12: 0.05 | P12: 0.05 | Q12: 1 | R12: 1
A13: 803 | B13: 803 | C13: 1300035361194 | D13: 603 | E13: 603 | F13: 1300050649372 | G13: Shell Stanlow | H13: 4 | I13: - | J13: 233567.46 | K13: 3.21 | L13: 3.21 | M13: - | N13: 3643.96 | O13: 0.05 | P13: 0.05 | Q13: 1 | R13: 1
A14: 804 | B14: 804 | C14: 1300035352942 | G14: Jaguar & Land Rover | H14: 4 | I14: - | J14: 242337.79 | K14: 3.26 | L14: 3.26 | M14: - | N14: - | O14: - | P14: - | Q14: 1 | R14: 1
A15: 805 | B15: 805 | C15: 1300035359423 | G15: Innospec | H15: 2 | I15: - | J15: 43609.23 | K15: 2.1 | L15: 2.1 | M15: - | N15: - | O15: - | P15: - | Q15: 1 | R15: 1
A16: 807 | B16: 807 | C16: 1300035359752 | G16: General Motors | H16: 3 | I16: - | J16: 129012 | K16: 3.26 | L16: 3.26 | M16: - | N16: - | O16: - | P16: - | Q16: 1 | R16: 1
A17: 808 | B17: 808 | C17: 1300035360066 | G17: TATA Steel | H17: 4 | I17: - | J17: 287863.86 | K17: 2.73 | L17: 2.73 | M17: - | N17: - | O17: - | P17: - | Q17: 1 | R17: 1
A18: 809 | B18: 809 | C18: 1300035362480 | G18: Urenco | H18: 4 | I18: - | J18: 229012.51 | K18: 3.76 | L18: 3.76 | M18: - | N18: - | O18: - | P18: - | Q18: 1 | R18: 1
A19: 810 | B19: 810 | C19: 1300051694818 | D19: 618 | E19: 618 | F19: 1300060704603 | G19: Ineos Chlor Ltd (Lostock) | H19: 4 | I19: - | J19: 229012.51 | K19: 1.72 | L19: 1.72 | M19: - | N19: - | O19: 0.05 | P19: 0.05 | Q19: 1 | R19: 1
A20: 811 | B20: 811 | C20: 1300060704073 | D20: 655 | E20: 655 | F20: 1300060704082 | G20: SafeGuard Bradwell | H20: 0 | I20: - | J20: 69.19 | K20: 2.33 | L20: 2.33 | M20: - | N20: 5396.86 | O20: 0.05 | P20: 0.05 | Q20: 1 | R20: 1
A21: 812 | B21: 812 | C21: 1300035356130 | G21: Knauf Insulation | H21: 3 | I21: - | J21: 109353.55 | K21: 5.18 | L21: 5.18 | M21: - | N21: - | O21: - | P21: - | Q21: 1 | R21: 1
A22: 813 | B22: 813 | C22: 1300035359585 | G22: Air Products | H22: 1 | I22: - | J22: 15938.01 | K22: 2.74 | L22: 2.74 | M22: - | N22: - | O22: - | P22: - | Q22: 1 | R22: 1
A23: 814 | B23: 814 | C23: 1300035359619 | G23: Shell Chemicals | H23: 1 | I23: - | J23: 17947.46 | K23: 2.46 | L23: 2.46 | M23: - | N23: - | O23: - | P23: - | Q23: 1 | R23: 1
A24: 816 | B24: 816 | C24: 1300053536398 | G24: Castle Cement | H24: 4 | I24: - | J24: 230472.2 | K24: 3.37 | L24: 3.37 | M24: - | N24: - | O24: - | P24: - | Q24: 1 | R24: 1
A25: 817 | B25: 817 | C25: 1300035361992 | D25: 648 | E25: 648 | F25: 1300060640474 | G25: Kronospan | H25: 4 | I25: - | J25: 232355.9 | K25: 2.93 | L25: 2.97 | M25: - | N25: 594.96 | O25: 0.05 | P25: 0.05 | Q25: 1 | R25: 1
A26: 818 | B26: 818 | C26: 1300060748460 | D26: 680 | E26: 680 | F26: 1300060748470 | G26: Pilkington's STOR | H26: 0 | I26: - | J26: 148.8 | K26: 2.32 | L26: 2.32 | M26: -0.715 | N26: 10581.32 | O26: 0.05 | P26: 0.05 | Q26: 1 | R26: 1
A27: 820 | B27: 820 | C27: 1300060563740 | D27: 658 | E27: 658 | F27: 1300060563759 | G27: Tyn dryfol PV | H27: 0 | I27: - | J27: 12.31 | K27: 1.4 | L27: 1.4 | M27: - | N27: 3692.65 | O27: 0.05 | P27: 0.05 | Q27: 1 | R27: 1
A28: 821 | B28: 821 | C28: 1300035367967 | G28: BHP | H28: 2 | I28: - | J28: 56506.827 | K28: 1.87 | L28: 1.87 | M28: - | N28: - | O28: - | P28: - | Q28: 1 | R28: 1
A29: 822 | B29: 822 | C29: 1300060251601 | G29: Hole House Farm | H29: 3 | I29: - | J29: 121342.64 | K29: 4.05 | L29: 4.05 | M29: - | N29: - | O29: - | P29: - | Q29: 1 | R29: 1
A30: 823 | B30: 823 | C30: 1300060652610 | D30: 659 | E30: 659 | F30: 1300060652629 | G30: Williams Farm Solar Park | H30: 0 | I30: - | J30: 10.34 | K30: 1.93 | L30: 1.93 | M30: - | N30: 1137.12 | O30: 0.05 | P30: 0.05 | Q30: 1 | R30: 1
A31: 824 | B31: 824 | C31: 1300054940674 | D31: 604 | E31: 604 | F31: 1300054940683 | G31: Port of Liverpool | H31: 0 | I31: - | J31: 42.31 | K31: 1.49 | L31: 1.49 | M31: - | N31: 2538.5 | O31: 0.05 | P31: 0.05 | Q31: 1 | R31: 1
A32: 825 | B32: 825 | C32: 1300060784130 | D32: 660 | E32: 660 | F32: 1300060784158 | G32: Booston Wood | H32: 0 | I32: - | J32: 1963.01 | K32: 1.73 | L32: 1.73 | M32: -0.292 | N32: 1963.01 | O32: 0.05 | P32: 0.05 | Q32: 1 | R32: 1
A33: 826 | B33: 826 | C33: 1300060579173 | D33: 661 | E33: 661 | F33: 1300060579182 | G33: Combermere Abbey PV | H33: 0 | I33: - | J33: 21.87 | K33: 2.38 | L33: 2.38 | M33: - | N33: 3818.12 | O33: 0.05 | P33: 0.05 | Q33: 1 | R33: 1
A34: 827 | B34: 827 | C34: 1300052785147 | G34: Kimberley Clark | H34: 2 | I34: - | J34: 44265.39 | K34: 4.5 | L34: 4.5 | M34: - | N34: - | O34: - | P34: - | Q34: 1 | R34: 1
A35: 828 | B35: 828 | C35: 1300060075390 | D35: 628 | E35: 628 | F35: 1300060075405 | G35: Amegni | H35: 0 | I35: - | J35: 12.17 | K35: 1.6 | L35: 1.6 | M35: - | N35: 949.41 | O35: 0.05 | P35: 0.05 | Q35: 1 | R35: 1
A36: 829 | B36: 829 | C36: 1300035400611 | D36: 629 | E36: 629 | F36: 1300038004507 | G36: Salt Union | H36: 2 | I36: - | J36: 43319.58 | K36: 1.76 | L36: 1.76 | M36: - | N36: 12023.36 | O36: 0.05 | P36: 0.05 | Q36: 1 | R36: 1
A37: 830 | B37: 830 | C37: 1300060584270 | D37: 681 | E37: 681 | F37: 1300060584280 | G37: Parciau Solar Park | H37: 0 | I37: - | J37: 9.72 | K37: 1.4 | L37: 1.4 | M37: - | N37: 1157.08 | O37: 0.05 | P37: 0.05 | Q37: 1 | R37: 1
A38: 831 | B38: 831 | C38: 1300035437700 | G38: Ineos Chlor Ltd (Percival Lane) | H38: 1 | I38: - | J38: 15987.05 | K38: 3.32 | L38: 3.32 | M38: - | N38: - | O38: - | P38: - | Q38: 1 | R38: 1
A39: 833 | B39: 833 | C39: 1300035361803 | D39: 663 | E39: 663 | F39: 1300060327224 | G39: Toyota | H39: 2 | I39: - | J39: 44905.13 | K39: 4.02 | L39: 4.02 | M39: - | N39: 1742.25 | O39: 0.05 | P39: 0.05 | Q39: 1 | R39: 1
A40: 834 | B40: 834 | C40: 1300051028551 | G40: Warmingham Gas Storage | H40: 2 | I40: - | J40: 46612.824 | K40: 3.07 | L40: 3.07 | M40: - | N40: - | O40: - | P40: - | Q40: 1 | R40: 2
A41: 835 | B41: 835 | C41: 1300050648875 | D41: 635 | E41: 635 | F41: 1300050931602 | G41: Arpley Landfill | H41: 1 | I41: - | J41: 15383.72 | K41: 1.39 | L41: 1.39 | M41: - | N41: 2013.98 | O41: 0.05 | P41: 0.05 | Q41: 1 | R41: 2
A42: 836 | B42: 836 | C42: 1300035360800 | G42: Amcor | H42: 3 | I42: - | J42: 109832.22 | K42: 4.89 | L42: 4.89 | M42: - | N42: - | O42: - | P42: - | Q42: 1 | R42: 2
...

Sheet Annex 2a Import
A1: Note: The list of MPANs / MSIDs provided may be incomplete; the DNO reserves the right to apply the listed charges to any other MPANs / MSIDs associated with the site. Note: This table is automatically populated based on the content of the tab entitled 'Annex 2 EHV Charges'. The timebands are as shown in Annex 2.
A2: =Overview!B4& " - Effective from "&Overview!D4&" - "&Overview!E4&" Designated EHV import charges" -> SP Manweb - Effective from 1 April 2027 - Final Designated EHV import charges
A4: Import Unique Identifier | B4: LLFC / DUoS Tariff ID | C4: Import MPANs/MSIDs | D4: Name | E4: ='Annex 2 Designated EHV charges'!I10 -> Import Super Red unit charge (p/kWh) | F4: ='Annex 2 Designated EHV charges'!J10 -> Import fixed charge (p/day) | G4: ='Annex 2 Designated EHV charges'!K10 -> Import capacity charge (p/kVA/day) | H4: ='Annex 2 Designated EHV charges'!L10 -> Import exceeded capacity charge (p/kVA/day)
A5: {=IFERROR(INDEX('Annex 2 Designated EHV charges'!$A$11:$A$257, MATCH(0, IF(ISBLANK('Annex 2 Designated EHV charges'!$A$11:$A$257),1, COUNTIF(A$4:$A4, 'Annex 2 Designated EHV charges'!$A$11:$A$257)), 0)),"")} -> 800 | B5: =IF($A5="","",VLOOKUP($A5,'Annex 2 Designated EHV charges'!$A:$O,2,0)) -> 800 | C5: =IF($A5="","",VLOOKUP($A5,'Annex 2 Designated EHV charges'!$A:$O,3,0)) -> 1300060790694 | D5: =IF($A5="","",VLOOKUP($A5,'Annex 2 Designated EHV charges'!$A:$O,7,0)) -> Cefyn Mawr | E5: =IFERROR(IF(VLOOKUP($A5,'Annex 2 Designated EHV charges'!$A:$O,9,FALSE)=0,"",VLOOKUP($A5,'Annex 2 Designated EHV charges'!$A:$O,9,FALSE)),"") -> - | F5: =IFERROR(IF(VLOOKUP($A5,'Annex 2 Designated EHV charges'!$A:$O,10,FALSE)=0,"",VLOOKUP($A5,'Annex 2 Designated EHV charges'!$A:$O,10,FALSE)),"") -> 35.07 | G5: =IFERROR(IF(VLOOKUP($A5,'Annex 2 Designated EHV charges'!$A:$O,11,FALSE)=0,"",VLOOKUP($A5,'Annex 2 Designated EHV charges'!$A:$O,11,FALSE)),"") -> 3.5 | H5: =IFERROR(IF(VLOOKUP($A5,'Annex 2 Designated EHV charges'!$A:$O,12,FALSE)=0,"",VLOOKUP($A5,'Annex 2 Designated EHV charges'!$A:$O,12,FALSE)),"") -> 3.5
A6: {=IFERROR(INDEX('Annex 2 Designated EHV charges'!$A$11:$A$257, MATCH(0, IF(ISBLANK('Annex 2 Designated EHV charges'!$A$11:$A$257),1, COUNTIF(A$4:$A5, 'Annex 2 Designated EHV charges'!$A$11:$A$257)), 0)),"")} -> 802 | B6: =IF($A6="","",VLOOKUP($A6,'Annex 2 Designated EHV charges'!$A:$O,2,0)) -> 802 | C6: =IF($A6="","",VLOOKUP($A6,'Annex 2 Designated EHV charges'!$A:$O,3,0)) -> 1300060773787 | D6: =IF($A6="","",VLOOKUP($A6,'Annex 2 Designated EHV charges'!$A:$O,7,0)) -> Shotton Paper | E6: =IFERROR(IF(VLOOKUP($A6,'Annex 2 Designated EHV charges'!$A:$O,9,FALSE)=0,"",VLOOKUP($A6,'Annex 2 Designated EHV charges'!$A:$O,9,FALSE)),"") -> - | F6: =IFERROR(IF(VLOOKUP($A6,'Annex 2 Designated EHV charges'!$A:$O,10,FALSE)=0,"",VLOOKUP($A6,'Annex 2 Designated EHV charges'!$A:$O,10,FALSE)),"") -> 240016.72 | G6: =IFERROR(IF(VLOOKUP($A6,'Annex 2 Designated EHV charges'!$A:$O,11,FALSE)=0,"",VLOOKUP($A6,'Annex 2 Designated EHV charges'!$A:$O,11,FALSE)),"") -> 1.08 | H6: =IFERROR(IF(VLOOKUP($A6,'Annex 2 Designated EHV charges'!$A:$O,12,FALSE)=0,"",VLOOKUP($A6,'Annex 2 Designated EHV charges'!$A:$O,12,FALSE)),"") -> 1.08
A7: {=IFERROR(INDEX('Annex 2 Designated EHV charges'!$A$11:$A$257, MATCH(0, IF(ISBLANK('Annex 2 Designated EHV charges'!$A$11:$A$257),1, COUNTIF(A$4:$A6, 'Annex 2 Designated EHV charges'!$A$11:$A$257)), 0)),"")} -> 803 | B7: =IF($A7="","",VLOOKUP($A7,'Annex 2 Designated EHV charges'!$A:$O,2,0)) -> 803 | C7: =IF($A7="","",VLOOKUP($A7,'Annex 2 Designated EHV charges'!$A:$O,3,0)) -> 1300035361194 | D7: =IF($A7="","",VLOOKUP($A7,'Annex 2 Designated EHV charges'!$A:$O,7,0)) -> Shell Stanlow | E7: =IFERROR(IF(VLOOKUP($A7,'Annex 2 Designated EHV charges'!$A:$O,9,FALSE)=0,"",VLOOKUP($A7,'Annex 2 Designated EHV charges'!$A:$O,9,FALSE)),"") -> - | F7: =IFERROR(IF(VLOOKUP($A7,'Annex 2 Designated EHV charges'!$A:$O,10,FALSE)=0,"",VLOOKUP($A7,'Annex 2 Designated EHV charges'!$A:$O,10,FALSE)),"") -> 233567.46 | G7: =IFERROR(IF(VLOOKUP($A7,'Annex 2 Designated EHV charges'!$A:$O,11,FALSE)=0,"",VLOOKUP($A7,'Annex 2 Designated EHV charges'!$A:$O,11,FALSE)),"") -> 3.21 | H7: =IFERROR(IF(VLOOKUP($A7,'Annex 2 Designated EHV charges'!$A:$O,12,FALSE)=0,"",VLOOKUP($A7,'Annex 2 Designated EHV charges'!$A:$O,12,FALSE)),"") -> 3.21
A8: {=IFERROR(INDEX('Annex 2 Designated EHV charges'!$A$11:$A$257, MATCH(0, IF(ISBLANK('Annex 2 Designated EHV charges'!$A$11:$A$257),1, COUNTIF(A$4:$A7, 'Annex 2 Designated EHV charges'!$A$11:$A$257)), 0)),"")} -> 804 | B8: =IF($A8="","",VLOOKUP($A8,'Annex 2 Designated EHV charges'!$A:$O,2,0)) -> 804 | C8: =IF($A8="","",VLOOKUP($A8,'Annex 2 Designated EHV charges'!$A:$O,3,0)) -> 1300035352942 | D8: =IF($A8="","",VLOOKUP($A8,'Annex 2 Designated EHV charges'!$A:$O,7,0)) -> Jaguar & Land Rover | E8: =IFERROR(IF(VLOOKUP($A8,'Annex 2 Designated EHV charges'!$A:$O,9,FALSE)=0,"",VLOOKUP($A8,'Annex 2 Designated EHV charges'!$A:$O,9,FALSE)),"") -> - | F8: =IFERROR(IF(VLOOKUP($A8,'Annex 2 Designated EHV charges'!$A:$O,10,FALSE)=0,"",VLOOKUP($A8,'Annex 2 Designated EHV charges'!$A:$O,10,FALSE)),"") -> 242337.79 | G8: =IFERROR(IF(VLOOKUP($A8,'Annex 2 Designated EHV charges'!$A:$O,11,FALSE)=0,"",VLOOKUP($A8,'Annex 2 Designated EHV charges'!$A:$O,11,FALSE)),"") -> 3.26 | H8: =IFERROR(IF(VLOOKUP($A8,'Annex 2 Designated EHV charges'!$A:$O,12,FALSE)=0,"",VLOOKUP($A8,'Annex 2 Designated EHV charges'!$A:$O,12,FALSE)),"") -> 3.26
A9: {=IFERROR(INDEX('Annex 2 Designated EHV charges'!$A$11:$A$257, MATCH(0, IF(ISBLANK('Annex 2 Designated EHV charges'!$A$11:$A$257),1, COUNTIF(A$4:$A8, 'Annex 2 Designated EHV charges'!$A$11:$A$257)), 0)),"")} -> 805 | B9: =IF($A9="","",VLOOKUP($A9,'Annex 2 Designated EHV charges'!$A:$O,2,0)) -> 805 | C9: =IF($A9="","",VLOOKUP($A9,'Annex 2 Designated EHV charges'!$A:$O,3,0)) -> 1300035359423 | D9: =IF($A9="","",VLOOKUP($A9,'Annex 2 Designated EHV charges'!$A:$O,7,0)) -> Innospec | E9: =IFERROR(IF(VLOOKUP($A9,'Annex 2 Designated EHV charges'!$A:$O,9,FALSE)=0,"",VLOOKUP($A9,'Annex 2 Designated EHV charges'!$A:$O,9,FALSE)),"") -> - | F9: =IFERROR(IF(VLOOKUP($A9,'Annex 2 Designated EHV charges'!$A:$O,10,FALSE)=0,"",VLOOKUP($A9,'Annex 2 Designated EHV charges'!$A:$O,10,FALSE)),"") -> 43609.23 | G9: =IFERROR(IF(VLOOKUP($A9,'Annex 2 Designated EHV charges'!$A:$O,11,FALSE)=0,"",VLOOKUP($A9,'Annex 2 Designated EHV charges'!$A:$O,11,FALSE)),"") -> 2.1 | H9: =IFERROR(IF(VLOOKUP($A9,'Annex 2 Designated EHV charges'!$A:$O,12,FALSE)=0,"",VLOOKUP($A9,'Annex 2 Designated EHV charges'!$A:$O,12,FALSE)),"") -> 2.1
A10: {=IFERROR(INDEX('Annex 2 Designated EHV charges'!$A$11:$A$257, MATCH(0, IF(ISBLANK('Annex 2 Designated EHV charges'!$A$11:$A$257),1, COUNTIF(A$4:$A9, 'Annex 2 Designated EHV charges'!$A$11:$A$257)), 0)),"")} -> 807 | B10: =IF($A10="","",VLOOKUP($A10,'Annex 2 Designated EHV charges'!$A:$O,2,0)) -> 807 | C10: =IF($A10="","",VLOOKUP($A10,'Annex 2 Designated EHV charges'!$A:$O,3,0)) -> 1300035359752 | D10: =IF($A10="","",VLOOKUP($A10,'Annex 2 Designated EHV charges'!$A:$O,7,0)) -> General Motors | E10: =IFERROR(IF(VLOOKUP($A10,'Annex 2 Designated EHV charges'!$A:$O,9,FALSE)=0,"",VLOOKUP($A10,'Annex 2 Designated EHV charges'!$A:$O,9,FALSE)),"") -> - | F10: =IFERROR(IF(VLOOKUP($A10,'Annex 2 Designated EHV charges'!$A:$O,10,FALSE)=0,"",VLOOKUP($A10,'Annex 2 Designated EHV charges'!$A:$O,10,FALSE)),"") -> 129012 | G10: =IFERROR(IF(VLOOKUP($A10,'Annex 2 Designated EHV charges'!$A:$O,11,FALSE)=0,"",VLOOKUP($A10,'Annex 2 Designated EHV charges'!$A:$O,11,FALSE)),"") -> 3.26 | H10: =IFERROR(IF(VLOOKUP($A10,'Annex 2 Designated EHV charges'!$A:$O,12,FALSE)=0,"",VLOOKUP($A10,'Annex 2 Designated EHV charges'!$A:$O,12,FALSE)),"") -> 3.26
A11: {=IFERROR(INDEX('Annex 2 Designated EHV charges'!$A$11:$A$257, MATCH(0, IF(ISBLANK('Annex 2 Designated EHV charges'!$A$11:$A$257),1, COUNTIF(A$4:$A10, 'Annex 2 Designated EHV charges'!$A$11:$A$257)), 0)),"")} -> 808 | B11: =IF($A11="","",VLOOKUP($A11,'Annex 2 Designated EHV charges'!$A:$O,2,0)) -> 808 | C11: =IF($A11="","",VLOOKUP($A11,'Annex 2 Designated EHV charges'!$A:$O,3,0)) -> 1300035360066 | D11: =IF($A11="","",VLOOKUP($A11,'Annex 2 Designated EHV charges'!$A:$O,7,0)) -> TATA Steel | E11: =IFERROR(IF(VLOOKUP($A11,'Annex 2 Designated EHV charges'!$A:$O,9,FALSE)=0,"",VLOOKUP($A11,'Annex 2 Designated EHV charges'!$A:$O,9,FALSE)),"") -> - | F11: =IFERROR(IF(VLOOKUP($A11,'Annex 2 Designated EHV charges'!$A:$O,10,FALSE)=0,"",VLOOKUP($A11,'Annex 2 Designated EHV charges'!$A:$O,10,FALSE)),"") -> 287863.86 | G11: =IFERROR(IF(VLOOKUP($A11,'Annex 2 Designated EHV charges'!$A:$O,11,FALSE)=0,"",VLOOKUP($A11,'Annex 2 Designated EHV charges'!$A:$O,11,FALSE)),"") -> 2.73 | H11: =IFERROR(IF(VLOOKUP($A11,'Annex 2 Designated EHV charges'!$A:$O,12,FALSE)=0,"",VLOOKUP($A11,'Annex 2 Designated EHV charges'!$A:$O,12,FALSE)),"") -> 2.73
A12: {=IFERROR(INDEX('Annex 2 Designated EHV charges'!$A$11:$A$257, MATCH(0, IF(ISBLANK('Annex 2 Designated EHV charges'!$A$11:$A$257),1, COUNTIF(A$4:$A11, 'Annex 2 Designated EHV charges'!$A$11:$A$257)), 0)),"")} -> 809 | B12: =IF($A12="","",VLOOKUP($A12,'Annex 2 Designated EHV charges'!$A:$O,2,0)) -> 809 | C12: =IF($A12="","",VLOOKUP($A12,'Annex 2 Designated EHV charges'!$A:$O,3,0)) -> 1300035362480 | D12: =IF($A12="","",VLOOKUP($A12,'Annex 2 Designated EHV charges'!$A:$O,7,0)) -> Urenco | E12: =IFERROR(IF(VLOOKUP($A12,'Annex 2 Designated EHV charges'!$A:$O,9,FALSE)=0,"",VLOOKUP($A12,'Annex 2 Designated EHV charges'!$A:$O,9,FALSE)),"") -> - | F12: =IFERROR(IF(VLOOKUP($A12,'Annex 2 Designated EHV charges'!$A:$O,10,FALSE)=0,"",VLOOKUP($A12,'Annex 2 Designated EHV charges'!$A:$O,10,FALSE)),"") -> 229012.51 | G12: =IFERROR(IF(VLOOKUP($A12,'Annex 2 Designated EHV charges'!$A:$O,11,FALSE)=0,"",VLOOKUP($A12,'Annex 2 Designated EHV charges'!$A:$O,11,FALSE)),"") -> 3.76 | H12: =IFERROR(IF(VLOOKUP($A12,'Annex 2 Designated EHV charges'!$A:$O,12,FALSE)=0,"",VLOOKUP($A12,'Annex 2 Designated EHV charges'!$A:$O,12,FALSE)),"") -> 3.76
A13: {=IFERROR(INDEX('Annex 2 Designated EHV charges'!$A$11:$A$257, MATCH(0, IF(ISBLANK('Annex 2 Designated EHV charges'!$A$11:$A$257),1, COUNTIF(A$4:$A12, 'Annex 2 Designated EHV charges'!$A$11:$A$257)), 0)),"")} -> 810 | B13: =IF($A13="","",VLOOKUP($A13,'Annex 2 Designated EHV charges'!$A:$O,2,0)) -> 810 | C13: =IF($A13="","",VLOOKUP($A13,'Annex 2 Designated EHV charges'!$A:$O,3,0)) -> 1300051694818 | D13: =IF($A13="","",VLOOKUP($A13,'Annex 2 Designated EHV charges'!$A:$O,7,0)) -> Ineos Chlor Ltd (Lostock) | E13: =IFERROR(IF(VLOOKUP($A13,'Annex 2 Designated EHV charges'!$A:$O,9,FALSE)=0,"",VLOOKUP($A13,'Annex 2 Designated EHV charges'!$A:$O,9,FALSE)),"") -> - | F13: =IFERROR(IF(VLOOKUP($A13,'Annex 2 Designated EHV charges'!$A:$O,10,FALSE)=0,"",VLOOKUP($A13,'Annex 2 Designated EHV charges'!$A:$O,10,FALSE)),"") -> 229012.51 | G13: =IFERROR(IF(VLOOKUP($A13,'Annex 2 Designated EHV charges'!$A:$O,11,FALSE)=0,"",VLOOKUP($A13,'Annex 2 Designated EHV charges'!$A:$O,11,FALSE)),"") -> 1.72 | H13: =IFERROR(IF(VLOOKUP($A13,'Annex 2 Designated EHV charges'!$A:$O,12,FALSE)=0,"",VLOOKUP($A13,'Annex 2 Designated EHV charges'!$A:$O,12,FALSE)),"") -> 1.72
A14: {=IFERROR(INDEX('Annex 2 Designated EHV charges'!$A$11:$A$257, MATCH(0, IF(ISBLANK('Annex 2 Designated EHV charges'!$A$11:$A$257),1, COUNTIF(A$4:$A13, 'Annex 2 Designated EHV charges'!$A$11:$A$257)), 0)),"")} -> 811 | B14: =IF($A14="","",VLOOKUP($A14,'Annex 2 Designated EHV charges'!$A:$O,2,0)) -> 811 | C14: =IF($A14="","",VLOOKUP($A14,'Annex 2 Designated EHV charges'!$A:$O,3,0)) -> 1300060704073 | D14: =IF($A14="","",VLOOKUP($A14,'Annex 2 Designated EHV charges'!$A:$O,7,0)) -> SafeGuard Bradwell | E14: =IFERROR(IF(VLOOKUP($A14,'Annex 2 Designated EHV charges'!$A:$O,9,FALSE)=0,"",VLOOKUP($A14,'Annex 2 Designated EHV charges'!$A:$O,9,FALSE)),"") -> - | F14: =IFERROR(IF(VLOOKUP($A14,'Annex 2 Designated EHV charges'!$A:$O,10,FALSE)=0,"",VLOOKUP($A14,'Annex 2 Designated EHV charges'!$A:$O,10,FALSE)),"") -> 69.19 | G14: =IFERROR(IF(VLOOKUP($A14,'Annex 2 Designated EHV charges'!$A:$O,11,FALSE)=0,"",VLOOKUP($A14,'Annex 2 Designated EHV charges'!$A:$O,11,FALSE)),"") -> 2.33 | H14: =IFERROR(IF(VLOOKUP($A14,'Annex 2 Designated EHV charges'!$A:$O,12,FALSE)=0,"",VLOOKUP($A14,'Annex 2 Designated EHV charges'!$A:$O,12,FALSE)),"") -> 2.33
A15: {=IFERROR(INDEX('Annex 2 Designated EHV charges'!$A$11:$A$257, MATCH(0, IF(ISBLANK('Annex 2 Designated EHV charges'!$A$11:$A$257),1, COUNTIF(A$4:$A14, 'Annex 2 Designated EHV charges'!$A$11:$A$257)), 0)),"")} -> 812 | B15: =IF($A15="","",VLOOKUP($A15,'Annex 2 Designated EHV charges'!$A:$O,2,0)) -> 812 | C15: =IF($A15="","",VLOOKUP($A15,'Annex 2 Designated EHV charges'!$A:$O,3,0)) -> 1300035356130 | D15: =IF($A15="","",VLOOKUP($A15,'Annex 2 Designated EHV charges'!$A:$O,7,0)) -> Knauf Insulation | E15: =IFERROR(IF(VLOOKUP($A15,'Annex 2 Designated EHV charges'!$A:$O,9,FALSE)=0,"",VLOOKUP($A15,'Annex 2 Designated EHV charges'!$A:$O,9,FALSE)),"") -> - | F15: =IFERROR(IF(VLOOKUP($A15,'Annex 2 Designated EHV charges'!$A:$O,10,FALSE)=0,"",VLOOKUP($A15,'Annex 2 Designated EHV charges'!$A:$O,10,FALSE)),"") -> 109353.55 | G15: =IFERROR(IF(VLOOKUP($A15,'Annex 2 Designated EHV charges'!$A:$O,11,FALSE)=0,"",VLOOKUP($A15,'Annex 2 Designated EHV charges'!$A:$O,11,FALSE)),"") -> 5.18 | H15: =IFERROR(IF(VLOOKUP($A15,'Annex 2 Designated EHV charges'!$A:$O,12,FALSE)=0,"",VLOOKUP($A15,'Annex 2 Designated EHV charges'!$A:$O,12,FALSE)),"") -> 5.18
A16: {=IFERROR(INDEX('Annex 2 Designated EHV charges'!$A$11:$A$257, MATCH(0, IF(ISBLANK('Annex 2 Designated EHV charges'!$A$11:$A$257),1, COUNTIF(A$4:$A15, 'Annex 2 Designated EHV charges'!$A$11:$A$257)), 0)),"")} -> 813 | B16: =IF($A16="","",VLOOKUP($A16,'Annex 2 Designated EHV charges'!$A:$O,2,0)) -> 813 | C16: =IF($A16="","",VLOOKUP($A16,'Annex 2 Designated EHV charges'!$A:$O,3,0)) -> 1300035359585 | D16: =IF($A16="","",VLOOKUP($A16,'Annex 2 Designated EHV charges'!$A:$O,7,0)) -> Air Products | E16: =IFERROR(IF(VLOOKUP($A16,'Annex 2 Designated EHV charges'!$A:$O,9,FALSE)=0,"",VLOOKUP($A16,'Annex 2 Designated EHV charges'!$A:$O,9,FALSE)),"") -> - | F16: =IFERROR(IF(VLOOKUP($A16,'Annex 2 Designated EHV charges'!$A:$O,10,FALSE)=0,"",VLOOKUP($A16,'Annex 2 Designated EHV charges'!$A:$O,10,FALSE)),"") -> 15938.01 | G16: =IFERROR(IF(VLOOKUP($A16,'Annex 2 Designated EHV charges'!$A:$O,11,FALSE)=0,"",VLOOKUP($A16,'Annex 2 Designated EHV charges'!$A:$O,11,FALSE)),"") -> 2.74 | H16: =IFERROR(IF(VLOOKUP($A16,'Annex 2 Designated EHV charges'!$A:$O,12,FALSE)=0,"",VLOOKUP($A16,'Annex 2 Designated EHV charges'!$A:$O,12,FALSE)),"") -> 2.74
... A151: {=IFERROR(INDEX('Annex 2 Designated EHV charges'!$A$11:$A$257, MATCH(0, IF(ISBLANK('Annex 2 Designated EHV charges'!$A$11:$A$257),1, COUNTIF(A$4:$A150, 'Annex 2 Designated EHV charges'!$A$11:$A$257)), 0)),"")} -> 354 | B151: =IF($A151="","",VLOOKUP($A151,'Annex 2 Designated EHV charges'!$A:$O,2,0)) -> 354 | C151: =IF($A151="","",VLOOKUP($A151,'Annex 2 Designated EHV charges'!$A:$O,3,0)) -> 1300035356770 | D151: =IF($A151="","",VLOOKUP($A151,'Annex 2 Designated EHV charges'!$A:$O,7,0)) -> Dyson Group Plc | E151: =IFERROR(IF(VLOOKUP($A151,'Annex 2 Designated EHV charges'!$A:$O,9,FALSE)=0,"",VLOOKUP($A151,'Annex 2 Designated EHV charges'!$A:$O,9,FALSE)),"") -> 0.162 | F151: =IFERROR(IF(VLOOKUP($A151,'Annex 2 Designated EHV charges'!$A:$O,10,FALSE)=0,"",VLOOKUP($A151,'Annex 2 Designated EHV charges'!$A:$O,10,FALSE)),"") -> 42639.62 | G151: =IFERROR(IF(VLOOKUP($A151,'Annex 2 Designated EHV charges'!$A:$O,11,FALSE)=0,"",VLOOKUP($A151,'Annex 2 Designated EHV charges'!$A:$O,11,FALSE)),"") -> 3.53 | H151: =IFERROR(IF(VLOOKUP($A151,'Annex 2 Designated EHV charges'!$A:$O,12,FALSE)=0,"",VLOOKUP($A151,'Annex 2 Designated EHV charges'!$A:$O,12,FALSE)),"") -> 3.53
A152: {=IFERROR(INDEX('Annex 2 Designated EHV charges'!$A$11:$A$257, MATCH(0, IF(ISBLANK('Annex 2 Designated EHV charges'!$A$11:$A$257),1, COUNTIF(A$4:$A151, 'Annex 2 Designated EHV charges'!$A$11:$A$257)), 0)),"")} -> 356 | B152: =IF($A152="","",VLOOKUP($A152,'Annex 2 Designated EHV charges'!$A:$O,2,0)) -> 356 | C152: =IF($A152="","",VLOOKUP($A152,'Annex 2 Designated EHV charges'!$A:$O,3,0)) -> 1300035357009 | D152: =IF($A152="","",VLOOKUP($A152,'Annex 2 Designated EHV charges'!$A:$O,7,0)) -> Rockwood Additives Ltd | E152: =IFERROR(IF(VLOOKUP($A152,'Annex 2 Designated EHV charges'!$A:$O,9,FALSE)=0,"",VLOOKUP($A152,'Annex 2 Designated EHV charges'!$A:$O,9,FALSE)),"") -> 0.17 | F152: =IFERROR(IF(VLOOKUP($A152,'Annex 2 Designated EHV charges'!$A:$O,10,FALSE)=0,"",VLOOKUP($A152,'Annex 2 Designated EHV charges'!$A:$O,10,FALSE)),"") -> 42639.62 | G152: =IFERROR(IF(VLOOKUP($A152,'Annex 2 Designated EHV charges'!$A:$O,11,FALSE)=0,"",VLOOKUP($A152,'Annex 2 Designated EHV charges'!$A:$O,11,FALSE)),"") -> 2.87 | H152: =IFERROR(IF(VLOOKUP($A152,'Annex 2 Designated EHV charges'!$A:$O,12,FALSE)=0,"",VLOOKUP($A152,'Annex 2 Designated EHV charges'!$A:$O,12,FALSE)),"") -> 2.87 | I152: ='Annex 2 Designated EHV charges'!Q160 -> See Annex 6
A153: {=IFERROR(INDEX('Annex 2 Designated EHV charges'!$A$11:$A$257, MATCH(0, IF(ISBLANK('Annex 2 Designated EHV charges'!$A$11:$A$257),1, COUNTIF(A$4:$A152, 'Annex 2 Designated EHV charges'!$A$11:$A$257)), 0)),"")} -> 358 | B153: =IF($A153="","",VLOOKUP($A153,'Annex 2 Designated EHV charges'!$A:$O,2,0)) -> 358 | C153: =IF($A153="","",VLOOKUP($A153,'Annex 2 Designated EHV charges'!$A:$O,3,0)) -> 1300035359600 | D153: =IF($A153="","",VLOOKUP($A153,'Annex 2 Designated EHV charges'!$A:$O,7,0)) -> Greif Uk Ltd | E153: =IFERROR(IF(VLOOKUP($A153,'Annex 2 Designated EHV charges'!$A:$O,9,FALSE)=0,"",VLOOKUP($A153,'Annex 2 Designated EHV charges'!$A:$O,9,FALSE)),"") -> 0.435 | F153: =IFERROR(IF(VLOOKUP($A153,'Annex 2 Designated EHV charges'!$A:$O,10,FALSE)=0,"",VLOOKUP($A153,'Annex 2 Designated EHV charges'!$A:$O,10,FALSE)),"") -> 15672.33 | G153: =IFERROR(IF(VLOOKUP($A153,'Annex 2 Designated EHV charges'!$A:$O,11,FALSE)=0,"",VLOOKUP($A153,'Annex 2 Designated EHV charges'!$A:$O,11,FALSE)),"") -> 3.29 | H153: =IFERROR(IF(VLOOKUP($A153,'Annex 2 Designated EHV charges'!$A:$O,12,FALSE)=0,"",VLOOKUP($A153,'Annex 2 Designated EHV charges'!$A:$O,12,FALSE)),"") -> 3.29
A154: {=IFERROR(INDEX('Annex 2 Designated EHV charges'!$A$11:$A$257, MATCH(0, IF(ISBLANK('Annex 2 Designated EHV charges'!$A$11:$A$257),1, COUNTIF(A$4:$A153, 'Annex 2 Designated EHV charges'!$A$11:$A$257)), 0)),"")} -> 360 | B154: =IF($A154="","",VLOOKUP($A154,'Annex 2 Designated EHV charges'!$A:$O,2,0)) -> 360 | C154: =IF($A154="","",VLOOKUP($A154,'Annex 2 Designated EHV charges'!$A:$O,3,0)) -> 1300035359799 | D154: =IF($A154="","",VLOOKUP($A154,'Annex 2 Designated EHV charges'!$A:$O,7,0)) -> Shell UK Limited | E154: =IFERROR(IF(VLOOKUP($A154,'Annex 2 Designated EHV charges'!$A:$O,9,FALSE)=0,"",VLOOKUP($A154,'Annex 2 Designated EHV charges'!$A:$O,9,FALSE)),"") -> 0.451 | F154: =IFERROR(IF(VLOOKUP($A154,'Annex 2 Designated EHV charges'!$A:$O,10,FALSE)=0,"",VLOOKUP($A154,'Annex 2 Designated EHV charges'!$A:$O,10,FALSE)),"") -> 15672.33 | G154: =IFERROR(IF(VLOOKUP($A154,'Annex 2 Designated EHV charges'!$A:$O,11,FALSE)=0,"",VLOOKUP($A154,'Annex 2 Designated EHV charges'!$A:$O,11,FALSE)),"") -> 5.62 | H154: =IFERROR(IF(VLOOKUP($A154,'Annex 2 Designated EHV charges'!$A:$O,12,FALSE)=0,"",VLOOKUP($A154,'Annex 2 Designated EHV charges'!$A:$O,12,FALSE)),"") -> 5.62
A155: {=IFERROR(INDEX('Annex 2 Designated EHV charges'!$A$11:$A$257, MATCH(0, IF(ISBLANK('Annex 2 Designated EHV charges'!$A$11:$A$257),1, COUNTIF(A$4:$A154, 'Annex 2 Designated EHV charges'!$A$11:$A$257)), 0)),"")} -> 361 | B155: =IF($A155="","",VLOOKUP($A155,'Annex 2 Designated EHV charges'!$A:$O,2,0)) -> 361 | C155: =IF($A155="","",VLOOKUP($A155,'Annex 2 Designated EHV charges'!$A:$O,3,0)) -> 1300035359901 | D155: =IF($A155="","",VLOOKUP($A155,'Annex 2 Designated EHV charges'!$A:$O,7,0)) -> Owens Corning UK | E155: =IFERROR(IF(VLOOKUP($A155,'Annex 2 Designated EHV charges'!$A:$O,9,FALSE)=0,"",VLOOKUP($A155,'Annex 2 Designated EHV charges'!$A:$O,9,FALSE)),"") -> 0.225 | F155: =IFERROR(IF(VLOOKUP($A155,'Annex 2 Designated EHV charges'!$A:$O,10,FALSE)=0,"",VLOOKUP($A155,'Annex 2 Designated EHV charges'!$A:$O,10,FALSE)),"") -> 15672.33 | G155: =IFERROR(IF(VLOOKUP($A155,'Annex 2 Designated EHV charges'!$A:$O,11,FALSE)=0,"",VLOOKUP($A155,'Annex 2 Designated EHV charges'!$A:$O,11,FALSE)),"") -> 7.25 | H155: =IFERROR(IF(VLOOKUP($A155,'Annex 2 Designated EHV charges'!$A:$O,12,FALSE)=0,"",VLOOKUP($A155,'Annex 2 Designated EHV charges'!$A:$O,12,FALSE)),"") -> 7.25
A156: {=IFERROR(INDEX('Annex 2 Designated EHV charges'!$A$11:$A$257, MATCH(0, IF(ISBLANK('Annex 2 Designated EHV charges'!$A$11:$A$257),1, COUNTIF(A$4:$A155, 'Annex 2 Designated EHV charges'!$A$11:$A$257)), 0)),"")} -> 362 | B156: =IF($A156="","",VLOOKUP($A156,'Annex 2 Designated EHV charges'!$A:$O,2,0)) -> 362 | C156: =IF($A156="","",VLOOKUP($A156,'Annex 2 Designated EHV charges'!$A:$O,3,0)) -> 1300035360181 | D156: =IF($A156="","",VLOOKUP($A156,'Annex 2 Designated EHV charges'!$A:$O,7,0)) -> Cadbury Schweppes Plc | E156: =IFERROR(IF(VLOOKUP($A156,'Annex 2 Designated EHV charges'!$A:$O,9,FALSE)=0,"",VLOOKUP($A156,'Annex 2 Designated EHV charges'!$A:$O,9,FALSE)),"") -> 0.322 | F156: =IFERROR(IF(VLOOKUP($A156,'Annex 2 Designated EHV charges'!$A:$O,10,FALSE)=0,"",VLOOKUP($A156,'Annex 2 Designated EHV charges'!$A:$O,10,FALSE)),"") -> 15672.33 | G156: =IFERROR(IF(VLOOKUP($A156,'Annex 2 Designated EHV charges'!$A:$O,11,FALSE)=0,"",VLOOKUP($A156,'Annex 2 Designated EHV charges'!$A:$O,11,FALSE)),"") -> 6.45 | H156: =IFERROR(IF(VLOOKUP($A156,'Annex 2 Designated EHV charges'!$A:$O,12,FALSE)=0,"",VLOOKUP($A156,'Annex 2 Designated EHV charges'!$A:$O,12,FALSE)),"") -> 6.45
A157: {=IFERROR(INDEX('Annex 2 Designated EHV charges'!$A$11:$A$257, MATCH(0, IF(ISBLANK('Annex 2 Designated EHV charges'!$A$11:$A$257),1, COUNTIF(A$4:$A156, 'Annex 2 Designated EHV charges'!$A$11:$A$257)), 0)),"")} -> 363 | B157: =IF($A157="","",VLOOKUP($A157,'Annex 2 Designated EHV charges'!$A:$O,2,0)) -> 363 | C157: =IF($A157="","",VLOOKUP($A157,'Annex 2 Designated EHV charges'!$A:$O,3,0)) -> 1300035360580 | D157: =IF($A157="","",VLOOKUP($A157,'Annex 2 Designated EHV charges'!$A:$O,7,0)) -> Kelloggs Company Of GB Ltd | E157: =IFERROR(IF(VLOOKUP($A157,'Annex 2 Designated EHV charges'!$A:$O,9,FALSE)=0,"",VLOOKUP($A157,'Annex 2 Designated EHV charges'!$A:$O,9,FALSE)),"") -> 0.798 | F157: =IFERROR(IF(VLOOKUP($A157,'Annex 2 Designated EHV charges'!$A:$O,10,FALSE)=0,"",VLOOKUP($A157,'Annex 2 Designated EHV charges'!$A:$O,10,FALSE)),"") -> 42639.62 | G157: =IFERROR(IF(VLOOKUP($A157,'Annex 2 Designated EHV charges'!$A:$O,11,FALSE)=0,"",VLOOKUP($A157,'Annex 2 Designated EHV charges'!$A:$O,11,FALSE)),"") -> 5.01 | H157: =IFERROR(IF(VLOOKUP($A157,'Annex 2 Designated EHV charges'!$A:$O,12,FALSE)=0,"",VLOOKUP($A157,'Annex 2 Designated EHV charges'!$A:$O,12,FALSE)),"") -> 5.01
A158: {=IFERROR(INDEX('Annex 2 Designated EHV charges'!$A$11:$A$257, MATCH(0, IF(ISBLANK('Annex 2 Designated EHV charges'!$A$11:$A$257),1, COUNTIF(A$4:$A157, 'Annex 2 Designated EHV charges'!$A$11:$A$257)), 0)),"")} -> 364 | B158: =IF($A158="","",VLOOKUP($A158,'Annex 2 Designated EHV charges'!$A:$O,2,0)) -> 364 | C158: =IF($A158="","",VLOOKUP($A158,'Annex 2 Designated EHV charges'!$A:$O,3,0)) -> 1300035360679 | D158: =IF($A158="","",VLOOKUP($A158,'Annex 2 Designated EHV charges'!$A:$O,7,0)) -> Bryn Lane Properties Llp | E158: =IFERROR(IF(VLOOKUP($A158,'Annex 2 Designated EHV charges'!$A:$O,9,FALSE)=0,"",VLOOKUP($A158,'Annex 2 Designated EHV charges'!$A:$O,9,FALSE)),"") -> 0.729 | F158: =IFERROR(IF(VLOOKUP($A158,'Annex 2 Designated EHV charges'!$A:$O,10,FALSE)=0,"",VLOOKUP($A158,'Annex 2 Designated EHV charges'!$A:$O,10,FALSE)),"") -> 17091.96 | G158: =IFERROR(IF(VLOOKUP($A158,'Annex 2 Designated EHV charges'!$A:$O,11,FALSE)=0,"",VLOOKUP($A158,'Annex 2 Designated EHV charges'!$A:$O,11,FALSE)),"") -> 1.77 | H158: =IFERROR(IF(VLOOKUP($A158,'Annex 2 Designated EHV charges'!$A:$O,12,FALSE)=0,"",VLOOKUP($A158,'Annex 2 Designated EHV charges'!$A:$O,12,FALSE)),"") -> 1.77
A159: {=IFERROR(INDEX('Annex 2 Designated EHV charges'!$A$11:$A$257, MATCH(0, IF(ISBLANK('Annex 2 Designated EHV charges'!$A$11:$A$257),1, COUNTIF(A$4:$A158, 'Annex 2 Designated EHV charges'!$A$11:$A$257)), 0)),"")} -> 365 | B159: =IF($A159="","",VLOOKUP($A159,'Annex 2 Designated EHV charges'!$A:$O,2,0)) -> 365 | C159: =IF($A159="","",VLOOKUP($A159,'Annex 2 Designated EHV charges'!$A:$O,3,0)) -> 1300035360688 | D159: =IF($A159="","",VLOOKUP($A159,'Annex 2 Designated EHV charges'!$A:$O,7,0)) -> BICC Wrexham | E159: =IFERROR(IF(VLOOKUP($A159,'Annex 2 Designated EHV charges'!$A:$O,9,FALSE)=0,"",VLOOKUP($A159,'Annex 2 Designated EHV charges'!$A:$O,9,FALSE)),"") -> 0.856 | F159: =IFERROR(IF(VLOOKUP($A159,'Annex 2 Designated EHV charges'!$A:$O,10,FALSE)=0,"",VLOOKUP($A159,'Annex 2 Designated EHV charges'!$A:$O,10,FALSE)),"") -> 42639.62 | G159: =IFERROR(IF(VLOOKUP($A159,'Annex 2 Designated EHV charges'!$A:$O,11,FALSE)=0,"",VLOOKUP($A159,'Annex 2 Designated EHV charges'!$A:$O,11,FALSE)),"") -> 3.75 | H159: =IFERROR(IF(VLOOKUP($A159,'Annex 2 Designated EHV charges'!$A:$O,12,FALSE)=0,"",VLOOKUP($A159,'Annex 2 Designated EHV charges'!$A:$O,12,FALSE)),"") -> 3.75
A160: {=IFERROR(INDEX('Annex 2 Designated EHV charges'!$A$11:$A$257, MATCH(0, IF(ISBLANK('Annex 2 Designated EHV charges'!$A$11:$A$257),1, COUNTIF(A$4:$A159, 'Annex 2 Designated EHV charges'!$A$11:$A$257)), 0)),"")} -> 366 | B160: =IF($A160="","",VLOOKUP($A160,'Annex 2 Designated EHV charges'!$A:$O,2,0)) -> 366 | C160: =IF($A160="","",VLOOKUP($A160,'Annex 2 Designated EHV charges'!$A:$O,3,0)) -> 1300035361130 | D160: =IF($A160="","",VLOOKUP($A160,'Annex 2 Designated EHV charges'!$A:$O,7,0)) -> M&S Financial Services | E160: =IFERROR(IF(VLOOKUP($A160,'Annex 2 Designated EHV charges'!$A:$O,9,FALSE)=0,"",VLOOKUP($A160,'Annex 2 Designated EHV charges'!$A:$O,9,FALSE)),"") -> 1.103 | F160: =IFERROR(IF(VLOOKUP($A160,'Annex 2 Designated EHV charges'!$A:$O,10,FALSE)=0,"",VLOOKUP($A160,'Annex 2 Designated EHV charges'!$A:$O,10,FALSE)),"") -> 15672.33 | G160: =IFERROR(IF(VLOOKUP($A160,'Annex 2 Designated EHV charges'!$A:$O,11,FALSE)=0,"",VLOOKUP($A160,'Annex 2 Designated EHV charges'!$A:$O,11,FALSE)),"") -> 3.5 | H160: =IFERROR(IF(VLOOKUP($A160,'Annex 2 Designated EHV charges'!$A:$O,12,FALSE)=0,"",VLOOKUP($A160,'Annex 2 Designated EHV charges'!$A:$O,12,FALSE)),"") -> 3.5
A161: {=IFERROR(INDEX('Annex 2 Designated EHV charges'!$A$11:$A$257, MATCH(0, IF(ISBLANK('Annex 2 Designated EHV charges'!$A$11:$A$257),1, COUNTIF(A$4:$A160, 'Annex 2 Designated EHV charges'!$A$11:$A$257)), 0)),"")} -> 367 | B161: =IF($A161="","",VLOOKUP($A161,'Annex 2 Designated EHV charges'!$A:$O,2,0)) -> 367 | C161: =IF($A161="","",VLOOKUP($A161,'Annex 2 Designated EHV charges'!$A:$O,3,0)) -> 1300035361812 | D161: =IF($A161="","",VLOOKUP($A161,'Annex 2 Designated EHV charges'!$A:$O,7,0)) -> Element Six Production Ltd | E161: =IFERROR(IF(VLOOKUP($A161,'Annex 2 Designated EHV charges'!$A:$O,9,FALSE)=0,"",VLOOKUP($A161,'Annex 2 Designated EHV charges'!$A:$O,9,FALSE)),"") -> 0.231 | F161: =IFERROR(IF(VLOOKUP($A161,'Annex 2 Designated EHV charges'!$A:$O,10,FALSE)=0,"",VLOOKUP($A161,'Annex 2 Designated EHV charges'!$A:$O,10,FALSE)),"") -> 15672.33 | G161: =IFERROR(IF(VLOOKUP($A161,'Annex 2 Designated EHV charges'!$A:$O,11,FALSE)=0,"",VLOOKUP($A161,'Annex 2 Designated EHV charges'!$A:$O,11,FALSE)),"") -> 2.49 | H161: =IFERROR(IF(VLOOKUP($A161,'Annex 2 Designated EHV charges'!$A:$O,12,FALSE)=0,"",VLOOKUP($A161,'Annex 2 Designated EHV charges'!$A:$O,12,FALSE)),"") -> 2.49
A162: {=IFERROR(INDEX('Annex 2 Designated EHV charges'!$A$11:$A$257, MATCH(0, IF(ISBLANK('Annex 2 Designated EHV charges'!$A$11:$A$257),1, COUNTIF(A$4:$A161, 'Annex 2 Designated EHV charges'!$A$11:$A$257)), 0)),"")} -> 368 | B162: =IF($A162="","",VLOOKUP($A162,'Annex 2 Designated EHV charges'!$A:$O,2,0)) -> 368 | C162: =IF($A162="","",VLOOKUP($A162,'Annex 2 Designated EHV charges'!$A:$O,3,0)) -> 1300035361983 | D162: =IF($A162="","",VLOOKUP($A162,'Annex 2 Designated EHV charges'!$A:$O,7,0)) -> Barry Callebaut (Uk) Ltd | E162: =IFERROR(IF(VLOOKUP($A162,'Annex 2 Designated EHV charges'!$A:$O,9,FALSE)=0,"",VLOOKUP($A162,'Annex 2 Designated EHV charges'!$A:$O,9,FALSE)),"") -> 1.13 | F162: =IFERROR(IF(VLOOKUP($A162,'Annex 2 Designated EHV charges'!$A:$O,10,FALSE)=0,"",VLOOKUP($A162,'Annex 2 Designated EHV charges'!$A:$O,10,FALSE)),"") -> 15672.33 | G162: =IFERROR(IF(VLOOKUP($A162,'Annex 2 Designated EHV charges'!$A:$O,11,FALSE)=0,"",VLOOKUP($A162,'Annex 2 Designated EHV charges'!$A:$O,11,FALSE)),"") -> 1.97 | H162: =IFERROR(IF(VLOOKUP($A162,'Annex 2 Designated EHV charges'!$A:$O,12,FALSE)=0,"",VLOOKUP($A162,'Annex 2 Designated EHV charges'!$A:$O,12,FALSE)),"") -> 1.97
A163: {=IFERROR(INDEX('Annex 2 Designated EHV charges'!$A$11:$A$257, MATCH(0, IF(ISBLANK('Annex 2 Designated EHV charges'!$A$11:$A$257),1, COUNTIF(A$4:$A162, 'Annex 2 Designated EHV charges'!$A$11:$A$257)), 0)),"")} -> 369 | B163: =IF($A163="","",VLOOKUP($A163,'Annex 2 Designated EHV charges'!$A:$O,2,0)) -> 369 | C163: =IF($A163="","",VLOOKUP($A163,'Annex 2 Designated EHV charges'!$A:$O,3,0)) -> 1300035362295 | D163: =IF($A163="","",VLOOKUP($A163,'Annex 2 Designated EHV charges'!$A:$O,7,0)) -> Caparo Steel Products Ltd | E163: =IFERROR(IF(VLOOKUP($A163,'Annex 2 Designated EHV charges'!$A:$O,9,FALSE)=0,"",VLOOKUP($A163,'Annex 2 Designated EHV charges'!$A:$O,9,FALSE)),"") -> 0.761 | F163: =IFERROR(IF(VLOOKUP($A163,'Annex 2 Designated EHV charges'!$A:$O,10,FALSE)=0,"",VLOOKUP($A163,'Annex 2 Designated EHV charges'!$A:$O,10,FALSE)),"") -> 15672.33 | G163: =IFERROR(IF(VLOOKUP($A163,'Annex 2 Designated EHV charges'!$A:$O,11,FALSE)=0,"",VLOOKUP($A163,'Annex 2 Designated EHV charges'!$A:$O,11,FALSE)),"") -> 2.69 | H163: =IFERROR(IF(VLOOKUP($A163,'Annex 2 Designated EHV charges'!$A:$O,12,FALSE)=0,"",VLOOKUP($A163,'Annex 2 Designated EHV charges'!$A:$O,12,FALSE)),"") -> 2.69
A164: {=IFERROR(INDEX('Annex 2 Designated EHV charges'!$A$11:$A$257, MATCH(0, IF(ISBLANK('Annex 2 Designated EHV charges'!$A$11:$A$257),1, COUNTIF(A$4:$A163, 'Annex 2 Designated EHV charges'!$A$11:$A$257)), 0)),"")} -> 370 | B164: =IF($A164="","",VLOOKUP($A164,'Annex 2 Designated EHV charges'!$A:$O,2,0)) -> 370 | C164: =IF($A164="","",VLOOKUP($A164,'Annex 2 Designated EHV charges'!$A:$O,3,0)) -> 1300035362700 | D164: =IF($A164="","",VLOOKUP($A164,'Annex 2 Designated EHV charges'!$A:$O,7,0)) -> Thermal Ceramics Ltd | E164: =IFERROR(IF(VLOOKUP($A164,'Annex 2 Designated EHV charges'!$A:$O,9,FALSE)=0,"",VLOOKUP($A164,'Annex 2 Designated EHV charges'!$A:$O,9,FALSE)),"") -> 0.304 | F164: =IFERROR(IF(VLOOKUP($A164,'Annex 2 Designated EHV charges'!$A:$O,10,FALSE)=0,"",VLOOKUP($A164,'Annex 2 Designated EHV charges'!$A:$O,10,FALSE)),"") -> 15672.33 | G164: =IFERROR(IF(VLOOKUP($A164,'Annex 2 Designated EHV charges'!$A:$O,11,FALSE)=0,"",VLOOKUP($A164,'Annex 2 Designated EHV charges'!$A:$O,11,FALSE)),"") -> 1.75 | H164: =IFERROR(IF(VLOOKUP($A164,'Annex 2 Designated EHV charges'!$A:$O,12,FALSE)=0,"",VLOOKUP($A164,'Annex 2 Designated EHV charges'!$A:$O,12,FALSE)),"") -> 1.75
... A254: {=IFERROR(INDEX('Annex 2 Designated EHV charges'!$A$11:$A$257, MATCH(0, IF(ISBLANK('Annex 2 Designated EHV charges'!$A$11:$A$257),1, COUNTIF(A$4:$A253, 'Annex 2 Designated EHV charges'!$A$11:$A$257)), 0)),"")} | B254: =IF($A254="","",VLOOKUP($A254,'Annex 2 Designated EHV charges'!$A:$O,2,0)) | C254: =IF($A254="","",VLOOKUP($A254,'Annex 2 Designated EHV charges'!$A:$O,3,0)) | D254: =IF($A254="","",VLOOKUP($A254,'Annex 2 Designated EHV charges'!$A:$O,7,0)) | E254: =IFERROR(IF(VLOOKUP($A254,'Annex 2 Designated EHV charges'!$A:$O,9,FALSE)=0,"",VLOOKUP($A254,'Annex 2 Designated EHV charges'!$A:$O,9,FALSE)),"") | F254: =IFERROR(IF(VLOOKUP($A254,'Annex 2 Designated EHV charges'!$A:$O,10,FALSE)=0,"",VLOOKUP($A254,'Annex 2 Designated EHV charges'!$A:$O,10,FALSE)),"") | G254: =IFERROR(IF(VLOOKUP($A254,'Annex 2 Designated EHV charges'!$A:$O,11,FALSE)=0,"",VLOOKUP($A254,'Annex 2 Designated EHV charges'!$A:$O,11,FALSE)),"") | H254: =IFERROR(IF(VLOOKUP($A254,'Annex 2 Designated EHV charges'!$A:$O,12,FALSE)=0,"",VLOOKUP($A254,'Annex 2 Designated EHV charges'!$A:$O,12,FALSE)),"")

Sheet Annex 2b Export
A1: Note: The list of MPANs / MSIDs provided may be incomplete; the DNO reserves the right to apply the listed charges to any other MPANs / MSIDs associated with the site. Note: This table is automatically populated based on the content of the tab entitled 'Annex 2 EHV Charges'. The timebands are as shown in Annex 2.
A2: =Overview!B4& " - Effective from "&Overview!D4&" - "&Overview!E4&" Designated EHV export charges" -> SP Manweb - Effective from 1 April 2027 - Final Designated EHV export charges
A4: Export Unique Identifier | B4: LLFC / DUoS Tariff ID | C4: Export MPANs/MSIDs | D4: Name | E4: ='Annex 2 Designated EHV charges'!M10 -> Export Super Red unit charge (p/kWh) | F4: ='Annex 2 Designated EHV charges'!N10 -> Export fixed charge (p/day) | G4: ='Annex 2 Designated EHV charges'!O10 -> Export capacity charge (p/kVA/day) | H4: ='Annex 2 Designated EHV charges'!P10 -> Export exceeded capacity charge (p/kVA/day)
A5: {=IFERROR(INDEX('Annex 2 Designated EHV charges'!$D$11:$D$257, MATCH(0, IF(ISBLANK('Annex 2 Designated EHV charges'!$D$11:$D$257),1, COUNTIF(A$4:$A4, 'Annex 2 Designated EHV charges'!$D$11:$D$257)), 0)),"")} -> 622 | B5: =IF($A5="","",VLOOKUP($A5,'Annex 2 Designated EHV charges'!$D:$O,2,0)) -> 622 | C5: =IF($A5="","",VLOOKUP($A5,'Annex 2 Designated EHV charges'!$D:$O,3,0)) -> 1300060790700 | D5: =IF($A5="","",VLOOKUP($A5,'Annex 2 Designated EHV charges'!$D:$O,4,0)) -> Cefyn Mawr | E5: =IFERROR(IF(VLOOKUP($A5,'Annex 2 Designated EHV charges'!$D:$O,10,FALSE)=0,"",VLOOKUP($A5,'Annex 2 Designated EHV charges'!$D:$O,10,FALSE)),"") -> -0.3 | F5: =IFERROR(IF(VLOOKUP($A5,'Annex 2 Designated EHV charges'!$D:$O,11,FALSE)=0,"",VLOOKUP($A5,'Annex 2 Designated EHV charges'!$D:$O,11,FALSE)),"") -> 3507.01 | G5: =IFERROR(IF(VLOOKUP($A5,'Annex 2 Designated EHV charges'!$D:$O,12,FALSE)=0,"",VLOOKUP($A5,'Annex 2 Designated EHV charges'!$D:$O,12,FALSE)),"") -> 0.05 | H5: =IFERROR(IF(VLOOKUP($A5,'Annex 2 Designated EHV charges'!$D:$P,13,FALSE)=0,"",VLOOKUP($A5,'Annex 2 Designated EHV charges'!$D:$P,13,FALSE)),"") -> 0.05
A6: {=IFERROR(INDEX('Annex 2 Designated EHV charges'!$D$11:$D$257, MATCH(0, IF(ISBLANK('Annex 2 Designated EHV charges'!$D$11:$D$257),1, COUNTIF(A$4:$A5, 'Annex 2 Designated EHV charges'!$D$11:$D$257)), 0)),"")} -> 601 | B6: =IF($A6="","",VLOOKUP($A6,'Annex 2 Designated EHV charges'!$D:$O,2,0)) -> 601 | C6: =IF($A6="","",VLOOKUP($A6,'Annex 2 Designated EHV charges'!$D:$O,3,0)) -> 1300060818667 | D6: =IF($A6="","",VLOOKUP($A6,'Annex 2 Designated EHV charges'!$D:$O,4,0)) -> Shotton Paper | E6: =IFERROR(IF(VLOOKUP($A6,'Annex 2 Designated EHV charges'!$D:$O,10,FALSE)=0,"",VLOOKUP($A6,'Annex 2 Designated EHV charges'!$D:$O,10,FALSE)),"") -> - | F6: =IFERROR(IF(VLOOKUP($A6,'Annex 2 Designated EHV charges'!$D:$O,11,FALSE)=0,"",VLOOKUP($A6,'Annex 2 Designated EHV charges'!$D:$O,11,FALSE)),"") -> 77029.47 | G6: =IFERROR(IF(VLOOKUP($A6,'Annex 2 Designated EHV charges'!$D:$O,12,FALSE)=0,"",VLOOKUP($A6,'Annex 2 Designated EHV charges'!$D:$O,12,FALSE)),"") -> 0.05 | H6: =IFERROR(IF(VLOOKUP($A6,'Annex 2 Designated EHV charges'!$D:$P,13,FALSE)=0,"",VLOOKUP($A6,'Annex 2 Designated EHV charges'!$D:$P,13,FALSE)),"") -> 0.05
A7: {=IFERROR(INDEX('Annex 2 Designated EHV charges'!$D$11:$D$257, MATCH(0, IF(ISBLANK('Annex 2 Designated EHV charges'!$D$11:$D$257),1, COUNTIF(A$4:$A6, 'Annex 2 Designated EHV charges'!$D$11:$D$257)), 0)),"")} -> 603 | B7: =IF($A7="","",VLOOKUP($A7,'Annex 2 Designated EHV charges'!$D:$O,2,0)) -> 603 | C7: =IF($A7="","",VLOOKUP($A7,'Annex 2 Designated EHV charges'!$D:$O,3,0)) -> 1300050649372 | D7: =IF($A7="","",VLOOKUP($A7,'Annex 2 Designated EHV charges'!$D:$O,4,0)) -> Shell Stanlow | E7: =IFERROR(IF(VLOOKUP($A7,'Annex 2 Designated EHV charges'!$D:$O,10,FALSE)=0,"",VLOOKUP($A7,'Annex 2 Designated EHV charges'!$D:$O,10,FALSE)),"") -> - | F7: =IFERROR(IF(VLOOKUP($A7,'Annex 2 Designated EHV charges'!$D:$O,11,FALSE)=0,"",VLOOKUP($A7,'Annex 2 Designated EHV charges'!$D:$O,11,FALSE)),"") -> 3643.96 | G7: =IFERROR(IF(VLOOKUP($A7,'Annex 2 Designated EHV charges'!$D:$O,12,FALSE)=0,"",VLOOKUP($A7,'Annex 2 Designated EHV charges'!$D:$O,12,FALSE)),"") -> 0.05 | H7: =IFERROR(IF(VLOOKUP($A7,'Annex 2 Designated EHV charges'!$D:$P,13,FALSE)=0,"",VLOOKUP($A7,'Annex 2 Designated EHV charges'!$D:$P,13,FALSE)),"") -> 0.05
A8: {=IFERROR(INDEX('Annex 2 Designated EHV charges'!$D$11:$D$257, MATCH(0, IF(ISBLANK('Annex 2 Designated EHV charges'!$D$11:$D$257),1, COUNTIF(A$4:$A7, 'Annex 2 Designated EHV charges'!$D$11:$D$257)), 0)),"")} -> 618 | B8: =IF($A8="","",VLOOKUP($A8,'Annex 2 Designated EHV charges'!$D:$O,2,0)) -> 618 | C8: =IF($A8="","",VLOOKUP($A8,'Annex 2 Designated EHV charges'!$D:$O,3,0)) -> 1300060704603 | D8: =IF($A8="","",VLOOKUP($A8,'Annex 2 Designated EHV charges'!$D:$O,4,0)) -> Ineos Chlor Ltd (Lostock) | E8: =IFERROR(IF(VLOOKUP($A8,'Annex 2 Designated EHV charges'!$D:$O,10,FALSE)=0,"",VLOOKUP($A8,'Annex 2 Designated EHV charges'!$D:$O,10,FALSE)),"") -> - | F8: =IFERROR(IF(VLOOKUP($A8,'Annex 2 Designated EHV charges'!$D:$O,11,FALSE)=0,"",VLOOKUP($A8,'Annex 2 Designated EHV charges'!$D:$O,11,FALSE)),"") -> - | G8: =IFERROR(IF(VLOOKUP($A8,'Annex 2 Designated EHV charges'!$D:$O,12,FALSE)=0,"",VLOOKUP($A8,'Annex 2 Designated EHV charges'!$D:$O,12,FALSE)),"") -> 0.05 | H8: =IFERROR(IF(VLOOKUP($A8,'Annex 2 Designated EHV charges'!$D:$P,13,FALSE)=0,"",VLOOKUP($A8,'Annex 2 Designated EHV charges'!$D:$P,13,FALSE)),"") -> 0.05
A9: {=IFERROR(INDEX('Annex 2 Designated EHV charges'!$D$11:$D$257, MATCH(0, IF(ISBLANK('Annex 2 Designated EHV charges'!$D$11:$D$257),1, COUNTIF(A$4:$A8, 'Annex 2 Designated EHV charges'!$D$11:$D$257)), 0)),"")} -> 655 | B9: =IF($A9="","",VLOOKUP($A9,'Annex 2 Designated EHV charges'!$D:$O,2,0)) -> 655 | C9: =IF($A9="","",VLOOKUP($A9,'Annex 2 Designated EHV charges'!$D:$O,3,0)) -> 1300060704082 | D9: =IF($A9="","",VLOOKUP($A9,'Annex 2 Designated EHV charges'!$D:$O,4,0)) -> SafeGuard Bradwell | E9: =IFERROR(IF(VLOOKUP($A9,'Annex 2 Designated EHV charges'!$D:$O,10,FALSE)=0,"",VLOOKUP($A9,'Annex 2 Designated EHV charges'!$D:$O,10,FALSE)),"") -> - | F9: =IFERROR(IF(VLOOKUP($A9,'Annex 2 Designated EHV charges'!$D:$O,11,FALSE)=0,"",VLOOKUP($A9,'Annex 2 Designated EHV charges'!$D:$O,11,FALSE)),"") -> 5396.86 | G9: =IFERROR(IF(VLOOKUP($A9,'Annex 2 Designated EHV charges'!$D:$O,12,FALSE)=0,"",VLOOKUP($A9,'Annex 2 Designated EHV charges'!$D:$O,12,FALSE)),"") -> 0.05 | H9: =IFERROR(IF(VLOOKUP($A9,'Annex 2 Designated EHV charges'!$D:$P,13,FALSE)=0,"",VLOOKUP($A9,'Annex 2 Designated EHV charges'!$D:$P,13,FALSE)),"") -> 0.05
A10: {=IFERROR(INDEX('Annex 2 Designated EHV charges'!$D$11:$D$257, MATCH(0, IF(ISBLANK('Annex 2 Designated EHV charges'!$D$11:$D$257),1, COUNTIF(A$4:$A9, 'Annex 2 Designated EHV charges'!$D$11:$D$257)), 0)),"")} -> 648 | B10: =IF($A10="","",VLOOKUP($A10,'Annex 2 Designated EHV charges'!$D:$O,2,0)) -> 648 | C10: =IF($A10="","",VLOOKUP($A10,'Annex 2 Designated EHV charges'!$D:$O,3,0)) -> 1300060640474 | D10: =IF($A10="","",VLOOKUP($A10,'Annex 2 Designated EHV charges'!$D:$O,4,0)) -> Kronospan | E10: =IFERROR(IF(VLOOKUP($A10,'Annex 2 Designated EHV charges'!$D:$O,10,FALSE)=0,"",VLOOKUP($A10,'Annex 2 Designated EHV charges'!$D:$O,10,FALSE)),"") -> - | F10: =IFERROR(IF(VLOOKUP($A10,'Annex 2 Designated EHV charges'!$D:$O,11,FALSE)=0,"",VLOOKUP($A10,'Annex 2 Designated EHV charges'!$D:$O,11,FALSE)),"") -> 594.96 | G10: =IFERROR(IF(VLOOKUP($A10,'Annex 2 Designated EHV charges'!$D:$O,12,FALSE)=0,"",VLOOKUP($A10,'Annex 2 Designated EHV charges'!$D:$O,12,FALSE)),"") -> 0.05 | H10: =IFERROR(IF(VLOOKUP($A10,'Annex 2 Designated EHV charges'!$D:$P,13,FALSE)=0,"",VLOOKUP($A10,'Annex 2 Designated EHV charges'!$D:$P,13,FALSE)),"") -> 0.05
A11: {=IFERROR(INDEX('Annex 2 Designated EHV charges'!$D$11:$D$257, MATCH(0, IF(ISBLANK('Annex 2 Designated EHV charges'!$D$11:$D$257),1, COUNTIF(A$4:$A10, 'Annex 2 Designated EHV charges'!$D$11:$D$257)), 0)),"")} -> 680 | B11: =IF($A11="","",VLOOKUP($A11,'Annex 2 Designated EHV charges'!$D:$O,2,0)) -> 680 | C11: =IF($A11="","",VLOOKUP($A11,'Annex 2 Designated EHV charges'!$D:$O,3,0)) -> 1300060748470 | D11: =IF($A11="","",VLOOKUP($A11,'Annex 2 Designated EHV charges'!$D:$O,4,0)) -> Pilkington's STOR | E11: =IFERROR(IF(VLOOKUP($A11,'Annex 2 Designated EHV charges'!$D:$O,10,FALSE)=0,"",VLOOKUP($A11,'Annex 2 Designated EHV charges'!$D:$O,10,FALSE)),"") -> -0.715 | F11: =IFERROR(IF(VLOOKUP($A11,'Annex 2 Designated EHV charges'!$D:$O,11,FALSE)=0,"",VLOOKUP($A11,'Annex 2 Designated EHV charges'!$D:$O,11,FALSE)),"") -> 10581.32 | G11: =IFERROR(IF(VLOOKUP($A11,'Annex 2 Designated EHV charges'!$D:$O,12,FALSE)=0,"",VLOOKUP($A11,'Annex 2 Designated EHV charges'!$D:$O,12,FALSE)),"") -> 0.05 | H11: =IFERROR(IF(VLOOKUP($A11,'Annex 2 Designated EHV charges'!$D:$P,13,FALSE)=0,"",VLOOKUP($A11,'Annex 2 Designated EHV charges'!$D:$P,13,FALSE)),"") -> 0.05
